Workbook

Sheet Garde
B3: Conception
D4: Réponse
C6: Distance | D6: =VLOOKUP($B$3,Données!$A$3:$J$44,2,FALSE) -> 15 | E6: km
C8: Jour | F8: Nuit
C9: Aller | D9: A+R | F9: Aller | G9: A+R
C10: =VLOOKUP($B$3,Données!$A$3:$J$44,3,FALSE) -> 87.65 | D10: =VLOOKUP($B$3,Données!$A$3:$J$44,4,FALSE) -> 175.3 | F10: =VLOOKUP($B$3,Données!$A$3:$J$44,5,FALSE) -> 153.36 | G10: =VLOOKUP($B$3,Données!$A$3:$J$44,6,FALSE) -> 241.01
D13: Retrocession
C15: Jour | F15: Nuit
C16: Aller | D16: A+R | F16: Aller | G16: A+R
C17: =VLOOKUP($B$3,Données!$A$3:$J$44,7,FALSE) -> 10.518 | D17: =VLOOKUP($B$3,Données!$A$3:$J$44,8,FALSE) -> 21.036 | F17: =VLOOKUP($B$3,Données!$A$3:$J$44,9,FALSE) -> 18.4032 | G17: =VLOOKUP($B$3,Données!$A$3:$J$44,10,FALSE) -> 28.9212

Sheet Données
C1: Jour | E1: Nuit | F1: Nuit + Jour | G1: Retrocession
B2: KM | C2: Aller | D2: A+R | E2: Aller | F2: A+R | G2: Aller | H2: A+R | I2: Aller | J2: A+R
A3: Vert Coteau | B3: 12 | C3: 81.08 | D3: 162.16 | E3: 141.87 | F3: 222.95 | G3: =SUM(C3-(C3*0.88)) -> 9.7296 | H3: =SUM(D3-(D3*0.88)) -> 19.4592 | I3: =SUM(E3-(E3*0.88)) -> 17.0244 | J3: =SUM(F3-(F3*0.88)) -> 26.754
A4: Dom 12 | B4: 12 | C4: 81.08 | D4: 162.16 | E4: 141.87 | F4: 222.95 | G4: =SUM(C4-(C4*0.88)) -> 9.7296 | H4: =SUM(D4-(D4*0.88)) -> 19.4592 | I4: =SUM(E4-(E4*0.88)) -> 17.0244 | J4: =SUM(F4-(F4*0.88)) -> 26.754
A5: Dom 11 | B5: 12 | C5: 81.08 | D5: 162.16 | E5: 141.87 | F5: 222.95 | G5: =SUM(C5-(C5*0.88)) -> 9.7296 | H5: =SUM(D5-(D5*0.88)) -> 19.4592 | I5: =SUM(E5-(E5*0.88)) -> 17.0244 | J5: =SUM(F5-(F5*0.88)) -> 26.754
A6: CGD | B6: 12 | C6: 81.08 | D6: 162.16 | E6: 141.87 | F6: 222.95 | G6: =SUM(C6-(C6*0.88)) -> 9.7296 | H6: =SUM(D6-(D6*0.88)) -> 19.4592 | I6: =SUM(E6-(E6*0.88)) -> 17.0244 | J6: =SUM(F6-(F6*0.88)) -> 26.754
A7: Timone | B7: 15 | C7: 87.65 | D7: 175.3 | E7: 153.36 | F7: 241.01 | G7: =SUM(C7-(C7*0.88)) -> 10.518 | H7: =SUM(D7-(D7*0.88)) -> 21.036 | I7: =SUM(E7-(E7*0.88)) -> 18.4032 | J7: =SUM(F7-(F7*0.88)) -> 28.9212
A8: Conception | B8: 15 | C8: 87.65 | D8: 175.3 | E8: 153.36 | F8: 241.01 | G8: =SUM(C8-(C8*0.88)) -> 10.518 | H8: =SUM(D8-(D8*0.88)) -> 21.036 | I8: =SUM(E8-(E8*0.88)) -> 18.4032 | J8: =SUM(F8-(F8*0.88)) -> 28.9212
A9: Hop Euro | B9: 15 | C9: 87.65 | D9: 175.3 | E9: 153.36 | F9: 241.01 | G9: =SUM(C9-(C9*0.88)) -> 10.518 | H9: =SUM(D9-(D9*0.88)) -> 21.036 | I9: =SUM(E9-(E9*0.88)) -> 18.4032 | J9: =SUM(F9-(F9*0.88)) -> 28.9212
A10: Dom 4 | B10: 15 | C10: 87.65 | D10: 175.3 | E10: 153.36 | F10: 241.01 | G10: =SUM(C10-(C10*0.88)) -> 10.518 | H10: =SUM(D10-(D10*0.88)) -> 21.036 | I10: =SUM(E10-(E10*0.88)) -> 18.4032 | J10: =SUM(F10-(F10*0.88)) -> 28.9212
A11: Dom 5 | B11: 15 | C11: 87.65 | D11: 175.3 | E11: 153.36 | F11: 241.01 | G11: =SUM(C11-(C11*0.88)) -> 10.518 | H11: =SUM(D11-(D11*0.88)) -> 21.036 | I11: =SUM(E11-(E11*0.88)) -> 18.4032 | J11: =SUM(F11-(F11*0.88)) -> 28.9212
A12: Dom 6 | B12: 15 | C12: 87.65 | D12: 175.3 | E12: 153.36 | F12: 241.01 | G12: =SUM(C12-(C12*0.88)) -> 10.518 | H12: =SUM(D12-(D12*0.88)) -> 21.036 | I12: =SUM(E12-(E12*0.88)) -> 18.4032 | J12: =SUM(F12-(F12*0.88)) -> 28.9212
A13: Dom 2 | B13: 15 | C13: 87.65 | D13: 175.3 | E13: 153.36 | F13: 241.01 | G13: =SUM(C13-(C13*0.88)) -> 10.518 | H13: =SUM(D13-(D13*0.88)) -> 21.036 | I13: =SUM(E13-(E13*0.88)) -> 18.4032 | J13: =SUM(F13-(F13*0.88)) -> 28.9212
A14: Dom 3 | B14: 15 | C14: 87.65 | D14: 175.3 | E14: 153.36 | F14: 241.01 | G14: =SUM(C14-(C14*0.88)) -> 10.518 | H14: =SUM(D14-(D14*0.88)) -> 21.036 | I14: =SUM(E14-(E14*0.88)) -> 18.4032 | J14: =SUM(F14-(F14*0.88)) -> 28.9212
... A39: Marignane | B39: 35 | C39: 121.38 | D39: 242.76 | E39: 212.34 | F39: 333.72 | G39: =SUM(C39-(C39*0.88)) -> 14.5656 | H39: =SUM(D39-(D39*0.88)) -> 29.1312 | I39: =SUM(E39-(E39*0.88)) -> 25.4808 | J39: =SUM(F39-(F39*0.88)) -> 40.0464
A40: Dom 13 | B40: 5 | C40: 68.75 | D40: A RENSEIGNER | E40: A RENSEIGNER | F40: A RENSEIGNER | G40: =SUM(C40-(C40*0.88)) -> 8.25 | H40: =SUM(D40-(D40*0.88)) -> #VALUE! | I40: =SUM(E40-(E40*0.88)) -> #VALUE! | J40: =SUM(F40-(F40*0.88)) -> #VALUE!
A41: Proxi >3km | B41: 3 | C41: 64.37 | D41: 128.74 | E41: 112.65 | F41: 177.02 | G41: =SUM(C41-(C41*0.88)) -> 7.7244 | H41: =SUM(D41-(D41*0.88)) -> 15.4488 | I41: =SUM(E41-(E41*0.88)) -> 13.518 | J41: =SUM(F41-(F41*0.88)) -> 21.2424
A42: Aix en Provence | B42: 40 | C42: A RENSEIGNER | D42: 264.66 | E42: A RENSEIGNER | F42: A RENSEIGNER | G42: =SUM(C42-(C42*0.88)) -> #VALUE! | H42: =SUM(D42-(D42*0.88)) -> 31.7592 | I42: =SUM(E42-(E42*0.88)) -> #VALUE! | J42: =SUM(F42-(F42*0.88)) -> #VALUE!
A43: 9 Km | B43: 9 | C43: 76.01 | D43: 152.02 | E43: A RENSEIGNER | F43: A RENSEIGNER | G43: =SUM(C43-(C43*0.88)) -> 9.1212 | H43: =SUM(D43-(D43*0.88)) -> 18.2424 | I43: =SUM(E43-(E43*0.88)) -> #VALUE! | J43: =SUM(F43-(F43*0.88)) -> #VALUE!
A44: 7 Km | B44: 7 | C44: 71.63 | D44: 143.26 | E44: A RENSEIGNER | F44: A RENSEIGNER | G44: =SUM(C44-(C44*0.88)) -> 8.5956 | H44: =SUM(D44-(D44*0.88)) -> 17.1912 | I44: =SUM(E44-(E44*0.88)) -> #VALUE! | J44: =SUM(F44-(F44*0.88)) -> #VALUE!
