Workbook

Sheet Personne 1
A1: Intérimaire: | B1: x | D1: Date du contrat: | E1: 43234 | F1: 43385 | G1: Motif: | H1: Accroissement | I1: Numéro de contrat: | J1: 504805 | K1: Service: | L1: Commerce
A2: Entité: | B2: x France | D2: Semaine début: | K2: Qualification: | L2: Personnel qualifié
A3: Agence: | B3: PP
A4: Taux horaire: | B4: 20.99
A6: Mois | B6: N° Sem | C6: Délégation / Gestion | D6: Nb heures | E6: Nb jours fériés | F6: Taux de facturation | G6: Heures normales | H6: Jours férié | I6: Droit RTT | J6: Montant facturé (€) | K6: Montant du réalisé (€) | L6: En attente de facturation (€) | M6: Facture reçue | N6: n° facture | O6: Date paiement facture
A7: 5 | B7: 20 | C7: Délégation | D7: 34.2 | E7: =IF(ISNA(VLOOKUP(B7,Données!J11:K22,2,FALSE)),0,VLOOKUP(B7,Données!J11:K22,2,FALSE)) -> 0 | F7: =IF(C7="","",IF(C7="gestion",($B$4*(VLOOKUP($B$3&"-"&$L$2,Données!$A$1:$F$31,5,FALSE))),($B$4*(VLOOKUP($B$3&"-"&$L$2,Données!$A$1:$F$31,4,FALSE))))) -> 45.1285 | G7: =F7*D7 -> 1543.3947 | H7: =E7*7*F7 -> 0 | J7: 1543.3947 | K7: =SUM(G7:H7) -> 1543.3947 | L7: =K7-J7 -> 0 | M7: OK
A8: 5 | B8: 21 | C8: Délégation | D8: 27.36 | E8: =IF(ISNA(VLOOKUP(B8,Données!J12:K23,2,FALSE)),0,VLOOKUP(B8,Données!J12:K23,2,FALSE)) -> 1 | F8: =IF(C8="","",IF(C8="gestion",($B$4*(VLOOKUP($B$3&"-"&$L$2,Données!$A$1:$F$31,5,FALSE))),($B$4*(VLOOKUP($B$3&"-"&$L$2,Données!$A$1:$F$31,4,FALSE))))) -> 45.1285 | G8: =F8*D8 -> 1234.7158 | H8: =E8*7*F8 -> 315.8995 | J8: 1234.7158 | K8: =SUM(G8:H8) -> 1550.6153 | L8: =K8-J8 -> 315.8995 | M8: OK
A9: 5 | B9: 22 | C9: Délégation | D9: 27.36 | E9: =IF(ISNA(VLOOKUP(B9,Données!J13:K24,2,FALSE)),0,VLOOKUP(B9,Données!J13:K24,2,FALSE)) -> 0 | F9: =IF(C9="","",IF(C9="gestion",($B$4*(VLOOKUP($B$3&"-"&$L$2,Données!$A$1:$F$31,5,FALSE))),($B$4*(VLOOKUP($B$3&"-"&$L$2,Données!$A$1:$F$31,4,FALSE))))) -> 45.1285 | G9: =F9*D9 -> 1234.7158 | H9: =E9*7*F9 -> 0 | J9: 1234.7158 | K9: =SUM(G9:H9) -> 1234.7158 | L9: =K9-J9 -> 0 | M9: OK
A10: 6 | B10: 22 | C10: Délégation | D10: 6.84 | E10: =IF(ISNA(VLOOKUP(B10,Données!J14:K25,2,FALSE)),0,VLOOKUP(B10,Données!J14:K25,2,FALSE)) -> 0 | F10: =IF(C10="","",IF(C10="gestion",($B$4*(VLOOKUP($B$3&"-"&$L$2,Données!$A$1:$F$31,5,FALSE))),($B$4*(VLOOKUP($B$3&"-"&$L$2,Données!$A$1:$F$31,4,FALSE))))) -> 45.1285 | G10: =F10*D10 -> 308.67894 | H10: =E10*7*F10 -> 0 | J10: 308.67894 | K10: =SUM(G10:H10) -> 308.67894 | L10: =K10-J10 -> 0 | M10: OK
A11: 6 | B11: 23 | C11: Délégation | D11: 34.2 | E11: =IF(ISNA(VLOOKUP(B11,Données!J15:K26,2,FALSE)),0,VLOOKUP(B11,Données!J15:K26,2,FALSE)) -> 0 | F11: =IF(C11="","",IF(C11="gestion",($B$4*(VLOOKUP($B$3&"-"&$L$2,Données!$A$1:$F$31,5,FALSE))),($B$4*(VLOOKUP($B$3&"-"&$L$2,Données!$A$1:$F$31,4,FALSE))))) -> 45.1285 | G11: =F11*D11 -> 1543.3947 | H11: =E11*7*F11 -> 0 | J11: 1543.3947 | K11: =SUM(G11:H11) -> 1543.3947 | L11: =K11-J11 -> 0 | M11: OK
A12: 6 | B12: 24 | C12: Délégation | D12: 34.2 | E12: =IF(ISNA(VLOOKUP(B12,Données!J16:K27,2,FALSE)),0,VLOOKUP(B12,Données!J16:K27,2,FALSE)) -> 0 | F12: =IF(C12="","",IF(C12="gestion",($B$4*(VLOOKUP($B$3&"-"&$L$2,Données!$A$1:$F$31,5,FALSE))),($B$4*(VLOOKUP($B$3&"-"&$L$2,Données!$A$1:$F$31,4,FALSE))))) -> 45.1285 | G12: =F12*D12 -> 1543.3947 | H12: =E12*7*F12 -> 0 | J12: 1543.3947 | K12: =SUM(G12:H12) -> 1543.3947 | L12: =K12-J12 -> 0 | M12: OK
A13: 6 | B13: 25 | C13: Gestion | D13: 34.2 | E13: =IF(ISNA(VLOOKUP(B13,Données!J17:K28,2,FALSE)),0,VLOOKUP(B13,Données!J17:K28,2,FALSE)) -> 0 | F13: =IF(C13="","",IF(C13="gestion",($B$4*(VLOOKUP($B$3&"-"&$L$2,Données!$A$1:$F$31,5,FALSE))),($B$4*(VLOOKUP($B$3&"-"&$L$2,Données!$A$1:$F$31,4,FALSE))))) -> 41.98 | G13: =F13*D13 -> 1435.716 | H13: =E13*7*F13 -> 0 | K13: =SUM(G13:H13) -> 1435.716 | L13: =K13-J13 -> 1435.716
A14: 6 | B14: 26 | C14: Gestion | D14: 34.2 | E14: =IF(ISNA(VLOOKUP(B14,Données!J18:K29,2,FALSE)),0,VLOOKUP(B14,Données!J18:K29,2,FALSE)) -> 0 | F14: =IF(C14="","",IF(C14="gestion",($B$4*(VLOOKUP($B$3&"-"&$L$2,Données!$A$1:$F$31,5,FALSE))),($B$4*(VLOOKUP($B$3&"-"&$L$2,Données!$A$1:$F$31,4,FALSE))))) -> 41.98 | G14: =F14*D14 -> 1435.716 | H14: =E14*7*F14 -> 0 | K14: =SUM(G14:H14) -> 1435.716 | L14: =K14-J14 -> 1435.716
A15: 7 | B15: 27 | C15: Gestion | D15: 34.2 | E15: =IF(ISNA(VLOOKUP(B15,Données!J19:K30,2,FALSE)),0,VLOOKUP(B15,Données!J19:K30,2,FALSE)) -> 0 | F15: =IF(C15="","",IF(C15="gestion",($B$4*(VLOOKUP($B$3&"-"&$L$2,Données!$A$1:$F$31,5,FALSE))),($B$4*(VLOOKUP($B$3&"-"&$L$2,Données!$A$1:$F$31,4,FALSE))))) -> 41.98 | G15: =F15*D15 -> 1435.716 | H15: =E15*7*F15 -> 0 | K15: =SUM(G15:H15) -> 1435.716 | L15: =K15-J15 -> 1435.716
A16: 7 | B16: 28 | C16: Gestion | D16: 34.2 | E16: =IF(ISNA(VLOOKUP(B16,Données!J20:K31,2,FALSE)),0,VLOOKUP(B16,Données!J20:K31,2,FALSE)) -> 0 | F16: =IF(C16="","",IF(C16="gestion",($B$4*(VLOOKUP($B$3&"-"&$L$2,Données!$A$1:$F$31,5,FALSE))),($B$4*(VLOOKUP($B$3&"-"&$L$2,Données!$A$1:$F$31,4,FALSE))))) -> 41.98 | G16: =F16*D16 -> 1435.716 | H16: =E16*7*F16 -> 0 | K16: =SUM(G16:H16) -> 1435.716 | L16: =K16-J16 -> 1435.716
A17: 7 | B17: 29 | C17: Gestion | D17: 34.2 | E17: =IF(ISNA(VLOOKUP(B17,Données!J21:K32,2,FALSE)),0,VLOOKUP(B17,Données!J21:K32,2,FALSE)) -> 0 | F17: =IF(C17="","",IF(C17="gestion",($B$4*(VLOOKUP($B$3&"-"&$L$2,Données!$A$1:$F$31,5,FALSE))),($B$4*(VLOOKUP($B$3&"-"&$L$2,Données!$A$1:$F$31,4,FALSE))))) -> 41.98 | G17: =F17*D17 -> 1435.716 | H17: =E17*7*F17 -> 0 | K17: =SUM(G17:H17) -> 1435.716 | L17: =K17-J17 -> 1435.716
A18: 7 | B18: 30 | C18: Gestion | D18: 34.2 | E18: =IF(ISNA(VLOOKUP(B18,Données!J22:K33,2,FALSE)),0,VLOOKUP(B18,Données!J22:K33,2,FALSE)) -> 0 | F18: =IF(C18="","",IF(C18="gestion",($B$4*(VLOOKUP($B$3&"-"&$L$2,Données!$A$1:$F$31,5,FALSE))),($B$4*(VLOOKUP($B$3&"-"&$L$2,Données!$A$1:$F$31,4,FALSE))))) -> 41.98 | G18: =F18*D18 -> 1435.716 | H18: =E18*7*F18 -> 0 | K18: =SUM(G18:H18) -> 1435.716 | L18: =K18-J18 -> 1435.716
A19: 7 | B19: 31 | C19: Gestion | D19: =6.84*2 -> 13.68 | E19: =IF(ISNA(VLOOKUP(B19,Données!J23:K34,2,FALSE)),0,VLOOKUP(B19,Données!J23:K34,2,FALSE)) -> 0 | F19: =IF(C19="","",IF(C19="gestion",($B$4*(VLOOKUP($B$3&"-"&$L$2,Données!$A$1:$F$31,5,FALSE))),($B$4*(VLOOKUP($B$3&"-"&$L$2,Données!$A$1:$F$31,4,FALSE))))) -> 41.98 | G19: =F19*D19 -> 574.2864 | H19: =E19*7*F19 -> 0 | K19: =SUM(G19:H19) -> 574.2864 | L19: =K19-J19 -> 574.2864
A20: 8 | B20: 31 | C20: Gestion | D20: =6.84*3 -> 20.52 | E20: =IF(ISNA(VLOOKUP(B20,Données!J24:K35,2,FALSE)),0,VLOOKUP(B20,Données!J24:K35,2,FALSE)) -> 0 | F20: =IF(C20="","",IF(C20="gestion",($B$4*(VLOOKUP($B$3&"-"&$L$2,Données!$A$1:$F$31,5,FALSE))),($B$4*(VLOOKUP($B$3&"-"&$L$2,Données!$A$1:$F$31,4,FALSE))))) -> 41.98 | G20: =F20*D20 -> 861.4296 | H20: =E20*7*F20 -> 0 | K20: =SUM(G20:H20) -> 861.4296 | L20: =K20-J20 -> 861.4296
A21: 8 | B21: 31 | C21: Gestion | D21: =6.84*3 -> 20.52 | E21: =IF(ISNA(VLOOKUP(B21,Données!J25:K36,2,FALSE)),0,VLOOKUP(B21,Données!J25:K36,2,FALSE)) -> 0 | F21: =IF(C21="","",IF(C21="gestion",($B$4*(VLOOKUP($B$3&"-"&$L$2,Données!$A$1:$F$31,5,FALSE))),($B$4*(VLOOKUP($B$3&"-"&$L$2,Données!$A$1:$F$31,4,FALSE))))) -> 41.98 | G21: =F21*D21 -> 861.4296 | H21: =E21*7*F21 -> 0 | K21: =SUM(G21:H21) -> 861.4296 | L21: =K21-J21 -> 861.4296

Sheet Personne 2
A1: Intérimaire: | B1: x | D1: Date du contrat: | G1: Motif: | H1: Accroissement | I1: Numéro de contrat: | K1: Service: | L1: Communication
A2: Entité: | B2: x HQ | D2: Semaine début: | K2: Qualification: | L2: Personnel qualifié
A3: Agence: | B3: pp
A4: Taux horaire: | B4: 12.1
A6: Mois | B6: N° Sem | C6: Délégation / Gestion | D6: Nb heures | E6: Nb jours fériés | F6: Taux de facturation | G6: Heures normales | H6: Jours férié | I6: Droit RTT | J6: Montant facturé (€) | K6: Montant du réalisé (€) | L6: En attente de facturation (€) | M6: Facture reçue | N6: n° facture | O6: Date paiement facture
A7: 5 | B7: 21 | C7: Délégation | D7: 30.4 | E7: =IF(ISNA(VLOOKUP(B7,Données!J11:K22,2,FALSE)),0,VLOOKUP(B7,Données!J11:K22,2,FALSE)) -> 1 | F7: =IF(C7="","",IF(C7="gestion",($B$4*(VLOOKUP($B$3&"-"&$L$2,Données!$A$1:$F$31,5,FALSE))),($B$4*(VLOOKUP($B$3&"-"&$L$2,Données!$A$1:$F$31,4,FALSE))))) -> 26.015 | G7: =F7*D7 -> 790.856 | H7: =E7*7*F7 -> 182.105 | K7: =SUM(G7:H7) -> 972.961 | L7: =K7-J7 -> 972.961 | M7: OK
A8: 5 | B8: 22 | C8: Délégation | D8: 30.4 | E8: =IF(ISNA(VLOOKUP(B8,Données!J12:K23,2,FALSE)),0,VLOOKUP(B8,Données!J12:K23,2,FALSE)) -> 0 | F8: =IF(C8="","",IF(C8="gestion",($B$4*(VLOOKUP($B$3&"-"&$L$2,Données!$A$1:$F$31,5,FALSE))),($B$4*(VLOOKUP($B$3&"-"&$L$2,Données!$A$1:$F$31,4,FALSE))))) -> 26.015 | G8: =F8*D8 -> 790.856 | H8: =E8*7*F8 -> 0 | K8: =SUM(G8:H8) -> 790.856 | L8: =K8-J8 -> 790.856 | M8: OK
A9: 6 | B9: 22 | C9: Délégation | D9: 7.6 | E9: =IF(ISNA(VLOOKUP(B9,Données!J13:K24,2,FALSE)),0,VLOOKUP(B9,Données!J13:K24,2,FALSE)) -> 0 | F9: =IF(C9="","",IF(C9="gestion",($B$4*(VLOOKUP($B$3&"-"&$L$2,Données!$A$1:$F$31,5,FALSE))),($B$4*(VLOOKUP($B$3&"-"&$L$2,Données!$A$1:$F$31,4,FALSE))))) -> 26.015 | G9: =F9*D9 -> 197.714 | H9: =E9*7*F9 -> 0 | K9: =SUM(G9:H9) -> 197.714 | L9: =K9-J9 -> 197.714 | M9: OK
A10: 6 | B10: 23 | C10: Délégation | D10: 38 | E10: =IF(ISNA(VLOOKUP(B10,Données!J14:K25,2,FALSE)),0,VLOOKUP(B10,Données!J14:K25,2,FALSE)) -> 0 | F10: =IF(C10="","",IF(C10="gestion",($B$4*(VLOOKUP($B$3&"-"&$L$2,Données!$A$1:$F$31,5,FALSE))),($B$4*(VLOOKUP($B$3&"-"&$L$2,Données!$A$1:$F$31,4,FALSE))))) -> 26.015 | G10: =F10*D10 -> 988.57 | H10: =E10*7*F10 -> 0 | K10: =SUM(G10:H10) -> 988.57 | L10: =K10-J10 -> 988.57 | M10: OK
A11: 6 | B11: 24 | C11: Délégation | D11: 30.4 | E11: =IF(ISNA(VLOOKUP(B11,Données!J15:K26,2,FALSE)),0,VLOOKUP(B11,Données!J15:K26,2,FALSE)) -> 0 | F11: =IF(C11="","",IF(C11="gestion",($B$4*(VLOOKUP($B$3&"-"&$L$2,Données!$A$1:$F$31,5,FALSE))),($B$4*(VLOOKUP($B$3&"-"&$L$2,Données!$A$1:$F$31,4,FALSE))))) -> 26.015 | G11: =F11*D11 -> 790.856 | H11: =E11*7*F11 -> 0 | K11: =SUM(G11:H11) -> 790.856 | L11: =K11-J11 -> 790.856 | M11: OK
A12: 6 | B12: 25 | D12: 38 | E12: =IF(ISNA(VLOOKUP(B12,Données!J16:K27,2,FALSE)),0,VLOOKUP(B12,Données!J16:K27,2,FALSE)) -> 0 | F12: =IF(C12="","",IF(C12="gestion",($B$4*(VLOOKUP($B$3&"-"&$L$2,Données!$A$1:$F$31,5,FALSE))),($B$4*(VLOOKUP($B$3&"-"&$L$2,Données!$A$1:$F$31,4,FALSE))))) | M12: OK
A13: 6 | B13: 26 | D13: 38 | E13: =IF(ISNA(VLOOKUP(B13,Données!J17:K28,2,FALSE)),0,VLOOKUP(B13,Données!J17:K28,2,FALSE)) -> 0 | F13: =IF(C13="","",IF(C13="gestion",($B$4*(VLOOKUP($B$3&"-"&$L$2,Données!$A$1:$F$31,5,FALSE))),($B$4*(VLOOKUP($B$3&"-"&$L$2,Données!$A$1:$F$31,4,FALSE)))))
B14: 27 | E14: =IF(ISNA(VLOOKUP(B14,Données!J18:K29,2,FALSE)),0,VLOOKUP(B14,Données!J18:K29,2,FALSE)) -> 0 | F14: =IF(C14="","",IF(C14="gestion",($B$4*(VLOOKUP($B$3&"-"&$L$2,Données!$A$1:$F$31,5,FALSE))),($B$4*(VLOOKUP($B$3&"-"&$L$2,Données!$A$1:$F$31,4,FALSE)))))

Sheet Suivi facturation
A1: Date: | B1: 43311
C3: x HQ | D3: x France | E3: X GPB
A4: Effectif fin de mois | C4: 1 | D4: 1 | E4: 1
A5: Equivalent temps plein | C5: 152 | D5: 99.18 | E5: 150.48
B8: Code section | C8: Motif | D8: Date début | E8: Date fin | F8: Agence | G8: Heures ETP | H8: Taux facturation | I8: Montant de facture HT du mois en cours | J8: Montant total factures en attentes TTC
A9: x France
A10: personne 1 | B10: Service client | C10: Remplacement | D10: 43164 | E10: 43259 | F10: Walters People | G10: 41.04 | H10: 28.44 | I10: 1167.1776 | J10: 1400.6131
A11: Personne 2 | B11: Service Marketing | C11: Remplacement | D11: 43269 | E11: 43294 | F11: Supplay | G11: 58.14 | H11: 18.24 | I11: 1060.4736 | J11: 1272.5683
A12: Total x France | G12: 99.18 | I12: 1167.1776 | J12: 2673.1814
A13: x GPB
A14: Personne 3 | B14: Commercial | C14: Accroissement | D14: 43234 | E14: 43385 | F14: Page Personnel | G14: 150.48 | H14: 45.13 | I14: 6791.1624 | J14: 12964.946
A15: Total x GPB | G15: 150.48 | I15: 6791.1624 | J15: 12964.946
A16: x HQ
A17: Personne 4 | B17: Communication | C17: Accroissement | D17: 43242 | E17: 43333 | F17: Page Personnel | G17: 152 | H17: 26.01 | I17: 3953.52 | J17: 2372.112
A18: Total x HQ | G18: 152 | I18: 3953.52 | J18: 2372.112
A19: TOTAL GENERAL | G19: 401.66 | I19: 11911.86 | J19: 18010.24
B22: S | C22: M | D22: PP | E22: A | F22: D | G22: WP | H22: TOTAL
A23: TOTAL montant factures restantes / Agences | B23: 1272.5683 | C23: 0 | D23: 15337.058 | E23: 0 | F23: 0 | G23: 1400.6131 | H23: 18010.24

Sheet Données
A1: Intitulé | B1: Agence | C1: Qualif | D1: Délégation | E1: Gestion | F1: A partir de quelle semaine minoration gestion | H1: Agence | I1: Entité | J1: Service
A2: =B2&"-"&C2 -> PP-Personnel peu qualifié | B2: PP | C2: Personnel peu qualifié | D2: 2.12 | E2: 2 | F2: 5 | H2: PP | I2: x France | J2: RH
A3: =B3&"-"&C3 -> PP-Standardiste, aide comptable | B3: PP | C3: Standardiste, aide comptable | D3: 2.12 | E3: 2 | H3: M | I3: x HQ | J3: Service client
A4: =B4&"-"&C4 -> PP-Personnel qualifié | B4: PP | C4: Personnel qualifié | D4: 2.15 | E4: 2 | H4: D | I4: x GPB | J4: Commerce
A5: =B5&"-"&C5 -> PP-Standardiste bilingue, comptable | B5: PP | C5: Standardiste bilingue, comptable | D5: 2.15 | E5: 2 | H5: A | J5: Informatique
A6: =B6&"-"&C6 -> PP-Cadre | B6: PP | C6: Cadre | D6: 2.3 | E6: 2 | H6: LI | J6: Logistique
A7: =B7&"-"&C7 -> D-Personnel peu qualifié | B7: D | C7: Personnel peu qualifié | D7: 1.82 | E7: 1.8 | F7: 13 | H7: S | J7: Finance
A8: =B8&"-"&C8 -> D-Standardiste, aide comptable | B8: D | C8: Standardiste, aide comptable | D8: 1.82 | E8: 1.8 | J8: Comptabilité
A9: =B9&"-"&C9 -> D-Personnel qualifié | B9: D | C9: Personnel qualifié | D9: 1.93 | E9: 1.83
A10: =B10&"-"&C10 -> D-Standardiste bilingue, comptable | B10: D | C10: Standardiste bilingue, comptable | D10: 1.92 | E10: 1.82
A11: =B11&"-"&C11 -> D-Cadre | B11: D | C11: Cadre | D11: 1.99 | E11: 1.93 | H11: Jours férié | I11: 2018 | J11: Correspondance semaine
A12: =B12&"-"&C12 -> A-Personnel peu qualifié | B12: A | C12: Personnel peu qualifié | D12: 1.78 | E12: 1.775 | F12: 15 | H12: Jour de l'an | I12: =DATE($I$11,1,1) -> 43101 | J12: =WEEKNUM(I12,1) -> 1 | K12: =COUNTIF($J$12:$J$22,J12) -> 1
A13: =B13&"-"&C13 -> A-Standardiste, aide comptable | B13: A | C13: Standardiste, aide comptable | D13: 1.82 | E13: 1.8 | H13: lundi de paques | I13: =FLOOR(DAY(MINUTE($I$11/38)/2+56)&"/5/"&$I$11,7)-34+1 -> 43192 | J13: =WEEKNUM(I13,1) -> 14 | K13: =COUNTIF($J$12:$J$22,J13) -> 1
A14: =B14&"-"&C14 -> A-Personnel qualifié | B14: A | C14: Personnel qualifié | D14: 1.83 | E14: 1.825 | H14: Fête du travail | I14: =DATE($I$11,5,1) -> 43221 | J14: =WEEKNUM(I14,1) -> 18 | K14: =COUNTIF($J$12:$J$22,J14) -> 1
A15: =B15&"-"&C15 -> A-Standardiste bilingue, comptable | B15: A | C15: Standardiste bilingue, comptable | D15: 1.95 | E15: 1.85 | H15: Armistice | I15: =DATE($I$11,5,8) -> 43228 | J15: =WEEKNUM(I15,1) -> 19 | K15: =COUNTIF($J$12:$J$22,J15) -> 2
A16: =B16&"-"&C16 -> A-Cadre | B16: A | C16: Cadre | D16: 2.15 | E16: 2.05 | H16: Ascension | I16: =$I$13+38 -> 43230 | J16: =WEEKNUM(I16,1) -> 19 | K16: =COUNTIF($J$12:$J$22,J16) -> 2
A17: =B17&"-"&C17 -> LI-Personnel peu qualifié | B17: LI | C17: Personnel peu qualifié | D17: 1.78 | E17: 1.78 | H17: Lundi de pentecote | I17: =$I$13+49 -> 43241 | J17: =WEEKNUM(I17,1) -> 21 | K17: =COUNTIF($J$12:$J$22,J17) -> 1
A18: =B18&"-"&C18 -> LI-Standardiste, aide comptable | B18: LI | C18: Standardiste, aide comptable | D18: 1.78 | E18: 1.78 | H18: Fête nationale | I18: =DATE($I$11,7,14) -> 43295 | J18: =WEEKNUM(I18,1) -> 28 | K18: =COUNTIF($J$12:$J$22,J18) -> 1
A19: =B19&"-"&C19 -> LI-Personnel qualifié | B19: LI | C19: Personnel qualifié | D19: 1.91 | E19: 1.89 | H19: Assomption | I19: =DATE($I$11,8,15) -> 43327 | J19: =WEEKNUM(I19,1) -> 33 | K19: =COUNTIF($J$12:$J$22,J19) -> 1
A20: =B20&"-"&C20 -> LI-Standardiste bilingue, comptable | B20: LI | C20: Standardiste bilingue, comptable | D20: 1.91 | E20: 1.89 | H20: Toussaint | I20: =DATE($I$11,11,1) -> 43405 | J20: =WEEKNUM(I20,1) -> 44 | K20: =COUNTIF($J$12:$J$22,J20) -> 1
A21: =B21&"-"&C21 -> LI-Cadre | B21: LI | C21: Cadre | D21: 2.05 | E21: 1.96 | H21: Armistice | I21: =DATE($I$11,11,11) -> 43415 | J21: =WEEKNUM(I21,1) -> 46 | K21: =COUNTIF($J$12:$J$22,J21) -> 1
A22: =B22&"-"&C22 -> S-Personnel peu qualifié | B22: S | C22: Personnel peu qualifié | D22: 1.78 | E22: 1.78 | F22: A partir de la 351eme heure pour les non cadres / 451ème heure pour les cadres | H22: Noël | I22: =DATE($I$11,12,25) -> 43459 | J22: =WEEKNUM(I22,1) -> 52 | K22: =COUNTIF($J$12:$J$22,J22) -> 1
A23: =B23&"-"&C23 -> S-Standardiste, aide comptable | B23: S | C23: Standardiste, aide comptable | D23: 1.78 | E23: 1.78
A24: =B24&"-"&C24 -> S-Personnel qualifié | B24: S | C24: Personnel qualifié | D24: 1.83 | E24: 1.81
A25: =B25&"-"&C25 -> S-Standardiste bilingue, comptable | B25: S | C25: Standardiste bilingue, comptable | D25: 1.83 | E25: 1.81
A26: =B26&"-"&C26 -> S-Cadre | B26: S | C26: Cadre | D26: 1.95 | E26: 1.87
A27: =B27&"-"&C27 -> M-Personnel peu qualifié | B27: M | C27: Personnel peu qualifié | D27: 1.82 | E27: 1.82 | F27: Jamais
A28: =B28&"-"&C28 -> M-Standardiste, aide comptable | B28: M | C28: Standardiste, aide comptable | D28: 1.82 | E28: 1.82
A29: =B29&"-"&C29 -> M-Personnel qualifié | B29: M | C29: Personnel qualifié | D29: 1.91 | E29: 1.89
A30: =B30&"-"&C30 -> M-Standardiste bilingue, comptable | B30: M | C30: Standardiste bilingue, comptable | D30: 1.91 | E30: 1.89
A31: =B31&"-"&C31 -> M-Cadre | B31: M | C31: Cadre | D31: 2.05 | E31: 1.95
