Workbook

Sheet PAGE DE GARDE
B9: MAITRE D'OUVRAGE: | F9: MAITRE D'ŒUVRE:
B10: NOM | F10: NOM
B11: RUE | F11: RUE
B12: VILLE | F12: VILLE
D16: CHANTIER:
D17: NOM
D18: RUE
D19: VILLE

Sheet RELEVER
A1: REPERE | B1: TYPE | C1: VANTAUX | D1: RAILS | E1: Etage | F1: Localisation | G1: MENUISERIE | H1: Couleur | I1: largeur brut (mm) | J1: hauteur brut (mm) | K1: hauteur talons/mfini | L1: Refoulement | M1: enduit/Pierre (mm) | N1: isolant+placo (mm) | O1: Placo (mm) | P1: sens ouverture | Q1: Allège (mm) | R1: Griesser/Volet roulant/Screen
A2: ME01 | B2: Galandage | C2: 1 | D2: 1 | E2: Sous-sol | F2: Chambre 7 | G2: ALUMINIUM | H2: NOIR 2100 SABLE | I2: 943 | J2: 2410 | K2: =IF(Q2=0,CHOOSE(MATCH(B2,{"Galandage";"Fixe";"Coulissant"},0),1080,1020,1080),"") -> 1080 | L2: =IF(B2="Galandage",I2-(M2*2)*1.0226,"") -> 926.6384 | M2: 8 | N2: 200 | O2: 26 | P2: Droite | Q2: 0 | R2: non
A3: ME02 | B3: Oscilotbattant | C3: 1 | D3: 0 | E3: Sous-sol | F3: Céllier/Buanderie | G3: ALUMINIUM | H3: NOIR 2100 SABLE | I3: 945 | J3: 1350 | K3: =IF(Q3=0,CHOOSE(MATCH(B3,{"Galandage";"Fixe";"Coulissant"},0),1080,1020,1080),"") | L3: =IF(B3="Galandage",I3-(M3*2)*1.0226,"") | M3: 8 | N3: 200 | O3: 26 | P3: Droite | Q3: 1000 | R3: non
A4: ME03 | B4: fixe | C4: 1 | D4: 0 | E4: Rez de Chaussée | F4: Hall d'Entrée | G4: ALUMINIUM | H4: NOIR 2100 SABLE | I4: 2710 | J4: 2625 | K4: =IF(Q4=0,CHOOSE(MATCH(B4,{"Galandage";"Fixe";"Coulissant"},0),1080,1020,1080),"") -> 1020 | L4: =IF(B4="Galandage",I4-(M4*2)*1.0226,"") | M4: 8 | N4: 250 | O4: 26 | P4: Gauche | Q4: 0 | R4: non
A5: ME04 | B5: Galandage | C5: 1 | D5: 0 | E5: Rez de Chaussée | F5: Chambre 4 | G5: ALUMINIUM | H5: NOIR 2100 SABLE | I5: 915 | J5: 1510 | K5: =IF(Q5=0,CHOOSE(MATCH(B5,{"Galandage";"Fixe";"Coulissant"},0),1080,1020,1080),"") | L5: =IF(B5="Galandage",I5-(M5*2)*1.0226,"") -> 898.6384 | M5: 8 | N5: 200 | O5: 26 | P5: Gauche | Q5: 1000 | R5: oui
A6: ME05 | B6: Oscilotbattant | C6: 1 | D6: 0 | E6: Rez de Chaussée | F6: Sde 4 | G6: ALUMINIUM | H6: NOIR 2100 SABLE | I6: 620 | J6: 1510 | K6: =IF(Q6=0,CHOOSE(MATCH(B6,{"Galandage";"Fixe";"Coulissant"},0),1080,1020,1080),"") | L6: =IF(B6="Galandage",I6-(M6*2)*1.0226,"") | M6: 8 | N6: 200 | O6: 26 | P6: Gauche | Q6: 1000 | R6: non
A7: ME06 | B7: Oscilotbattant | C7: 1 | D7: 1 | E7: Rez de Chaussée | F7: Sde 3 | G7: ALUMINIUM | H7: NOIR 2100 SABLE | I7: 620 | J7: 1510 | K7: =IF(Q7=0,CHOOSE(MATCH(B7,{"Galandage";"Fixe";"Coulissant"},0),1080,1020,1080),"") | L7: =IF(B7="Galandage",I7-(M7*2)*1.0226,"") | M7: 8 | N7: 200 | O7: 26 | P7: Gauche | Q7: 1000 | R7: non
A8: ME07 | B8: Galandage | C8: 1 | D8: 1 | E8: Rez de Chaussée | F8: Chambre 3 | G8: ALUMINIUM | H8: NOIR 2100 SABLE | I8: 1520 | J8: 2400 | K8: =IF(Q8=0,CHOOSE(MATCH(B8,{"Galandage";"Fixe";"Coulissant"},0),1080,1020,1080),"") -> 1080 | L8: =IF(B8="Galandage",I8-(M8*2)*1.0226,"") -> 1503.6384 | M8: 8 | N8: 250 | O8: 26 | P8: Droite | Q8: 0 | R8: oui
A9: ME08 | B9: Oscilotbattant | C9: 1 | D9: 0 | E9: Rez de Chaussée | F9: Chambre 3 | G9: ALUMINIUM | H9: NOIR 2100 SABLE | I9: 620 | J9: 1510 | K9: =IF(Q9=0,CHOOSE(MATCH(B9,{"Galandage";"Fixe";"Coulissant"},0),1080,1020,1080),"") | L9: =IF(B9="Galandage",I9-(M9*2)*1.0226,"") | M9: 8 | N9: 250 | O9: 26 | P9: Gauche | Q9: 1000 | R9: oui
A10: ME09 | B10: Oscilotbattant | C10: 1 | D10: 0 | E10: Rez de Chaussée | F10: Sde 2 | G10: ALUMINIUM | H10: NOIR 2100 SABLE | I10: 620 | J10: 1510 | K10: =IF(Q10=0,CHOOSE(MATCH(B10,{"Galandage";"Fixe";"Coulissant"},0),1080,1020,1080),"") | L10: =IF(B10="Galandage",I10-(M10*2)*1.0226,"") | M10: 8 | N10: 200 | O10: 26 | P10: Droite | Q10: 1000 | R10: non
A11: ME10 | B11: Galandage | C11: 1 | D11: 1 | E11: Rez de Chaussée | F11: Chambre 2 | G11: ALUMINIUM | H11: NOIR 2100 SABLE | I11: 1620 | J11: 2490 | K11: =IF(Q11=0,CHOOSE(MATCH(B11,{"Galandage";"Fixe";"Coulissant"},0),1080,1020,1080),"") -> 1080 | L11: =IF(B11="Galandage",I11-(M11*2)*1.0226,"") -> 1517.74 | M11: 50 | N11: 250 | O11: 26 | P11: Droite | Q11: 0 | R11: oui
A12: ME11 | B12: Galandage | C12: 1 | D12: 1 | E12: Rez de Chaussée | F12: Sdb 1 | G12: ALUMINIUM | H12: NOIR 2100 SABLE | I12: 1520 | J12: 2410 | K12: =IF(Q12=0,CHOOSE(MATCH(B12,{"Galandage";"Fixe";"Coulissant"},0),1080,1020,1080),"") -> 1080 | L12: =IF(B12="Galandage",I12-(M12*2)*1.0226,"") -> 1503.6384 | M12: 8 | N12: 250 | O12: 26 | P12: Gauche | Q12: 0 | R12: oui
A13: ME12 | B13: Galandage | C13: 1 | D13: 1 | E13: Rez de Chaussée | F13: Chambre 1 | G13: ALUMINIUM | H13: NOIR 2100 SABLE | I13: 1520 | J13: 2415 | K13: =IF(Q13=0,CHOOSE(MATCH(B13,{"Galandage";"Fixe";"Coulissant"},0),1080,1020,1080),"") -> 1080 | L13: =IF(B13="Galandage",I13-(M13*2)*1.0226,"") -> 1503.6384 | M13: 8 | N13: 250 | O13: 26 | P13: Gauche | Q13: 0 | R13: oui
... A32: ME31 | B32: Coulissant | C32: 4 | D32: 2 | E32: Rez de Chaussée | F32: Patio | G32: ALUMINIUM | H32: NOIR 2100 SABLE | I32: 8438 | J32: 2985 | K32: =IF(Q32=0,CHOOSE(MATCH(B32,{"Galandage";"Fixe";"Coulissant"},0),1080,1020,1080),"") -> 1080 | L32: =IF(B32="Galandage",I32-(M32*2)*1.0226,"") | M32: 8 | N32: 200 | O32: 26 | P32: - | Q32: 0 | R32: non
B33: Porte garage | C33: 1 | D33: 0 | E33: Rez de Chaussée | F33: Garage | G33: ALUMINIUM | H33: NOIR 2100 SABLE | I33: b: 3000 h: 3020 | J33: 2460 | K33: =IF(Q33=0,CHOOSE(MATCH(B33,{"Galandage";"Fixe";"Coulissant"},0),1080,1020,1080),"") -> #N/A | L33: =IF(B33="Galandage",I33-(M33*2)*1.0226,"") | M33: 8 | N33: - | O33: - | P33: - | Q33: 0 | R33: non
B34: Porte garage | C34: 1 | D34: 0 | E34: Rez de Chaussée | F34: Garage | G34: ALUMINIUM | H34: NOIR 2100 SABLE | I34: 3010 | J34: 2465 | K34: =IF(Q34=0,CHOOSE(MATCH(B34,{"Galandage";"Fixe";"Coulissant"},0),1080,1020,1080),"") -> #N/A | L34: =IF(B34="Galandage",I34-(M34*2)*1.0226,"") | M34: 8 | N34: - | O34: - | P34: - | Q34: 0 | R34: non

Sheet FOURNITURE
A1: REPERE | B1: TYPE | C1: VANTAUX | D1: RAILS | E1: REF | F1: ep Montant | G1: largeur brut (mm) | H1: hauteur brut (mm) | I1: Refoulement | J1: Allege | K1: Griesser/VR | L1: Equerres longeur | M1: Equerre hauteur | N1: Total | O1: Type | P1: Bande filante (mm) | Q1: type | R1: clameaux | S1: Type | T1: Vis auto-perf 4,8x22 | U1: Vis pentur 6,0x50 | V1: Vis auto-perf 6,3x45 | W1: Goujon 8x91 | X1: Cheville 8x4 | Y1: DIM BACS | Z1: BACS REFOULEMENT | AA1: TYPE
A2: =RELEVER!A2 -> ME01 | B2: =RELEVER!B2 -> Galandage | C2: 1 | D2: 1 | F2: 54.4 | G2: =RELEVER!I2 -> 943 | H2: =RELEVER!J2 -> 2410 | I2: =G2+15 -> 958 | J2: 0 | K2: non | L2: =IF(K2="oui",(G2+I2/2-300)/800,(G2+I2-300)/800+2) -> 4.00125 | M2: =(H2-500)/800+2*2 -> 6.3875 | N2: =L2+M2 -> 10.38875 | P2: =IF(J2=0,"0",G2+I2) -> 0 | R2: =N2 -> 10.38875 | S2: IT 18021895-CP14GG | T2: =L2+M2 -> 10.38875 | U2: =L2+M2 -> 10.38875 | V2: 0 | W2: 0 | X2: =U2 -> 10.38875 | Y2: =G2 -> 943 | Z2: =I2+50 -> 1008 | AA2: bac 1rail
A3: =RELEVER!A3 -> ME02 | B3: =RELEVER!B3 -> Oscilotbattant | C3: 1 | D3: 0 | F3: 70 | G3: =RELEVER!I3 -> 945 | H3: =RELEVER!J3 -> 1350 | I3: 0 | J3: =RELEVER!Q3 -> 1000 | K3: non | L3: =IF(K3="oui",(G3+I3/2-300)/800,(G3+I3-300)/800+2) -> 2.80625 | M3: =(H3-500)/800+2*2 -> 5.0625 | N3: =L3+M3 -> 7.86875 | P3: =IF(J3=0,"0",G3+I3) -> 945 | R3: =N3 -> 7.86875 | S3: IT 18021895-CP14GG | T3: =L3+M3 -> 7.86875 | U3: =L3+M3 -> 7.86875 | V3: 0 | W3: 0 | X3: =U3 -> 7.86875
A4: =RELEVER!A4 -> ME03 | B4: =RELEVER!B4 -> fixe | C4: 1 | D4: 0 | F4: 70 | G4: =RELEVER!I4 -> 2710 | H4: =RELEVER!J4 -> 2625 | I4: 0 | J4: 0 | K4: non | L4: =IF(K4="oui",(G4+I4/2-300)/800,(G4+I4-300)/800+2) -> 5.0125 | M4: =(H4-500)/800+2*2 -> 6.65625 | N4: =L4+M4 -> 11.66875 | P4: =IF(J4=0,"0",G4+I4) -> 0 | R4: =N4 -> 11.66875 | S4: IT 18021895-CP14GG | T4: =L4+M4 -> 11.66875 | U4: =L4+M4 -> 11.66875 | V4: 0 | W4: 0 | X4: =U4 -> 11.66875
A5: =RELEVER!A5 -> ME04 | B5: =RELEVER!B5 -> Galandage | C5: 1 | D5: 0 | F5: 54.4 | G5: =RELEVER!I5 -> 915 | H5: =RELEVER!J5 -> 1510 | I5: =G5+15 -> 930 | J5: =RELEVER!Q5 -> 1000 | K5: oui | L5: =IF(K5="oui",(G5+I5/2-300)/800,(G5+I5-300)/800+2) -> 1.35 | M5: =(H5-500)/800+2*2 -> 5.2625 | N5: =L5+M5 -> 6.6125 | O5: Eq | P5: =IF(J5=0,"0",G5+I5) -> 1845 | R5: =N5 -> 6.6125 | S5: IT 18021895-CP14GG | T5: =L5+M5 -> 6.6125 | U5: =L5+M5 -> 6.6125 | V5: 0 | W5: 0 | X5: =U5 -> 6.6125 | Y5: =G5 -> 915 | Z5: =I5+50 -> 980 | AA5: bac 1rail
A6: =RELEVER!A6 -> ME05 | B6: =RELEVER!B6 -> Oscilotbattant | C6: 1 | D6: 0 | F6: 70 | G6: =RELEVER!I6 -> 620 | H6: =RELEVER!J6 -> 1510 | I6: 0 | J6: =RELEVER!Q6 -> 1000 | K6: non | L6: =IF(K6="oui",(G6+I6/2-300)/800,(G6+I6-300)/800+2) -> 2.4 | M6: =(H6-500)/800+2*2 -> 5.2625 | N6: =L6+M6 -> 7.6625 | P6: =IF(J6=0,"0",G6+I6) -> 620 | R6: =N6 -> 7.6625 | S6: IT 18021895-CP14GG | T6: =L6+M6 -> 7.6625 | U6: =L6+M6 -> 7.6625 | V6: 0 | W6: 0 | X6: =U6 -> 7.6625
A7: =RELEVER!A7 -> ME06 | B7: =RELEVER!B7 -> Oscilotbattant | C7: 1 | D7: 1 | F7: 70 | G7: =RELEVER!I7 -> 620 | H7: =RELEVER!J7 -> 1510 | I7: 0 | J7: =RELEVER!Q7 -> 1000 | K7: non | L7: =IF(K7="oui",(G7+I7/2-300)/800,(G7+I7-300)/800+2) -> 2.4 | M7: =(H7-500)/800+2*2 -> 5.2625 | N7: =L7+M7 -> 7.6625 | P7: =IF(J7=0,"0",G7+I7) -> 620 | R7: =N7 -> 7.6625 | S7: IT 18021895-CP14GG | T7: =L7+M7 -> 7.6625 | U7: =L7+M7 -> 7.6625 | V7: 0 | W7: 0 | X7: =U7 -> 7.6625
A8: =RELEVER!A8 -> ME07 | B8: =RELEVER!B8 -> Galandage | C8: 1 | D8: 1 | F8: 54.4 | G8: =RELEVER!I8 -> 1520 | H8: =RELEVER!J8 -> 2400 | I8: =G8+15 -> 1535 | J8: =RELEVER!Q8 -> 0 | K8: oui | L8: =IF(K8="oui",(G8+I8/2-300)/800,(G8+I8-300)/800+2) -> 2.484375 | M8: =(H8-500)/800+2*2 -> 6.375 | N8: =L8+M8 -> 8.859375 | P8: =IF(J8=0,"0",G8+I8) -> 0 | R8: =N8 -> 8.859375 | S8: IT 18021895-CP14GG | T8: =L8+M8 -> 8.859375 | U8: =L8+M8 -> 8.859375 | V8: 0 | W8: 0 | X8: =U8 -> 8.859375 | Y8: =G8 -> 1520 | Z8: =I8+50 -> 1585 | AA8: bac 1 rail
A9: =RELEVER!A9 -> ME08 | B9: =RELEVER!B9 -> Oscilotbattant | C9: 1 | D9: 0 | F9: 70 | G9: =RELEVER!I9 -> 620 | H9: =RELEVER!J9 -> 1510 | I9: 0 | J9: =RELEVER!Q9 -> 1000 | K9: oui | L9: =IF(K9="oui",(G9+I9/2-300)/800,(G9+I9-300)/800+2) -> 0.4 | M9: =(H9-500)/800+2*2 -> 5.2625 | N9: =L9+M9 -> 5.6625 | P9: =IF(J9=0,"0",G9+I9) -> 620 | R9: =N9 -> 5.6625 | S9: IT 18021895-CP14GG | T9: =L9+M9 -> 5.6625 | U9: =L9+M9 -> 5.6625 | V9: 0 | W9: 0 | X9: =U9 -> 5.6625
A10: =RELEVER!A10 -> ME09 | B10: =RELEVER!B10 -> Oscilotbattant | C10: 1 | D10: 0 | F10: 70 | G10: =RELEVER!I10 -> 620 | H10: =RELEVER!J10 -> 1510 | I10: 0 | J10: =RELEVER!Q10 -> 1000 | K10: non | L10: =IF(K10="oui",(G10+I10/2-300)/800,(G10+I10-300)/800+2) -> 2.4 | M10: =(H10-500)/800+2*2 -> 5.2625 | N10: =L10+M10 -> 7.6625 | P10: =IF(J10=0,"0",G10+I10) -> 620 | R10: =N10 -> 7.6625 | S10: IT 18021895-CP14GG | T10: =L10+M10 -> 7.6625 | U10: =L10+M10 -> 7.6625 | V10: 0 | W10: 0 | X10: =U10 -> 7.6625
A11: =RELEVER!A11 -> ME10 | B11: =RELEVER!B11 -> Galandage | C11: 1 | D11: 1 | F11: 54.4 | G11: =RELEVER!I11 -> 1620 | H11: =RELEVER!J11 -> 2490 | I11: =G11+15 -> 1635 | J11: =RELEVER!Q11 -> 0 | K11: oui | L11: =IF(K11="oui",(G11+I11/2-300)/800,(G11+I11-300)/800+2) -> 2.671875 | M11: =(H11-500)/800+2*2 -> 6.4875 | N11: =L11+M11 -> 9.159375 | P11: =IF(J11=0,"0",G11+I11) -> 0 | R11: =N11 -> 9.159375 | S11: IT 18021895-CP14GG | T11: =L11+M11 -> 9.159375 | U11: =L11+M11 -> 9.159375 | V11: 0 | W11: 0 | X11: =U11 -> 9.159375 | Y11: =G11 -> 1620 | Z11: =I11+50 -> 1685 | AA11: bac 1 rail
A12: =RELEVER!A12 -> ME11 | B12: =RELEVER!B12 -> Galandage | C12: 1 | D12: 1 | F12: 54.4 | G12: =RELEVER!I12 -> 1520 | H12: =RELEVER!J12 -> 2410 | I12: =G12+15 -> 1535 | J12: =RELEVER!Q12 -> 0 | K12: oui | L12: =IF(K12="oui",(G12+I12/2-300)/800,(G12+I12-300)/800+2) -> 2.484375 | M12: =(H12-500)/800+2*2 -> 6.3875 | N12: =L12+M12 -> 8.871875 | P12: =IF(J12=0,"0",G12+I12) -> 0 | R12: =N12 -> 8.871875 | S12: IT 18021895-CP14GG | T12: =L12+M12 -> 8.871875 | U12: =L12+M12 -> 8.871875 | V12: 0 | W12: 0 | X12: =U12 -> 8.871875 | Y12: =G12 -> 1520 | Z12: =I12+50 -> 1585 | AA12: bac 1 rail
A13: =RELEVER!A13 -> ME12 | B13: =RELEVER!B13 -> Galandage | C13: 1 | D13: 1 | F13: 54.4 | G13: =RELEVER!I13 -> 1520 | H13: =RELEVER!J13 -> 2415 | I13: =G13+15 -> 1535 | J13: =RELEVER!Q13 -> 0 | K13: oui | L13: =IF(K13="oui",(G13+I13/2-300)/800,(G13+I13-300)/800+2) -> 2.484375 | M13: =(H13-500)/800+2*2 -> 6.39375 | N13: =L13+M13 -> 8.878125 | P13: =IF(J13=0,"0",G13+I13) -> 0 | R13: =N13 -> 8.878125 | S13: IT 18021895-CP14GG | T13: =L13+M13 -> 8.878125 | U13: =L13+M13 -> 8.878125 | V13: 0 | W13: 0 | X13: =U13 -> 8.878125 | Y13: =G13 -> 1520 | Z13: =I13+50 -> 1585 | AA13: bac 1 rail
A14: =RELEVER!A14 -> ME13 | B14: =RELEVER!B14 -> Galandage | C14: 1 | D14: 1 | F14: 54.4 | G14: =RELEVER!I14 -> 1270 | H14: =RELEVER!J14 -> 2415 | I14: =G14+15 -> 1285 | J14: =RELEVER!Q14 -> 0 | K14: oui | L14: =IF(K14="oui",(G14+I14/2-300)/800,(G14+I14-300)/800+2) -> 2.015625 | M14: =(H14-500)/800+2*2 -> 6.39375 | N14: =L14+M14 -> 8.409375 | P14: =IF(J14=0,"0",G14+I14) -> 0 | R14: =N14 -> 8.409375 | S14: IT 18021895-CP14GG | T14: =L14+M14 -> 8.409375 | U14: =L14+M14 -> 8.409375 | V14: 0 | W14: 0 | X14: =U14 -> 8.409375 | Y14: =G14 -> 1270 | Z14: =I14+50 -> 1335 | AA14: bac 1 rail
A15: =RELEVER!A15 -> ME14 | B15: =RELEVER!B15 -> Galandage | C15: 1 | D15: 1 | F15: 54.4 | G15: =RELEVER!I15 -> 1270 | H15: =RELEVER!J15 -> 2410 | I15: =G15+15 -> 1285 | J15: =RELEVER!Q15 -> 0 | K15: oui | L15: =IF(K15="oui",(G15+I15/2-300)/800,(G15+I15-300)/800+2) -> 2.015625 | M15: =(H15-500)/800+2*2 -> 6.3875 | N15: =L15+M15 -> 8.403125 | P15: =IF(J15=0,"0",G15+I15) -> 0 | R15: =N15 -> 8.403125 | S15: IT 18021895-CP14GG | T15: =L15+M15 -> 8.403125 | U15: =L15+M15 -> 8.403125 | V15: 0 | W15: 0 | X15: =U15 -> 8.403125 | Y15: =G15 -> 1270 | Z15: =I15+50 -> 1335 | AA15: bac 1 rail
A16: =RELEVER!A16 -> ME15 | B16: =RELEVER!B16 -> Fixe | C16: 1 | D16: 1 | F16: 70 | G16: =RELEVER!I16 -> 1020 | H16: =RELEVER!J16 -> 2110 | I16: 0 | J16: =RELEVER!Q16 -> 1000 | K16: oui | L16: =IF(K16="oui",(G16+I16/2-300)/800,(G16+I16-300)/800+2) -> 0.9 | M16: =(H16-500)/800+2*2 -> 6.0125 | N16: =L16+M16 -> 6.9125 | P16: =IF(J16=0,"0",G16+I16) -> 1020 | R16: =N16 -> 6.9125 | S16: IT 18021895-CP14GG | T16: =L16+M16 -> 6.9125 | U16: =L16+M16 -> 6.9125 | V16: 0 | W16: 0 | X16: =U16 -> 6.9125
A17: =RELEVER!A17 -> ME16 | B17: =RELEVER!B17 -> Fixe | C17: 1 | D17: 1 | F17: 70 | G17: =RELEVER!I17 -> 1020 | H17: =RELEVER!J17 -> 2165 | I17: 0 | J17: =RELEVER!Q17 -> 1000 | K17: oui | L17: =IF(K17="oui",(G17+I17/2-300)/800,(G17+I17-300)/800+2) -> 0.9 | M17: =(H17-500)/800+2*2 -> 6.08125 | N17: =L17+M17 -> 6.98125 | P17: =IF(J17=0,"0",G17+I17) -> 1020 | R17: =N17 -> 6.98125 | S17: IT 18021895-CP14GG | T17: =L17+M17 -> 6.98125 | U17: =L17+M17 -> 6.98125 | V17: 0 | W17: 0 | X17: =U17 -> 6.98125
A18: =RELEVER!A18 -> ME17 | B18: =RELEVER!B18 -> Coulissant | C18: 4 | D18: 2 | F18: 125.4 | G18: =RELEVER!I18 -> 8435 | H18: =RELEVER!J18 -> 2985 | I18: 0 | J18: =RELEVER!Q18 -> 0 | K18: non | L18: =IF(K18="oui",(G18+I18/2-300)/800,(G18+I18-300)/800+2) -> 12.16875 | M18: =(H18-500)/800+2*2 -> 7.10625 | N18: =L18+M18 -> 19.275 | O18: PG 0189 | P18: =IF(J18=0,"0",G18+I18) -> 0 | R18: =N18 -> 19.275 | S18: IT 18021895-CP14GG | T18: =L18+M18 -> 19.275 | U18: =L18+M18 -> 19.275 | V18: 0 | W18: 0 | X18: =U18 -> 19.275 | Y18: =G18 -> 8435 | AA18: Bac 2 rails
A19: =RELEVER!A19 -> ME18 | B19: =RELEVER!B19 -> Galandage | C19: 1 | D19: 1 | F19: 54.4 | G19: =RELEVER!I19 -> 1820 | H19: =RELEVER!J19 -> 2410 | I19: =G19+15 -> 1835 | J19: =RELEVER!Q19 -> 0 | K19: oui | L19: =IF(K19="oui",(G19+I19/2-300)/800,(G19+I19-300)/800+2) -> 3.046875 | M19: =(H19-500)/800+2*2 -> 6.3875 | N19: =L19+M19 -> 9.434375 | P19: =IF(J19=0,"0",G19+I19) -> 0 | R19: =N19 -> 9.434375 | S19: IT 18021895-CP14GG | T19: =L19+M19 -> 9.434375 | U19: =L19+M19 -> 9.434375 | V19: 0 | W19: 0 | X19: =U19 -> 9.434375 | Y19: =G19 -> 1820 | Z19: =I19+50 -> 1885 | AA19: bac 1 rail
A20: =RELEVER!A20 -> ME19 | B20: =RELEVER!B20 -> Galandage | C20: 1 | D20: 1 | F20: 54.4 | G20: =RELEVER!I20 -> 915 | H20: =RELEVER!J20 -> 1510 | I20: =G20+15 -> 930 | J20: =RELEVER!Q20 -> 1000 | K20: oui | L20: =IF(K20="oui",(G20+I20/2-300)/800,(G20+I20-300)/800+2) -> 1.35 | M20: =(H20-500)/800+2*2 -> 5.2625 | N20: =L20+M20 -> 6.6125 | P20: =IF(J20=0,"0",G20+I20) -> 1845 | R20: =N20 -> 6.6125 | S20: IT 18021895-CP14GG | T20: =L20+M20 -> 6.6125 | U20: =L20+M20 -> 6.6125 | V20: 0 | W20: 0 | X20: =U20 -> 6.6125 | Y20: =G20 -> 915 | Z20: =I20+50 -> 980 | AA20: bac 1 rail
A21: =RELEVER!A21 -> ME20 | B21: =RELEVER!B21 -> Galandage | C21: 1 | D21: 1 | F21: 54.4 | G21: =RELEVER!I21 -> 1520 | H21: =RELEVER!J21 -> 2415 | I21: =G21+15 -> 1535 | J21: =RELEVER!Q21 -> 0 | K21: oui | L21: =IF(K21="oui",(G21+I21/2-300)/800,(G21+I21-300)/800+2) -> 2.484375 | M21: =(H21-500)/800+2*2 -> 6.39375 | N21: =L21+M21 -> 8.878125 | P21: =IF(J21=0,"0",G21+I21) -> 0 | R21: =N21 -> 8.878125 | S21: IT 18021895-CP14GG | T21: =L21+M21 -> 8.878125 | U21: =L21+M21 -> 8.878125 | V21: 0 | W21: 0 | X21: =U21 -> 8.878125 | Y21: =G21 -> 1520 | Z21: =I21+50 -> 1585 | AA21: bac 1 rail
A22: =RELEVER!A22 -> ME21 | B22: =RELEVER!B22 -> Galandage | C22: 1 | D22: 1 | F22: 54.4 | G22: =RELEVER!I22 -> 1620 | H22: =RELEVER!J22 -> 2530 | I22: =G22+15 -> 1635 | J22: =RELEVER!Q22 -> 0 | K22: oui | L22: =IF(K22="oui",(G22+I22/2-300)/800,(G22+I22-300)/800+2) -> 2.671875 | M22: =(H22-500)/800+2*2 -> 6.5375 | N22: =L22+M22 -> 9.209375 | P22: =IF(J22=0,"0",G22+I22) -> 0 | R22: =N22 -> 9.209375 | S22: IT 18021895-CP14GG | T22: =L22+M22 -> 9.209375 | U22: =L22+M22 -> 9.209375 | V22: 0 | W22: 0 | X22: =U22 -> 9.209375 | Y22: =G22 -> 1620 | Z22: =I22+50 -> 1685 | AA22: bac 1 rail
A23: =RELEVER!A23 -> ME22 | B23: =RELEVER!B23 -> Oscilotbattant | C23: 1 | D23: 0 | F23: 70 | G23: =RELEVER!I23 -> 820 | H23: =RELEVER!J23 -> 1510 | I23: 0 | J23: =RELEVER!Q23 -> 1000 | K23: non | L23: =IF(K23="oui",(G23+I23/2-300)/800,(G23+I23-300)/800+2) -> 2.65 | M23: =(H23-500)/800+2*2 -> 5.2625 | N23: =L23+M23 -> 7.9125 | P23: =IF(J23=0,"0",G23+I23) -> 820 | R23: =N23 -> 7.9125 | S23: IT 18021895-CP14GG | T23: =L23+M23 -> 7.9125 | U23: =L23+M23 -> 7.9125 | V23: 0 | W23: 0 | X23: =U23 -> 7.9125
A24: =RELEVER!A24 -> ME23 | B24: =RELEVER!B24 -> Fixe | C24: 1 | D24: 0 | F24: 70 | G24: =RELEVER!I24 -> 920 | H24: =RELEVER!J24 -> 1510 | I24: 0 | J24: =RELEVER!Q24 -> 0 | K24: non | L24: =IF(K24="oui",(G24+I24/2-300)/800,(G24+I24-300)/800+2) -> 2.775 | M24: =(H24-500)/800+2*2 -> 5.2625 | N24: =L24+M24 -> 8.0375 | P24: =IF(J24=0,"0",G24+I24) -> 0 | R24: =N24 -> 8.0375 | S24: IT 18021895-CP14GG | T24: =L24+M24 -> 8.0375 | U24: =L24+M24 -> 8.0375 | V24: 0 | W24: 0 | X24: =U24 -> 8.0375
A25: =RELEVER!A25 -> ME24 | B25: =RELEVER!B25 -> Fixe | C25: 1 | D25: 0 | F25: 70 | G25: =RELEVER!I25 -> 2460 | H25: =RELEVER!J25 -> 2590 | I25: 0 | J25: =RELEVER!Q25 -> 0 | K25: non | L25: =IF(K25="oui",(G25+I25/2-300)/800,(G25+I25-300)/800+2) -> 4.7 | M25: =(H25-500)/800+2*2 -> 6.6125 | N25: =L25+M25 -> 11.3125 | P25: =IF(J25=0,"0",G25+I25) -> 0 | R25: =N25 -> 11.3125 | S25: IT 18021895-CP14GG | T25: =L25+M25 -> 11.3125 | U25: =L25+M25 -> 11.3125 | V25: 0 | W25: 0 | X25: =U25 -> 11.3125
A26: =RELEVER!A26 -> ME25 | B26: =RELEVER!B26 -> Fixe | C26: 1 | D26: 0 | F26: 70 | G26: =RELEVER!I26 -> 2420 | H26: =RELEVER!J26 -> 2590 | I26: 0 | J26: =RELEVER!Q26 -> 0 | K26: non | L26: =IF(K26="oui",(G26+I26/2-300)/800,(G26+I26-300)/800+2) -> 4.65 | M26: =(H26-500)/800+2*2 -> 6.6125 | N26: =L26+M26 -> 11.2625 | P26: =IF(J26=0,"0",G26+I26) -> 0 | R26: =N26 -> 11.2625 | S26: IT 18021895-CP14GG | T26: =L26+M26 -> 11.2625 | U26: =L26+M26 -> 11.2625 | V26: 0 | W26: 0 | X26: =U26 -> 11.2625
A27: =RELEVER!A27 -> ME26 | B27: =RELEVER!B27 -> Fixe | C27: 1 | D27: 0 | F27: 70 | G27: =RELEVER!I27 -> 2420 | H27: =RELEVER!J27 -> 2590 | I27: 0 | J27: =RELEVER!Q27 -> 0 | K27: non | L27: =IF(K27="oui",(G27+I27/2-300)/800,(G27+I27-300)/800+2) -> 4.65 | M27: =(H27-500)/800+2*2 -> 6.6125 | N27: =L27+M27 -> 11.2625 | P27: =IF(J27=0,"0",G27+I27) -> 0 | R27: =N27 -> 11.2625 | S27: IT 18021895-CP14GG | T27: =L27+M27 -> 11.2625 | U27: =L27+M27 -> 11.2625 | V27: 0 | W27: 0 | X27: =U27 -> 11.2625
A28: =RELEVER!A28 -> ME27 | B28: =RELEVER!B28 -> Coulissant | C28: 4 | D28: 2 | F28: 125.4 | G28: =RELEVER!I28 -> 8895 | H28: =RELEVER!J28 -> 2595 | I28: 0 | J28: =RELEVER!Q28 -> 0 | K28: non | L28: =IF(K28="oui",(G28+I28/2-300)/800,(G28+I28-300)/800+2) -> 12.74375 | M28: =(H28-500)/800+2*2 -> 6.61875 | N28: =L28+M28 -> 19.3625 | O28: PG 0189 | P28: =IF(J28=0,"0",G28+I28) -> 0 | R28: =N28 -> 19.3625 | S28: IT 18021895-CP14GG | T28: =L28+M28 -> 19.3625 | U28: =L28+M28 -> 19.3625 | V28: 0 | W28: 0 | X28: =U28 -> 19.3625 | Y28: =G28 -> 8895 | AA28: bac 2 rails
A29: =RELEVER!A29 -> ME28 | B29: =RELEVER!B29 -> Fixe | C29: 1 | D29: 1 | F29: 70 | G29: =RELEVER!I29 -> 2445 | H29: =RELEVER!J29 -> 2595 | I29: 0 | J29: =RELEVER!Q29 -> 0 | K29: non | L29: =IF(K29="oui",(G29+I29/2-300)/800,(G29+I29-300)/800+2) -> 4.68125 | M29: =(H29-500)/800+2*2 -> 6.61875 | N29: =L29+M29 -> 11.3 | P29: =IF(J29=0,"0",G29+I29) -> 0 | R29: =N29 -> 11.3 | S29: IT 18021895-CP14GG | T29: =L29+M29 -> 11.3 | U29: =L29+M29 -> 11.3 | V29: 0 | W29: 0 | X29: =U29 -> 11.3
A30: =RELEVER!A30 -> ME29 | B30: =RELEVER!B30 -> Fixe | C30: 1 | D30: 1 | F30: 70 | G30: =RELEVER!I30 -> 2430 | H30: =RELEVER!J30 -> 2595 | I30: 0 | J30: =RELEVER!Q30 -> 0 | K30: non | L30: =IF(K30="oui",(G30+I30/2-300)/800,(G30+I30-300)/800+2) -> 4.6625 | M30: =(H30-500)/800+2*2 -> 6.61875 | N30: =L30+M30 -> 11.28125 | P30: =IF(J30=0,"0",G30+I30) -> 0 | R30: =N30 -> 11.28125 | S30: IT 18021895-CP14GG | T30: =L30+M30 -> 11.28125 | U30: =L30+M30 -> 11.28125 | V30: 0 | W30: 0 | X30: =U30 -> 11.28125
A31: =RELEVER!A31 -> ME30 | B31: =RELEVER!B31 -> Fixe | C31: 1 | D31: 1 | F31: 70 | G31: =RELEVER!I31 -> 2445 | H31: =RELEVER!J31 -> 2595 | I31: 0 | J31: =RELEVER!Q31 -> 0 | K31: non | L31: =IF(K31="oui",(G31+I31/2-300)/800,(G31+I31-300)/800+2) -> 4.68125 | M31: =(H31-500)/800+2*2 -> 6.61875 | N31: =L31+M31 -> 11.3 | P31: =IF(J31=0,"0",G31+I31) -> 0 | R31: =N31 -> 11.3 | S31: IT 18021895-CP14GG | T31: =L31+M31 -> 11.3 | U31: =L31+M31 -> 11.3 | V31: 0 | W31: 0 | X31: =U31 -> 11.3
A32: =RELEVER!A32 -> ME31 | B32: =RELEVER!B32 -> Coulissant | C32: 4 | D32: 2 | F32: 125.4 | G32: =RELEVER!I32 -> 8438 | H32: =RELEVER!J32 -> 2985 | I32: 0 | J32: =RELEVER!Q32 -> 0 | K32: non | L32: =IF(K32="oui",(G32+I32/2-300)/800,(G32+I32-300)/800+2) -> 12.1725 | M32: =(H32-500)/800+2*2 -> 7.10625 | N32: =L32+M32 -> 19.27875 | O32: PG 0189 | P32: =IF(J32=0,"0",G32+I32) -> 0 | R32: =N32 -> 19.27875 | S32: IT 18021895-CP14GG | T32: =L32+M32 -> 19.27875 | U32: =L32+M32 -> 19.27875 | V32: 0 | W32: 0 | X32: =U32 -> 19.27875 | Y32: =G32 -> 8438 | AA32: Bacs 2 rails
A33: =RELEVER!A33 -> 0 | B33: =RELEVER!B33 -> Porte garage | C33: 1 | D33: 0 | G33: 3010 | H33: =RELEVER!J33 -> 2460 | I33: 0 | J33: =RELEVER!Q33 -> 0 | K33: - | L33: =IF(K33="oui",(G33+I33/2-300)/800,(G33+I33-300)/800+2) -> 5.3875 | M33: =(H33-500)/800+2*2 -> 6.45 | N33: =L33+M33 -> 11.8375 | P33: =IF(J33=0,"0",G33+I33) -> 0 | R33: =N33 -> 11.8375 | U33: =L33+M33 -> 11.8375 | V33: 0 | W33: 0 | X33: =U33 -> 11.8375
A34: =RELEVER!A34 -> 0 | B34: =RELEVER!B34 -> Porte garage | C34: 1 | D34: 0 | G34: =RELEVER!I34 -> 3010 | H34: =RELEVER!J34 -> 2465 | I34: 0 | J34: =RELEVER!Q34 -> 0 | K34: - | L34: =IF(K34="oui",(G34+I34/2-300)/800,(G34+I34-300)/800+2) -> 5.3875 | M34: =(H34-500)/800+2*2 -> 6.45625 | N34: =L34+M34 -> 11.84375 | P34: =IF(J34=0,"0",G34+I34) -> 0 | R34: =N34 -> 11.84375 | U34: =L34+M34 -> 11.84375 | V34: 0 | W34: 0 | X34: =U34 -> 11.84375
N35: =SUM(N2:N34) -> 331.06437 | P35: =ROUNDUP(SUM(P2:P34)/3000,0) -> 4 | R35: =SUM(R2:R34) -> 331.06437

Sheet PROTECTION
F1: INTERIEUR | O1: EXTERIEUR
A2: REPERE | B2: TYPE | C2: VANTAUX | D2: largeur brut (mm) | E2: hauteur brut (mm) | F2: Profils horizontaux | G2: Quantité | H2: Profils Vericaux | I2: Quantité | J2: hauteur Polycarbonate 4mm | K2: largeur Polycarbonate 4mm | L2: protection profil serrure 2mm | M2: Quantité | N2: VIS | O2: Profils horizontaux | P2: Quantité | Q2: Profils Verticaux | R2: Quantité | S2: hauteur Polycarbonate 4mm | T2: largeur Polycarbonate 4mm | U2: protection profil serrure 2mm | V2: VIS | W2: TOTAL VIS
A3: =RELEVER!A2 -> ME01 | B3: Galandage | C3: 1 | D3: 943 | E3: 2410 | F3: =IFERROR(D3-RELEVER!M2*2-CHOOSE(MATCH(B3,{"Galandage";"Oscilot-battant";"Fixe";"Coulissant"},0),70,60,60,2+(C3-1)*25),"") -> 857 | G3: 2 | H3: =IFERROR(E3-RELEVER!M2-CHOOSE(MATCH(B3,{"Galandage";"Oscilot-battant";"Fixe";"Coulissant"},0),30,30,60,30),"") -> 2372 | I3: 2 | J3: =H3 -> 2372 | K3: =F3 -> 857 | L3: =E3 -> 2410 | M3: 2 | N3: =(((J3+K3)*2)*2)/600+4 -> 25.526667 | O3: =IFERROR(D3-RELEVER!M2*2-CHOOSE(MATCH(B3,{"Galandage";"Oscilot-battant";"Fixe";"Coulissant"},0),27,60,60,2+(C3-1)*25),"") -> 900 | P3: 2 | Q3: =IFERROR(E3-RELEVER!M2-CHOOSE(MATCH(B3,{"Galandage";"Oscilot-battant";"Fixe";"Coulissant"},0),30,101,60,35),"") -> 2372 | R3: 2 | S3: =Q3 -> 2372 | T3: =O3 -> 900 | U3: =S3 -> 2372 | V3: =(((S3+T3)*2)*2)/600+4 -> 25.813333 | W3: =N3+V3 -> 51.34
A4: =RELEVER!A3 -> ME02 | B4: Oscilot-battant | C4: 1 | D4: 945 | E4: 1350 | F4: =IFERROR(D4-RELEVER!M3*2-CHOOSE(MATCH(B4,{"Galandage";"Oscilot-battant";"Fixe";"Coulissant"},0),70,60,60,2+(C4-1)*25),"") -> 869 | G4: 2 | H4: =IFERROR(E4-RELEVER!M3-CHOOSE(MATCH(B4,{"Galandage";"Oscilot-battant";"Fixe";"Coulissant"},0),30,30,60,30),"") -> 1312 | I4: 2 | J4: =H4 -> 1312 | K4: =F4 -> 869 | L4: =E4 -> 1350 | M4: 2 | N4: =(((J4+K4)*2)*2)/600+4 -> 18.54 | O4: =IFERROR(D4-RELEVER!M3*2-CHOOSE(MATCH(B4,{"Galandage";"Oscilot-battant";"Fixe";"Coulissant"},0),27,60,60,2+(C4-1)*25),"") -> 869 | P4: 2 | Q4: =IFERROR(E4-RELEVER!M3-CHOOSE(MATCH(B4,{"Galandage";"Oscilot-battant";"Fixe";"Coulissant"},0),30,101,60,35),"") -> 1241 | R4: 2 | S4: =Q4 -> 1241 | T4: =O4 -> 869 | U4: =S4 -> 1241 | V4: =(((S4+T4)*2)*2)/600+4 -> 18.066667 | W4: =N4+V4 -> 36.606667
A5: =RELEVER!A4 -> ME03 | B5: fixe | C5: 1 | D5: 2710 | E5: 2625 | F5: =IFERROR(D5-RELEVER!M4*2-CHOOSE(MATCH(B5,{"Galandage";"Oscilot-battant";"Fixe";"Coulissant"},0),70,60,60,2+(C5-1)*25),"") -> 2634 | G5: 2 | H5: =IFERROR(E5-RELEVER!M4-CHOOSE(MATCH(B5,{"Galandage";"Oscilot-battant";"Fixe";"Coulissant"},0),30,30,60,30),"") -> 2557 | I5: 2 | J5: =H5 -> 2557 | K5: =F5 -> 2634 | L5: =E5 -> 2625 | M5: 2 | N5: =(((J5+K5)*2)*2)/600+4 -> 38.606667 | O5: =IFERROR(D5-RELEVER!M4*2-CHOOSE(MATCH(B5,{"Galandage";"Oscilot-battant";"Fixe";"Coulissant"},0),27,60,60,2+(C5-1)*25),"") -> 2634 | P5: 2 | Q5: =IFERROR(E5-RELEVER!M4-CHOOSE(MATCH(B5,{"Galandage";"Oscilot-battant";"Fixe";"Coulissant"},0),30,101,60,35),"") -> 2557 | R5: 2 | S5: =Q5 -> 2557 | T5: =O5 -> 2634 | U5: =S5 -> 2557 | V5: =(((S5+T5)*2)*2)/600+4 -> 38.606667 | W5: =N5+V5 -> 77.213333
A6: =RELEVER!A5 -> ME04 | B6: Galandage | C6: 1 | D6: 915 | E6: 1510 | F6: =IFERROR(D6-RELEVER!M5*2-CHOOSE(MATCH(B6,{"Galandage";"Oscilot-battant";"Fixe";"Coulissant"},0),70,60,60,2+(C6-1)*25),"") -> 829 | G6: 2 | H6: =IFERROR(E6-RELEVER!M5-CHOOSE(MATCH(B6,{"Galandage";"Oscilot-battant";"Fixe";"Coulissant"},0),30,30,60,30),"") -> 1472 | I6: 2 | J6: =H6 -> 1472 | K6: =F6 -> 829 | L6: =E6 -> 1510 | M6: 2 | N6: =(((J6+K6)*2)*2)/600+4 -> 19.34 | O6: =IFERROR(D6-RELEVER!M5*2-CHOOSE(MATCH(B6,{"Galandage";"Oscilot-battant";"Fixe";"Coulissant"},0),27,60,60,2+(C6-1)*25),"") -> 872 | P6: 2 | Q6: =IFERROR(E6-RELEVER!M5-CHOOSE(MATCH(B6,{"Galandage";"Oscilot-battant";"Fixe";"Coulissant"},0),30,101,60,35),"") -> 1472 | R6: 2 | S6: =Q6 -> 1472 | T6: =O6 -> 872 | U6: =S6 -> 1472 | V6: =(((S6+T6)*2)*2)/600+4 -> 19.626667 | W6: =N6+V6 -> 38.966667
A7: =RELEVER!A6 -> ME05 | B7: Oscilot-battant | C7: 1 | D7: 620 | E7: 1510 | F7: =IFERROR(D7-RELEVER!M6*2-CHOOSE(MATCH(B7,{"Galandage";"Oscilot-battant";"Fixe";"Coulissant"},0),70,60,60,2+(C7-1)*25),"") -> 544 | G7: 2 | H7: =IFERROR(E7-RELEVER!M6-CHOOSE(MATCH(B7,{"Galandage";"Oscilot-battant";"Fixe";"Coulissant"},0),30,30,60,30),"") -> 1472 | I7: 2 | J7: =H7 -> 1472 | K7: =F7 -> 544 | L7: =E7 -> 1510 | M7: 2 | N7: =(((J7+K7)*2)*2)/600+4 -> 17.44 | O7: =IFERROR(D7-RELEVER!M6*2-CHOOSE(MATCH(B7,{"Galandage";"Oscilot-battant";"Fixe";"Coulissant"},0),27,60,60,2+(C7-1)*25),"") -> 544 | P7: 2 | Q7: =IFERROR(E7-RELEVER!M6-CHOOSE(MATCH(B7,{"Galandage";"Oscilot-battant";"Fixe";"Coulissant"},0),30,101,60,35),"") -> 1401 | R7: 2 | S7: =Q7 -> 1401 | T7: =O7 -> 544 | U7: =S7 -> 1401 | V7: =(((S7+T7)*2)*2)/600+4 -> 16.966667 | W7: =N7+V7 -> 34.406667
A8: =RELEVER!A7 -> ME06 | B8: Oscilot-battant | C8: 1 | D8: 620 | E8: 1510 | F8: =IFERROR(D8-RELEVER!M7*2-CHOOSE(MATCH(B8,{"Galandage";"Oscilot-battant";"Fixe";"Coulissant"},0),70,60,60,2+(C8-1)*25),"") -> 544 | G8: 2 | H8: =IFERROR(E8-RELEVER!M7-CHOOSE(MATCH(B8,{"Galandage";"Oscilot-battant";"Fixe";"Coulissant"},0),30,30,60,30),"") -> 1472 | I8: 2 | J8: =H8 -> 1472 | K8: =F8 -> 544 | L8: =E8 -> 1510 | M8: 2 | N8: =(((J8+K8)*2)*2)/600+4 -> 17.44 | O8: =IFERROR(D8-RELEVER!M7*2-CHOOSE(MATCH(B8,{"Galandage";"Oscilot-battant";"Fixe";"Coulissant"},0),27,60,60,2+(C8-1)*25),"") -> 544 | P8: 2 | Q8: =IFERROR(E8-RELEVER!M7-CHOOSE(MATCH(B8,{"Galandage";"Oscilot-battant";"Fixe";"Coulissant"},0),30,101,60,35),"") -> 1401 | R8: 2 | S8: =Q8 -> 1401 | T8: =O8 -> 544 | U8: =S8 -> 1401 | V8: =(((S8+T8)*2)*2)/600+4 -> 16.966667 | W8: =N8+V8 -> 34.406667
A9: =RELEVER!A8 -> ME07 | B9: Galandage | C9: 1 | D9: 1520 | E9: 2400 | F9: =IFERROR(D9-RELEVER!M8*2-CHOOSE(MATCH(B9,{"Galandage";"Oscilot-battant";"Fixe";"Coulissant"},0),70,60,60,2+(C9-1)*25),"") -> 1434 | G9: 2 | H9: =IFERROR(E9-RELEVER!M8-CHOOSE(MATCH(B9,{"Galandage";"Oscilot-battant";"Fixe";"Coulissant"},0),30,30,60,30),"") -> 2362 | I9: 2 | J9: =H9 -> 2362 | K9: =F9 -> 1434 | L9: =E9 -> 2400 | M9: 2 | N9: =(((J9+K9)*2)*2)/600+4 -> 29.306667 | O9: =IFERROR(D9-RELEVER!M8*2-CHOOSE(MATCH(B9,{"Galandage";"Oscilot-battant";"Fixe";"Coulissant"},0),27,60,60,2+(C9-1)*25),"") -> 1477 | P9: 2 | Q9: =IFERROR(E9-RELEVER!M8-CHOOSE(MATCH(B9,{"Galandage";"Oscilot-battant";"Fixe";"Coulissant"},0),30,101,60,35),"") -> 2362 | R9: 2 | S9: =Q9 -> 2362 | T9: =O9 -> 1477 | U9: =S9 -> 2362 | V9: =(((S9+T9)*2)*2)/600+4 -> 29.593333 | W9: =N9+V9 -> 58.9
A10: =RELEVER!A9 -> ME08 | B10: Oscilot-battant | C10: 1 | D10: 620 | E10: 1510 | F10: =IFERROR(D10-RELEVER!M9*2-CHOOSE(MATCH(B10,{"Galandage";"Oscilot-battant";"Fixe";"Coulissant"},0),70,60,60,2+(C10-1)*25),"") -> 544 | G10: 2 | H10: =IFERROR(E10-RELEVER!M9-CHOOSE(MATCH(B10,{"Galandage";"Oscilot-battant";"Fixe";"Coulissant"},0),30,30,60,30),"") -> 1472 | I10: 2 | J10: =H10 -> 1472 | K10: =F10 -> 544 | L10: =E10 -> 1510 | M10: 2 | N10: =(((J10+K10)*2)*2)/600+4 -> 17.44 | O10: =IFERROR(D10-RELEVER!M9*2-CHOOSE(MATCH(B10,{"Galandage";"Oscilot-battant";"Fixe";"Coulissant"},0),27,60,60,2+(C10-1)*25),"") -> 544 | P10: 2 | Q10: =IFERROR(E10-RELEVER!M9-CHOOSE(MATCH(B10,{"Galandage";"Oscilot-battant";"Fixe";"Coulissant"},0),30,101,60,35),"") -> 1401 | R10: 2 | S10: =Q10 -> 1401 | T10: =O10 -> 544 | U10: =S10 -> 1401 | V10: =(((S10+T10)*2)*2)/600+4 -> 16.966667 | W10: =N10+V10 -> 34.406667
A11: =RELEVER!A10 -> ME09 | B11: Oscilot-battant | C11: 1 | D11: 620 | E11: 1510 | F11: =IFERROR(D11-RELEVER!M10*2-CHOOSE(MATCH(B11,{"Galandage";"Oscilot-battant";"Fixe";"Coulissant"},0),70,60,60,2+(C11-1)*25),"") -> 544 | G11: 2 | H11: =IFERROR(E11-RELEVER!M10-CHOOSE(MATCH(B11,{"Galandage";"Oscilot-battant";"Fixe";"Coulissant"},0),30,30,60,30),"") -> 1472 | I11: 2 | J11: =H11 -> 1472 | K11: =F11 -> 544 | L11: =E11 -> 1510 | M11: 2 | N11: =(((J11+K11)*2)*2)/600+4 -> 17.44 | O11: =IFERROR(D11-RELEVER!M10*2-CHOOSE(MATCH(B11,{"Galandage";"Oscilot-battant";"Fixe";"Coulissant"},0),27,60,60,2+(C11-1)*25),"") -> 544 | P11: 2 | Q11: =IFERROR(E11-RELEVER!M10-CHOOSE(MATCH(B11,{"Galandage";"Oscilot-battant";"Fixe";"Coulissant"},0),30,101,60,35),"") -> 1401 | R11: 2 | S11: =Q11 -> 1401 | T11: =O11 -> 544 | U11: =S11 -> 1401 | V11: =(((S11+T11)*2)*2)/600+4 -> 16.966667 | W11: =N11+V11 -> 34.406667
A12: =RELEVER!A11 -> ME10 | B12: Galandage | C12: 1 | D12: 1620 | E12: 2490 | F12: =IFERROR(D12-RELEVER!M11*2-CHOOSE(MATCH(B12,{"Galandage";"Oscilot-battant";"Fixe";"Coulissant"},0),70,60,60,2+(C12-1)*25),"") -> 1450 | G12: 2 | H12: =IFERROR(E12-RELEVER!M11-CHOOSE(MATCH(B12,{"Galandage";"Oscilot-battant";"Fixe";"Coulissant"},0),30,30,60,30),"") -> 2410 | I12: 2 | J12: =H12 -> 2410 | K12: =F12 -> 1450 | L12: =E12 -> 2490 | M12: 2 | N12: =(((J12+K12)*2)*2)/600+4 -> 29.733333 | O12: =IFERROR(D12-RELEVER!M11*2-CHOOSE(MATCH(B12,{"Galandage";"Oscilot-battant";"Fixe";"Coulissant"},0),27,60,60,2+(C12-1)*25),"") -> 1493 | P12: 2 | Q12: =IFERROR(E12-RELEVER!M11-CHOOSE(MATCH(B12,{"Galandage";"Oscilot-battant";"Fixe";"Coulissant"},0),30,101,60,35),"") -> 2410 | R12: 2 | S12: =Q12 -> 2410 | T12: =O12 -> 1493 | U12: =S12 -> 2410 | V12: =(((S12+T12)*2)*2)/600+4 -> 30.02 | W12: =N12+V12 -> 59.753333
A13: =RELEVER!A12 -> ME11 | B13: Galandage | C13: 1 | D13: 1520 | E13: 2410 | F13: =IFERROR(D13-RELEVER!M12*2-CHOOSE(MATCH(B13,{"Galandage";"Oscilot-battant";"Fixe";"Coulissant"},0),70,60,60,2+(C13-1)*25),"") -> 1434 | G13: 2 | H13: =IFERROR(E13-RELEVER!M12-CHOOSE(MATCH(B13,{"Galandage";"Oscilot-battant";"Fixe";"Coulissant"},0),30,30,60,30),"") -> 2372 | I13: 2 | J13: =H13 -> 2372 | K13: =F13 -> 1434 | L13: =E13 -> 2410 | M13: 2 | N13: =(((J13+K13)*2)*2)/600+4 -> 29.373333 | O13: =IFERROR(D13-RELEVER!M12*2-CHOOSE(MATCH(B13,{"Galandage";"Oscilot-battant";"Fixe";"Coulissant"},0),27,60,60,2+(C13-1)*25),"") -> 1477 | P13: 2 | Q13: =IFERROR(E13-RELEVER!M12-CHOOSE(MATCH(B13,{"Galandage";"Oscilot-battant";"Fixe";"Coulissant"},0),30,101,60,35),"") -> 2372 | R13: 2 | S13: =Q13 -> 2372 | T13: =O13 -> 1477 | U13: =S13 -> 2372 | V13: =(((S13+T13)*2)*2)/600+4 -> 29.66 | W13: =N13+V13 -> 59.033333
A14: =RELEVER!A13 -> ME12 | B14: Galandage | C14: 1 | D14: 1520 | E14: 2415 | F14: =IFERROR(D14-RELEVER!M13*2-CHOOSE(MATCH(B14,{"Galandage";"Oscilot-battant";"Fixe";"Coulissant"},0),70,60,60,2+(C14-1)*25),"") -> 1434 | G14: 2 | H14: =IFERROR(E14-RELEVER!M13-CHOOSE(MATCH(B14,{"Galandage";"Oscilot-battant";"Fixe";"Coulissant"},0),30,30,60,30),"") -> 2377 | I14: 2 | J14: =H14 -> 2377 | K14: =F14 -> 1434 | L14: =E14 -> 2415 | M14: 2 | N14: =(((J14+K14)*2)*2)/600+4 -> 29.406667 | O14: =IFERROR(D14-RELEVER!M13*2-CHOOSE(MATCH(B14,{"Galandage";"Oscilot-battant";"Fixe";"Coulissant"},0),27,60,60,2+(C14-1)*25),"") -> 1477 | P14: 2 | Q14: =IFERROR(E14-RELEVER!M13-CHOOSE(MATCH(B14,{"Galandage";"Oscilot-battant";"Fixe";"Coulissant"},0),30,101,60,35),"") -> 2377 | R14: 2 | S14: =Q14 -> 2377 | T14: =O14 -> 1477 | U14: =S14 -> 2377 | V14: =(((S14+T14)*2)*2)/600+4 -> 29.693333 | W14: =N14+V14 -> 59.1
... A33: =RELEVER!A32 -> ME31 | B33: Coulissant | C33: 4 | D33: 8438 | E33: 2985 | F33: =IFERROR(D33-RELEVER!M32*2-CHOOSE(MATCH(B33,{"Galandage";"Oscilot-battant";"Fixe";"Coulissant"},0),70,60,60,2+(C33-1)*25),"") -> 8345 | G33: 2 | H33: =IFERROR(E33-RELEVER!M32-CHOOSE(MATCH(B33,{"Galandage";"Oscilot-battant";"Fixe";"Coulissant"},0),30,30,60,30),"") -> 2947 | I33: 2 | J33: =H33 -> 2947 | K33: =F33 -> 8345 | L33: =E33 -> 2985 | M33: 2 | N33: =(((J33+K33)*2)*2)/600+4 -> 79.28 | O33: =IFERROR(D33-RELEVER!M32*2-CHOOSE(MATCH(B33,{"Galandage";"Oscilot-battant";"Fixe";"Coulissant"},0),27,60,60,2+(C33-1)*25),"") -> 8345 | P33: 2 | Q33: =IFERROR(E33-RELEVER!M32-CHOOSE(MATCH(B33,{"Galandage";"Oscilot-battant";"Fixe";"Coulissant"},0),30,101,60,35),"") -> 2942 | R33: 2 | S33: =Q33 -> 2942 | T33: =O33 -> 8345 | U33: =S33 -> 2942 | V33: =(((S33+T33)*2)*2)/600+4 -> 79.246667 | W33: =N33+V33 -> 158.52667

Sheet ME01
A3: REPERE MENUISERIE: | C3: =RELEVER!A2 -> ME01
A5: TYPE MENUISERIE: | C5: =RELEVER!B2 -> Galandage
A7: NOMBRE DE VANTAUX: | C7: =RELEVER!C2 -> 1
A9: NOMBRE DE RAILS: | C9: =FOURNITURE!D2 -> 1
A11: DIMENSIONS BRUT: | C11: =RELEVER!I2 -> 943 | D11: x | E11: =RELEVER!J2 -> 2410
A13: DIMENSION FINI: | D13: x
A16: FOURNITURES:
C17: Largeur | D17: hauteur | E17: quantité | F17: références
B18: BACS:
B19: VIS:
B20: BOIS:
B21: Equerre d'appuis:
A24: PROTECTION :
C25: Largeur | D25: hauteur | E25: quantité | F25: références
B26: PLIAGE:
B27: POLYGABONATE INT:
B28: POLYGABONATE EXT:
