Workbook

Sheet RELEVER
A1: RELEVER DES MENUISERIE : PALMIERS 5
A3: REPERE | B3: TYPE | C3: Etage | D3: Localisation | E3: MENUISERIE | F3: Couleur | G3: verre (mm) | H3: largeur brut (mm) | I3: hauteur brut (mm) | J3: hauteur talons | K3: Refoulement | L3: enduit (mm) | M3: isolant+placo (mm) | N3: Placo (mm) | O3: sens ouverture | P3: Allège (mm) | Q3: Griesser | R3: pages | S3: Màj | T3: commande | U3: Poseur
A4: ME01 | B4: Galandage 1 Vantail | C4: Sous-sol | D4: Chambre 7 | E4: ALUMINIUM | F4: NOIR 2100 SABLE | G4: 32 | H4: 943 | I4: 2410 | K4: - | L4: 8 | M4: 200 | N4: 26 | O4: Droite | P4: 0 | Q4: non | R4: 1 | S4: ../../.. | T4: ../../..
A5: ME02 | B5: Oscilotbattant | C5: Sous-sol | D5: Céllier/Buanderie | E5: ALUMINIUM | F5: NOIR 2100 SABLE | G5: 32 | H5: 945 | I5: 1350 | K5: - | L5: 8 | M5: 200 | N5: 26 | O5: Droite | P5: 1000 | Q5: non | R5: 2 | S5: ../../.. | T5: ../../..
A6: ME03 | B6: fixe + porte pivot + fixe | C6: Rez de Chaussée | D6: Hall d'Entrée | E6: ALUMINIUM | F6: NOIR 2100 SABLE | G6: 36 | H6: 2710 | I6: 2625 | K6: - | L6: 8 | M6: 250 | N6: 26 | O6: Gauche | P6: 0 | Q6: non | R6: 3 | S6: 43236 | T6: ../../..
A7: ME04 | B7: Galandage 1 Vantail | C7: Rez de Chaussée | D7: Chambre 4 | E7: ALUMINIUM | F7: NOIR 2100 SABLE | G7: 32 | H7: 915 | I7: 1510 | L7: 8 | M7: 200 | N7: 26 | O7: Gauche | P7: 1000 | Q7: oui | R7: 4 | S7: ../../.. | T7: ../../..
A8: ME05 | B8: Oscilot-battant | C8: Rez de Chaussée | D8: Sde 4 | E8: ALUMINIUM | F8: NOIR 2100 SABLE | G8: 32 | H8: 620 | I8: 1510 | K8: - | L8: 8 | M8: 200 | N8: 26 | O8: Gauche | P8: 1000 | Q8: non | R8: 5 | S8: ../../.. | T8: ../../..
A9: ME06 | B9: Oscilot-battant | C9: Rez de Chaussée | D9: Sde 3 | E9: ALUMINIUM | F9: NOIR 2100 SABLE | G9: 32 | H9: 620 | I9: 1510 | K9: - | L9: 8 | M9: 200 | N9: 26 | O9: Gauche | P9: 1000 | Q9: non | R9: 6 | S9: ../../.. | T9: ../../..
A10: ME07 | B10: Galandage 1 Vantail | C10: Rez de Chaussée | D10: Chambre 3 | E10: ALUMINIUM | F10: NOIR 2100 SABLE | G10: 36 | H10: 1520 | I10: 2400 | L10: 8 | M10: 250 | N10: 26 | O10: Droite | P10: 0 | Q10: oui | R10: 7 | S10: ../../.. | T10: ../../..
A11: ME08 | B11: Oscilotbattant | C11: Rez de Chaussée | D11: Chambre 3 | E11: ALUMINIUM | F11: NOIR 2100 SABLE | G11: 32 | H11: 620 | I11: 1510 | K11: - | L11: 8 | M11: 250 | N11: 26 | O11: Gauche | P11: 1000 | Q11: oui | R11: 8 | S11: ../../.. | T11: ../../..
A12: ME09 | B12: Oscilotbattant | C12: Rez de Chaussée | D12: Sde 2 | E12: ALUMINIUM | F12: NOIR 2100 SABLE | G12: 32 | H12: 620 | I12: 1510 | K12: - | L12: 8 | M12: 200 | N12: 26 | O12: Droite | P12: 1000 | Q12: non | R12: 9 | S12: 43236 | T12: ../../..
A13: ME10 | B13: Galandage 1 Vantail | C13: Rez de Chaussée | D13: Chambre 2 | E13: ALUMINIUM | F13: NOIR 2100 SABLE | G13: 36 | H13: 1620 | I13: 2490 | L13: 8 | M13: 250 | N13: 26 | O13: Droite | P13: 0 | Q13: oui | R13: 10 | S13: ../../.. | T13: ../../..
A14: ME11 | B14: Galandage 1 Vantail | C14: Rez de Chaussée | D14: Sdb 1 | E14: ALUMINIUM | F14: NOIR 2100 SABLE | G14: 36 | H14: 1520 | I14: 2410 | L14: 8 | M14: 250 | N14: 26 | O14: Gauche | P14: 0 | Q14: oui | R14: 11 | S14: 43236 | T14: ../../..
A15: ME12 | B15: Galandage 1 Vantail | C15: Rez de Chaussée | D15: Chambre 1 | E15: ALUMINIUM | F15: NOIR 2100 SABLE | G15: 36 | H15: 1520 | I15: 2415 | L15: 8 | M15: 250 | N15: 26 | O15: Gauche | P15: 0 | Q15: oui | R15: 12 | S15: ../../.. | T15: ../../..
A16: ME13 | B16: Galandage 1 Vantail | C16: Rez de Chaussée | D16: Chambre 1 | E16: ALUMINIUM | F16: NOIR 2100 SABLE | G16: 36 | H16: 1270 | I16: 2415 | L16: 8 | M16: 250 | N16: 26 | O16: Gauche | P16: 0 | Q16: oui | R16: 13 | S16: ../../.. | T16: ../../..
A17: ME14 | B17: Galandage 1 Vantail | C17: Rez de Chaussée | D17: Chambre 1 | E17: ALUMINIUM | F17: NOIR 2100 SABLE | G17: 36 | H17: 1270 | I17: 2410 | L17: 8 | M17: 250 | N17: 26 | O17: Gauche | P17: 0 | Q17: oui | R17: 14 | S17: ../../.. | T17: ../../..
A18: ME15 | B18: Fixe | C18: Rez de Chaussée | D18: Séjour | E18: ALUMINIUM | F18: NOIR 2100 SABLE | G18: 36 | H18: 1020 | I18: 2110 | K18: - | L18: 8 | M18: 200 | N18: 26 | O18: - | P18: 1000 | Q18: oui | R18: 15 | S18: ../../.. | T18: ../../..
A19: ME16 | B19: Fixe | C19: Rez de Chaussée | D19: Séjour | E19: ALUMINIUM | F19: NOIR 2100 SABLE | G19: 36 | H19: 1020 | I19: 2165 | K19: - | L19: 8 | M19: 200 | N19: 26 | O19: - | P19: 1000 | Q19: oui | R19: 16 | S19: ../../.. | T19: ../../..
A20: ME17 | B20: Coulissant 4 Vantaux 2 rails | C20: Rez de Chaussée | D20: Séjour/repas | E20: ALUMINIUM | F20: NOIR 2100 SABLE | G20: 36 | H20: 8435 | I20: 2985 | K20: - | L20: 8 | M20: 200 | N20: 26 | O20: - | P20: 0 | Q20: non | R20: 17 | S20: 43236 | T20: ../../..
A21: ME18 | B21: Galandage 1 Vantail | C21: Rez de Chaussée | D21: Cuisine | E21: ALUMINIUM | F21: NOIR 2100 SABLE | G21: 36 | H21: 1820 | I21: 2410 | L21: 8 | M21: 250 | N21: 26 | O21: Droite | P21: 0 | Q21: oui | R21: 18 | S21: ../../.. | T21: ../../..
A22: ME19 | B22: Galandage 1 Vantail | C22: Rez de Chaussée | D22: Cuisine | E22: ALUMINIUM | F22: NOIR 2100 SABLE | G22: 32 | H22: 915 | I22: 1510 | L22: 8 | M22: 250 | N22: 26 | O22: Droite | P22: 1000 | Q22: oui | R22: 19 | S22: ../../.. | T22: ../../..
A23: ME20 | B23: Galandage 1 Vantail | C23: Rez de Chaussée | D23: Chambre 5 | E23: ALUMINIUM | F23: NOIR 2100 SABLE | G23: 36 | H23: 1520 | I23: 2415 | L23: 8 | M23: 250 | N23: 26 | O23: Droite | P23: 0 | Q23: oui | R23: 20 | S23: ../../.. | T23: ../../..
A24: ME21 | B24: Galandage 1 Vantail | C24: Rez de Chaussée | D24: Chambre 6 | E24: ALUMINIUM | F24: NOIR 2100 SABLE | G24: 36 | H24: 1620 | I24: 2530 | L24: 8 | M24: 250 | N24: 26 | O24: Droite | P24: 0 | Q24: oui | R24: 21 | S24: ../../.. | T24: ../../..
A25: ME22 | B25: Oscilot-battant | C25: Rez de Chaussée | D25: Garage | E25: ALUMINIUM | F25: NOIR 2100 SABLE | G25: 32 | H25: 820 | I25: 1510 | K25: - | L25: 8 | M25: 0 | N25: 26 | O25: Droite | P25: 1000 | Q25: non | R25: 22 | S25: ../../.. | T25: ../../..
A26: ME23 | B26: Fixe | C26: Rez de Chaussée | D26: Escalier | E26: ALUMINIUM | F26: NOIR 2100 SABLE | G26: 32 | H26: 920 | I26: 1510 | K26: - | L26: 8 | M26: 200 | N26: 26 | O26: - | P26: 0 | Q26: non | R26: 23 | S26: 43236 | T26: ../../..
A27: ME24 | B27: Fixe | C27: Rez de Chaussée | D27: Patio | E27: ALUMINIUM | F27: NOIR 2100 SABLE | G27: 36 | H27: 2460 | I27: 2590 | K27: - | L27: 8 | M27: 200 | N27: 26 | O27: - | P27: 0 | Q27: non | R27: 24 | S27: ../../.. | T27: ../../..
A28: ME25 | B28: Fixe | C28: Rez de Chaussée | D28: Patio | E28: ALUMINIUM | F28: NOIR 2100 SABLE | G28: 36 | H28: 2420 | I28: 2590 | K28: - | L28: 8 | M28: 200 | N28: 26 | O28: - | P28: 0 | Q28: non | R28: 25 | S28: ../../.. | T28: ../../..
A29: ME26 | B29: Fixe | C29: Rez de Chaussée | D29: Patio | E29: ALUMINIUM | F29: NOIR 2100 SABLE | G29: 36 | H29: 2420 | I29: 2590 | K29: - | L29: 8 | M29: 200 | N29: 26 | O29: - | P29: 0 | Q29: non | R29: 26 | S29: ../../.. | T29: ../../..
A30: ME27 | B30: Coulissant 4 Vantaux 2 rails | C30: Rez de Chaussée | D30: Patio | E30: ALUMINIUM | F30: NOIR 2100 SABLE | G30: 36 | H30: 8895 | I30: 2595 | K30: - | L30: 8 | M30: 200 | N30: 26 | O30: - | P30: 0 | Q30: non | R30: 27 | S30: ../../.. | T30: ../../..
A31: ME28 | B31: Fixe | C31: Rez de Chaussée | D31: Patio | E31: ALUMINIUM | F31: NOIR 2100 SABLE | G31: 36 | H31: 2445 | I31: 2595 | K31: - | L31: 8 | M31: 200 | N31: 26 | O31: - | P31: 0 | Q31: non | R31: 30 | S31: 43236 | T31: ../../..
A32: ME29 | B32: Fixe | C32: Rez de Chaussée | D32: Patio | E32: ALUMINIUM | F32: NOIR 2100 SABLE | G32: 36 | H32: 2430 | I32: 2595 | K32: - | L32: 8 | M32: 200 | N32: 26 | O32: - | P32: 0 | Q32: non | R32: 31 | S32: ../../.. | T32: ../../..
A33: ME30 | B33: Fixe | C33: Rez de Chaussée | D33: Patio | E33: ALUMINIUM | F33: NOIR 2100 SABLE | G33: 36 | H33: 2445 | I33: 2595 | K33: - | L33: 8 | M33: 200 | N33: 26 | O33: - | P33: 0 | Q33: non | R33: 32 | S33: ../../.. | T33: ../../..
A34: ME31 | B34: Coulissant 4 Vantaux 2 rails | C34: Rez de Chaussée | D34: Patio | E34: ALUMINIUM | F34: NOIR 2100 SABLE | G34: 36 | H34: 8438 | I34: 2985 | K34: - | L34: 8 | M34: 200 | N34: 26 | O34: - | P34: 0 | Q34: non | R34: 33 | S34: 43236 | T34: ../../..
B35: Porte garage | C35: Rez de Chaussée | D35: Garage | E35: ALUMINIUM | F35: NOIR 2100 SABLE | G35: - | H35: b: 3000 h: 3020 | I35: 2460 | K35: - | L35: 8 | M35: - | N35: - | O35: - | P35: 0 | Q35: non | R35: 34 | S35: ../../.. | T35: ../../..
B36: Porte garage | C36: Rez de Chaussée | D36: Garage | E36: ALUMINIUM | F36: NOIR 2100 SABLE | G36: - | H36: 3010 | I36: 2465 | K36: - | L36: 8 | M36: - | N36: - | O36: - | P36: 0 | Q36: non | R36: 35 | S36: ../../.. | T36: ../../..

Sheet FOURNITURE
A1: FOURNITURE
A3: REPERE | B3: TYPE | C3: VANTAUX | D3: RAILS | E3: REF | F3: ep Montant | G3: largeur brut (mm) | H3: hauteur brut (mm) | I3: Refoulement | J3: Allege | K3: Griesser/VR | L3: Equerres longeur | M3: Equerre hauteur | N3: Total | O3: Type | P3: Bande filante (mm) | Q3: type | R3: clameaux | S3: Type | T3: Vis auto-perf 4,8x22 | U3: Vix pentur 6,0x50 | V3: Vis auto-perf 6,3x45 | W3: Goujon 8x91 | X3: Cheville 8x4 | Y3: DIM BACS | Z3: BACS REFOULEMENT | AA3: TYPE
A4: =RELEVER!A4 -> ME01 | B4: Galandage | C4: 1 | D4: 1 | F4: 54.4 | G4: =RELEVER!H4 -> 943 | H4: =RELEVER!I4 -> 2410 | I4: =G4+15 -> 958 | J4: 0 | K4: non | L4: =IF(K4="oui",(G4+I4/2-300)/800,(G4+I4-300)/800+2) -> 4.00125 | M4: =(H4-500)/800+2*2 -> 6.3875 | N4: =L4+M4 -> 10.38875 | P4: =IF(J4=0,"0",G4+I4) -> 0 | R4: =N4 -> 10.38875 | S4: IT 18021895-CP14GG | T4: =L4+M4 -> 10.38875 | U4: =L4+M4 -> 10.38875 | V4: 0 | W4: 0 | X4: =U4 -> 10.38875 | Y4: =G4 -> 943 | Z4: =I4+50 -> 1008 | AA4: bac 1rail
A5: =RELEVER!A5 -> ME02 | B5: Oscilotbattant | C5: 1 | D5: 0 | F5: 70 | G5: =RELEVER!H5 -> 945 | H5: =RELEVER!I5 -> 1350 | I5: 0 | J5: =RELEVER!P5 -> 1000 | K5: non | L5: =IF(K5="oui",(G5+I5/2-300)/800,(G5+I5-300)/800+2) -> 2.80625 | M5: =(H5-500)/800+2*2 -> 5.0625 | N5: =L5+M5 -> 7.86875 | P5: =IF(J5=0,"0",G5+I5) -> 945 | R5: =N5 -> 7.86875 | S5: IT 18021895-CP14GG | T5: =L5+M5 -> 7.86875 | U5: =L5+M5 -> 7.86875 | V5: 0 | W5: 0 | X5: =U5 -> 7.86875
A6: =RELEVER!A6 -> ME03 | B6: fixe | C6: 1 | D6: 0 | F6: 70 | G6: =RELEVER!H6 -> 2710 | H6: =RELEVER!I6 -> 2625 | I6: 0 | J6: 0 | K6: non | L6: =IF(K6="oui",(G6+I6/2-300)/800,(G6+I6-300)/800+2) -> 5.0125 | M6: =(H6-500)/800+2*2 -> 6.65625 | N6: =L6+M6 -> 11.66875 | P6: =IF(J6=0,"0",G6+I6) -> 0 | R6: =N6 -> 11.66875 | S6: IT 18021895-CP14GG | T6: =L6+M6 -> 11.66875 | U6: =L6+M6 -> 11.66875 | V6: 0 | W6: 0 | X6: =U6 -> 11.66875
A7: =RELEVER!A7 -> ME04 | B7: Galandage | C7: 1 | D7: 0 | F7: 54.4 | G7: =RELEVER!H7 -> 915 | H7: =RELEVER!I7 -> 1510 | I7: =G7+15 -> 930 | J7: =RELEVER!P7 -> 1000 | K7: oui | L7: =IF(K7="oui",(G7+I7/2-300)/800,(G7+I7-300)/800+2) -> 1.35 | M7: =(H7-500)/800+2*2 -> 5.2625 | N7: =L7+M7 -> 6.6125 | O7: Eq | P7: =IF(J7=0,"0",G7+I7) -> 1845 | R7: =N7 -> 6.6125 | S7: IT 18021895-CP14GG | T7: =L7+M7 -> 6.6125 | U7: =L7+M7 -> 6.6125 | V7: 0 | W7: 0 | X7: =U7 -> 6.6125 | Y7: =G7 -> 915 | Z7: =I7+50 -> 980 | AA7: bac 1rail
A8: =RELEVER!A8 -> ME05 | B8: Oscilotbattant | C8: 1 | D8: 0 | F8: 70 | G8: =RELEVER!H8 -> 620 | H8: =RELEVER!I8 -> 1510 | I8: 0 | J8: =RELEVER!P8 -> 1000 | K8: non | L8: =IF(K8="oui",(G8+I8/2-300)/800,(G8+I8-300)/800+2) -> 2.4 | M8: =(H8-500)/800+2*2 -> 5.2625 | N8: =L8+M8 -> 7.6625 | P8: =IF(J8=0,"0",G8+I8) -> 620 | R8: =N8 -> 7.6625 | S8: IT 18021895-CP14GG | T8: =L8+M8 -> 7.6625 | U8: =L8+M8 -> 7.6625 | V8: 0 | W8: 0 | X8: =U8 -> 7.6625
A9: =RELEVER!A9 -> ME06 | B9: Oscilotbattant | C9: 1 | D9: 1 | F9: 70 | G9: =RELEVER!H9 -> 620 | H9: =RELEVER!I9 -> 1510 | I9: 0 | J9: =RELEVER!P9 -> 1000 | K9: non | L9: =IF(K9="oui",(G9+I9/2-300)/800,(G9+I9-300)/800+2) -> 2.4 | M9: =(H9-500)/800+2*2 -> 5.2625 | N9: =L9+M9 -> 7.6625 | P9: =IF(J9=0,"0",G9+I9) -> 620 | R9: =N9 -> 7.6625 | S9: IT 18021895-CP14GG | T9: =L9+M9 -> 7.6625 | U9: =L9+M9 -> 7.6625 | V9: 0 | W9: 0 | X9: =U9 -> 7.6625
A10: =RELEVER!A10 -> ME07 | B10: Galandage | C10: 1 | D10: 1 | F10: 54.4 | G10: =RELEVER!H10 -> 1520 | H10: =RELEVER!I10 -> 2400 | I10: =G10+15 -> 1535 | J10: =RELEVER!P10 -> 0 | K10: oui | L10: =IF(K10="oui",(G10+I10/2-300)/800,(G10+I10-300)/800+2) -> 2.484375 | M10: =(H10-500)/800+2*2 -> 6.375 | N10: =L10+M10 -> 8.859375 | P10: =IF(J10=0,"0",G10+I10) -> 0 | R10: =N10 -> 8.859375 | S10: IT 18021895-CP14GG | T10: =L10+M10 -> 8.859375 | U10: =L10+M10 -> 8.859375 | V10: 0 | W10: 0 | X10: =U10 -> 8.859375 | Y10: =G10 -> 1520 | Z10: =I10+50 -> 1585 | AA10: bac 1 rail
A11: =RELEVER!A11 -> ME08 | B11: Oscilotbattant | C11: 1 | D11: 0 | F11: 70 | G11: =RELEVER!H11 -> 620 | H11: =RELEVER!I11 -> 1510 | I11: 0 | J11: =RELEVER!P11 -> 1000 | K11: oui | L11: =IF(K11="oui",(G11+I11/2-300)/800,(G11+I11-300)/800+2) -> 0.4 | M11: =(H11-500)/800+2*2 -> 5.2625 | N11: =L11+M11 -> 5.6625 | P11: =IF(J11=0,"0",G11+I11) -> 620 | R11: =N11 -> 5.6625 | S11: IT 18021895-CP14GG | T11: =L11+M11 -> 5.6625 | U11: =L11+M11 -> 5.6625 | V11: 0 | W11: 0 | X11: =U11 -> 5.6625
A12: =RELEVER!A12 -> ME09 | B12: Oscilotbattant | C12: 1 | D12: 0 | F12: 70 | G12: =RELEVER!H12 -> 620 | H12: =RELEVER!I12 -> 1510 | I12: 0 | J12: =RELEVER!P12 -> 1000 | K12: non | L12: =IF(K12="oui",(G12+I12/2-300)/800,(G12+I12-300)/800+2) -> 2.4 | M12: =(H12-500)/800+2*2 -> 5.2625 | N12: =L12+M12 -> 7.6625 | P12: =IF(J12=0,"0",G12+I12) -> 620 | R12: =N12 -> 7.6625 | S12: IT 18021895-CP14GG | T12: =L12+M12 -> 7.6625 | U12: =L12+M12 -> 7.6625 | V12: 0 | W12: 0 | X12: =U12 -> 7.6625
A13: =RELEVER!A13 -> ME10 | B13: Galandage | C13: 1 | D13: 1 | F13: 54.4 | G13: =RELEVER!H13 -> 1620 | H13: =RELEVER!I13 -> 2490 | I13: =G13+15 -> 1635 | J13: =RELEVER!P13 -> 0 | K13: oui | L13: =IF(K13="oui",(G13+I13/2-300)/800,(G13+I13-300)/800+2) -> 2.671875 | M13: =(H13-500)/800+2*2 -> 6.4875 | N13: =L13+M13 -> 9.159375 | P13: =IF(J13=0,"0",G13+I13) -> 0 | R13: =N13 -> 9.159375 | S13: IT 18021895-CP14GG | T13: =L13+M13 -> 9.159375 | U13: =L13+M13 -> 9.159375 | V13: 0 | W13: 0 | X13: =U13 -> 9.159375 | Y13: =G13 -> 1620 | Z13: =I13+50 -> 1685 | AA13: bac 1 rail
A14: =RELEVER!A14 -> ME11 | B14: Galandage | C14: 1 | D14: 1 | F14: 54.4 | G14: =RELEVER!H14 -> 1520 | H14: =RELEVER!I14 -> 2410 | I14: =G14+15 -> 1535 | J14: =RELEVER!P14 -> 0 | K14: oui | L14: =IF(K14="oui",(G14+I14/2-300)/800,(G14+I14-300)/800+2) -> 2.484375 | M14: =(H14-500)/800+2*2 -> 6.3875 | N14: =L14+M14 -> 8.871875 | P14: =IF(J14=0,"0",G14+I14) -> 0 | R14: =N14 -> 8.871875 | S14: IT 18021895-CP14GG | T14: =L14+M14 -> 8.871875 | U14: =L14+M14 -> 8.871875 | V14: 0 | W14: 0 | X14: =U14 -> 8.871875 | Y14: =G14 -> 1520 | Z14: =I14+50 -> 1585 | AA14: bac 1 rail
A15: =RELEVER!A15 -> ME12 | B15: Galandage | C15: 1 | D15: 1 | F15: 54.4 | G15: =RELEVER!H15 -> 1520 | H15: =RELEVER!I15 -> 2415 | I15: =G15+15 -> 1535 | J15: =RELEVER!P15 -> 0 | K15: oui | L15: =IF(K15="oui",(G15+I15/2-300)/800,(G15+I15-300)/800+2) -> 2.484375 | M15: =(H15-500)/800+2*2 -> 6.39375 | N15: =L15+M15 -> 8.878125 | P15: =IF(J15=0,"0",G15+I15) -> 0 | R15: =N15 -> 8.878125 | S15: IT 18021895-CP14GG | T15: =L15+M15 -> 8.878125 | U15: =L15+M15 -> 8.878125 | V15: 0 | W15: 0 | X15: =U15 -> 8.878125 | Y15: =G15 -> 1520 | Z15: =I15+50 -> 1585 | AA15: bac 1 rail
A16: =RELEVER!A16 -> ME13 | B16: Galandage | C16: 1 | D16: 1 | F16: 54.4 | G16: =RELEVER!H16 -> 1270 | H16: =RELEVER!I16 -> 2415 | I16: =G16+15 -> 1285 | J16: =RELEVER!P16 -> 0 | K16: oui | L16: =IF(K16="oui",(G16+I16/2-300)/800,(G16+I16-300)/800+2) -> 2.015625 | M16: =(H16-500)/800+2*2 -> 6.39375 | N16: =L16+M16 -> 8.409375 | P16: =IF(J16=0,"0",G16+I16) -> 0 | R16: =N16 -> 8.409375 | S16: IT 18021895-CP14GG | T16: =L16+M16 -> 8.409375 | U16: =L16+M16 -> 8.409375 | V16: 0 | W16: 0 | X16: =U16 -> 8.409375 | Y16: =G16 -> 1270 | Z16: =I16+50 -> 1335 | AA16: bac 1 rail
A17: =RELEVER!A17 -> ME14 | B17: Galandage | C17: 1 | D17: 1 | F17: 54.4 | G17: =RELEVER!H17 -> 1270 | H17: =RELEVER!I17 -> 2410 | I17: =G17+15 -> 1285 | J17: =RELEVER!P17 -> 0 | K17: oui | L17: =IF(K17="oui",(G17+I17/2-300)/800,(G17+I17-300)/800+2) -> 2.015625 | M17: =(H17-500)/800+2*2 -> 6.3875 | N17: =L17+M17 -> 8.403125 | P17: =IF(J17=0,"0",G17+I17) -> 0 | R17: =N17 -> 8.403125 | S17: IT 18021895-CP14GG | T17: =L17+M17 -> 8.403125 | U17: =L17+M17 -> 8.403125 | V17: 0 | W17: 0 | X17: =U17 -> 8.403125 | Y17: =G17 -> 1270 | Z17: =I17+50 -> 1335 | AA17: bac 1 rail
A18: =RELEVER!A18 -> ME15 | B18: Fixe | C18: 1 | D18: 1 | F18: 70 | G18: =RELEVER!H18 -> 1020 | H18: =RELEVER!I18 -> 2110 | I18: 0 | J18: =RELEVER!P18 -> 1000 | K18: oui | L18: =IF(K18="oui",(G18+I18/2-300)/800,(G18+I18-300)/800+2) -> 0.9 | M18: =(H18-500)/800+2*2 -> 6.0125 | N18: =L18+M18 -> 6.9125 | P18: =IF(J18=0,"0",G18+I18) -> 1020 | R18: =N18 -> 6.9125 | S18: IT 18021895-CP14GG | T18: =L18+M18 -> 6.9125 | U18: =L18+M18 -> 6.9125 | V18: 0 | W18: 0 | X18: =U18 -> 6.9125
A19: =RELEVER!A19 -> ME16 | B19: Fixe | C19: 1 | D19: 1 | F19: 70 | G19: =RELEVER!H19 -> 1020 | H19: =RELEVER!I19 -> 2165 | I19: 0 | J19: =RELEVER!P19 -> 1000 | K19: oui | L19: =IF(K19="oui",(G19+I19/2-300)/800,(G19+I19-300)/800+2) -> 0.9 | M19: =(H19-500)/800+2*2 -> 6.08125 | N19: =L19+M19 -> 6.98125 | P19: =IF(J19=0,"0",G19+I19) -> 1020 | R19: =N19 -> 6.98125 | S19: IT 18021895-CP14GG | T19: =L19+M19 -> 6.98125 | U19: =L19+M19 -> 6.98125 | V19: 0 | W19: 0 | X19: =U19 -> 6.98125
A20: =RELEVER!A20 -> ME17 | B20: Coulissant | C20: 4 | D20: 2 | F20: 125.4 | G20: =RELEVER!H20 -> 8435 | H20: =RELEVER!I20 -> 2985 | I20: 0 | J20: =RELEVER!P20 -> 0 | K20: non | L20: =IF(K20="oui",(G20+I20/2-300)/800,(G20+I20-300)/800+2) -> 12.16875 | M20: =(H20-500)/800+2*2 -> 7.10625 | N20: =L20+M20 -> 19.275 | O20: PG 0189 | P20: =IF(J20=0,"0",G20+I20) -> 0 | R20: =N20 -> 19.275 | S20: IT 18021895-CP14GG | T20: =L20+M20 -> 19.275 | U20: =L20+M20 -> 19.275 | V20: 0 | W20: 0 | X20: =U20 -> 19.275 | Y20: =G20 -> 8435 | AA20: Bac 2 rails
A21: =RELEVER!A21 -> ME18 | B21: Galandage | C21: 1 | D21: 1 | F21: 54.4 | G21: =RELEVER!H21 -> 1820 | H21: =RELEVER!I21 -> 2410 | I21: =G21+15 -> 1835 | J21: =RELEVER!P21 -> 0 | K21: oui | L21: =IF(K21="oui",(G21+I21/2-300)/800,(G21+I21-300)/800+2) -> 3.046875 | M21: =(H21-500)/800+2*2 -> 6.3875 | N21: =L21+M21 -> 9.434375 | P21: =IF(J21=0,"0",G21+I21) -> 0 | R21: =N21 -> 9.434375 | S21: IT 18021895-CP14GG | T21: =L21+M21 -> 9.434375 | U21: =L21+M21 -> 9.434375 | V21: 0 | W21: 0 | X21: =U21 -> 9.434375 | Y21: =G21 -> 1820 | Z21: =I21+50 -> 1885 | AA21: bac 1 rail
A22: =RELEVER!A22 -> ME19 | B22: Galandage | C22: 1 | D22: 1 | F22: 54.4 | G22: =RELEVER!H22 -> 915 | H22: =RELEVER!I22 -> 1510 | I22: =G22+15 -> 930 | J22: =RELEVER!P22 -> 1000 | K22: oui | L22: =IF(K22="oui",(G22+I22/2-300)/800,(G22+I22-300)/800+2) -> 1.35 | M22: =(H22-500)/800+2*2 -> 5.2625 | N22: =L22+M22 -> 6.6125 | P22: =IF(J22=0,"0",G22+I22) -> 1845 | R22: =N22 -> 6.6125 | S22: IT 18021895-CP14GG | T22: =L22+M22 -> 6.6125 | U22: =L22+M22 -> 6.6125 | V22: 0 | W22: 0 | X22: =U22 -> 6.6125 | Y22: =G22 -> 915 | Z22: =I22+50 -> 980 | AA22: bac 1 rail
A23: =RELEVER!A23 -> ME20 | B23: Galandage | C23: 1 | D23: 1 | F23: 54.4 | G23: =RELEVER!H23 -> 1520 | H23: =RELEVER!I23 -> 2415 | I23: =G23+15 -> 1535 | J23: =RELEVER!P23 -> 0 | K23: oui | L23: =IF(K23="oui",(G23+I23/2-300)/800,(G23+I23-300)/800+2) -> 2.484375 | M23: =(H23-500)/800+2*2 -> 6.39375 | N23: =L23+M23 -> 8.878125 | P23: =IF(J23=0,"0",G23+I23) -> 0 | R23: =N23 -> 8.878125 | S23: IT 18021895-CP14GG | T23: =L23+M23 -> 8.878125 | U23: =L23+M23 -> 8.878125 | V23: 0 | W23: 0 | X23: =U23 -> 8.878125 | Y23: =G23 -> 1520 | Z23: =I23+50 -> 1585 | AA23: bac 1 rail
A24: =RELEVER!A24 -> ME21 | B24: Galandage | C24: 1 | D24: 1 | F24: 54.4 | G24: =RELEVER!H24 -> 1620 | H24: =RELEVER!I24 -> 2530 | I24: =G24+15 -> 1635 | J24: =RELEVER!P24 -> 0 | K24: oui | L24: =IF(K24="oui",(G24+I24/2-300)/800,(G24+I24-300)/800+2) -> 2.671875 | M24: =(H24-500)/800+2*2 -> 6.5375 | N24: =L24+M24 -> 9.209375 | P24: =IF(J24=0,"0",G24+I24) -> 0 | R24: =N24 -> 9.209375 | S24: IT 18021895-CP14GG | T24: =L24+M24 -> 9.209375 | U24: =L24+M24 -> 9.209375 | V24: 0 | W24: 0 | X24: =U24 -> 9.209375 | Y24: =G24 -> 1620 | Z24: =I24+50 -> 1685 | AA24: bac 1 rail
A25: =RELEVER!A25 -> ME22 | B25: Oscilotbattant | C25: 1 | D25: 0 | F25: 70 | G25: =RELEVER!H25 -> 820 | H25: =RELEVER!I25 -> 1510 | I25: 0 | J25: =RELEVER!P25 -> 1000 | K25: non | L25: =IF(K25="oui",(G25+I25/2-300)/800,(G25+I25-300)/800+2) -> 2.65 | M25: =(H25-500)/800+2*2 -> 5.2625 | N25: =L25+M25 -> 7.9125 | P25: =IF(J25=0,"0",G25+I25) -> 820 | R25: =N25 -> 7.9125 | S25: IT 18021895-CP14GG | T25: =L25+M25 -> 7.9125 | U25: =L25+M25 -> 7.9125 | V25: 0 | W25: 0 | X25: =U25 -> 7.9125
A26: =RELEVER!A26 -> ME23 | B26: Fixe | C26: 1 | D26: 0 | F26: 70 | G26: =RELEVER!H26 -> 920 | H26: =RELEVER!I26 -> 1510 | I26: 0 | J26: =RELEVER!P26 -> 0 | K26: non | L26: =IF(K26="oui",(G26+I26/2-300)/800,(G26+I26-300)/800+2) -> 2.775 | M26: =(H26-500)/800+2*2 -> 5.2625 | N26: =L26+M26 -> 8.0375 | P26: =IF(J26=0,"0",G26+I26) -> 0 | R26: =N26 -> 8.0375 | S26: IT 18021895-CP14GG | T26: =L26+M26 -> 8.0375 | U26: =L26+M26 -> 8.0375 | V26: 0 | W26: 0 | X26: =U26 -> 8.0375
A27: =RELEVER!A27 -> ME24 | B27: Fixe | C27: 1 | D27: 0 | F27: 70 | G27: =RELEVER!H27 -> 2460 | H27: =RELEVER!I27 -> 2590 | I27: 0 | J27: =RELEVER!P27 -> 0 | K27: non | L27: =IF(K27="oui",(G27+I27/2-300)/800,(G27+I27-300)/800+2) -> 4.7 | M27: =(H27-500)/800+2*2 -> 6.6125 | N27: =L27+M27 -> 11.3125 | P27: =IF(J27=0,"0",G27+I27) -> 0 | R27: =N27 -> 11.3125 | S27: IT 18021895-CP14GG | T27: =L27+M27 -> 11.3125 | U27: =L27+M27 -> 11.3125 | V27: 0 | W27: 0 | X27: =U27 -> 11.3125
A28: =RELEVER!A28 -> ME25 | B28: Fixe | C28: 1 | D28: 0 | F28: 70 | G28: =RELEVER!H28 -> 2420 | H28: =RELEVER!I28 -> 2590 | I28: 0 | J28: =RELEVER!P28 -> 0 | K28: non | L28: =IF(K28="oui",(G28+I28/2-300)/800,(G28+I28-300)/800+2) -> 4.65 | M28: =(H28-500)/800+2*2 -> 6.6125 | N28: =L28+M28 -> 11.2625 | P28: =IF(J28=0,"0",G28+I28) -> 0 | R28: =N28 -> 11.2625 | S28: IT 18021895-CP14GG | T28: =L28+M28 -> 11.2625 | U28: =L28+M28 -> 11.2625 | V28: 0 | W28: 0 | X28: =U28 -> 11.2625
A29: =RELEVER!A29 -> ME26 | B29: Fixe | C29: 1 | D29: 0 | F29: 70 | G29: =RELEVER!H29 -> 2420 | H29: =RELEVER!I29 -> 2590 | I29: 0 | J29: =RELEVER!P29 -> 0 | K29: non | L29: =IF(K29="oui",(G29+I29/2-300)/800,(G29+I29-300)/800+2) -> 4.65 | M29: =(H29-500)/800+2*2 -> 6.6125 | N29: =L29+M29 -> 11.2625 | P29: =IF(J29=0,"0",G29+I29) -> 0 | R29: =N29 -> 11.2625 | S29: IT 18021895-CP14GG | T29: =L29+M29 -> 11.2625 | U29: =L29+M29 -> 11.2625 | V29: 0 | W29: 0 | X29: =U29 -> 11.2625
A30: =RELEVER!A30 -> ME27 | B30: Coulissant | C30: 4 | D30: 2 | F30: 125.4 | G30: =RELEVER!H30 -> 8895 | H30: =RELEVER!I30 -> 2595 | I30: 0 | J30: =RELEVER!P30 -> 0 | K30: non | L30: =IF(K30="oui",(G30+I30/2-300)/800,(G30+I30-300)/800+2) -> 12.74375 | M30: =(H30-500)/800+2*2 -> 6.61875 | N30: =L30+M30 -> 19.3625 | O30: PG 0189 | P30: =IF(J30=0,"0",G30+I30) -> 0 | R30: =N30 -> 19.3625 | S30: IT 18021895-CP14GG | T30: =L30+M30 -> 19.3625 | U30: =L30+M30 -> 19.3625 | V30: 0 | W30: 0 | X30: =U30 -> 19.3625 | Y30: =G30 -> 8895 | AA30: bac 2 rails
A31: =RELEVER!A31 -> ME28 | B31: Fixe | C31: 1 | D31: 1 | F31: 70 | G31: =RELEVER!H31 -> 2445 | H31: =RELEVER!I31 -> 2595 | I31: 0 | J31: =RELEVER!P31 -> 0 | K31: non | L31: =IF(K31="oui",(G31+I31/2-300)/800,(G31+I31-300)/800+2) -> 4.68125 | M31: =(H31-500)/800+2*2 -> 6.61875 | N31: =L31+M31 -> 11.3 | P31: =IF(J31=0,"0",G31+I31) -> 0 | R31: =N31 -> 11.3 | S31: IT 18021895-CP14GG | T31: =L31+M31 -> 11.3 | U31: =L31+M31 -> 11.3 | V31: 0 | W31: 0 | X31: =U31 -> 11.3
A32: =RELEVER!A32 -> ME29 | B32: Fixe | C32: 1 | D32: 1 | F32: 70 | G32: =RELEVER!H32 -> 2430 | H32: =RELEVER!I32 -> 2595 | I32: 0 | J32: =RELEVER!P32 -> 0 | K32: non | L32: =IF(K32="oui",(G32+I32/2-300)/800,(G32+I32-300)/800+2) -> 4.6625 | M32: =(H32-500)/800+2*2 -> 6.61875 | N32: =L32+M32 -> 11.28125 | P32: =IF(J32=0,"0",G32+I32) -> 0 | R32: =N32 -> 11.28125 | S32: IT 18021895-CP14GG | T32: =L32+M32 -> 11.28125 | U32: =L32+M32 -> 11.28125 | V32: 0 | W32: 0 | X32: =U32 -> 11.28125
A33: =RELEVER!A33 -> ME30 | B33: Fixe | C33: 1 | D33: 1 | F33: 70 | G33: =RELEVER!H33 -> 2445 | H33: =RELEVER!I33 -> 2595 | I33: 0 | J33: =RELEVER!P33 -> 0 | K33: non | L33: =IF(K33="oui",(G33+I33/2-300)/800,(G33+I33-300)/800+2) -> 4.68125 | M33: =(H33-500)/800+2*2 -> 6.61875 | N33: =L33+M33 -> 11.3 | P33: =IF(J33=0,"0",G33+I33) -> 0 | R33: =N33 -> 11.3 | S33: IT 18021895-CP14GG | T33: =L33+M33 -> 11.3 | U33: =L33+M33 -> 11.3 | V33: 0 | W33: 0 | X33: =U33 -> 11.3
A34: =RELEVER!A34 -> ME31 | B34: Coulissant | C34: 4 | D34: 2 | F34: 125.4 | G34: =RELEVER!H34 -> 8438 | H34: =RELEVER!I34 -> 2985 | I34: 0 | J34: =RELEVER!P34 -> 0 | K34: non | L34: =IF(K34="oui",(G34+I34/2-300)/800,(G34+I34-300)/800+2) -> 12.1725 | M34: =(H34-500)/800+2*2 -> 7.10625 | N34: =L34+M34 -> 19.27875 | O34: PG 0189 | P34: =IF(J34=0,"0",G34+I34) -> 0 | R34: =N34 -> 19.27875 | S34: IT 18021895-CP14GG | T34: =L34+M34 -> 19.27875 | U34: =L34+M34 -> 19.27875 | V34: 0 | W34: 0 | X34: =U34 -> 19.27875 | Y34: =G34 -> 8438 | AA34: Bacs 2 rails
A35: =RELEVER!A35 -> 0 | B35: Porte garage | C35: 1 | D35: 0 | G35: 3010 | H35: =RELEVER!I35 -> 2460 | I35: 0 | J35: =RELEVER!P35 -> 0 | K35: - | L35: =IF(K35="oui",(G35+I35/2-300)/800,(G35+I35-300)/800+2) -> 5.3875 | M35: =(H35-500)/800+2*2 -> 6.45 | N35: =L35+M35 -> 11.8375 | P35: =IF(J35=0,"0",G35+I35) -> 0 | R35: =N35 -> 11.8375 | U35: =L35+M35 -> 11.8375 | V35: 0 | W35: 0 | X35: =U35 -> 11.8375
A36: =RELEVER!A36 -> 0 | B36: Porte garage | C36: 1 | D36: 0 | G36: =RELEVER!H36 -> 3010 | H36: =RELEVER!I36 -> 2465 | I36: 0 | J36: =RELEVER!P36 -> 0 | K36: - | L36: =IF(K36="oui",(G36+I36/2-300)/800,(G36+I36-300)/800+2) -> 5.3875 | M36: =(H36-500)/800+2*2 -> 6.45625 | N36: =L36+M36 -> 11.84375 | P36: =IF(J36=0,"0",G36+I36) -> 0 | R36: =N36 -> 11.84375 | U36: =L36+M36 -> 11.84375 | V36: 0 | W36: 0 | X36: =U36 -> 11.84375
A37: =RELEVER!A37 -> 0 | N37: =SUM(N4:N36) -> 331.06437 | P37: =ROUNDUP(SUM(P4:P36)/3000,0) -> 4 | R37: =SUM(R4:R36) -> 331.06437

Sheet PROTECTION
F2: INTERIEUR | M2: EXTERIEUR
A3: REPERE | B3: TYPE | C3: VANTAUX | D3: largeur brut (mm) | E3: hauteur brut (mm) | F3: Profils horizontauxhaut | G3: Profils horizontaux bas | H3: Profils Vericaux | I3: hauteur Polycarbonate 4mm | J3: largeur Polycarbonate 4mm | K3: protection profil serrure 2mm | L3: VIS | M3: Profils horizontauxhaut | N3: Profils horizontaux bas | O3: Profils Verticaux | P3: hauteur Polycarbonate 4mm | Q3: largeur Polycarbonate 4mm | R3: protection profil serrure 2mm | S3: VIS
A4: =RELEVER!A4 -> ME01 | B4: Galandage | C4: 1 | D4: 943 | E4: 2410 | F4: =IF(B4="galandage",D4-(RELEVER!L4*2)-2,IF(AND(B4="Oscilotbattant",D4-(RELEVER!L4*2)-30),IF(AND(B4="Fixe",D4-(2*RELEVER!L4)-60),IF(AND(B4="Coulissant",D4-(RELEVER!L4*2)-2-((C4-1)*25)),"")))) -> 925 | G4: =D4-(RELEVER!L4*2)-2 -> 925 | H4: =E4-(RELEVER!L4*2)-2 -> 2392 | I4: =E4-(RELEVER!L4*2)-30 -> 2364 | J4: =D4-(RELEVER!L4*2)-52 -> 875 | K4: =E4 -> 2410 | L4: =(I4+J4)*2/600+4 -> 14.796667 | M4: =D4-(RELEVER!L4*2)-26 -> 901 | N4: =D4-(RELEVER!L4*2)-26 -> 901 | O4: =E4-RELEVER!L4-26 -> 2376 | P4: =O4 -> 2376 | Q4: =N4 -> 901 | R4: =P4 -> 2376 | S4: =(P4+Q4)*2/600+4 -> 14.923333
A5: =RELEVER!A5 -> ME02 | B5: Oscilotbattant | C5: 1 | D5: 945 | E5: 1350 | F5: =IF(B5="galandage",D5-(RELEVER!L5*2)-2,IF(AND(B5="Oscilotbattant",D5-(RELEVER!L5*2)-30),IF(AND(B5="Fixe",D5-(2*RELEVER!L5)-60),IF(AND(B5="Coulissant",D5-(RELEVER!L5*2)-2-((C5-1)*25)),"")))) -> FALSE | G5: =D5-(RELEVER!L5*2)-52 -> 877 | H5: =E5-(RELEVER!L5*2)-30 -> 1304 | I5: =E5-(RELEVER!L5*2)-30 -> 1304 | J5: =D5-(RELEVER!L5*2)-52 -> 877 | K5: =E5 -> 1350 | L5: =(I5+J5)*2/600+4 -> 11.27 | M5: =D5-(RELEVER!L5*2)-2 -> 927 | N5: =D5-(RELEVER!L5*2)-26 -> 903 | O5: =E5-RELEVER!L5-26 -> 1316 | P5: =O5 -> 1316 | Q5: =N5 -> 903 | R5: =P5 -> 1316 | S5: =(P5+Q5)*2/600+4 -> 11.396667
A6: =RELEVER!A6 -> ME03 | B6: fixe | C6: 1 | D6: 2710 | E6: 2625 | F6: =IF(B6="galandage",D6-(RELEVER!L6*2)-2,IF(AND(B6="Oscilotbattant",D6-(RELEVER!L6*2)-30),IF(AND(B6="Fixe",D6-(2*RELEVER!L6)-60),IF(AND(B6="Coulissant",D6-(RELEVER!L6*2)-2-((C6-1)*25)),"")))) -> FALSE | G6: =D6-(RELEVER!L6*2)-52 -> 2642 | H6: =E6-(RELEVER!L6*2)-30 -> 2579 | I6: =E6-(RELEVER!L6*2)-30 -> 2579 | J6: =D6-(RELEVER!L6*2)-52 -> 2642 | K6: =E6 -> 2625 | L6: =(I6+J6)*2/600+4 -> 21.403333 | M6: =D6-(RELEVER!L6*2)-2 -> 2692 | N6: =D6-(RELEVER!L6*2)-26 -> 2668 | O6: =E6-RELEVER!L6-26 -> 2591 | P6: =O6 -> 2591 | Q6: =N6 -> 2668 | R6: =P6 -> 2591 | S6: =(P6+Q6)*2/600+4 -> 21.53
A7: =RELEVER!A7 -> ME04 | B7: Galandage | C7: 1 | D7: 915 | E7: 1510 | F7: =IF(B7="galandage",D7-(RELEVER!L7*2)-2,IF(AND(B7="Oscilotbattant",D7-(RELEVER!L7*2)-30),IF(AND(B7="Fixe",D7-(2*RELEVER!L7)-60),IF(AND(B7="Coulissant",D7-(RELEVER!L7*2)-2-((C7-1)*25)),"")))) -> 897 | G7: =D7-(RELEVER!L7*2)-52 -> 847 | H7: =E7-(RELEVER!L7*2)-30 -> 1464 | I7: =E7-(RELEVER!L7*2)-30 -> 1464 | J7: =D7-(RELEVER!L7*2)-52 -> 847 | K7: =E7 -> 1510 | L7: =(I7+J7)*2/600+4 -> 11.703333 | M7: =D7-(RELEVER!L7*2)-2 -> 897 | N7: =D7-(RELEVER!L7*2)-26 -> 873 | O7: =E7-RELEVER!L7-26 -> 1476 | P7: =O7 -> 1476 | Q7: =N7 -> 873 | R7: =P7 -> 1476 | S7: =(P7+Q7)*2/600+4 -> 11.83
A8: =RELEVER!A8 -> ME05 | B8: Oscilot-battant | C8: 1 | D8: 620 | E8: 1510 | F8: =IF(B8="galandage",D8-(RELEVER!L8*2)-2,IF(AND(B8="Oscilotbattant",D8-(RELEVER!L8*2)-30),IF(AND(B8="Fixe",D8-(2*RELEVER!L8)-60),IF(AND(B8="Coulissant",D8-(RELEVER!L8*2)-2-((C8-1)*25)),"")))) -> FALSE | G8: =D8-(RELEVER!L8*2)-52 -> 552 | H8: =E8-(RELEVER!L8*2)-30 -> 1464 | I8: =E8-(RELEVER!L8*2)-30 -> 1464 | J8: =D8-(RELEVER!L8*2)-52 -> 552 | K8: =E8 -> 1510 | L8: =(I8+J8)*2/600+4 -> 10.72 | M8: =D8-(RELEVER!L8*2)-2 -> 602 | N8: =D8-(RELEVER!L8*2)-26 -> 578 | O8: =E8-RELEVER!L8-26 -> 1476 | P8: =O8 -> 1476 | Q8: =N8 -> 578 | R8: =P8 -> 1476 | S8: =(P8+Q8)*2/600+4 -> 10.846667
A9: =RELEVER!A9 -> ME06 | B9: Oscilot-battant | C9: 1 | D9: 620 | E9: 1510 | F9: =IF(B9="galandage",D9-(RELEVER!L9*2)-2,IF(AND(B9="Oscilotbattant",D9-(RELEVER!L9*2)-30),IF(AND(B9="Fixe",D9-(2*RELEVER!L9)-60),IF(AND(B9="Coulissant",D9-(RELEVER!L9*2)-2-((C9-1)*25)),"")))) -> FALSE | G9: =D9-(RELEVER!L9*2)-52 -> 552 | H9: =E9-(RELEVER!L9*2)-30 -> 1464 | I9: =E9-(RELEVER!L9*2)-30 -> 1464 | J9: =D9-(RELEVER!L9*2)-52 -> 552 | K9: =E9 -> 1510 | L9: =(I9+J9)*2/600+4 -> 10.72 | M9: =D9-(RELEVER!L9*2)-2 -> 602 | N9: =D9-(RELEVER!L9*2)-26 -> 578 | O9: =E9-RELEVER!L9-26 -> 1476 | P9: =O9 -> 1476 | Q9: =N9 -> 578 | R9: =P9 -> 1476 | S9: =(P9+Q9)*2/600+4 -> 10.846667
A10: =RELEVER!A10 -> ME07 | B10: Galandage | C10: 1 | D10: 1520 | E10: 2400 | F10: =IF(B10="galandage",D10-(RELEVER!L10*2)-2,IF(AND(B10="Oscilotbattant",D10-(RELEVER!L10*2)-30),IF(AND(B10="Fixe",D10-(2*RELEVER!L10)-60),IF(AND(B10="Coulissant",D10-(RELEVER!L10*2)-2-((C10-1)*25)),"")))) -> 1502 | G10: =D10-(RELEVER!L10*2)-52 -> 1452 | H10: =E10-(RELEVER!L10*2)-30 -> 2354 | I10: =E10-(RELEVER!L10*2)-30 -> 2354 | J10: =D10-(RELEVER!L10*2)-52 -> 1452 | K10: =E10 -> 2400 | L10: =(I10+J10)*2/600+4 -> 16.686667 | M10: =D10-(RELEVER!L10*2)-2 -> 1502 | N10: =D10-(RELEVER!L10*2)-26 -> 1478 | O10: =E10-RELEVER!L10-26 -> 2366 | P10: =O10 -> 2366 | Q10: =N10 -> 1478 | R10: =P10 -> 2366 | S10: =(P10+Q10)*2/600+4 -> 16.813333
A11: =RELEVER!A11 -> ME08 | B11: Oscilot-battant | C11: 1 | D11: 620 | E11: 1510 | F11: =IF(B11="galandage",D11-(RELEVER!L11*2)-2,IF(AND(B11="Oscilotbattant",D11-(RELEVER!L11*2)-30),IF(AND(B11="Fixe",D11-(2*RELEVER!L11)-60),IF(AND(B11="Coulissant",D11-(RELEVER!L11*2)-2-((C11-1)*25)),"")))) -> FALSE | G11: =D11-(RELEVER!L11*2)-52 -> 552 | H11: =E11-(RELEVER!L11*2)-30 -> 1464 | I11: =E11-(RELEVER!L11*2)-30 -> 1464 | J11: =D11-(RELEVER!L11*2)-52 -> 552 | K11: =E11 -> 1510 | L11: =(I11+J11)*2/600+4 -> 10.72 | M11: =D11-(RELEVER!L11*2)-2 -> 602 | N11: =D11-(RELEVER!L11*2)-26 -> 578 | O11: =E11-RELEVER!L11-26 -> 1476 | P11: =O11 -> 1476 | Q11: =N11 -> 578 | R11: =P11 -> 1476 | S11: =(P11+Q11)*2/600+4 -> 10.846667
A12: =RELEVER!A12 -> ME09 | B12: Oscilot-battant | C12: 1 | D12: 620 | E12: 1510 | F12: =IF(B12="galandage",D12-(RELEVER!L12*2)-2,IF(AND(B12="Oscilotbattant",D12-(RELEVER!L12*2)-30),IF(AND(B12="Fixe",D12-(2*RELEVER!L12)-60),IF(AND(B12="Coulissant",D12-(RELEVER!L12*2)-2-((C12-1)*25)),"")))) -> FALSE | G12: =D12-(RELEVER!L12*2)-52 -> 552 | H12: =E12-(RELEVER!L12*2)-30 -> 1464 | I12: =E12-(RELEVER!L12*2)-30 -> 1464 | J12: =D12-(RELEVER!L12*2)-52 -> 552 | K12: =E12 -> 1510 | L12: =(I12+J12)*2/600+4 -> 10.72 | M12: =D12-(RELEVER!L12*2)-2 -> 602 | N12: =D12-(RELEVER!L12*2)-26 -> 578 | O12: =E12-RELEVER!L12-26 -> 1476 | P12: =O12 -> 1476 | Q12: =N12 -> 578 | R12: =P12 -> 1476 | S12: =(P12+Q12)*2/600+4 -> 10.846667
A13: =RELEVER!A13 -> ME10 | B13: Galandage | C13: 1 | D13: 1620 | E13: 2490 | F13: =IF(B13="galandage",D13-(RELEVER!L13*2)-2,IF(AND(B13="Oscilotbattant",D13-(RELEVER!L13*2)-30),IF(AND(B13="Fixe",D13-(2*RELEVER!L13)-60),IF(AND(B13="Coulissant",D13-(RELEVER!L13*2)-2-((C13-1)*25)),"")))) -> FALSE | G13: =D13-(RELEVER!L13*2)-52 -> 1552 | H13: =E13-(RELEVER!L13*2)-30 -> 2444 | I13: =E13-(RELEVER!L13*2)-30 -> 2444 | J13: =D13-(RELEVER!L13*2)-52 -> 1552 | K13: =E13 -> 2490 | L13: =(I13+J13)*2/600+4 -> 17.32 | M13: =D13-(RELEVER!L13*2)-2 -> 1602 | N13: =D13-(RELEVER!L13*2)-26 -> 1578 | O13: =E13-RELEVER!L13-26 -> 2456 | P13: =O13 -> 2456 | Q13: =N13 -> 1578 | R13: =P13 -> 2456 | S13: =(P13+Q13)*2/600+4 -> 17.446667
A14: =RELEVER!A14 -> ME11 | B14: Galandage | C14: 1 | D14: 1520 | E14: 2410 | F14: =IF(B14="galandage",D14-(RELEVER!L14*2)-2,IF(AND(B14="Oscilotbattant",D14-(RELEVER!L14*2)-30),IF(AND(B14="Fixe",D14-(2*RELEVER!L14)-60),IF(AND(B14="Coulissant",D14-(RELEVER!L14*2)-2-((C14-1)*25)),"")))) -> FALSE | G14: =D14-(RELEVER!L14*2)-52 -> 1452 | H14: =E14-(RELEVER!L14*2)-30 -> 2364 | I14: =E14-(RELEVER!L14*2)-30 -> 2364 | J14: =D14-(RELEVER!L14*2)-52 -> 1452 | K14: =E14 -> 2410 | L14: =(I14+J14)*2/600+4 -> 16.72 | M14: =D14-(RELEVER!L14*2)-2 -> 1502 | N14: =D14-(RELEVER!L14*2)-26 -> 1478 | O14: =E14-RELEVER!L14-26 -> 2376 | P14: =O14 -> 2376 | Q14: =N14 -> 1478 | R14: =P14 -> 2376 | S14: =(P14+Q14)*2/600+4 -> 16.846667
A15: =RELEVER!A15 -> ME12 | B15: Galandage | C15: 1 | D15: 1520 | E15: 2415 | F15: =IF(B15="galandage",D15-(RELEVER!L15*2)-2,IF(AND(B15="Oscilotbattant",D15-(RELEVER!L15*2)-30),IF(AND(B15="Fixe",D15-(2*RELEVER!L15)-60),IF(AND(B15="Coulissant",D15-(RELEVER!L15*2)-2-((C15-1)*25)),"")))) -> 1502 | G15: =D15-(RELEVER!L15*2)-52 -> 1452 | H15: =E15-(RELEVER!L15*2)-30 -> 2369 | I15: =E15-(RELEVER!L15*2)-30 -> 2369 | J15: =D15-(RELEVER!L15*2)-52 -> 1452 | K15: =E15 -> 2415 | L15: =(I15+J15)*2/600+4 -> 16.736667 | M15: =D15-(RELEVER!L15*2)-2 -> 1502 | N15: =D15-(RELEVER!L15*2)-26 -> 1478 | O15: =E15-RELEVER!L15-26 -> 2381 | P15: =O15 -> 2381 | Q15: =N15 -> 1478 | R15: =P15 -> 2381 | S15: =(P15+Q15)*2/600+4 -> 16.863333
A16: =RELEVER!A16 -> ME13 | B16: Galandage | C16: 1 | D16: 1270 | E16: 2415 | F16: =IF(B16="galandage",D16-(RELEVER!L16*2)-2,IF(AND(B16="Oscilotbattant",D16-(RELEVER!L16*2)-30),IF(AND(B16="Fixe",D16-(2*RELEVER!L16)-60),IF(AND(B16="Coulissant",D16-(RELEVER!L16*2)-2-((C16-1)*25)),"")))) -> FALSE | G16: =D16-(RELEVER!L16*2)-52 -> 1202 | H16: =E16-(RELEVER!L16*2)-30 -> 2369 | I16: =E16-(RELEVER!L16*2)-30 -> 2369 | J16: =D16-(RELEVER!L16*2)-52 -> 1202 | K16: =E16 -> 2415 | L16: =(I16+J16)*2/600+4 -> 15.903333 | M16: =D16-(RELEVER!L16*2)-2 -> 1252 | N16: =D16-(RELEVER!L16*2)-26 -> 1228 | O16: =E16-RELEVER!L16-26 -> 2381 | P16: =O16 -> 2381 | Q16: =N16 -> 1228 | R16: =P16 -> 2381 | S16: =(P16+Q16)*2/600+4 -> 16.03
... A25: =RELEVER!A25 -> ME22 | B25: Oscilot-battant | C25: 1 | D25: 820 | E25: 1510 | F25: =IF(B25="galandage",D25-(RELEVER!L25*2)-2,IF(AND(B25="Oscilotbattant",D25-(RELEVER!L25*2)-30),IF(AND(B25="Fixe",D25-(2*RELEVER!L25)-60),IF(AND(B25="Coulissant",D25-(RELEVER!L25*2)-2-((C25-1)*25)),"")))) -> FALSE | G25: =D25-(RELEVER!L25*2)-52 -> 752 | H25: =E25-(RELEVER!L25*2)-30 -> 1464 | I25: =E25-(RELEVER!L25*2)-30 -> 1464 | J25: =D25-(RELEVER!L25*2)-52 -> 752 | K25: =E25 -> 1510 | L25: =(I25+J25)*2/600+4 -> 11.386667 | M25: =D25-(RELEVER!L25*2)-2 -> 802 | N25: =D25-(RELEVER!L25*2)-26 -> 778 | O25: =E25-RELEVER!L25-26 -> 1476 | P25: =O25 -> 1476 | Q25: =N25 -> 778 | R25: =P25 -> 1476 | S25: =(P25+Q25)*2/600+4 -> 11.513333
A26: =RELEVER!A26 -> ME23 | B26: Fixe | C26: 1 | D26: 920 | E26: 1510 | F26: =IF(B26="galandage",D26-(RELEVER!L26*2)-2,IF(AND(B26="Oscilotbattant",D26-(RELEVER!L26*2)-30),IF(AND(B26="Fixe",D26-(2*RELEVER!L26)-60),IF(AND(B26="Coulissant",D26-(RELEVER!L26*2)-2-((C26-1)*25)),"")))) -> FALSE | G26: =D26-(RELEVER!L26*2)-60 -> 844 | H26: =E26-(RELEVER!L26*2)-60 -> 1434 | I26: =E26-(RELEVER!L26*2)-30 -> 1464 | J26: =D26-(RELEVER!L26*2)-52 -> 852 | K26: =E26 -> 1510 | L26: =(I26+J26)*2/600+4 -> 11.72 | M26: =D26-(RELEVER!L26*2)-2 -> 902 | N26: =D26-(RELEVER!L26*2)-26 -> 878 | O26: =E26-RELEVER!L26-26 -> 1476 | P26: =O26 -> 1476 | Q26: =N26 -> 878 | R26: =P26 -> 1476 | S26: =(P26+Q26)*2/600+4 -> 11.846667
A27: =RELEVER!A27 -> ME24 | B27: Fixe | C27: 1 | D27: 2460 | E27: 2590 | F27: =IF(B27="galandage",D27-(RELEVER!L27*2)-2,IF(AND(B27="Oscilotbattant",D27-(RELEVER!L27*2)-30),IF(AND(B27="Fixe",D27-(2*RELEVER!L27)-60),IF(AND(B27="Coulissant",D27-(RELEVER!L27*2)-2-((C27-1)*25)),"")))) -> FALSE | G27: =D27-(RELEVER!L27*2)-52 -> 2392 | H27: =E27-(RELEVER!L27*2)-30 -> 2544 | I27: =E27-(RELEVER!L27*2)-30 -> 2544 | J27: =D27-(RELEVER!L27*2)-52 -> 2392 | K27: =E27 -> 2590 | L27: =(I27+J27)*2/600+4 -> 20.453333 | M27: =D27-(RELEVER!L27*2)-2 -> 2442 | N27: =D27-(RELEVER!L27*2)-26 -> 2418 | O27: =E27-RELEVER!L27-26 -> 2556 | P27: =O27 -> 2556 | Q27: =N27 -> 2418 | R27: =P27 -> 2556 | S27: =(P27+Q27)*2/600+4 -> 20.58
A28: =RELEVER!A28 -> ME25 | B28: Fixe | C28: 1 | D28: 2420 | E28: 2590 | F28: =IF(B28="galandage",D28-(RELEVER!L28*2)-2,IF(AND(B28="Oscilotbattant",D28-(RELEVER!L28*2)-30),IF(AND(B28="Fixe",D28-(2*RELEVER!L28)-60),IF(AND(B28="Coulissant",D28-(RELEVER!L28*2)-2-((C28-1)*25)),"")))) -> FALSE | G28: =D28-(RELEVER!L28*2)-52 -> 2352 | H28: =E28-(RELEVER!L28*2)-30 -> 2544 | I28: =E28-(RELEVER!L28*2)-30 -> 2544 | J28: =D28-(RELEVER!L28*2)-52 -> 2352 | K28: =E28 -> 2590 | L28: =(I28+J28)*2/600+4 -> 20.32 | M28: =D28-(RELEVER!L28*2)-2 -> 2402 | N28: =D28-(RELEVER!L28*2)-26 -> 2378 | O28: =E28-RELEVER!L28-26 -> 2556 | P28: =O28 -> 2556 | Q28: =N28 -> 2378 | R28: =P28 -> 2556 | S28: =(P28+Q28)*2/600+4 -> 20.446667
A29: =RELEVER!A29 -> ME26 | B29: Fixe | C29: 1 | D29: 2420 | E29: 2590 | F29: =IF(B29="galandage",D29-(RELEVER!L29*2)-2,IF(AND(B29="Oscilotbattant",D29-(RELEVER!L29*2)-30),IF(AND(B29="Fixe",D29-(2*RELEVER!L29)-60),IF(AND(B29="Coulissant",D29-(RELEVER!L29*2)-2-((C29-1)*25)),"")))) -> FALSE | G29: =D29-(RELEVER!L29*2)-52 -> 2352 | H29: =E29-(RELEVER!L29*2)-30 -> 2544 | I29: =E29-(RELEVER!L29*2)-30 -> 2544 | J29: =D29-(RELEVER!L29*2)-52 -> 2352 | K29: =E29 -> 2590 | L29: =(I29+J29)*2/600+4 -> 20.32 | M29: =D29-(RELEVER!L29*2)-2 -> 2402 | N29: =D29-(RELEVER!L29*2)-26 -> 2378 | O29: =E29-RELEVER!L29-26 -> 2556 | P29: =O29 -> 2556 | Q29: =N29 -> 2378 | R29: =P29 -> 2556 | S29: =(P29+Q29)*2/600+4 -> 20.446667
A30: =RELEVER!A30 -> ME27 | B30: Coulissant | C30: 4 | D30: 8895 | E30: 2595 | F30: =IF(B30="galandage",D30-(RELEVER!L30*2)-2,IF(AND(B30="Oscilotbattant",D30-(RELEVER!L30*2)-30),IF(AND(B30="Fixe",D30-(2*RELEVER!L30)-60),IF(AND(B30="Coulissant",D30-(RELEVER!L30*2)-2-((C30-1)*25)),"")))) -> FALSE | G30: =D30-(RELEVER!L30*2)-52 -> 8827 | H30: =E30-(RELEVER!L30*2)-30 -> 2549 | I30: =E30-(RELEVER!L30*2)-30 -> 2549 | J30: =D30-(RELEVER!L30*2)-52 -> 8827 | K30: =E30 -> 2595 | L30: =(I30+J30)*2/600+4 -> 41.92 | M30: =D30-(RELEVER!L30*2)-2 -> 8877 | N30: =D30-(RELEVER!L30*2)-26 -> 8853 | O30: =E30-RELEVER!L30-26 -> 2561 | P30: =O30 -> 2561 | Q30: =N30 -> 8853 | R30: =P30 -> 2561 | S30: =(P30+Q30)*2/600+4 -> 42.046667
A31: =RELEVER!A31 -> ME28 | B31: Fixe | C31: 1 | D31: 2445 | E31: 2595 | F31: =IF(B31="galandage",D31-(RELEVER!L31*2)-2,IF(AND(B31="Oscilotbattant",D31-(RELEVER!L31*2)-30),IF(AND(B31="Fixe",D31-(2*RELEVER!L31)-60),IF(AND(B31="Coulissant",D31-(RELEVER!L31*2)-2-((C31-1)*25)),"")))) -> FALSE | G31: =D31-(RELEVER!L31*2)-52 -> 2377 | H31: =E31-(RELEVER!L31*2)-30 -> 2549 | I31: =E31-(RELEVER!L31*2)-30 -> 2549 | J31: =D31-(RELEVER!L31*2)-52 -> 2377 | K31: =E31 -> 2595 | L31: =(I31+J31)*2/600+4 -> 20.42 | M31: =D31-(RELEVER!L31*2)-2 -> 2427 | N31: =D31-(RELEVER!L31*2)-26 -> 2403 | O31: =E31-RELEVER!L31-26 -> 2561 | P31: =O31 -> 2561 | Q31: =N31 -> 2403 | R31: =P31 -> 2561 | S31: =(P31+Q31)*2/600+4 -> 20.546667
A32: =RELEVER!A32 -> ME29 | B32: Fixe | C32: 1 | D32: 2430 | E32: 2595 | F32: =IF(B32="galandage",D32-(RELEVER!L32*2)-2,IF(AND(B32="Oscilotbattant",D32-(RELEVER!L32*2)-30),IF(AND(B32="Fixe",D32-(2*RELEVER!L32)-60),IF(AND(B32="Coulissant",D32-(RELEVER!L32*2)-2-((C32-1)*25)),"")))) -> FALSE | G32: =D32-(RELEVER!L32*2)-52 -> 2362 | H32: =E32-(RELEVER!L32*2)-30 -> 2549 | I32: =E32-(RELEVER!L32*2)-30 -> 2549 | J32: =D32-(RELEVER!L32*2)-52 -> 2362 | K32: =E32 -> 2595 | L32: =(I32+J32)*2/600+4 -> 20.37 | M32: =D32-(RELEVER!L32*2)-2 -> 2412 | N32: =D32-(RELEVER!L32*2)-26 -> 2388 | O32: =E32-RELEVER!L32-26 -> 2561 | P32: =O32 -> 2561 | Q32: =N32 -> 2388 | R32: =P32 -> 2561 | S32: =(P32+Q32)*2/600+4 -> 20.496667
A33: =RELEVER!A33 -> ME30 | B33: Fixe | C33: 1 | D33: 2445 | E33: 2595 | F33: =IF(B33="galandage",D33-(RELEVER!L33*2)-2,IF(AND(B33="Oscilotbattant",D33-(RELEVER!L33*2)-30),IF(AND(B33="Fixe",D33-(2*RELEVER!L33)-60),IF(AND(B33="Coulissant",D33-(RELEVER!L33*2)-2-((C33-1)*25)),"")))) -> FALSE | G33: =D33-(RELEVER!L33*2)-52 -> 2377 | H33: =E33-(RELEVER!L33*2)-30 -> 2549 | I33: =E33-(RELEVER!L33*2)-30 -> 2549 | J33: =D33-(RELEVER!L33*2)-52 -> 2377 | K33: =E33 -> 2595 | L33: =(I33+J33)*2/600+4 -> 20.42 | M33: =D33-(RELEVER!L33*2)-2 -> 2427 | N33: =D33-(RELEVER!L33*2)-26 -> 2403 | O33: =E33-RELEVER!L33-26 -> 2561 | P33: =O33 -> 2561 | Q33: =N33 -> 2403 | R33: =P33 -> 2561 | S33: =(P33+Q33)*2/600+4 -> 20.546667
A34: =RELEVER!A34 -> ME31 | B34: Coulissant | C34: 4 | D34: 8438 | E34: 2985 | F34: =IF(B34="galandage",D34-(RELEVER!L34*2)-2,IF(AND(B34="Oscilotbattant",D34-(RELEVER!L34*2)-30),IF(AND(B34="Fixe",D34-(2*RELEVER!L34)-60),IF(AND(B34="Coulissant",D34-(RELEVER!L34*2)-2-((C34-1)*25)),"")))) -> FALSE | G34: =D34-(RELEVER!L34*2)-52 -> 8370 | H34: =E34-(RELEVER!L34*2)-30 -> 2939 | I34: =E34-(RELEVER!L34*2)-30 -> 2939 | J34: =D34-(RELEVER!L34*2)-52 -> 8370 | K34: =E34 -> 2985 | L34: =(I34+J34)*2/600+4 -> 41.696667 | M34: =D34-(RELEVER!L34*2)-2 -> 8420 | N34: =D34-(RELEVER!L34*2)-26 -> 8396 | O34: =E34-RELEVER!L34-26 -> 2951 | P34: =O34 -> 2951 | Q34: =N34 -> 8396 | R34: =P34 -> 2951 | S34: =(P34+Q34)*2/600+4 -> 41.823333
