Workbook

Sheet Feuille calcul
C1: Formules | G1: Date début de semaine : | I1: 41372
C2: Données à rentrer manuellement
A4: N° Pesse | B4: NOM | C4: Quantité | D4: nbr empreinte | E4: temps de cycle | F4: duré heures | G4: nbr jours | H4: debut | I4: fin
A6: Press 01 | B6: Crochet chapelut 50 cm | C6: 50000 | D6: 2 | E6: 20 | F6: =(C6/D6)*(E6/3600) -> 138.88889 | G6: =F6/24 -> 5.787037 | H6: 41365.833 | I6: =IF(ISBLANK(H6),"",H6+G6) -> 41371.62
B7: 0 | C7: 0 | D7: 0 | E7: 0 | F7: =(C7/D7)*(E7/3600) -> #DIV/0! | G7: =F7/24 -> #DIV/0! | H7: 0 | I7: =IF(ISBLANK(H7),"",H7+G7) -> #DIV/0!
A8: Presse 02 | B8: Bonchons pechyney | C8: 70000 | D8: 5 | E8: 20 | F8: =(C8/D8)*(E8/3600) -> 77.777778 | G8: =F8/24 -> 3.2407407 | H8: 41374.5 | I8: =IF(ISBLANK(H8),"",H8+G8) -> 41377.741
B9: Cheville Xenon | C9: 50000 | D9: 2 | E9: 25 | F9: =(C9/D9)*(E9/3600) -> 173.61111 | G9: =F9/24 -> 7.2337963 | H9: 41372.001 | I9: =IF(ISBLANK(H9),"",H9+G9) -> 41379.234
A10: Presse 03 | B10: Crochet Grigi | C10: 1000 | D10: 2 | E10: 25 | F10: =(C10/D10)*(E10/3600) -> 3.4722222 | G10: =F10/24 -> 0.14467593 | H10: 41374.333 | I10: =IF(ISBLANK(H10),"",H10+G10) -> 41374.478
B11: 0 | C11: 50000 | D11: 1 | E11: 15 | F11: =(C11/D11)*(E11/3600) -> 208.33333 | G11: =F11/24 -> 8.6805556 | H11: 41374.001 | I11: =IF(ISBLANK(H11),"",H11+G11) -> 41382.681
A12: Presse 04 | B12: Plaque grigi | C12: 2000 | D12: 1 | E12: 40 | F12: =(C12/D12)*(E12/3600) -> 22.222222 | G12: =F12/24 -> 0.92592593 | H12: 41372.75 | I12: =IF(ISBLANK(H12),"",H12+G12) -> 41373.676
B13: Cheville Xenon | C13: 10000 | D13: 1 | E13: 15 | F13: =(C13/D13)*(E13/3600) -> 41.666667 | G13: =F13/24 -> 1.7361111 | H13: 0 | I13: =IF(ISBLANK(H13),"",H13+G13) -> 1.7361111
A14: Presse 05 | B14: Bonchons pechyney | C14: 70000 | D14: 1 | E14: 40 | F14: =(C14/D14)*(E14/3600) -> 777.77778 | G14: =F14/24 -> 32.407407 | H14: 0 | I14: =IF(ISBLANK(H14),"",H14+G14) -> 32.407407
B15: 0 | C15: 0 | D15: 1 | E15: 15 | F15: =(C15/D15)*(E15/3600) -> 0 | G15: =F15/24 -> 0 | H15: 0 | I15: =IF(ISBLANK(H15),"",H15+G15) -> 0
A16: Presse 06 | B16: 0 | C16: 0 | D16: 6 | E16: 20 | F16: =(C16/D16)*(E16/3600) -> 0 | G16: =F16/24 -> 0 | H16: 0 | I16: =IF(ISBLANK(H16),"",H16+G16) -> 0
B17: 0 | C17: 0 | D17: 1 | E17: 15 | F17: =(C17/D17)*(E17/3600) -> 0 | G17: =F17/24 -> 0 | H17: 41365.167 | I17: =IF(ISBLANK(H17),"",H17+G17) -> 41365.167
A18: Presse 07 | B18: Plaque grigi | C18: 2000 | D18: 1 | E18: 40 | F18: =(C18/D18)*(E18/3600) -> 22.222222 | G18: =F18/24 -> 0.92592593 | H18: 41374.75 | I18: =IF(ISBLANK(H18),"",H18+G18) -> 41375.676
B19: Cheville Xenon | C19: 10000 | D19: 1 | E19: 15 | F19: =(C19/D19)*(E19/3600) -> 41.666667 | G19: =F19/24 -> 1.7361111 | H19: 41365.167 | I19: =IF(ISBLANK(H19),"",H19+G19) -> 41366.903
A20: Presse 08 | B20: Plaque grigi | C20: 2000 | D20: 1 | E20: 40 | F20: =(C20/D20)*(E20/3600) -> 22.222222 | G20: =F20/24 -> 0.92592593 | H20: 41373.75 | I20: =IF(ISBLANK(H20),"",H20+G20) -> 41374.676
B21: Cheville Xenon | C21: 10000 | D21: 1 | E21: 15 | F21: =(C21/D21)*(E21/3600) -> 41.666667 | G21: =F21/24 -> 1.7361111 | H21: 41365.167 | I21: =IF(ISBLANK(H21),"",H21+G21) -> 41366.903
A22: Presse 09 | B22: Plaque grigi | C22: 2000 | D22: 1 | E22: 40 | F22: =(C22/D22)*(E22/3600) -> 22.222222 | G22: =F22/24 -> 0.92592593 | H22: 41374.75 | I22: =IF(ISBLANK(H22),"",H22+G22) -> 41375.676
B23: Cheville Xenon | C23: 10000 | D23: 1 | E23: 15 | F23: =(C23/D23)*(E23/3600) -> 41.666667 | G23: =F23/24 -> 1.7361111 | H23: 41365.167 | I23: =IF(ISBLANK(H23),"",H23+G23) -> 41366.903
A24: Presse 10 | B24: Plaque grigi | C24: 2000 | D24: 1 | E24: 40 | F24: =(C24/D24)*(E24/3600) -> 22.222222 | G24: =F24/24 -> 0.92592593 | H24: 41375.75 | I24: =IF(ISBLANK(H24),"",H24+G24) -> 41376.676
B25: Cheville Xenon | C25: 10000 | D25: 1 | E25: 15 | F25: =(C25/D25)*(E25/3600) -> 41.666667 | G25: =F25/24 -> 1.7361111 | H25: 41365.167 | I25: =IF(ISBLANK(H25),"",H25+G25) -> 41366.903
H29: 25 M3 | I29: 3h
H30: 40M3 | I30: 3h
H31: 65M3 | I31: 3h
H32: 100M3 | I32: 4h
H33: 100M3 Tuyaux | I33: 6h
H34: 160M3 | I34: 6h
H35: 250M3 | I35: 8h
H36: 400M3 | I36: 8h
H37: Divers | I37: definir
H38: Vetuste | I38: à definir

Sheet s10
E2: =+'Feuille calcul'!I1 -> 41372 | I2: =E2+1 -> 41373 | M2: =I2+1 -> 41374 | Q2: =M2+1 -> 41375 | U2: =Q2+1 -> 41376 | Y2: =U2+1 -> 41377 | AC2: =Y2+1 -> 41378
E3: =E2 -> 41372 | I3: =I2 -> 41373 | M3: =M2 -> 41374 | Q3: =Q2 -> 41375 | U3: =U2 -> 41376 | Y3: =Y2 -> 41377 | AC3: =AC2 -> 41378
C4: 20h | D4: 00h | E4: =E2 -> 41372 | H4: =+E2+24/24 -> 41373 | I4: =I2 -> 41373 | L4: =+I2+24/24 -> 41374 | M4: =M2 -> 41374 | P4: =+M2+24/24 -> 41375 | Q4: =Q2 -> 41375 | T4: =+Q2+24/24 -> 41376 | U4: =U2 -> 41376 | X4: =+U2+24/24 -> 41377 | Y4: =Y2 -> 41377 | AB4: =+Y2+24/24 -> 41378 | AC4: =AC2 -> 41378 | AF4: =+AC2+24/24 -> 41379
A5: ='Feuille calcul'!A6 -> Press 01 | E5: =E4 -> 41372 | H5: =H4 -> 41373 | I5: =I4 -> 41373 | L5: =L4 -> 41374 | M5: =M4 -> 41374 | P5: =P4 -> 41375 | Q5: =Q4 -> 41375 | T5: =T4 -> 41376 | U5: =U4 -> 41376 | X5: =X4 -> 41377 | Y5: =Y4 -> 41377 | AB5: =AB4 -> 41378 | AC5: =AC4 -> 41378 | AF5: =AF4 -> 41379
B6: =IF('Feuille calcul'!B6=0,"",'Feuille calcul'!B6) -> Crochet chapelut 50 cm | C6: =IF('Feuille calcul'!H6=0,"",'Feuille calcul'!H6) -> 41365.833 | D6: =IF('Feuille calcul'!I6=0,"",'Feuille calcul'!I6) -> 41371.62 | E6: =E5 -> 41372 | F6: =IF(AND(C6>E6,C6<H6),C6,E6) -> 41372 | G6: =IF(AND(D6>E6,D6<H6),D6,H6) -> 41373 | H6: =H5 -> 41373 | I6: =I5 -> 41373 | J6: =IF(AND(C6>I6,C6<L6),C6,I6) -> 41373 | K6: =IF(AND(D6>I6,D6<L6),D6,L6) -> 41374 | L6: =L5 -> 41374 | M6: =M5 -> 41374 | N6: =IF(AND(C6>M6,C6<P6),C6,M6) -> 41374 | O6: =IF(AND(D6>M6,D6<P6),D6,P6) -> 41375 | P6: =P5 -> 41375 | Q6: =Q5 -> 41375 | R6: =IF(AND(C6>Q6,C6<T6),C6,Q6) -> 41375 | S6: =IF(AND(D6>Q6,D6<T6),D6,T6) -> 41376 | T6: =T5 -> 41376 | U6: =U5 -> 41376 | V6: =IF(AND(C6>U6,C6<X6),C6,U6) -> 41376 | W6: =IF(AND(D6>U6,D6<X6),D6,X6) -> 41377 | X6: =X5 -> 41377 | Y6: =Y5 -> 41377 | Z6: =IF(AND(C6>Y6,C6<AB6),C6,Y6) -> 41377 | AA6: =IF(AND(D6>Y6,D6<AB6),D6,AB6) -> 41378 | AB6: =AB5 -> 41378 | AC6: =AC5 -> 41378 | AD6: =IF(AND(C6>AC6,C6<AF6),C6,AC6) -> 41378 | AE6: =IF(AND(D6>AC6,D6<AF6),D6,AF6) -> 41379 | AF6: =AF5 -> 41379
B7: =IF('Feuille calcul'!B7=0,"",'Feuille calcul'!B7) | C7: =IF('Feuille calcul'!H7=0,"",'Feuille calcul'!H7) | D7: =IF('Feuille calcul'!I7=0,"",'Feuille calcul'!I7) -> #DIV/0! | E7: =E6 -> 41372 | F7: =IF(AND(C7>E7,C7<H7),C7,E7) -> 41372 | G7: =IF(AND(D7>E7,D7<H7),D7,H7) -> #DIV/0! | H7: =H6 -> 41373 | I7: =I6 -> 41373 | J7: =IF(AND(C7>I7,C7<L7),C7,I7) -> 41373 | K7: =IF(AND(D7>I7,D7<L7),D7,L7) -> #DIV/0! | L7: =L6 -> 41374 | M7: =M6 -> 41374 | N7: =IF(AND(C7>M7,C7<P7),C7,M7) -> 41374 | O7: =IF(AND(D7>M7,D7<P7),D7,P7) -> #DIV/0! | P7: =P6 -> 41375 | Q7: =Q6 -> 41375 | R7: =IF(AND(C7>Q7,C7<T7),C7,Q7) -> 41375 | S7: =IF(AND(D7>Q7,D7<T7),D7,T7) -> #DIV/0! | T7: =T6 -> 41376 | U7: =U6 -> 41376 | V7: =IF(AND(C7>U7,C7<X7),C7,U7) -> 41376 | W7: =IF(AND(D7>U7,D7<X7),D7,X7) -> #DIV/0! | X7: =X6 -> 41377 | Y7: =Y6 -> 41377 | Z7: =IF(AND(C7>Y7,C7<AB7),C7,Y7) -> 41377 | AA7: =IF(AND(D7>Y7,D7<AB7),D7,AB7) -> #DIV/0! | AB7: =AB6 -> 41378 | AC7: =AC6 -> 41378 | AD7: =IF(AND(C7>AC7,C7<AF7),C7,AC7) -> 41378 | AE7: =IF(AND(D7>AC7,D7<AF7),D7,AF7) -> #DIV/0! | AF7: =AF6 -> 41379
A8: ='Feuille calcul'!A8 -> Presse 02 | E8: =E7 -> 41372 | H8: =H7 -> 41373 | I8: =I7 -> 41373 | L8: =L7 -> 41374 | M8: =M7 -> 41374 | P8: =P7 -> 41375 | Q8: =Q7 -> 41375 | T8: =T7 -> 41376 | U8: =U7 -> 41376 | X8: =X7 -> 41377 | Y8: =Y7 -> 41377 | AB8: =AB7 -> 41378 | AC8: =AC7 -> 41378 | AF8: =AF7 -> 41379
B9: =IF('Feuille calcul'!B8=0,"",'Feuille calcul'!B8) -> Bonchons pechyney | C9: =IF('Feuille calcul'!H8=0,"",'Feuille calcul'!H8) -> 41374.5 | D9: =IF('Feuille calcul'!I8=0,"",'Feuille calcul'!I8) -> 41377.741 | E9: =E8 -> 41372 | F9: =IF(AND(C9>E9,C9<H9),C9,E9) -> 41372 | G9: =IF(AND(D9>E9,D9<H9),D9,H9) -> 41373 | H9: =H8 -> 41373 | I9: =I8 -> 41373 | J9: =IF(AND(C9>I9,C9<L9),C9,I9) -> 41373 | K9: =IF(AND(D9>I9,D9<L9),D9,L9) -> 41374 | L9: =L8 -> 41374 | M9: =M8 -> 41374 | N9: =IF(AND(C9>M9,C9<P9),C9,M9) -> 41374.5 | O9: =IF(AND(D9>M9,D9<P9),D9,P9) -> 41375 | P9: =P8 -> 41375 | Q9: =Q8 -> 41375 | R9: =IF(AND(C9>Q9,C9<T9),C9,Q9) -> 41375 | S9: =IF(AND(D9>Q9,D9<T9),D9,T9) -> 41376 | T9: =T8 -> 41376 | U9: =U8 -> 41376 | V9: =IF(AND(C9>U9,C9<X9),C9,U9) -> 41376 | W9: =IF(AND(D9>U9,D9<X9),D9,X9) -> 41377 | X9: =X8 -> 41377 | Y9: =Y8 -> 41377 | Z9: =IF(AND(C9>Y9,C9<AB9),C9,Y9) -> 41377 | AA9: =IF(AND(D9>Y9,D9<AB9),D9,AB9) -> 41377.741 | AB9: =AB8 -> 41378 | AC9: =AC8 -> 41378 | AD9: =IF(AND(AA9>AC9,AA9<AF9),AA9,AC9) -> 41378 | AE9: =IF(AND(D9>AC9,D9<AF9),D9,AF9) -> 41379 | AF9: =AF8 -> 41379
B10: =IF('Feuille calcul'!B9=0,"",'Feuille calcul'!B9) -> Cheville Xenon | C10: =IF('Feuille calcul'!H9=0,"",'Feuille calcul'!H9) -> 41372.001 | D10: =IF('Feuille calcul'!I9=0,"",'Feuille calcul'!I9) -> 41379.234 | E10: =E9 -> 41372 | F10: =IF(AND(C10>E10,C10<H10),C10,E10) -> 41372.001 | G10: =IF(AND(D10>E10,D10<H10),D10,H10) -> 41373 | H10: =H9 -> 41373 | I10: =I9 -> 41373 | J10: =IF(AND(C10>I10,C10<L10),C10,I10) -> 41373 | K10: =IF(AND(D10>I10,D10<L10),D10,L10) -> 41374 | L10: =L9 -> 41374 | M10: =M9 -> 41374 | N10: =IF(AND(C10>M10,C10<P10),C10,M10) -> 41374 | O10: =IF(AND(D10>M10,D10<P10),D10,P10) -> 41375 | P10: =P9 -> 41375 | Q10: =Q9 -> 41375 | R10: =IF(AND(C10>Q10,C10<T10),C10,Q10) -> 41375 | S10: =IF(AND(D10>Q10,D10<T10),D10,T10) -> 41376 | T10: =T9 -> 41376 | U10: =U9 -> 41376 | V10: =IF(AND(C10>U10,C10<X10),C10,U10) -> 41376 | W10: =IF(AND(D10>U10,D10<X10),D10,X10) -> 41377 | X10: =X9 -> 41377 | Y10: =Y9 -> 41377 | Z10: =IF(AND(C10>Y10,C10<AB10),C10,Y10) -> 41377 | AA10: =IF(AND(D10>Y10,D10<AB10),D10,AB10) -> 41378 | AB10: =AB9 -> 41378 | AC10: =AC9 -> 41378 | AD10: =IF(AND(C10>AC10,C10<AF10),C10,AC10) -> 41378 | AE10: =IF(AND(D10>AC10,D10<AF10),D10,AF10) -> 41379 | AF10: =AF9 -> 41379
A11: ='Feuille calcul'!A10 -> Presse 03 | E11: =E10 -> 41372 | H11: =H10 -> 41373 | I11: =I10 -> 41373 | L11: =L10 -> 41374 | M11: =M10 -> 41374 | P11: =P10 -> 41375 | Q11: =Q10 -> 41375 | T11: =T10 -> 41376 | U11: =U10 -> 41376 | X11: =X10 -> 41377 | Y11: =Y10 -> 41377 | AB11: =AB10 -> 41378 | AC11: =AC10 -> 41378 | AF11: =AF10 -> 41379
B12: =IF('Feuille calcul'!B10=0,"",'Feuille calcul'!B10) -> Crochet Grigi | C12: =IF('Feuille calcul'!H10=0,"",'Feuille calcul'!H10) -> 41374.333 | D12: =IF('Feuille calcul'!I10=0,"",'Feuille calcul'!I10) -> 41374.478 | E12: =E11 -> 41372 | F12: =IF(AND(C12>E12,C12<H12),C12,E12) -> 41372 | G12: =IF(AND(D12>E12,D12<H12),D12,H12) -> 41373 | H12: =H11 -> 41373 | I12: =I11 -> 41373 | J12: =IF(AND(C12>I12,C12<L12),C12,I12) -> 41373 | K12: =IF(AND(D12>I12,D12<L12),D12,L12) -> 41374 | L12: =L11 -> 41374 | M12: =M11 -> 41374 | N12: =IF(AND(C12>M12,C12<P12),C12,M12) -> 41374.333 | O12: =IF(AND(D12>M12,D12<P12),D12,P12) -> 41374.478 | P12: =P11 -> 41375 | Q12: =Q11 -> 41375 | R12: =IF(AND(C12>Q12,C12<T12),C12,Q12) -> 41375 | S12: =IF(AND(D12>Q12,D12<T12),D12,T12) -> 41376 | T12: =T11 -> 41376 | U12: =U11 -> 41376 | V12: =IF(AND(C12>U12,C12<X12),C12,U12) -> 41376 | W12: =IF(AND(D12>U12,D12<X12),D12,X12) -> 41377 | X12: =X11 -> 41377 | Y12: =Y11 -> 41377 | Z12: =IF(AND(C12>Y12,C12<AB12),C12,Y12) -> 41377 | AA12: =IF(AND(D12>Y12,D12<AB12),D12,AB12) -> 41378 | AB12: =AB11 -> 41378 | AC12: =AC11 -> 41378 | AD12: =IF(AND(AA12>AC12,AA12<AF12),AA12,AC12) -> 41378 | AE12: =IF(AND(D12>AC12,D12<AF12),D12,AF12) -> 41379 | AF12: =AF11 -> 41379
B13: =IF('Feuille calcul'!B11=0,"",'Feuille calcul'!B11) | C13: =IF('Feuille calcul'!H11=0,"",'Feuille calcul'!H11) -> 41374.001 | D13: =IF('Feuille calcul'!I11=0,"",'Feuille calcul'!I11) -> 41382.681 | E13: =E12 -> 41372 | F13: =IF(AND(C13>E13,C13<H13),C13,E13) -> 41372 | G13: =IF(AND(D13>E13,D13<H13),D13,H13) -> 41373 | H13: =H12 -> 41373 | I13: =I12 -> 41373 | J13: =IF(AND(C13>I13,C13<L13),C13,I13) -> 41373 | K13: =IF(AND(D13>I13,D13<L13),D13,L13) -> 41374 | L13: =L12 -> 41374 | M13: =M12 -> 41374 | N13: =IF(AND(C13>M13,C13<P13),C13,M13) -> 41374.001 | O13: =IF(AND(D13>M13,D13<P13),D13,P13) -> 41375 | P13: =P12 -> 41375 | Q13: =Q12 -> 41375 | R13: =IF(AND(C13>Q13,C13<T13),C13,Q13) -> 41375 | S13: =IF(AND(D13>Q13,D13<T13),D13,T13) -> 41376 | T13: =T12 -> 41376 | U13: =U12 -> 41376 | V13: =IF(AND(C13>U13,C13<X13),C13,U13) -> 41376 | W13: =IF(AND(D13>U13,D13<X13),D13,X13) -> 41377 | X13: =X12 -> 41377 | Y13: =Y12 -> 41377 | Z13: =IF(AND(C13>Y13,C13<AB13),C13,Y13) -> 41377 | AA13: =IF(AND(D13>Y13,D13<AB13),D13,AB13) -> 41378 | AB13: =AB12 -> 41378 | AC13: =AC12 -> 41378 | AD13: =IF(AND(C13>AC13,C13<AF13),C13,AC13) -> 41378 | AE13: =IF(AND(D13>AC13,D13<AF13),D13,AF13) -> 41379 | AF13: =AF12 -> 41379
A14: ='Feuille calcul'!A12 -> Presse 04 | E14: =E13 -> 41372 | H14: =H13 -> 41373 | I14: =I13 -> 41373 | L14: =L13 -> 41374 | M14: =M13 -> 41374 | P14: =P13 -> 41375 | Q14: =Q13 -> 41375 | T14: =T13 -> 41376 | U14: =U13 -> 41376 | X14: =X13 -> 41377 | Y14: =Y13 -> 41377 | AB14: =AB13 -> 41378 | AC14: =AC13 -> 41378 | AF14: =AF13 -> 41379
B15: =IF('Feuille calcul'!B12=0,"",'Feuille calcul'!B12) -> Plaque grigi | C15: =IF('Feuille calcul'!H12=0,"",'Feuille calcul'!H12) -> 41372.75 | D15: =IF('Feuille calcul'!I12=0,"",'Feuille calcul'!I12) -> 41373.676 | E15: =E14 -> 41372 | F15: =IF(AND(C15>E15,C15<H15),C15,E15) -> 41372.75 | G15: =IF(AND(D15>E15,D15<H15),D15,H15) -> 41373 | H15: =H14 -> 41373 | I15: =I14 -> 41373 | J15: =IF(AND(C15>I15,C15<L15),C15,I15) -> 41373 | K15: =IF(AND(D15>I15,D15<L15),D15,L15) -> 41373.676 | L15: =L14 -> 41374 | M15: =M14 -> 41374 | N15: =IF(AND(C15>M15,C15<P15),C15,M15) -> 41374 | O15: =IF(AND(D15>M15,D15<P15),D15,P15) -> 41375 | P15: =P14 -> 41375 | Q15: =Q14 -> 41375 | R15: =IF(AND(C15>Q15,C15<T15),C15,Q15) -> 41375 | S15: =IF(AND(D15>Q15,D15<T15),D15,T15) -> 41376 | T15: =T14 -> 41376 | U15: =U14 -> 41376 | V15: =IF(AND(C15>U15,C15<X15),C15,U15) -> 41376 | W15: =IF(AND(D15>U15,D15<X15),D15,X15) -> 41377 | X15: =X14 -> 41377 | Y15: =Y14 -> 41377 | Z15: =IF(AND(C15>Y15,C15<AB15),C15,Y15) -> 41377 | AA15: =IF(AND(D15>Y15,D15<AB15),D15,AB15) -> 41378 | AB15: =AB14 -> 41378 | AC15: =AC14 -> 41378 | AD15: =IF(AND(AA15>AC15,AA15<AF15),AA15,AC15) -> 41378 | AE15: =IF(AND(D15>AC15,D15<AF15),D15,AF15) -> 41379 | AF15: =AF14 -> 41379
B16: =IF('Feuille calcul'!B13=0,"",'Feuille calcul'!B13) -> Cheville Xenon | C16: =IF('Feuille calcul'!H13=0,"",'Feuille calcul'!H13) | D16: =IF('Feuille calcul'!I13=0,"",'Feuille calcul'!I13) -> 1.7361111 | E16: =E15 -> 41372 | F16: =IF(AND(C16>E16,C16<H16),C16,E16) -> 41372 | G16: =IF(AND(D16>E16,D16<H16),D16,H16) -> 41373 | H16: =H15 -> 41373 | I16: =I15 -> 41373 | J16: =IF(AND(C16>I16,C16<L16),C16,I16) -> 41373 | K16: =IF(AND(D16>I16,D16<L16),D16,L16) -> 41374 | L16: =L15 -> 41374 | M16: =M15 -> 41374 | N16: =IF(AND(C16>M16,C16<P16),C16,M16) -> 41374 | O16: =IF(AND(D16>M16,D16<P16),D16,P16) -> 41375 | P16: =P15 -> 41375 | Q16: =Q15 -> 41375 | R16: =IF(AND(C16>Q16,C16<T16),C16,Q16) -> 41375 | S16: =IF(AND(D16>Q16,D16<T16),D16,T16) -> 41376 | T16: =T15 -> 41376 | U16: =U15 -> 41376 | V16: =IF(AND(C16>U16,C16<X16),C16,U16) -> 41376 | W16: =IF(AND(D16>U16,D16<X16),D16,X16) -> 41377 | X16: =X15 -> 41377 | Y16: =Y15 -> 41377 | Z16: =IF(AND(C16>Y16,C16<AB16),C16,Y16) -> 41377 | AA16: =IF(AND(D16>Y16,D16<AB16),D16,AB16) -> 41378 | AB16: =AB15 -> 41378 | AC16: =AC15 -> 41378 | AD16: =IF(AND(C16>AC16,C16<AF16),C16,AC16) -> 41378 | AE16: =IF(AND(D16>AC16,D16<AF16),D16,AF16) -> 41379 | AF16: =AF15 -> 41379
A17: =+'Feuille calcul'!A14 -> Presse 05 | E17: =E16 -> 41372 | H17: =H16 -> 41373 | I17: =I16 -> 41373 | L17: =L16 -> 41374 | M17: =M16 -> 41374 | P17: =P16 -> 41375 | Q17: =Q16 -> 41375 | T17: =T16 -> 41376 | U17: =U16 -> 41376 | X17: =X16 -> 41377 | Y17: =Y16 -> 41377 | AB17: =AB16 -> 41378 | AC17: =AC16 -> 41378 | AF17: =AF16 -> 41379
B18: =IF('Feuille calcul'!B14=0,"",'Feuille calcul'!B14) -> Bonchons pechyney | C18: =IF('Feuille calcul'!H14=0,"",'Feuille calcul'!H14) | D18: =IF('Feuille calcul'!I14=0,"",'Feuille calcul'!I14) -> 32.407407 | E18: =E17 -> 41372 | F18: =IF(AND(C18>E18,C18<H18),C18,E18) -> 41372 | G18: =IF(AND(D18>E18,D18<H18),D18,H18) -> 41373 | H18: =H17 -> 41373 | I18: =I17 -> 41373 | J18: =IF(AND(C18>I18,C18<L18),C18,I18) -> 41373 | K18: =IF(AND(D18>I18,D18<L18),D18,L18) -> 41374 | L18: =L17 -> 41374 | M18: =M17 -> 41374 | N18: =IF(AND(C18>M18,C18<P18),C18,M18) -> 41374 | O18: =IF(AND(D18>M18,D18<P18),D18,P18) -> 41375 | P18: =P17 -> 41375 | Q18: =Q17 -> 41375 | R18: =IF(AND(C18>Q18,C18<T18),C18,Q18) -> 41375 | S18: =IF(AND(D18>Q18,D18<T18),D18,T18) -> 41376 | T18: =T17 -> 41376 | U18: =U17 -> 41376 | V18: =IF(AND(C18>U18,C18<X18),C18,U18) -> 41376 | W18: =IF(AND(D18>U18,D18<X18),D18,X18) -> 41377 | X18: =X17 -> 41377 | Y18: =Y17 -> 41377 | Z18: =IF(AND(C18>Y18,C18<AB18),C18,Y18) -> 41377 | AA18: =IF(AND(D18>Y18,D18<AB18),D18,AB18) -> 41378 | AB18: =AB17 -> 41378 | AC18: =AC17 -> 41378 | AD18: =IF(AND(AA18>AC18,AA18<AF18),AA18,AC18) -> 41378 | AE18: =IF(AND(D18>AC18,D18<AF18),D18,AF18) -> 41379 | AF18: =AF17 -> 41379
B19: =IF('Feuille calcul'!B15=0,"",'Feuille calcul'!B15) | C19: =IF('Feuille calcul'!H15=0,"",'Feuille calcul'!H15) | D19: =IF('Feuille calcul'!I15=0,"",'Feuille calcul'!I15) | E19: =E18 -> 41372 | F19: =IF(AND(C19>E19,C19<H19),C19,E19) -> 41372 | G19: =IF(AND(D19>E19,D19<H19),D19,H19) -> 41373 | H19: =H18 -> 41373 | I19: =I18 -> 41373 | J19: =IF(AND(C19>I19,C19<L19),C19,I19) -> 41373 | K19: =IF(AND(D19>I19,D19<L19),D19,L19) -> 41374 | L19: =L18 -> 41374 | M19: =M18 -> 41374 | N19: =IF(AND(C19>M19,C19<P19),C19,M19) -> 41374 | O19: =IF(AND(D19>M19,D19<P19),D19,P19) -> 41375 | P19: =P18 -> 41375 | Q19: =Q18 -> 41375 | R19: =IF(AND(C19>Q19,C19<T19),C19,Q19) -> 41375 | S19: =IF(AND(D19>Q19,D19<T19),D19,T19) -> 41376 | T19: =T18 -> 41376 | U19: =U18 -> 41376 | V19: =IF(AND(C19>U19,C19<X19),C19,U19) -> 41376 | W19: =IF(AND(D19>U19,D19<X19),D19,X19) -> 41377 | X19: =X18 -> 41377 | Y19: =Y18 -> 41377 | Z19: =IF(AND(C19>Y19,C19<AB19),C19,Y19) -> 41377 | AA19: =IF(AND(D19>Y19,D19<AB19),D19,AB19) -> 41378 | AB19: =AB18 -> 41378 | AC19: =AC18 -> 41378 | AD19: =IF(AND(C19>AC19,C19<AF19),C19,AC19) -> 41378 | AE19: =IF(AND(D19>AC19,D19<AF19),D19,AF19) -> 41379 | AF19: =AF18 -> 41379
A20: =+'Feuille calcul'!A16 -> Presse 06 | E20: =E19 -> 41372 | H20: =H19 -> 41373 | I20: =I19 -> 41373 | L20: =L19 -> 41374 | M20: =M19 -> 41374 | P20: =P19 -> 41375 | Q20: =Q19 -> 41375 | T20: =T19 -> 41376 | U20: =U19 -> 41376 | X20: =X19 -> 41377 | Y20: =Y19 -> 41377 | AB20: =AB19 -> 41378 | AC20: =AC19 -> 41378 | AF20: =AF19 -> 41379
B21: =IF('Feuille calcul'!B16=0,"",'Feuille calcul'!B16) | C21: =IF('Feuille calcul'!H16=0,"",'Feuille calcul'!H16) | D21: =IF('Feuille calcul'!I16=0,"",'Feuille calcul'!I16) | E21: =E20 -> 41372 | F21: =IF(AND(C21>E21,C21<H21),C21,E21) -> 41372 | G21: =IF(AND(D21>E21,D21<H21),D21,H21) -> 41373 | H21: =H20 -> 41373 | I21: =I20 -> 41373 | J21: =IF(AND(C21>I21,C21<L21),C21,I21) -> 41373 | K21: =IF(AND(D21>I21,D21<L21),D21,L21) -> 41374 | L21: =L20 -> 41374 | M21: =M20 -> 41374 | N21: =IF(AND(C21>M21,C21<P21),C21,M21) -> 41374 | O21: =IF(AND(D21>M21,D21<P21),D21,P21) -> 41375 | P21: =P20 -> 41375 | Q21: =Q20 -> 41375 | R21: =IF(AND(C21>Q21,C21<T21),C21,Q21) -> 41375 | S21: =IF(AND(D21>Q21,D21<T21),D21,T21) -> 41376 | T21: =T20 -> 41376 | U21: =U20 -> 41376 | V21: =IF(AND(C21>U21,C21<X21),C21,U21) -> 41376 | W21: =IF(AND(D21>U21,D21<X21),D21,X21) -> 41377 | X21: =X20 -> 41377 | Y21: =Y20 -> 41377 | Z21: =IF(AND(C21>Y21,C21<AB21),C21,Y21) -> 41377 | AA21: =IF(AND(D21>Y21,D21<AB21),D21,AB21) -> 41378 | AB21: =AB20 -> 41378 | AC21: =AC20 -> 41378 | AD21: =IF(AND(AA21>AC21,AA21<AF21),AA21,AC21) -> 41378 | AE21: =IF(AND(D21>AC21,D21<AF21),D21,AF21) -> 41379 | AF21: =AF20 -> 41379
B22: =IF('Feuille calcul'!B17=0,"",'Feuille calcul'!B17) | C22: =IF('Feuille calcul'!H17=0,"",'Feuille calcul'!H17) -> 41365.167 | D22: =IF('Feuille calcul'!I17=0,"",'Feuille calcul'!I17) -> 41365.167 | E22: =E21 -> 41372 | F22: =IF(AND(C22>E22,C22<H22),C22,E22) -> 41372 | G22: =IF(AND(D22>E22,D22<H22),D22,H22) -> 41373 | H22: =H21 -> 41373 | I22: =I21 -> 41373 | J22: =IF(AND(C22>I22,C22<L22),C22,I22) -> 41373 | K22: =IF(AND(D22>I22,D22<L22),D22,L22) -> 41374 | L22: =L21 -> 41374 | M22: =M21 -> 41374 | N22: =IF(AND(C22>M22,C22<P22),C22,M22) -> 41374 | O22: =IF(AND(D22>M22,D22<P22),D22,P22) -> 41375 | P22: =P21 -> 41375 | Q22: =Q21 -> 41375 | R22: =IF(AND(C22>Q22,C22<T22),C22,Q22) -> 41375 | S22: =IF(AND(D22>Q22,D22<T22),D22,T22) -> 41376 | T22: =T21 -> 41376 | U22: =U21 -> 41376 | V22: =IF(AND(C22>U22,C22<X22),C22,U22) -> 41376 | W22: =IF(AND(D22>U22,D22<X22),D22,X22) -> 41377 | X22: =X21 -> 41377 | Y22: =Y21 -> 41377 | Z22: =IF(AND(C22>Y22,C22<AB22),C22,Y22) -> 41377 | AA22: =IF(AND(D22>Y22,D22<AB22),D22,AB22) -> 41378 | AB22: =AB21 -> 41378 | AC22: =AC21 -> 41378 | AD22: =IF(AND(C22>AC22,C22<AF22),C22,AC22) -> 41378 | AE22: =IF(AND(D22>AC22,D22<AF22),D22,AF22) -> 41379 | AF22: =AF21 -> 41379
A23: =+'Feuille calcul'!A18 -> Presse 07 | E23: =E22 -> 41372 | H23: =H22 -> 41373 | I23: =I22 -> 41373 | L23: =L22 -> 41374 | M23: =M22 -> 41374 | P23: =P22 -> 41375 | Q23: =Q22 -> 41375 | T23: =T22 -> 41376 | U23: =U22 -> 41376 | X23: =X22 -> 41377 | Y23: =Y22 -> 41377 | AB23: =AB22 -> 41378 | AC23: =AC22 -> 41378 | AF23: =AF22 -> 41379
B24: =IF('Feuille calcul'!B18=0,"",'Feuille calcul'!B18) -> Plaque grigi | C24: =IF('Feuille calcul'!H18=0,"",'Feuille calcul'!H18) -> 41374.75 | D24: =IF('Feuille calcul'!I18=0,"",'Feuille calcul'!I18) -> 41375.676 | E24: =E23 -> 41372 | F24: =IF(AND(C24>E24,C24<H24),C24,E24) -> 41372 | G24: =IF(AND(D24>E24,D24<H24),D24,H24) -> 41373 | H24: =H23 -> 41373 | I24: =I23 -> 41373 | J24: =IF(AND(C24>I24,C24<L24),C24,I24) -> 41373 | K24: =IF(AND(D24>I24,D24<L24),D24,L24) -> 41374 | L24: =L23 -> 41374 | M24: =M23 -> 41374 | N24: =IF(AND(C24>M24,C24<P24),C24,M24) -> 41374.75 | O24: =IF(AND(D24>M24,D24<P24),D24,P24) -> 41375 | P24: =P23 -> 41375 | Q24: =Q23 -> 41375 | R24: =IF(AND(C24>Q24,C24<T24),C24,Q24) -> 41375 | S24: =IF(AND(D24>Q24,D24<T24),D24,T24) -> 41375.676 | T24: =T23 -> 41376 | U24: =U23 -> 41376 | V24: =IF(AND(C24>U24,C24<X24),C24,U24) -> 41376 | W24: =IF(AND(D24>U24,D24<X24),D24,X24) -> 41377 | X24: =X23 -> 41377 | Y24: =Y23 -> 41377 | Z24: =IF(AND(C24>Y24,C24<AB24),C24,Y24) -> 41377 | AA24: =IF(AND(D24>Y24,D24<AB24),D24,AB24) -> 41378 | AB24: =AB23 -> 41378 | AC24: =AC23 -> 41378 | AD24: =IF(AND(AA24>AC24,AA24<AF24),AA24,AC24) -> 41378 | AE24: =IF(AND(D24>AC24,D24<AF24),D24,AF24) -> 41379 | AF24: =AF23 -> 41379
B25: =IF('Feuille calcul'!B19=0,"",'Feuille calcul'!B19) -> Cheville Xenon | C25: =IF('Feuille calcul'!H19=0,"",'Feuille calcul'!H19) -> 41365.167 | D25: =IF('Feuille calcul'!I19=0,"",'Feuille calcul'!I19) -> 41366.903 | E25: =E24 -> 41372 | F25: =IF(AND(C25>E25,C25<H25),C25,E25) -> 41372 | G25: =IF(AND(D25>E25,D25<H25),D25,H25) -> 41373 | H25: =H24 -> 41373 | I25: =I24 -> 41373 | J25: =IF(AND(C25>I25,C25<L25),C25,I25) -> 41373 | K25: =IF(AND(D25>I25,D25<L25),D25,L25) -> 41374 | L25: =L24 -> 41374 | M25: =M24 -> 41374 | N25: =IF(AND(C25>M25,C25<P25),C25,M25) -> 41374 | O25: =IF(AND(D25>M25,D25<P25),D25,P25) -> 41375 | P25: =P24 -> 41375 | Q25: =Q24 -> 41375 | R25: =IF(AND(C25>Q25,C25<T25),C25,Q25) -> 41375 | S25: =IF(AND(D25>Q25,D25<T25),D25,T25) -> 41376 | T25: =T24 -> 41376 | U25: =U24 -> 41376 | V25: =IF(AND(C25>U25,C25<X25),C25,U25) -> 41376 | W25: =IF(AND(D25>U25,D25<X25),D25,X25) -> 41377 | X25: =X24 -> 41377 | Y25: =Y24 -> 41377 | Z25: =IF(AND(C25>Y25,C25<AB25),C25,Y25) -> 41377 | AA25: =IF(AND(D25>Y25,D25<AB25),D25,AB25) -> 41378 | AB25: =AB24 -> 41378 | AC25: =AC24 -> 41378 | AD25: =IF(AND(C25>AC25,C25<AF25),C25,AC25) -> 41378 | AE25: =IF(AND(D25>AC25,D25<AF25),D25,AF25) -> 41379 | AF25: =AF24 -> 41379
A26: =+'Feuille calcul'!A20 -> Presse 08 | E26: =E25 -> 41372 | H26: =H25 -> 41373 | I26: =I25 -> 41373 | L26: =L25 -> 41374 | M26: =M25 -> 41374 | P26: =P25 -> 41375 | Q26: =Q25 -> 41375 | T26: =T25 -> 41376 | U26: =U25 -> 41376 | X26: =X25 -> 41377 | Y26: =Y25 -> 41377 | AB26: =AB25 -> 41378 | AC26: =AC25 -> 41378 | AF26: =AF25 -> 41379
B27: =IF('Feuille calcul'!B20=0,"",'Feuille calcul'!B20) -> Plaque grigi | C27: =IF('Feuille calcul'!H20=0,"",'Feuille calcul'!H20) -> 41373.75 | D27: =IF('Feuille calcul'!I20=0,"",'Feuille calcul'!I20) -> 41374.676 | E27: =E26 -> 41372 | F27: =IF(AND(C27>E27,C27<H27),C27,E27) -> 41372 | G27: =IF(AND(D27>E27,D27<H27),D27,H27) -> 41373 | H27: =H26 -> 41373 | I27: =I26 -> 41373 | J27: =IF(AND(C27>I27,C27<L27),C27,I27) -> 41373.75 | K27: =IF(AND(D27>I27,D27<L27),D27,L27) -> 41374 | L27: =L26 -> 41374 | M27: =M26 -> 41374 | N27: =IF(AND(C27>M27,C27<P27),C27,M27) -> 41374 | O27: =IF(AND(D27>M27,D27<P27),D27,P27) -> 41374.676 | P27: =P26 -> 41375 | Q27: =Q26 -> 41375 | R27: =IF(AND(C27>Q27,C27<T27),C27,Q27) -> 41375 | S27: =IF(AND(D27>Q27,D27<T27),D27,T27) -> 41376 | T27: =T26 -> 41376 | U27: =U26 -> 41376 | V27: =IF(AND(C27>U27,C27<X27),C27,U27) -> 41376 | W27: =IF(AND(D27>U27,D27<X27),D27,X27) -> 41377 | X27: =X26 -> 41377 | Y27: =Y26 -> 41377 | Z27: =IF(AND(C27>Y27,C27<AB27),C27,Y27) -> 41377 | AA27: =IF(AND(D27>Y27,D27<AB27),D27,AB27) -> 41378 | AB27: =AB26 -> 41378 | AC27: =AC26 -> 41378 | AD27: =IF(AND(AA27>AC27,AA27<AF27),AA27,AC27) -> 41378 | AE27: =IF(AND(D27>AC27,D27<AF27),D27,AF27) -> 41379 | AF27: =AF26 -> 41379
B28: =IF('Feuille calcul'!B21=0,"",'Feuille calcul'!B21) -> Cheville Xenon | C28: =IF('Feuille calcul'!H21=0,"",'Feuille calcul'!H21) -> 41365.167 | D28: =IF('Feuille calcul'!I21=0,"",'Feuille calcul'!I21) -> 41366.903 | E28: =E27 -> 41372 | F28: =IF(AND(C28>E28,C28<H28),C28,E28) -> 41372 | G28: =IF(AND(D28>E28,D28<H28),D28,H28) -> 41373 | H28: =H27 -> 41373 | I28: =I27 -> 41373 | J28: =IF(AND(C28>I28,C28<L28),C28,I28) -> 41373 | K28: =IF(AND(D28>I28,D28<L28),D28,L28) -> 41374 | L28: =L27 -> 41374 | M28: =M27 -> 41374 | N28: =IF(AND(C28>M28,C28<P28),C28,M28) -> 41374 | O28: =IF(AND(D28>M28,D28<P28),D28,P28) -> 41375 | P28: =P27 -> 41375 | Q28: =Q27 -> 41375 | R28: =IF(AND(C28>Q28,C28<T28),C28,Q28) -> 41375 | S28: =IF(AND(D28>Q28,D28<T28),D28,T28) -> 41376 | T28: =T27 -> 41376 | U28: =U27 -> 41376 | V28: =IF(AND(C28>U28,C28<X28),C28,U28) -> 41376 | W28: =IF(AND(D28>U28,D28<X28),D28,X28) -> 41377 | X28: =X27 -> 41377 | Y28: =Y27 -> 41377 | Z28: =IF(AND(C28>Y28,C28<AB28),C28,Y28) -> 41377 | AA28: =IF(AND(D28>Y28,D28<AB28),D28,AB28) -> 41378 | AB28: =AB27 -> 41378 | AC28: =AC27 -> 41378 | AD28: =IF(AND(C28>AC28,C28<AF28),C28,AC28) -> 41378 | AE28: =IF(AND(D28>AC28,D28<AF28),D28,AF28) -> 41379 | AF28: =AF27 -> 41379
A29: =+'Feuille calcul'!A22 -> Presse 09 | E29: =E28 -> 41372 | H29: =H28 -> 41373 | I29: =I28 -> 41373 | L29: =L28 -> 41374 | M29: =M28 -> 41374 | P29: =P28 -> 41375 | Q29: =Q28 -> 41375 | T29: =T28 -> 41376 | U29: =U28 -> 41376 | X29: =X28 -> 41377 | Y29: =Y28 -> 41377 | AB29: =AB28 -> 41378 | AC29: =AC28 -> 41378 | AF29: =AF28 -> 41379
B30: =IF('Feuille calcul'!B22=0,"",'Feuille calcul'!B22) -> Plaque grigi | C30: =IF('Feuille calcul'!H22=0,"",'Feuille calcul'!H22) -> 41374.75 | D30: =IF('Feuille calcul'!I22=0,"",'Feuille calcul'!I22) -> 41375.676 | E30: =E29 -> 41372 | F30: =IF(AND(C30>E30,C30<H30),C30,E30) -> 41372 | G30: =IF(AND(D30>E30,D30<H30),D30,H30) -> 41373 | H30: =H29 -> 41373 | I30: =I29 -> 41373 | J30: =IF(AND(C30>I30,C30<L30),C30,I30) -> 41373 | K30: =IF(AND(D30>I30,D30<L30),D30,L30) -> 41374 | L30: =L29 -> 41374 | M30: =M29 -> 41374 | N30: =IF(AND(C30>M30,C30<P30),C30,M30) -> 41374.75 | O30: =IF(AND(D30>M30,D30<P30),D30,P30) -> 41375 | P30: =P29 -> 41375 | Q30: =Q29 -> 41375 | R30: =IF(AND(C30>Q30,C30<T30),C30,Q30) -> 41375 | S30: =IF(AND(D30>Q30,D30<T30),D30,T30) -> 41375.676 | T30: =T29 -> 41376 | U30: =U29 -> 41376 | V30: =IF(AND(C30>U30,C30<X30),C30,U30) -> 41376 | W30: =IF(AND(D30>U30,D30<X30),D30,X30) -> 41377 | X30: =X29 -> 41377 | Y30: =Y29 -> 41377 | Z30: =IF(AND(C30>Y30,C30<AB30),C30,Y30) -> 41377 | AA30: =IF(AND(D30>Y30,D30<AB30),D30,AB30) -> 41378 | AB30: =AB29 -> 41378 | AC30: =AC29 -> 41378 | AD30: =IF(AND(AA30>AC30,AA30<AF30),AA30,AC30) -> 41378 | AE30: =IF(AND(D30>AC30,D30<AF30),D30,AF30) -> 41379 | AF30: =AF29 -> 41379
B31: =IF('Feuille calcul'!B23=0,"",'Feuille calcul'!B23) -> Cheville Xenon | C31: =IF('Feuille calcul'!H23=0,"",'Feuille calcul'!H23) -> 41365.167 | D31: =IF('Feuille calcul'!I23=0,"",'Feuille calcul'!I23) -> 41366.903 | E31: =E30 -> 41372 | F31: =IF(AND(C31>E31,C31<H31),C31,E31) -> 41372 | G31: =IF(AND(D31>E31,D31<H31),D31,H31) -> 41373 | H31: =H30 -> 41373 | I31: =I30 -> 41373 | J31: =IF(AND(C31>I31,C31<L31),C31,I31) -> 41373 | K31: =IF(AND(D31>I31,D31<L31),D31,L31) -> 41374 | L31: =L30 -> 41374 | M31: =M30 -> 41374 | N31: =IF(AND(C31>M31,C31<P31),C31,M31) -> 41374 | O31: =IF(AND(D31>M31,D31<P31),D31,P31) -> 41375 | P31: =P30 -> 41375 | Q31: =Q30 -> 41375 | R31: =IF(AND(C31>Q31,C31<T31),C31,Q31) -> 41375 | S31: =IF(AND(D31>Q31,D31<T31),D31,T31) -> 41376 | T31: =T30 -> 41376 | U31: =U30 -> 41376 | V31: =IF(AND(C31>U31,C31<X31),C31,U31) -> 41376 | W31: =IF(AND(D31>U31,D31<X31),D31,X31) -> 41377 | X31: =X30 -> 41377 | Y31: =Y30 -> 41377 | Z31: =IF(AND(C31>Y31,C31<AB31),C31,Y31) -> 41377 | AA31: =IF(AND(D31>Y31,D31<AB31),D31,AB31) -> 41378 | AB31: =AB30 -> 41378 | AC31: =AC30 -> 41378 | AD31: =IF(AND(C31>AC31,C31<AF31),C31,AC31) -> 41378 | AE31: =IF(AND(D31>AC31,D31<AF31),D31,AF31) -> 41379 | AF31: =AF30 -> 41379
A32: =+'Feuille calcul'!A24 -> Presse 10 | E32: =E31 -> 41372 | H32: =H31 -> 41373 | I32: =I31 -> 41373 | L32: =L31 -> 41374 | M32: =M31 -> 41374 | P32: =P31 -> 41375 | Q32: =Q31 -> 41375 | T32: =T31 -> 41376 | U32: =U31 -> 41376 | X32: =X31 -> 41377 | Y32: =Y31 -> 41377 | AB32: =AB31 -> 41378 | AC32: =AC31 -> 41378 | AF32: =AF31 -> 41379
B33: =IF('Feuille calcul'!B24=0,"",'Feuille calcul'!B24) -> Plaque grigi | C33: =IF('Feuille calcul'!H24=0,"",'Feuille calcul'!H24) -> 41375.75 | D33: =IF('Feuille calcul'!I24=0,"",'Feuille calcul'!I24) -> 41376.676 | E33: =E32 -> 41372 | F33: =IF(AND(C33>E33,C33<H33),C33,E33) -> 41372 | G33: =IF(AND(D33>E33,D33<H33),D33,H33) -> 41373 | H33: =H32 -> 41373 | I33: =I32 -> 41373 | J33: =IF(AND(C33>I33,C33<L33),C33,I33) -> 41373 | K33: =IF(AND(D33>I33,D33<L33),D33,L33) -> 41374 | L33: =L32 -> 41374 | M33: =M32 -> 41374 | N33: =IF(AND(C33>M33,C33<P33),C33,M33) -> 41374 | O33: =IF(AND(D33>M33,D33<P33),D33,P33) -> 41375 | P33: =P32 -> 41375 | Q33: =Q32 -> 41375 | R33: =IF(AND(C33>Q33,C33<T33),C33,Q33) -> 41375.75 | S33: =IF(AND(D33>Q33,D33<T33),D33,T33) -> 41376 | T33: =T32 -> 41376 | U33: =U32 -> 41376 | V33: =IF(AND(C33>U33,C33<X33),C33,U33) -> 41376 | W33: =IF(AND(D33>U33,D33<X33),D33,X33) -> 41376.676 | X33: =X32 -> 41377 | Y33: =Y32 -> 41377 | Z33: =IF(AND(C33>Y33,C33<AB33),C33,Y33) -> 41377 | AA33: =IF(AND(D33>Y33,D33<AB33),D33,AB33) -> 41378 | AB33: =AB32 -> 41378 | AC33: =AC32 -> 41378 | AD33: =IF(AND(AA33>AC33,AA33<AF33),AA33,AC33) -> 41378 | AE33: =IF(AND(D33>AC33,D33<AF33),D33,AF33) -> 41379 | AF33: =AF32 -> 41379
B34: =IF('Feuille calcul'!B25=0,"",'Feuille calcul'!B25) -> Cheville Xenon | C34: =IF('Feuille calcul'!H25=0,"",'Feuille calcul'!H25) -> 41365.167 | D34: =IF('Feuille calcul'!I25=0,"",'Feuille calcul'!I25) -> 41366.903 | E34: =E33 -> 41372 | F34: =IF(AND(C34>E34,C34<H34),C34,E34) -> 41372 | G34: =IF(AND(D34>E34,D34<H34),D34,H34) -> 41373 | H34: =H33 -> 41373 | I34: =I33 -> 41373 | J34: =IF(AND(C34>I34,C34<L34),C34,I34) -> 41373 | K34: =IF(AND(D34>I34,D34<L34),D34,L34) -> 41374 | L34: =L33 -> 41374 | M34: =M33 -> 41374 | N34: =IF(AND(C34>M34,C34<P34),C34,M34) -> 41374 | O34: =IF(AND(D34>M34,D34<P34),D34,P34) -> 41375 | P34: =P33 -> 41375 | Q34: =Q33 -> 41375 | R34: =IF(AND(C34>Q34,C34<T34),C34,Q34) -> 41375 | S34: =IF(AND(D34>Q34,D34<T34),D34,T34) -> 41376 | T34: =T33 -> 41376 | U34: =U33 -> 41376 | V34: =IF(AND(C34>U34,C34<X34),C34,U34) -> 41376 | W34: =IF(AND(D34>U34,D34<X34),D34,X34) -> 41377 | X34: =X33 -> 41377 | Y34: =Y33 -> 41377 | Z34: =IF(AND(C34>Y34,C34<AB34),C34,Y34) -> 41377 | AA34: =IF(AND(D34>Y34,D34<AB34),D34,AB34) -> 41378 | AB34: =AB33 -> 41378 | AC34: =AC33 -> 41378 | AD34: =IF(AND(C34>AC34,C34<AF34),C34,AC34) -> 41378 | AE34: =IF(AND(D34>AC34,D34<AF34),D34,AF34) -> 41379 | AF34: =AF33 -> 41379
