Workbook
Name AB: '[1]ETUDE TF'!$L$2
Name ce: [1]FDC!$C$7
Name FC: '[1]ETUDE TF'!$N$1
Name FFO: '[1]ETUDE TF'!$N$4
Name FGTP: '[1]ETUDE TF'!$N$2
Name FST: '[1]ETUDE TF'!$N$5
Name redg: '[1]ETUDE TF'!$L$3
Name TVA: [1]Données!$D$6

Sheet Tableau recap
B2: Tableau récapitulatif | F2: =NOW() -> 43301.363
A7: n° | B7: DESCRIPTIONS | C7: UNIT. | D7: QUANTITÉ | E7: PRIX UNITAIRE | F7: MONTANT H.T. | H7: Bonjour, voici un tableau récapitulatif qui me permet de faire des devis. Pour chaque ligne j'ai une description. Exemple ici : "Stabilisation". Pour cette ligne "stabilisation" je dois détailler le prix dans une feuille qui s'appelle "SDP" qui veut dire Sous détail de prix. Cette feuille me permettra de décrire en détail les travaux exact de cette tâche. Et donc pour chaque descriptions je dois refaire : un "Sous Detail de Prix", recopier le tableau SDP dans une nouvelle feuille, remettre le titre de chaque description. Bref ça me prend énormément de temps. Mon but est donc de faire une macro qui me permettrait d'ouvrir automatiquement une feuille "Sous détail de prix" quand j'ecris le titre de chaque descriptions. Une decription= un sous détail de prix. Et il faudrait que quand je remplisse ma feuille sous détail de prix, la quantité, le prix unitaire et le montant H.T puisse s'afficher dans mon tableau récap. De plus, dans la feuille "coef" je voudrais pouvoir changer c'est 4 coefs et qu'il change dans mes feuilles sous détail de prix.
A9: 1 | B9: stabilsation | C9: FOR | D9: 1 | E9: =+'SDP1'!H51 -> 6.072 | F9: =IF(D9="","",$E9*E9) -> 36.869184
A10: 2 | B10: remblai | C10: FOR | D10: 1 | F10: =IF(D10="","",$E10*E10) -> 0
A11: 3 | B11: sssssss | C11: U | D11: 1 | F11: =IF(D11="","",$E11*E11) -> 0
A12: 4 | B12: sssssss | C12: M2 | D12: 1 | F12: =IF(D12="","",$E12*E12) -> 0
A13: 5 | B13: sssssss | C13: M2 | D13: 1 | F13: =IF(D13="","",$E13*E13) -> 0
A14: 6 | B14: sssssss | C14: M2 | D14: 1 | F14: =IF(D14="","",$E14*E14) -> 0
A15: 7 | B15: sssssss | C15: M2 | D15: 1
A16: 8 | B16: sssssss | C16: M2 | D16: 1 | F16: =IF(D16="","",$E16*E16) -> 0
A17: 9 | B17: sssssss | C17: M2 | D17: 1 | F17: =IF(D17="","",$E17*E17) -> 0
A18: 10 | B18: sssssss | C18: M2 | D18: 1 | F18: =IF(D18="","",$E18*E18) -> 0
A19: 11 | B19: sssssss | C19: M2 | D19: 1 | F19: =IF(D19="","",$E19*E19) -> 0
A20: 12 | B20: sssssss | C20: M2 | D20: 1 | F20: =IF(D20="","",$E20*E20) -> 0
A21: 13 | B21: sssssss | C21: M2 | D21: 1 | F21: =IF(D21="","",$E21*E21) -> 0
A22: 14 | B22: sssssss | C22: M2 | D22: 1 | F22: =IF(D22="","",$E22*E22) -> 0
A23: 15 | B23: sssssss | C23: M2 | D23: 1 | F23: =IF(D23="","",$E23*E23) -> 0
A24: 16 | B24: sssssss | C24: M2 | D24: 2 | F24: =IF(D24="","",$E24*E24) -> 0
F25: =IF(D25="","",$E25*E25)
F26: =IF(D26="","",$E26*E26)
F27: =IF(D27="","",$E27*E27)
B28: TOTAL OPTION | F28: =SUM(F8:F27) -> 36.869184
B29: TOTAL GENERAL H.T. | F29: =F26+#REF!+F28 -> #VALUE!
B30: =TVA -> 20 | F30: =F29*TVA/100 -> #VALUE!
B31: TOTAL TTC DE L'OPERATION | F31: =F29+F30 -> #VALUE!

Sheet COEF
A3: FOURNITURES | B3: 1.15
A4: MATERIEL | B4: 1.15
A5: MO | B5: 1.15
A6: ST | B6: 1.15

Sheet SDP1
D2: ETUDE DE PRIX | H2: Page :
A5: Etude n° : | C5: Chantier : | G5: Date : | H5: =+TODAY() -> 43301
D7: Désignation : | G7: Unité: | H7: 100
A8: Prix n° : | C8: =+'Tableau recap'!B9 -> stabilsation | G8: =+'Tableau recap'!C9 -> FOR | H8: =+'Tableau recap'!D9 -> 1
H9: =H8/H7 -> 0.01
F10: Prix Sec en € | G10: Coefficient | H10: Prix de Vente en €
A12: * Fournitures : | D12: Distance Evacuation | E12: 0.2
A13: Dépôt | B13: Nbre | C13: Prix unit | D13: Coût unitaire | E13: Nbre de Tr
A14: Recyclage | B14: 1 | C14: 0 | D14: =B14*C14 -> 0 | E14: 35
A15: agricol | B15: 1 | D15: =B15*C15 -> 0 | E15: =E14*E12*2 -> 14
A16: 0 | D16: =B16*C16 -> 0 | E16: =(B14)*B15*D42*8 -> 100
B17: Coût unitaire | D17: =SUM(D14:D16) -> 0
B18: Coeff perte | D18: 0
D19: =D17*(1+D18) -> 0
F20: =D19 -> 0 | G20: =+COEF!B3 -> 1.15 | H20: =F20*G20 -> 0
A21: * Matériel :
B22: Nbre | C22: Taux horaire | D22: Coût horaire | E22: Nbre d'heures
A23: Pelle | B23: 1 | C23: 10 | D23: =B23*C23 -> 10 | E23: =B23*H$8/D$35 -> 0.08
A24: Tracto benne | B24: =ROUNDUP((D$35*8)*B$14/(E24*E$14),0) -> 1 | C24: 10 | D24: =B24*C24 -> 10 | E24: =16/B15 -> 16
A25: Camion | B25: =ROUNDUP((D$35*8)*B14/(E25*E$14),0)*0 -> 0 | C25: 10 | D25: =B25*C25 -> 0 | E25: 12
A26: Bull | B26: 0 | C26: 10 | D26: =B26*C26 -> 0 | E26: =B24*E24+B25*E25 -> 16
B27: 1 | C27: 10 | D27: =B27*C27 -> 10 | E27: =(D24+D25)/(D35*B15) -> 0.8
B28: 0 | C28: 10 | D28: =B28*C28 -> 0
B29: 0 | C29: 10 | D29: =B29*C29 -> 0
B30: 1 | C30: 10 | D30: =B30*C30 -> 10
B31: 0 | C31: 1 | D31: =B31*C31 -> 0
B32: 0 | C32: 10 | D32: =B32*C32 -> 0
B33: 1 | C33: 10 | D33: =B33*C33 -> 10
B34: Coût horaire | D34: =SUM(D23:D33) -> 50
B35: Rendement | D35: =C$62 -> 12.5
F36: =D34/D35 -> 4 | G36: =+COEF!B4 -> 1.15 | H36: =F36*G36 -> 4.6
A37: * Main d'oeuvre :
B38: Nbre | C38: Taux horaire | D38: Coût horaire | E38: Nbre d'heures
A39: CE | B39: 1 | C39: 12 | D39: 8 | E39: =B39*H$8/D$42 -> 0.08
A40: MO | B40: 2 | C40: 12 | D40: 8
B41: Coût horaire | D41: =SUM(D39:D40) -> 16
B42: Rendement | D42: =C$62 -> 12.5
F43: =D41/D42 -> 1.28 | G43: =+COEF!B5 -> 1.15 | H43: =F43*G43 -> 1.472
A44: * Sous-traitance :
B45: Nbre | C45: Prix unit | D45: Coût unitaire
...
