Workbook

Sheet 2018
A1: 2018 | AG1: J | AH1: V | AI1: S | AJ1: D | AK1: L | AL1: Ma | AM1: Me | AN1: J
B3: Légende : | H3: périodes très contraintes | M3: périodes contraintes
A5: =B6 -> 43101 | B5: =B6 -> 43101 | C5: =C6 -> 43102 | D5: =D6 -> 43103 | E5: =E6 -> 43104 | F5: =F6 -> 43105 | G5: =G6 -> 43106 | H5: =H6 -> 43107 | I5: =I6 -> 43108 | ... AF5: =AF6 -> 43131 | AP5: 1 | AQ5: 2 | AR5: 3 | AS5: 4 | AT5: 5 | AU5: 6 | AV5: 7 | AW5: 8 | AX5: 9 | AY5: 10 | AZ5: 11 | BA5: 12 | BB5: 13 | BC5: 14 | BD5: 15 | BE5: 16 | BF5: 17 | BG5: 18 | BH5: 19 | BI5: 20 | BJ5: 21 | BK5: 22 | BL5: 23 | BM5: 24 | BN5: 25 | BO5: 26 | BP5: 27 | BQ5: 28 | BR5: 29 | BS5: 30 | BT5: 31
B6: =DATE($A$1,1,AP$5) -> 43101 | C6: =DATE($A$1,1,AQ$5) -> 43102 | D6: =DATE($A$1,1,AR$5) -> 43103 | E6: =DATE($A$1,1,AS$5) -> 43104 | F6: =DATE($A$1,1,AT$5) -> 43105 | G6: =DATE($A$1,1,AU$5) -> 43106 | H6: =DATE($A$1,1,AV$5) -> 43107 | I6: =DATE($A$1,1,AW$5) -> 43108 | ... AF6: =DATE($A$1,1,BT$5) -> 43131
A7: Event | AF7: Aérosol
A8: Niveau de BAR | B8: 1 | C8: 1 | D8: 1 | E8: 1 | F8: 1 | G8: 1 | H8: 1 | I8: 1 | J8: 1 | K8: 1 | L8: 1 | M8: 1 | N8: 1 | O8: 1 | P8: 1 | Q8: 1 | R8: 1 | S8: 1 | T8: 1 | U8: 1 | V8: 1 | W8: 1 | X8: 1 | Y8: 1 | Z8: 1 | AA8: 1 | AB8: 1 | AC8: 1 | AD8: 1 | AE8: 1 | AF8: 1
A9: Flexible Double | B9: =IF(OR(B8<1,B8>10),"",VLOOKUP($A8&""&B8,Feuil2!$A16:$B25,2,0)) -> #N/A | C9: =IF(OR(C8<1,C8>10),"",VLOOKUP($A8 & " " & C8,Feuil2!$A16:$B25,2,0)) -> #N/A | D9: =IFERROR(VLOOKUP(D8,Feuil2!$A$16:$B$25,2,0),"") -> 125.35 | E9: =IFERROR(VLOOKUP(E8,Feuil2!$A$16:$B$25,2,0),"") -> 125.35 | F9: =IFERROR(VLOOKUP(F8,Feuil2!$A$16:$B$25,2,0),"") -> 125.35 | G9: =IFERROR(VLOOKUP(G8,Feuil2!$A$16:$B$25,2,0),"") -> 125.35 | H9: =IFERROR(VLOOKUP(H8,Feuil2!$A$16:$B$25,2,0),"") -> 125.35 | I9: =IFERROR(VLOOKUP(I8,Feuil2!$A$16:$B$25,2,0),"") -> 125.35 | J9: =IFERROR(VLOOKUP(J8,Feuil2!$A$16:$B$25,2,0),"") -> 125.35 | K9: =IFERROR(VLOOKUP(K8,Feuil2!$A$16:$B$25,2,0),"") -> 125.35 | ... AF9: =IFERROR(VLOOKUP(AF8,Feuil2!$A$16:$B$25,2,0),"") -> 125.35
A10: Non Remb. Double
A12: =B13 -> 43132 | B12: =B13 -> 43132 | C12: =C13 -> 43133 | D12: =D13 -> 43134 | E12: =E13 -> 43135 | F12: =F13 -> 43136 | G12: =G13 -> 43137 | H12: =H13 -> 43138 | I12: =I13 -> 43139 | ... AC12: =AC13 -> 43159
B13: =DATE($A$1,2,AP$5) -> 43132 | C13: =DATE($A$1,2,AQ$5) -> 43133 | D13: =DATE($A$1,2,AR$5) -> 43134 | E13: =DATE($A$1,2,AS$5) -> 43135 | F13: =DATE($A$1,2,AT$5) -> 43136 | G13: =DATE($A$1,2,AU$5) -> 43137 | H13: =DATE($A$1,2,AV$5) -> 43138 | I13: =DATE($A$1,2,AW$5) -> 43139 | ... AC13: =DATE($A$1,2,BQ$5) -> 43159
A14: Event | B14: Aérosol | G14: RETROMOBIL + PHARMAPACK | Y14: SALON DE L'AGRICULTURE
A15: Niveau de BAR | B15: 1 | C15: 1 | D15: 1 | E15: 1 | F15: 1 | G15: 1 | H15: 1 | I15: 1 | J15: 1 | K15: 1 | L15: 1 | M15: 1 | N15: 1 | O15: 1 | P15: 1 | Q15: 1 | R15: 1 | S15: 1 | T15: 1 | U15: 1 | V15: 1 | W15: 1 | X15: 1 | Y15: 1 | Z15: 1 | AA15: 1 | AB15: 1 | AC15: 1
A16: Flexible Double | B16: =IFERROR(VLOOKUP(B15,Feuil2!$A$16:$B$25,2,0),"") -> 125.35 | C16: =IFERROR(VLOOKUP(C15,Feuil2!$A$16:$B$25,2,0),"") -> 125.35 | D16: =IFERROR(VLOOKUP(D15,Feuil2!$A$16:$B$25,2,0),"") -> 125.35 | E16: =IFERROR(VLOOKUP(E15,Feuil2!$A$16:$B$25,2,0),"") -> 125.35 | F16: =IFERROR(VLOOKUP(F15,Feuil2!$A$16:$B$25,2,0),"") -> 125.35 | G16: =IFERROR(VLOOKUP(G15,Feuil2!$A$16:$B$25,2,0),"") -> 125.35 | H16: =IFERROR(VLOOKUP(H15,Feuil2!$A$16:$B$25,2,0),"") -> 125.35 | I16: =IFERROR(VLOOKUP(I15,Feuil2!$A$16:$B$25,2,0),"") -> 125.35 | ... AC16: =IFERROR(VLOOKUP(AC15,Feuil2!$A$16:$B$25,2,0),"") -> 125.35
A19: =B20 -> 43160 | B19: =B20 -> 43160 | C19: =C20 -> 43161 | D19: =D20 -> 43162 | E19: =E20 -> 43163 | F19: =F20 -> 43164 | G19: =G20 -> 43165 | H19: =H20 -> 43166 | I19: =I20 -> 8 | ... AF19: =AF20 -> 43190
B20: =DATE($A$1,3,AP$5) -> 43160 | C20: =DATE($A$1,3,AQ$5) -> 43161 | D20: =DATE($A$1,3,AR$5) -> 43162 | E20: =DATE($A$1,3,AS$5) -> 43163 | F20: =DATE($A$1,3,AT$5) -> 43164 | G20: =DATE($A$1,3,AU$5) -> 43165 | H20: =DATE($A$1,3,AV$5) -> 43166 | I20: 8 | J20: =DATE($A$1,3,AX$5) -> 43168 | K20: =DATE($A$1,3,AY$5) -> 43169 | L20: =DATE($A$1,3,AZ$5) -> 43170 | M20: =DATE($A$1,3,BA$5) -> 43171 | N20: =DATE($A$1,3,BB$5) -> 43172 | O20: =DATE($A$1,3,BC$5) -> 43173 | P20: =DATE($A$1,3,BD$5) -> 43174 | Q20: =DATE($A$1,3,BE$5) -> 43175 | ... AF20: =DATE($A$1,3,BT$5) -> 43190
A21: Event | B21: Fashion week fall | T21: salon RH + Elearning+ autre | Z21: SALON DE LA FRANCHISE
A22: Niveau de BAR | B22: 1 | C22: 1 | D22: 1 | E22: 1 | F22: 1 | G22: 1 | H22: 1 | I22: 1 | J22: 1 | K22: 1 | L22: 1 | M22: 1 | N22: 1 | O22: 1 | P22: 1 | Q22: 1 | R22: 1 | S22: 1 | T22: 1 | U22: 1 | V22: 1 | W22: 1 | X22: 1 | Y22: 1 | Z22: 1 | AA22: 1 | AB22: 1 | AC22: 1 | AD22: 1 | AE22: 1 | AF22: 1
A23: Flexible Double | B23: =IFERROR(VLOOKUP(B22,Feuil2!$A$16:$B$25,2,0),"") -> 125.35 | C23: =IFERROR(VLOOKUP(C22,Feuil2!$A$16:$B$25,2,0),"") -> 125.35 | D23: =IFERROR(VLOOKUP(D22,Feuil2!$A$16:$B$25,2,0),"") -> 125.35 | E23: =IFERROR(VLOOKUP(E22,Feuil2!$A$16:$B$25,2,0),"") -> 125.35 | F23: =IFERROR(VLOOKUP(F22,Feuil2!$A$16:$B$25,2,0),"") -> 125.35 | G23: =IFERROR(VLOOKUP(G22,Feuil2!$A$16:$B$25,2,0),"") -> 125.35 | H23: =IFERROR(VLOOKUP(H22,Feuil2!$A$16:$B$25,2,0),"") -> 125.35 | I23: =IFERROR(VLOOKUP(I22,Feuil2!$A$16:$B$25,2,0),"") -> 125.35 | ... AF23: =IFERROR(VLOOKUP(AF22,Feuil2!$A$16:$B$25,2,0),"") -> 125.35
A26: =B27 -> 43191 | B26: =B27 -> 43191 | C26: =C27 -> 43192 | D26: =D27 -> 43193 | E26: =E27 -> 43194 | F26: =F27 -> 43195 | G26: =G27 -> 43196 | H26: =H27 -> 43197 | I26: =I27 -> 43198 | ... AE26: =AE27 -> 43220
B27: =DATE($A$1,4,AP$5) -> 43191 | C27: =DATE($A$1,4,AQ$5) -> 43192 | D27: =DATE($A$1,4,AR$5) -> 43193 | E27: =DATE($A$1,4,AS$5) -> 43194 | F27: =DATE($A$1,4,AT$5) -> 43195 | G27: =DATE($A$1,4,AU$5) -> 43196 | H27: =DATE($A$1,4,AV$5) -> 43197 | I27: =DATE($A$1,4,AW$5) -> 43198 | ... AE27: =DATE($A$1,4,BS$5) -> 43220
A28: Event | E28: SNACKING | G28: PHARMAGORA | K28: ILC
A29: Niveau de BAR | B29: 1 | C29: 1 | D29: 1 | E29: 1 | F29: 1 | G29: 1 | H29: 1 | I29: 1 | J29: 1 | K29: 1 | L29: 1 | M29: 1 | N29: 1 | O29: 1 | P29: 1 | Q29: 1 | R29: 1 | S29: 1 | T29: 1 | U29: 1 | V29: 1 | W29: 1 | X29: 1 | Y29: 1 | Z29: 1 | AA29: 1 | AB29: 1 | AC29: 1 | AD29: 1 | AE29: 1
A30: Flexible Double | B30: =IFERROR(VLOOKUP(B29,Feuil2!$A$16:$B$25,2,0),"") -> 125.35 | C30: =IFERROR(VLOOKUP(C29,Feuil2!$A$16:$B$25,2,0),"") -> 125.35 | D30: =IFERROR(VLOOKUP(D29,Feuil2!$A$16:$B$25,2,0),"") -> 125.35 | E30: =IFERROR(VLOOKUP(E29,Feuil2!$A$16:$B$25,2,0),"") -> 125.35 | F30: =IFERROR(VLOOKUP(F29,Feuil2!$A$16:$B$25,2,0),"") -> 125.35 | G30: =IFERROR(VLOOKUP(G29,Feuil2!$A$16:$B$25,2,0),"") -> 125.35 | H30: =IFERROR(VLOOKUP(H29,Feuil2!$A$16:$B$25,2,0),"") -> 125.35 | I30: =IFERROR(VLOOKUP(I29,Feuil2!$A$16:$B$25,2,0),"") -> 125.35 | ... AE30: =IFERROR(VLOOKUP(AE29,Feuil2!$A$16:$B$25,2,0),"") -> 125.35
A33: =B34 -> 43221 | B33: =B34 -> 43221 | C33: =C34 -> 43222 | D33: =D34 -> 43223 | E33: =E34 -> 43224 | F33: =F34 -> 43225 | G33: =G34 -> 43226 | H33: =H34 -> 43227 | I33: =I34 -> 43228 | ... AF33: =AF34 -> 43251
B34: =DATE($A$1,5,AP$5) -> 43221 | C34: =DATE($A$1,5,AQ$5) -> 43222 | D34: =DATE($A$1,5,AR$5) -> 43223 | E34: =DATE($A$1,5,AS$5) -> 43224 | F34: =DATE($A$1,5,AT$5) -> 43225 | G34: =DATE($A$1,5,AU$5) -> 43226 | H34: =DATE($A$1,5,AV$5) -> 43227 | I34: =DATE($A$1,5,AW$5) -> 43228 | ... AF34: =DATE($A$1,5,BT$5) -> 43251
A35: Event | AD35: Paris Healthcare week
A36: Niveau de BAR | B36: 1 | C36: 1 | D36: 1 | E36: 1 | F36: 1 | G36: 1 | H36: 1 | I36: 1 | J36: 1 | K36: 1 | L36: 1 | M36: 1 | N36: 1 | O36: 1 | P36: 1 | Q36: 1 | R36: 1 | S36: 1 | T36: 1 | U36: 1 | V36: 1 | W36: 1 | X36: 1 | Y36: 1 | Z36: 1 | AA36: 1 | AB36: 1 | AC36: 1 | AD36: 1 | AE36: 1 | AF36: 1
A37: Flexible Double | B37: =IFERROR(VLOOKUP(B36,Feuil2!$A$16:$B$25,2,0),"") -> 125.35 | C37: =IFERROR(VLOOKUP(C36,Feuil2!$A$16:$B$25,2,0),"") -> 125.35 | D37: =IFERROR(VLOOKUP(D36,Feuil2!$A$16:$B$25,2,0),"") -> 125.35 | E37: =IFERROR(VLOOKUP(E36,Feuil2!$A$16:$B$25,2,0),"") -> 125.35 | F37: =IFERROR(VLOOKUP(F36,Feuil2!$A$16:$B$25,2,0),"") -> 125.35 | G37: =IFERROR(VLOOKUP(G36,Feuil2!$A$16:$B$25,2,0),"") -> 125.35 | H37: =IFERROR(VLOOKUP(H36,Feuil2!$A$16:$B$25,2,0),"") -> 125.35 | I37: =IFERROR(VLOOKUP(I36,Feuil2!$A$16:$B$25,2,0),"") -> 125.35 | ... AF37: =IFERROR(VLOOKUP(AF36,Feuil2!$A$16:$B$25,2,0),"") -> 125.35
A40: =B41 -> 43252 | B40: =B41 -> 43252 | C40: =C41 -> 43253 | D40: =D41 -> 43254 | E40: =E41 -> 43255 | F40: =F41 -> 43256 | G40: =G41 -> 43257 | H40: =H41 -> 43258 | I40: =I41 -> 43259 | ... AE40: =AE41 -> 43281
B41: =DATE($A$1,6,AP$5) -> 43252 | C41: =DATE($A$1,6,AQ$5) -> 43253 | D41: =DATE($A$1,6,AR$5) -> 43254 | E41: =DATE($A$1,6,AS$5) -> 43255 | F41: =DATE($A$1,6,AT$5) -> 43256 | G41: =DATE($A$1,6,AU$5) -> 43257 | H41: =DATE($A$1,6,AV$5) -> 43258 | I41: =DATE($A$1,6,AW$5) -> 43259 | ... AE41: =DATE($A$1,6,BS$5) -> 43281
A42: Event | G42: SIEC | S42: ISMRM
A43: Niveau de BAR | B43: 1 | C43: 1 | D43: 1 | E43: 1 | F43: 1 | G43: 1 | H43: 1 | I43: 1 | J43: 1 | K43: 1 | L43: 1 | M43: 1 | N43: 1 | O43: 1 | P43: 1 | Q43: 1 | R43: 1 | S43: 1 | T43: 1 | U43: 1 | V43: 1 | W43: 1 | X43: 1 | Y43: 1 | Z43: 1 | AA43: 1 | AB43: 1 | AC43: 1 | AD43: 1 | AE43: 1
A44: Flexible Double | B44: =IFERROR(VLOOKUP(B43,Feuil2!$A$16:$B$25,2,0),"") -> 125.35 | C44: =IFERROR(VLOOKUP(C43,Feuil2!$A$16:$B$25,2,0),"") -> 125.35 | D44: =IFERROR(VLOOKUP(D43,Feuil2!$A$16:$B$25,2,0),"") -> 125.35 | E44: =IFERROR(VLOOKUP(E43,Feuil2!$A$16:$B$25,2,0),"") -> 125.35 | F44: =IFERROR(VLOOKUP(F43,Feuil2!$A$16:$B$25,2,0),"") -> 125.35 | G44: =IFERROR(VLOOKUP(G43,Feuil2!$A$16:$B$25,2,0),"") -> 125.35 | H44: =IFERROR(VLOOKUP(H43,Feuil2!$A$16:$B$25,2,0),"") -> 125.35 | I44: =IFERROR(VLOOKUP(I43,Feuil2!$A$16:$B$25,2,0),"") -> 125.35 | ... AE44: =IFERROR(VLOOKUP(AE43,Feuil2!$A$16:$B$25,2,0),"") -> 125.35
A47: =B48 -> 43282 | B47: =B48 -> 43282 | C47: =C48 -> 43283 | D47: =D48 -> 43284 | E47: =E48 -> 43285 | F47: =F48 -> 43286 | G47: =G48 -> 43287 | H47: =H48 -> 43288 | I47: =I48 -> 43289 | ... AF47: =AF48 -> 43312
B48: =DATE($A$1,7,AP$5) -> 43282 | C48: =DATE($A$1,7,AQ$5) -> 43283 | D48: =DATE($A$1,7,AR$5) -> 43284 | E48: =DATE($A$1,7,AS$5) -> 43285 | F48: =DATE($A$1,7,AT$5) -> 43286 | G48: =DATE($A$1,7,AU$5) -> 43287 | H48: =DATE($A$1,7,AV$5) -> 43288 | I48: =DATE($A$1,7,AW$5) -> 43289 | ... AF48: =DATE($A$1,7,BT$5) -> 43312
A49: Event | H49: Mode city
A50: Niveau de BAR | B50: 1 | C50: 10 | D50: 10 | E50: 10 | F50: 10 | G50: 1 | H50: 4 | I50: 1 | J50: 10 | K50: 10 | L50: 10 | M50: 1 | N50: 1 | O50: 1 | P50: 1 | Q50: 4 | R50: 4 | S50: 4 | T50: 3 | U50: 1 | V50: 3 | W50: 1 | X50: 5 | Y50: 5 | Z50: 4 | AA50: 1 | AB50: 2 | AC50: 1 | AD50: 1 | AE50: 5 | AF50: 1
A51: Flexible Double | B51: =IFERROR(VLOOKUP(B50,Feuil2!$A$16:$B$25,2,0),"") -> 125.35 | C51: =IFERROR(VLOOKUP(C50,Feuil2!$A$16:$B$25,2,0),"") -> 228.85 | D51: =IFERROR(VLOOKUP(D50,Feuil2!$A$16:$B$25,2,0),"") -> 228.85 | E51: =IFERROR(VLOOKUP(E50,Feuil2!$A$16:$B$25,2,0),"") -> 228.85 | F51: =IFERROR(VLOOKUP(F50,Feuil2!$A$16:$B$25,2,0),"") -> 228.85 | G51: =IFERROR(VLOOKUP(G50,Feuil2!$A$16:$B$25,2,0),"") -> 125.35 | H51: =IFERROR(VLOOKUP(H50,Feuil2!$A$16:$B$25,2,0),"") -> 159.85 | I51: =IFERROR(VLOOKUP(I50,Feuil2!$A$16:$B$25,2,0),"") -> 125.35 | ... AF51: =IFERROR(VLOOKUP(AF50,Feuil2!$A$16:$B$25,2,0),"") -> 125.35
A54: =B55 -> 43313 | B54: =B55 -> 43313 | C54: =C55 -> 43314 | D54: =D55 -> 43315 | E54: =E55 -> 43316 | F54: =F55 -> 43317 | G54: =G55 -> 43318 | H54: =H55 -> 43319 | I54: =I55 -> 43320 | ... AF54: =AF55 -> 43343
B55: =DATE($A$1,8,AP$5) -> 43313 | C55: =DATE($A$1,8,AQ$5) -> 43314 | D55: =DATE($A$1,8,AR$5) -> 43315 | E55: =DATE($A$1,8,AS$5) -> 43316 | F55: =DATE($A$1,8,AT$5) -> 43317 | G55: =DATE($A$1,8,AU$5) -> 43318 | H55: =DATE($A$1,8,AV$5) -> 43319 | I55: =DATE($A$1,8,AW$5) -> 43320 | ... AF55: =DATE($A$1,8,BT$5) -> 43343
...

Sheet Feuil2
C4: TARIFS IDS
I5: EUROSATORY | J5: 43261 | K5: 43264
A6: REGLES GESTION TARIFS | C6: réduction single ( en €) | E6: 10 | I6: MARATHON/RYDER | J6: 43364 | K6: 43368
C7: supplément pdj ( en €) | E7: 12 | I7: SIAL | J7: 43393 | K7: 43397
C8: réduction NANR ( en %) | E8: 15 | I8: HALLOWEEN | J8: 43403 | K8: 43404
C9: supplément personne supp | E9: 10
C10: supplément supérieure ( en €) | E10: 20
A11: *arrondis à l'euro le plus près
A13: CHAMBRE DOUBLE/TWIN | G13: CHAMBRE SINGLE
B15: FLEX | C15: NANR | D15: FLEX BB | E15: NANRBB | H15: FLEX | I15: NANR | J15: FLEX BB | K15: NANRBB
A16: 10 | B16: =(C16*(E8/100))+C16 -> 228.85 | C16: =C17+E9 -> 199 | D16: =B16+E7*2 -> 252.85 | E16: =C16+E7*2 -> 223 | G16: BAR 10 | H16: =(I16*(E8/100))+I16 -> 217.35 | I16: =I17+10 -> 189 | J16: =H16+E7 -> 229.35 | K16: =I16+E7 -> 201
A17: 9 | B17: =(C17*(E8/100))+C17 -> 217.35 | C17: =C18+E9 -> 189 | D17: =B17+E7*2 -> 241.35 | E17: =C17+E7*2 -> 213 | G17: BAR 9 | H17: =(I17*(E8/100))+I17 -> 205.85 | I17: =I18+10 -> 179 | J17: =H17+E7 -> 217.85 | K17: =I17+E7 -> 191
A18: 8 | B18: =(C18*(E8/100))+C18 -> 205.85 | C18: =C19+E9 -> 179 | D18: =B18+E7*2 -> 229.85 | E18: =C18+E7*2 -> 203 | G18: BAR 8 | H18: =(I18*(E8/100))+I18 -> 194.35 | I18: =I19+10 -> 169 | J18: =H18+E7 -> 206.35 | K18: =I18+E7 -> 181
A19: 7 | B19: =(C19*(E8/100))+C19 -> 194.35 | C19: =C20+E9 -> 169 | D19: =B19+E7*2 -> 218.35 | E19: =C19+E7*2 -> 193 | G19: BAR 7 | H19: =(I19*(E8/100))+I19 -> 182.85 | I19: =I20+10 -> 159 | J19: =H19+E7 -> 194.85 | K19: =I19+E7 -> 171
A20: 6 | B20: =(C20*(E8/100))+C20 -> 182.85 | C20: =C21+E9 -> 159 | D20: =B20+E7*2 -> 206.85 | E20: =C20+E7*2 -> 183 | G20: BAR 6 | H20: =(I20*(E8/100))+I20 -> 171.35 | I20: =I21+10 -> 149 | J20: =H20+E7 -> 183.35 | K20: =I20+E7 -> 161
A21: 5 | B21: =(C21*(E8/100))+C21 -> 171.35 | C21: =C22+E9 -> 149 | D21: =B21+E7*2 -> 195.35 | E21: =C21+E7*2 -> 173 | G21: BAR 5 | H21: =(I21*(E8/100))+I21 -> 159.85 | I21: =I22+10 -> 139 | J21: =H21+E7 -> 171.85 | K21: =I21+E7 -> 151
A22: 4 | B22: =(C22*(E8/100))+C22 -> 159.85 | C22: =C23+E9 -> 139 | D22: =B22+E7*2 -> 183.85 | E22: =C22+E7*2 -> 163 | G22: BAR 4 | H22: =(I22*(E8/100))+I22 -> 148.35 | I22: =I23+10 -> 129 | J22: =H22+E7 -> 160.35 | K22: =I22+E7 -> 141
A23: 3 | B23: =(C23*(E8/100))+C23 -> 148.35 | C23: =C24+E9 -> 129 | D23: =B23+E7*2 -> 172.35 | E23: =C23+E7*2 -> 153 | G23: BAR 3 | H23: =(I23*(E8/100))+I23 -> 136.85 | I23: =I24+10 -> 119 | J23: =H23+E7 -> 148.85 | K23: =I23+E7 -> 131
A24: 2 | B24: =(C24*(E8/100))+C24 -> 136.85 | C24: =I24+E9 -> 119 | D24: =B24+E7*2 -> 160.85 | E24: =C24+E7*2 -> 143 | G24: BAR 2 | H24: =(I24*(E8/100))+I24 -> 125.35 | I24: =I25+10 -> 109 | J24: =H24+E7 -> 137.35 | K24: =I24+E7 -> 121
A25: 1 | B25: =(C25*(E8/100))+C25 -> 125.35 | C25: =I25+E9 -> 109 | D25: =B25+E7*2 -> 149.35 | E25: =C25+E7*2 -> 133 | G25: BAR 1 | H25: =(I25*(E8/100))+I25 -> 113.85 | I25: 99 | J25: =H25+E7 -> 125.85 | K25: =I25+E7 -> 111
A28: CHAMBRE TRIPLE | G28: CHAMBRE QUADRUPLE
B30: FLEX | C30: NANR | D30: FLEX BB | E30: NANRBB | H30: FLEX | I30: NANR | J30: FLEX BB | K30: NANRBB
A31: BAR 10 | B31: =(C31*(E8/100))+C31 -> 240.35 | C31: =C16+E9 -> 209 | D31: =B31+E7*3 -> 276.35 | E31: =C31+E7*3 -> 245 | G31: BAR 10 | H31: =(I31*(+E8/100))+I31 -> 251.85 | I31: =C31+E9 -> 219 | J31: =H31+E7*4 -> 299.85 | K31: =I31+E7*4 -> 267
A32: BAR 9 | B32: =(C32*(E8/100))+C32 -> 228.85 | C32: =C17+E9 -> 199 | D32: =B32+E7*3 -> 264.85 | E32: =C32+E7*3 -> 235 | G32: BAR 9 | H32: =(I32*(+E8/100))+I32 -> 240.35 | I32: =C32+E9 -> 209 | J32: =H32+E7*4 -> 288.35 | K32: =I32+E7*4 -> 257
A33: BAR 8 | B33: =(C33*(E8/100))+C33 -> 217.35 | C33: =C18+E9 -> 189 | D33: =B33+E7*3 -> 253.35 | E33: =C33+E7*3 -> 225 | G33: BAR 8 | H33: =(I33*(E8/100))+I33 -> 228.85 | I33: =C33+E9 -> 199 | J33: =H33+E7*4 -> 276.85 | K33: =I33+E7*4 -> 247
A34: BAR 7 | B34: =(C34*(E8/100))+C34 -> 205.85 | C34: =C19+E9 -> 179 | D34: =B34+E7*3 -> 241.85 | E34: =C34+E7*3 -> 215 | G34: BAR 7 | H34: =(I34*(E8/100))+I34 -> 217.35 | I34: =C34+E9 -> 189 | J34: =H34+E7*4 -> 265.35 | K34: =I34+E7*4 -> 237
A35: BAR 6 | B35: =(C35*(E8/100))+C35 -> 194.35 | C35: =C20+E9 -> 169 | D35: =B35+E7*3 -> 230.35 | E35: =C35+E7*3 -> 205 | G35: BAR 6 | H35: =(I35*(E8/100))+I35 -> 205.85 | I35: =C35+E9 -> 179 | J35: =H35+E7*4 -> 253.85 | K35: =I35+E7*4 -> 227
A36: BAR 5 | B36: =(C36*(E8/100))+C36 -> 182.85 | C36: =C21+E9 -> 159 | D36: =B36+E7*3 -> 218.85 | E36: =C36+E7*3 -> 195 | G36: BAR 5 | H36: =(I36*(E8/100))+I36 -> 194.35 | I36: =C36+E9 -> 169 | J36: =H36+E7*4 -> 242.35 | K36: =I36+E7*4 -> 217
A37: BAR 4 | B37: =(C37*(E8/100))+C37 -> 171.35 | C37: =C22+E9 -> 149 | D37: =B37+E7*3 -> 207.35 | E37: =C37+E7*3 -> 185 | G37: BAR 4 | H37: =(I37*(E8/100))+I37 -> 182.85 | I37: =C37+E9 -> 159 | J37: =H37+E7*4 -> 230.85 | K37: =I37+E7*4 -> 207
A38: BAR 3 | B38: =(C38*(E8/100))+C38 -> 159.85 | C38: =C23+E9 -> 139 | D38: =B38+E7*3 -> 195.85 | E38: =C38+E7*3 -> 175 | G38: BAR 3 | H38: =(I38*(E8/100))+I38 -> 171.35 | I38: =C38+E9 -> 149 | J38: =H38+E7*4 -> 219.35 | K38: =I38+E7*4 -> 197
A39: BAR 2 | B39: =(C39*(E8/100))+C39 -> 148.35 | C39: =C24+E9 -> 129 | D39: =B39+E7*3 -> 184.35 | E39: =C39+E7*3 -> 165 | G39: BAR 2 | H39: =(I39*(E8/100))+I39 -> 159.85 | I39: =C39+E9 -> 139 | J39: =H39+E7*4 -> 207.85 | K39: =I39+E7*4 -> 187
A40: BAR 1 | B40: =(C40*(E8/100))+C40 -> 136.85 | C40: =C25+E9 -> 119 | D40: =B40+E7*3 -> 172.85 | E40: =C40+E7*3 -> 155 | G40: BAR 1 | H40: =(I40*(E8/100))+I40 -> 148.35 | I40: =C40+E9 -> 129 | J40: =H40+E7*4 -> 196.35 | K40: =I40+E7*4 -> 177
