Workbook

Sheet Général
B2: Etablissement | C2: Activité | D2: Secteur | E2: Commune | F2: Code postal | G2: Adresse | H2: Station de traitement | I2: Type de visite | J2: Lieu de rejet | K2: Type de réseau | L2: Tronçon du rejet | M2: Regard du rejet | N2: Exutoire
B3: A | C3: Matériau | D3: =IF(E3="","",VLOOKUP(E3,'[1]Mode d''emploi'!$D$1:$E$47,2,0)) -> Ouest | E3: Alfortville | F3: =IF(E3="","",VLOOKUP(E3,'[1]Mode d''emploi'!$A$1:$B$47,2,0)) -> 94002 | H3: oui | I3: =IF(AND(H3="Oui",J3="Département "),"assis+contrôle",IF(H3="oui","assistance",IF(H3="non","contrôle",""))) -> assis+contrôle | J3: Département
B4: B | C4: Traitement de surface | D4: =IF(E4="","",VLOOKUP(E4,'[1]Mode d''emploi'!$D$1:$E$47,2,0)) -> Ouest | E4: Alfortville | F4: =IF(E4="","",VLOOKUP(E4,'[1]Mode d''emploi'!$A$1:$B$47,2,0)) -> 94002 | H4: oui | I4: =IF(AND(H4="Oui",J4="Département "),"assis+contrôle",IF(H4="oui","assistance",IF(H4="non","contrôle",""))) -> assis+contrôle | J4: Département
B5: C | C5: Distribution / production de chaleur | D5: =IF(E5="","",VLOOKUP(E5,'[1]Mode d''emploi'!$D$1:$E$47,2,0)) -> Ouest | E5: Arcueil | F5: =IF(E5="","",VLOOKUP(E5,'[1]Mode d''emploi'!$A$1:$B$47,2,0)) -> 94003 | H5: non | I5: =IF(AND(H5="Oui",J5="Département "),"assis+contrôle",IF(H5="oui","assistance",IF(H5="non","contrôle",""))) -> contrôle | J5: SIAAP
B8: Localisation
B9: Etablissement | C9: Activité | D9: Secteur | E9: Commune | F9: Code postal | G9: Adresse | H9: Station de traitement | I9: Type de visite | J9: Lieu de rejet | K9: Type de réseau | L9: Tronçon du rejet | M9: Regard du rejet | N9: Exutoire
B10: a | C10: Matériau | D10: =IF(E10="","",VLOOKUP(E10,'[1]Mode d''emploi'!$D$1:$E$47,2,0)) -> Ouest | E10: Alfortville | F10: =IF(E10="","",VLOOKUP(E10,'[1]Mode d''emploi'!$A$1:$B$47,2,0)) -> 94002 | H10: oui | I10: =IF(AND(H10="Oui",J10="Département "),"assis+contrôle",IF(H10="oui","assistance",IF(H10="non","contrôle",""))) -> assistance | J10: Département
B11: b | C11: Traitement de surface | D11: =IF(E11="","",VLOOKUP(E11,'[1]Mode d''emploi'!$D$1:$E$47,2,0)) -> Ouest | E11: Alfortville | F11: =IF(E11="","",VLOOKUP(E11,'[1]Mode d''emploi'!$A$1:$B$47,2,0)) -> 94002 | H11: oui | I11: =IF(AND(H11="Oui",J11="Département "),"assis+contrôle",IF(H11="oui","assistance",IF(H11="non","contrôle",""))) -> assistance | J11: Département
B12: c | C12: Distribution / production de chaleur | D12: =IF(E12="","",VLOOKUP(E12,'[1]Mode d''emploi'!$D$1:$E$47,2,0)) -> Ouest | E12: Arcueil | F12: =IF(E12="","",VLOOKUP(E12,'[1]Mode d''emploi'!$A$1:$B$47,2,0)) -> 94003 | H12: NON | I12: =IF(AND(H12="Oui",J12="Département "),"assis+contrôle",IF(H12="oui","assistance",IF(H12="non","contrôle",""))) -> contrôle | L12: n° 03404 | N12: Achéres
B13: d | C13: Traitement de surface | D13: =IF(E13="","",VLOOKUP(E13,'[1]Mode d''emploi'!$D$1:$E$47,2,0)) -> Ouest | E13: Arcueil | F13: =IF(E13="","",VLOOKUP(E13,'[1]Mode d''emploi'!$A$1:$B$47,2,0)) -> 94003 | H13: oui | I13: =IF(AND(H13="Oui",J13="Département "),"assis+contrôle",IF(H13="oui","assistance",IF(H13="non","contrôle",""))) -> assis+contrôle | J13: Département
B14: e | C14: Professions de l'automobile | D14: =IF(E14="","",VLOOKUP(E14,'[1]Mode d''emploi'!$D$1:$E$47,2,0)) -> Est | E14: Boissy-Saint-Léger | F14: =IF(E14="","",VLOOKUP(E14,'[1]Mode d''emploi'!$A$1:$B$47,2,0)) -> 94004 | H14: Non | I14: =IF(AND(H14="Oui",J14="Département "),"assis+contrôle",IF(H14="oui","assistance",IF(H14="non","contrôle",""))) -> contrôle | L14: n° 04332
B15: f | C15: Professions de l'automobile | D15: =IF(E15="","",VLOOKUP(E15,'[1]Mode d''emploi'!$D$1:$E$47,2,0)) -> Est | E15: Bonneuil-sur-Marne | F15: =IF(E15="","",VLOOKUP(E15,'[1]Mode d''emploi'!$A$1:$B$47,2,0)) -> 94011 | H15: Non | I15: =IF(AND(H15="Oui",J15="Département "),"assis+contrôle",IF(H15="oui","assistance",IF(H15="non","contrôle",""))) -> contrôle | L15: n° 11347
B16: g | C16: Traitement des déchets | D16: =IF(E16="","",VLOOKUP(E16,'[1]Mode d''emploi'!$D$1:$E$47,2,0)) -> Est | E16: Bonneuil-sur-Marne | F16: =IF(E16="","",VLOOKUP(E16,'[1]Mode d''emploi'!$A$1:$B$47,2,0)) -> 94011 | H16: Oui | I16: =IF(AND(H16="Oui",J16="Département "),"assis+contrôle",IF(H16="oui","assistance",IF(H16="non","contrôle",""))) -> assis+contrôle | J16: Département | L16: n°11341

Sheet Assitance

Sheet Contrôle
