Workbook
Name TRANSPORTEUR1: 'TRANSPORTEUR 1'!$B$2:$K$11
Name TRANSPORTEUR2: 'TRANSPORTEUR 2'!$B$2:$K$11
Name TRANSPORTEUR3: 'TRANSPORTEUR 3'!$B$2:$K$11

Sheet TRANSPORTEUR 1
A1: " Kg / Pal. Dépt." | B1: 10 | C1: 20 | D1: 30 | E1: 40 | F1: 50 | G1: 60 | H1: 70 | I1: 80 | J1: 90 | K1: 100
A2: 1 | B2: 11.32 | C2: 13.29 | D2: 14.54 | E2: 15.9 | F2: 16.72 | G2: 17.8 | H2: 18.28 | I2: 18.13 | J2: 18.66 | K2: 19.49
A3: 2 | B3: 13.39 | C3: 15.33 | D3: 17.14 | E3: 19.3 | F3: 20.55 | G3: 22.23 | H3: 25.73 | I3: 25.64 | J3: 27.14 | K3: 28.41
A4: 3 | B4: 13.7 | C4: 15.24 | D4: 16.86 | E4: 19.93 | F4: 21.31 | G4: 23.15 | H4: 24.36 | I4: 25.37 | J4: 26.59 | K4: 28
A5: 4 | B5: 13.74 | C5: 16.31 | D5: 18.5 | E5: 20.86 | F5: 22.14 | G5: 23.93 | H5: 24.53 | I5: 23.88 | J5: 24.57 | K5: 25.87
A6: 5 | B6: 14.75 | C6: 15.39 | D6: 18.08 | E6: 19.41 | F6: 20.44 | G6: 22.4 | H6: 26.18 | I6: 27.83 | J6: 28.69 | K6: 28.84
A7: 6 | B7: 12.53 | C7: 13.96 | D7: 15.38 | E7: 17.08 | F7: 18.23 | G7: 19.64 | H7: 20.45 | I7: 20.65 | J7: 21.51 | K7: 22.67
A8: 7 | B8: 12.46 | C8: 13.76 | D8: 14.83 | E8: 16.06 | F8: 16.93 | G8: 18.55 | H8: 19.31 | I8: 19.79 | J8: 20.4 | K8: 20.78
A9: 8 | B9: 13.99 | C9: 16.56 | D9: 18.82 | E9: 21.31 | F9: 22.72 | G9: 24.63 | H9: 25.35 | I9: 24.83 | J9: 25.65 | K9: 27.08
A10: 9 | B10: 13.82 | C10: 15.75 | D10: 18.56 | E10: 22.09 | F10: 24.44 | G10: 27.55 | H10: 29.59 | I10: 30.31 | J10: 32.21 | K10: 34.85
A11: 10 | B11: 13.6 | C11: 16.17 | D11: 18.33 | E11: 20.63 | F11: 21.84 | G11: 23.56 | H11: 24.08 | I11: 23.36 | J11: 23.99 | K11: 25.22

Sheet TRANSPORTEUR 2
A1: " Kg / Pal. Dépt." | B1: 10 | C1: 20 | D1: 30 | E1: 40 | F1: 50 | G1: 60 | H1: 70 | I1: 80 | J1: 90 | K1: 100
A2: 1 | B2: 11.34 | C2: 13.21 | D2: 15.08 | E2: 16.95 | F2: 17.62 | G2: 18.29 | H2: 19.41 | I2: 20.09 | J2: 20.79 | K2: 21.49
A3: 2 | B3: 16.75 | C3: 19.5 | D3: 22.26 | E3: 24.99 | F3: 25.99 | G3: 27 | H3: 29.66 | I3: 30.72 | J3: 31.77 | K3: 32.82
A4: 3 | B4: 12.9 | C4: 15.02 | D4: 17.16 | E4: 19.26 | F4: 20.02 | G4: 20.79 | H4: 22.36 | I4: 23.17 | J4: 23.97 | K4: 24.77
A5: 4 | B5: 13.16 | C5: 15.32 | D5: 17.47 | E5: 19.64 | F5: 20.42 | G5: 21.22 | H5: 22.52 | I5: 23.33 | J5: 24.14 | K5: 24.92
A6: 5 | B6: 12.16 | C6: 14.15 | D6: 16.14 | E6: 18.14 | F6: 18.85 | G6: 19.58 | H6: 20.6 | I6: 21.34 | J6: 22.08 | K6: 22.82
A7: 6 | B7: 13.69 | C7: 15.93 | D7: 18.18 | E7: 20.42 | F7: 21.24 | G7: 22.05 | H7: 23.84 | I7: 24.68 | J7: 25.53 | K7: 26.39
A8: 7 | B8: 9.46 | C8: 11 | D8: 12.53 | E8: 14.1 | F8: 14.66 | G8: 15.22 | H8: 15.78 | I8: 16.34 | J8: 16.9 | K8: 17.47
A9: 8 | B9: 17.05 | C9: 19.86 | D9: 22.64 | E9: 25.45 | F9: 26.45 | G9: 27.49 | H9: 30.24 | I9: 31.31 | J9: 32.41 | K9: 33.48
A10: 9 | B10: 15.63 | C10: 18.19 | D10: 20.76 | E10: 23.33 | F10: 24.26 | G10: 25.19 | H10: 27.21 | I10: 28.18 | J10: 29.15 | K10: 30.12
A11: 10 | B11: 14.36 | C11: 16.71 | D11: 19.07 | E11: 21.44 | F11: 22.29 | G11: 23.13 | H11: 25.11 | I11: 26.03 | J11: 26.91 | K11: 27.82

Sheet TRANSPORTEUR 3
A1: " Kg / Pal. Dépt." | B1: 10 | C1: 20 | D1: 30 | E1: 40 | F1: 50 | G1: 60 | H1: 70 | I1: 80 | J1: 90 | K1: 100
A2: 1 | B2: 13.63 | C2: 16.41 | D2: 18.41 | E2: 20.43 | F2: 22.62 | G2: 24.64 | H2: 26.41 | I2: 28.18 | J2: 31.8 | K2: 31.8
A3: 2 | B3: 14.27 | C3: 17.17 | D3: 19.28 | E3: 21.38 | F3: 23.68 | G3: 25.79 | H3: 27.64 | I3: 29.51 | J3: 33.28 | K3: 33.28
A4: 3 | B4: 11.39 | C4: 13.69 | D4: 15.37 | E4: 17.05 | F4: 18.89 | G4: 20.57 | H4: 22.05 | I4: 23.53 | J4: 26.55 | K4: 26.55
A5: 4 | B5: 10.7 | C5: 12.89 | D5: 14.47 | E5: 16.05 | F5: 17.77 | G5: 19.36 | H5: 20.77 | I5: 22.16 | J5: 24.99 | K5: 24.99
A6: 5 | B6: 12.05 | C6: 14.52 | D6: 16.3 | E6: 18.08 | F6: 20.02 | G6: 21.8 | H6: 23.36 | I6: 24.95 | J6: 28.14 | K6: 28.14
A7: 6 | B7: 13.9 | C7: 16.73 | D7: 18.78 | E7: 20.83 | F7: 23.08 | G7: 25.13 | H7: 26.93 | I7: 28.74 | J7: 32.42 | K7: 32.42
A8: 7 | B8: 8.56 | C8: 10.3 | D8: 11.56 | E8: 12.82 | F8: 14.2 | G8: 15.46 | H8: 16.57 | I8: 17.7 | J8: 19.96 | K8: 19.96
A9: 8 | B9: 17.91 | C9: 21.55 | D9: 24.21 | E9: 26.85 | F9: 29.74 | G9: 32.39 | H9: 34.72 | I9: 37.06 | J9: 41.81 | K9: 41.81
A10: 9 | B10: 14.01 | C10: 16.85 | D10: 18.92 | E10: 21 | F10: 23.25 | G10: 25.32 | H10: 27.15 | I10: 28.98 | J10: 32.67 | K10: 32.67
A11: 10 | B11: 11.91 | C11: 14.34 | D11: 16.09 | E11: 17.86 | F11: 19.77 | G11: 21.53 | H11: 23.09 | I11: 24.65 | J11: 27.8 | K11: 27.8

Sheet MIN
A1: " Kg / Pal. Dépt." | B1: 10 | C1: 20 | D1: 30 | E1: 40 | F1: 50 | G1: 60 | H1: 70 | I1: 80 | J1: 90 | K1: 100
A2: 1 | B2: =MIN('TRANSPORTEUR 3'!B2,'TRANSPORTEUR 2'!B2,'TRANSPORTEUR 3'!B2) -> 11.34 | C2: =MIN('TRANSPORTEUR 3'!C2,'TRANSPORTEUR 2'!C2,'TRANSPORTEUR 3'!C2) -> 13.21 | D2: =MIN('TRANSPORTEUR 3'!D2,'TRANSPORTEUR 2'!D2,'TRANSPORTEUR 3'!D2) -> 15.08 | E2: =MIN('TRANSPORTEUR 3'!E2,'TRANSPORTEUR 2'!E2,'TRANSPORTEUR 3'!E2) -> 16.95 | F2: =MIN('TRANSPORTEUR 3'!F2,'TRANSPORTEUR 2'!F2,'TRANSPORTEUR 3'!F2) -> 17.62 | G2: =MIN('TRANSPORTEUR 3'!G2,'TRANSPORTEUR 2'!G2,'TRANSPORTEUR 3'!G2) -> 18.29 | H2: =MIN('TRANSPORTEUR 3'!H2,'TRANSPORTEUR 2'!H2,'TRANSPORTEUR 3'!H2) -> 19.41 | I2: =MIN('TRANSPORTEUR 3'!I2,'TRANSPORTEUR 2'!I2,'TRANSPORTEUR 3'!I2) -> 20.09 | ... K2: =MIN('TRANSPORTEUR 3'!K2,'TRANSPORTEUR 2'!K2,'TRANSPORTEUR 3'!K2) -> 21.49
A3: 2 | B3: =MIN('TRANSPORTEUR 3'!B3,'TRANSPORTEUR 2'!B3,'TRANSPORTEUR 3'!B3) -> 14.27 | C3: =MIN('TRANSPORTEUR 3'!C3,'TRANSPORTEUR 2'!C3,'TRANSPORTEUR 3'!C3) -> 17.17 | D3: =MIN('TRANSPORTEUR 3'!D3,'TRANSPORTEUR 2'!D3,'TRANSPORTEUR 3'!D3) -> 19.28 | E3: =MIN('TRANSPORTEUR 3'!E3,'TRANSPORTEUR 2'!E3,'TRANSPORTEUR 3'!E3) -> 21.38 | F3: =MIN('TRANSPORTEUR 3'!F3,'TRANSPORTEUR 2'!F3,'TRANSPORTEUR 3'!F3) -> 23.68 | G3: =MIN('TRANSPORTEUR 3'!G3,'TRANSPORTEUR 2'!G3,'TRANSPORTEUR 3'!G3) -> 25.79 | H3: =MIN('TRANSPORTEUR 3'!H3,'TRANSPORTEUR 2'!H3,'TRANSPORTEUR 3'!H3) -> 27.64 | I3: =MIN('TRANSPORTEUR 3'!I3,'TRANSPORTEUR 2'!I3,'TRANSPORTEUR 3'!I3) -> 29.51 | ... K3: =MIN('TRANSPORTEUR 3'!K3,'TRANSPORTEUR 2'!K3,'TRANSPORTEUR 3'!K3) -> 32.82
A4: 3 | B4: =MIN('TRANSPORTEUR 3'!B4,'TRANSPORTEUR 2'!B4,'TRANSPORTEUR 3'!B4) -> 11.39 | C4: =MIN('TRANSPORTEUR 3'!C4,'TRANSPORTEUR 2'!C4,'TRANSPORTEUR 3'!C4) -> 13.69 | D4: =MIN('TRANSPORTEUR 3'!D4,'TRANSPORTEUR 2'!D4,'TRANSPORTEUR 3'!D4) -> 15.37 | E4: =MIN('TRANSPORTEUR 3'!E4,'TRANSPORTEUR 2'!E4,'TRANSPORTEUR 3'!E4) -> 17.05 | F4: =MIN('TRANSPORTEUR 3'!F4,'TRANSPORTEUR 2'!F4,'TRANSPORTEUR 3'!F4) -> 18.89 | G4: =MIN('TRANSPORTEUR 3'!G4,'TRANSPORTEUR 2'!G4,'TRANSPORTEUR 3'!G4) -> 20.57 | H4: =MIN('TRANSPORTEUR 3'!H4,'TRANSPORTEUR 2'!H4,'TRANSPORTEUR 3'!H4) -> 22.05 | I4: =MIN('TRANSPORTEUR 3'!I4,'TRANSPORTEUR 2'!I4,'TRANSPORTEUR 3'!I4) -> 23.17 | ... K4: =MIN('TRANSPORTEUR 3'!K4,'TRANSPORTEUR 2'!K4,'TRANSPORTEUR 3'!K4) -> 24.77
A5: 4 | B5: =MIN('TRANSPORTEUR 3'!B5,'TRANSPORTEUR 2'!B5,'TRANSPORTEUR 3'!B5) -> 10.7 | C5: =MIN('TRANSPORTEUR 3'!C5,'TRANSPORTEUR 2'!C5,'TRANSPORTEUR 3'!C5) -> 12.89 | D5: =MIN('TRANSPORTEUR 3'!D5,'TRANSPORTEUR 2'!D5,'TRANSPORTEUR 3'!D5) -> 14.47 | E5: =MIN('TRANSPORTEUR 3'!E5,'TRANSPORTEUR 2'!E5,'TRANSPORTEUR 3'!E5) -> 16.05 | F5: =MIN('TRANSPORTEUR 3'!F5,'TRANSPORTEUR 2'!F5,'TRANSPORTEUR 3'!F5) -> 17.77 | G5: =MIN('TRANSPORTEUR 3'!G5,'TRANSPORTEUR 2'!G5,'TRANSPORTEUR 3'!G5) -> 19.36 | H5: =MIN('TRANSPORTEUR 3'!H5,'TRANSPORTEUR 2'!H5,'TRANSPORTEUR 3'!H5) -> 20.77 | I5: =MIN('TRANSPORTEUR 3'!I5,'TRANSPORTEUR 2'!I5,'TRANSPORTEUR 3'!I5) -> 22.16 | ... K5: =MIN('TRANSPORTEUR 3'!K5,'TRANSPORTEUR 2'!K5,'TRANSPORTEUR 3'!K5) -> 24.92
A6: 5 | B6: =MIN('TRANSPORTEUR 3'!B6,'TRANSPORTEUR 2'!B6,'TRANSPORTEUR 3'!B6) -> 12.05 | C6: =MIN('TRANSPORTEUR 3'!C6,'TRANSPORTEUR 2'!C6,'TRANSPORTEUR 3'!C6) -> 14.15 | D6: =MIN('TRANSPORTEUR 3'!D6,'TRANSPORTEUR 2'!D6,'TRANSPORTEUR 3'!D6) -> 16.14 | E6: =MIN('TRANSPORTEUR 3'!E6,'TRANSPORTEUR 2'!E6,'TRANSPORTEUR 3'!E6) -> 18.08 | F6: =MIN('TRANSPORTEUR 3'!F6,'TRANSPORTEUR 2'!F6,'TRANSPORTEUR 3'!F6) -> 18.85 | G6: =MIN('TRANSPORTEUR 3'!G6,'TRANSPORTEUR 2'!G6,'TRANSPORTEUR 3'!G6) -> 19.58 | H6: =MIN('TRANSPORTEUR 3'!H6,'TRANSPORTEUR 2'!H6,'TRANSPORTEUR 3'!H6) -> 20.6 | I6: =MIN('TRANSPORTEUR 3'!I6,'TRANSPORTEUR 2'!I6,'TRANSPORTEUR 3'!I6) -> 21.34 | ... K6: =MIN('TRANSPORTEUR 3'!K6,'TRANSPORTEUR 2'!K6,'TRANSPORTEUR 3'!K6) -> 22.82
A7: 6 | B7: =MIN('TRANSPORTEUR 3'!B7,'TRANSPORTEUR 2'!B7,'TRANSPORTEUR 3'!B7) -> 13.69 | C7: =MIN('TRANSPORTEUR 3'!C7,'TRANSPORTEUR 2'!C7,'TRANSPORTEUR 3'!C7) -> 15.93 | D7: =MIN('TRANSPORTEUR 3'!D7,'TRANSPORTEUR 2'!D7,'TRANSPORTEUR 3'!D7) -> 18.18 | E7: =MIN('TRANSPORTEUR 3'!E7,'TRANSPORTEUR 2'!E7,'TRANSPORTEUR 3'!E7) -> 20.42 | F7: =MIN('TRANSPORTEUR 3'!F7,'TRANSPORTEUR 2'!F7,'TRANSPORTEUR 3'!F7) -> 21.24 | G7: =MIN('TRANSPORTEUR 3'!G7,'TRANSPORTEUR 2'!G7,'TRANSPORTEUR 3'!G7) -> 22.05 | H7: =MIN('TRANSPORTEUR 3'!H7,'TRANSPORTEUR 2'!H7,'TRANSPORTEUR 3'!H7) -> 23.84 | I7: =MIN('TRANSPORTEUR 3'!I7,'TRANSPORTEUR 2'!I7,'TRANSPORTEUR 3'!I7) -> 24.68 | ... K7: =MIN('TRANSPORTEUR 3'!K7,'TRANSPORTEUR 2'!K7,'TRANSPORTEUR 3'!K7) -> 26.39
A8: 7 | B8: =MIN('TRANSPORTEUR 3'!B8,'TRANSPORTEUR 2'!B8,'TRANSPORTEUR 3'!B8) -> 8.56 | C8: =MIN('TRANSPORTEUR 3'!C8,'TRANSPORTEUR 2'!C8,'TRANSPORTEUR 3'!C8) -> 10.3 | D8: =MIN('TRANSPORTEUR 3'!D8,'TRANSPORTEUR 2'!D8,'TRANSPORTEUR 3'!D8) -> 11.56 | E8: =MIN('TRANSPORTEUR 3'!E8,'TRANSPORTEUR 2'!E8,'TRANSPORTEUR 3'!E8) -> 12.82 | F8: =MIN('TRANSPORTEUR 3'!F8,'TRANSPORTEUR 2'!F8,'TRANSPORTEUR 3'!F8) -> 14.2 | G8: =MIN('TRANSPORTEUR 3'!G8,'TRANSPORTEUR 2'!G8,'TRANSPORTEUR 3'!G8) -> 15.22 | H8: =MIN('TRANSPORTEUR 3'!H8,'TRANSPORTEUR 2'!H8,'TRANSPORTEUR 3'!H8) -> 15.78 | I8: =MIN('TRANSPORTEUR 3'!I8,'TRANSPORTEUR 2'!I8,'TRANSPORTEUR 3'!I8) -> 16.34 | ... K8: =MIN('TRANSPORTEUR 3'!K8,'TRANSPORTEUR 2'!K8,'TRANSPORTEUR 3'!K8) -> 17.47
A9: 8 | B9: =MIN('TRANSPORTEUR 3'!B9,'TRANSPORTEUR 2'!B9,'TRANSPORTEUR 3'!B9) -> 17.05 | C9: =MIN('TRANSPORTEUR 3'!C9,'TRANSPORTEUR 2'!C9,'TRANSPORTEUR 3'!C9) -> 19.86 | D9: =MIN('TRANSPORTEUR 3'!D9,'TRANSPORTEUR 2'!D9,'TRANSPORTEUR 3'!D9) -> 22.64 | E9: =MIN('TRANSPORTEUR 3'!E9,'TRANSPORTEUR 2'!E9,'TRANSPORTEUR 3'!E9) -> 25.45 | F9: =MIN('TRANSPORTEUR 3'!F9,'TRANSPORTEUR 2'!F9,'TRANSPORTEUR 3'!F9) -> 26.45 | G9: =MIN('TRANSPORTEUR 3'!G9,'TRANSPORTEUR 2'!G9,'TRANSPORTEUR 3'!G9) -> 27.49 | H9: =MIN('TRANSPORTEUR 3'!H9,'TRANSPORTEUR 2'!H9,'TRANSPORTEUR 3'!H9) -> 30.24 | I9: =MIN('TRANSPORTEUR 3'!I9,'TRANSPORTEUR 2'!I9,'TRANSPORTEUR 3'!I9) -> 31.31 | ... K9: =MIN('TRANSPORTEUR 3'!K9,'TRANSPORTEUR 2'!K9,'TRANSPORTEUR 3'!K9) -> 33.48
A10: 9 | B10: =MIN('TRANSPORTEUR 3'!B10,'TRANSPORTEUR 2'!B10,'TRANSPORTEUR 3'!B10) -> 14.01 | C10: =MIN('TRANSPORTEUR 3'!C10,'TRANSPORTEUR 2'!C10,'TRANSPORTEUR 3'!C10) -> 16.85 | D10: =MIN('TRANSPORTEUR 3'!D10,'TRANSPORTEUR 2'!D10,'TRANSPORTEUR 3'!D10) -> 18.92 | E10: =MIN('TRANSPORTEUR 3'!E10,'TRANSPORTEUR 2'!E10,'TRANSPORTEUR 3'!E10) -> 21 | F10: =MIN('TRANSPORTEUR 3'!F10,'TRANSPORTEUR 2'!F10,'TRANSPORTEUR 3'!F10) -> 23.25 | G10: =MIN('TRANSPORTEUR 3'!G10,'TRANSPORTEUR 2'!G10,'TRANSPORTEUR 3'!G10) -> 25.19 | H10: =MIN('TRANSPORTEUR 3'!H10,'TRANSPORTEUR 2'!H10,'TRANSPORTEUR 3'!H10) -> 27.15 | I10: =MIN('TRANSPORTEUR 3'!I10,'TRANSPORTEUR 2'!I10,'TRANSPORTEUR 3'!I10) -> 28.18 | ... K10: =MIN('TRANSPORTEUR 3'!K10,'TRANSPORTEUR 2'!K10,'TRANSPORTEUR 3'!K10) -> 30.12
A11: 10 | B11: =MIN('TRANSPORTEUR 3'!B11,'TRANSPORTEUR 2'!B11,'TRANSPORTEUR 3'!B11) -> 11.91 | C11: =MIN('TRANSPORTEUR 3'!C11,'TRANSPORTEUR 2'!C11,'TRANSPORTEUR 3'!C11) -> 14.34 | D11: =MIN('TRANSPORTEUR 3'!D11,'TRANSPORTEUR 2'!D11,'TRANSPORTEUR 3'!D11) -> 16.09 | E11: =MIN('TRANSPORTEUR 3'!E11,'TRANSPORTEUR 2'!E11,'TRANSPORTEUR 3'!E11) -> 17.86 | F11: =MIN('TRANSPORTEUR 3'!F11,'TRANSPORTEUR 2'!F11,'TRANSPORTEUR 3'!F11) -> 19.77 | G11: =MIN('TRANSPORTEUR 3'!G11,'TRANSPORTEUR 2'!G11,'TRANSPORTEUR 3'!G11) -> 21.53 | H11: =MIN('TRANSPORTEUR 3'!H11,'TRANSPORTEUR 2'!H11,'TRANSPORTEUR 3'!H11) -> 23.09 | I11: =MIN('TRANSPORTEUR 3'!I11,'TRANSPORTEUR 2'!I11,'TRANSPORTEUR 3'!I11) -> 24.65 | ... K11: =MIN('TRANSPORTEUR 3'!K11,'TRANSPORTEUR 2'!K11,'TRANSPORTEUR 3'!K11) -> 27.8

Sheet MIN PAR NOM DE TRANSPORTEUR
A1: " Kg / Pal. Dépt." | B1: 10 | C1: 20 | D1: 30 | E1: 40 | F1: 50 | G1: 60 | H1: 70 | I1: 80 | J1: 90 | K1: 100
A2: 1 | B2: =IF(MIN!B2='TRANSPORTEUR 1'!B2,"TRANSPORTEUR 1",IF(MIN!B2='TRANSPORTEUR 2'!B2,"TRANSPORTEUR 2",IF(MIN!B2='TRANSPORTEUR 3'!B2,"TRANSPORTEUR 3"))) -> TRANSPORTEUR 2 | C2: =IF(MIN!C2='TRANSPORTEUR 1'!C2,"TRANSPORTEUR 1",IF(MIN!C2='TRANSPORTEUR 2'!C2,"TRANSPORTEUR 2",IF(MIN!C2='TRANSPORTEUR 3'!C2,"TRANSPORTEUR 3"))) -> TRANSPORTEUR 2 | D2: =IF(MIN!D2='TRANSPORTEUR 1'!D2,"TRANSPORTEUR 1",IF(MIN!D2='TRANSPORTEUR 2'!D2,"TRANSPORTEUR 2",IF(MIN!D2='TRANSPORTEUR 3'!D2,"TRANSPORTEUR 3"))) -> TRANSPORTEUR 2 | E2: =IF(MIN!E2='TRANSPORTEUR 1'!E2,"TRANSPORTEUR 1",IF(MIN!E2='TRANSPORTEUR 2'!E2,"TRANSPORTEUR 2",IF(MIN!E2='TRANSPORTEUR 3'!E2,"TRANSPORTEUR 3"))) -> TRANSPORTEUR 2 | F2: =IF(MIN!F2='TRANSPORTEUR 1'!F2,"TRANSPORTEUR 1",IF(MIN!F2='TRANSPORTEUR 2'!F2,"TRANSPORTEUR 2",IF(MIN!F2='TRANSPORTEUR 3'!F2,"TRANSPORTEUR 3"))) -> TRANSPORTEUR 2 | G2: =IF(MIN!G2='TRANSPORTEUR 1'!G2,"TRANSPORTEUR 1",IF(MIN!G2='TRANSPORTEUR 2'!G2,"TRANSPORTEUR 2",IF(MIN!G2='TRANSPORTEUR 3'!G2,"TRANSPORTEUR 3"))) -> TRANSPORTEUR 2 | H2: =IF(MIN!H2='TRANSPORTEUR 1'!H2,"TRANSPORTEUR 1",IF(MIN!H2='TRANSPORTEUR 2'!H2,"TRANSPORTEUR 2",IF(MIN!H2='TRANSPORTEUR 3'!H2,"TRANSPORTEUR 3"))) -> TRANSPORTEUR 2 | I2: =IF(MIN!I2='TRANSPORTEUR 1'!I2,"TRANSPORTEUR 1",IF(MIN!I2='TRANSPORTEUR 2'!I2,"TRANSPORTEUR 2",IF(MIN!I2='TRANSPORTEUR 3'!I2,"TRANSPORTEUR 3"))) -> TRANSPORTEUR 2 | ... K2: =IF(MIN!K2='TRANSPORTEUR 1'!K2,"TRANSPORTEUR 1",IF(MIN!K2='TRANSPORTEUR 2'!K2,"TRANSPORTEUR 2",IF(MIN!K2='TRANSPORTEUR 3'!K2,"TRANSPORTEUR 3"))) -> TRANSPORTEUR 2
A3: 2 | B3: =IF(MIN!B3='TRANSPORTEUR 1'!B3,"TRANSPORTEUR 1",IF(MIN!B3='TRANSPORTEUR 2'!B3,"TRANSPORTEUR 2",IF(MIN!B3='TRANSPORTEUR 3'!B3,"TRANSPORTEUR 3"))) -> TRANSPORTEUR 3 | C3: =IF(MIN!C3='TRANSPORTEUR 1'!C3,"TRANSPORTEUR 1",IF(MIN!C3='TRANSPORTEUR 2'!C3,"TRANSPORTEUR 2",IF(MIN!C3='TRANSPORTEUR 3'!C3,"TRANSPORTEUR 3"))) -> TRANSPORTEUR 3 | D3: =IF(MIN!D3='TRANSPORTEUR 1'!D3,"TRANSPORTEUR 1",IF(MIN!D3='TRANSPORTEUR 2'!D3,"TRANSPORTEUR 2",IF(MIN!D3='TRANSPORTEUR 3'!D3,"TRANSPORTEUR 3"))) -> TRANSPORTEUR 3 | E3: =IF(MIN!E3='TRANSPORTEUR 1'!E3,"TRANSPORTEUR 1",IF(MIN!E3='TRANSPORTEUR 2'!E3,"TRANSPORTEUR 2",IF(MIN!E3='TRANSPORTEUR 3'!E3,"TRANSPORTEUR 3"))) -> TRANSPORTEUR 3 | F3: =IF(MIN!F3='TRANSPORTEUR 1'!F3,"TRANSPORTEUR 1",IF(MIN!F3='TRANSPORTEUR 2'!F3,"TRANSPORTEUR 2",IF(MIN!F3='TRANSPORTEUR 3'!F3,"TRANSPORTEUR 3"))) -> TRANSPORTEUR 3 | G3: =IF(MIN!G3='TRANSPORTEUR 1'!G3,"TRANSPORTEUR 1",IF(MIN!G3='TRANSPORTEUR 2'!G3,"TRANSPORTEUR 2",IF(MIN!G3='TRANSPORTEUR 3'!G3,"TRANSPORTEUR 3"))) -> TRANSPORTEUR 3 | H3: =IF(MIN!H3='TRANSPORTEUR 1'!H3,"TRANSPORTEUR 1",IF(MIN!H3='TRANSPORTEUR 2'!H3,"TRANSPORTEUR 2",IF(MIN!H3='TRANSPORTEUR 3'!H3,"TRANSPORTEUR 3"))) -> TRANSPORTEUR 3 | I3: =IF(MIN!I3='TRANSPORTEUR 1'!I3,"TRANSPORTEUR 1",IF(MIN!I3='TRANSPORTEUR 2'!I3,"TRANSPORTEUR 2",IF(MIN!I3='TRANSPORTEUR 3'!I3,"TRANSPORTEUR 3"))) -> TRANSPORTEUR 3 | ... K3: =IF(MIN!K3='TRANSPORTEUR 1'!K3,"TRANSPORTEUR 1",IF(MIN!K3='TRANSPORTEUR 2'!K3,"TRANSPORTEUR 2",IF(MIN!K3='TRANSPORTEUR 3'!K3,"TRANSPORTEUR 3"))) -> TRANSPORTEUR 2
A4: 3 | B4: =IF(MIN!B4='TRANSPORTEUR 1'!B4,"TRANSPORTEUR 1",IF(MIN!B4='TRANSPORTEUR 2'!B4,"TRANSPORTEUR 2",IF(MIN!B4='TRANSPORTEUR 3'!B4,"TRANSPORTEUR 3"))) -> TRANSPORTEUR 3 | C4: =IF(MIN!C4='TRANSPORTEUR 1'!C4,"TRANSPORTEUR 1",IF(MIN!C4='TRANSPORTEUR 2'!C4,"TRANSPORTEUR 2",IF(MIN!C4='TRANSPORTEUR 3'!C4,"TRANSPORTEUR 3"))) -> TRANSPORTEUR 3 | D4: =IF(MIN!D4='TRANSPORTEUR 1'!D4,"TRANSPORTEUR 1",IF(MIN!D4='TRANSPORTEUR 2'!D4,"TRANSPORTEUR 2",IF(MIN!D4='TRANSPORTEUR 3'!D4,"TRANSPORTEUR 3"))) -> TRANSPORTEUR 3 | E4: =IF(MIN!E4='TRANSPORTEUR 1'!E4,"TRANSPORTEUR 1",IF(MIN!E4='TRANSPORTEUR 2'!E4,"TRANSPORTEUR 2",IF(MIN!E4='TRANSPORTEUR 3'!E4,"TRANSPORTEUR 3"))) -> TRANSPORTEUR 3 | F4: =IF(MIN!F4='TRANSPORTEUR 1'!F4,"TRANSPORTEUR 1",IF(MIN!F4='TRANSPORTEUR 2'!F4,"TRANSPORTEUR 2",IF(MIN!F4='TRANSPORTEUR 3'!F4,"TRANSPORTEUR 3"))) -> TRANSPORTEUR 3 | G4: =IF(MIN!G4='TRANSPORTEUR 1'!G4,"TRANSPORTEUR 1",IF(MIN!G4='TRANSPORTEUR 2'!G4,"TRANSPORTEUR 2",IF(MIN!G4='TRANSPORTEUR 3'!G4,"TRANSPORTEUR 3"))) -> TRANSPORTEUR 3 | H4: =IF(MIN!H4='TRANSPORTEUR 1'!H4,"TRANSPORTEUR 1",IF(MIN!H4='TRANSPORTEUR 2'!H4,"TRANSPORTEUR 2",IF(MIN!H4='TRANSPORTEUR 3'!H4,"TRANSPORTEUR 3"))) -> TRANSPORTEUR 3 | I4: =IF(MIN!I4='TRANSPORTEUR 1'!I4,"TRANSPORTEUR 1",IF(MIN!I4='TRANSPORTEUR 2'!I4,"TRANSPORTEUR 2",IF(MIN!I4='TRANSPORTEUR 3'!I4,"TRANSPORTEUR 3"))) -> TRANSPORTEUR 2 | ... K4: =IF(MIN!K4='TRANSPORTEUR 1'!K4,"TRANSPORTEUR 1",IF(MIN!K4='TRANSPORTEUR 2'!K4,"TRANSPORTEUR 2",IF(MIN!K4='TRANSPORTEUR 3'!K4,"TRANSPORTEUR 3"))) -> TRANSPORTEUR 2
A5: 4 | B5: =IF(MIN!B5='TRANSPORTEUR 1'!B5,"TRANSPORTEUR 1",IF(MIN!B5='TRANSPORTEUR 2'!B5,"TRANSPORTEUR 2",IF(MIN!B5='TRANSPORTEUR 3'!B5,"TRANSPORTEUR 3"))) -> TRANSPORTEUR 3 | C5: =IF(MIN!C5='TRANSPORTEUR 1'!C5,"TRANSPORTEUR 1",IF(MIN!C5='TRANSPORTEUR 2'!C5,"TRANSPORTEUR 2",IF(MIN!C5='TRANSPORTEUR 3'!C5,"TRANSPORTEUR 3"))) -> TRANSPORTEUR 3 | D5: =IF(MIN!D5='TRANSPORTEUR 1'!D5,"TRANSPORTEUR 1",IF(MIN!D5='TRANSPORTEUR 2'!D5,"TRANSPORTEUR 2",IF(MIN!D5='TRANSPORTEUR 3'!D5,"TRANSPORTEUR 3"))) -> TRANSPORTEUR 3 | E5: =IF(MIN!E5='TRANSPORTEUR 1'!E5,"TRANSPORTEUR 1",IF(MIN!E5='TRANSPORTEUR 2'!E5,"TRANSPORTEUR 2",IF(MIN!E5='TRANSPORTEUR 3'!E5,"TRANSPORTEUR 3"))) -> TRANSPORTEUR 3 | F5: =IF(MIN!F5='TRANSPORTEUR 1'!F5,"TRANSPORTEUR 1",IF(MIN!F5='TRANSPORTEUR 2'!F5,"TRANSPORTEUR 2",IF(MIN!F5='TRANSPORTEUR 3'!F5,"TRANSPORTEUR 3"))) -> TRANSPORTEUR 3 | G5: =IF(MIN!G5='TRANSPORTEUR 1'!G5,"TRANSPORTEUR 1",IF(MIN!G5='TRANSPORTEUR 2'!G5,"TRANSPORTEUR 2",IF(MIN!G5='TRANSPORTEUR 3'!G5,"TRANSPORTEUR 3"))) -> TRANSPORTEUR 3 | H5: =IF(MIN!H5='TRANSPORTEUR 1'!H5,"TRANSPORTEUR 1",IF(MIN!H5='TRANSPORTEUR 2'!H5,"TRANSPORTEUR 2",IF(MIN!H5='TRANSPORTEUR 3'!H5,"TRANSPORTEUR 3"))) -> TRANSPORTEUR 3 | I5: =IF(MIN!I5='TRANSPORTEUR 1'!I5,"TRANSPORTEUR 1",IF(MIN!I5='TRANSPORTEUR 2'!I5,"TRANSPORTEUR 2",IF(MIN!I5='TRANSPORTEUR 3'!I5,"TRANSPORTEUR 3"))) -> TRANSPORTEUR 3 | ... K5: =IF(MIN!K5='TRANSPORTEUR 1'!K5,"TRANSPORTEUR 1",IF(MIN!K5='TRANSPORTEUR 2'!K5,"TRANSPORTEUR 2",IF(MIN!K5='TRANSPORTEUR 3'!K5,"TRANSPORTEUR 3"))) -> TRANSPORTEUR 2
A6: 5 | B6: =IF(MIN!B6='TRANSPORTEUR 1'!B6,"TRANSPORTEUR 1",IF(MIN!B6='TRANSPORTEUR 2'!B6,"TRANSPORTEUR 2",IF(MIN!B6='TRANSPORTEUR 3'!B6,"TRANSPORTEUR 3"))) -> TRANSPORTEUR 3 | C6: =IF(MIN!C6='TRANSPORTEUR 1'!C6,"TRANSPORTEUR 1",IF(MIN!C6='TRANSPORTEUR 2'!C6,"TRANSPORTEUR 2",IF(MIN!C6='TRANSPORTEUR 3'!C6,"TRANSPORTEUR 3"))) -> TRANSPORTEUR 2 | D6: =IF(MIN!D6='TRANSPORTEUR 1'!D6,"TRANSPORTEUR 1",IF(MIN!D6='TRANSPORTEUR 2'!D6,"TRANSPORTEUR 2",IF(MIN!D6='TRANSPORTEUR 3'!D6,"TRANSPORTEUR 3"))) -> TRANSPORTEUR 2 | E6: =IF(MIN!E6='TRANSPORTEUR 1'!E6,"TRANSPORTEUR 1",IF(MIN!E6='TRANSPORTEUR 2'!E6,"TRANSPORTEUR 2",IF(MIN!E6='TRANSPORTEUR 3'!E6,"TRANSPORTEUR 3"))) -> TRANSPORTEUR 3 | F6: =IF(MIN!F6='TRANSPORTEUR 1'!F6,"TRANSPORTEUR 1",IF(MIN!F6='TRANSPORTEUR 2'!F6,"TRANSPORTEUR 2",IF(MIN!F6='TRANSPORTEUR 3'!F6,"TRANSPORTEUR 3"))) -> TRANSPORTEUR 2 | G6: =IF(MIN!G6='TRANSPORTEUR 1'!G6,"TRANSPORTEUR 1",IF(MIN!G6='TRANSPORTEUR 2'!G6,"TRANSPORTEUR 2",IF(MIN!G6='TRANSPORTEUR 3'!G6,"TRANSPORTEUR 3"))) -> TRANSPORTEUR 2 | H6: =IF(MIN!H6='TRANSPORTEUR 1'!H6,"TRANSPORTEUR 1",IF(MIN!H6='TRANSPORTEUR 2'!H6,"TRANSPORTEUR 2",IF(MIN!H6='TRANSPORTEUR 3'!H6,"TRANSPORTEUR 3"))) -> TRANSPORTEUR 2 | I6: =IF(MIN!I6='TRANSPORTEUR 1'!I6,"TRANSPORTEUR 1",IF(MIN!I6='TRANSPORTEUR 2'!I6,"TRANSPORTEUR 2",IF(MIN!I6='TRANSPORTEUR 3'!I6,"TRANSPORTEUR 3"))) -> TRANSPORTEUR 2 | ... K6: =IF(MIN!K6='TRANSPORTEUR 1'!K6,"TRANSPORTEUR 1",IF(MIN!K6='TRANSPORTEUR 2'!K6,"TRANSPORTEUR 2",IF(MIN!K6='TRANSPORTEUR 3'!K6,"TRANSPORTEUR 3"))) -> TRANSPORTEUR 2
A7: 6 | B7: =IF(MIN!B7='TRANSPORTEUR 1'!B7,"TRANSPORTEUR 1",IF(MIN!B7='TRANSPORTEUR 2'!B7,"TRANSPORTEUR 2",IF(MIN!B7='TRANSPORTEUR 3'!B7,"TRANSPORTEUR 3"))) -> TRANSPORTEUR 2 | C7: =IF(MIN!C7='TRANSPORTEUR 1'!C7,"TRANSPORTEUR 1",IF(MIN!C7='TRANSPORTEUR 2'!C7,"TRANSPORTEUR 2",IF(MIN!C7='TRANSPORTEUR 3'!C7,"TRANSPORTEUR 3"))) -> TRANSPORTEUR 2 | D7: =IF(MIN!D7='TRANSPORTEUR 1'!D7,"TRANSPORTEUR 1",IF(MIN!D7='TRANSPORTEUR 2'!D7,"TRANSPORTEUR 2",IF(MIN!D7='TRANSPORTEUR 3'!D7,"TRANSPORTEUR 3"))) -> TRANSPORTEUR 2 | E7: =IF(MIN!E7='TRANSPORTEUR 1'!E7,"TRANSPORTEUR 1",IF(MIN!E7='TRANSPORTEUR 2'!E7,"TRANSPORTEUR 2",IF(MIN!E7='TRANSPORTEUR 3'!E7,"TRANSPORTEUR 3"))) -> TRANSPORTEUR 2 | F7: =IF(MIN!F7='TRANSPORTEUR 1'!F7,"TRANSPORTEUR 1",IF(MIN!F7='TRANSPORTEUR 2'!F7,"TRANSPORTEUR 2",IF(MIN!F7='TRANSPORTEUR 3'!F7,"TRANSPORTEUR 3"))) -> TRANSPORTEUR 2 | G7: =IF(MIN!G7='TRANSPORTEUR 1'!G7,"TRANSPORTEUR 1",IF(MIN!G7='TRANSPORTEUR 2'!G7,"TRANSPORTEUR 2",IF(MIN!G7='TRANSPORTEUR 3'!G7,"TRANSPORTEUR 3"))) -> TRANSPORTEUR 2 | H7: =IF(MIN!H7='TRANSPORTEUR 1'!H7,"TRANSPORTEUR 1",IF(MIN!H7='TRANSPORTEUR 2'!H7,"TRANSPORTEUR 2",IF(MIN!H7='TRANSPORTEUR 3'!H7,"TRANSPORTEUR 3"))) -> TRANSPORTEUR 2 | I7: =IF(MIN!I7='TRANSPORTEUR 1'!I7,"TRANSPORTEUR 1",IF(MIN!I7='TRANSPORTEUR 2'!I7,"TRANSPORTEUR 2",IF(MIN!I7='TRANSPORTEUR 3'!I7,"TRANSPORTEUR 3"))) -> TRANSPORTEUR 2 | ... K7: =IF(MIN!K7='TRANSPORTEUR 1'!K7,"TRANSPORTEUR 1",IF(MIN!K7='TRANSPORTEUR 2'!K7,"TRANSPORTEUR 2",IF(MIN!K7='TRANSPORTEUR 3'!K7,"TRANSPORTEUR 3"))) -> TRANSPORTEUR 2
A8: 7 | B8: =IF(MIN!B8='TRANSPORTEUR 1'!B8,"TRANSPORTEUR 1",IF(MIN!B8='TRANSPORTEUR 2'!B8,"TRANSPORTEUR 2",IF(MIN!B8='TRANSPORTEUR 3'!B8,"TRANSPORTEUR 3"))) -> TRANSPORTEUR 3 | C8: =IF(MIN!C8='TRANSPORTEUR 1'!C8,"TRANSPORTEUR 1",IF(MIN!C8='TRANSPORTEUR 2'!C8,"TRANSPORTEUR 2",IF(MIN!C8='TRANSPORTEUR 3'!C8,"TRANSPORTEUR 3"))) -> TRANSPORTEUR 3 | D8: =IF(MIN!D8='TRANSPORTEUR 1'!D8,"TRANSPORTEUR 1",IF(MIN!D8='TRANSPORTEUR 2'!D8,"TRANSPORTEUR 2",IF(MIN!D8='TRANSPORTEUR 3'!D8,"TRANSPORTEUR 3"))) -> TRANSPORTEUR 3 | E8: =IF(MIN!E8='TRANSPORTEUR 1'!E8,"TRANSPORTEUR 1",IF(MIN!E8='TRANSPORTEUR 2'!E8,"TRANSPORTEUR 2",IF(MIN!E8='TRANSPORTEUR 3'!E8,"TRANSPORTEUR 3"))) -> TRANSPORTEUR 3 | F8: =IF(MIN!F8='TRANSPORTEUR 1'!F8,"TRANSPORTEUR 1",IF(MIN!F8='TRANSPORTEUR 2'!F8,"TRANSPORTEUR 2",IF(MIN!F8='TRANSPORTEUR 3'!F8,"TRANSPORTEUR 3"))) -> TRANSPORTEUR 3 | G8: =IF(MIN!G8='TRANSPORTEUR 1'!G8,"TRANSPORTEUR 1",IF(MIN!G8='TRANSPORTEUR 2'!G8,"TRANSPORTEUR 2",IF(MIN!G8='TRANSPORTEUR 3'!G8,"TRANSPORTEUR 3"))) -> TRANSPORTEUR 2 | H8: =IF(MIN!H8='TRANSPORTEUR 1'!H8,"TRANSPORTEUR 1",IF(MIN!H8='TRANSPORTEUR 2'!H8,"TRANSPORTEUR 2",IF(MIN!H8='TRANSPORTEUR 3'!H8,"TRANSPORTEUR 3"))) -> TRANSPORTEUR 2 | I8: =IF(MIN!I8='TRANSPORTEUR 1'!I8,"TRANSPORTEUR 1",IF(MIN!I8='TRANSPORTEUR 2'!I8,"TRANSPORTEUR 2",IF(MIN!I8='TRANSPORTEUR 3'!I8,"TRANSPORTEUR 3"))) -> TRANSPORTEUR 2 | ... K8: =IF(MIN!K8='TRANSPORTEUR 1'!K8,"TRANSPORTEUR 1",IF(MIN!K8='TRANSPORTEUR 2'!K8,"TRANSPORTEUR 2",IF(MIN!K8='TRANSPORTEUR 3'!K8,"TRANSPORTEUR 3"))) -> TRANSPORTEUR 2
A9: 8 | B9: =IF(MIN!B9='TRANSPORTEUR 1'!B9,"TRANSPORTEUR 1",IF(MIN!B9='TRANSPORTEUR 2'!B9,"TRANSPORTEUR 2",IF(MIN!B9='TRANSPORTEUR 3'!B9,"TRANSPORTEUR 3"))) -> TRANSPORTEUR 2 | C9: =IF(MIN!C9='TRANSPORTEUR 1'!C9,"TRANSPORTEUR 1",IF(MIN!C9='TRANSPORTEUR 2'!C9,"TRANSPORTEUR 2",IF(MIN!C9='TRANSPORTEUR 3'!C9,"TRANSPORTEUR 3"))) -> TRANSPORTEUR 2 | D9: =IF(MIN!D9='TRANSPORTEUR 1'!D9,"TRANSPORTEUR 1",IF(MIN!D9='TRANSPORTEUR 2'!D9,"TRANSPORTEUR 2",IF(MIN!D9='TRANSPORTEUR 3'!D9,"TRANSPORTEUR 3"))) -> TRANSPORTEUR 2 | E9: =IF(MIN!E9='TRANSPORTEUR 1'!E9,"TRANSPORTEUR 1",IF(MIN!E9='TRANSPORTEUR 2'!E9,"TRANSPORTEUR 2",IF(MIN!E9='TRANSPORTEUR 3'!E9,"TRANSPORTEUR 3"))) -> TRANSPORTEUR 2 | F9: =IF(MIN!F9='TRANSPORTEUR 1'!F9,"TRANSPORTEUR 1",IF(MIN!F9='TRANSPORTEUR 2'!F9,"TRANSPORTEUR 2",IF(MIN!F9='TRANSPORTEUR 3'!F9,"TRANSPORTEUR 3"))) -> TRANSPORTEUR 2 | G9: =IF(MIN!G9='TRANSPORTEUR 1'!G9,"TRANSPORTEUR 1",IF(MIN!G9='TRANSPORTEUR 2'!G9,"TRANSPORTEUR 2",IF(MIN!G9='TRANSPORTEUR 3'!G9,"TRANSPORTEUR 3"))) -> TRANSPORTEUR 2 | H9: =IF(MIN!H9='TRANSPORTEUR 1'!H9,"TRANSPORTEUR 1",IF(MIN!H9='TRANSPORTEUR 2'!H9,"TRANSPORTEUR 2",IF(MIN!H9='TRANSPORTEUR 3'!H9,"TRANSPORTEUR 3"))) -> TRANSPORTEUR 2 | I9: =IF(MIN!I9='TRANSPORTEUR 1'!I9,"TRANSPORTEUR 1",IF(MIN!I9='TRANSPORTEUR 2'!I9,"TRANSPORTEUR 2",IF(MIN!I9='TRANSPORTEUR 3'!I9,"TRANSPORTEUR 3"))) -> TRANSPORTEUR 2 | ... K9: =IF(MIN!K9='TRANSPORTEUR 1'!K9,"TRANSPORTEUR 1",IF(MIN!K9='TRANSPORTEUR 2'!K9,"TRANSPORTEUR 2",IF(MIN!K9='TRANSPORTEUR 3'!K9,"TRANSPORTEUR 3"))) -> TRANSPORTEUR 2
A10: 9 | B10: =IF(MIN!B10='TRANSPORTEUR 1'!B10,"TRANSPORTEUR 1",IF(MIN!B10='TRANSPORTEUR 2'!B10,"TRANSPORTEUR 2",IF(MIN!B10='TRANSPORTEUR 3'!B10,"TRANSPORTEUR 3"))) -> TRANSPORTEUR 3 | C10: =IF(MIN!C10='TRANSPORTEUR 1'!C10,"TRANSPORTEUR 1",IF(MIN!C10='TRANSPORTEUR 2'!C10,"TRANSPORTEUR 2",IF(MIN!C10='TRANSPORTEUR 3'!C10,"TRANSPORTEUR 3"))) -> TRANSPORTEUR 3 | D10: =IF(MIN!D10='TRANSPORTEUR 1'!D10,"TRANSPORTEUR 1",IF(MIN!D10='TRANSPORTEUR 2'!D10,"TRANSPORTEUR 2",IF(MIN!D10='TRANSPORTEUR 3'!D10,"TRANSPORTEUR 3"))) -> TRANSPORTEUR 3 | E10: =IF(MIN!E10='TRANSPORTEUR 1'!E10,"TRANSPORTEUR 1",IF(MIN!E10='TRANSPORTEUR 2'!E10,"TRANSPORTEUR 2",IF(MIN!E10='TRANSPORTEUR 3'!E10,"TRANSPORTEUR 3"))) -> TRANSPORTEUR 3 | F10: =IF(MIN!F10='TRANSPORTEUR 1'!F10,"TRANSPORTEUR 1",IF(MIN!F10='TRANSPORTEUR 2'!F10,"TRANSPORTEUR 2",IF(MIN!F10='TRANSPORTEUR 3'!F10,"TRANSPORTEUR 3"))) -> TRANSPORTEUR 3 | G10: =IF(MIN!G10='TRANSPORTEUR 1'!G10,"TRANSPORTEUR 1",IF(MIN!G10='TRANSPORTEUR 2'!G10,"TRANSPORTEUR 2",IF(MIN!G10='TRANSPORTEUR 3'!G10,"TRANSPORTEUR 3"))) -> TRANSPORTEUR 2 | H10: =IF(MIN!H10='TRANSPORTEUR 1'!H10,"TRANSPORTEUR 1",IF(MIN!H10='TRANSPORTEUR 2'!H10,"TRANSPORTEUR 2",IF(MIN!H10='TRANSPORTEUR 3'!H10,"TRANSPORTEUR 3"))) -> TRANSPORTEUR 3 | I10: =IF(MIN!I10='TRANSPORTEUR 1'!I10,"TRANSPORTEUR 1",IF(MIN!I10='TRANSPORTEUR 2'!I10,"TRANSPORTEUR 2",IF(MIN!I10='TRANSPORTEUR 3'!I10,"TRANSPORTEUR 3"))) -> TRANSPORTEUR 2 | ... K10: =IF(MIN!K10='TRANSPORTEUR 1'!K10,"TRANSPORTEUR 1",IF(MIN!K10='TRANSPORTEUR 2'!K10,"TRANSPORTEUR 2",IF(MIN!K10='TRANSPORTEUR 3'!K10,"TRANSPORTEUR 3"))) -> TRANSPORTEUR 2
A11: 10 | B11: =IF(MIN!B11='TRANSPORTEUR 1'!B11,"TRANSPORTEUR 1",IF(MIN!B11='TRANSPORTEUR 2'!B11,"TRANSPORTEUR 2",IF(MIN!B11='TRANSPORTEUR 3'!B11,"TRANSPORTEUR 3"))) -> TRANSPORTEUR 3 | C11: =IF(MIN!C11='TRANSPORTEUR 1'!C11,"TRANSPORTEUR 1",IF(MIN!C11='TRANSPORTEUR 2'!C11,"TRANSPORTEUR 2",IF(MIN!C11='TRANSPORTEUR 3'!C11,"TRANSPORTEUR 3"))) -> TRANSPORTEUR 3 | D11: =IF(MIN!D11='TRANSPORTEUR 1'!D11,"TRANSPORTEUR 1",IF(MIN!D11='TRANSPORTEUR 2'!D11,"TRANSPORTEUR 2",IF(MIN!D11='TRANSPORTEUR 3'!D11,"TRANSPORTEUR 3"))) -> TRANSPORTEUR 3 | E11: =IF(MIN!E11='TRANSPORTEUR 1'!E11,"TRANSPORTEUR 1",IF(MIN!E11='TRANSPORTEUR 2'!E11,"TRANSPORTEUR 2",IF(MIN!E11='TRANSPORTEUR 3'!E11,"TRANSPORTEUR 3"))) -> TRANSPORTEUR 3 | F11: =IF(MIN!F11='TRANSPORTEUR 1'!F11,"TRANSPORTEUR 1",IF(MIN!F11='TRANSPORTEUR 2'!F11,"TRANSPORTEUR 2",IF(MIN!F11='TRANSPORTEUR 3'!F11,"TRANSPORTEUR 3"))) -> TRANSPORTEUR 3 | G11: =IF(MIN!G11='TRANSPORTEUR 1'!G11,"TRANSPORTEUR 1",IF(MIN!G11='TRANSPORTEUR 2'!G11,"TRANSPORTEUR 2",IF(MIN!G11='TRANSPORTEUR 3'!G11,"TRANSPORTEUR 3"))) -> TRANSPORTEUR 3 | H11: =IF(MIN!H11='TRANSPORTEUR 1'!H11,"TRANSPORTEUR 1",IF(MIN!H11='TRANSPORTEUR 2'!H11,"TRANSPORTEUR 2",IF(MIN!H11='TRANSPORTEUR 3'!H11,"TRANSPORTEUR 3"))) -> TRANSPORTEUR 3 | I11: =IF(MIN!I11='TRANSPORTEUR 1'!I11,"TRANSPORTEUR 1",IF(MIN!I11='TRANSPORTEUR 2'!I11,"TRANSPORTEUR 2",IF(MIN!I11='TRANSPORTEUR 3'!I11,"TRANSPORTEUR 3"))) -> TRANSPORTEUR 3 | ... K11: =IF(MIN!K11='TRANSPORTEUR 1'!K11,"TRANSPORTEUR 1",IF(MIN!K11='TRANSPORTEUR 2'!K11,"TRANSPORTEUR 2",IF(MIN!K11='TRANSPORTEUR 3'!K11,"TRANSPORTEUR 3"))) -> TRANSPORTEUR 3
