Workbook

Sheet 25
B3: Date | G3: Chambre | I3: 25 | J3: Service | M3: Conf.ihôt.
B5: PORTION | D5: ¾ | H5: DEMANDES SPÉCIFIQUES | L5: PETIT DÉJEUNER
B8: RÉGIME | D8: HYPOSODÉ PAUVRE EN SEL
B12: TEXTURE | D12: COUPÉ
D14: DYSPHAGIQUE
B16: ALLERGIE
B20: SALADE | D20: Champ à remplir | L20: COLLATION
B22: Nom | I22: Prénom | M22: Âge | P22: Chambre
P23: =MID(CELL("filename",D20),FIND("]",CELL("filename",D20))+1,32) -> #VALUE!

Sheet 26
B3: Date | G3: Chambre | I3: 26 | J3: Service | M3: Conf.ihôt.
B5: PORTION | F5: pas de repas le soir | H5: DEMANDES SPÉCIFIQUES | L5: PETIT DÉJEUNER
B8: RÉGIME | D8: DIABÉTIQUE
D10: LÉGUMES LÉGERS
B12: TEXTURE | D12: MIXÉ
B16: ALLERGIE
B20: SALADE | D20: Champ à remplir | L20: COLLATION
B22: Nom | I22: Prénom | M22: Âge | P22: Chambre
P23: =MID(CELL("filename",D20),FIND("]",CELL("filename",D20))+1,32) -> #VALUE!

Sheet Tableau
B6: Chambres | C6: Portions | E6: Régimes | F6: Textures
B7: 25 | C7: ='25'!D5 -> ¾ | D7: ='25'!F5 -> 0 | E7: ='25'!D8 -> HYPOSODÉ PAUVRE EN SEL | F7: ='25'!D12 -> COUPÉ
E8: ='25'!D10 -> 0 | F8: ='25'!D14 -> DYSPHAGIQUE
B9: 26 | C9: ='26'!D5 -> 0 | D9: ='26'!F5 -> pas de repas le soir | E9: ='26'!D8 -> DIABÉTIQUE | F9: ='26'!D12 -> MIXÉ
E10: ='26'!D10 -> LÉGUMES LÉGERS | F10: ='26'!D14 -> 0
B11: 27 | C11: ½ | E11: ='[1]10-3'!E12 -> 0 | F11: ='[1]10-3'!E16 -> 0
E12: ='[1]10-3'!E14 -> 0 | F12: ='[1]10-3'!E18 -> 0
B13: 28 | C13: ½ | E13: ='[1]10-4'!E12 -> 0 | F13: ='[1]10-4'!E16 -> 0
E14: ='[1]10-4'!E14 -> 0
B15: 29 | C15: ¾ | E15: ='[1]11-1'!E12 -> 0 | F15: ='[1]11-1'!E16 -> 0
E16: ='[1]11-1'!E14 -> 0 | F16: ='[1]11-1'!E18 -> 0
B17: 30 | D17: pas de repas | E17: ='[1]11-2'!E12 -> 0 | F17: ='[1]11-2'!E16 -> 0
E18: ='[1]11-2'!E14 -> 0 | F18: ='[1]11-2'!E18 -> 0
B19: 31 | C19: 1 | E19: ='[1]11-3'!E12 -> 0 | F19: ='[1]11-3'!E16 -> 0
E20: ='[1]11-3'!E14 -> 0 | F20: ='[1]11-3'!E18 -> 0
B21: 32 | C21: ¼ | E21: ='[1]11-4'!E12 -> 0 | F21: ='[1]11-4'!E16 -> 0
E22: ='[1]11-4'!E14 -> 0 | F22: ='[1]11-4'!E18 -> 0
B23: 33 | D23: pas de repas | E23: ='[1]12-1'!E12 -> 0 | F23: ='[1]12-1'!E16 -> 0
E24: ='[1]12-1'!E14 -> 0 | F24: ='[1]12-1'!E18 -> 0

Sheet Décomptes
A1: CHAMBRE | B1: PORTION | C1: RÉGIMES | D1: TEXTURES
A2: 25 | B2: =Tableau!C7&" "&Tableau!D7 -> ¾ 0 | C2: =Tableau!E7&" , "&Tableau!E8 -> HYPOSODÉ PAUVRE EN SEL , 0 | D2: =Tableau!F7&" , "&Tableau!F8 -> COUPÉ , DYSPHAGIQUE
A3: 26 | B3: =Tableau!C9&" "&Tableau!D9 -> 0 pas de repas le soir | C3: =Tableau!E9&" ; "&Tableau!E10 -> DIABÉTIQUE ; LÉGUMES LÉGERS | D3: =Tableau!F9&" ; "&Tableau!F10 -> MIXÉ ; 0
A4: 27
A5: 28
A6: 29
A7: 30
