Workbook
Name P: 8.18

Sheet Plan1
AA2: PL
B4: Restauration ORBE / CHAMBLON - Septembre 2021 | AK4: P | AL4: Production Chamblon
AK5: F | AL5: Finition Orbe
C6: Act | D6: S | E6: 35 me 01 | F6: je 02 | G6: ve 03 | H6: sa 04 | I6: di 05 | J6: lu 06 | K6: ma 07 | L6: me 08 | M6: je 09 | N6: ve 10 | O6: sa 11 | P6: di 12 | Q6: lu 13 | R6: ma 14 | S6: me 15 | T6: je 16 | U6: ve 17 | V6: sa 18 | W6: di 19 | X6: lu 20 | Y6: ma 21 | Z6: me 22 | AA6: je 23 | AB6: ve 24 | AC6: sa 25 | AD6: di 26 | AE6: lu 27 | AF6: ma 28 | AG6: me 29 | AH6: je 30 | AJ6: Solde | AM6: Temps bloc | AN6: Pause automatique
B7: Cadre proximité hôtelier et log
B8: David | C8: 100 | D8: M | E8: PL | F8: PL | G8: FL | J8: PL | K8: PL | L8: PL | M8: PL | N8: FL | Q8: PL | R8: PL | T8: PL | U8: FL | X8: PL | Y8: PL | Z8: PL | AA8: PL | AB8: FL | AE8: PL | AF8: PL | AG8: PL | AH8: PL | AJ8: =Paramètres!F8 -> -1.7292 | AK8: PL | AL8: Horaire libre / Prod. | AM8: 8h18
B9: Référent et expert int-rest
B10: Morgan | C10: 100 | D10: M | X10: P1 | AC10: F1 | AD10: F1 | AJ10: =Paramètres!F10 -> -7.60848 | AK10: FL | AL10: Horaire libre / Finit | AM10: 8h18
B11: Cuisinier
B12: Alex | C12: 100 | D12: M | W12: P1 | AJ12: =Paramètres!F12 -> -7.60848 | AK12: P1 | AL12: Production horaire 1 | AM12: 07h30 - 13h00
B13: George | C13: 100 | D13: M | F13: P2 | I13: F1 | AC13: P2 | AD13: P1 | AJ13: =Paramètres!F13 -> -7.60848 | AM13: 15h30 - 18h18
B14: Antoine | C14: 100 | D14: M | AJ14: =Paramètres!F14 -> -7.60848 | AK14: F1 | AL14: Finition horaire 1 | AM14: 07h30 - 13h00
B15: Léa | C15: 80 | D15: M | H15: P1 | I15: P1 | V15: F1 | W15: F1 | Z15: P1 | AA15: P1 | AB15: P1 | AE15: P1 | AF15: P1 | AJ15: =Paramètres!F15 -> -6.086784 | AM15: 15h30 - 18h18
B16: Natacha | C16: 80 | D16: M | O16: P1 | P16: P1 | R16: F1 | AC16: F1 | AD16: F1 | AJ16: =Paramètres!F16 -> -6.086784 | AK16: P2 | AL16: 8.18
B17: Effectif total :

Sheet Paramètres
B2: Taux | C2: jour
A3: septembre | B3: 100 | C3: 22 | I3: "PL" est le nom de l'horaire. Il est reconnu dans la formule: =NB.SI(Plan1!$E$8:$AI$8;"PL")*0.34584
I4: Comment insérer la valeur de la cellule "H7" dans cette formule afin de pouvoir à tout moment changer le nom de l'horaire?
B6: Taux % | C6: Jours/ mois | D6: Heures mensuelles | E6: Total H effectives | F6: solde | H6: Heures
H7: PL | I7: P1 | J7: P2
A8: ligne 8 | B8: 100 | C8: =(B8*C3)/100 -> 22 | D8: =C8*0.34584 -> 7.60848 | E8: =SUM(H8:K8) -> 5.87928 | F8: =E8-D8 -> -1.7292 | H8: =COUNTIF(Plan1!$E$8:$AI$8,"PL")*0.34584 -> 5.87928
A9: ligne 9 | C9: =(B9*C3)/100 -> 0 | D9: =C9*0.34584 -> 0 | E9: =SUM(H9:K9) -> 0 | F9: =E9-D9 -> 0 | H9: =COUNTIF(Plan1!$E$9:$AI$9,"PL")*0.34584 -> 0
A10: ligne 10 | B10: 100 | C10: =(B10*C3)/100 -> 22 | D10: =C10*0.34584 -> 7.60848 | E10: =SUM(H10:K10) -> 0 | F10: =E10-D10 -> -7.60848 | H10: =COUNTIF(Plan1!$E$10:$AI$10,"PL")*0.34584 -> 0
A11: ligne 11 | C11: =(B11*C3)/100 -> 0 | D11: =C11*0.34584 -> 0 | E11: =SUM(H11:K11) -> 0 | F11: =E11-D11 -> 0 | H11: =COUNTIF(Plan1!$E$11:$AI$11,"PL")*0.34584 -> 0
A12: ligne 12 | B12: 100 | C12: =(B12*C3)/100 -> 22 | D12: =C12*0.34584 -> 7.60848 | E12: =SUM(H12:K12) -> 0 | F12: =E12-D12 -> -7.60848 | H12: =COUNTIF(Plan1!$E$12:$AI$12,"PL")*0.34584 -> 0
A13: ligne 13 | B13: 100 | C13: =(B13*C3)/100 -> 22 | D13: =C13*0.34584 -> 7.60848 | E13: =SUM(H13:K13) -> 0 | F13: =E13-D13 -> -7.60848 | H13: =COUNTIF(Plan1!$E$13:$AI$13,"PL")*0.34584 -> 0
A14: ligne 14 | B14: 100 | C14: =(B14*C3)/100 -> 22 | D14: =C14*0.34584 -> 7.60848 | E14: =SUM(H14:K14) -> 0 | F14: =E14-D14 -> -7.60848 | H14: =COUNTIF(Plan1!$E$14:$AI$14,"PL")*0.34584 -> 0
A15: ligne 15 | B15: 80 | C15: =(B15*C3)/100 -> 17.6 | D15: =17.6*0.34584 -> 6.086784 | E15: =SUM(H15:K15) -> 0 | F15: =E15-D15 -> -6.086784 | H15: =COUNTIF(Plan1!$E$15:$AI$15,"PL")*0.34584 -> 0
A16: ligne 16 | B16: 80 | C16: =(B16*C3)/100 -> 17.6 | D16: =17.6*0.34584 -> 6.086784 | E16: =SUM(H16:K16) -> 0 | F16: =E16-D16 -> -6.086784 | H16: =COUNTIF(Plan1!$E$16:$AI$16,"PL")*0.34584 -> 0
