Workbook

Sheet Formulaire bota
A1: objectid | B1: globalid | C1: uniquerowid | D1: Habitat / Cortège | E1: created_date | F1: created_user | G1: last_edited_date | H1: last_edited_user | I1: x | J1: y
A2: 1 | B2: {89FE1F4B-1B14-45F2-8A0C-054DDEDA4D81} | C2: {C576CDB7-6B52-4A35-892E-89968B0B2CDC} | D2: 3057_ | E2: 43234.505 | F2: user | G2: 45699.505 | H2: user | I2: 4.4444 | J2: 44.44444
A3: 2 | B3: {303D9EDC-C2CA-45D1-A948-5F0A59FC1FC4} | C3: {67ACA867-2026-4CB2-8271-4DFDA9B4D481} | D3: 2996 | E3: 43234.505 | F3: user | G3: 45699.505 | H3: user | I3: 4.4444 | J3: 44.44444
A4: 3 | B4: {4B585906-7804-4DAC-8F5F-C619DC2E57EC} | C4: {2C7DDEFC-C4F5-42AA-9AD7-E7F1764B28BF} | D4: 3026_Bordures rudÃ©ralisÃ©es de champs cultivÃ©s | E4: 43234.505 | F4: user | G4: 45699.505 | H4: user | I4: 4.4444 | J4: 44.44444
A5: 4 | B5: {692FDEA5-3833-4B29-97D6-1CC90AB7CA13} | C5: {AD964629-CBC4-49C4-BE9C-8A4ED30E56DF} | D5: 2973_Friches rudÃ©rales | E5: 43234.505 | F5: user | G5: 45699.505 | H5: user | I5: 4.4444 | J5: 44.44444
A6: 5 | B6: {9335938F-B4B6-4F8E-91C5-EB9D85BFCA82} | C6: {379E7EC6-170C-4953-9D0A-47511979840B} | D6: 2973_PinÃ¨de claire | E6: 43234.505 | F6: user | G6: 45699.505 | H6: user | I6: 4.4444 | J6: 44.44444
A7: 6 | B7: {1D890626-68A4-49E0-B7A4-9592BB6CEF3D} | C7: {CF50B846-3C94-44F0-87FC-47766183BEFB} | D7: 2997 - Mison - Milieux rudÃ©raux sur sol caillouteux | E7: 43234.505 | F7: user | G7: 45699.505 | H7: user | I7: 4.4444 | J7: 44.44444
A8: 7 | B8: {A2547C66-D048-453B-BA0F-110381152496} | C8: {2C713C3A-6C47-437D-8433-844EDB8E18CE} | D8: P16 - pente nulle - sous bois Ã chene pubescens | E8: 43234.505 | F8: user | G8: 45699.505 | H8: user | I8: 4.4444 | J8: 44.44444
A9: 8 | B9: {111F33AD-0AA8-4582-87AB-5B4BE3F3DFDB} | C9: {EC39E330-1EED-4B61-8E9F-0DC7C3E99F73} | D9: P15- pente nulle - sous bois de Chene pubescent | E9: 43234.505 | F9: user | G9: 45699.505 | H9: user | I9: 4.4444 | J9: 44.44444
A10: 9 | B10: {9301A24A-AEB1-4406-9BBC-EBA7822F3D1C} | C10: {CB397BD0-29D6-40CF-962C-CAD208B345FB} | D10: 3044 - Pelouse Ã Aphyllanthes, B.Retusum et B. Erectum | E10: 43252.634 | F10: user | G10: 45699.505 | H10: user | I10: 4.4444 | J10: 44.44444
A11: 10 | B11: {B071178D-A47A-4C10-9B88-0A8234638E11} | C11: {66D7FEED-7B1E-4887-B24E-567B795DFFD3} | D11: 3061-communautÃ©s arriÃ¨re dunaires en cours de ruderalisation | E11: 43252.634 | F11: user | G11: 45699.505 | H11: user | I11: 4.4444 | J11: 44.44444
A12: 11 | B12: {CC7A5ABD-EE4F-4D5F-93DC-719B965E1CA9} | C12: {464C9404-B78C-46D7-9DFB-7297A4C5F7C5} | D12: La batie mont saleon | E12: 43252.634 | F12: user | G12: 45699.505 | H12: user | I12: 4.4444 | J12: 44.44444
A13: 12 | B13: {5C97958E-AE1E-44FE-BB1C-756E0F8412F8} | C13: {82201741-B2D1-4B2C-959C-471E0A02937E} | D13: 2631A P45 | E13: 43252.634 | F13: user | G13: 45699.505 | H13: user | I13: 4.4444 | J13: 44.44444
A14: 13 | B14: {65798CEC-77FB-481E-A1B7-224444B65858} | C14: {231C4C56-7AEE-46B9-AA5F-EA4B22DD8F20} | D14: 2631A P44 | E14: 43252.634 | F14: user | G14: 45699.505 | H14: user | I14: 4.4444 | J14: 44.44444
A15: 14 | B15: {8ABE4AE7-BE47-48E6-B25F-36D1F3293722} | C15: {35007D3A-24B7-4891-8C4B-7E48D4D93BED} | D15: 2631A P43 | E15: 43252.634 | F15: user | G15: 45699.505 | H15: user | I15: 4.4444 | J15: 44.44444
... A131: 130 | B131: {A8618C21-73FF-425E-A41D-AB8E1B8DC54B} | C131: {15020EEB-0A39-4E73-9795-61CA90BA361E} | D131: 2892 - Pelouses a bra brachypode de phenicie et brom dresse | E131: 43264.752 | F131: user | G131: 45699.505 | H131: user | I131: 4.4444 | J131: 44.44444
A132: 131 | B132: {375A88E6-9C06-43E5-BB53-4E3F75E87865} | C132: {646FB672-028D-4277-8A5D-0E05DDC2A4C4} | D132: 3048 | E132: 43264.752 | F132: user | G132: 45699.505 | H132: user | I132: 4.4444 | J132: 44.44444
A133: 132 | B133: {1A5D6770-3B0C-4AD9-91D1-2676966ECCB7} | C133: {C30CB0CF-5B5D-4234-BF3F-8D56888B1335} | D133: 2697 - Su2m | E133: 43264.752 | F133: user | G133: 45699.505 | H133: user | I133: 4.4444 | J133: 44.44444
A134: 133 | B134: {A629DE49-0F8F-4F96-85D7-76173646CB00} | C134: {E12F7A5D-B0B4-4C5E-8D85-BC3E831DF0CE} | D134: 2697 - Su1m | E134: 43264.752 | F134: user | G134: 45699.505 | H134: user | I134: 4.4444 | J134: 44.44444
A135: 134 | B135: {F84CC4D7-C174-42C1-94FE-DF62DAFF1191} | C135: {B0F4227E-D03B-48B7-9E14-587310BAF516} | D135: 2697 - Su4m | E135: 43264.752 | F135: user | G135: 45699.505 | H135: user | I135: 4.4444 | J135: 44.44444
A136: 135 | B136: {281499B5-B759-4595-90A1-CC01249F235B} | C136: {F0371D6E-F7EF-42B2-B274-82EDC61D43B6} | D136: 2697 - Su6m | E136: 43264.752 | F136: user | G136: 45699.505 | H136: user | I136: 4.4444 | J136: 44.44444
A137: 136 | B137: {6EC922EC-D01D-4A39-A000-978955FFB9BE} | C137: {1C4F7AAD-33C9-4F0A-A29F-28007700FB49} | D137: 2697 - Su7m | E137: 43264.752 | F137: user | G137: 45699.505 | H137: user | I137: 4.4444 | J137: 44.44444
A138: 137 | B138: {FA317D23-D4B7-463B-B4C7-F556F1785F36} | C138: {DE0D0581-FB2C-4A47-906E-BFD6E1A92CC9} | D138: 2697 - Su8m | E138: 43264.752 | F138: user | G138: 45699.505 | H138: user | I138: 4.4444 | J138: 44.44444
A139: 138 | B139: {1882E5D6-4048-43B7-85DB-91D4B7156C67} | C139: {CC9C7B10-AF7C-4904-87AD-54D9F167A039} | D139: 2697 - Su9m | E139: 43264.752 | F139: user | G139: 45699.505 | H139: user | I139: 4.4444 | J139: 44.44444
A140: 139 | B140: {1DCD8C7C-0D38-4DE5-8670-4F9B58363D9D} | C140: {C7BC88C5-6790-4FB0-A9AD-096BA674BA08} | D140: 2697 - Su12m | E140: 43264.752 | F140: user | G140: 45699.505 | H140: user | I140: 4.4444 | J140: 44.44444
A141: 140 | B141: {20E36753-2634-420E-B211-68598EDD878A} | C141: {54A8F99E-D083-469C-811D-3EA0A83050EC} | D141: 2697 - Su11m | E141: 43264.752 | F141: user | G141: 45699.505 | H141: user | I141: 4.4444 | J141: 44.44444
A142: 141 | B142: {D33D835F-AA12-4AB1-918D-BFABAF016FCD} | C142: {8BED9A67-90A0-42D9-B0E8-677DF70AE81F} | D142: 2697 - Su10m | E142: 43264.752 | F142: user | G142: 45699.505 | H142: user | I142: 4.4444 | J142: 44.44444
A143: 142 | B143: {63FD268D-9FE9-4AD2-BD14-8AA2FFE879FE} | C143: {664CABDB-74C1-4779-84FA-E89AD1DA8620} | D143: 2697 - Su16m | E143: 43264.752 | F143: user | G143: 45699.505 | H143: user | I143: 4.4444 | J143: 44.44444
A144: 143 | B144: {43C731E3-AFE2-44B6-B7C0-7083327CE244} | C144: {037DDA5F-C2A6-407A-B599-C9BD1D6FAB9E} | D144: 2697 - Su20m | E144: 43264.752 | F144: user | G144: 45699.505 | H144: user | I144: 4.4444 | J144: 44.44444
... A216: 215 | B216: {AD85D95A-793F-4404-9502-F3D4E70C6B81} | C216: {13B786B2-1470-40D6-8456-E4B17900EF9E} | D216: 3069 bassins | E216: 43293.431 | F216: user | G216: 45699.505 | H216: user | I216: 4.4444 | J216: 44.44444
A217: 216 | B217: {7DD7674E-EEA9-4AD3-A974-76DDA2C94BF0} | C217: {45450A97-1481-4471-B5B0-45A80CB69C2C} | D217: 3069 | E217: 43293.431 | F217: user | G217: 45699.505 | H217: user | I217: 4.4444 | J217: 44.44444
A218: 217 | B218: {2B249F11-0C0C-45AB-BD04-4CDD2C448219} | C218: {740CE2E7-5213-4794-9032-9465255310AC} | D218: 2503 (montpellier) | E218: 43293.431 | F218: user | G218: 45699.505 | H218: user | I218: 4.4444 | J218: 44.44444
A219: 218 | B219: {EDE23B22-34F1-4AEC-9A2B-1719B4030AD6} | C219: {E35E69D0-6889-462B-890F-D69698A60BCE} | D219: Hab 1 | E219: 43293.431 | F219: user | G219: 45699.505 | H219: user | I219: 4.4444 | J219: 44.44444
A220: 219 | B220: {165D7F0B-559A-4AD9-AC7E-C7C5EA999577} | C220: {616A8135-7301-4C86-909C-EA84A0DAA263} | D220: 3035 - Pelouses paturÃ©es | E220: 43293.431 | F220: user | G220: 45699.505 | H220: user | I220: 4.4444 | J220: 44.44444
A221: 220 | B221: {FFA00A19-7C62-4C71-ACF9-AE1CF89B8084} | C221: {B4A29E9E-15E5-454B-89F7-DD37549D7DEE} | D221: 3026 | E221: 43293.431 | F221: user | G221: 45699.505 | H221: user | I221: 4.4444 | J221: 44.44444
A222: 221 | B222: {F79D40C0-47E9-4F32-96DC-4865A34A32A1} | C222: {E640C07C-AB76-4F03-9126-CF0FE570EDD2} | D222: 3044 - boisement | E222: 43293.431 | F222: user | G222: 45699.505 | H222: user | I222: 4.4444 | J222: 44.44444
A223: 222 | B223: {D9656984-B457-4D17-97A8-D81575DC72C0} | C223: {208C7CFD-7169-4BFA-BB9A-894C77859F65} | D223: 3066 - Cazihlac | E223: 43293.431 | F223: user | G223: 45699.505 | H223: user | I223: 4.4444 | J223: 44.44444
A224: 223 | B224: {4F211C8C-6B34-4CFF-83F7-A7D6A5905AFF} | C224: {85061CEE-0831-45E4-88A0-C096FC901819} | D224: 3044 - pelouses | E224: 43293.431 | F224: user | G224: 45699.505 | H224: user | I224: 4.4444 | J224: 44.44444
A225: 224 | B225: {6CCE9EDA-B046-483D-A197-3A00A54D357B} | C225: {DE46F4C5-C475-4737-BD92-B2E54C8FAD4C} | D225: 2979 - Hab 21 | E225: 43306.447 | F225: user | G225: 45699.505 | H225: user | I225: 4.4444 | J225: 44.44444
A226: 225 | B226: {5769BBC2-7093-498C-BBCE-2565AE4C0B94} | C226: {46FF83EF-B4CD-4DFD-B3D9-C393F7B0B970} | D226: 3034 - 7 | E226: 43332.586 | F226: user | G226: 45699.505 | H226: user | I226: 4.4444 | J226: 44.44444
...

Sheet Saisie
A1: objectid | B1: globalid | C1: especes | D1: parentrowid | E1: created_date | F1: created_user | G1: last_edited_date | H1: last_edited_user
A2: 1 | B2: {66797A77-C2EF-48A5-A52A-5260437804BC} | C2: Poa annu | D2: {C576CDB7-6B52-4A35-892E-89968B0B2CDC} | E2: 43725.505 | F2: user | G2: 33731.505 | H2: user
A3: 2 | B3: {EDFE155C-FADA-4B5A-80CE-467F8A9977C8} | C3: Poa camp | D3: {C576CDB7-6B52-4A35-892E-89968B0B2CDC} | E3: 43725.505 | F3: user | G3: 33731.505 | H3: user
A4: 3 | B4: {91345BF2-CA4F-475F-B815-14EA53B216C9} | C4: Dact glom | D4: {C576CDB7-6B52-4A35-892E-89968B0B2CDC} | E4: 43725.505 | F4: user | G4: 33731.505 | H4: user
A5: 4 | B5: {54938023-8538-414C-AF98-2246650DFE41} | C5: Rosa cani | D5: {C576CDB7-6B52-4A35-892E-89968B0B2CDC} | E5: 43725.505 | F5: user | G5: 33731.505 | H5: user
A6: 5 | B6: {65279CDE-4129-4977-AA0A-D9B48717175C} | C6: Sene vulg | D6: {C576CDB7-6B52-4A35-892E-89968B0B2CDC} | E6: 43725.505 | F6: user | G6: 33731.505 | H6: user
A7: 6 | B7: {A612E13B-8814-4E8C-BCD0-F8DF4175E48B} | C7: Sile lati | D7: {C576CDB7-6B52-4A35-892E-89968B0B2CDC} | E7: 43725.505 | F7: user | G7: 33731.505 | H7: user
A8: 7 | B8: {79079A4E-3CB0-4B96-B344-4C38ED3C8FC2} | C8: Corn sang | D8: {C576CDB7-6B52-4A35-892E-89968B0B2CDC} | E8: 43725.505 | F8: user | G8: 33731.505 | H8: user
A9: 8 | B9: {AE0DCB37-5424-42AE-AE3F-76852CCA2287} | C9: Vero arve | D9: {C576CDB7-6B52-4A35-892E-89968B0B2CDC} | E9: 43725.505 | F9: user | G9: 33731.505 | H9: user
A10: 9 | B10: {66E18037-F6DD-4504-BED4-CD9A58A06467} | C10: Cirs vulg | D10: {C576CDB7-6B52-4A35-892E-89968B0B2CDC} | E10: 43725.505 | F10: user | G10: 33731.505 | H10: user
A11: 10 | B11: {456D7CF5-BC33-457A-A9C5-3327A4A6A9F9} | C11: Crep sanc | D11: {C576CDB7-6B52-4A35-892E-89968B0B2CDC} | E11: 43725.505 | F11: user | G11: 33731.505 | H11: user
A12: 11 | B12: {5DDF8A62-0817-4235-93CC-B5F0999E1842} | C12: Champ de colza | D12: {C576CDB7-6B52-4A35-892E-89968B0B2CDC} | E12: 43725.505 | F12: user | G12: 33731.505 | H12: user
A13: 12 | B13: {4B3431D7-FBF8-43A5-9D7E-0F1706DEF47B} | C13: Holc lana | D13: {C576CDB7-6B52-4A35-892E-89968B0B2CDC} | E13: 43725.505 | F13: user | G13: 33731.505 | H13: user
... A110: 109 | B110: {3E87A85E-F790-4A3C-A010-BA9CF070D9CA} | C110: Sera ling | D110: {67ACA867-2026-4CB2-8271-4DFDA9B4D481} | E110: 43725.505 | F110: user | G110: 33731.505 | H110: user
A111: 110 | B111: {69700B97-F8ED-444A-BE31-3BB03FE7CC39} | D111: {67ACA867-2026-4CB2-8271-4DFDA9B4D481} | E111: 43725.505 | F111: user | G111: 33731.505 | H111: user
A112: 111 | B112: {291776B2-0F75-427C-8F10-B0E20290B9F0} | C112: Glad ital | D112: {2C7DDEFC-C4F5-42AA-9AD7-E7F1764B28BF} | E112: 43725.505 | F112: user | G112: 33731.505 | H112: user
A113: 112 | B113: {AB8D0B8B-891D-41A7-ACCB-E4F650C82042} | C113: Linu usit | D113: {2C7DDEFC-C4F5-42AA-9AD7-E7F1764B28BF} | E113: 43725.505 | F113: user | G113: 33731.505 | H113: user
A114: 113 | B114: {E76C17A3-230D-484F-AE18-68E97BE32E32} | C114: Musc como | D114: {2C7DDEFC-C4F5-42AA-9AD7-E7F1764B28BF} | E114: 43725.505 | F114: user | G114: 33731.505 | H114: user
A115: 114 | B115: {1C74C381-79C3-4C73-8959-4D4B8DDCAEFA} | C115: Thym vulg | D115: {2C7DDEFC-C4F5-42AA-9AD7-E7F1764B28BF} | E115: 43725.505 | F115: user | G115: 33731.505 | H115: user
A116: 115 | B116: {80B86CF6-BECB-46D2-A78B-5A2B88A4727F} | C116: Poa prat | D116: {2C7DDEFC-C4F5-42AA-9AD7-E7F1764B28BF} | E116: 43725.505 | F116: user | G116: 33731.505 | H116: user
A117: 116 | B117: {BD6986AE-95D3-435E-9B9A-C48D05580FB5} | C117: Sonc aspe | D117: {2C7DDEFC-C4F5-42AA-9AD7-E7F1764B28BF} | E117: 43725.505 | F117: user | G117: 33731.505 | H117: user
A118: 117 | B118: {028A9022-F193-46DD-B20B-35EFEECCE6F8} | C118: Brom ster | D118: {2C7DDEFC-C4F5-42AA-9AD7-E7F1764B28BF} | E118: 43725.505 | F118: user | G118: 33731.505 | H118: user
A119: 118 | B119: {BB01370B-F2CB-4DE4-BDFB-37BA48FF24D8} | C119: Loli pere | D119: {2C7DDEFC-C4F5-42AA-9AD7-E7F1764B28BF} | E119: 43725.505 | F119: user | G119: 33731.505 | H119: user
A120: 119 | B120: {0E0E1DB6-4D93-4F03-B611-FA7450DA250F} | C120: Scab atro | D120: {2C7DDEFC-C4F5-42AA-9AD7-E7F1764B28BF} | E120: 43725.505 | F120: user | G120: 33731.505 | H120: user
A121: 120 | B121: {4DFB8687-F827-4AC1-8361-6B24EEABCA41} | C121: Gera robe | D121: {2C7DDEFC-C4F5-42AA-9AD7-E7F1764B28BF} | E121: 43725.505 | F121: user | G121: 33731.505 | H121: user
A122: 121 | B122: {B00D0C9A-A51D-4B92-BAED-DE8439D762C3} | C122: Cera pumi | D122: {2C7DDEFC-C4F5-42AA-9AD7-E7F1764B28BF} | E122: 43725.505 | F122: user | G122: 33731.505 | H122: user
A123: 122 | B123: {3C38C094-0E61-4F16-BFF0-076582E23B88} | C123: Cala nepe | D123: {2C7DDEFC-C4F5-42AA-9AD7-E7F1764B28BF} | E123: 43725.505 | F123: user | G123: 33731.505 | H123: user
... A181: 180 | B181: {C3CA63A9-449D-495F-8946-37286F8D6385} | C181: Hype perf | D181: {2C7DDEFC-C4F5-42AA-9AD7-E7F1764B28BF} | E181: 43725.505 | F181: user | G181: 33731.505 | H181: user
A182: 181 | B182: {ECA9C123-11BA-45BC-9D03-F22517745562} | D182: {2C7DDEFC-C4F5-42AA-9AD7-E7F1764B28BF} | E182: 43725.505 | F182: user | G182: 33731.505 | H182: user
A183: 182 | B183: {BE5D28E2-D8DB-44D1-ABFA-F0A2F6D73EC4} | C183: Hedy rhag | D183: {2C7DDEFC-C4F5-42AA-9AD7-E7F1764B28BF} | E183: 43725.505 | F183: user | G183: 33731.505 | H183: user
A184: 183 | B184: {F7A0B066-202C-47C8-87BF-E3B164E3B493} | C184: Ante arve | D184: {2C7DDEFC-C4F5-42AA-9AD7-E7F1764B28BF} | E184: 43725.505 | F184: user | G184: 33731.505 | H184: user
A185: 184 | B185: {2E55884F-81C2-4A04-8545-B88C5ACE0896} | C185: Sher arve | D185: {2C7DDEFC-C4F5-42AA-9AD7-E7F1764B28BF} | E185: 43725.505 | F185: user | G185: 33731.505 | H185: user
A186: 185 | B186: {C556FB37-A0E3-4D09-971B-9E0D87DE22B9} | C186: Card tenu | D186: {2C7DDEFC-C4F5-42AA-9AD7-E7F1764B28BF} | E186: 43725.505 | F186: user | G186: 33731.505 | H186: user
A187: 186 | B187: {7C868CA7-E462-4222-B1DD-FED45875FB64} | C187: Card hirs | D187: {2C7DDEFC-C4F5-42AA-9AD7-E7F1764B28BF} | E187: 43725.505 | F187: user | G187: 33731.505 | H187: user
A188: 187 | B188: {8BE62722-2715-426B-AD61-BFAFB1816551} | C188: Erod mala | D188: {2C7DDEFC-C4F5-42AA-9AD7-E7F1764B28BF} | E188: 43725.505 | F188: user | G188: 33731.505 | H188: user
A189: 188 | B189: {6BD1A822-0DD5-4C3D-A0E6-E2B487FEC6D7} | C189: Frag sylv | D189: {2C7DDEFC-C4F5-42AA-9AD7-E7F1764B28BF} | E189: 43725.505 | F189: user | G189: 33731.505 | H189: user
A190: 189 | B190: {17D0B50C-5216-4ADB-92BD-5C5580E86165} | C190: Sile vulg | D190: {2C7DDEFC-C4F5-42AA-9AD7-E7F1764B28BF} | E190: 43725.505 | F190: user | G190: 33731.505 | H190: user
A191: 190 | B191: {12F32AFE-CE8C-45E3-BDE0-855F85B41799} | C191: Cyno cret | D191: {2C7DDEFC-C4F5-42AA-9AD7-E7F1764B28BF} | E191: 43725.505 | F191: user | G191: 33731.505 | H191: user
A192: 191 | B192: {B35CF88F-9CCC-4C43-9A56-738493F40D7E} | C192: Uros picr | D192: {2C7DDEFC-C4F5-42AA-9AD7-E7F1764B28BF} | E192: 43725.505 | F192: user | G192: 33731.505 | H192: user
A193: 192 | B193: {D6D02FB7-3A02-47A0-9367-BF6B388DEEC5} | C193: Oxal arti | D193: {2C7DDEFC-C4F5-42AA-9AD7-E7F1764B28BF} | E193: 43725.505 | F193: user | G193: 33731.505 | H193: user
...

Sheet Centralisation des données
A1: parentrowid | B1: Espèces | C1: parentrowid | D1: numero_eture_cortège | E1: uniquerowid | F1: Longitude | G1: parentrowid | H1: Latitude | I1: uniquerowid | J1: Date de création | K1: uniquerowid | L1: Observateur
A2: =Saisie!D:D -> {C576CDB7-6B52-4A35-892E-89968B0B2CDC} | B2: =Saisie!C:C -> Poa annu | C2: ='Formulaire bota'!C:C -> {C576CDB7-6B52-4A35-892E-89968B0B2CDC} | D2: ='Formulaire bota'!D:D -> 3057_ | E2: ='Formulaire bota'!C:C -> {C576CDB7-6B52-4A35-892E-89968B0B2CDC} | F2: ='Formulaire bota'!I:I -> 4.4444 | G2: ='Formulaire bota'!C:C -> {C576CDB7-6B52-4A35-892E-89968B0B2CDC} | H2: ='Formulaire bota'!J:J -> 44.44444 | I2: ='Formulaire bota'!C:C -> {C576CDB7-6B52-4A35-892E-89968B0B2CDC} | J2: ='Formulaire bota'!E:E -> 43234.505 | K2: ='Formulaire bota'!C:C -> {C576CDB7-6B52-4A35-892E-89968B0B2CDC} | L2: ='Formulaire bota'!F:F -> user
A3: =Saisie!D:D -> {C576CDB7-6B52-4A35-892E-89968B0B2CDC} | B3: =Saisie!C:C -> Poa camp | C3: ='Formulaire bota'!C:C -> {67ACA867-2026-4CB2-8271-4DFDA9B4D481} | D3: ='Formulaire bota'!D:D -> 2996 | F3: ='Formulaire bota'!I:I -> 4.4444 | G3: ='Formulaire bota'!C:C -> {67ACA867-2026-4CB2-8271-4DFDA9B4D481} | H3: ='Formulaire bota'!J:J -> 44.44444 | I3: ='Formulaire bota'!C:C -> {67ACA867-2026-4CB2-8271-4DFDA9B4D481} | J3: ='Formulaire bota'!E:E -> 43234.505 | K3: ='[1]Relevé bota v3'!C:C -> {67ACA867-2026-4CB2-8271-4DFDA9B4D481} | L3: ='Formulaire bota'!F:F -> user
A4: =Saisie!D:D -> {C576CDB7-6B52-4A35-892E-89968B0B2CDC} | B4: =Saisie!C:C -> Dact glom | C4: ='Formulaire bota'!C:C -> {2C7DDEFC-C4F5-42AA-9AD7-E7F1764B28BF} | D4: ='Formulaire bota'!D:D -> 3026_Bordures rudÃ©ralisÃ©es de champs cultivÃ©s | F4: ='Formulaire bota'!I:I -> 4.4444 | G4: ='Formulaire bota'!C:C -> {2C7DDEFC-C4F5-42AA-9AD7-E7F1764B28BF} | H4: ='Formulaire bota'!J:J -> 44.44444 | I4: ='Formulaire bota'!C:C -> {2C7DDEFC-C4F5-42AA-9AD7-E7F1764B28BF} | J4: ='Formulaire bota'!E:E -> 43234.505 | K4: ='[1]Relevé bota v3'!C:C -> {2C7DDEFC-C4F5-42AA-9AD7-E7F1764B28BF} | L4: ='Formulaire bota'!F:F -> user
A5: =Saisie!D:D -> {C576CDB7-6B52-4A35-892E-89968B0B2CDC} | B5: =Saisie!C:C -> Rosa cani | C5: ='Formulaire bota'!C:C -> {AD964629-CBC4-49C4-BE9C-8A4ED30E56DF} | D5: ='Formulaire bota'!D:D -> 2973_Friches rudÃ©rales | F5: ='Formulaire bota'!I:I -> 4.4444 | G5: ='Formulaire bota'!C:C -> {AD964629-CBC4-49C4-BE9C-8A4ED30E56DF} | H5: ='Formulaire bota'!J:J -> 44.44444 | I5: ='Formulaire bota'!C:C -> {AD964629-CBC4-49C4-BE9C-8A4ED30E56DF} | J5: ='Formulaire bota'!E:E -> 43234.505 | K5: ='[1]Relevé bota v3'!C:C -> {AD964629-CBC4-49C4-BE9C-8A4ED30E56DF} | L5: ='Formulaire bota'!F:F -> user
A6: =Saisie!D:D -> {C576CDB7-6B52-4A35-892E-89968B0B2CDC} | B6: =Saisie!C:C -> Sene vulg | C6: ='Formulaire bota'!C:C -> {379E7EC6-170C-4953-9D0A-47511979840B} | D6: ='Formulaire bota'!D:D -> 2973_PinÃ¨de claire | F6: ='Formulaire bota'!I:I -> 4.4444 | G6: ='Formulaire bota'!C:C -> {379E7EC6-170C-4953-9D0A-47511979840B} | H6: ='Formulaire bota'!J:J -> 44.44444 | I6: ='Formulaire bota'!C:C -> {379E7EC6-170C-4953-9D0A-47511979840B} | J6: ='Formulaire bota'!E:E -> 43234.505 | K6: ='[1]Relevé bota v3'!C:C -> {379E7EC6-170C-4953-9D0A-47511979840B} | L6: ='Formulaire bota'!F:F -> user
A7: =Saisie!D:D -> {C576CDB7-6B52-4A35-892E-89968B0B2CDC} | B7: =Saisie!C:C -> Sile lati | C7: ='Formulaire bota'!C:C -> {CF50B846-3C94-44F0-87FC-47766183BEFB} | D7: ='Formulaire bota'!D:D -> 2997 - Mison - Milieux rudÃ©raux sur sol caillouteux | F7: ='Formulaire bota'!I:I -> 4.4444 | G7: ='Formulaire bota'!C:C -> {CF50B846-3C94-44F0-87FC-47766183BEFB} | H7: ='Formulaire bota'!J:J -> 44.44444 | I7: ='Formulaire bota'!C:C -> {CF50B846-3C94-44F0-87FC-47766183BEFB} | J7: ='Formulaire bota'!E:E -> 43234.505 | K7: ='[1]Relevé bota v3'!C:C -> {CF50B846-3C94-44F0-87FC-47766183BEFB} | L7: ='Formulaire bota'!F:F -> user
A8: =Saisie!D:D -> {C576CDB7-6B52-4A35-892E-89968B0B2CDC} | B8: =Saisie!C:C -> Corn sang | C8: ='Formulaire bota'!C:C -> {2C713C3A-6C47-437D-8433-844EDB8E18CE} | D8: ='Formulaire bota'!D:D -> P16 - pente nulle - sous bois Ã chene pubescens | F8: ='Formulaire bota'!I:I -> 4.4444 | G8: ='Formulaire bota'!C:C -> {2C713C3A-6C47-437D-8433-844EDB8E18CE} | H8: ='Formulaire bota'!J:J -> 44.44444 | I8: ='Formulaire bota'!C:C -> {2C713C3A-6C47-437D-8433-844EDB8E18CE} | J8: ='Formulaire bota'!E:E -> 43234.505 | K8: ='[1]Relevé bota v3'!C:C -> {2C713C3A-6C47-437D-8433-844EDB8E18CE} | L8: ='Formulaire bota'!F:F -> user
A9: =Saisie!D:D -> {C576CDB7-6B52-4A35-892E-89968B0B2CDC} | B9: =Saisie!C:C -> Vero arve | C9: ='Formulaire bota'!C:C -> {EC39E330-1EED-4B61-8E9F-0DC7C3E99F73} | D9: ='Formulaire bota'!D:D -> P15- pente nulle - sous bois de Chene pubescent | F9: ='Formulaire bota'!I:I -> 4.4444 | G9: ='Formulaire bota'!C:C -> {EC39E330-1EED-4B61-8E9F-0DC7C3E99F73} | H9: ='Formulaire bota'!J:J -> 44.44444 | I9: ='Formulaire bota'!C:C -> {EC39E330-1EED-4B61-8E9F-0DC7C3E99F73} | J9: ='Formulaire bota'!E:E -> 43234.505 | K9: ='[1]Relevé bota v3'!C:C -> {EC39E330-1EED-4B61-8E9F-0DC7C3E99F73} | L9: ='Formulaire bota'!F:F -> user
A10: =Saisie!D:D -> {C576CDB7-6B52-4A35-892E-89968B0B2CDC} | B10: =Saisie!C:C -> Cirs vulg | C10: ='Formulaire bota'!C:C -> {CB397BD0-29D6-40CF-962C-CAD208B345FB} | D10: ='Formulaire bota'!D:D -> 3044 - Pelouse Ã Aphyllanthes, B.Retusum et B. Erectum | F10: ='Formulaire bota'!I:I -> 4.4444 | G10: ='Formulaire bota'!C:C -> {CB397BD0-29D6-40CF-962C-CAD208B345FB} | H10: ='Formulaire bota'!J:J -> 44.44444 | I10: ='Formulaire bota'!C:C -> {CB397BD0-29D6-40CF-962C-CAD208B345FB} | J10: ='Formulaire bota'!E:E -> 43252.634 | K10: ='[1]Relevé bota v3'!C:C -> {CB397BD0-29D6-40CF-962C-CAD208B345FB} | L10: ='Formulaire bota'!F:F -> user
A11: =Saisie!D:D -> {C576CDB7-6B52-4A35-892E-89968B0B2CDC} | B11: =Saisie!C:C -> Crep sanc | C11: ='Formulaire bota'!C:C -> {66D7FEED-7B1E-4887-B24E-567B795DFFD3} | D11: ='Formulaire bota'!D:D -> 3061-communautÃ©s arriÃ¨re dunaires en cours de ruderalisation | F11: ='Formulaire bota'!I:I -> 4.4444 | G11: ='Formulaire bota'!C:C -> {66D7FEED-7B1E-4887-B24E-567B795DFFD3} | H11: ='Formulaire bota'!J:J -> 44.44444 | I11: ='Formulaire bota'!C:C -> {66D7FEED-7B1E-4887-B24E-567B795DFFD3} | J11: ='Formulaire bota'!E:E -> 43252.634 | K11: ='[1]Relevé bota v3'!C:C -> {66D7FEED-7B1E-4887-B24E-567B795DFFD3} | L11: ='Formulaire bota'!F:F -> user
A12: =Saisie!D:D -> {C576CDB7-6B52-4A35-892E-89968B0B2CDC} | B12: =Saisie!C:C -> Champ de colza | C12: ='Formulaire bota'!C:C -> {464C9404-B78C-46D7-9DFB-7297A4C5F7C5} | D12: ='Formulaire bota'!D:D -> La batie mont saleon | F12: ='Formulaire bota'!I:I -> 4.4444 | G12: ='Formulaire bota'!C:C -> {464C9404-B78C-46D7-9DFB-7297A4C5F7C5} | H12: ='Formulaire bota'!J:J -> 44.44444 | I12: ='Formulaire bota'!C:C -> {464C9404-B78C-46D7-9DFB-7297A4C5F7C5} | J12: ='Formulaire bota'!E:E -> 43252.634 | K12: ='[1]Relevé bota v3'!C:C -> {464C9404-B78C-46D7-9DFB-7297A4C5F7C5} | L12: ='Formulaire bota'!F:F -> user
A13: =Saisie!D:D -> {C576CDB7-6B52-4A35-892E-89968B0B2CDC} | B13: =Saisie!C:C -> Holc lana | C13: ='Formulaire bota'!C:C -> {82201741-B2D1-4B2C-959C-471E0A02937E} | D13: ='Formulaire bota'!D:D -> 2631A P45 | F13: ='Formulaire bota'!I:I -> 4.4444 | G13: ='Formulaire bota'!C:C -> {82201741-B2D1-4B2C-959C-471E0A02937E} | H13: ='Formulaire bota'!J:J -> 44.44444 | I13: ='Formulaire bota'!C:C -> {82201741-B2D1-4B2C-959C-471E0A02937E} | J13: ='Formulaire bota'!E:E -> 43252.634 | K13: ='[1]Relevé bota v3'!C:C -> {82201741-B2D1-4B2C-959C-471E0A02937E} | L13: ='Formulaire bota'!F:F -> user
A14: =Saisie!D:D -> {C576CDB7-6B52-4A35-892E-89968B0B2CDC} | B14: =Saisie!C:C -> Sene inae | C14: ='Formulaire bota'!C:C -> {231C4C56-7AEE-46B9-AA5F-EA4B22DD8F20} | D14: ='Formulaire bota'!D:D -> 2631A P44 | F14: ='Formulaire bota'!I:I -> 4.4444 | G14: ='Formulaire bota'!C:C -> {231C4C56-7AEE-46B9-AA5F-EA4B22DD8F20} | H14: ='Formulaire bota'!J:J -> 44.44444 | I14: ='Formulaire bota'!C:C -> {231C4C56-7AEE-46B9-AA5F-EA4B22DD8F20} | J14: ='Formulaire bota'!E:E -> 43252.634 | K14: ='[1]Relevé bota v3'!C:C -> {231C4C56-7AEE-46B9-AA5F-EA4B22DD8F20} | L14: ='Formulaire bota'!F:F -> user
A15: =Saisie!D:D -> {C576CDB7-6B52-4A35-892E-89968B0B2CDC} | B15: =Saisie!C:C -> Conv arve | C15: ='Formulaire bota'!C:C -> {35007D3A-24B7-4891-8C4B-7E48D4D93BED} | D15: ='Formulaire bota'!D:D -> 2631A P43 | E15: ='[1]Relevé bota v3'!C:C -> {35007D3A-24B7-4891-8C4B-7E48D4D93BED} | F15: ='Formulaire bota'!I:I -> 4.4444 | G15: ='Formulaire bota'!C:C -> {35007D3A-24B7-4891-8C4B-7E48D4D93BED} | H15: ='Formulaire bota'!J:J -> 44.44444 | I15: ='Formulaire bota'!C:C -> {35007D3A-24B7-4891-8C4B-7E48D4D93BED} | J15: ='Formulaire bota'!E:E -> 43252.634 | K15: ='[1]Relevé bota v3'!C:C -> {35007D3A-24B7-4891-8C4B-7E48D4D93BED} | L15: ='Formulaire bota'!F:F -> user
A16: =Saisie!D:D -> {C576CDB7-6B52-4A35-892E-89968B0B2CDC} | B16: =Saisie!C:C -> Soli giga | C16: ='Formulaire bota'!C:C -> {31848D02-B28C-4608-B70E-4EA354FB90B1} | D16: ='Formulaire bota'!D:D -> 2631A P51 | E16: ='[1]Relevé bota v3'!C:C -> {31848D02-B28C-4608-B70E-4EA354FB90B1} | F16: ='Formulaire bota'!I:I -> 4.4444 | G16: ='Formulaire bota'!C:C -> {31848D02-B28C-4608-B70E-4EA354FB90B1} | H16: ='Formulaire bota'!J:J -> 44.44444 | I16: ='Formulaire bota'!C:C -> {31848D02-B28C-4608-B70E-4EA354FB90B1} | J16: ='Formulaire bota'!E:E -> 43252.634 | K16: ='[1]Relevé bota v3'!C:C -> {31848D02-B28C-4608-B70E-4EA354FB90B1} | L16: ='Formulaire bota'!F:F -> user
A17: =Saisie!D:D -> {C576CDB7-6B52-4A35-892E-89968B0B2CDC} | B17: =Saisie!C:C -> Agri eupa | C17: ='Formulaire bota'!C:C -> {29889811-065E-499F-BAA1-E2A55FE53BE7} | D17: ='Formulaire bota'!D:D -> 2631A P50 | E17: ='[1]Relevé bota v3'!C:C -> {29889811-065E-499F-BAA1-E2A55FE53BE7} | F17: ='Formulaire bota'!I:I -> 4.4444 | G17: ='Formulaire bota'!C:C -> {29889811-065E-499F-BAA1-E2A55FE53BE7} | H17: ='Formulaire bota'!J:J -> 44.44444 | I17: ='Formulaire bota'!C:C -> {29889811-065E-499F-BAA1-E2A55FE53BE7} | J17: ='Formulaire bota'!E:E -> 43252.634 | K17: ='[1]Relevé bota v3'!C:C -> {29889811-065E-499F-BAA1-E2A55FE53BE7} | L17: ='Formulaire bota'!F:F -> user
A18: =Saisie!D:D -> {C576CDB7-6B52-4A35-892E-89968B0B2CDC} | B18: =Saisie!C:C -> Rume cris | C18: ='Formulaire bota'!C:C -> {64B4CF2A-F7B3-4067-AD0A-1EDD4A57E78A} | D18: ='Formulaire bota'!D:D -> 2631A P49 | E18: ='[1]Relevé bota v3'!C:C -> {64B4CF2A-F7B3-4067-AD0A-1EDD4A57E78A} | F18: ='Formulaire bota'!I:I -> 4.4444 | G18: ='Formulaire bota'!C:C -> {64B4CF2A-F7B3-4067-AD0A-1EDD4A57E78A} | H18: ='Formulaire bota'!J:J -> 44.44444 | I18: ='Formulaire bota'!C:C -> {64B4CF2A-F7B3-4067-AD0A-1EDD4A57E78A} | J18: ='Formulaire bota'!E:E -> 43252.634 | K18: ='[1]Relevé bota v3'!C:C -> {64B4CF2A-F7B3-4067-AD0A-1EDD4A57E78A} | L18: ='Formulaire bota'!F:F -> user
A19: =Saisie!D:D -> {C576CDB7-6B52-4A35-892E-89968B0B2CDC} | B19: =Saisie!C:C -> Lotu grac | C19: ='Formulaire bota'!C:C -> {256130F0-FBD5-4A4D-A079-CF375C03ED37} | D19: ='Formulaire bota'!D:D -> 2631A P48 | E19: ='[1]Relevé bota v3'!C:C -> {256130F0-FBD5-4A4D-A079-CF375C03ED37} | F19: ='Formulaire bota'!I:I -> 4.4444 | G19: ='Formulaire bota'!C:C -> {256130F0-FBD5-4A4D-A079-CF375C03ED37} | H19: ='Formulaire bota'!J:J -> 44.44444 | I19: ='Formulaire bota'!C:C -> {256130F0-FBD5-4A4D-A079-CF375C03ED37} | J19: ='Formulaire bota'!E:E -> 43252.634 | K19: ='[1]Relevé bota v3'!C:C -> {256130F0-FBD5-4A4D-A079-CF375C03ED37} | L19: ='Formulaire bota'!F:F -> user
A20: =Saisie!D:D -> {C576CDB7-6B52-4A35-892E-89968B0B2CDC} | B20: =Saisie!C:C -> Vici tetr | C20: ='Formulaire bota'!C:C -> {B6F2129F-F7BF-45F7-A8BD-26D6A7281020} | D20: ='Formulaire bota'!D:D -> 2631A P47 | E20: ='[1]Relevé bota v3'!C:C -> {B6F2129F-F7BF-45F7-A8BD-26D6A7281020} | F20: ='Formulaire bota'!I:I -> 4.4444 | G20: ='Formulaire bota'!C:C -> {B6F2129F-F7BF-45F7-A8BD-26D6A7281020} | H20: ='Formulaire bota'!J:J -> 44.44444 | I20: ='Formulaire bota'!C:C -> {B6F2129F-F7BF-45F7-A8BD-26D6A7281020} | J20: ='Formulaire bota'!E:E -> 43252.634 | K20: ='[1]Relevé bota v3'!C:C -> {B6F2129F-F7BF-45F7-A8BD-26D6A7281020} | L20: ='Formulaire bota'!F:F -> user
A21: =Saisie!D:D -> {C576CDB7-6B52-4A35-892E-89968B0B2CDC} | B21: =Saisie!C:C -> Picr hier | C21: ='Formulaire bota'!C:C -> {5DB5073A-6272-41A7-90E7-1D1489D23CA3} | D21: ='Formulaire bota'!D:D -> 2631A P46 | E21: ='[1]Relevé bota v3'!C:C -> {5DB5073A-6272-41A7-90E7-1D1489D23CA3} | F21: ='Formulaire bota'!I:I -> 4.4444 | G21: ='Formulaire bota'!C:C -> {5DB5073A-6272-41A7-90E7-1D1489D23CA3} | H21: ='Formulaire bota'!J:J -> 44.44444 | I21: ='Formulaire bota'!C:C -> {5DB5073A-6272-41A7-90E7-1D1489D23CA3} | J21: ='Formulaire bota'!E:E -> 43252.634 | K21: ='[1]Relevé bota v3'!C:C -> {5DB5073A-6272-41A7-90E7-1D1489D23CA3} | L21: ='Formulaire bota'!F:F -> user
A22: =Saisie!D:D -> {C576CDB7-6B52-4A35-892E-89968B0B2CDC} | B22: =Saisie!C:C -> Crat mono | C22: ='Formulaire bota'!C:C -> {BAA156BC-CF0A-47BF-8FB6-26210E78AC4E} | D22: ='Formulaire bota'!D:D -> 2631A P42 | E22: ='[1]Relevé bota v3'!C:C -> {BAA156BC-CF0A-47BF-8FB6-26210E78AC4E} | F22: ='Formulaire bota'!I:I -> 4.4444 | G22: ='Formulaire bota'!C:C -> {BAA156BC-CF0A-47BF-8FB6-26210E78AC4E} | H22: ='Formulaire bota'!J:J -> 44.44444 | I22: ='Formulaire bota'!C:C -> {BAA156BC-CF0A-47BF-8FB6-26210E78AC4E} | J22: ='Formulaire bota'!E:E -> 43252.634 | K22: ='[1]Relevé bota v3'!C:C -> {BAA156BC-CF0A-47BF-8FB6-26210E78AC4E} | L22: ='Formulaire bota'!F:F -> user
A23: =Saisie!D:D -> {C576CDB7-6B52-4A35-892E-89968B0B2CDC} | B23: =Saisie!C:C -> Hypo radi | C23: ='Formulaire bota'!C:C -> {64EAA301-2A5F-4CC6-894D-C2B83E79120C} | D23: ='Formulaire bota'!D:D -> 2631A P41 | E23: ='[1]Relevé bota v3'!C:C -> {64EAA301-2A5F-4CC6-894D-C2B83E79120C} | F23: ='Formulaire bota'!I:I -> 4.4444 | G23: ='Formulaire bota'!C:C -> {64EAA301-2A5F-4CC6-894D-C2B83E79120C} | H23: ='Formulaire bota'!J:J -> 44.44444 | I23: ='Formulaire bota'!C:C -> {64EAA301-2A5F-4CC6-894D-C2B83E79120C} | J23: ='Formulaire bota'!E:E -> 43252.634 | K23: ='[1]Relevé bota v3'!C:C -> {64EAA301-2A5F-4CC6-894D-C2B83E79120C} | L23: ='Formulaire bota'!F:F -> user
A24: =Saisie!D:D -> {C576CDB7-6B52-4A35-892E-89968B0B2CDC} | B24: =Saisie!C:C -> Brom ster | C24: ='Formulaire bota'!C:C -> {1F7F18BC-0179-4DA0-9FFB-50C5D66DCD7C} | D24: ='Formulaire bota'!D:D -> 2631A P40 | E24: ='[1]Relevé bota v3'!C:C -> {1F7F18BC-0179-4DA0-9FFB-50C5D66DCD7C} | F24: ='Formulaire bota'!I:I -> 4.4444 | G24: ='Formulaire bota'!C:C -> {1F7F18BC-0179-4DA0-9FFB-50C5D66DCD7C} | H24: ='Formulaire bota'!J:J -> 44.44444 | I24: ='Formulaire bota'!C:C -> {1F7F18BC-0179-4DA0-9FFB-50C5D66DCD7C} | J24: ='Formulaire bota'!E:E -> 43252.634 | K24: ='[1]Relevé bota v3'!C:C -> {1F7F18BC-0179-4DA0-9FFB-50C5D66DCD7C} | L24: ='Formulaire bota'!F:F -> user
A25: =Saisie!D:D -> {C576CDB7-6B52-4A35-892E-89968B0B2CDC} | B25: =Saisie!C:C -> Arte vulg | C25: ='Formulaire bota'!C:C -> {1E20EC80-384F-415E-B32D-159D58037F7F} | D25: ='Formulaire bota'!D:D -> 2631A P39 | E25: ='[1]Relevé bota v3'!C:C -> {1E20EC80-384F-415E-B32D-159D58037F7F} | F25: ='Formulaire bota'!I:I -> 4.4444 | G25: ='Formulaire bota'!C:C -> {1E20EC80-384F-415E-B32D-159D58037F7F} | H25: ='Formulaire bota'!J:J -> 44.44444 | I25: ='Formulaire bota'!C:C -> {1E20EC80-384F-415E-B32D-159D58037F7F} | J25: ='Formulaire bota'!E:E -> 43252.634 | K25: ='[1]Relevé bota v3'!C:C -> {1E20EC80-384F-415E-B32D-159D58037F7F} | L25: ='Formulaire bota'!F:F -> user
A26: =Saisie!D:D -> {C576CDB7-6B52-4A35-892E-89968B0B2CDC} | B26: =Saisie!C:C -> Sile ital | C26: ='Formulaire bota'!C:C -> {D03ABBA5-F026-4C36-80CE-5CF2FA8B6D91} | D26: ='Formulaire bota'!D:D -> 2631A P38 | E26: ='[1]Relevé bota v3'!C:C -> {D03ABBA5-F026-4C36-80CE-5CF2FA8B6D91} | F26: ='Formulaire bota'!I:I -> 4.4444 | G26: ='Formulaire bota'!C:C -> {D03ABBA5-F026-4C36-80CE-5CF2FA8B6D91} | H26: ='Formulaire bota'!J:J -> 44.44444 | I26: ='Formulaire bota'!C:C -> {D03ABBA5-F026-4C36-80CE-5CF2FA8B6D91} | J26: ='Formulaire bota'!E:E -> 43252.634 | K26: ='[1]Relevé bota v3'!C:C -> {D03ABBA5-F026-4C36-80CE-5CF2FA8B6D91} | L26: ='Formulaire bota'!F:F -> user
... A252: =Saisie!D:D -> {AD964629-CBC4-49C4-BE9C-8A4ED30E56DF} | B252: =Saisie!C:C -> Dact glom | C252: ='Formulaire bota'!C:C -> 0 | D252: ='Formulaire bota'!D:D -> 0 | E252: ='[1]Relevé bota v3'!C:C -> 0 | F252: ='Formulaire bota'!I:I -> 0 | G252: ='Formulaire bota'!C:C -> 0 | H252: ='Formulaire bota'!J:J -> 0 | I252: ='Formulaire bota'!C:C -> 0 | J252: ='Formulaire bota'!E:E -> 0 | K252: ='[1]Relevé bota v3'!C:C -> 0 | L252: ='Formulaire bota'!F:F -> 0

Sheet Données de travail
A1: Code corresp | B1: Code Espèce | C1: numero_eture | D1: Date de création | E1: Longitude | F1: Latitude | G1: Observateur
A2: ='Centralisation des données'!A:A -> {C576CDB7-6B52-4A35-892E-89968B0B2CDC} | B2: ='Centralisation des données'!B:B -> Poa annu | C2: 3057 | D2: =VLOOKUP('Centralisation des données'!A2,'Centralisation des données'!I:J,2,0) -> 43234.505 | E2: =VLOOKUP('Centralisation des données'!A2,'Centralisation des données'!E:F,2,0) -> 4.4444 | F2: =VLOOKUP('Centralisation des données'!A2,'Centralisation des données'!G:H,2,0) -> 44.44444 | G2: =VLOOKUP('Données de travail'!A2,'Centralisation des données'!K:L,2,0) -> user
A3: ='Centralisation des données'!A:A -> {C576CDB7-6B52-4A35-892E-89968B0B2CDC} | B3: ='Centralisation des données'!B:B -> Poa camp | C3: 3057 | D3: =VLOOKUP('Centralisation des données'!A3,'Centralisation des données'!I:J,2,0) -> 43234.505 | E3: =VLOOKUP('Centralisation des données'!A3,'Centralisation des données'!E:F,2,0) -> 4.4444 | F3: =VLOOKUP('Centralisation des données'!A3,'Centralisation des données'!G:H,2,0) -> 44.44444 | G3: =VLOOKUP('Données de travail'!A3,'Centralisation des données'!K:L,2,0) -> user
A4: ='Centralisation des données'!A:A -> {C576CDB7-6B52-4A35-892E-89968B0B2CDC} | B4: ='Centralisation des données'!B:B -> Dact glom | C4: 3057 | D4: =VLOOKUP('Centralisation des données'!A4,'Centralisation des données'!I:J,2,0) -> 43234.505 | E4: =VLOOKUP('Centralisation des données'!A4,'Centralisation des données'!E:F,2,0) -> 4.4444 | F4: =VLOOKUP('Centralisation des données'!A4,'Centralisation des données'!G:H,2,0) -> 44.44444 | G4: =VLOOKUP('Données de travail'!A4,'Centralisation des données'!K:L,2,0) -> user
A5: ='Centralisation des données'!A:A -> {C576CDB7-6B52-4A35-892E-89968B0B2CDC} | B5: ='Centralisation des données'!B:B -> Rosa cani | C5: 3057 | D5: =VLOOKUP('Centralisation des données'!A5,'Centralisation des données'!I:J,2,0) -> 43234.505 | E5: =VLOOKUP('Centralisation des données'!A5,'Centralisation des données'!E:F,2,0) -> 4.4444 | F5: =VLOOKUP('Centralisation des données'!A5,'Centralisation des données'!G:H,2,0) -> 44.44444 | G5: =VLOOKUP('Données de travail'!A5,'Centralisation des données'!K:L,2,0) -> user
A6: ='Centralisation des données'!A:A -> {C576CDB7-6B52-4A35-892E-89968B0B2CDC} | B6: ='Centralisation des données'!B:B -> Sene vulg | C6: 3057 | D6: =VLOOKUP('Centralisation des données'!A6,'Centralisation des données'!I:J,2,0) -> 43234.505 | E6: =VLOOKUP('Centralisation des données'!A6,'Centralisation des données'!E:F,2,0) -> 4.4444 | F6: =VLOOKUP('Centralisation des données'!A6,'Centralisation des données'!G:H,2,0) -> 44.44444 | G6: =VLOOKUP('Données de travail'!A6,'Centralisation des données'!K:L,2,0) -> user
A7: ='Centralisation des données'!A:A -> {C576CDB7-6B52-4A35-892E-89968B0B2CDC} | B7: ='Centralisation des données'!B:B -> Sile lati | C7: 3057 | D7: =VLOOKUP('Centralisation des données'!A7,'Centralisation des données'!I:J,2,0) -> 43234.505 | E7: =VLOOKUP('Centralisation des données'!A7,'Centralisation des données'!E:F,2,0) -> 4.4444 | F7: =VLOOKUP('Centralisation des données'!A7,'Centralisation des données'!G:H,2,0) -> 44.44444 | G7: =VLOOKUP('Données de travail'!A7,'Centralisation des données'!K:L,2,0) -> user
A8: ='Centralisation des données'!A:A -> {C576CDB7-6B52-4A35-892E-89968B0B2CDC} | B8: ='Centralisation des données'!B:B -> Corn sang | C8: 3057 | D8: =VLOOKUP('Centralisation des données'!A8,'Centralisation des données'!I:J,2,0) -> 43234.505 | E8: =VLOOKUP('Centralisation des données'!A8,'Centralisation des données'!E:F,2,0) -> 4.4444 | F8: =VLOOKUP('Centralisation des données'!A8,'Centralisation des données'!G:H,2,0) -> 44.44444 | G8: =VLOOKUP('Données de travail'!A8,'Centralisation des données'!K:L,2,0) -> user
A9: ='Centralisation des données'!A:A -> {C576CDB7-6B52-4A35-892E-89968B0B2CDC} | B9: ='Centralisation des données'!B:B -> Vero arve | C9: 3057 | D9: =VLOOKUP('Centralisation des données'!A9,'Centralisation des données'!I:J,2,0) -> 43234.505 | E9: =VLOOKUP('Centralisation des données'!A9,'Centralisation des données'!E:F,2,0) -> 4.4444 | F9: =VLOOKUP('Centralisation des données'!A9,'Centralisation des données'!G:H,2,0) -> 44.44444 | G9: =VLOOKUP('Données de travail'!A9,'Centralisation des données'!K:L,2,0) -> user
A10: ='Centralisation des données'!A:A -> {C576CDB7-6B52-4A35-892E-89968B0B2CDC} | B10: ='Centralisation des données'!B:B -> Cirs vulg | C10: 3057 | D10: =VLOOKUP('Centralisation des données'!A10,'Centralisation des données'!I:J,2,0) -> 43234.505 | E10: =VLOOKUP('Centralisation des données'!A10,'Centralisation des données'!E:F,2,0) -> 4.4444 | F10: =VLOOKUP('Centralisation des données'!A10,'Centralisation des données'!G:H,2,0) -> 44.44444 | G10: =VLOOKUP('Données de travail'!A10,'Centralisation des données'!K:L,2,0) -> user
A11: ='Centralisation des données'!A:A -> {C576CDB7-6B52-4A35-892E-89968B0B2CDC} | B11: ='Centralisation des données'!B:B -> Crep sanc | C11: 3057 | D11: =VLOOKUP('Centralisation des données'!A11,'Centralisation des données'!I:J,2,0) -> 43234.505 | E11: =VLOOKUP('Centralisation des données'!A11,'Centralisation des données'!E:F,2,0) -> 4.4444 | F11: =VLOOKUP('Centralisation des données'!A11,'Centralisation des données'!G:H,2,0) -> 44.44444 | G11: =VLOOKUP('Données de travail'!A11,'Centralisation des données'!K:L,2,0) -> user
A12: ='Centralisation des données'!A:A -> {C576CDB7-6B52-4A35-892E-89968B0B2CDC} | B12: ='Centralisation des données'!B:B -> Champ de colza | C12: 3057 | D12: =VLOOKUP('Centralisation des données'!A12,'Centralisation des données'!I:J,2,0) -> 43234.505 | E12: =VLOOKUP('Centralisation des données'!A12,'Centralisation des données'!E:F,2,0) -> 4.4444 | F12: =VLOOKUP('Centralisation des données'!A12,'Centralisation des données'!G:H,2,0) -> 44.44444 | G12: =VLOOKUP('Données de travail'!A12,'Centralisation des données'!K:L,2,0) -> user
A13: ='Centralisation des données'!A:A -> {C576CDB7-6B52-4A35-892E-89968B0B2CDC} | B13: ='Centralisation des données'!B:B -> Holc lana | C13: 3057 | D13: =VLOOKUP('Centralisation des données'!A13,'Centralisation des données'!I:J,2,0) -> 43234.505 | E13: =VLOOKUP('Centralisation des données'!A13,'Centralisation des données'!E:F,2,0) -> 4.4444 | F13: =VLOOKUP('Centralisation des données'!A13,'Centralisation des données'!G:H,2,0) -> 44.44444 | G13: =VLOOKUP('Données de travail'!A13,'Centralisation des données'!K:L,2,0) -> user
... A64: ='Centralisation des données'!A:A -> {C576CDB7-6B52-4A35-892E-89968B0B2CDC} | B64: ='Centralisation des données'!B:B -> Medi mini | C64: 3057 | D64: =VLOOKUP('Centralisation des données'!A64,'Centralisation des données'!I:J,2,0) -> 43234.505 | E64: =VLOOKUP('Centralisation des données'!A64,'Centralisation des données'!E:F,2,0) -> 4.4444 | F64: =VLOOKUP('Centralisation des données'!A64,'Centralisation des données'!G:H,2,0) -> 44.44444 | G64: =VLOOKUP('Données de travail'!A64,'Centralisation des données'!K:L,2,0) -> user
A65: ='Centralisation des données'!A:A -> {67ACA867-2026-4CB2-8271-4DFDA9B4D481} | B65: ='Centralisation des données'!B:B -> Neat apul | C65: =VLOOKUP('Centralisation des données'!A65,'Centralisation des données'!C:D,2,0) -> 2996 | D65: =VLOOKUP('Centralisation des données'!A65,'Centralisation des données'!I:J,2,0) -> 43234.505 | E65: =VLOOKUP('Centralisation des données'!A65,'Centralisation des données'!E:F,2,0) -> #N/A | F65: =VLOOKUP('Centralisation des données'!A65,'Centralisation des données'!G:H,2,0) -> 44.44444 | G65: =VLOOKUP('Données de travail'!A65,'Centralisation des données'!K:L,2,0) -> user
A66: ='Centralisation des données'!A:A -> {67ACA867-2026-4CB2-8271-4DFDA9B4D481} | B66: ='Centralisation des données'!B:B -> Rume inte | C66: =VLOOKUP('Centralisation des données'!A66,'Centralisation des données'!C:D,2,0) -> 2996 | D66: =VLOOKUP('Centralisation des données'!A66,'Centralisation des données'!I:J,2,0) -> 43234.505 | E66: =VLOOKUP('Centralisation des données'!A66,'Centralisation des données'!E:F,2,0) -> #N/A | F66: =VLOOKUP('Centralisation des données'!A66,'Centralisation des données'!G:H,2,0) -> 44.44444 | G66: =VLOOKUP('Données de travail'!A66,'Centralisation des données'!K:L,2,0) -> user
A67: ='Centralisation des données'!A:A -> {67ACA867-2026-4CB2-8271-4DFDA9B4D481} | B67: ='Centralisation des données'!B:B -> Brom rube | C67: =VLOOKUP('Centralisation des données'!A67,'Centralisation des données'!C:D,2,0) -> 2996 | D67: =VLOOKUP('Centralisation des données'!A67,'Centralisation des données'!I:J,2,0) -> 43234.505 | E67: =VLOOKUP('Centralisation des données'!A67,'Centralisation des données'!E:F,2,0) -> #N/A | F67: =VLOOKUP('Centralisation des données'!A67,'Centralisation des données'!G:H,2,0) -> 44.44444 | G67: =VLOOKUP('Données de travail'!A67,'Centralisation des données'!K:L,2,0) -> user
A68: ='Centralisation des données'!A:A -> {67ACA867-2026-4CB2-8271-4DFDA9B4D481} | B68: ='Centralisation des données'!B:B -> Sile ital | C68: =VLOOKUP('Centralisation des données'!A68,'Centralisation des données'!C:D,2,0) -> 2996 | D68: =VLOOKUP('Centralisation des données'!A68,'Centralisation des données'!I:J,2,0) -> 43234.505 | E68: =VLOOKUP('Centralisation des données'!A68,'Centralisation des données'!E:F,2,0) -> #N/A | F68: =VLOOKUP('Centralisation des données'!A68,'Centralisation des données'!G:H,2,0) -> 44.44444 | G68: =VLOOKUP('Données de travail'!A68,'Centralisation des données'!K:L,2,0) -> user
A69: ='Centralisation des données'!A:A -> {67ACA867-2026-4CB2-8271-4DFDA9B4D481} | B69: ='Centralisation des données'!B:B -> Uros picr | C69: =VLOOKUP('Centralisation des données'!A69,'Centralisation des données'!C:D,2,0) -> 2996 | D69: =VLOOKUP('Centralisation des données'!A69,'Centralisation des données'!I:J,2,0) -> 43234.505 | E69: =VLOOKUP('Centralisation des données'!A69,'Centralisation des données'!E:F,2,0) -> #N/A | F69: =VLOOKUP('Centralisation des données'!A69,'Centralisation des données'!G:H,2,0) -> 44.44444 | G69: =VLOOKUP('Données de travail'!A69,'Centralisation des données'!K:L,2,0) -> user
A70: ='Centralisation des données'!A:A -> {67ACA867-2026-4CB2-8271-4DFDA9B4D481} | B70: ='Centralisation des données'!B:B -> Cent rube | C70: =VLOOKUP('Centralisation des données'!A70,'Centralisation des données'!C:D,2,0) -> 2996 | D70: =VLOOKUP('Centralisation des données'!A70,'Centralisation des données'!I:J,2,0) -> 43234.505 | E70: =VLOOKUP('Centralisation des données'!A70,'Centralisation des données'!E:F,2,0) -> #N/A | F70: =VLOOKUP('Centralisation des données'!A70,'Centralisation des données'!G:H,2,0) -> 44.44444 | G70: =VLOOKUP('Données de travail'!A70,'Centralisation des données'!K:L,2,0) -> user
A71: ='Centralisation des données'!A:A -> {67ACA867-2026-4CB2-8271-4DFDA9B4D481} | B71: ='Centralisation des données'!B:B -> Hipp como | C71: =VLOOKUP('Centralisation des données'!A71,'Centralisation des données'!C:D,2,0) -> 2996 | D71: =VLOOKUP('Centralisation des données'!A71,'Centralisation des données'!I:J,2,0) -> 43234.505 | E71: =VLOOKUP('Centralisation des données'!A71,'Centralisation des données'!E:F,2,0) -> #N/A | F71: =VLOOKUP('Centralisation des données'!A71,'Centralisation des données'!G:H,2,0) -> 44.44444 | G71: =VLOOKUP('Données de travail'!A71,'Centralisation des données'!K:L,2,0) -> user
A72: ='Centralisation des données'!A:A -> {67ACA867-2026-4CB2-8271-4DFDA9B4D481} | B72: ='Centralisation des données'!B:B -> Sedu albu | C72: =VLOOKUP('Centralisation des données'!A72,'Centralisation des données'!C:D,2,0) -> 2996 | D72: =VLOOKUP('Centralisation des données'!A72,'Centralisation des données'!I:J,2,0) -> 43234.505 | E72: =VLOOKUP('Centralisation des données'!A72,'Centralisation des données'!E:F,2,0) -> #N/A | F72: =VLOOKUP('Centralisation des données'!A72,'Centralisation des données'!G:H,2,0) -> 44.44444 | G72: =VLOOKUP('Données de travail'!A72,'Centralisation des données'!K:L,2,0) -> user
A73: ='Centralisation des données'!A:A -> {67ACA867-2026-4CB2-8271-4DFDA9B4D481} | B73: ='Centralisation des données'!B:B -> Camp erin | C73: =VLOOKUP('Centralisation des données'!A73,'Centralisation des données'!C:D,2,0) -> 2996 | D73: =VLOOKUP('Centralisation des données'!A73,'Centralisation des données'!I:J,2,0) -> 43234.505 | E73: =VLOOKUP('Centralisation des données'!A73,'Centralisation des données'!E:F,2,0) -> #N/A | F73: =VLOOKUP('Centralisation des données'!A73,'Centralisation des données'!G:H,2,0) -> 44.44444 | G73: =VLOOKUP('Données de travail'!A73,'Centralisation des données'!K:L,2,0) -> user
A74: ='Centralisation des données'!A:A -> {67ACA867-2026-4CB2-8271-4DFDA9B4D481} | B74: ='Centralisation des données'!B:B -> Onon natr | C74: =VLOOKUP('Centralisation des données'!A74,'Centralisation des données'!C:D,2,0) -> 2996 | D74: =VLOOKUP('Centralisation des données'!A74,'Centralisation des données'!I:J,2,0) -> 43234.505 | E74: =VLOOKUP('Centralisation des données'!A74,'Centralisation des données'!E:F,2,0) -> #N/A | F74: =VLOOKUP('Centralisation des données'!A74,'Centralisation des données'!G:H,2,0) -> 44.44444 | G74: =VLOOKUP('Données de travail'!A74,'Centralisation des données'!K:L,2,0) -> user
A75: ='Centralisation des données'!A:A -> {67ACA867-2026-4CB2-8271-4DFDA9B4D481} | B75: ='Centralisation des données'!B:B -> Cent calc | C75: =VLOOKUP('Centralisation des données'!A75,'Centralisation des données'!C:D,2,0) -> 2996 | D75: =VLOOKUP('Centralisation des données'!A75,'Centralisation des données'!I:J,2,0) -> 43234.505 | E75: =VLOOKUP('Centralisation des données'!A75,'Centralisation des données'!E:F,2,0) -> #N/A | F75: =VLOOKUP('Centralisation des données'!A75,'Centralisation des données'!G:H,2,0) -> 44.44444 | G75: =VLOOKUP('Données de travail'!A75,'Centralisation des données'!K:L,2,0) -> user
A76: ='Centralisation des données'!A:A -> {67ACA867-2026-4CB2-8271-4DFDA9B4D481} | B76: ='Centralisation des données'!B:B -> Cata rigi | C76: =VLOOKUP('Centralisation des données'!A76,'Centralisation des données'!C:D,2,0) -> 2996 | D76: =VLOOKUP('Centralisation des données'!A76,'Centralisation des données'!I:J,2,0) -> 43234.505 | E76: =VLOOKUP('Centralisation des données'!A76,'Centralisation des données'!E:F,2,0) -> #N/A | F76: =VLOOKUP('Centralisation des données'!A76,'Centralisation des données'!G:H,2,0) -> 44.44444 | G76: =VLOOKUP('Données de travail'!A76,'Centralisation des données'!K:L,2,0) -> user
... A111: ='Centralisation des données'!A:A -> {67ACA867-2026-4CB2-8271-4DFDA9B4D481} | B111: ='Centralisation des données'!B:B -> 0 | C111: =VLOOKUP('Centralisation des données'!A111,'Centralisation des données'!C:D,2,0) -> 2996 | D111: =VLOOKUP('Centralisation des données'!A111,'Centralisation des données'!I:J,2,0) -> 43234.505 | E111: =VLOOKUP('Centralisation des données'!A111,'Centralisation des données'!E:F,2,0) -> #N/A | F111: =VLOOKUP('Centralisation des données'!A111,'Centralisation des données'!G:H,2,0) -> 44.44444 | G111: =VLOOKUP('Données de travail'!A111,'Centralisation des données'!K:L,2,0) -> user
A112: ='Centralisation des données'!A:A -> {2C7DDEFC-C4F5-42AA-9AD7-E7F1764B28BF} | B112: ='Centralisation des données'!B:B -> Glad ital | C112: 3026 | D112: =VLOOKUP('Centralisation des données'!A112,'Centralisation des données'!I:J,2,0) -> 43234.505 | E112: =VLOOKUP('Centralisation des données'!A112,'Centralisation des données'!E:F,2,0) -> #N/A | F112: =VLOOKUP('Centralisation des données'!A112,'Centralisation des données'!G:H,2,0) -> 44.44444 | G112: =VLOOKUP('Données de travail'!A112,'Centralisation des données'!K:L,2,0) -> user
A113: ='Centralisation des données'!A:A -> {2C7DDEFC-C4F5-42AA-9AD7-E7F1764B28BF} | B113: ='Centralisation des données'!B:B -> Linu usit | C113: 3026 | D113: =VLOOKUP('Centralisation des données'!A113,'Centralisation des données'!I:J,2,0) -> 43234.505 | E113: =VLOOKUP('Centralisation des données'!A113,'Centralisation des données'!E:F,2,0) -> #N/A | F113: =VLOOKUP('Centralisation des données'!A113,'Centralisation des données'!G:H,2,0) -> 44.44444 | G113: =VLOOKUP('Données de travail'!A113,'Centralisation des données'!K:L,2,0) -> user
A114: ='Centralisation des données'!A:A -> {2C7DDEFC-C4F5-42AA-9AD7-E7F1764B28BF} | B114: ='Centralisation des données'!B:B -> Musc como | C114: 3026 | D114: =VLOOKUP('Centralisation des données'!A114,'Centralisation des données'!I:J,2,0) -> 43234.505 | E114: =VLOOKUP('Centralisation des données'!A114,'Centralisation des données'!E:F,2,0) -> #N/A | F114: =VLOOKUP('Centralisation des données'!A114,'Centralisation des données'!G:H,2,0) -> 44.44444 | G114: =VLOOKUP('Données de travail'!A114,'Centralisation des données'!K:L,2,0) -> user
A115: ='Centralisation des données'!A:A -> {2C7DDEFC-C4F5-42AA-9AD7-E7F1764B28BF} | B115: ='Centralisation des données'!B:B -> Thym vulg | C115: 3026 | D115: =VLOOKUP('Centralisation des données'!A115,'Centralisation des données'!I:J,2,0) -> 43234.505 | E115: =VLOOKUP('Centralisation des données'!A115,'Centralisation des données'!E:F,2,0) -> #N/A | F115: =VLOOKUP('Centralisation des données'!A115,'Centralisation des données'!G:H,2,0) -> 44.44444 | G115: =VLOOKUP('Données de travail'!A115,'Centralisation des données'!K:L,2,0) -> user
A116: ='Centralisation des données'!A:A -> {2C7DDEFC-C4F5-42AA-9AD7-E7F1764B28BF} | B116: ='Centralisation des données'!B:B -> Poa prat | C116: 3026 | D116: =VLOOKUP('Centralisation des données'!A116,'Centralisation des données'!I:J,2,0) -> 43234.505 | E116: =VLOOKUP('Centralisation des données'!A116,'Centralisation des données'!E:F,2,0) -> #N/A | F116: =VLOOKUP('Centralisation des données'!A116,'Centralisation des données'!G:H,2,0) -> 44.44444 | G116: =VLOOKUP('Données de travail'!A116,'Centralisation des données'!K:L,2,0) -> user
A117: ='Centralisation des données'!A:A -> {2C7DDEFC-C4F5-42AA-9AD7-E7F1764B28BF} | B117: ='Centralisation des données'!B:B -> Sonc aspe | C117: 3026 | D117: =VLOOKUP('Centralisation des données'!A117,'Centralisation des données'!I:J,2,0) -> 43234.505 | E117: =VLOOKUP('Centralisation des données'!A117,'Centralisation des données'!E:F,2,0) -> #N/A | F117: =VLOOKUP('Centralisation des données'!A117,'Centralisation des données'!G:H,2,0) -> 44.44444 | G117: =VLOOKUP('Données de travail'!A117,'Centralisation des données'!K:L,2,0) -> user
A118: ='Centralisation des données'!A:A -> {2C7DDEFC-C4F5-42AA-9AD7-E7F1764B28BF} | B118: ='Centralisation des données'!B:B -> Brom ster | C118: 3026 | D118: =VLOOKUP('Centralisation des données'!A118,'Centralisation des données'!I:J,2,0) -> 43234.505 | E118: =VLOOKUP('Centralisation des données'!A118,'Centralisation des données'!E:F,2,0) -> #N/A | F118: =VLOOKUP('Centralisation des données'!A118,'Centralisation des données'!G:H,2,0) -> 44.44444 | G118: =VLOOKUP('Données de travail'!A118,'Centralisation des données'!K:L,2,0) -> user
A119: ='Centralisation des données'!A:A -> {2C7DDEFC-C4F5-42AA-9AD7-E7F1764B28BF} | B119: ='Centralisation des données'!B:B -> Loli pere | C119: 3026 | D119: =VLOOKUP('Centralisation des données'!A119,'Centralisation des données'!I:J,2,0) -> 43234.505 | E119: =VLOOKUP('Centralisation des données'!A119,'Centralisation des données'!E:F,2,0) -> #N/A | F119: =VLOOKUP('Centralisation des données'!A119,'Centralisation des données'!G:H,2,0) -> 44.44444 | G119: =VLOOKUP('Données de travail'!A119,'Centralisation des données'!K:L,2,0) -> user
A120: ='Centralisation des données'!A:A -> {2C7DDEFC-C4F5-42AA-9AD7-E7F1764B28BF} | B120: ='Centralisation des données'!B:B -> Scab atro | C120: 3026 | D120: =VLOOKUP('Centralisation des données'!A120,'Centralisation des données'!I:J,2,0) -> 43234.505 | E120: =VLOOKUP('Centralisation des données'!A120,'Centralisation des données'!E:F,2,0) -> #N/A | F120: =VLOOKUP('Centralisation des données'!A120,'Centralisation des données'!G:H,2,0) -> 44.44444 | G120: =VLOOKUP('Données de travail'!A120,'Centralisation des données'!K:L,2,0) -> user
A121: ='Centralisation des données'!A:A -> {2C7DDEFC-C4F5-42AA-9AD7-E7F1764B28BF} | B121: ='Centralisation des données'!B:B -> Gera robe | C121: 3026 | D121: =VLOOKUP('Centralisation des données'!A121,'Centralisation des données'!I:J,2,0) -> 43234.505 | E121: =VLOOKUP('Centralisation des données'!A121,'Centralisation des données'!E:F,2,0) -> #N/A | F121: =VLOOKUP('Centralisation des données'!A121,'Centralisation des données'!G:H,2,0) -> 44.44444 | G121: =VLOOKUP('Données de travail'!A121,'Centralisation des données'!K:L,2,0) -> user
A122: ='Centralisation des données'!A:A -> {2C7DDEFC-C4F5-42AA-9AD7-E7F1764B28BF} | B122: ='Centralisation des données'!B:B -> Cera pumi | C122: 3026 | D122: =VLOOKUP('Centralisation des données'!A122,'Centralisation des données'!I:J,2,0) -> 43234.505 | E122: =VLOOKUP('Centralisation des données'!A122,'Centralisation des données'!E:F,2,0) -> #N/A | F122: =VLOOKUP('Centralisation des données'!A122,'Centralisation des données'!G:H,2,0) -> 44.44444 | G122: =VLOOKUP('Données de travail'!A122,'Centralisation des données'!K:L,2,0) -> user
A123: ='Centralisation des données'!A:A -> {2C7DDEFC-C4F5-42AA-9AD7-E7F1764B28BF} | B123: ='Centralisation des données'!B:B -> Cala nepe | C123: 3026 | D123: =VLOOKUP('Centralisation des données'!A123,'Centralisation des données'!I:J,2,0) -> 43234.505 | E123: =VLOOKUP('Centralisation des données'!A123,'Centralisation des données'!E:F,2,0) -> #N/A | F123: =VLOOKUP('Centralisation des données'!A123,'Centralisation des données'!G:H,2,0) -> 44.44444 | G123: =VLOOKUP('Données de travail'!A123,'Centralisation des données'!K:L,2,0) -> user
... A196: ='Centralisation des données'!A:A -> {2C7DDEFC-C4F5-42AA-9AD7-E7F1764B28BF} | B196: ='Centralisation des données'!B:B -> 0 | C196: 3026 | D196: =VLOOKUP('Centralisation des données'!A196,'Centralisation des données'!I:J,2,0) -> 43234.505 | E196: =VLOOKUP('Centralisation des données'!A196,'Centralisation des données'!E:F,2,0) -> #N/A | F196: =VLOOKUP('Centralisation des données'!A196,'Centralisation des données'!G:H,2,0) -> 44.44444 | G196: =VLOOKUP('Données de travail'!A196,'Centralisation des données'!K:L,2,0) -> user
...

Sheet Database complete
A1: Row Id | B1: LB_AUTEUR | C1: NOM_VERN | D1: NOM_VERN_ENG | E1: NOM_VALIDE | F1: NOM_VALIDE_MAJUSCULE | G1: NOM_COMPLET | H1: NOM_VALIDE_SIMPLE | I1: SYNONYMES | J1: HABITAT (beta) | K1: FR | L1: GF | M1: MAR | N1: GUA | O1: SM | P1: SB | Q1: SPM | R1: MAY | S1: EPA | T1: REU | U1: SA | V1: TA | W1: TAAF | X1: PF | Y1: NC | Z1: WF | AA1: CLI | AB1: REGNE | AC1: PHYLUM | AD1: CLASSE | AE1: ORDRE | AF1: FAMILLE | AG1: SOUS_FAMILLE | AH1: TRIBU | AI1: GROUP1_INPN | AJ1: GROUP2_INPN | AK1: CD_NOM | AL1: CD_TAXSUP | AM1: CD_SUP | AN1: CD_REF | AO1: RANG | AP1: Code | AQ1: CORRESPONDANCE VALIDE | AR1: Traitement
A2: 12677 | B2: (Desf.) K.Bremer & Humphries, 1993 | E2: Aaronsohnia pubescens (Desf.) K.Bremer & Humphries, 1993 | F2: AARONSOHNIA PUBESCENS (DESF.) K.BREMER & HUMPHRIES, 1993 | G2: Aaronsohnia pubescens (Desf.) K.Bremer & Humphries, 1993 | H2: Aaronsohnia pubescens | I2: Aaronsohnia pubescens (Desf.) K.Bremer & Humphries, 1993 _ Cotula pubescens Desf., 1799 | J2: 7 | K2: I | AB2: Plantae | AD2: Equisetopsida | AE2: Asterales | AF2: Asteraceae | AI2: Plantes vasculaires | AJ2: Angiospermes | AK2: 610592 | AL2: 606842 | AM2: 606842 | AN2: 610592 | AO2: ES | AP2: Aaro pube | AQ2: Aaronsohnia pubescens (Desf.) K.Bremer & Humphries, 1993 - AARONSOHNIA PUBESCENS (DESF.) K.BREMER & HUMPHRIES, 1993 | AR2: =CONCATENATE(E2," - ",F2) -> Aaronsohnia pubescens (Desf.) K.Bremer & Humphries, 1993 - AARONSOHNIA PUBESCENS (DESF.) K.BREMER & HUMPHRIES, 1993
A3: 41882 | B3: Warb. & Eig, 1927 | E3: Aaronsohnia Warb. & Eig, 1927 | F3: AARONSOHNIA WARB. & EIG, 1927 | G3: Aaronsohnia Warb. & Eig, 1927 | H3: Aaronsohnia | I3: Aaronsohnia Warb. & Eig, 1927 | K3: I | AB3: Plantae | AD3: Equisetopsida | AE3: Asterales | AF3: Asteraceae | AI3: Plantes vasculaires | AJ3: Angiospermes | AK3: 606842 | AL3: 187227 | AM3: 187227 | AN3: 606842 | AO3: GN | AP3: Aaro sp. | AQ3: Aaronsohnia Warb. & Eig, 1927 - AARONSOHNIA WARB. & EIG, 1927 | AR3: =CONCATENATE(E3," - ",F3) -> Aaronsohnia Warb. & Eig, 1927 - AARONSOHNIA WARB. & EIG, 1927
A4: 4275 | B4: Barneby & J.W.Grimes, 1996 | E4: Abarema gallorum Barneby & J.W.Grimes, 1996 | F4: ABAREMA GALLORUM BARNEBY & J.W.GRIMES, 1996 | G4: Abarema gallorum Barneby & J.W.Grimes, 1996 | H4: Abarema gallorum | I4: Abarema gallorum Barneby & J.W.Grimes, 1996 | J4: 3 | K4: A | L4: E | M4: A | N4: A | O4: A | P4: A | Q4: A | R4: A | S4: A | T4: A | U4: A | V4: A | W4: A | X4: A | Y4: A | Z4: A | AA4: A | AB4: Plantae | AD4: Equisetopsida | AE4: Fabales | AF4: Fabaceae | AG4: Caesalpinioideae | AH4: Mimoseae | AI4: Plantes vasculaires | AJ4: Angiospermes | AK4: 733813 | AL4: 628277 | AM4: 628277 | AN4: 733813 | AO4: ES | AP4: Abar gall | AQ4: Abarema gallorum Barneby & J.W.Grimes, 1996 - ABAREMA GALLORUM BARNEBY & J.W.GRIMES, 1996 | AR4: =CONCATENATE(E4," - ",F4) -> Abarema gallorum Barneby & J.W.Grimes, 1996 - ABAREMA GALLORUM BARNEBY & J.W.GRIMES, 1996
A5: 35146 | B5: R.Br., 1818 | E5: Abelia R.Br., 1818 | F5: ABELIA R.BR., 1818 | G5: Abelia R.Br., 1818 | H5: Abelia | I5: Abelia R.Br., 1818 | K5: P | AB5: Plantae | AD5: Equisetopsida | AE5: Dipsacales | AF5: Caprifoliaceae | AI5: Plantes vasculaires | AJ5: Angiospermes | AK5: 788758 | AL5: 187420 | AM5: 187420 | AN5: 788758 | AO5: GN | AP5: Abel sp. | AQ5: Abelia R.Br., 1818 - ABELIA R.BR., 1818 | AR5: =CONCATENATE(E5," - ",F5) -> Abelia R.Br., 1818 - ABELIA R.BR., 1818
A6: 21095 | B6: (Hedw.) M.Fleisch., 1922 | D6: Fir Tamarisk-moss | E6: Abietinella abietina (Hedw.) M.Fleisch., 1922 | F6: ABIETINELLA ABIETINA (HEDW.) M.FLEISCH., 1922 | G6: Abietinella abietina (Hedw.) M.Fleisch., 1922 | H6: Abietinella abietina | I6: Abietinella abietina (Hedw.) M.Fleisch., 1922 _ Hypnum abietinum L. _ Thuidium abietinum (Hedw.) Schimp., 1852 | J6: 3 | K6: P | AB6: Plantae | AD6: Equisetopsida | AE6: Hypnales | AF6: Thuidiaceae | AI6: Bryophytes | AJ6: Mousses | AK6: 5422 | AL6: 433851 | AM6: 433851 | AN6: 5422 | AO6: ES | AP6: Abie abie | AQ6: Abietinella abietina (Hedw.) M.Fleisch., 1922 - ABIETINELLA ABIETINA (HEDW.) M.FLEISCH., 1922 | AR6: =CONCATENATE(E6," - ",F6) -> Abietinella abietina (Hedw.) M.Fleisch., 1922 - ABIETINELLA ABIETINA (HEDW.) M.FLEISCH., 1922
A7: 35357 | B7: Mill., 1768 | C7: Sapin pectinÃ©, Sapin Ã feuilles d'If | D7: European Silver-fir | E7: Abies alba Mill., 1768 | F7: ABIES ALBA MILL., 1768 | G7: Abies alba Mill., 1768 | H7: Abies alba | I7: Abies alba Mill., 1768 _ Abies alba subsp. alba Mill., 1768 _ Abies pectinata (Lam.) DC., 1805 _ Picea pectinata (Lam.) J.W.Loudon, 1838 | J7: 3 | K7: P | AB7: Plantae | AD7: Equisetopsida | AE7: Pinales | AF7: Pinaceae | AI7: Plantes vasculaires | AJ7: Gymnospermes | AK7: 79319 | AL7: 188665 | AM7: 188665 | AN7: 79319 | AO7: ES | AP7: Abie alba | AQ7: Abies alba Mill., 1768 - ABIES ALBA MILL., 1768 | AR7: =CONCATENATE(E7," - ",F7) -> Abies alba Mill., 1768 - ABIES ALBA MILL., 1768
A8: 13494 | B8: J.Forbes | E8: Abies amabilis J.Forbes | F8: ABIES AMABILIS J.FORBES | G8: Abies amabilis J.Forbes | H8: Abies amabilis | I8: Abies amabilis J.Forbes | J8: 7 | K8: M | AB8: Plantae | AD8: Equisetopsida | AE8: Pinales | AF8: Pinaceae | AI8: Plantes vasculaires | AJ8: Gymnospermes | AK8: 717018 | AL8: 188665 | AM8: 188665 | AN8: 717018 | AO8: ES | AP8: Abie amab | AQ8: Abies amabilis J.Forbes - ABIES AMABILIS J.FORBES | AR8: =CONCATENATE(E8," - ",F8) -> Abies amabilis J.Forbes - ABIES AMABILIS J.FORBES
