Workbook

Sheet Formulaire bota
A1: objectid | B1: globalid | C1: uniquerowid | D1: Habitat / Cortège | E1: created_date | F1: created_user | G1: last_edited_date | H1: last_edited_user | I1: x | J1: y
A2: 1 | B2: {89FE1F4B-1B14-45F2-8A0C-054DDEDA4D81} | C2: {C576CDB7-6B52-4A35-892E-89968B0B2CDC} | D2: 3057_ | E2: 43234.505 | F2: user | G2: 45699.505 | H2: user | I2: 4.4444 | J2: 44.44444
A3: 2 | B3: {303D9EDC-C2CA-45D1-A948-5F0A59FC1FC4} | C3: {67ACA867-2026-4CB2-8271-4DFDA9B4D481} | D3: 2996 | E3: 43234.505 | F3: user | G3: 45699.505 | H3: user | I3: 4.4444 | J3: 44.44444
A4: 3 | B4: {4B585906-7804-4DAC-8F5F-C619DC2E57EC} | C4: {2C7DDEFC-C4F5-42AA-9AD7-E7F1764B28BF} | D4: 3026_Bordures rudÃ©ralisÃ©es de champs cultivÃ©s | E4: 43234.505 | F4: user | G4: 45699.505 | H4: user | I4: 4.4444 | J4: 44.44444
A5: 4 | B5: {692FDEA5-3833-4B29-97D6-1CC90AB7CA13} | C5: {AD964629-CBC4-49C4-BE9C-8A4ED30E56DF} | D5: 2973_Friches rudÃ©rales | E5: 43234.505 | F5: user | G5: 45699.505 | H5: user | I5: 4.4444 | J5: 44.44444
A6: 5 | B6: {9335938F-B4B6-4F8E-91C5-EB9D85BFCA82} | C6: {379E7EC6-170C-4953-9D0A-47511979840B} | D6: 2973_PinÃ¨de claire | E6: 43234.505 | F6: user | G6: 45699.505 | H6: user | I6: 4.4444 | J6: 44.44444
A7: 6 | B7: {1D890626-68A4-49E0-B7A4-9592BB6CEF3D} | C7: {CF50B846-3C94-44F0-87FC-47766183BEFB} | D7: 2997 - Mison - Milieux rudÃ©raux sur sol caillouteux | E7: 43234.505 | F7: user | G7: 45699.505 | H7: user | I7: 4.4444 | J7: 44.44444
A8: 7 | B8: {A2547C66-D048-453B-BA0F-110381152496} | C8: {2C713C3A-6C47-437D-8433-844EDB8E18CE} | D8: P16 - pente nulle - sous bois Ã chene pubescens | E8: 43234.505 | F8: user | G8: 45699.505 | H8: user | I8: 4.4444 | J8: 44.44444
A9: 8 | B9: {111F33AD-0AA8-4582-87AB-5B4BE3F3DFDB} | C9: {EC39E330-1EED-4B61-8E9F-0DC7C3E99F73} | D9: P15- pente nulle - sous bois de Chene pubescent | E9: 43234.505 | F9: user | G9: 45699.505 | H9: user | I9: 4.4444 | J9: 44.44444
A10: 9 | B10: {9301A24A-AEB1-4406-9BBC-EBA7822F3D1C} | C10: {CB397BD0-29D6-40CF-962C-CAD208B345FB} | D10: 3044 - Pelouse Ã Aphyllanthes, B.Retusum et B. Erectum | E10: 43252.634 | F10: user | G10: 45699.505 | H10: user | I10: 4.4444 | J10: 44.44444
A11: 10 | B11: {B071178D-A47A-4C10-9B88-0A8234638E11} | C11: {66D7FEED-7B1E-4887-B24E-567B795DFFD3} | D11: 3061-communautÃ©s arriÃ¨re dunaires en cours de ruderalisation | E11: 43252.634 | F11: user | G11: 45699.505 | H11: user | I11: 4.4444 | J11: 44.44444
A12: 11 | B12: {CC7A5ABD-EE4F-4D5F-93DC-719B965E1CA9} | C12: {464C9404-B78C-46D7-9DFB-7297A4C5F7C5} | D12: La batie mont saleon | E12: 43252.634 | F12: user | G12: 45699.505 | H12: user | I12: 4.4444 | J12: 44.44444
A13: 12 | B13: {5C97958E-AE1E-44FE-BB1C-756E0F8412F8} | C13: {82201741-B2D1-4B2C-959C-471E0A02937E} | D13: 2631A P45 | E13: 43252.634 | F13: user | G13: 45699.505 | H13: user | I13: 4.4444 | J13: 44.44444
A14: 13 | B14: {65798CEC-77FB-481E-A1B7-224444B65858} | C14: {231C4C56-7AEE-46B9-AA5F-EA4B22DD8F20} | D14: 2631A P44 | E14: 43252.634 | F14: user | G14: 45699.505 | H14: user | I14: 4.4444 | J14: 44.44444
A15: 14 | B15: {8ABE4AE7-BE47-48E6-B25F-36D1F3293722} | C15: {35007D3A-24B7-4891-8C4B-7E48D4D93BED} | D15: 2631A P43 | E15: 43252.634 | F15: user | G15: 45699.505 | H15: user | I15: 4.4444 | J15: 44.44444
... A131: 130 | B131: {A8618C21-73FF-425E-A41D-AB8E1B8DC54B} | C131: {15020EEB-0A39-4E73-9795-61CA90BA361E} | D131: 2892 - Pelouses a bra brachypode de phenicie et brom dresse | E131: 43264.752 | F131: user | G131: 45699.505 | H131: user | I131: 4.4444 | J131: 44.44444
A132: 131 | B132: {375A88E6-9C06-43E5-BB53-4E3F75E87865} | C132: {646FB672-028D-4277-8A5D-0E05DDC2A4C4} | D132: 3048 | E132: 43264.752 | F132: user | G132: 45699.505 | H132: user | I132: 4.4444 | J132: 44.44444
A133: 132 | B133: {1A5D6770-3B0C-4AD9-91D1-2676966ECCB7} | C133: {C30CB0CF-5B5D-4234-BF3F-8D56888B1335} | D133: 2697 - Su2m | E133: 43264.752 | F133: user | G133: 45699.505 | H133: user | I133: 4.4444 | J133: 44.44444
A134: 133 | B134: {A629DE49-0F8F-4F96-85D7-76173646CB00} | C134: {E12F7A5D-B0B4-4C5E-8D85-BC3E831DF0CE} | D134: 2697 - Su1m | E134: 43264.752 | F134: user | G134: 45699.505 | H134: user | I134: 4.4444 | J134: 44.44444
A135: 134 | B135: {F84CC4D7-C174-42C1-94FE-DF62DAFF1191} | C135: {B0F4227E-D03B-48B7-9E14-587310BAF516} | D135: 2697 - Su4m | E135: 43264.752 | F135: user | G135: 45699.505 | H135: user | I135: 4.4444 | J135: 44.44444
A136: 135 | B136: {281499B5-B759-4595-90A1-CC01249F235B} | C136: {F0371D6E-F7EF-42B2-B274-82EDC61D43B6} | D136: 2697 - Su6m | E136: 43264.752 | F136: user | G136: 45699.505 | H136: user | I136: 4.4444 | J136: 44.44444
A137: 136 | B137: {6EC922EC-D01D-4A39-A000-978955FFB9BE} | C137: {1C4F7AAD-33C9-4F0A-A29F-28007700FB49} | D137: 2697 - Su7m | E137: 43264.752 | F137: user | G137: 45699.505 | H137: user | I137: 4.4444 | J137: 44.44444
A138: 137 | B138: {FA317D23-D4B7-463B-B4C7-F556F1785F36} | C138: {DE0D0581-FB2C-4A47-906E-BFD6E1A92CC9} | D138: 2697 - Su8m | E138: 43264.752 | F138: user | G138: 45699.505 | H138: user | I138: 4.4444 | J138: 44.44444
A139: 138 | B139: {1882E5D6-4048-43B7-85DB-91D4B7156C67} | C139: {CC9C7B10-AF7C-4904-87AD-54D9F167A039} | D139: 2697 - Su9m | E139: 43264.752 | F139: user | G139: 45699.505 | H139: user | I139: 4.4444 | J139: 44.44444
A140: 139 | B140: {1DCD8C7C-0D38-4DE5-8670-4F9B58363D9D} | C140: {C7BC88C5-6790-4FB0-A9AD-096BA674BA08} | D140: 2697 - Su12m | E140: 43264.752 | F140: user | G140: 45699.505 | H140: user | I140: 4.4444 | J140: 44.44444
A141: 140 | B141: {20E36753-2634-420E-B211-68598EDD878A} | C141: {54A8F99E-D083-469C-811D-3EA0A83050EC} | D141: 2697 - Su11m | E141: 43264.752 | F141: user | G141: 45699.505 | H141: user | I141: 4.4444 | J141: 44.44444
A142: 141 | B142: {D33D835F-AA12-4AB1-918D-BFABAF016FCD} | C142: {8BED9A67-90A0-42D9-B0E8-677DF70AE81F} | D142: 2697 - Su10m | E142: 43264.752 | F142: user | G142: 45699.505 | H142: user | I142: 4.4444 | J142: 44.44444
A143: 142 | B143: {63FD268D-9FE9-4AD2-BD14-8AA2FFE879FE} | C143: {664CABDB-74C1-4779-84FA-E89AD1DA8620} | D143: 2697 - Su16m | E143: 43264.752 | F143: user | G143: 45699.505 | H143: user | I143: 4.4444 | J143: 44.44444
A144: 143 | B144: {43C731E3-AFE2-44B6-B7C0-7083327CE244} | C144: {037DDA5F-C2A6-407A-B599-C9BD1D6FAB9E} | D144: 2697 - Su20m | E144: 43264.752 | F144: user | G144: 45699.505 | H144: user | I144: 4.4444 | J144: 44.44444
... A216: 215 | B216: {AD85D95A-793F-4404-9502-F3D4E70C6B81} | C216: {13B786B2-1470-40D6-8456-E4B17900EF9E} | D216: 3069 bassins | E216: 43293.431 | F216: user | G216: 45699.505 | H216: user | I216: 4.4444 | J216: 44.44444
A217: 216 | B217: {7DD7674E-EEA9-4AD3-A974-76DDA2C94BF0} | C217: {45450A97-1481-4471-B5B0-45A80CB69C2C} | D217: 3069 | E217: 43293.431 | F217: user | G217: 45699.505 | H217: user | I217: 4.4444 | J217: 44.44444
A218: 217 | B218: {2B249F11-0C0C-45AB-BD04-4CDD2C448219} | C218: {740CE2E7-5213-4794-9032-9465255310AC} | D218: 2503 (montpellier) | E218: 43293.431 | F218: user | G218: 45699.505 | H218: user | I218: 4.4444 | J218: 44.44444
A219: 218 | B219: {EDE23B22-34F1-4AEC-9A2B-1719B4030AD6} | C219: {E35E69D0-6889-462B-890F-D69698A60BCE} | D219: Hab 1 | E219: 43293.431 | F219: user | G219: 45699.505 | H219: user | I219: 4.4444 | J219: 44.44444
A220: 219 | B220: {165D7F0B-559A-4AD9-AC7E-C7C5EA999577} | C220: {616A8135-7301-4C86-909C-EA84A0DAA263} | D220: 3035 - Pelouses paturÃ©es | E220: 43293.431 | F220: user | G220: 45699.505 | H220: user | I220: 4.4444 | J220: 44.44444
A221: 220 | B221: {FFA00A19-7C62-4C71-ACF9-AE1CF89B8084} | C221: {B4A29E9E-15E5-454B-89F7-DD37549D7DEE} | D221: 3026 | E221: 43293.431 | F221: user | G221: 45699.505 | H221: user | I221: 4.4444 | J221: 44.44444
A222: 221 | B222: {F79D40C0-47E9-4F32-96DC-4865A34A32A1} | C222: {E640C07C-AB76-4F03-9126-CF0FE570EDD2} | D222: 3044 - boisement | E222: 43293.431 | F222: user | G222: 45699.505 | H222: user | I222: 4.4444 | J222: 44.44444
A223: 222 | B223: {D9656984-B457-4D17-97A8-D81575DC72C0} | C223: {208C7CFD-7169-4BFA-BB9A-894C77859F65} | D223: 3066 - Cazihlac | E223: 43293.431 | F223: user | G223: 45699.505 | H223: user | I223: 4.4444 | J223: 44.44444
A224: 223 | B224: {4F211C8C-6B34-4CFF-83F7-A7D6A5905AFF} | C224: {85061CEE-0831-45E4-88A0-C096FC901819} | D224: 3044 - pelouses | E224: 43293.431 | F224: user | G224: 45699.505 | H224: user | I224: 4.4444 | J224: 44.44444
A225: 224 | B225: {6CCE9EDA-B046-483D-A197-3A00A54D357B} | C225: {DE46F4C5-C475-4737-BD92-B2E54C8FAD4C} | D225: 2979 - Hab 21 | E225: 43306.447 | F225: user | G225: 45699.505 | H225: user | I225: 4.4444 | J225: 44.44444
A226: 225 | B226: {5769BBC2-7093-498C-BBCE-2565AE4C0B94} | C226: {46FF83EF-B4CD-4DFD-B3D9-C393F7B0B970} | D226: 3034 - 7 | E226: 43332.586 | F226: user | G226: 45699.505 | H226: user | I226: 4.4444 | J226: 44.44444
A227: 226 | B227: {5B39DD0C-EDF7-45C4-ADB3-EEE299D6CAD9} | C227: {4615052C-8F63-4A7E-B1FF-F44C5AED6D00} | D227: 3034 - 15 | E227: 43332.586 | F227: user | G227: 45699.505 | H227: user | I227: 4.4444 | J227: 44.44444
A228: 227 | B228: {A219F8A8-5CF5-4762-B975-5F6E9EF73667} | C228: {87039177-A3DF-4317-ACCF-AE3408B948FD} | D228: 3034 - boisement | E228: 43332.586 | F228: user | G228: 45699.505 | H228: user | I228: 4.4444 | J228: 44.44444
A229: 228 | B229: {F7C17995-D1BC-4034-9C11-0B177AAC6342} | C229: {BE2E9E04-AA22-4020-B3DB-9064FB27429A} | D229: 3034 - 16 | E229: 43332.586 | F229: user | G229: 45699.505 | H229: user | I229: 4.4444 | J229: 44.44444
A230: 229 | B230: {22A185C1-E0A1-42C4-92DB-7F8853271350} | C230: {AD18B80F-D7DC-400F-90F7-A098874B3F79} | D230: 3034 - 12 | E230: 43332.586 | F230: user | G230: 45699.505 | H230: user | I230: 4.4444 | J230: 44.44444
A231: 230 | B231: {A7906174-49B9-46B7-A639-E47D6F599366} | C231: {97585C40-B186-460A-BA8A-0460B09E3165} | D231: 3034 - 11 | E231: 43332.586 | F231: user | G231: 45699.505 | H231: user | I231: 4.4444 | J231: 44.44444
A232: 231 | B232: {B6B16A88-4F05-4DCA-A29A-080C7D0430BA} | C232: {1C969506-BF3E-439A-BDF4-6E095244398B} | D232: 2979 Hab 75 Bordures embroussaillees | E232: 43332.586 | F232: user | G232: 45699.505 | H232: user | I232: 4.4444 | J232: 44.44444
A233: 232 | B233: {F1025374-631C-495A-802E-7EBF7990B6EE} | C233: {5CCD6A88-A7EF-4AD0-B3E2-C44B4F06F9E1} | D233: 3040 - liste habs | E233: 43332.586 | F233: user | G233: 45699.505 | H233: user | I233: 4.4444 | J233: 44.44444
... A243: 242 | B243: {E241E00A-507B-4734-9970-ACEBA66700F0} | C243: {89204D39-568D-46F0-87E1-94EB3F2D94EB} | D243: 2979 - Hab 1 | E243: 43332.586 | F243: user | G243: 45699.505 | H243: user | I243: 4.4444 | J243: 44.44444
A244: 243 | B244: {B890BFF9-A4E0-4260-A05C-56A0D31C2EF9} | C244: {CD00C945-3475-4A4A-BB81-2AC8E8BC367D} | D244: 3044 | E244: 43332.586 | F244: user | G244: 45699.505 | H244: user | I244: 4.4444 | J244: 44.44444
A245: 244 | B245: {CBE32B11-60CB-44BA-AD9E-E17FC7095849} | C245: {C8D31F05-29BC-442B-BFB4-3A124243600C} | D245: 2996 | E245: 43332.586 | F245: user | G245: 45699.505 | H245: user | I245: 4.4444 | J245: 44.44444
A246: 245 | B246: {40FE4DA6-C4F6-49E9-BB0A-9A830BC4C6A4} | C246: {26EAD6CC-2E34-4F59-AB33-C91BAA33F943} | D246: 3105 - Pelouse sÃ¨che caillouteuse | E246: 43354.512 | F246: user | G246: 45699.505 | H246: user | I246: 4.4444 | J246: 44.44444
A247: 246 | B247: {A045F1C0-4A2B-49A3-936B-6832CACB56DC} | C247: {0A89D9FA-3CA3-4C02-9599-016470866686} | D247: 3105 - Bordures de chemins ruderalisees | E247: 43354.512 | F247: user | G247: 45699.505 | H247: user | I247: 4.4444 | J247: 44.44444
A248: 247 | B248: {AE184D76-0F53-4919-92E1-1132FF7981A5} | C248: {08695DF2-670E-4F1A-82AB-23EE47C07A8B} | D248: 3105 - bordures de ze ruderalisees | E248: 43354.512 | F248: user | G248: 45699.505 | H248: user | I248: 4.4444 | J248: 44.44444
A249: 248 | B249: {EA281235-61D0-4867-8C0B-E1C7800AE0CC} | C249: {6AB6C44B-F462-434F-A562-7A42F3AC2C32} | D249: 3115 - Chenaie verte | E249: 43354.512 | F249: user | G249: 45699.505 | H249: user | I249: 4.4444 | J249: 44.44444
A250: 249 | B250: {25CAD361-AD72-4ABD-93A7-586AFB119B5D} | C250: {8D2B4CD4-219D-4F47-AFCC-F78868E05858} | D250: 3112 - Digue - Pres sale a E. Acuta | E250: 43354.512 | F250: user | G250: 45699.505 | H250: user | I250: 4.4444 | J250: 44.44444
A251: 250 | B251: {4FA83D1D-ADBE-43AE-B813-3D50813B8C49} | C251: {1244E694-12C5-4912-8FDA-AA00E6169725} | D251: 3132 - Casse automobile | E251: 43356.356 | F251: user | G251: 45699.505 | H251: user | I251: 4.4444 | J251: 44.44444

Sheet Saisie
A1: objectid | B1: globalid | C1: especes | D1: parentrowid | E1: created_date | F1: created_user | G1: last_edited_date | H1: last_edited_user
A2: 1 | B2: {66797A77-C2EF-48A5-A52A-5260437804BC} | C2: Poa annu | D2: {C576CDB7-6B52-4A35-892E-89968B0B2CDC} | E2: 43725.505 | F2: user | G2: 33731.505 | H2: user
A3: 2 | B3: {EDFE155C-FADA-4B5A-80CE-467F8A9977C8} | C3: Poa camp | D3: {C576CDB7-6B52-4A35-892E-89968B0B2CDC} | E3: 43725.505 | F3: user | G3: 33731.505 | H3: user
A4: 3 | B4: {91345BF2-CA4F-475F-B815-14EA53B216C9} | C4: Dact glom | D4: {C576CDB7-6B52-4A35-892E-89968B0B2CDC} | E4: 43725.505 | F4: user | G4: 33731.505 | H4: user
A5: 4 | B5: {54938023-8538-414C-AF98-2246650DFE41} | C5: Rosa cani | D5: {C576CDB7-6B52-4A35-892E-89968B0B2CDC} | E5: 43725.505 | F5: user | G5: 33731.505 | H5: user
A6: 5 | B6: {65279CDE-4129-4977-AA0A-D9B48717175C} | C6: Sene vulg | D6: {C576CDB7-6B52-4A35-892E-89968B0B2CDC} | E6: 43725.505 | F6: user | G6: 33731.505 | H6: user
A7: 6 | B7: {A612E13B-8814-4E8C-BCD0-F8DF4175E48B} | C7: Sile lati | D7: {C576CDB7-6B52-4A35-892E-89968B0B2CDC} | E7: 43725.505 | F7: user | G7: 33731.505 | H7: user
A8: 7 | B8: {79079A4E-3CB0-4B96-B344-4C38ED3C8FC2} | C8: Corn sang | D8: {C576CDB7-6B52-4A35-892E-89968B0B2CDC} | E8: 43725.505 | F8: user | G8: 33731.505 | H8: user
A9: 8 | B9: {AE0DCB37-5424-42AE-AE3F-76852CCA2287} | C9: Vero arve | D9: {C576CDB7-6B52-4A35-892E-89968B0B2CDC} | E9: 43725.505 | F9: user | G9: 33731.505 | H9: user
A10: 9 | B10: {66E18037-F6DD-4504-BED4-CD9A58A06467} | C10: Cirs vulg | D10: {C576CDB7-6B52-4A35-892E-89968B0B2CDC} | E10: 43725.505 | F10: user | G10: 33731.505 | H10: user
A11: 10 | B11: {456D7CF5-BC33-457A-A9C5-3327A4A6A9F9} | C11: Crep sanc | D11: {C576CDB7-6B52-4A35-892E-89968B0B2CDC} | E11: 43725.505 | F11: user | G11: 33731.505 | H11: user
A12: 11 | B12: {5DDF8A62-0817-4235-93CC-B5F0999E1842} | C12: Champ de colza | D12: {C576CDB7-6B52-4A35-892E-89968B0B2CDC} | E12: 43725.505 | F12: user | G12: 33731.505 | H12: user
A13: 12 | B13: {4B3431D7-FBF8-43A5-9D7E-0F1706DEF47B} | C13: Holc lana | D13: {C576CDB7-6B52-4A35-892E-89968B0B2CDC} | E13: 43725.505 | F13: user | G13: 33731.505 | H13: user
... A110: 109 | B110: {3E87A85E-F790-4A3C-A010-BA9CF070D9CA} | C110: Sera ling | D110: {67ACA867-2026-4CB2-8271-4DFDA9B4D481} | E110: 43725.505 | F110: user | G110: 33731.505 | H110: user
A111: 110 | B111: {69700B97-F8ED-444A-BE31-3BB03FE7CC39} | D111: {67ACA867-2026-4CB2-8271-4DFDA9B4D481} | E111: 43725.505 | F111: user | G111: 33731.505 | H111: user
A112: 111 | B112: {291776B2-0F75-427C-8F10-B0E20290B9F0} | C112: Glad ital | D112: {2C7DDEFC-C4F5-42AA-9AD7-E7F1764B28BF} | E112: 43725.505 | F112: user | G112: 33731.505 | H112: user
A113: 112 | B113: {AB8D0B8B-891D-41A7-ACCB-E4F650C82042} | C113: Linu usit | D113: {2C7DDEFC-C4F5-42AA-9AD7-E7F1764B28BF} | E113: 43725.505 | F113: user | G113: 33731.505 | H113: user
A114: 113 | B114: {E76C17A3-230D-484F-AE18-68E97BE32E32} | C114: Musc como | D114: {2C7DDEFC-C4F5-42AA-9AD7-E7F1764B28BF} | E114: 43725.505 | F114: user | G114: 33731.505 | H114: user
A115: 114 | B115: {1C74C381-79C3-4C73-8959-4D4B8DDCAEFA} | C115: Thym vulg | D115: {2C7DDEFC-C4F5-42AA-9AD7-E7F1764B28BF} | E115: 43725.505 | F115: user | G115: 33731.505 | H115: user
A116: 115 | B116: {80B86CF6-BECB-46D2-A78B-5A2B88A4727F} | C116: Poa prat | D116: {2C7DDEFC-C4F5-42AA-9AD7-E7F1764B28BF} | E116: 43725.505 | F116: user | G116: 33731.505 | H116: user
A117: 116 | B117: {BD6986AE-95D3-435E-9B9A-C48D05580FB5} | C117: Sonc aspe | D117: {2C7DDEFC-C4F5-42AA-9AD7-E7F1764B28BF} | E117: 43725.505 | F117: user | G117: 33731.505 | H117: user
A118: 117 | B118: {028A9022-F193-46DD-B20B-35EFEECCE6F8} | C118: Brom ster | D118: {2C7DDEFC-C4F5-42AA-9AD7-E7F1764B28BF} | E118: 43725.505 | F118: user | G118: 33731.505 | H118: user
A119: 118 | B119: {BB01370B-F2CB-4DE4-BDFB-37BA48FF24D8} | C119: Loli pere | D119: {2C7DDEFC-C4F5-42AA-9AD7-E7F1764B28BF} | E119: 43725.505 | F119: user | G119: 33731.505 | H119: user
A120: 119 | B120: {0E0E1DB6-4D93-4F03-B611-FA7450DA250F} | C120: Scab atro | D120: {2C7DDEFC-C4F5-42AA-9AD7-E7F1764B28BF} | E120: 43725.505 | F120: user | G120: 33731.505 | H120: user
A121: 120 | B121: {4DFB8687-F827-4AC1-8361-6B24EEABCA41} | C121: Gera robe | D121: {2C7DDEFC-C4F5-42AA-9AD7-E7F1764B28BF} | E121: 43725.505 | F121: user | G121: 33731.505 | H121: user
A122: 121 | B122: {B00D0C9A-A51D-4B92-BAED-DE8439D762C3} | C122: Cera pumi | D122: {2C7DDEFC-C4F5-42AA-9AD7-E7F1764B28BF} | E122: 43725.505 | F122: user | G122: 33731.505 | H122: user
A123: 122 | B123: {3C38C094-0E61-4F16-BFF0-076582E23B88} | C123: Cala nepe | D123: {2C7DDEFC-C4F5-42AA-9AD7-E7F1764B28BF} | E123: 43725.505 | F123: user | G123: 33731.505 | H123: user
... A181: 180 | B181: {C3CA63A9-449D-495F-8946-37286F8D6385} | C181: Hype perf | D181: {2C7DDEFC-C4F5-42AA-9AD7-E7F1764B28BF} | E181: 43725.505 | F181: user | G181: 33731.505 | H181: user
A182: 181 | B182: {ECA9C123-11BA-45BC-9D03-F22517745562} | D182: {2C7DDEFC-C4F5-42AA-9AD7-E7F1764B28BF} | E182: 43725.505 | F182: user | G182: 33731.505 | H182: user
A183: 182 | B183: {BE5D28E2-D8DB-44D1-ABFA-F0A2F6D73EC4} | C183: Hedy rhag | D183: {2C7DDEFC-C4F5-42AA-9AD7-E7F1764B28BF} | E183: 43725.505 | F183: user | G183: 33731.505 | H183: user
A184: 183 | B184: {F7A0B066-202C-47C8-87BF-E3B164E3B493} | C184: Ante arve | D184: {2C7DDEFC-C4F5-42AA-9AD7-E7F1764B28BF} | E184: 43725.505 | F184: user | G184: 33731.505 | H184: user
A185: 184 | B185: {2E55884F-81C2-4A04-8545-B88C5ACE0896} | C185: Sher arve | D185: {2C7DDEFC-C4F5-42AA-9AD7-E7F1764B28BF} | E185: 43725.505 | F185: user | G185: 33731.505 | H185: user
A186: 185 | B186: {C556FB37-A0E3-4D09-971B-9E0D87DE22B9} | C186: Card tenu | D186: {2C7DDEFC-C4F5-42AA-9AD7-E7F1764B28BF} | E186: 43725.505 | F186: user | G186: 33731.505 | H186: user
A187: 186 | B187: {7C868CA7-E462-4222-B1DD-FED45875FB64} | C187: Card hirs | D187: {2C7DDEFC-C4F5-42AA-9AD7-E7F1764B28BF} | E187: 43725.505 | F187: user | G187: 33731.505 | H187: user
A188: 187 | B188: {8BE62722-2715-426B-AD61-BFAFB1816551} | C188: Erod mala | D188: {2C7DDEFC-C4F5-42AA-9AD7-E7F1764B28BF} | E188: 43725.505 | F188: user | G188: 33731.505 | H188: user
A189: 188 | B189: {6BD1A822-0DD5-4C3D-A0E6-E2B487FEC6D7} | C189: Frag sylv | D189: {2C7DDEFC-C4F5-42AA-9AD7-E7F1764B28BF} | E189: 43725.505 | F189: user | G189: 33731.505 | H189: user
A190: 189 | B190: {17D0B50C-5216-4ADB-92BD-5C5580E86165} | C190: Sile vulg | D190: {2C7DDEFC-C4F5-42AA-9AD7-E7F1764B28BF} | E190: 43725.505 | F190: user | G190: 33731.505 | H190: user
A191: 190 | B191: {12F32AFE-CE8C-45E3-BDE0-855F85B41799} | C191: Cyno cret | D191: {2C7DDEFC-C4F5-42AA-9AD7-E7F1764B28BF} | E191: 43725.505 | F191: user | G191: 33731.505 | H191: user
A192: 191 | B192: {B35CF88F-9CCC-4C43-9A56-738493F40D7E} | C192: Uros picr | D192: {2C7DDEFC-C4F5-42AA-9AD7-E7F1764B28BF} | E192: 43725.505 | F192: user | G192: 33731.505 | H192: user
A193: 192 | B193: {D6D02FB7-3A02-47A0-9367-BF6B388DEEC5} | C193: Oxal arti | D193: {2C7DDEFC-C4F5-42AA-9AD7-E7F1764B28BF} | E193: 43725.505 | F193: user | G193: 33731.505 | H193: user
A194: 193 | B194: {298DD968-5BC9-4252-A7F1-8C4201820017} | C194: Myos ramo | D194: {2C7DDEFC-C4F5-42AA-9AD7-E7F1764B28BF} | E194: 43725.505 | F194: user | G194: 33731.505 | H194: user
A195: 194 | B195: {A8FAE617-3923-45C5-883F-E831971C6B96} | C195: Aris rotu | D195: {2C7DDEFC-C4F5-42AA-9AD7-E7F1764B28BF} | E195: 43725.505 | F195: user | G195: 33731.505 | H195: user
A196: 195 | B196: {C5F137AE-B249-4C6B-8833-BDAECB80C4F0} | D196: {2C7DDEFC-C4F5-42AA-9AD7-E7F1764B28BF} | E196: 43725.505 | F196: user | G196: 33731.505 | H196: user
A197: 196 | B197: {EBA94091-F558-421D-BF24-D2497710AD11} | C197: Card pycn | D197: {AD964629-CBC4-49C4-BE9C-8A4ED30E56DF} | E197: 43725.505 | F197: user | G197: 33731.505 | H197: user
A198: 197 | B198: {009F7A0F-54D4-4FA8-8B4B-6E6B784964CC} | C198: Erod mala | D198: {AD964629-CBC4-49C4-BE9C-8A4ED30E56DF} | E198: 43725.505 | F198: user | G198: 33731.505 | H198: user
A199: 198 | B199: {4B5CE188-F88D-4499-80C7-148F07F62754} | C199: Papa rhoe | D199: {AD964629-CBC4-49C4-BE9C-8A4ED30E56DF} | E199: 43725.505 | F199: user | G199: 33731.505 | H199: user
A200: 199 | B200: {ABA79820-943C-4FAE-8985-03888DB45499} | C200: Sile lati | D200: {AD964629-CBC4-49C4-BE9C-8A4ED30E56DF} | E200: 43725.505 | F200: user | G200: 33731.505 | H200: user
A201: 200 | B201: {B24E4D68-D701-4380-9D5C-9D5D69B9BB6D} | C201: Aven stri | D201: {AD964629-CBC4-49C4-BE9C-8A4ED30E56DF} | E201: 43725.505 | F201: user | G201: 33731.505 | H201: user
A202: 201 | B202: {C5264CDB-0CFD-4FAD-89E6-A4CEB31610C1} | C202: Brom ster | D202: {AD964629-CBC4-49C4-BE9C-8A4ED30E56DF} | E202: 43725.505 | F202: user | G202: 33731.505 | H202: user
A203: 202 | B203: {68F70D87-C36E-445E-B762-EBA2E6FD00BD} | C203: Lath cice | D203: {AD964629-CBC4-49C4-BE9C-8A4ED30E56DF} | E203: 43725.505 | F203: user | G203: 33731.505 | H203: user
A204: 203 | B204: {E529AC44-FCE5-4BCB-BBA2-8678EAF459E9} | C204: Crep bien | D204: {AD964629-CBC4-49C4-BE9C-8A4ED30E56DF} | E204: 43725.505 | F204: user | G204: 33731.505 | H204: user
A205: 204 | B205: {54E7BC08-97C6-4FC3-9CD6-4BD5117C9683} | C205: Crep sanc | D205: {AD964629-CBC4-49C4-BE9C-8A4ED30E56DF} | E205: 43725.505 | F205: user | G205: 33731.505 | H205: user
A206: 205 | B206: {C563D001-9977-445D-AF85-A7CFA1F1B776} | C206: Cent calc | D206: {AD964629-CBC4-49C4-BE9C-8A4ED30E56DF} | E206: 43725.505 | F206: user | G206: 33731.505 | H206: user
A207: 206 | B207: {ED9053C5-E3AC-4895-ACAB-1798828EB451} | C207: Vero pers | D207: {AD964629-CBC4-49C4-BE9C-8A4ED30E56DF} | E207: 43725.505 | F207: user | G207: 33731.505 | H207: user
A208: 207 | B208: {758F4125-0224-4586-9D1C-A0BDF7392E40} | C208: Sher arve | D208: {AD964629-CBC4-49C4-BE9C-8A4ED30E56DF} | E208: 43725.505 | F208: user | G208: 33731.505 | H208: user
... A258: 257 | B258: {E4AF6534-F0F9-47DC-8E97-725907BE107C} | C258: Malv sylv | D258: {AD964629-CBC4-49C4-BE9C-8A4ED30E56DF} | E258: 43725.505 | F258: user | G258: 33731.505 | H258: user
A259: 258 | B259: {8438EE8A-9EAA-4B55-9916-3DCE1B670E32} | D259: {AD964629-CBC4-49C4-BE9C-8A4ED30E56DF} | E259: 43725.505 | F259: user | G259: 33731.505 | H259: user
A260: 259 | B260: {A911DFEF-A973-4700-9AC6-C397059F139D} | D260: {AD964629-CBC4-49C4-BE9C-8A4ED30E56DF} | E260: 43725.505 | F260: user | G260: 33731.505 | H260: user
A261: 260 | B261: {D3CFB2A4-2DB6-4C7F-903F-D5DB2C3D6B30} | C261: Cent calc | D261: {379E7EC6-170C-4953-9D0A-47511979840B} | E261: 43725.505 | F261: user | G261: 33731.505 | H261: user
A262: 261 | B262: {0281D139-7980-4BB7-A4F8-C28389F15530} | C262: Musc como | D262: {379E7EC6-170C-4953-9D0A-47511979840B} | E262: 43725.505 | F262: user | G262: 33731.505 | H262: user
A263: 262 | B263: {E0F828D9-3302-43A6-81F5-27CFC2ACF487} | C263: Card tenu | D263: {379E7EC6-170C-4953-9D0A-47511979840B} | E263: 43725.505 | F263: user | G263: 33731.505 | H263: user
A264: 263 | B264: {CCE63411-5DDF-46E5-AFF5-558A6164F8A5} | C264: Crep bien | D264: {379E7EC6-170C-4953-9D0A-47511979840B} | E264: 43725.505 | F264: user | G264: 33731.505 | H264: user
A265: 264 | B265: {F6AA4016-F07D-4B3A-A8D0-EDB2AC762C4F} | C265: Scab atro | D265: {379E7EC6-170C-4953-9D0A-47511979840B} | E265: 43725.505 | F265: user | G265: 33731.505 | H265: user
A266: 265 | B266: {36CBC3DE-5542-4DB0-A0B7-6D23CE7C2D9D} | C266: Sher arve | D266: {379E7EC6-170C-4953-9D0A-47511979840B} | E266: 43725.505 | F266: user | G266: 33731.505 | H266: user
A267: 266 | B267: {3DE0366D-4C6E-4796-871A-9873AB1B0C21} | C267: Sile lati | D267: {379E7EC6-170C-4953-9D0A-47511979840B} | E267: 43725.505 | F267: user | G267: 33731.505 | H267: user
A268: 267 | B268: {618909AF-366F-4146-8EDF-10B6CF9307A6} | C268: Irsh inca | D268: {379E7EC6-170C-4953-9D0A-47511979840B} | E268: 43725.505 | F268: user | G268: 33731.505 | H268: user
A269: 268 | B269: {CB583DAE-A4F0-407D-AD98-1073994B4BF9} | C269: Aspa acut | D269: {379E7EC6-170C-4953-9D0A-47511979840B} | E269: 43725.505 | F269: user | G269: 33731.505 | H269: user
A270: 269 | B270: {1C06FA92-B302-495F-B744-91F712A533C7} | C270: Cist albi | D270: {379E7EC6-170C-4953-9D0A-47511979840B} | E270: 43725.505 | F270: user | G270: 33731.505 | H270: user
A271: 270 | B271: {933A11BF-7EE8-4F31-827A-D3F1D6163E87} | C271: Gala tome | D271: {379E7EC6-170C-4953-9D0A-47511979840B} | E271: 43725.505 | F271: user | G271: 33731.505 | H271: user
A272: 271 | B272: {E30DE87D-D4E8-4EA9-90A8-3A60CE8A77A5} | C272: Gera robe | D272: {379E7EC6-170C-4953-9D0A-47511979840B} | E272: 43725.505 | F272: user | G272: 33731.505 | H272: user
... A300: 299 | B300: {EBD66847-902B-4149-8B13-3638368CB729} | C300: Hima robe | D300: {379E7EC6-170C-4953-9D0A-47511979840B} | E300: 43725.505 | F300: user | G300: 33731.505 | H300: user
A301: 300 | B301: {CCDA588B-722B-4683-A95E-586B2DC39A80} | D301: {379E7EC6-170C-4953-9D0A-47511979840B} | E301: 43725.505 | F301: user | G301: 33731.505 | H301: user
A302: 301 | B302: {C3255451-E16C-4690-99A8-7A4088833C06} | C302: Ophr line | D302: {379E7EC6-170C-4953-9D0A-47511979840B} | E302: 43725.505 | F302: user | G302: 33731.505 | H302: user
A303: 302 | B303: {744B98C5-71C7-4F99-8A16-33B0AE3D3D6C} | C303: Poa bulb | D303: {379E7EC6-170C-4953-9D0A-47511979840B} | E303: 43725.505 | F303: user | G303: 33731.505 | H303: user
A304: 303 | B304: {7DA7C8EB-FAD6-490F-B68F-F21599D625A7} | C304: Phil angu | D304: {379E7EC6-170C-4953-9D0A-47511979840B} | E304: 43725.505 | F304: user | G304: 33731.505 | H304: user
A305: 304 | B305: {B1694F2C-B98C-4B97-9537-98636ABDC243} | C305: Gali apar | D305: {379E7EC6-170C-4953-9D0A-47511979840B} | E305: 43725.505 | F305: user | G305: 33731.505 | H305: user
A306: 305 | B306: {6321C6DD-75C3-4E3F-AC6C-79142873DECD} | C306: Sonc aspe | D306: {379E7EC6-170C-4953-9D0A-47511979840B} | E306: 43725.505 | F306: user | G306: 33731.505 | H306: user
A307: 306 | B307: {46DFDAEC-65AE-456D-8CF2-9B72C38E507B} | C307: Minu hybr | D307: {379E7EC6-170C-4953-9D0A-47511979840B} | E307: 43725.505 | F307: user | G307: 33731.505 | H307: user
A308: 307 | B308: {0013B694-B8D7-4094-B5F0-290EAB4B4825} | C308: Juni oxcy | D308: {379E7EC6-170C-4953-9D0A-47511979840B} | E308: 43725.505 | F308: user | G308: 33731.505 | H308: user
A309: 308 | B309: {BF44EBF7-6F24-4F58-B8A3-1AEA18D4E3CE} | C309: Bulp rigi | D309: {379E7EC6-170C-4953-9D0A-47511979840B} | E309: 43725.505 | F309: user | G309: 33731.505 | H309: user
A310: 309 | B310: {8E175A55-9403-4C75-BB9B-550E26F401FB} | C310: Ruta angu | D310: {379E7EC6-170C-4953-9D0A-47511979840B} | E310: 43725.505 | F310: user | G310: 33731.505 | H310: user
A311: 310 | B311: {665A4A87-0C3F-436A-86DB-B3463F959410} | C311: Euph char | D311: {379E7EC6-170C-4953-9D0A-47511979840B} | E311: 43725.505 | F311: user | G311: 33731.505 | H311: user
A312: 311 | B312: {19C96BAF-8FC7-48A6-BDD2-40E58BA24C3F} | C312: Quer cocc | D312: {379E7EC6-170C-4953-9D0A-47511979840B} | E312: 43725.505 | F312: user | G312: 33731.505 | H312: user
A313: 312 | B313: {E47CCAD9-D692-42DD-BA11-581918E3AFD1} | C313: Brac sylv | D313: {379E7EC6-170C-4953-9D0A-47511979840B} | E313: 43725.505 | F313: user | G313: 33731.505 | H313: user
... A331: 330 | B331: {53BC69C4-801C-4436-A285-83700BDF3851} | C331: carr hall | D331: {379E7EC6-170C-4953-9D0A-47511979840B} | E331: 43725.505 | F331: user | G331: 33731.505 | H331: user
A332: 331 | B332: {AB02CAB4-D866-43CA-AE7B-159E6FD4D055} | D332: {379E7EC6-170C-4953-9D0A-47511979840B} | E332: 43725.505 | F332: user | G332: 33731.505 | H332: user
A333: 332 | B333: {BCE1A769-CD38-4D8E-B8B4-C348033B9636} | C333: Rese lute | D333: {CF50B846-3C94-44F0-87FC-47766183BEFB} | E333: 43725.505 | F333: user | G333: 33731.505 | H333: user
A334: 333 | B334: {C39F2E4E-DC82-41F8-BD60-0F01CD60245C} | C334: Sang mino. | D334: {CF50B846-3C94-44F0-87FC-47766183BEFB} | E334: 43725.505 | F334: user | G334: 33731.505 | H334: user
A335: 334 | B335: {5089BE3B-831E-4F91-AC1C-D4B08764FE82} | C335: Anth vuln | D335: {CF50B846-3C94-44F0-87FC-47766183BEFB} | E335: 43725.505 | F335: user | G335: 33731.505 | H335: user
A336: 335 | B336: {55AEC687-7600-41E2-B48E-D994B30DE25D} | C336: Popu alba. 2 | D336: {CF50B846-3C94-44F0-87FC-47766183BEFB} | E336: 43725.505 | F336: user | G336: 33731.505 | H336: user
A337: 336 | B337: {9E9C5F74-4FFF-4C33-A92D-EF6DEEB3855F} | C337: Sedu sedi | D337: {CF50B846-3C94-44F0-87FC-47766183BEFB} | E337: 43725.505 | F337: user | G337: 33731.505 | H337: user
A338: 337 | B338: {7375EAA6-7492-4F42-A2AD-2EDBDC25319B} | C338: Pill offi | D338: {CF50B846-3C94-44F0-87FC-47766183BEFB} | E338: 43725.505 | F338: user | G338: 33731.505 | H338: user
A339: 338 | B339: {C243366C-4B55-4726-BDB7-B159C89CC521} | C339: Fest arun | D339: {CF50B846-3C94-44F0-87FC-47766183BEFB} | E339: 43725.505 | F339: user | G339: 33731.505 | H339: user
A340: 339 | B340: {0AD5469B-9141-4336-85DB-2D7B67852379} | C340: Lotu corn | D340: {CF50B846-3C94-44F0-87FC-47766183BEFB} | E340: 43725.505 | F340: user | G340: 33731.505 | H340: user
A341: 340 | B341: {16070CDC-D847-4541-8803-82F862F473BB} | C341: Medi lupu | D341: {CF50B846-3C94-44F0-87FC-47766183BEFB} | E341: 43725.505 | F341: user | G341: 33731.505 | H341: user
A342: 341 | B342: {595DD71A-8D45-4EC9-A5CC-1B7DF80D9CFC} | C342: Plan lanc | D342: {CF50B846-3C94-44F0-87FC-47766183BEFB} | E342: 43725.505 | F342: user | G342: 33731.505 | H342: user
A343: 342 | B343: {A4E2CC9E-253C-4FE4-B41C-16FA20846F55} | C343: Sene vulg | D343: {CF50B846-3C94-44F0-87FC-47766183BEFB} | E343: 43725.505 | F343: user | G343: 33731.505 | H343: user
A344: 343 | B344: {C3EDD3A4-3793-4F2D-BB33-AD8BD878E38B} | C344: Hier murr | D344: {CF50B846-3C94-44F0-87FC-47766183BEFB} | E344: 43725.505 | F344: user | G344: 33731.505 | H344: user
... A390: 389 | B390: {E4665CF8-13F6-4A0C-B9B3-8A7B5AE21BCC} | C390: Gali veru | D390: {CF50B846-3C94-44F0-87FC-47766183BEFB} | E390: 43725.505 | F390: user | G390: 33731.505 | H390: user
A391: 390 | B391: {07F5395B-6BF2-4A89-A15A-EDA8A8F0ACC5} | D391: {CF50B846-3C94-44F0-87FC-47766183BEFB} | E391: 43725.505 | F391: user | G391: 33731.505 | H391: user
...

Sheet Centralisation des données
A1: parentrowid | B1: Espèces | C1: parentrowid | D1: numero_eture_cortège | E1: uniquerowid | F1: Longitude | G1: parentrowid | H1: Latitude | I1: uniquerowid | J1: Date de création | K1: uniquerowid | L1: Observateur
A2: =Saisie!D:D -> {C576CDB7-6B52-4A35-892E-89968B0B2CDC} | B2: =Saisie!C:C -> Poa annu | C2: ='Formulaire bota'!C:C -> {C576CDB7-6B52-4A35-892E-89968B0B2CDC} | D2: ='Formulaire bota'!D:D -> 3057_ | E2: ='Formulaire bota'!C:C -> {C576CDB7-6B52-4A35-892E-89968B0B2CDC} | F2: ='Formulaire bota'!I:I -> 4.4444 | G2: ='Formulaire bota'!C:C -> {C576CDB7-6B52-4A35-892E-89968B0B2CDC} | H2: ='Formulaire bota'!J:J -> 44.44444 | I2: ='Formulaire bota'!C:C -> {C576CDB7-6B52-4A35-892E-89968B0B2CDC} | J2: ='Formulaire bota'!E:E -> 43234.505 | K2: ='Formulaire bota'!C:C -> {C576CDB7-6B52-4A35-892E-89968B0B2CDC} | L2: ='Formulaire bota'!F:F -> user
A3: =Saisie!D:D -> {C576CDB7-6B52-4A35-892E-89968B0B2CDC} | B3: =Saisie!C:C -> Poa camp | C3: ='Formulaire bota'!C:C -> {67ACA867-2026-4CB2-8271-4DFDA9B4D481} | D3: ='Formulaire bota'!D:D -> 2996 | F3: ='Formulaire bota'!I:I -> 4.4444 | G3: ='Formulaire bota'!C:C -> {67ACA867-2026-4CB2-8271-4DFDA9B4D481} | H3: ='Formulaire bota'!J:J -> 44.44444 | I3: ='Formulaire bota'!C:C -> {67ACA867-2026-4CB2-8271-4DFDA9B4D481} | J3: ='Formulaire bota'!E:E -> 43234.505 | K3: ='[1]Relevé bota v3'!C:C -> {67ACA867-2026-4CB2-8271-4DFDA9B4D481} | L3: ='Formulaire bota'!F:F -> user
A4: =Saisie!D:D -> {C576CDB7-6B52-4A35-892E-89968B0B2CDC} | B4: =Saisie!C:C -> Dact glom | C4: ='Formulaire bota'!C:C -> {2C7DDEFC-C4F5-42AA-9AD7-E7F1764B28BF} | D4: ='Formulaire bota'!D:D -> 3026_Bordures rudÃ©ralisÃ©es de champs cultivÃ©s | F4: ='Formulaire bota'!I:I -> 4.4444 | G4: ='Formulaire bota'!C:C -> {2C7DDEFC-C4F5-42AA-9AD7-E7F1764B28BF} | H4: ='Formulaire bota'!J:J -> 44.44444 | I4: ='Formulaire bota'!C:C -> {2C7DDEFC-C4F5-42AA-9AD7-E7F1764B28BF} | J4: ='Formulaire bota'!E:E -> 43234.505 | K4: ='[1]Relevé bota v3'!C:C -> {2C7DDEFC-C4F5-42AA-9AD7-E7F1764B28BF} | L4: ='Formulaire bota'!F:F -> user
A5: =Saisie!D:D -> {C576CDB7-6B52-4A35-892E-89968B0B2CDC} | B5: =Saisie!C:C -> Rosa cani | C5: ='Formulaire bota'!C:C -> {AD964629-CBC4-49C4-BE9C-8A4ED30E56DF} | D5: ='Formulaire bota'!D:D -> 2973_Friches rudÃ©rales | F5: ='Formulaire bota'!I:I -> 4.4444 | G5: ='Formulaire bota'!C:C -> {AD964629-CBC4-49C4-BE9C-8A4ED30E56DF} | H5: ='Formulaire bota'!J:J -> 44.44444 | I5: ='Formulaire bota'!C:C -> {AD964629-CBC4-49C4-BE9C-8A4ED30E56DF} | J5: ='Formulaire bota'!E:E -> 43234.505 | K5: ='[1]Relevé bota v3'!C:C -> {AD964629-CBC4-49C4-BE9C-8A4ED30E56DF} | L5: ='Formulaire bota'!F:F -> user
A6: =Saisie!D:D -> {C576CDB7-6B52-4A35-892E-89968B0B2CDC} | B6: =Saisie!C:C -> Sene vulg | C6: ='Formulaire bota'!C:C -> {379E7EC6-170C-4953-9D0A-47511979840B} | D6: ='Formulaire bota'!D:D -> 2973_PinÃ¨de claire | F6: ='Formulaire bota'!I:I -> 4.4444 | G6: ='Formulaire bota'!C:C -> {379E7EC6-170C-4953-9D0A-47511979840B} | H6: ='Formulaire bota'!J:J -> 44.44444 | I6: ='Formulaire bota'!C:C -> {379E7EC6-170C-4953-9D0A-47511979840B} | J6: ='Formulaire bota'!E:E -> 43234.505 | K6: ='[1]Relevé bota v3'!C:C -> {379E7EC6-170C-4953-9D0A-47511979840B} | L6: ='Formulaire bota'!F:F -> user
A7: =Saisie!D:D -> {C576CDB7-6B52-4A35-892E-89968B0B2CDC} | B7: =Saisie!C:C -> Sile lati | C7: ='Formulaire bota'!C:C -> {CF50B846-3C94-44F0-87FC-47766183BEFB} | D7: ='Formulaire bota'!D:D -> 2997 - Mison - Milieux rudÃ©raux sur sol caillouteux | F7: ='Formulaire bota'!I:I -> 4.4444 | G7: ='Formulaire bota'!C:C -> {CF50B846-3C94-44F0-87FC-47766183BEFB} | H7: ='Formulaire bota'!J:J -> 44.44444 | I7: ='Formulaire bota'!C:C -> {CF50B846-3C94-44F0-87FC-47766183BEFB} | J7: ='Formulaire bota'!E:E -> 43234.505 | K7: ='[1]Relevé bota v3'!C:C -> {CF50B846-3C94-44F0-87FC-47766183BEFB} | L7: ='Formulaire bota'!F:F -> user
A8: =Saisie!D:D -> {C576CDB7-6B52-4A35-892E-89968B0B2CDC} | B8: =Saisie!C:C -> Corn sang | C8: ='Formulaire bota'!C:C -> {2C713C3A-6C47-437D-8433-844EDB8E18CE} | D8: ='Formulaire bota'!D:D -> P16 - pente nulle - sous bois Ã chene pubescens | F8: ='Formulaire bota'!I:I -> 4.4444 | G8: ='Formulaire bota'!C:C -> {2C713C3A-6C47-437D-8433-844EDB8E18CE} | H8: ='Formulaire bota'!J:J -> 44.44444 | I8: ='Formulaire bota'!C:C -> {2C713C3A-6C47-437D-8433-844EDB8E18CE} | J8: ='Formulaire bota'!E:E -> 43234.505 | K8: ='[1]Relevé bota v3'!C:C -> {2C713C3A-6C47-437D-8433-844EDB8E18CE} | L8: ='Formulaire bota'!F:F -> user
A9: =Saisie!D:D -> {C576CDB7-6B52-4A35-892E-89968B0B2CDC} | B9: =Saisie!C:C -> Vero arve | C9: ='Formulaire bota'!C:C -> {EC39E330-1EED-4B61-8E9F-0DC7C3E99F73} | D9: ='Formulaire bota'!D:D -> P15- pente nulle - sous bois de Chene pubescent | F9: ='Formulaire bota'!I:I -> 4.4444 | G9: ='Formulaire bota'!C:C -> {EC39E330-1EED-4B61-8E9F-0DC7C3E99F73} | H9: ='Formulaire bota'!J:J -> 44.44444 | I9: ='Formulaire bota'!C:C -> {EC39E330-1EED-4B61-8E9F-0DC7C3E99F73} | J9: ='Formulaire bota'!E:E -> 43234.505 | K9: ='[1]Relevé bota v3'!C:C -> {EC39E330-1EED-4B61-8E9F-0DC7C3E99F73} | L9: ='Formulaire bota'!F:F -> user
A10: =Saisie!D:D -> {C576CDB7-6B52-4A35-892E-89968B0B2CDC} | B10: =Saisie!C:C -> Cirs vulg | C10: ='Formulaire bota'!C:C -> {CB397BD0-29D6-40CF-962C-CAD208B345FB} | D10: ='Formulaire bota'!D:D -> 3044 - Pelouse Ã Aphyllanthes, B.Retusum et B. Erectum | F10: ='Formulaire bota'!I:I -> 4.4444 | G10: ='Formulaire bota'!C:C -> {CB397BD0-29D6-40CF-962C-CAD208B345FB} | H10: ='Formulaire bota'!J:J -> 44.44444 | I10: ='Formulaire bota'!C:C -> {CB397BD0-29D6-40CF-962C-CAD208B345FB} | J10: ='Formulaire bota'!E:E -> 43252.634 | K10: ='[1]Relevé bota v3'!C:C -> {CB397BD0-29D6-40CF-962C-CAD208B345FB} | L10: ='Formulaire bota'!F:F -> user
A11: =Saisie!D:D -> {C576CDB7-6B52-4A35-892E-89968B0B2CDC} | B11: =Saisie!C:C -> Crep sanc | C11: ='Formulaire bota'!C:C -> {66D7FEED-7B1E-4887-B24E-567B795DFFD3} | D11: ='Formulaire bota'!D:D -> 3061-communautÃ©s arriÃ¨re dunaires en cours de ruderalisation | F11: ='Formulaire bota'!I:I -> 4.4444 | G11: ='Formulaire bota'!C:C -> {66D7FEED-7B1E-4887-B24E-567B795DFFD3} | H11: ='Formulaire bota'!J:J -> 44.44444 | I11: ='Formulaire bota'!C:C -> {66D7FEED-7B1E-4887-B24E-567B795DFFD3} | J11: ='Formulaire bota'!E:E -> 43252.634 | K11: ='[1]Relevé bota v3'!C:C -> {66D7FEED-7B1E-4887-B24E-567B795DFFD3} | L11: ='Formulaire bota'!F:F -> user
A12: =Saisie!D:D -> {C576CDB7-6B52-4A35-892E-89968B0B2CDC} | B12: =Saisie!C:C -> Champ de colza | C12: ='Formulaire bota'!C:C -> {464C9404-B78C-46D7-9DFB-7297A4C5F7C5} | D12: ='Formulaire bota'!D:D -> La batie mont saleon | F12: ='Formulaire bota'!I:I -> 4.4444 | G12: ='Formulaire bota'!C:C -> {464C9404-B78C-46D7-9DFB-7297A4C5F7C5} | H12: ='Formulaire bota'!J:J -> 44.44444 | I12: ='Formulaire bota'!C:C -> {464C9404-B78C-46D7-9DFB-7297A4C5F7C5} | J12: ='Formulaire bota'!E:E -> 43252.634 | K12: ='[1]Relevé bota v3'!C:C -> {464C9404-B78C-46D7-9DFB-7297A4C5F7C5} | L12: ='Formulaire bota'!F:F -> user
A13: =Saisie!D:D -> {C576CDB7-6B52-4A35-892E-89968B0B2CDC} | B13: =Saisie!C:C -> Holc lana | C13: ='Formulaire bota'!C:C -> {82201741-B2D1-4B2C-959C-471E0A02937E} | D13: ='Formulaire bota'!D:D -> 2631A P45 | F13: ='Formulaire bota'!I:I -> 4.4444 | G13: ='Formulaire bota'!C:C -> {82201741-B2D1-4B2C-959C-471E0A02937E} | H13: ='Formulaire bota'!J:J -> 44.44444 | I13: ='Formulaire bota'!C:C -> {82201741-B2D1-4B2C-959C-471E0A02937E} | J13: ='Formulaire bota'!E:E -> 43252.634 | K13: ='[1]Relevé bota v3'!C:C -> {82201741-B2D1-4B2C-959C-471E0A02937E} | L13: ='Formulaire bota'!F:F -> user
A14: =Saisie!D:D -> {C576CDB7-6B52-4A35-892E-89968B0B2CDC} | B14: =Saisie!C:C -> Sene inae | C14: ='Formulaire bota'!C:C -> {231C4C56-7AEE-46B9-AA5F-EA4B22DD8F20} | D14: ='Formulaire bota'!D:D -> 2631A P44 | F14: ='Formulaire bota'!I:I -> 4.4444 | G14: ='Formulaire bota'!C:C -> {231C4C56-7AEE-46B9-AA5F-EA4B22DD8F20} | H14: ='Formulaire bota'!J:J -> 44.44444 | I14: ='Formulaire bota'!C:C -> {231C4C56-7AEE-46B9-AA5F-EA4B22DD8F20} | J14: ='Formulaire bota'!E:E -> 43252.634 | K14: ='[1]Relevé bota v3'!C:C -> {231C4C56-7AEE-46B9-AA5F-EA4B22DD8F20} | L14: ='Formulaire bota'!F:F -> user
A15: =Saisie!D:D -> {C576CDB7-6B52-4A35-892E-89968B0B2CDC} | B15: =Saisie!C:C -> Conv arve | C15: ='Formulaire bota'!C:C -> {35007D3A-24B7-4891-8C4B-7E48D4D93BED} | D15: ='Formulaire bota'!D:D -> 2631A P43 | E15: ='[1]Relevé bota v3'!C:C -> {35007D3A-24B7-4891-8C4B-7E48D4D93BED} | F15: ='Formulaire bota'!I:I -> 4.4444 | G15: ='Formulaire bota'!C:C -> {35007D3A-24B7-4891-8C4B-7E48D4D93BED} | H15: ='Formulaire bota'!J:J -> 44.44444 | I15: ='Formulaire bota'!C:C -> {35007D3A-24B7-4891-8C4B-7E48D4D93BED} | J15: ='Formulaire bota'!E:E -> 43252.634 | K15: ='[1]Relevé bota v3'!C:C -> {35007D3A-24B7-4891-8C4B-7E48D4D93BED} | L15: ='Formulaire bota'!F:F -> user
A16: =Saisie!D:D -> {C576CDB7-6B52-4A35-892E-89968B0B2CDC} | B16: =Saisie!C:C -> Soli giga | C16: ='Formulaire bota'!C:C -> {31848D02-B28C-4608-B70E-4EA354FB90B1} | D16: ='Formulaire bota'!D:D -> 2631A P51 | E16: ='[1]Relevé bota v3'!C:C -> {31848D02-B28C-4608-B70E-4EA354FB90B1} | F16: ='Formulaire bota'!I:I -> 4.4444 | G16: ='Formulaire bota'!C:C -> {31848D02-B28C-4608-B70E-4EA354FB90B1} | H16: ='Formulaire bota'!J:J -> 44.44444 | I16: ='Formulaire bota'!C:C -> {31848D02-B28C-4608-B70E-4EA354FB90B1} | J16: ='Formulaire bota'!E:E -> 43252.634 | K16: ='[1]Relevé bota v3'!C:C -> {31848D02-B28C-4608-B70E-4EA354FB90B1} | L16: ='Formulaire bota'!F:F -> user
A17: =Saisie!D:D -> {C576CDB7-6B52-4A35-892E-89968B0B2CDC} | B17: =Saisie!C:C -> Agri eupa | C17: ='Formulaire bota'!C:C -> {29889811-065E-499F-BAA1-E2A55FE53BE7} | D17: ='Formulaire bota'!D:D -> 2631A P50 | E17: ='[1]Relevé bota v3'!C:C -> {29889811-065E-499F-BAA1-E2A55FE53BE7} | F17: ='Formulaire bota'!I:I -> 4.4444 | G17: ='Formulaire bota'!C:C -> {29889811-065E-499F-BAA1-E2A55FE53BE7} | H17: ='Formulaire bota'!J:J -> 44.44444 | I17: ='Formulaire bota'!C:C -> {29889811-065E-499F-BAA1-E2A55FE53BE7} | J17: ='Formulaire bota'!E:E -> 43252.634 | K17: ='[1]Relevé bota v3'!C:C -> {29889811-065E-499F-BAA1-E2A55FE53BE7} | L17: ='Formulaire bota'!F:F -> user
A18: =Saisie!D:D -> {C576CDB7-6B52-4A35-892E-89968B0B2CDC} | B18: =Saisie!C:C -> Rume cris | C18: ='Formulaire bota'!C:C -> {64B4CF2A-F7B3-4067-AD0A-1EDD4A57E78A} | D18: ='Formulaire bota'!D:D -> 2631A P49 | E18: ='[1]Relevé bota v3'!C:C -> {64B4CF2A-F7B3-4067-AD0A-1EDD4A57E78A} | F18: ='Formulaire bota'!I:I -> 4.4444 | G18: ='Formulaire bota'!C:C -> {64B4CF2A-F7B3-4067-AD0A-1EDD4A57E78A} | H18: ='Formulaire bota'!J:J -> 44.44444 | I18: ='Formulaire bota'!C:C -> {64B4CF2A-F7B3-4067-AD0A-1EDD4A57E78A} | J18: ='Formulaire bota'!E:E -> 43252.634 | K18: ='[1]Relevé bota v3'!C:C -> {64B4CF2A-F7B3-4067-AD0A-1EDD4A57E78A} | L18: ='Formulaire bota'!F:F -> user
A19: =Saisie!D:D -> {C576CDB7-6B52-4A35-892E-89968B0B2CDC} | B19: =Saisie!C:C -> Lotu grac | C19: ='Formulaire bota'!C:C -> {256130F0-FBD5-4A4D-A079-CF375C03ED37} | D19: ='Formulaire bota'!D:D -> 2631A P48 | E19: ='[1]Relevé bota v3'!C:C -> {256130F0-FBD5-4A4D-A079-CF375C03ED37} | F19: ='Formulaire bota'!I:I -> 4.4444 | G19: ='Formulaire bota'!C:C -> {256130F0-FBD5-4A4D-A079-CF375C03ED37} | H19: ='Formulaire bota'!J:J -> 44.44444 | I19: ='Formulaire bota'!C:C -> {256130F0-FBD5-4A4D-A079-CF375C03ED37} | J19: ='Formulaire bota'!E:E -> 43252.634 | K19: ='[1]Relevé bota v3'!C:C -> {256130F0-FBD5-4A4D-A079-CF375C03ED37} | L19: ='Formulaire bota'!F:F -> user
A20: =Saisie!D:D -> {C576CDB7-6B52-4A35-892E-89968B0B2CDC} | B20: =Saisie!C:C -> Vici tetr | C20: ='Formulaire bota'!C:C -> {B6F2129F-F7BF-45F7-A8BD-26D6A7281020} | D20: ='Formulaire bota'!D:D -> 2631A P47 | E20: ='[1]Relevé bota v3'!C:C -> {B6F2129F-F7BF-45F7-A8BD-26D6A7281020} | F20: ='Formulaire bota'!I:I -> 4.4444 | G20: ='Formulaire bota'!C:C -> {B6F2129F-F7BF-45F7-A8BD-26D6A7281020} | H20: ='Formulaire bota'!J:J -> 44.44444 | I20: ='Formulaire bota'!C:C -> {B6F2129F-F7BF-45F7-A8BD-26D6A7281020} | J20: ='Formulaire bota'!E:E -> 43252.634 | K20: ='[1]Relevé bota v3'!C:C -> {B6F2129F-F7BF-45F7-A8BD-26D6A7281020} | L20: ='Formulaire bota'!F:F -> user
A21: =Saisie!D:D -> {C576CDB7-6B52-4A35-892E-89968B0B2CDC} | B21: =Saisie!C:C -> Picr hier | C21: ='Formulaire bota'!C:C -> {5DB5073A-6272-41A7-90E7-1D1489D23CA3} | D21: ='Formulaire bota'!D:D -> 2631A P46 | E21: ='[1]Relevé bota v3'!C:C -> {5DB5073A-6272-41A7-90E7-1D1489D23CA3} | F21: ='Formulaire bota'!I:I -> 4.4444 | G21: ='Formulaire bota'!C:C -> {5DB5073A-6272-41A7-90E7-1D1489D23CA3} | H21: ='Formulaire bota'!J:J -> 44.44444 | I21: ='Formulaire bota'!C:C -> {5DB5073A-6272-41A7-90E7-1D1489D23CA3} | J21: ='Formulaire bota'!E:E -> 43252.634 | K21: ='[1]Relevé bota v3'!C:C -> {5DB5073A-6272-41A7-90E7-1D1489D23CA3} | L21: ='Formulaire bota'!F:F -> user
A22: =Saisie!D:D -> {C576CDB7-6B52-4A35-892E-89968B0B2CDC} | B22: =Saisie!C:C -> Crat mono | C22: ='Formulaire bota'!C:C -> {BAA156BC-CF0A-47BF-8FB6-26210E78AC4E} | D22: ='Formulaire bota'!D:D -> 2631A P42 | E22: ='[1]Relevé bota v3'!C:C -> {BAA156BC-CF0A-47BF-8FB6-26210E78AC4E} | F22: ='Formulaire bota'!I:I -> 4.4444 | G22: ='Formulaire bota'!C:C -> {BAA156BC-CF0A-47BF-8FB6-26210E78AC4E} | H22: ='Formulaire bota'!J:J -> 44.44444 | I22: ='Formulaire bota'!C:C -> {BAA156BC-CF0A-47BF-8FB6-26210E78AC4E} | J22: ='Formulaire bota'!E:E -> 43252.634 | K22: ='[1]Relevé bota v3'!C:C -> {BAA156BC-CF0A-47BF-8FB6-26210E78AC4E} | L22: ='Formulaire bota'!F:F -> user
A23: =Saisie!D:D -> {C576CDB7-6B52-4A35-892E-89968B0B2CDC} | B23: =Saisie!C:C -> Hypo radi | C23: ='Formulaire bota'!C:C -> {64EAA301-2A5F-4CC6-894D-C2B83E79120C} | D23: ='Formulaire bota'!D:D -> 2631A P41 | E23: ='[1]Relevé bota v3'!C:C -> {64EAA301-2A5F-4CC6-894D-C2B83E79120C} | F23: ='Formulaire bota'!I:I -> 4.4444 | G23: ='Formulaire bota'!C:C -> {64EAA301-2A5F-4CC6-894D-C2B83E79120C} | H23: ='Formulaire bota'!J:J -> 44.44444 | I23: ='Formulaire bota'!C:C -> {64EAA301-2A5F-4CC6-894D-C2B83E79120C} | J23: ='Formulaire bota'!E:E -> 43252.634 | K23: ='[1]Relevé bota v3'!C:C -> {64EAA301-2A5F-4CC6-894D-C2B83E79120C} | L23: ='Formulaire bota'!F:F -> user
A24: =Saisie!D:D -> {C576CDB7-6B52-4A35-892E-89968B0B2CDC} | B24: =Saisie!C:C -> Brom ster | C24: ='Formulaire bota'!C:C -> {1F7F18BC-0179-4DA0-9FFB-50C5D66DCD7C} | D24: ='Formulaire bota'!D:D -> 2631A P40 | E24: ='[1]Relevé bota v3'!C:C -> {1F7F18BC-0179-4DA0-9FFB-50C5D66DCD7C} | F24: ='Formulaire bota'!I:I -> 4.4444 | G24: ='Formulaire bota'!C:C -> {1F7F18BC-0179-4DA0-9FFB-50C5D66DCD7C} | H24: ='Formulaire bota'!J:J -> 44.44444 | I24: ='Formulaire bota'!C:C -> {1F7F18BC-0179-4DA0-9FFB-50C5D66DCD7C} | J24: ='Formulaire bota'!E:E -> 43252.634 | K24: ='[1]Relevé bota v3'!C:C -> {1F7F18BC-0179-4DA0-9FFB-50C5D66DCD7C} | L24: ='Formulaire bota'!F:F -> user
A25: =Saisie!D:D -> {C576CDB7-6B52-4A35-892E-89968B0B2CDC} | B25: =Saisie!C:C -> Arte vulg | C25: ='Formulaire bota'!C:C -> {1E20EC80-384F-415E-B32D-159D58037F7F} | D25: ='Formulaire bota'!D:D -> 2631A P39 | E25: ='[1]Relevé bota v3'!C:C -> {1E20EC80-384F-415E-B32D-159D58037F7F} | F25: ='Formulaire bota'!I:I -> 4.4444 | G25: ='Formulaire bota'!C:C -> {1E20EC80-384F-415E-B32D-159D58037F7F} | H25: ='Formulaire bota'!J:J -> 44.44444 | I25: ='Formulaire bota'!C:C -> {1E20EC80-384F-415E-B32D-159D58037F7F} | J25: ='Formulaire bota'!E:E -> 43252.634 | K25: ='[1]Relevé bota v3'!C:C -> {1E20EC80-384F-415E-B32D-159D58037F7F} | L25: ='Formulaire bota'!F:F -> user
A26: =Saisie!D:D -> {C576CDB7-6B52-4A35-892E-89968B0B2CDC} | B26: =Saisie!C:C -> Sile ital | C26: ='Formulaire bota'!C:C -> {D03ABBA5-F026-4C36-80CE-5CF2FA8B6D91} | D26: ='Formulaire bota'!D:D -> 2631A P38 | E26: ='[1]Relevé bota v3'!C:C -> {D03ABBA5-F026-4C36-80CE-5CF2FA8B6D91} | F26: ='Formulaire bota'!I:I -> 4.4444 | G26: ='Formulaire bota'!C:C -> {D03ABBA5-F026-4C36-80CE-5CF2FA8B6D91} | H26: ='Formulaire bota'!J:J -> 44.44444 | I26: ='Formulaire bota'!C:C -> {D03ABBA5-F026-4C36-80CE-5CF2FA8B6D91} | J26: ='Formulaire bota'!E:E -> 43252.634 | K26: ='[1]Relevé bota v3'!C:C -> {D03ABBA5-F026-4C36-80CE-5CF2FA8B6D91} | L26: ='Formulaire bota'!F:F -> user
... A252: =Saisie!D:D -> {AD964629-CBC4-49C4-BE9C-8A4ED30E56DF} | B252: =Saisie!C:C -> Dact glom | C252: ='Formulaire bota'!C:C -> 0 | D252: ='Formulaire bota'!D:D -> 0 | E252: ='[1]Relevé bota v3'!C:C -> 0 | F252: ='Formulaire bota'!I:I -> 0 | G252: ='Formulaire bota'!C:C -> 0 | H252: ='Formulaire bota'!J:J -> 0 | I252: ='Formulaire bota'!C:C -> 0 | J252: ='Formulaire bota'!E:E -> 0 | K252: ='[1]Relevé bota v3'!C:C -> 0 | L252: ='Formulaire bota'!F:F -> 0

Sheet Données de travail
A1: Code corresp | B1: Code Espèce | C1: numero_eture | D1: Date de création | E1: Longitude | F1: Latitude | G1: Observateur
A2: ='Centralisation des données'!A:A -> {C576CDB7-6B52-4A35-892E-89968B0B2CDC} | B2: ='Centralisation des données'!B:B -> Poa annu | C2: 3057 | D2: =VLOOKUP('Centralisation des données'!A2,'Centralisation des données'!I:J,2,0) -> 43234.505 | E2: =VLOOKUP('Centralisation des données'!A2,'Centralisation des données'!E:F,2,0) -> 4.4444 | F2: =VLOOKUP('Centralisation des données'!A2,'Centralisation des données'!G:H,2,0) -> 44.44444 | G2: =VLOOKUP('Données de travail'!A2,'Centralisation des données'!K:L,2,0) -> user
A3: ='Centralisation des données'!A:A -> {C576CDB7-6B52-4A35-892E-89968B0B2CDC} | B3: ='Centralisation des données'!B:B -> Poa camp | C3: 3057 | D3: =VLOOKUP('Centralisation des données'!A3,'Centralisation des données'!I:J,2,0) -> 43234.505 | E3: =VLOOKUP('Centralisation des données'!A3,'Centralisation des données'!E:F,2,0) -> 4.4444 | F3: =VLOOKUP('Centralisation des données'!A3,'Centralisation des données'!G:H,2,0) -> 44.44444 | G3: =VLOOKUP('Données de travail'!A3,'Centralisation des données'!K:L,2,0) -> user
A4: ='Centralisation des données'!A:A -> {C576CDB7-6B52-4A35-892E-89968B0B2CDC} | B4: ='Centralisation des données'!B:B -> Dact glom | C4: 3057 | D4: =VLOOKUP('Centralisation des données'!A4,'Centralisation des données'!I:J,2,0) -> 43234.505 | E4: =VLOOKUP('Centralisation des données'!A4,'Centralisation des données'!E:F,2,0) -> 4.4444 | F4: =VLOOKUP('Centralisation des données'!A4,'Centralisation des données'!G:H,2,0) -> 44.44444 | G4: =VLOOKUP('Données de travail'!A4,'Centralisation des données'!K:L,2,0) -> user
A5: ='Centralisation des données'!A:A -> {C576CDB7-6B52-4A35-892E-89968B0B2CDC} | B5: ='Centralisation des données'!B:B -> Rosa cani | C5: 3057 | D5: =VLOOKUP('Centralisation des données'!A5,'Centralisation des données'!I:J,2,0) -> 43234.505 | E5: =VLOOKUP('Centralisation des données'!A5,'Centralisation des données'!E:F,2,0) -> 4.4444 | F5: =VLOOKUP('Centralisation des données'!A5,'Centralisation des données'!G:H,2,0) -> 44.44444 | G5: =VLOOKUP('Données de travail'!A5,'Centralisation des données'!K:L,2,0) -> user
A6: ='Centralisation des données'!A:A -> {C576CDB7-6B52-4A35-892E-89968B0B2CDC} | B6: ='Centralisation des données'!B:B -> Sene vulg | C6: 3057 | D6: =VLOOKUP('Centralisation des données'!A6,'Centralisation des données'!I:J,2,0) -> 43234.505 | E6: =VLOOKUP('Centralisation des données'!A6,'Centralisation des données'!E:F,2,0) -> 4.4444 | F6: =VLOOKUP('Centralisation des données'!A6,'Centralisation des données'!G:H,2,0) -> 44.44444 | G6: =VLOOKUP('Données de travail'!A6,'Centralisation des données'!K:L,2,0) -> user
A7: ='Centralisation des données'!A:A -> {C576CDB7-6B52-4A35-892E-89968B0B2CDC} | B7: ='Centralisation des données'!B:B -> Sile lati | C7: 3057 | D7: =VLOOKUP('Centralisation des données'!A7,'Centralisation des données'!I:J,2,0) -> 43234.505 | E7: =VLOOKUP('Centralisation des données'!A7,'Centralisation des données'!E:F,2,0) -> 4.4444 | F7: =VLOOKUP('Centralisation des données'!A7,'Centralisation des données'!G:H,2,0) -> 44.44444 | G7: =VLOOKUP('Données de travail'!A7,'Centralisation des données'!K:L,2,0) -> user
A8: ='Centralisation des données'!A:A -> {C576CDB7-6B52-4A35-892E-89968B0B2CDC} | B8: ='Centralisation des données'!B:B -> Corn sang | C8: 3057 | D8: =VLOOKUP('Centralisation des données'!A8,'Centralisation des données'!I:J,2,0) -> 43234.505 | E8: =VLOOKUP('Centralisation des données'!A8,'Centralisation des données'!E:F,2,0) -> 4.4444 | F8: =VLOOKUP('Centralisation des données'!A8,'Centralisation des données'!G:H,2,0) -> 44.44444 | G8: =VLOOKUP('Données de travail'!A8,'Centralisation des données'!K:L,2,0) -> user
A9: ='Centralisation des données'!A:A -> {C576CDB7-6B52-4A35-892E-89968B0B2CDC} | B9: ='Centralisation des données'!B:B -> Vero arve | C9: 3057 | D9: =VLOOKUP('Centralisation des données'!A9,'Centralisation des données'!I:J,2,0) -> 43234.505 | E9: =VLOOKUP('Centralisation des données'!A9,'Centralisation des données'!E:F,2,0) -> 4.4444 | F9: =VLOOKUP('Centralisation des données'!A9,'Centralisation des données'!G:H,2,0) -> 44.44444 | G9: =VLOOKUP('Données de travail'!A9,'Centralisation des données'!K:L,2,0) -> user
A10: ='Centralisation des données'!A:A -> {C576CDB7-6B52-4A35-892E-89968B0B2CDC} | B10: ='Centralisation des données'!B:B -> Cirs vulg | C10: 3057 | D10: =VLOOKUP('Centralisation des données'!A10,'Centralisation des données'!I:J,2,0) -> 43234.505 | E10: =VLOOKUP('Centralisation des données'!A10,'Centralisation des données'!E:F,2,0) -> 4.4444 | F10: =VLOOKUP('Centralisation des données'!A10,'Centralisation des données'!G:H,2,0) -> 44.44444 | G10: =VLOOKUP('Données de travail'!A10,'Centralisation des données'!K:L,2,0) -> user
A11: ='Centralisation des données'!A:A -> {C576CDB7-6B52-4A35-892E-89968B0B2CDC} | B11: ='Centralisation des données'!B:B -> Crep sanc | C11: 3057 | D11: =VLOOKUP('Centralisation des données'!A11,'Centralisation des données'!I:J,2,0) -> 43234.505 | E11: =VLOOKUP('Centralisation des données'!A11,'Centralisation des données'!E:F,2,0) -> 4.4444 | F11: =VLOOKUP('Centralisation des données'!A11,'Centralisation des données'!G:H,2,0) -> 44.44444 | G11: =VLOOKUP('Données de travail'!A11,'Centralisation des données'!K:L,2,0) -> user
A12: ='Centralisation des données'!A:A -> {C576CDB7-6B52-4A35-892E-89968B0B2CDC} | B12: ='Centralisation des données'!B:B -> Champ de colza | C12: 3057 | D12: =VLOOKUP('Centralisation des données'!A12,'Centralisation des données'!I:J,2,0) -> 43234.505 | E12: =VLOOKUP('Centralisation des données'!A12,'Centralisation des données'!E:F,2,0) -> 4.4444 | F12: =VLOOKUP('Centralisation des données'!A12,'Centralisation des données'!G:H,2,0) -> 44.44444 | G12: =VLOOKUP('Données de travail'!A12,'Centralisation des données'!K:L,2,0) -> user
A13: ='Centralisation des données'!A:A -> {C576CDB7-6B52-4A35-892E-89968B0B2CDC} | B13: ='Centralisation des données'!B:B -> Holc lana | C13: 3057 | D13: =VLOOKUP('Centralisation des données'!A13,'Centralisation des données'!I:J,2,0) -> 43234.505 | E13: =VLOOKUP('Centralisation des données'!A13,'Centralisation des données'!E:F,2,0) -> 4.4444 | F13: =VLOOKUP('Centralisation des données'!A13,'Centralisation des données'!G:H,2,0) -> 44.44444 | G13: =VLOOKUP('Données de travail'!A13,'Centralisation des données'!K:L,2,0) -> user
... A64: ='Centralisation des données'!A:A -> {C576CDB7-6B52-4A35-892E-89968B0B2CDC} | B64: ='Centralisation des données'!B:B -> Medi mini | C64: 3057 | D64: =VLOOKUP('Centralisation des données'!A64,'Centralisation des données'!I:J,2,0) -> 43234.505 | E64: =VLOOKUP('Centralisation des données'!A64,'Centralisation des données'!E:F,2,0) -> 4.4444 | F64: =VLOOKUP('Centralisation des données'!A64,'Centralisation des données'!G:H,2,0) -> 44.44444 | G64: =VLOOKUP('Données de travail'!A64,'Centralisation des données'!K:L,2,0) -> user
A65: ='Centralisation des données'!A:A -> {67ACA867-2026-4CB2-8271-4DFDA9B4D481} | B65: ='Centralisation des données'!B:B -> Neat apul | C65: =VLOOKUP('Centralisation des données'!A65,'Centralisation des données'!C:D,2,0) -> 2996 | D65: =VLOOKUP('Centralisation des données'!A65,'Centralisation des données'!I:J,2,0) -> 43234.505 | E65: =VLOOKUP('Centralisation des données'!A65,'Centralisation des données'!E:F,2,0) -> #N/A | F65: =VLOOKUP('Centralisation des données'!A65,'Centralisation des données'!G:H,2,0) -> 44.44444 | G65: =VLOOKUP('Données de travail'!A65,'Centralisation des données'!K:L,2,0) -> user
A66: ='Centralisation des données'!A:A -> {67ACA867-2026-4CB2-8271-4DFDA9B4D481} | B66: ='Centralisation des données'!B:B -> Rume inte | C66: =VLOOKUP('Centralisation des données'!A66,'Centralisation des données'!C:D,2,0) -> 2996 | D66: =VLOOKUP('Centralisation des données'!A66,'Centralisation des données'!I:J,2,0) -> 43234.505 | E66: =VLOOKUP('Centralisation des données'!A66,'Centralisation des données'!E:F,2,0) -> #N/A | F66: =VLOOKUP('Centralisation des données'!A66,'Centralisation des données'!G:H,2,0) -> 44.44444 | G66: =VLOOKUP('Données de travail'!A66,'Centralisation des données'!K:L,2,0) -> user
A67: ='Centralisation des données'!A:A -> {67ACA867-2026-4CB2-8271-4DFDA9B4D481} | B67: ='Centralisation des données'!B:B -> Brom rube | C67: =VLOOKUP('Centralisation des données'!A67,'Centralisation des données'!C:D,2,0) -> 2996 | D67: =VLOOKUP('Centralisation des données'!A67,'Centralisation des données'!I:J,2,0) -> 43234.505 | E67: =VLOOKUP('Centralisation des données'!A67,'Centralisation des données'!E:F,2,0) -> #N/A | F67: =VLOOKUP('Centralisation des données'!A67,'Centralisation des données'!G:H,2,0) -> 44.44444 | G67: =VLOOKUP('Données de travail'!A67,'Centralisation des données'!K:L,2,0) -> user
A68: ='Centralisation des données'!A:A -> {67ACA867-2026-4CB2-8271-4DFDA9B4D481} | B68: ='Centralisation des données'!B:B -> Sile ital | C68: =VLOOKUP('Centralisation des données'!A68,'Centralisation des données'!C:D,2,0) -> 2996 | D68: =VLOOKUP('Centralisation des données'!A68,'Centralisation des données'!I:J,2,0) -> 43234.505 | E68: =VLOOKUP('Centralisation des données'!A68,'Centralisation des données'!E:F,2,0) -> #N/A | F68: =VLOOKUP('Centralisation des données'!A68,'Centralisation des données'!G:H,2,0) -> 44.44444 | G68: =VLOOKUP('Données de travail'!A68,'Centralisation des données'!K:L,2,0) -> user
A69: ='Centralisation des données'!A:A -> {67ACA867-2026-4CB2-8271-4DFDA9B4D481} | B69: ='Centralisation des données'!B:B -> Uros picr | C69: =VLOOKUP('Centralisation des données'!A69,'Centralisation des données'!C:D,2,0) -> 2996 | D69: =VLOOKUP('Centralisation des données'!A69,'Centralisation des données'!I:J,2,0) -> 43234.505 | E69: =VLOOKUP('Centralisation des données'!A69,'Centralisation des données'!E:F,2,0) -> #N/A | F69: =VLOOKUP('Centralisation des données'!A69,'Centralisation des données'!G:H,2,0) -> 44.44444 | G69: =VLOOKUP('Données de travail'!A69,'Centralisation des données'!K:L,2,0) -> user
A70: ='Centralisation des données'!A:A -> {67ACA867-2026-4CB2-8271-4DFDA9B4D481} | B70: ='Centralisation des données'!B:B -> Cent rube | C70: =VLOOKUP('Centralisation des données'!A70,'Centralisation des données'!C:D,2,0) -> 2996 | D70: =VLOOKUP('Centralisation des données'!A70,'Centralisation des données'!I:J,2,0) -> 43234.505 | E70: =VLOOKUP('Centralisation des données'!A70,'Centralisation des données'!E:F,2,0) -> #N/A | F70: =VLOOKUP('Centralisation des données'!A70,'Centralisation des données'!G:H,2,0) -> 44.44444 | G70: =VLOOKUP('Données de travail'!A70,'Centralisation des données'!K:L,2,0) -> user
A71: ='Centralisation des données'!A:A -> {67ACA867-2026-4CB2-8271-4DFDA9B4D481} | B71: ='Centralisation des données'!B:B -> Hipp como | C71: =VLOOKUP('Centralisation des données'!A71,'Centralisation des données'!C:D,2,0) -> 2996 | D71: =VLOOKUP('Centralisation des données'!A71,'Centralisation des données'!I:J,2,0) -> 43234.505 | E71: =VLOOKUP('Centralisation des données'!A71,'Centralisation des données'!E:F,2,0) -> #N/A | F71: =VLOOKUP('Centralisation des données'!A71,'Centralisation des données'!G:H,2,0) -> 44.44444 | G71: =VLOOKUP('Données de travail'!A71,'Centralisation des données'!K:L,2,0) -> user
A72: ='Centralisation des données'!A:A -> {67ACA867-2026-4CB2-8271-4DFDA9B4D481} | B72: ='Centralisation des données'!B:B -> Sedu albu | C72: =VLOOKUP('Centralisation des données'!A72,'Centralisation des données'!C:D,2,0) -> 2996 | D72: =VLOOKUP('Centralisation des données'!A72,'Centralisation des données'!I:J,2,0) -> 43234.505 | E72: =VLOOKUP('Centralisation des données'!A72,'Centralisation des données'!E:F,2,0) -> #N/A | F72: =VLOOKUP('Centralisation des données'!A72,'Centralisation des données'!G:H,2,0) -> 44.44444 | G72: =VLOOKUP('Données de travail'!A72,'Centralisation des données'!K:L,2,0) -> user
A73: ='Centralisation des données'!A:A -> {67ACA867-2026-4CB2-8271-4DFDA9B4D481} | B73: ='Centralisation des données'!B:B -> Camp erin | C73: =VLOOKUP('Centralisation des données'!A73,'Centralisation des données'!C:D,2,0) -> 2996 | D73: =VLOOKUP('Centralisation des données'!A73,'Centralisation des données'!I:J,2,0) -> 43234.505 | E73: =VLOOKUP('Centralisation des données'!A73,'Centralisation des données'!E:F,2,0) -> #N/A | F73: =VLOOKUP('Centralisation des données'!A73,'Centralisation des données'!G:H,2,0) -> 44.44444 | G73: =VLOOKUP('Données de travail'!A73,'Centralisation des données'!K:L,2,0) -> user
A74: ='Centralisation des données'!A:A -> {67ACA867-2026-4CB2-8271-4DFDA9B4D481} | B74: ='Centralisation des données'!B:B -> Onon natr | C74: =VLOOKUP('Centralisation des données'!A74,'Centralisation des données'!C:D,2,0) -> 2996 | D74: =VLOOKUP('Centralisation des données'!A74,'Centralisation des données'!I:J,2,0) -> 43234.505 | E74: =VLOOKUP('Centralisation des données'!A74,'Centralisation des données'!E:F,2,0) -> #N/A | F74: =VLOOKUP('Centralisation des données'!A74,'Centralisation des données'!G:H,2,0) -> 44.44444 | G74: =VLOOKUP('Données de travail'!A74,'Centralisation des données'!K:L,2,0) -> user
A75: ='Centralisation des données'!A:A -> {67ACA867-2026-4CB2-8271-4DFDA9B4D481} | B75: ='Centralisation des données'!B:B -> Cent calc | C75: =VLOOKUP('Centralisation des données'!A75,'Centralisation des données'!C:D,2,0) -> 2996 | D75: =VLOOKUP('Centralisation des données'!A75,'Centralisation des données'!I:J,2,0) -> 43234.505 | E75: =VLOOKUP('Centralisation des données'!A75,'Centralisation des données'!E:F,2,0) -> #N/A | F75: =VLOOKUP('Centralisation des données'!A75,'Centralisation des données'!G:H,2,0) -> 44.44444 | G75: =VLOOKUP('Données de travail'!A75,'Centralisation des données'!K:L,2,0) -> user
A76: ='Centralisation des données'!A:A -> {67ACA867-2026-4CB2-8271-4DFDA9B4D481} | B76: ='Centralisation des données'!B:B -> Cata rigi | C76: =VLOOKUP('Centralisation des données'!A76,'Centralisation des données'!C:D,2,0) -> 2996 | D76: =VLOOKUP('Centralisation des données'!A76,'Centralisation des données'!I:J,2,0) -> 43234.505 | E76: =VLOOKUP('Centralisation des données'!A76,'Centralisation des données'!E:F,2,0) -> #N/A | F76: =VLOOKUP('Centralisation des données'!A76,'Centralisation des données'!G:H,2,0) -> 44.44444 | G76: =VLOOKUP('Données de travail'!A76,'Centralisation des données'!K:L,2,0) -> user
... A111: ='Centralisation des données'!A:A -> {67ACA867-2026-4CB2-8271-4DFDA9B4D481} | B111: ='Centralisation des données'!B:B -> 0 | C111: =VLOOKUP('Centralisation des données'!A111,'Centralisation des données'!C:D,2,0) -> 2996 | D111: =VLOOKUP('Centralisation des données'!A111,'Centralisation des données'!I:J,2,0) -> 43234.505 | E111: =VLOOKUP('Centralisation des données'!A111,'Centralisation des données'!E:F,2,0) -> #N/A | F111: =VLOOKUP('Centralisation des données'!A111,'Centralisation des données'!G:H,2,0) -> 44.44444 | G111: =VLOOKUP('Données de travail'!A111,'Centralisation des données'!K:L,2,0) -> user
A112: ='Centralisation des données'!A:A -> {2C7DDEFC-C4F5-42AA-9AD7-E7F1764B28BF} | B112: ='Centralisation des données'!B:B -> Glad ital | C112: 3026 | D112: =VLOOKUP('Centralisation des données'!A112,'Centralisation des données'!I:J,2,0) -> 43234.505 | E112: =VLOOKUP('Centralisation des données'!A112,'Centralisation des données'!E:F,2,0) -> #N/A | F112: =VLOOKUP('Centralisation des données'!A112,'Centralisation des données'!G:H,2,0) -> 44.44444 | G112: =VLOOKUP('Données de travail'!A112,'Centralisation des données'!K:L,2,0) -> user
A113: ='Centralisation des données'!A:A -> {2C7DDEFC-C4F5-42AA-9AD7-E7F1764B28BF} | B113: ='Centralisation des données'!B:B -> Linu usit | C113: 3026 | D113: =VLOOKUP('Centralisation des données'!A113,'Centralisation des données'!I:J,2,0) -> 43234.505 | E113: =VLOOKUP('Centralisation des données'!A113,'Centralisation des données'!E:F,2,0) -> #N/A | F113: =VLOOKUP('Centralisation des données'!A113,'Centralisation des données'!G:H,2,0) -> 44.44444 | G113: =VLOOKUP('Données de travail'!A113,'Centralisation des données'!K:L,2,0) -> user
A114: ='Centralisation des données'!A:A -> {2C7DDEFC-C4F5-42AA-9AD7-E7F1764B28BF} | B114: ='Centralisation des données'!B:B -> Musc como | C114: 3026 | D114: =VLOOKUP('Centralisation des données'!A114,'Centralisation des données'!I:J,2,0) -> 43234.505 | E114: =VLOOKUP('Centralisation des données'!A114,'Centralisation des données'!E:F,2,0) -> #N/A | F114: =VLOOKUP('Centralisation des données'!A114,'Centralisation des données'!G:H,2,0) -> 44.44444 | G114: =VLOOKUP('Données de travail'!A114,'Centralisation des données'!K:L,2,0) -> user
A115: ='Centralisation des données'!A:A -> {2C7DDEFC-C4F5-42AA-9AD7-E7F1764B28BF} | B115: ='Centralisation des données'!B:B -> Thym vulg | C115: 3026 | D115: =VLOOKUP('Centralisation des données'!A115,'Centralisation des données'!I:J,2,0) -> 43234.505 | E115: =VLOOKUP('Centralisation des données'!A115,'Centralisation des données'!E:F,2,0) -> #N/A | F115: =VLOOKUP('Centralisation des données'!A115,'Centralisation des données'!G:H,2,0) -> 44.44444 | G115: =VLOOKUP('Données de travail'!A115,'Centralisation des données'!K:L,2,0) -> user
A116: ='Centralisation des données'!A:A -> {2C7DDEFC-C4F5-42AA-9AD7-E7F1764B28BF} | B116: ='Centralisation des données'!B:B -> Poa prat | C116: 3026 | D116: =VLOOKUP('Centralisation des données'!A116,'Centralisation des données'!I:J,2,0) -> 43234.505 | E116: =VLOOKUP('Centralisation des données'!A116,'Centralisation des données'!E:F,2,0) -> #N/A | F116: =VLOOKUP('Centralisation des données'!A116,'Centralisation des données'!G:H,2,0) -> 44.44444 | G116: =VLOOKUP('Données de travail'!A116,'Centralisation des données'!K:L,2,0) -> user
A117: ='Centralisation des données'!A:A -> {2C7DDEFC-C4F5-42AA-9AD7-E7F1764B28BF} | B117: ='Centralisation des données'!B:B -> Sonc aspe | C117: 3026 | D117: =VLOOKUP('Centralisation des données'!A117,'Centralisation des données'!I:J,2,0) -> 43234.505 | E117: =VLOOKUP('Centralisation des données'!A117,'Centralisation des données'!E:F,2,0) -> #N/A | F117: =VLOOKUP('Centralisation des données'!A117,'Centralisation des données'!G:H,2,0) -> 44.44444 | G117: =VLOOKUP('Données de travail'!A117,'Centralisation des données'!K:L,2,0) -> user
A118: ='Centralisation des données'!A:A -> {2C7DDEFC-C4F5-42AA-9AD7-E7F1764B28BF} | B118: ='Centralisation des données'!B:B -> Brom ster | C118: 3026 | D118: =VLOOKUP('Centralisation des données'!A118,'Centralisation des données'!I:J,2,0) -> 43234.505 | E118: =VLOOKUP('Centralisation des données'!A118,'Centralisation des données'!E:F,2,0) -> #N/A | F118: =VLOOKUP('Centralisation des données'!A118,'Centralisation des données'!G:H,2,0) -> 44.44444 | G118: =VLOOKUP('Données de travail'!A118,'Centralisation des données'!K:L,2,0) -> user
A119: ='Centralisation des données'!A:A -> {2C7DDEFC-C4F5-42AA-9AD7-E7F1764B28BF} | B119: ='Centralisation des données'!B:B -> Loli pere | C119: 3026 | D119: =VLOOKUP('Centralisation des données'!A119,'Centralisation des données'!I:J,2,0) -> 43234.505 | E119: =VLOOKUP('Centralisation des données'!A119,'Centralisation des données'!E:F,2,0) -> #N/A | F119: =VLOOKUP('Centralisation des données'!A119,'Centralisation des données'!G:H,2,0) -> 44.44444 | G119: =VLOOKUP('Données de travail'!A119,'Centralisation des données'!K:L,2,0) -> user
A120: ='Centralisation des données'!A:A -> {2C7DDEFC-C4F5-42AA-9AD7-E7F1764B28BF} | B120: ='Centralisation des données'!B:B -> Scab atro | C120: 3026 | D120: =VLOOKUP('Centralisation des données'!A120,'Centralisation des données'!I:J,2,0) -> 43234.505 | E120: =VLOOKUP('Centralisation des données'!A120,'Centralisation des données'!E:F,2,0) -> #N/A | F120: =VLOOKUP('Centralisation des données'!A120,'Centralisation des données'!G:H,2,0) -> 44.44444 | G120: =VLOOKUP('Données de travail'!A120,'Centralisation des données'!K:L,2,0) -> user
A121: ='Centralisation des données'!A:A -> {2C7DDEFC-C4F5-42AA-9AD7-E7F1764B28BF} | B121: ='Centralisation des données'!B:B -> Gera robe | C121: 3026 | D121: =VLOOKUP('Centralisation des données'!A121,'Centralisation des données'!I:J,2,0) -> 43234.505 | E121: =VLOOKUP('Centralisation des données'!A121,'Centralisation des données'!E:F,2,0) -> #N/A | F121: =VLOOKUP('Centralisation des données'!A121,'Centralisation des données'!G:H,2,0) -> 44.44444 | G121: =VLOOKUP('Données de travail'!A121,'Centralisation des données'!K:L,2,0) -> user
A122: ='Centralisation des données'!A:A -> {2C7DDEFC-C4F5-42AA-9AD7-E7F1764B28BF} | B122: ='Centralisation des données'!B:B -> Cera pumi | C122: 3026 | D122: =VLOOKUP('Centralisation des données'!A122,'Centralisation des données'!I:J,2,0) -> 43234.505 | E122: =VLOOKUP('Centralisation des données'!A122,'Centralisation des données'!E:F,2,0) -> #N/A | F122: =VLOOKUP('Centralisation des données'!A122,'Centralisation des données'!G:H,2,0) -> 44.44444 | G122: =VLOOKUP('Données de travail'!A122,'Centralisation des données'!K:L,2,0) -> user
A123: ='Centralisation des données'!A:A -> {2C7DDEFC-C4F5-42AA-9AD7-E7F1764B28BF} | B123: ='Centralisation des données'!B:B -> Cala nepe | C123: 3026 | D123: =VLOOKUP('Centralisation des données'!A123,'Centralisation des données'!I:J,2,0) -> 43234.505 | E123: =VLOOKUP('Centralisation des données'!A123,'Centralisation des données'!E:F,2,0) -> #N/A | F123: =VLOOKUP('Centralisation des données'!A123,'Centralisation des données'!G:H,2,0) -> 44.44444 | G123: =VLOOKUP('Données de travail'!A123,'Centralisation des données'!K:L,2,0) -> user
... A196: ='Centralisation des données'!A:A -> {2C7DDEFC-C4F5-42AA-9AD7-E7F1764B28BF} | B196: ='Centralisation des données'!B:B -> 0 | C196: 3026 | D196: =VLOOKUP('Centralisation des données'!A196,'Centralisation des données'!I:J,2,0) -> 43234.505 | E196: =VLOOKUP('Centralisation des données'!A196,'Centralisation des données'!E:F,2,0) -> #N/A | F196: =VLOOKUP('Centralisation des données'!A196,'Centralisation des données'!G:H,2,0) -> 44.44444 | G196: =VLOOKUP('Données de travail'!A196,'Centralisation des données'!K:L,2,0) -> user
A197: ='Centralisation des données'!A:A -> {AD964629-CBC4-49C4-BE9C-8A4ED30E56DF} | B197: ='Centralisation des données'!B:B -> Card pycn | C197: 2973A | D197: =VLOOKUP('Centralisation des données'!A197,'Centralisation des données'!I:J,2,0) -> 43234.505 | E197: =VLOOKUP('Centralisation des données'!A197,'Centralisation des données'!E:F,2,0) -> #N/A | F197: =VLOOKUP('Centralisation des données'!A197,'Centralisation des données'!G:H,2,0) -> 44.44444 | G197: =VLOOKUP('Données de travail'!A197,'Centralisation des données'!K:L,2,0) -> user
A198: ='Centralisation des données'!A:A -> {AD964629-CBC4-49C4-BE9C-8A4ED30E56DF} | B198: ='Centralisation des données'!B:B -> Erod mala | C198: 2973A | D198: =VLOOKUP('Centralisation des données'!A198,'Centralisation des données'!I:J,2,0) -> 43234.505 | E198: =VLOOKUP('Centralisation des données'!A198,'Centralisation des données'!E:F,2,0) -> #N/A | F198: =VLOOKUP('Centralisation des données'!A198,'Centralisation des données'!G:H,2,0) -> 44.44444 | G198: =VLOOKUP('Données de travail'!A198,'Centralisation des données'!K:L,2,0) -> user
A199: ='Centralisation des données'!A:A -> {AD964629-CBC4-49C4-BE9C-8A4ED30E56DF} | B199: ='Centralisation des données'!B:B -> Papa rhoe | C199: 2973A | D199: =VLOOKUP('Centralisation des données'!A199,'Centralisation des données'!I:J,2,0) -> 43234.505 | E199: =VLOOKUP('Centralisation des données'!A199,'Centralisation des données'!E:F,2,0) -> #N/A | F199: =VLOOKUP('Centralisation des données'!A199,'Centralisation des données'!G:H,2,0) -> 44.44444 | G199: =VLOOKUP('Données de travail'!A199,'Centralisation des données'!K:L,2,0) -> user
A200: ='Centralisation des données'!A:A -> {AD964629-CBC4-49C4-BE9C-8A4ED30E56DF} | B200: ='Centralisation des données'!B:B -> Sile lati | C200: 2973A | D200: =VLOOKUP('Centralisation des données'!A200,'Centralisation des données'!I:J,2,0) -> 43234.505 | E200: =VLOOKUP('Centralisation des données'!A200,'Centralisation des données'!E:F,2,0) -> #N/A | F200: =VLOOKUP('Centralisation des données'!A200,'Centralisation des données'!G:H,2,0) -> 44.44444 | G200: =VLOOKUP('Données de travail'!A200,'Centralisation des données'!K:L,2,0) -> user
A201: ='Centralisation des données'!A:A -> {AD964629-CBC4-49C4-BE9C-8A4ED30E56DF} | B201: ='Centralisation des données'!B:B -> Aven stri | C201: 2973A | D201: =VLOOKUP('Centralisation des données'!A201,'Centralisation des données'!I:J,2,0) -> 43234.505 | E201: =VLOOKUP('Centralisation des données'!A201,'Centralisation des données'!E:F,2,0) -> #N/A | F201: =VLOOKUP('Centralisation des données'!A201,'Centralisation des données'!G:H,2,0) -> 44.44444 | G201: =VLOOKUP('Données de travail'!A201,'Centralisation des données'!K:L,2,0) -> user
A202: ='Centralisation des données'!A:A -> {AD964629-CBC4-49C4-BE9C-8A4ED30E56DF} | B202: ='Centralisation des données'!B:B -> Brom ster | C202: 2973A | D202: =VLOOKUP('Centralisation des données'!A202,'Centralisation des données'!I:J,2,0) -> 43234.505 | E202: =VLOOKUP('Centralisation des données'!A202,'Centralisation des données'!E:F,2,0) -> #N/A | F202: =VLOOKUP('Centralisation des données'!A202,'Centralisation des données'!G:H,2,0) -> 44.44444 | G202: =VLOOKUP('Données de travail'!A202,'Centralisation des données'!K:L,2,0) -> user
A203: ='Centralisation des données'!A:A -> {AD964629-CBC4-49C4-BE9C-8A4ED30E56DF} | B203: ='Centralisation des données'!B:B -> Lath cice | C203: 2973A | D203: =VLOOKUP('Centralisation des données'!A203,'Centralisation des données'!I:J,2,0) -> 43234.505 | E203: =VLOOKUP('Centralisation des données'!A203,'Centralisation des données'!E:F,2,0) -> #N/A | F203: =VLOOKUP('Centralisation des données'!A203,'Centralisation des données'!G:H,2,0) -> 44.44444 | G203: =VLOOKUP('Données de travail'!A203,'Centralisation des données'!K:L,2,0) -> user
A204: ='Centralisation des données'!A:A -> {AD964629-CBC4-49C4-BE9C-8A4ED30E56DF} | B204: ='Centralisation des données'!B:B -> Crep bien | C204: 2973A | D204: =VLOOKUP('Centralisation des données'!A204,'Centralisation des données'!I:J,2,0) -> 43234.505 | E204: =VLOOKUP('Centralisation des données'!A204,'Centralisation des données'!E:F,2,0) -> #N/A | F204: =VLOOKUP('Centralisation des données'!A204,'Centralisation des données'!G:H,2,0) -> 44.44444 | G204: =VLOOKUP('Données de travail'!A204,'Centralisation des données'!K:L,2,0) -> user
A205: ='Centralisation des données'!A:A -> {AD964629-CBC4-49C4-BE9C-8A4ED30E56DF} | B205: ='Centralisation des données'!B:B -> Crep sanc | C205: 2973A | D205: =VLOOKUP('Centralisation des données'!A205,'Centralisation des données'!I:J,2,0) -> 43234.505 | E205: =VLOOKUP('Centralisation des données'!A205,'Centralisation des données'!E:F,2,0) -> #N/A | F205: =VLOOKUP('Centralisation des données'!A205,'Centralisation des données'!G:H,2,0) -> 44.44444 | G205: =VLOOKUP('Données de travail'!A205,'Centralisation des données'!K:L,2,0) -> user
A206: ='Centralisation des données'!A:A -> {AD964629-CBC4-49C4-BE9C-8A4ED30E56DF} | B206: ='Centralisation des données'!B:B -> Cent calc | C206: 2973A | D206: =VLOOKUP('Centralisation des données'!A206,'Centralisation des données'!I:J,2,0) -> 43234.505 | E206: =VLOOKUP('Centralisation des données'!A206,'Centralisation des données'!E:F,2,0) -> #N/A | F206: =VLOOKUP('Centralisation des données'!A206,'Centralisation des données'!G:H,2,0) -> 44.44444 | G206: =VLOOKUP('Données de travail'!A206,'Centralisation des données'!K:L,2,0) -> user
A207: ='Centralisation des données'!A:A -> {AD964629-CBC4-49C4-BE9C-8A4ED30E56DF} | B207: ='Centralisation des données'!B:B -> Vero pers | C207: 2973A | D207: =VLOOKUP('Centralisation des données'!A207,'Centralisation des données'!I:J,2,0) -> 43234.505 | E207: =VLOOKUP('Centralisation des données'!A207,'Centralisation des données'!E:F,2,0) -> #N/A | F207: =VLOOKUP('Centralisation des données'!A207,'Centralisation des données'!G:H,2,0) -> 44.44444 | G207: =VLOOKUP('Données de travail'!A207,'Centralisation des données'!K:L,2,0) -> user
A208: ='Centralisation des données'!A:A -> {AD964629-CBC4-49C4-BE9C-8A4ED30E56DF} | B208: ='Centralisation des données'!B:B -> Sher arve | C208: 2973A | D208: =VLOOKUP('Centralisation des données'!A208,'Centralisation des données'!I:J,2,0) -> 43234.505 | E208: =VLOOKUP('Centralisation des données'!A208,'Centralisation des données'!E:F,2,0) -> #N/A | F208: =VLOOKUP('Centralisation des données'!A208,'Centralisation des données'!G:H,2,0) -> 44.44444 | G208: =VLOOKUP('Données de travail'!A208,'Centralisation des données'!K:L,2,0) -> user
... A252: ='Centralisation des données'!A:A -> {AD964629-CBC4-49C4-BE9C-8A4ED30E56DF} | B252: ='Centralisation des données'!B:B -> Dact glom | C252: 2973A | D252: =VLOOKUP('Centralisation des données'!A252,'Centralisation des données'!I:J,2,0) -> 43234.505 | E252: =VLOOKUP('Centralisation des données'!A252,'Centralisation des données'!E:F,2,0) -> #N/A | F252: =VLOOKUP('Centralisation des données'!A252,'Centralisation des données'!G:H,2,0) -> 44.44444 | G252: =VLOOKUP('Données de travail'!A252,'Centralisation des données'!K:L,2,0) -> user

Sheet Database complete
A1: Row Id | B1: LB_AUTEUR | C1: NOM_VERN | D1: NOM_VERN_ENG | E1: NOM_VALIDE | F1: NOM_VALIDE_MAJUSCULE | G1: NOM_COMPLET | H1: NOM_VALIDE_SIMPLE | I1: SYNONYMES | J1: HABITAT (beta) | K1: FR | L1: GF | M1: MAR | N1: GUA | O1: SM | P1: SB | Q1: SPM | R1: MAY | S1: EPA | T1: REU | U1: SA | V1: TA | W1: TAAF | X1: PF | Y1: NC | Z1: WF | AA1: CLI | AB1: REGNE | AC1: PHYLUM | AD1: CLASSE | AE1: ORDRE | AF1: FAMILLE | AG1: SOUS_FAMILLE | AH1: TRIBU | AI1: GROUP1_INPN | AJ1: GROUP2_INPN | AK1: CD_NOM | AL1: CD_TAXSUP | AM1: CD_SUP | AN1: CD_REF | AO1: RANG | AP1: Code | AQ1: CORRESPONDANCE VALIDE | AR1: Traitement
A2: 12677 | B2: (Desf.) K.Bremer & Humphries, 1993 | E2: Aaronsohnia pubescens (Desf.) K.Bremer & Humphries, 1993 | F2: AARONSOHNIA PUBESCENS (DESF.) K.BREMER & HUMPHRIES, 1993 | G2: Aaronsohnia pubescens (Desf.) K.Bremer & Humphries, 1993 | H2: Aaronsohnia pubescens | I2: Aaronsohnia pubescens (Desf.) K.Bremer & Humphries, 1993 _ Cotula pubescens Desf., 1799 | J2: 7 | K2: I | AB2: Plantae | AD2: Equisetopsida | AE2: Asterales | AF2: Asteraceae | AI2: Plantes vasculaires | AJ2: Angiospermes | AK2: 610592 | AL2: 606842 | AM2: 606842 | AN2: 610592 | AO2: ES | AP2: Aaro pube | AQ2: Aaronsohnia pubescens (Desf.) K.Bremer & Humphries, 1993 - AARONSOHNIA PUBESCENS (DESF.) K.BREMER & HUMPHRIES, 1993 | AR2: =CONCATENATE(E2," - ",F2) -> Aaronsohnia pubescens (Desf.) K.Bremer & Humphries, 1993 - AARONSOHNIA PUBESCENS (DESF.) K.BREMER & HUMPHRIES, 1993
A3: 41882 | B3: Warb. & Eig, 1927 | E3: Aaronsohnia Warb. & Eig, 1927 | F3: AARONSOHNIA WARB. & EIG, 1927 | G3: Aaronsohnia Warb. & Eig, 1927 | H3: Aaronsohnia | I3: Aaronsohnia Warb. & Eig, 1927 | K3: I | AB3: Plantae | AD3: Equisetopsida | AE3: Asterales | AF3: Asteraceae | AI3: Plantes vasculaires | AJ3: Angiospermes | AK3: 606842 | AL3: 187227 | AM3: 187227 | AN3: 606842 | AO3: GN | AP3: Aaro sp. | AQ3: Aaronsohnia Warb. & Eig, 1927 - AARONSOHNIA WARB. & EIG, 1927 | AR3: =CONCATENATE(E3," - ",F3) -> Aaronsohnia Warb. & Eig, 1927 - AARONSOHNIA WARB. & EIG, 1927
A4: 4275 | B4: Barneby & J.W.Grimes, 1996 | E4: Abarema gallorum Barneby & J.W.Grimes, 1996 | F4: ABAREMA GALLORUM BARNEBY & J.W.GRIMES, 1996 | G4: Abarema gallorum Barneby & J.W.Grimes, 1996 | H4: Abarema gallorum | I4: Abarema gallorum Barneby & J.W.Grimes, 1996 | J4: 3 | K4: A | L4: E | M4: A | N4: A | O4: A | P4: A | Q4: A | R4: A | S4: A | T4: A | U4: A | V4: A | W4: A | X4: A | Y4: A | Z4: A | AA4: A | AB4: Plantae | AD4: Equisetopsida | AE4: Fabales | AF4: Fabaceae | AG4: Caesalpinioideae | AH4: Mimoseae | AI4: Plantes vasculaires | AJ4: Angiospermes | AK4: 733813 | AL4: 628277 | AM4: 628277 | AN4: 733813 | AO4: ES | AP4: Abar gall | AQ4: Abarema gallorum Barneby & J.W.Grimes, 1996 - ABAREMA GALLORUM BARNEBY & J.W.GRIMES, 1996 | AR4: =CONCATENATE(E4," - ",F4) -> Abarema gallorum Barneby & J.W.Grimes, 1996 - ABAREMA GALLORUM BARNEBY & J.W.GRIMES, 1996
A5: 35146 | B5: R.Br., 1818 | E5: Abelia R.Br., 1818 | F5: ABELIA R.BR., 1818 | G5: Abelia R.Br., 1818 | H5: Abelia | I5: Abelia R.Br., 1818 | K5: P | AB5: Plantae | AD5: Equisetopsida | AE5: Dipsacales | AF5: Caprifoliaceae | AI5: Plantes vasculaires | AJ5: Angiospermes | AK5: 788758 | AL5: 187420 | AM5: 187420 | AN5: 788758 | AO5: GN | AP5: Abel sp. | AQ5: Abelia R.Br., 1818 - ABELIA R.BR., 1818 | AR5: =CONCATENATE(E5," - ",F5) -> Abelia R.Br., 1818 - ABELIA R.BR., 1818
A6: 21095 | B6: (Hedw.) M.Fleisch., 1922 | D6: Fir Tamarisk-moss | E6: Abietinella abietina (Hedw.) M.Fleisch., 1922 | F6: ABIETINELLA ABIETINA (HEDW.) M.FLEISCH., 1922 | G6: Abietinella abietina (Hedw.) M.Fleisch., 1922 | H6: Abietinella abietina | I6: Abietinella abietina (Hedw.) M.Fleisch., 1922 _ Hypnum abietinum L. _ Thuidium abietinum (Hedw.) Schimp., 1852 | J6: 3 | K6: P | AB6: Plantae | AD6: Equisetopsida | AE6: Hypnales | AF6: Thuidiaceae | AI6: Bryophytes | AJ6: Mousses | AK6: 5422 | AL6: 433851 | AM6: 433851 | AN6: 5422 | AO6: ES | AP6: Abie abie | AQ6: Abietinella abietina (Hedw.) M.Fleisch., 1922 - ABIETINELLA ABIETINA (HEDW.) M.FLEISCH., 1922 | AR6: =CONCATENATE(E6," - ",F6) -> Abietinella abietina (Hedw.) M.Fleisch., 1922 - ABIETINELLA ABIETINA (HEDW.) M.FLEISCH., 1922
A7: 35357 | B7: Mill., 1768 | C7: Sapin pectinÃ©, Sapin Ã feuilles d'If | D7: European Silver-fir | E7: Abies alba Mill., 1768 | F7: ABIES ALBA MILL., 1768 | G7: Abies alba Mill., 1768 | H7: Abies alba | I7: Abies alba Mill., 1768 _ Abies alba subsp. alba Mill., 1768 _ Abies pectinata (Lam.) DC., 1805 _ Picea pectinata (Lam.) J.W.Loudon, 1838 | J7: 3 | K7: P | AB7: Plantae | AD7: Equisetopsida | AE7: Pinales | AF7: Pinaceae | AI7: Plantes vasculaires | AJ7: Gymnospermes | AK7: 79319 | AL7: 188665 | AM7: 188665 | AN7: 79319 | AO7: ES | AP7: Abie alba | AQ7: Abies alba Mill., 1768 - ABIES ALBA MILL., 1768 | AR7: =CONCATENATE(E7," - ",F7) -> Abies alba Mill., 1768 - ABIES ALBA MILL., 1768
A8: 13494 | B8: J.Forbes | E8: Abies amabilis J.Forbes | F8: ABIES AMABILIS J.FORBES | G8: Abies amabilis J.Forbes | H8: Abies amabilis | I8: Abies amabilis J.Forbes | J8: 7 | K8: M | AB8: Plantae | AD8: Equisetopsida | AE8: Pinales | AF8: Pinaceae | AI8: Plantes vasculaires | AJ8: Gymnospermes | AK8: 717018 | AL8: 188665 | AM8: 188665 | AN8: 717018 | AO8: ES | AP8: Abie amab | AQ8: Abies amabilis J.Forbes - ABIES AMABILIS J.FORBES | AR8: =CONCATENATE(E8," - ",F8) -> Abies amabilis J.Forbes - ABIES AMABILIS J.FORBES
A9: 21210 | B9: (L.) Mill., 1768 | C9: Sapin baumier | E9: Abies balsamea (L.) Mill., 1768 | F9: ABIES BALSAMEA (L.) MILL., 1768 | G9: Abies balsamea (L.) Mill., 1768 | H9: Abies balsamea | I9: Abies balsamea (L.) Mill., 1768 _ Abies balsamea subsp. phanerolepis (Fernald) A.E.Murray, 1982 _ Abies balsamea var. phanerolepis Fernald, 1909 _ Abies fraseri (Pursh) Poir., 1817 _ Abies hudsonia Bosc ex Jacques, 1829 _ Abies x phanerolepis (Fernald) T.S.Liu _ Pinus balsamea L., 1753 | J9: 3 | K9: M | Q9: P | AB9: Plantae | AD9: Equisetopsida | AE9: Pinales | AF9: Pinaceae | AI9: Plantes vasculaires | AJ9: Gymnospermes | AK9: 717022 | AL9: 188665 | AM9: 188665 | AN9: 717022 | AO9: ES | AP9: Abie bals | AQ9: Abies balsamea (L.) Mill., 1768 - ABIES BALSAMEA (L.) MILL., 1768 | AR9: =CONCATENATE(E9," - ",F9) -> Abies balsamea (L.) Mill., 1768 - ABIES BALSAMEA (L.) MILL., 1768
A10: 45501 | B10: Mattf., 1925 | C10: Sapin de Turquie | E10: Abies bornmuelleriana Mattf., 1925 | F10: ABIES BORNMUELLERIANA MATTF., 1925 | G10: Abies bornmuelleriana Mattf., 1925 | H10: Abies bornmuelleriana | I10: Abies bornmuelleriana Mattf., 1925 _ Abies equi-trojani (Asch. & Sint. ex Boiss.) Mattf., 1925 _ Abies nordmanniana subsp. bornmuelleriana (Mattf.) Coode & Cullen, 1965 _ Abies nordmanniana subsp. equi-trojani (Asch. & Sint. ex Boiss.) Coode & Cullen, 1965 _ Abies pectinata var. equi-trojani Asch. & Sint. ex Boiss., 1864 | J10: 3 | K10: M | AB10: Plantae | AD10: Equisetopsida | AE10: Pinales | AF10: Pinaceae | AI10: Plantes vasculaires | AJ10: Gymnospermes | AK10: 79323 | AL10: 188665 | AM10: 188665 | AN10: 79323 | AO10: ES | AP10: Abie born | AQ10: Abies bornmuelleriana Mattf., 1925 - ABIES BORNMUELLERIANA MATTF., 1925 | AR10: =CONCATENATE(E10," - ",F10) -> Abies bornmuelleriana Mattf., 1925 - ABIES BORNMUELLERIANA MATTF., 1925
A11: 43069 | B11: (D.Don) Poit., 1845 | E11: Abies bracteata (D.Don) Poit., 1845 | F11: ABIES BRACTEATA (D.DON) POIT., 1845 | G11: Abies bracteata (D.Don) Poit., 1845 | H11: Abies bracteata | I11: Abies bracteata (D.Don) Poit., 1845 _ Pinus bracteata D.Don, 1836 | J11: 7 | K11: M | AB11: Plantae | AD11: Equisetopsida | AE11: Pinales | AF11: Pinaceae | AI11: Plantes vasculaires | AJ11: Gymnospermes | AK11: 717023 | AL11: 188665 | AM11: 188665 | AN11: 717023 | AO11: ES | AP11: Abie brac | AQ11: Abies bracteata (D.Don) Poit., 1845 - ABIES BRACTEATA (D.DON) POIT., 1845 | AR11: =CONCATENATE(E11," - ",F11) -> Abies bracteata (D.Don) Poit., 1845 - ABIES BRACTEATA (D.DON) POIT., 1845
A12: 2628 | B12: Loudon, 1838 | C12: Sapin de CÃ©phalonie | D12: Greek Fir | E12: Abies cephalonica Loudon, 1838 | F12: ABIES CEPHALONICA LOUDON, 1838 | G12: Abies cephalonica Loudon, 1838 | H12: Abies cephalonica | I12: Abies cephalonica Loudon, 1838 _ Abies alba subsp. cephalonica (J.W.Loudon) K.Richt., 1890 _ Abies apollinis Link, 1841 _ Abies kukunaria Wender., 1831 | J12: 3 | K12: I | AB12: Plantae | AD12: Equisetopsida | AE12: Pinales | AF12: Pinaceae | AI12: Plantes vasculaires | AJ12: Gymnospermes | AK12: 79325 | AL12: 188665 | AM12: 188665 | AN12: 79325 | AO12: ES | AP12: Abie ceph | AQ12: Abies cephalonica Loudon, 1838 - ABIES CEPHALONICA LOUDON, 1838 | AR12: =CONCATENATE(E12," - ",F12) -> Abies cephalonica Loudon, 1838 - ABIES CEPHALONICA LOUDON, 1838
A13: 3936 | B13: Tiegh., 1892 | E13: Abies chensiensis Tiegh., 1892 | F13: ABIES CHENSIENSIS TIEGH., 1892 | G13: Abies chensiensis Tiegh., 1892 | H13: Abies chensiensis | I13: Abies chensiensis Tiegh., 1892 | J13: 7 | K13: M | AB13: Plantae | AD13: Equisetopsida | AE13: Pinales | AF13: Pinaceae | AI13: Plantes vasculaires | AJ13: Gymnospermes | AK13: 717024 | AL13: 188665 | AM13: 188665 | AN13: 717024 | AO13: ES | AP13: Abie chen | AQ13: Abies chensiensis Tiegh., 1892 - ABIES CHENSIENSIS TIEGH., 1892 | AR13: =CONCATENATE(E13," - ",F13) -> Abies chensiensis Tiegh., 1892 - ABIES CHENSIENSIS TIEGH., 1892
A14: 18097 | B14: (Antoine & Kotschy) CarriÃ¨re, 1855 | E14: Abies cilicica (Antoine & Kotschy) CarriÃ¨re, 1855 | F14: ABIES CILICICA (ANTOINE & KOTSCHY) CARRIÃ¨RE, 1855 | G14: Abies cilicica (Antoine & Kotschy) CarriÃ¨re, 1855 | H14: Abies cilicica | I14: Abies cilicica (Antoine & Kotschy) CarriÃ¨re, 1855 _ Pinus cilicica Antoine & Kotschy, 1853 | J14: 3 | K14: M | AB14: Plantae | AD14: Equisetopsida | AE14: Pinales | AF14: Pinaceae | AI14: Plantes vasculaires | AJ14: Gymnospermes | AK14: 717025 | AL14: 188665 | AM14: 188665 | AN14: 717025 | AO14: ES | AP14: Abie cili | AQ14: Abies cilicica (Antoine & Kotschy) CarriÃ¨re, 1855 - ABIES CILICICA (ANTOINE & KOTSCHY) CARRIÃ¨RE, 1855 | AR14: =CONCATENATE(E14," - ",F14) -> Abies cilicica (Antoine & Kotschy) CarriÃ¨re, 1855 - ABIES CILICICA (ANTOINE & KOTSCHY) CARRIÃ¨RE, 1855
A15: 7338 | B15: (Gordon & Glend.) Lindl. ex Hildebr., 1861 | C15: Sapin du Colorado | D15: Colorado White-fir | E15: Abies concolor (Gordon & Glend.) Lindl. ex Hildebr., 1861 | F15: ABIES CONCOLOR (GORDON & GLEND.) LINDL. EX HILDEBR., 1861 | G15: Abies concolor (Gordon & Glend.) Lindl. ex Hildebr., 1861 | H15: Abies concolor | I15: Abies concolor (Gordon & Glend.) Lindl. ex Hildebr., 1861 _ Abies concolor var. concolor (Gordon & Glend.) Lindl. ex Hildebrandt, 1861 _ Picea concolor Gordon & Glend., 1858 | J15: 3 | K15: M | AB15: Plantae | AD15: Equisetopsida | AE15: Pinales | AF15: Pinaceae | AI15: Plantes vasculaires | AJ15: Gymnospermes | AK15: 79327 | AL15: 188665 | AM15: 188665 | AN15: 79327 | AO15: ES | AP15: Abie conc | AQ15: Abies concolor (Gordon & Glend.) Lindl. ex Hildebr., 1861 - ABIES CONCOLOR (GORDON & GLEND.) LINDL. EX HILDEBR., 1861 | AR15: =CONCATENATE(E15," - ",F15) -> Abies concolor (Gordon & Glend.) Lindl. ex Hildebr., 1861 - ABIES CONCOLOR (GORDON & GLEND.) LINDL. EX HILDEBR., 1861
A16: 7581 | B16: Franch., 1899 | E16: Abies delavayi Franch., 1899 | F16: ABIES DELAVAYI FRANCH., 1899 | G16: Abies delavayi Franch., 1899 | H16: Abies delavayi | I16: Abies delavayi Franch., 1899 | J16: 7 | K16: M | AB16: Plantae | AD16: Equisetopsida | AE16: Pinales | AF16: Pinaceae | AI16: Plantes vasculaires | AJ16: Gymnospermes | AK16: 717026 | AL16: 188665 | AM16: 188665 | AN16: 717026 | AO16: ES | AP16: Abie dela | AQ16: Abies delavayi Franch., 1899 - ABIES DELAVAYI FRANCH., 1899 | AR16: =CONCATENATE(E16," - ",F16) -> Abies delavayi Franch., 1899 - ABIES DELAVAYI FRANCH., 1899
A17: 36089 | B17: Rehder, 1939 | E17: Abies ernestii Rehder, 1939 | F17: ABIES ERNESTII REHDER, 1939 | G17: Abies ernestii Rehder, 1939 | H17: Abies ernestii | I17: Abies ernestii Rehder, 1939 | J17: 7 | K17: M | AB17: Plantae | AD17: Equisetopsida | AE17: Pinales | AF17: Pinaceae | AI17: Plantes vasculaires | AJ17: Gymnospermes | AK17: 717027 | AL17: 188665 | AM17: 188665 | AN17: 717027 | AO17: ES | AP17: Abie erne | AQ17: Abies ernestii Rehder, 1939 - ABIES ERNESTII REHDER, 1939 | AR17: =CONCATENATE(E17," - ",F17) -> Abies ernestii Rehder, 1939 - ABIES ERNESTII REHDER, 1939
A18: 31617 | B18: (Mast.) Craib, 1920 | E18: Abies fabri (Mast.) Craib, 1920 | F18: ABIES FABRI (MAST.) CRAIB, 1920 | G18: Abies fabri (Mast.) Craib, 1920 | H18: Abies fabri | I18: Abies fabri (Mast.) Craib, 1920 | J18: 7 | K18: M | AB18: Plantae | AD18: Equisetopsida | AE18: Pinales | AF18: Pinaceae | AI18: Plantes vasculaires | AJ18: Gymnospermes | AK18: 717028 | AL18: 188665 | AM18: 188665 | AN18: 717028 | AO18: ES | AP18: Abie fabr | AQ18: Abies fabri (Mast.) Craib, 1920 - ABIES FABRI (MAST.) CRAIB, 1920 | AR18: =CONCATENATE(E18," - ",F18) -> Abies fabri (Mast.) Craib, 1920 - ABIES FABRI (MAST.) CRAIB, 1920
A19: 37534 | B19: Siebold & Zucc., 1842 | E19: Abies firma Siebold & Zucc., 1842 | F19: ABIES FIRMA SIEBOLD & ZUCC., 1842 | G19: Abies firma Siebold & Zucc., 1842 | H19: Abies firma | I19: Abies firma Siebold & Zucc., 1842 | J19: 7 | K19: M | AB19: Plantae | AD19: Equisetopsida | AE19: Pinales | AF19: Pinaceae | AI19: Plantes vasculaires | AJ19: Gymnospermes | AK19: 717029 | AL19: 188665 | AM19: 188665 | AN19: 717029 | AO19: ES | AP19: Abie firm | AQ19: Abies firma Siebold & Zucc., 1842 - ABIES FIRMA SIEBOLD & ZUCC., 1842 | AR19: =CONCATENATE(E19," - ",F19) -> Abies firma Siebold & Zucc., 1842 - ABIES FIRMA SIEBOLD & ZUCC., 1842
A20: 15447 | B20: Coltm.-Rog., 1919 | E20: Abies forrestii Coltm.-Rog., 1919 | F20: ABIES FORRESTII COLTM.-ROG., 1919 | G20: Abies forrestii Coltm.-Rog., 1919 | H20: Abies forrestii | I20: Abies forrestii Coltm.-Rog., 1919 | J20: 7 | K20: M | AB20: Plantae | AD20: Equisetopsida | AE20: Pinales | AF20: Pinaceae | AI20: Plantes vasculaires | AJ20: Gymnospermes | AK20: 717030 | AL20: 188665 | AM20: 188665 | AN20: 717030 | AO20: ES | AP20: Abie forr | AQ20: Abies forrestii Coltm.-Rog., 1919 - ABIES FORRESTII COLTM.-ROG., 1919 | AR20: =CONCATENATE(E20," - ",F20) -> Abies forrestii Coltm.-Rog., 1919 - ABIES FORRESTII COLTM.-ROG., 1919
A21: 42129 | B21: Orr, 1933 | E21: Abies georgei Orr, 1933 | F21: ABIES GEORGEI ORR, 1933 | G21: Abies georgei Orr, 1933 | H21: Abies georgei | I21: Abies georgei Orr, 1933 | J21: 7 | K21: M | AB21: Plantae | AD21: Equisetopsida | AE21: Pinales | AF21: Pinaceae | AI21: Plantes vasculaires | AJ21: Gymnospermes | AK21: 717031 | AL21: 188665 | AM21: 188665 | AN21: 717031 | AO21: ES | AP21: Abie geor | AQ21: Abies georgei Orr, 1933 - ABIES GEORGEI ORR, 1933 | AR21: =CONCATENATE(E21," - ",F21) -> Abies georgei Orr, 1933 - ABIES GEORGEI ORR, 1933
A22: 7749 | B22: (Douglas ex D.Don) Lindl., 1833 | C22: Sapin de Vancouver, Sapin de l'OrÃ©gon | D22: Giant Fir | E22: Abies grandis (Douglas ex D.Don) Lindl., 1833 | F22: ABIES GRANDIS (DOUGLAS EX D.DON) LINDL., 1833 | G22: Abies grandis (Douglas ex D.Don) Lindl., 1833 | H22: Abies grandis | I22: Abies grandis (Douglas ex D.Don) Lindl., 1833 _ Abies gordoniana CarriÃ¨re, 1867 _ Picea grandis (Douglas ex D.Don) J.W.Loudon, 1838 _ Pinus grandis Douglas ex D.Don, 1832 | J22: 3 | K22: I | AB22: Plantae | AD22: Equisetopsida | AE22: Pinales | AF22: Pinaceae | AI22: Plantes vasculaires | AJ22: Gymnospermes | AK22: 79333 | AL22: 188665 | AM22: 188665 | AN22: 79333 | AO22: ES | AP22: Abie gran | AQ22: Abies grandis (Douglas ex D.Don) Lindl., 1833 - ABIES GRANDIS (DOUGLAS EX D.DON) LINDL., 1833 | AR22: =CONCATENATE(E22," - ",F22) -> Abies grandis (Douglas ex D.Don) Lindl., 1833 - ABIES GRANDIS (DOUGLAS EX D.DON) LINDL., 1833
A23: 45543 | B23: Maxim., 1866 | E23: Abies holophylla Maxim., 1866 | F23: ABIES HOLOPHYLLA MAXIM., 1866 | G23: Abies holophylla Maxim., 1866 | H23: Abies holophylla | I23: Abies holophylla Maxim., 1866 | J23: 7 | K23: M | AB23: Plantae | AD23: Equisetopsida | AE23: Pinales | AF23: Pinaceae | AI23: Plantes vasculaires | AJ23: Gymnospermes | AK23: 717033 | AL23: 188665 | AM23: 188665 | AN23: 717033 | AO23: ES | AP23: Abie holo | AQ23: Abies holophylla Maxim., 1866 - ABIES HOLOPHYLLA MAXIM., 1866 | AR23: =CONCATENATE(E23," - ",F23) -> Abies holophylla Maxim., 1866 - ABIES HOLOPHYLLA MAXIM., 1866
A24: 32701 | B24: (Hayata) T.ItÃ´ | E24: Abies kawakamii (Hayata) T.ItÃ´ | F24: ABIES KAWAKAMII (HAYATA) T.ITÃ´ | G24: Abies kawakamii (Hayata) T.ItÃ´ | H24: Abies kawakamii | I24: Abies kawakamii (Hayata) T.ItÃ´ _ Abies mariesii var. kawakamii Hayata, 1908 | J24: 7 | K24: M | AB24: Plantae | AD24: Equisetopsida | AE24: Pinales | AF24: Pinaceae | AI24: Plantes vasculaires | AJ24: Gymnospermes | AK24: 717034 | AL24: 188665 | AM24: 188665 | AN24: 717034 | AO24: ES | AP24: Abie kawa | AQ24: Abies kawakamii (Hayata) T.ItÃ´ - ABIES KAWAKAMII (HAYATA) T.ITÃ´ | AR24: =CONCATENATE(E24," - ",F24) -> Abies kawakamii (Hayata) T.ItÃ´ - ABIES KAWAKAMII (HAYATA) T.ITÃ´
A25: 18690 | B25: E.H.Wilson, 1920 | E25: Abies koreana E.H.Wilson, 1920 | F25: ABIES KOREANA E.H.WILSON, 1920 | G25: Abies koreana E.H.Wilson, 1920 | H25: Abies koreana | I25: Abies koreana E.H.Wilson, 1920 | J25: 7 | K25: M | AB25: Plantae | AD25: Equisetopsida | AE25: Pinales | AF25: Pinaceae | AI25: Plantes vasculaires | AJ25: Gymnospermes | AK25: 717035 | AL25: 188665 | AM25: 188665 | AN25: 717035 | AO25: ES | AP25: Abie kore | AQ25: Abies koreana E.H.Wilson, 1920 - ABIES KOREANA E.H.WILSON, 1920 | AR25: =CONCATENATE(E25," - ",F25) -> Abies koreana E.H.Wilson, 1920 - ABIES KOREANA E.H.WILSON, 1920
A26: 21801 | B26: (Hook.) Nutt., 1849 | E26: Abies lasiocarpa (Hook.) Nutt., 1849 | F26: ABIES LASIOCARPA (HOOK.) NUTT., 1849 | G26: Abies lasiocarpa (Hook.) Nutt., 1849 | H26: Abies lasiocarpa | I26: Abies lasiocarpa (Hook.) Nutt., 1849 _ Pinus lasiocarpa Hook., 1838 | J26: 7 | K26: M | AB26: Plantae | AD26: Equisetopsida | AE26: Pinales | AF26: Pinaceae | AI26: Plantes vasculaires | AJ26: Gymnospermes | AK26: 717036 | AL26: 188665 | AM26: 188665 | AN26: 717036 | AO26: ES | AP26: Abie lasi | AQ26: Abies lasiocarpa (Hook.) Nutt., 1849 - ABIES LASIOCARPA (HOOK.) NUTT., 1849 | AR26: =CONCATENATE(E26," - ",F26) -> Abies lasiocarpa (Hook.) Nutt., 1849 - ABIES LASIOCARPA (HOOK.) NUTT., 1849
A27: 23831 | B27: (Gordon) A.Murray, 1863 | E27: Abies lowiana (Gordon) A.Murray, 1863 | F27: ABIES LOWIANA (GORDON) A.MURRAY, 1863 | G27: Abies lowiana (Gordon) A.Murray, 1863 | H27: Abies lowiana | I27: Abies lowiana (Gordon) A.Murray, 1863 _ Abies concolor var. lowiana (Gordon) Lemmon, 1895 _ Picea lowiana Gordon, 1862 | J27: 7 | K27: M | AB27: Plantae | AD27: Equisetopsida | AE27: Pinales | AF27: Pinaceae | AI27: Plantes vasculaires | AJ27: Gymnospermes | AK27: 159901 | AL27: 188665 | AM27: 188665 | AN27: 159901 | AO27: ES | AP27: Abie lowi | AQ27: Abies lowiana (Gordon) A.Murray, 1863 - ABIES LOWIANA (GORDON) A.MURRAY, 1863 | AR27: =CONCATENATE(E27," - ",F27) -> Abies lowiana (Gordon) A.Murray, 1863 - ABIES LOWIANA (GORDON) A.MURRAY, 1863 | AS27: =SI(NB.SI(Database!$E$2:$E$144304
A28: 35565 | B28: A.Murray, 1863 | E28: Abies magnifica A.Murray, 1863 | F28: ABIES MAGNIFICA A.MURRAY, 1863 | G28: Abies magnifica A.Murray, 1863 | H28: Abies magnifica | I28: Abies magnifica A.Murray, 1863 | J28: 7 | K28: M | AB28: Plantae | AD28: Equisetopsida | AE28: Pinales | AF28: Pinaceae | AI28: Plantes vasculaires | AJ28: Gymnospermes | AK28: 717037 | AL28: 188665 | AM28: 188665 | AN28: 717037 | AO28: ES | AP28: Abie magn | AQ28: Abies magnifica A.Murray, 1863 - ABIES MAGNIFICA A.MURRAY, 1863 | AR28: =CONCATENATE(E28," - ",F28) -> Abies magnifica A.Murray, 1863 - ABIES MAGNIFICA A.MURRAY, 1863
A29: 40262 | B29: (Lojac.) Mattei, 1908 | E29: Abies nebrodensis (Lojac.) Mattei, 1908 | F29: ABIES NEBRODENSIS (LOJAC.) MATTEI, 1908 | G29: Abies nebrodensis (Lojac.) Mattei, 1908 | H29: Abies nebrodensis | I29: Abies nebrodensis (Lojac.) Mattei, 1908 _ Abies pectinata var. nebrodensis Lojac., 1907 | J29: 7 | K29: M | AB29: Plantae | AD29: Equisetopsida | AE29: Pinales | AF29: Pinaceae | AI29: Plantes vasculaires | AJ29: Gymnospermes | AK29: 717038 | AL29: 188665 | AM29: 188665 | AN29: 717038 | AO29: ES | AP29: Abie nebr | AQ29: Abies nebrodensis (Lojac.) Mattei, 1908 - ABIES NEBRODENSIS (LOJAC.) MATTEI, 1908 | AR29: =CONCATENATE(E29," - ",F29) -> Abies nebrodensis (Lojac.) Mattei, 1908 - ABIES NEBRODENSIS (LOJAC.) MATTEI, 1908
A30: 8772 | B30: (Steven) Spach, 1841 | C30: Sapin de Nordmann, Sapin du Caucase, Sapin de CrimÃ©e | D30: Caucasian Fir | E30: Abies nordmanniana (Steven) Spach, 1841 | F30: ABIES NORDMANNIANA (STEVEN) SPACH, 1841 | G30: Abies nordmanniana (Steven) Spach, 1841 | H30: Abies nordmanniana | I30: Abies nordmanniana (Steven) Spach, 1841 _ Abies nordmanniana subsp. nordmanniana (Steven) Spach, 1841 _ Picea nordmanniana (Steven) J.W.Loudon, 1838 _ Pinus nordmanniana Steven, 1838 | J30: 3 | K30: I | AB30: Plantae | AD30: Equisetopsida | AE30: Pinales | AF30: Pinaceae | AI30: Plantes vasculaires | AJ30: Gymnospermes | AK30: 79345 | AL30: 188665 | AM30: 188665 | AN30: 79345 | AO30: ES | AP30: Abie nord | AQ30: Abies nordmanniana (Steven) Spach, 1841 - ABIES NORDMANNIANA (STEVEN) SPACH, 1841 | AR30: =CONCATENATE(E30," - ",F30) -> Abies nordmanniana (Steven) Spach, 1841 - ABIES NORDMANNIANA (STEVEN) SPACH, 1841
A31: 37343 | B31: Lannoy ex CarriÃ¨re, 1866 | E31: Abies numidica Lannoy ex CarriÃ¨re, 1866 | F31: ABIES NUMIDICA LANNOY EX CARRIÃ¨RE, 1866 | G31: Abies numidica Lannoy ex CarriÃ¨re, 1866 | H31: Abies numidica | I31: Abies numidica Lannoy ex CarriÃ¨re, 1866 | J31: 3 | K31: I | AB31: Plantae | AD31: Equisetopsida | AE31: Pinales | AF31: Pinaceae | AI31: Plantes vasculaires | AJ31: Gymnospermes | AK31: 717039 | AL31: 188665 | AM31: 188665 | AN31: 717039 | AO31: ES | AP31: Abie numi | AQ31: Abies numidica Lannoy ex CarriÃ¨re, 1866 - ABIES NUMIDICA LANNOY EX CARRIÃ¨RE, 1866 | AR31: =CONCATENATE(E31," - ",F31) -> Abies numidica Lannoy ex CarriÃ¨re, 1866 - ABIES NUMIDICA LANNOY EX CARRIÃ¨RE, 1866
A32: 14491 | B32: Gaussen, 1929 | C32: Sapin de PardÃ© | E32: Abies pardei Gaussen, 1929 | F32: ABIES PARDEI GAUSSEN, 1929 | G32: Abies pardei Gaussen, 1929 | H32: Abies pardei | I32: Abies pardei Gaussen, 1929 | J32: 7 | K32: M | AB32: Plantae | AD32: Equisetopsida | AE32: Pinales | AF32: Pinaceae | AI32: Plantes vasculaires | AJ32: Gymnospermes | AK32: 79346 | AL32: 188665 | AM32: 188665 | AN32: 79346 | AO32: ES | AP32: Abie pard | AQ32: Abies pardei Gaussen, 1929 - ABIES PARDEI GAUSSEN, 1929 | AR32: =CONCATENATE(E32," - ",F32) -> Abies pardei Gaussen, 1929 - ABIES PARDEI GAUSSEN, 1929
A33: 40379 | B33: (Royle ex D.Don) Royle, 1836 | E33: Abies pindrow (Royle ex D.Don) Royle, 1836 | F33: ABIES PINDROW (ROYLE EX D.DON) ROYLE, 1836 | G33: Abies pindrow (Royle ex D.Don) Royle, 1836 | H33: Abies pindrow | I33: Abies pindrow (Royle ex D.Don) Royle, 1836 _ Pinus pindrow Royle ex D.Don, 1836 | J33: 7 | K33: M | AB33: Plantae | AD33: Equisetopsida | AE33: Pinales | AF33: Pinaceae | AI33: Plantes vasculaires | AJ33: Gymnospermes | AK33: 717040 | AL33: 188665 | AM33: 188665 | AN33: 717040 | AO33: ES | AP33: Abie pind | AQ33: Abies pindrow (Royle ex D.Don) Royle, 1836 - ABIES PINDROW (ROYLE EX D.DON) ROYLE, 1836 | AR33: =CONCATENATE(E33," - ",F33) -> Abies pindrow (Royle ex D.Don) Royle, 1836 - ABIES PINDROW (ROYLE EX D.DON) ROYLE, 1836
A34: 37576 | B34: Boiss., 1838 | C34: Sapin d'Espagne | D34: Spanish Fir | E34: Abies pinsapo Boiss., 1838 | F34: ABIES PINSAPO BOISS., 1838 | G34: Abies pinsapo Boiss., 1838 | H34: Abies pinsapo | I34: Abies pinsapo Boiss., 1838 _ Abies hispanica Chambray, 1845 | J34: 3 | K34: M | AB34: Plantae | AD34: Equisetopsida | AE34: Pinales | AF34: Pinaceae | AI34: Plantes vasculaires | AJ34: Gymnospermes | AK34: 79349 | AL34: 188665 | AM34: 188665 | AN34: 79349 | AO34: ES | AP34: Abie pins | AQ34: Abies pinsapo Boiss., 1838 - ABIES PINSAPO BOISS., 1838 | AR34: =CONCATENATE(E34," - ",F34) -> Abies pinsapo Boiss., 1838 - ABIES PINSAPO BOISS., 1838
A35: 26895 | B35: Rehder, 1949 | D35: Noble Fir | E35: Abies procera Rehder, 1949 | F35: ABIES PROCERA REHDER, 1949 | G35: Abies procera Rehder, 1949 | H35: Abies procera | I35: Abies procera Rehder, 1949 _ Abies nobilis (Douglas ex Lamb.) Lindl., 1833 _ Pinus nobilis Douglas ex Lamb., 1832 | J35: 3 | K35: M | AB35: Plantae | AD35: Equisetopsida | AE35: Pinales | AF35: Pinaceae | AI35: Plantes vasculaires | AJ35: Gymnospermes | AK35: 79350 | AL35: 188665 | AM35: 188665 | AN35: 79350 | AO35: ES | AP35: Abie proc | AQ35: Abies procera Rehder, 1949 - ABIES PROCERA REHDER, 1949 | AR35: =CONCATENATE(E35," - ",F35) -> Abies procera Rehder, 1949 - ABIES PROCERA REHDER, 1949
A36: 7114 | B36: Mast., 1906 | E36: Abies recurvata Mast., 1906 | F36: ABIES RECURVATA MAST., 1906 | G36: Abies recurvata Mast., 1906 | H36: Abies recurvata | I36: Abies recurvata Mast., 1906 | J36: 7 | K36: M | AB36: Plantae | AD36: Equisetopsida | AE36: Pinales | AF36: Pinaceae | AI36: Plantes vasculaires | AJ36: Gymnospermes | AK36: 717041 | AL36: 188665 | AM36: 188665 | AN36: 717041 | AO36: ES | AP36: Abie recu | AQ36: Abies recurvata Mast., 1906 - ABIES RECURVATA MAST., 1906 | AR36: =CONCATENATE(E36," - ",F36) -> Abies recurvata Mast., 1906 - ABIES RECURVATA MAST., 1906
A37: 12313 | B37: Ledeb., 1833 | E37: Abies sibirica Ledeb., 1833 | F37: ABIES SIBIRICA LEDEB., 1833 | G37: Abies sibirica Ledeb., 1833 | H37: Abies sibirica | I37: Abies sibirica Ledeb., 1833 | J37: 7 | K37: M | AB37: Plantae | AD37: Equisetopsida | AE37: Pinales | AF37: Pinaceae | AI37: Plantes vasculaires | AJ37: Gymnospermes | AK37: 717042 | AL37: 188665 | AM37: 188665 | AN37: 717042 | AO37: ES | AP37: Abie sibi | AQ37: Abies sibirica Ledeb., 1833 - ABIES SIBIRICA LEDEB., 1833 | AR37: =CONCATENATE(E37," - ",F37) -> Abies sibirica Ledeb., 1833 - ABIES SIBIRICA LEDEB., 1833
A38: 46027 | B38: Mill., 1754 | C38: Sapins | D38: firs | E38: Abies Mill., 1754 | F38: ABIES MILL., 1754 | G38: Abies Mill., 1754 | H38: Abies | I38: Abies Mill., 1754 | K38: P | Q38: P | AB38: Plantae | AD38: Equisetopsida | AE38: Pinales | AF38: Pinaceae | AI38: Plantes vasculaires | AJ38: Gymnospermes | AK38: 188665 | AL38: 187213 | AM38: 187213 | AN38: 188665 | AO38: GN | AP38: Abie sp. | AQ38: Abies Mill., 1754 - ABIES MILL., 1754 | AR38: =CONCATENATE(E38," - ",F38) -> Abies Mill., 1754 - ABIES MILL., 1754
A39: 21783 | B39: MÃ¼ll.Hal. | E39: Abietinella MÃ¼ll.Hal. | F39: ABIETINELLA MÃ¼LL.HAL. | G39: Abietinella MÃ¼ll.Hal. | H39: Abietinella | I39: Abietinella MÃ¼ll.Hal. | J39: 3 | K39: P | AB39: Plantae | AD39: Equisetopsida | AE39: Hypnales | AF39: Thuidiaceae | AI39: Bryophytes | AJ39: Mousses | AK39: 433851 | AL39: 187161 | AM39: 187161 | AN39: 433851 | AO39: GN | AP39: Abie sp. | AQ39: Abietinella MÃ¼ll.Hal. - ABIETINELLA MÃ¼LL.HAL. | AR39: =CONCATENATE(E39," - ",F39) -> Abietinella MÃ¼ll.Hal. - ABIETINELLA MÃ¼LL.HAL.
A40: 29057 | B40: (D.Don) Spach, 1841 | E40: Abies spectabilis (D.Don) Spach, 1841 | F40: ABIES SPECTABILIS (D.DON) SPACH, 1841 | G40: Abies spectabilis (D.Don) Spach, 1841 | H40: Abies spectabilis | I40: Abies spectabilis (D.Don) Spach, 1841 _ Pinus spectabilis D.Don, 1825 | J40: 7 | K40: M | AB40: Plantae | AD40: Equisetopsida | AE40: Pinales | AF40: Pinaceae | AI40: Plantes vasculaires | AJ40: Gymnospermes | AK40: 717043 | AL40: 188665 | AM40: 188665 | AN40: 717043 | AO40: ES | AP40: Abie spec | AQ40: Abies spectabilis (D.Don) Spach, 1841 - ABIES SPECTABILIS (D.DON) SPACH, 1841 | AR40: =CONCATENATE(E40," - ",F40) -> Abies spectabilis (D.Don) Spach, 1841 - ABIES SPECTABILIS (D.DON) SPACH, 1841
A41: 15816 | B41: Mast., 1906 | E41: Abies squamata Mast., 1906 | F41: ABIES SQUAMATA MAST., 1906 | G41: Abies squamata Mast., 1906 | H41: Abies squamata | I41: Abies squamata Mast., 1906 | J41: 7 | K41: M | AB41: Plantae | AD41: Equisetopsida | AE41: Pinales | AF41: Pinaceae | AI41: Plantes vasculaires | AJ41: Gymnospermes | AK41: 717044 | AL41: 188665 | AM41: 188665 | AN41: 717044 | AO41: ES | AP41: Abie squa | AQ41: Abies squamata Mast., 1906 - ABIES SQUAMATA MAST., 1906 | AR41: =CONCATENATE(E41," - ",F41) -> Abies squamata Mast., 1906 - ABIES SQUAMATA MAST., 1906
A42: 21008 | B42: Lindl., 1861 | E42: Abies veitchii Lindl., 1861 | F42: ABIES VEITCHII LINDL., 1861 | G42: Abies veitchii Lindl., 1861 | H42: Abies veitchii | I42: Abies veitchii Lindl., 1861 | J42: 7 | K42: M | AB42: Plantae | AD42: Equisetopsida | AE42: Pinales | AF42: Pinaceae | AI42: Plantes vasculaires | AJ42: Gymnospermes | AK42: 610720 | AL42: 188665 | AM42: 188665 | AN42: 610720 | AO42: ES | AP42: Abie veit | AQ42: Abies veitchii Lindl., 1861 - ABIES VEITCHII LINDL., 1861 | AR42: =CONCATENATE(E42," - ",F42) -> Abies veitchii Lindl., 1861 - ABIES VEITCHII LINDL., 1861
A43: 12915 | B43: (Cav.) G.Don, 1831 | E43: Abutilon exstipulare (Cav.) G.Don, 1831 | F43: ABUTILON EXSTIPULARE (CAV.) G.DON, 1831 | G43: Abutilon exstipulare (Cav.) G.Don, 1831 | H43: Abutilon exstipulare | I43: Abutilon exstipulare (Cav.) G.Don, 1831 _ Sida exstipularis Cav., 1786 | J43: 7 | K43: A | L43: A | M43: A | N43: A | O43: A | P43: A | Q43: A | R43: A | S43: A | T43: E | U43: A | V43: A | W43: A | X43: A | Y43: A | Z43: A | AA43: A | AB43: Plantae | AD43: Equisetopsida | AE43: Malvales | AF43: Malvaceae | AG43: Malvoideae | AH43: Malveae | AI43: Plantes vasculaires | AJ43: Angiospermes | AK43: 705746 | AL43: 188678 | AM43: 188678 | AN43: 705746 | AO43: ES | AP43: Abut exst | AQ43: Abutilon exstipulare (Cav.) G.Don, 1831 - ABUTILON EXSTIPULARE (CAV.) G.DON, 1831 | AR43: =CONCATENATE(E43," - ",F43) -> Abutilon exstipulare (Cav.) G.Don, 1831 - ABUTILON EXSTIPULARE (CAV.) G.DON, 1831
A44: 5352 | B44: Fosberg, 1981 | E44: Abutilon mangarevicum Fosberg, 1981 | F44: ABUTILON MANGAREVICUM FOSBERG, 1981 | G44: Abutilon mangarevicum Fosberg, 1981 | H44: Abutilon mangarevicum | I44: Abutilon mangarevicum Fosberg, 1981 | J44: 3 | K44: A | L44: A | M44: A | N44: A | O44: A | P44: A | Q44: A | R44: A | S44: A | T44: A | U44: A | V44: A | W44: A | X44: E | Y44: A | Z44: A | AA44: A | AB44: Plantae | AD44: Equisetopsida | AE44: Malvales | AF44: Malvaceae | AG44: Malvoideae | AH44: Malveae | AI44: Plantes vasculaires | AJ44: Angiospermes | AK44: 445749 | AL44: 188678 | AM44: 188678 | AN44: 445749 | AO44: ES | AP44: Abut mang | AQ44: Abutilon mangarevicum Fosberg, 1981 - ABUTILON MANGAREVICUM FOSBERG, 1981 | AR44: =CONCATENATE(E44," - ",F44) -> Abutilon mangarevicum Fosberg, 1981 - ABUTILON MANGAREVICUM FOSBERG, 1981
A45: 35408 | B45: (A.Spreng.) A.St.-Hil. & Naudin, 1842 | E45: Abutilon megapotamicum (A.Spreng.) A.St.-Hil. & Naudin, 1842 | F45: ABUTILON MEGAPOTAMICUM (A.SPRENG.) A.ST.-HIL. & NAUDIN, 1842 | G45: Abutilon megapotamicum (A.Spreng.) A.St.-Hil. & Naudin, 1842 | H45: Abutilon megapotamicum | I45: Abutilon megapotamicum (A.Spreng.) A.St.-Hil. & Naudin, 1842 _ Abutilon vexillarium E.Morren, 1864 _ Periptera megapotamica (A.Spreng.) G.Don, 1831 _ Sida leopoldii Hort, 1894 _ Sida megapotamica A.Spreng., 1828 | J45: 7 | K45: M | M45: M | N45: M | O45: A | P45: A | T45: I | Y45: M | AB45: Plantae | AD45: Equisetopsida | AE45: Malvales | AF45: Malvaceae | AG45: Malvoideae | AH45: Malveae | AI45: Plantes vasculaires | AJ45: Angiospermes | AK45: 79682 | AL45: 188678 | AM45: 188678 | AN45: 79682 | AO45: ES | AP45: Abut mega | AQ45: Abutilon megapotamicum (A.Spreng.) A.St.-Hil. & Naudin, 1842 - ABUTILON MEGAPOTAMICUM (A.SPRENG.) A.ST.-HIL. & NAUDIN, 1842 | AR45: =CONCATENATE(E45," - ",F45) -> Abutilon megapotamicum (A.Spreng.) A.St.-Hil. & Naudin, 1842 - ABUTILON MEGAPOTAMICUM (A.SPRENG.) A.ST.-HIL. & NAUDIN, 1842
A46: 5742 | B46: Fosberg, 1981 | E46: Abutilon sachetianum Fosberg, 1981 | F46: ABUTILON SACHETIANUM FOSBERG, 1981 | G46: Abutilon sachetianum Fosberg, 1981 | H46: Abutilon sachetianum | I46: Abutilon sachetianum Fosberg, 1981 | J46: 3 | K46: A | L46: A | M46: A | N46: A | O46: A | P46: A | Q46: A | R46: A | S46: A | T46: A | U46: A | V46: A | W46: A | X46: E | Y46: A | Z46: A | AA46: A | AB46: Plantae | AD46: Equisetopsida | AE46: Malvales | AF46: Malvaceae | AG46: Malvoideae | AH46: Malveae | AI46: Plantes vasculaires | AJ46: Angiospermes | AK46: 445751 | AL46: 188678 | AM46: 188678 | AN46: 445751 | AO46: ES | AP46: Abut sach | AQ46: Abutilon sachetianum Fosberg, 1981 - ABUTILON SACHETIANUM FOSBERG, 1981 | AR46: =CONCATENATE(E46," - ",F46) -> Abutilon sachetianum Fosberg, 1981 - ABUTILON SACHETIANUM FOSBERG, 1981
A47: 13021 | B47: Mill., 1754 | E47: Abutilon Mill., 1754 | F47: ABUTILON MILL., 1754 | G47: Abutilon Mill., 1754 | H47: Abutilon | I47: Abutilon Mill., 1754 | J47: 3 | K47: P | M47: P | N47: P | O47: P | P47: P | R47: P | S47: I | T47: P | X47: P | Y47: P | AB47: Plantae | AD47: Equisetopsida | AE47: Malvales | AF47: Malvaceae | AG47: Malvoideae | AH47: Malveae | AI47: Plantes vasculaires | AJ47: Angiospermes | AK47: 188678 | AL47: 843950 | AM47: 843950 | AN47: 188678 | AO47: GN | AP47: Abut sp. | AQ47: Abutilon Mill., 1754 - ABUTILON MILL., 1754 | AR47: =CONCATENATE(E47," - ",F47) -> Abutilon Mill., 1754 - ABUTILON MILL., 1754
A48: 29151 | B48: Medik., 1787 | C48: Abutilon d'Avicenne, Abutilon Ã pÃ©tales jaunes, Abutilon de ThÃ©ophraste | D48: Velvetleaf | E48: Abutilon theophrasti Medik., 1787 | F48: ABUTILON THEOPHRASTI MEDIK., 1787 | G48: Abutilon theophrasti Medik., 1787 | H48: Abutilon theophrasti | I48: Abutilon theophrasti Medik., 1787 _ Abutilon avicennae Gaertn., 1791 _ Abutilon behrianum F.Muell., 1855 _ Abutilon pubescens Moench, 1794 _ Malva abutilon (L.) E.H.L.Krause, 1901 _ Sida abutilon L., 1753 _ Sida tenax Salisb., 1796 _ Sida tiliaefolia Fisch., 1808 | J48: 3 | K48: I | X48: M | AB48: Plantae | AD48: Equisetopsida | AE48: Malvales | AF48: Malvaceae | AG48: Malvoideae | AH48: Malveae | AI48: Plantes vasculaires | AJ48: Angiospermes | AK48: 79684 | AL48: 188678 | AM48: 188678 | AN48: 79684 | AO48: ES | AP48: Abut theo | AQ48: Abutilon theophrasti Medik., 1787 - ABUTILON THEOPHRASTI MEDIK., 1787 | AR48: =CONCATENATE(E48," - ",F48) -> Abutilon theophrasti Medik., 1787 - ABUTILON THEOPHRASTI MEDIK., 1787
A49: 37486 | B49: (Cav.) C.Presl | E49: Abutilon vitifolium (Cav.) C.Presl | F49: ABUTILON VITIFOLIUM (CAV.) C.PRESL | G49: Abutilon vitifolium (Cav.) C.Presl | H49: Abutilon vitifolium | I49: Abutilon vitifolium (Cav.) C.Presl _ Corynabutilon vitifolium (Cav.) Kearney, 1949 _ Sida vitifolia Cav., 1799 | J49: 7 | K49: M | AB49: Plantae | AD49: Equisetopsida | AE49: Malvales | AF49: Malvaceae | AG49: Malvoideae | AH49: Malveae | AI49: Plantes vasculaires | AJ49: Angiospermes | AK49: 79685 | AL49: 188678 | AM49: 188678 | AN49: 79685 | AO49: ES | AP49: Abut viti | AQ49: Abutilon vitifolium (Cav.) C.Presl - ABUTILON VITIFOLIUM (CAV.) C.PRESL | AR49: =CONCATENATE(E49," - ",F49) -> Abutilon vitifolium (Cav.) C.Presl - ABUTILON VITIFOLIUM (CAV.) C.PRESL
A50: 28931 | B50: F.Muell., 1888 | C50: Mimosa de Bailey | E50: Acacia baileyana F.Muell., 1888 | F50: ACACIA BAILEYANA F.MUELL., 1888 | G50: Acacia baileyana F.Muell., 1888 | H50: Acacia baileyana | I50: Acacia baileyana F.Muell., 1888 | J50: 3 | K50: I | X50: M | AB50: Plantae | AD50: Equisetopsida | AE50: Fabales | AF50: Fabaceae | AG50: Caesalpinioideae | AH50: Mimoseae | AI50: Plantes vasculaires | AJ50: Angiospermes | AK50: 79687 | AL50: 188680 | AM50: 188680 | AN50: 79687 | AO50: ES | AP50: Acac bail | AQ50: Acacia baileyana F.Muell., 1888 - ACACIA BAILEYANA F.MUELL., 1888 | AR50: =CONCATENATE(E50," - ",F50) -> Acacia baileyana F.Muell., 1888 - ACACIA BAILEYANA F.MUELL., 1888
A51: 5158 | B51: A.Cunn. ex G.Don, 1832 | E51: Acacia cultriformis A.Cunn. ex G.Don, 1832 | F51: ACACIA CULTRIFORMIS A.CUNN. EX G.DON, 1832 | G51: Acacia cultriformis A.Cunn. ex G.Don, 1832 | H51: Acacia cultriformis | I51: Acacia cultriformis A.Cunn. ex G.Don, 1832 | J51: 3 | K51: M | AB51: Plantae | AD51: Equisetopsida | AE51: Fabales | AF51: Fabaceae | AG51: Caesalpinioideae | AH51: Mimoseae | AI51: Plantes vasculaires | AJ51: Angiospermes | AK51: 79689 | AL51: 188680 | AM51: 188680 | AN51: 79689 | AO51: ES | AP51: Acac cult | AQ51: Acacia cultriformis A.Cunn. ex G.Don, 1832 - ACACIA CULTRIFORMIS A.CUNN. EX G.DON, 1832 | AR51: =CONCATENATE(E51," - ",F51) -> Acacia cultriformis A.Cunn. ex G.Don, 1832 - ACACIA CULTRIFORMIS A.CUNN. EX G.DON, 1832
A52: 29026 | B52: A.Cunn. ex G.Don, 1832 | E52: Acacia cyclops A.Cunn. ex G.Don, 1832 | F52: ACACIA CYCLOPS A.CUNN. EX G.DON, 1832 | G52: Acacia cyclops A.Cunn. ex G.Don, 1832 | H52: Acacia cyclops | I52: Acacia cyclops A.Cunn. ex G.Don, 1832 | J52: 7 | K52: M | AB52: Plantae | AD52: Equisetopsida | AE52: Fabales | AF52: Fabaceae | AG52: Caesalpinioideae | AH52: Mimoseae | AI52: Plantes vasculaires | AJ52: Angiospermes | AK52: 717047 | AL52: 188680 | AM52: 188680 | AN52: 717047 | AO52: ES | AP52: Acac cycl | AQ52: Acacia cyclops A.Cunn. ex G.Don, 1832 - ACACIA CYCLOPS A.CUNN. EX G.DON, 1832 | AR52: =CONCATENATE(E52," - ",F52) -> Acacia cyclops A.Cunn. ex G.Don, 1832 - ACACIA CYCLOPS A.CUNN. EX G.DON, 1832
A53: 12993 | B53: Link, 1822 | C53: Mimosa argentÃ©, Mimosa des fleuristes, Mimosa de Bormes | E53: Acacia dealbata Link, 1822 | F53: ACACIA DEALBATA LINK, 1822 | G53: Acacia dealbata Link, 1822 | H53: Acacia dealbata | I53: Acacia dealbata Link, 1822 _ Acacia affinis Sweet, 1827 _ Acacia decurrens var. dealbata (Link) Maiden, 1906 _ Acacia irrorata Sieber ex Spreng., 1826 _ Racosperma dealbatum (Link) Pedley, 1987 | J53: 3 | K53: J | T53: J | X53: M | AB53: Plantae | AD53: Equisetopsida | AE53: Fabales | AF53: Fabaceae | AG53: Caesalpinioideae | AH53: Mimoseae | AI53: Plantes vasculaires | AJ53: Angiospermes | AK53: 79691 | AL53: 188680 | AM53: 188680 | AN53: 79691 | AO53: ES | AP53: Acac deal | AQ53: Acacia dealbata Link, 1822 - ACACIA DEALBATA LINK, 1822 | AR53: =CONCATENATE(E53," - ",F53) -> Acacia dealbata Link, 1822 - ACACIA DEALBATA LINK, 1822
A54: 33542 | B54: (J.C.Wendl.) Willd., 1805 | C54: Mimosa | E54: Acacia decurrens (J.C.Wendl.) Willd., 1805 | F54: ACACIA DECURRENS (J.C.WENDL.) WILLD., 1805 | G54: Acacia decurrens (J.C.Wendl.) Willd., 1805 | H54: Acacia decurrens | I54: Acacia decurrens (J.C.Wendl.) Willd., 1805 _ Acacia decurrens var. decurrens (J.C.Wendl.) Willd., 1805 _ Mimosa decurrens J.C.Wendl., 1798 | J54: 7 | K54: M | Y54: I | AB54: Plantae | AD54: Equisetopsida | AE54: Fabales | AF54: Fabaceae | AG54: Caesalpinioideae | AH54: Mimoseae | AI54: Plantes vasculaires | AJ54: Angiospermes | AK54: 79692 | AL54: 188680 | AM54: 188680 | AN54: 79692 | AO54: ES | AP54: Acac decu | AQ54: Acacia decurrens (J.C.Wendl.) Willd., 1805 - ACACIA DECURRENS (J.C.WENDL.) WILLD., 1805 | AR54: =CONCATENATE(E54," - ",F54) -> Acacia decurrens (J.C.Wendl.) Willd., 1805 - ACACIA DECURRENS (J.C.WENDL.) WILLD., 1805
A55: 27899 | B55: Willd., 1806 | E55: Acacia heterophylla Willd., 1806 | F55: ACACIA HETEROPHYLLA WILLD., 1806 | G55: Acacia heterophylla Willd., 1806 | H55: Acacia heterophylla | I55: Acacia heterophylla Willd., 1806 _ Acacia brevipes A.Cunn., 1834 _ Acacia implexa var. brevipes (A.Cunn.) Domin, 1926 _ Mimosa heterophylla Lam., 1783 | J55: 3 | K55: A | L55: A | M55: A | N55: A | O55: A | P55: A | Q55: A | R55: A | S55: A | T55: E | U55: A | V55: A | W55: A | X55: A | Y55: A | Z55: A | AA55: A | AB55: Plantae | AD55: Equisetopsida | AE55: Fabales | AF55: Fabaceae | AG55: Caesalpinioideae | AH55: Mimoseae | AI55: Plantes vasculaires | AJ55: Angiospermes | AK55: 705753 | AL55: 188680 | AM55: 188680 | AN55: 705753 | AO55: ES | AP55: Acac hete | AQ55: Acacia heterophylla Willd., 1806 - ACACIA HETEROPHYLLA WILLD., 1806 | AR55: =CONCATENATE(E55," - ",F55) -> Acacia heterophylla Willd., 1806 - ACACIA HETEROPHYLLA WILLD., 1806
A56: 12614 | B56: (Andrews) Willd., 1806 | C56: Acacia dorÃ© de Sydney, Mimosa chenille | E56: Acacia longifolia (Andrews) Willd., 1806 | F56: ACACIA LONGIFOLIA (ANDREWS) WILLD., 1806 | G56: Acacia longifolia (Andrews) Willd., 1806 | H56: Acacia longifolia | I56: Acacia longifolia (Andrews) Willd., 1806 _ Mimosa floribunda Vent., 1803 _ Mimosa intertexta DC. _ Mimosa longifolia Andrews, 1802 _ Mimosa macrostachya Poir., 1810 _ Phyllodoce floribunda Link, 1831 _ Phyllodoce longifolia (Andrews) Link, 1831 | J56: 3 | K56: M | M56: M | N56: M | O56: A | P56: A | T56: I | AB56: Plantae | AD56: Equisetopsida | AE56: Fabales | AF56: Fabaceae | AG56: Caesalpinioideae | AH56: Mimoseae | AI56: Plantes vasculaires | AJ56: Angiospermes | AK56: 79698 | AL56: 188680 | AM56: 188680 | AN56: 79698 | AO56: ES | AP56: Acac long | AQ56: Acacia longifolia (Andrews) Willd., 1806 - ACACIA LONGIFOLIA (ANDREWS) WILLD., 1806 | AR56: =CONCATENATE(E56," - ",F56) -> Acacia longifolia (Andrews) Willd., 1806 - ACACIA LONGIFOLIA (ANDREWS) WILLD., 1806
A57: 36094 | B57: De Wild., 1925 | C57: Mimosa argentÃ©, Mimosa vert | D57: Black wattle | E57: Acacia mearnsii De Wild., 1925 | F57: ACACIA MEARNSII DE WILD., 1925 | G57: Acacia mearnsii De Wild., 1925 | H57: Acacia mearnsii | I57: Acacia mearnsii De Wild., 1925 _ Acacia mollissima auct. non Willd., 1809 | J57: 7 | K57: J | T57: J | AB57: Plantae | AD57: Equisetopsida | AE57: Fabales | AF57: Fabaceae | AG57: Caesalpinioideae | AH57: Mimoseae | AI57: Plantes vasculaires | AJ57: Angiospermes | AK57: 79700 | AL57: 188680 | AM57: 188680 | AN57: 79700 | AO57: ES | AP57: Acac mear | AQ57: Acacia mearnsii De Wild., 1925 - ACACIA MEARNSII DE WILD., 1925 | AR57: =CONCATENATE(E57," - ",F57) -> Acacia mearnsii De Wild., 1925 - ACACIA MEARNSII DE WILD., 1925
A58: 30984 | B58: R.Br., 1813 | C58: Acacia Ã bois dur, Acacia Ã bois noir | D58: Australian Blackwood | E58: Acacia melanoxylon R.Br., 1813 | F58: ACACIA MELANOXYLON R.BR., 1813 | G58: Acacia melanoxylon R.Br., 1813 | H58: Acacia melanoxylon | I58: Acacia melanoxylon R.Br., 1813 _ Racosperma melanoxylon (R.Br.) Mart., 1835 | J58: 3 | K58: I | T58: I | Y58: M | AB58: Plantae | AD58: Equisetopsida | AE58: Fabales | AF58: Fabaceae | AG58: Caesalpinioideae | AH58: Mimoseae | AI58: Plantes vasculaires | AJ58: Angiospermes | AK58: 79701 | AL58: 188680 | AM58: 188680 | AN58: 79701 | AO58: ES | AP58: Acac mela | AQ58: Acacia melanoxylon R.Br., 1813 - ACACIA MELANOXYLON R.BR., 1813 | AR58: =CONCATENATE(E58," - ",F58) -> Acacia melanoxylon R.Br., 1813 - ACACIA MELANOXYLON R.BR., 1813
A59: 566 | B59: DC., 1813 | E59: Acacia paradoxa DC., 1813 | F59: ACACIA PARADOXA DC., 1813 | G59: Acacia paradoxa DC., 1813 | H59: Acacia paradoxa | I59: Acacia paradoxa DC., 1813 _ Acacia armata R.Br., 1813 | J59: 7 | K59: M | AB59: Plantae | AD59: Equisetopsida | AE59: Fabales | AF59: Fabaceae | AG59: Caesalpinioideae | AH59: Mimoseae | AI59: Plantes vasculaires | AJ59: Angiospermes | AK59: 717048 | AL59: 188680 | AM59: 188680 | AN59: 717048 | AO59: ES | AP59: Acac para | AQ59: Acacia paradoxa DC., 1813 - ACACIA PARADOXA DC., 1813 | AR59: =CONCATENATE(E59," - ",F59) -> Acacia paradoxa DC., 1813 - ACACIA PARADOXA DC., 1813
A60: 39736 | B60: F.Muell., 1853 | E60: Acacia pravissima F.Muell., 1853 | F60: ACACIA PRAVISSIMA F.MUELL., 1853 | G60: Acacia pravissima F.Muell., 1853 | H60: Acacia pravissima | I60: Acacia pravissima F.Muell., 1853 | J60: 7 | K60: M | AB60: Plantae | AD60: Equisetopsida | AE60: Fabales | AF60: Fabaceae | AG60: Caesalpinioideae | AH60: Mimoseae | AI60: Plantes vasculaires | AJ60: Angiospermes | AK60: 79704 | AL60: 188680 | AM60: 188680 | AN60: 79704 | AO60: ES | AP60: Acac prav | AQ60: Acacia pravissima F.Muell., 1853 - ACACIA PRAVISSIMA F.MUELL., 1853 | AR60: =CONCATENATE(E60," - ",F60) -> Acacia pravissima F.Muell., 1853 - ACACIA PRAVISSIMA F.MUELL., 1853
A61: 26271 | B61: Benth., 1842 | E61: Acacia pycnantha Benth., 1842 | F61: ACACIA PYCNANTHA BENTH., 1842 | G61: Acacia pycnantha Benth., 1842 | H61: Acacia pycnantha | I61: Acacia pycnantha Benth., 1842 | J61: 3 | K61: I | AB61: Plantae | AD61: Equisetopsida | AE61: Fabales | AF61: Fabaceae | AG61: Caesalpinioideae | AH61: Mimoseae | AI61: Plantes vasculaires | AJ61: Angiospermes | AK61: 79706 | AL61: 188680 | AM61: 188680 | AN61: 79706 | AO61: ES | AP61: Acac pycn | AQ61: Acacia pycnantha Benth., 1842 - ACACIA PYCNANTHA BENTH., 1842 | AR61: =CONCATENATE(E61," - ",F61) -> Acacia pycnantha Benth., 1842 - ACACIA PYCNANTHA BENTH., 1842
A62: 34720 | B62: Schltdl., 1847 | C62: Mimosa rÃ©sineux, Mimosa des quatre saisons | E62: Acacia retinodes Schltdl., 1847 | F62: ACACIA RETINODES SCHLTDL., 1847 | G62: Acacia retinodes Schltdl., 1847 | H62: Acacia retinodes | I62: Acacia retinodes Schltdl., 1847 _ Acacia confluens Maiden & Blakely, 1927 _ Acacia provincialis A.Camus, 1927 | J62: 3 | K62: I | X62: M | Y62: M | AB62: Plantae | AD62: Equisetopsida | AE62: Fabales | AF62: Fabaceae | AG62: Caesalpinioideae | AH62: Mimoseae | AI62: Plantes vasculaires | AJ62: Angiospermes | AK62: 79707 | AL62: 188680 | AM62: 188680 | AN62: 79707 | AO62: ES | AP62: Acac reti | AQ62: Acacia retinodes Schltdl., 1847 - ACACIA RETINODES SCHLTDL., 1847 | AR62: =CONCATENATE(E62," - ",F62) -> Acacia retinodes Schltdl., 1847 - ACACIA RETINODES SCHLTDL., 1847
A63: 42989 | B63: Hensl., 1839 | E63: Acacia riceana Hensl., 1839 | F63: ACACIA RICEANA HENSL., 1839 | G63: Acacia riceana Hensl., 1839 | H63: Acacia riceana | I63: Acacia riceana Hensl., 1839 | J63: 7 | K63: M | AB63: Plantae | AD63: Equisetopsida | AE63: Fabales | AF63: Fabaceae | AG63: Caesalpinioideae | AH63: Mimoseae | AI63: Plantes vasculaires | AJ63: Angiospermes | AK63: 79708 | AL63: 188680 | AM63: 188680 | AN63: 79708 | AO63: ES | AP63: Acac rice | AQ63: Acacia riceana Hensl., 1839 - ACACIA RICEANA HENSL., 1839 | AR63: =CONCATENATE(E63," - ",F63) -> Acacia riceana Hensl., 1839 - ACACIA RICEANA HENSL., 1839
A64: 20551 | B64: Lindl., 1838 | E64: Acacia salicina Lindl., 1838 | F64: ACACIA SALICINA LINDL., 1838 | G64: Acacia salicina Lindl., 1838 | H64: Acacia salicina | I64: Acacia salicina Lindl., 1838 | J64: 7 | K64: M | AB64: Plantae | AD64: Equisetopsida | AE64: Fabales | AF64: Fabaceae | AG64: Caesalpinioideae | AH64: Mimoseae | AI64: Plantes vasculaires | AJ64: Angiospermes | AK64: 79709 | AL64: 188680 | AM64: 188680 | AN64: 79709 | AO64: ES | AP64: Acac sali | AQ64: Acacia salicina Lindl., 1838 - ACACIA SALICINA LINDL., 1838 | AR64: =CONCATENATE(E64," - ",F64) -> Acacia salicina Lindl., 1838 - ACACIA SALICINA LINDL., 1838
A65: 23147 | B65: (Labill.) H.L.Wendl., 1820 | C65: Mimosa Ã feuilles de Saule | E65: Acacia saligna (Labill.) H.L.Wendl., 1820 | F65: ACACIA SALIGNA (LABILL.) H.L.WENDL., 1820 | G65: Acacia saligna (Labill.) H.L.Wendl., 1820 | H65: Acacia saligna | I65: Acacia saligna (Labill.) H.L.Wendl., 1820 _ Acacia cyanophylla Lindl., 1839 _ Mimosa saligna Labill., 1807 _ Racosperma salignum (Labill.) Pedley, 1987 | J65: 3 | K65: J | X65: M | AB65: Plantae | AD65: Equisetopsida | AE65: Fabales | AF65: Fabaceae | AG65: Caesalpinioideae | AH65: Mimoseae | AI65: Plantes vasculaires | AJ65: Angiospermes | AK65: 79710 | AL65: 188680 | AM65: 188680 | AN65: 79710 | AO65: ES | AP65: Acac sali | AQ65: Acacia saligna (Labill.) H.L.Wendl., 1820 - ACACIA SALIGNA (LABILL.) H.L.WENDL., 1820 | AR65: =CONCATENATE(E65," - ",F65) -> Acacia saligna (Labill.) H.L.Wendl., 1820 - ACACIA SALIGNA (LABILL.) H.L.WENDL., 1820
A66: 22958 | B66: Mill., 1754 [nom. cons.] | E66: Acacia Mill., 1754 [nom. cons.] | F66: ACACIA MILL., 1754 [NOM. CONS.] | G66: Acacia Mill., 1754 [nom. cons.] | H66: Acacia | I66: Acacia Mill., 1754 [nom. cons.] _ Acacia subg. Phyllodineae (DC.) Ser., 1849 _ Racosperma Mart., 1835 | J66: 3 | K66: P | L66: J | M66: P | N66: P | O66: P | P66: P | R66: P | T66: P | X66: P | Y66: P | Z66: P | AB66: Plantae | AD66: Equisetopsida | AE66: Fabales | AF66: Fabaceae | AG66: Caesalpinioideae | AH66: Mimoseae | AI66: Plantes vasculaires | AJ66: Angiospermes | AK66: 188680 | AL66: 844005 | AM66: 844005 | AN66: 188680 | AO66: GN | AP66: Acac sp. | AQ66: Acacia Mill., 1754 [nom. cons.] - ACACIA MILL., 1754 [NOM. CONS.] | AR66: =CONCATENATE(E66," - ",F66) -> Acacia Mill., 1754 [nom. cons.] - ACACIA MILL., 1754 [NOM. CONS.]
A67: 37798 | B67: (L'HÃ©r.) Willd., 1806 | E67: Acacia verticillata (L'HÃ©r.) Willd., 1806 | F67: ACACIA VERTICILLATA (L'HÃ©R.) WILLD., 1806 | G67: Acacia verticillata (L'HÃ©r.) Willd., 1806 | H67: Acacia verticillata | I67: Acacia verticillata (L'HÃ©r.) Willd., 1806 _ Mimosa verticillata L'HÃ©r., 1789 _ Racosperma verticillata (L'HÃ©r.) Mart., 1835 | J67: 7 | K67: M | AB67: Plantae | AD67: Equisetopsida | AE67: Fabales | AF67: Fabaceae | AG67: Caesalpinioideae | AH67: Mimoseae | AI67: Plantes vasculaires | AJ67: Angiospermes | AK67: 79711 | AL67: 188680 | AM67: 188680 | AN67: 79711 | AO67: ES | AP67: Acac vert | AQ67: Acacia verticillata (L'HÃ©r.) Willd., 1806 - ACACIA VERTICILLATA (L'HÃ©R.) WILLD., 1806 | AR67: =CONCATENATE(E67," - ",F67) -> Acacia verticillata (L'HÃ©r.) Willd., 1806 - ACACIA VERTICILLATA (L'HÃ©R.) WILLD., 1806
A68: 16946 | B68: Guillaumin, 1929 | E68: Acalypha balansae Guillaumin, 1929 | F68: ACALYPHA BALANSAE GUILLAUMIN, 1929 | G68: Acalypha balansae Guillaumin, 1929 | H68: Acalypha balansae | I68: Acalypha balansae Guillaumin, 1929 | J68: 3 | K68: A | L68: A | M68: A | N68: A | O68: A | P68: A | Q68: A | R68: A | S68: A | T68: A | U68: A | V68: A | W68: A | X68: A | Y68: E | Z68: A | AA68: A | AB68: Plantae | AD68: Equisetopsida | AE68: Malpighiales | AF68: Euphorbiaceae | AI68: Plantes vasculaires | AJ68: Angiospermes | AK68: 670984 | AL68: 188683 | AM68: 188683 | AN68: 670984 | AO68: ES | AP68: Acal bala | AQ68: Acalypha balansae Guillaumin, 1929 - ACALYPHA BALANSAE GUILLAUMIN, 1929 | AR68: =CONCATENATE(E68," - ",F68) -> Acalypha balansae Guillaumin, 1929 - ACALYPHA BALANSAE GUILLAUMIN, 1929
A69: 24678 | B69: Coode, 1979 | E69: Acalypha integrifolia subsp. panduriformis Coode, 1979 | F69: ACALYPHA INTEGRIFOLIA SUBSP. PANDURIFORMIS COODE, 1979 | G69: Acalypha integrifolia subsp. panduriformis Coode, 1979 | H69: Acalypha integrifolia subsp. panduriformis | I69: Acalypha integrifolia subsp. panduriformis Coode, 1979 _ Acalypha colorata auct. non (Poir.) Spreng. _ Acalypha integrifolia var. concolor (Baill. ex MÃ¼ll.Arg.) Pax & Hoffm. | J69: 7 | K69: A | L69: A | M69: A | N69: A | O69: A | P69: A | Q69: A | R69: A | S69: A | T69: E | U69: A | V69: A | W69: A | X69: A | Y69: A | Z69: A | AA69: A | AB69: Plantae | AD69: Equisetopsida | AE69: Malpighiales | AF69: Euphorbiaceae | AI69: Plantes vasculaires | AJ69: Angiospermes | AK69: 707071 | AL69: 705759 | AM69: 705759 | AN69: 707071 | AO69: SSES | AP69: Acal inte ssp. pand | AQ69: Acalypha integrifolia subsp. panduriformis Coode, 1979 - ACALYPHA INTEGRIFOLIA SUBSP. PANDURIFORMIS COODE, 1979 | AR69: =CONCATENATE(E69," - ",F69) -> Acalypha integrifolia subsp. panduriformis Coode, 1979 - ACALYPHA INTEGRIFOLIA SUBSP. PANDURIFORMIS COODE, 1979
A70: 43011 | B70: MÃ¼ll.Arg., 1865 | E70: Acalypha lepinei MÃ¼ll.Arg., 1865 | F70: ACALYPHA LEPINEI MÃ¼LL.ARG., 1865 | G70: Acalypha lepinei MÃ¼ll.Arg., 1865 | H70: Acalypha lepinei | I70: Acalypha lepinei MÃ¼ll.Arg., 1865 | J70: 3 | K70: A | L70: A | M70: A | N70: A | O70: A | P70: A | Q70: A | R70: A | S70: A | T70: A | U70: A | V70: A | W70: A | X70: E | Y70: A | Z70: A | AA70: A | AB70: Plantae | AD70: Equisetopsida | AE70: Malpighiales | AF70: Euphorbiaceae | AI70: Plantes vasculaires | AJ70: Angiospermes | AK70: 445615 | AL70: 188683 | AM70: 188683 | AN70: 445615 | AO70: ES | AP70: Acal lepi | AQ70: Acalypha lepinei MÃ¼ll.Arg., 1865 - ACALYPHA LEPINEI MÃ¼LL.ARG., 1865 | AR70: =CONCATENATE(E70," - ",F70) -> Acalypha lepinei MÃ¼ll.Arg., 1865 - ACALYPHA LEPINEI MÃ¼LL.ARG., 1865
A71: 38490 | B71: Baill., 1862 | E71: Acalypha pancheriana Baill., 1862 | F71: ACALYPHA PANCHERIANA BAILL., 1862 | G71: Acalypha pancheriana Baill., 1862 | H71: Acalypha pancheriana | I71: Acalypha pancheriana Baill., 1862 _ Acalypha neocaledonica MÃ¼ll.Arg. _ Acalypha schlechteri Pax & K.Hoffm., 1924 _ Ricinocarpus neocaledonicus (MÃ¼ll.Arg.) Kuntze _ Ricinocarpus pancheriana (Baill.) Kuntze | J71: 3 | K71: A | L71: A | M71: A | N71: A | O71: A | P71: A | Q71: A | R71: A | S71: A | T71: A | U71: A | V71: A | W71: A | X71: A | Y71: E | Z71: A | AA71: A | AB71: Plantae | AD71: Equisetopsida | AE71: Malpighiales | AF71: Euphorbiaceae | AI71: Plantes vasculaires | AJ71: Angiospermes | AK71: 670985 | AL71: 188683 | AM71: 188683 | AN71: 670985 | AO71: ES | AP71: Acal panc | AQ71: Acalypha pancheriana Baill., 1862 - ACALYPHA PANCHERIANA BAILL., 1862 | AR71: =CONCATENATE(E71," - ",F71) -> Acalypha pancheriana Baill., 1862 - ACALYPHA PANCHERIANA BAILL., 1862
A72: 18693 | B72: DÃ¤niker, 1932 | E72: Acalypha pulchrespicata DÃ¤niker, 1932 | F72: ACALYPHA PULCHRESPICATA DÃ¤NIKER, 1932 | G72: Acalypha pulchrespicata DÃ¤niker, 1932 | H72: Acalypha pulchrespicata | I72: Acalypha pulchrespicata DÃ¤niker, 1932 | J72: 3 | K72: A | L72: A | M72: A | N72: A | O72: A | P72: A | Q72: A | R72: A | S72: A | T72: A | U72: A | V72: A | W72: A | X72: A | Y72: E | Z72: A | AA72: A | AB72: Plantae | AD72: Equisetopsida | AE72: Malpighiales | AF72: Euphorbiaceae | AI72: Plantes vasculaires | AJ72: Angiospermes | AK72: 670986 | AL72: 188683 | AM72: 188683 | AN72: 670986 | AO72: ES | AP72: Acal pulc | AQ72: Acalypha pulchrespicata DÃ¤niker, 1932 - ACALYPHA PULCHRESPICATA DÃ¤NIKER, 1932 | AR72: =CONCATENATE(E72," - ",F72) -> Acalypha pulchrespicata DÃ¤niker, 1932 - ACALYPHA PULCHRESPICATA DÃ¤NIKER, 1932
A73: 36931 | B73: F.Br., 1935 | E73: Acalypha raivavensis F.Br., 1935 | F73: ACALYPHA RAIVAVENSIS F.BR., 1935 | G73: Acalypha raivavensis F.Br., 1935 | H73: Acalypha raivavensis | I73: Acalypha raivavensis F.Br., 1935 _ Acalypha tubuaiensis H.St.John, 1883 | J73: 3 | K73: A | L73: A | M73: A | N73: A | O73: A | P73: A | Q73: A | R73: A | S73: A | T73: A | U73: A | V73: A | W73: A | X73: E | Y73: A | Z73: A | AA73: A | AB73: Plantae | AD73: Equisetopsida | AE73: Malpighiales | AF73: Euphorbiaceae | AI73: Plantes vasculaires | AJ73: Angiospermes | AK73: 445616 | AL73: 188683 | AM73: 188683 | AN73: 445616 | AO73: ES | AP73: Acal raiv | AQ73: Acalypha raivavensis F.Br., 1935 - ACALYPHA RAIVAVENSIS F.BR., 1935 | AR73: =CONCATENATE(E73," - ",F73) -> Acalypha raivavensis F.Br., 1935 - ACALYPHA RAIVAVENSIS F.BR., 1935
A74: 13832 | B74: F.Br., 1935 | E74: Acalypha rapensis F.Br., 1935 | F74: ACALYPHA RAPENSIS F.BR., 1935 | G74: Acalypha rapensis F.Br., 1935 | H74: Acalypha rapensis | I74: Acalypha rapensis F.Br., 1935 _ Acalypha polynesiaca Radcl.-Sm. & Govaerts, 1997 _ Acalypha stokesii F.Br., 1935 | J74: 3 | K74: A | L74: A | M74: A | N74: A | O74: A | P74: A | Q74: A | R74: A | S74: A | T74: A | U74: A | V74: A | W74: A | X74: E | Y74: A | Z74: A | AA74: A | AB74: Plantae | AD74: Equisetopsida | AE74: Malpighiales | AF74: Euphorbiaceae | AI74: Plantes vasculaires | AJ74: Angiospermes | AK74: 445617 | AL74: 188683 | AM74: 188683 | AN74: 445617 | AO74: ES | AP74: Acal rape | AQ74: Acalypha rapensis F.Br., 1935 - ACALYPHA RAPENSIS F.BR., 1935 | AR74: =CONCATENATE(E74," - ",F74) -> Acalypha rapensis F.Br., 1935 - ACALYPHA RAPENSIS F.BR., 1935
A75: 13398 | B75: L., 1753 | E75: Acalypha L., 1753 | F75: ACALYPHA L., 1753 | G75: Acalypha L., 1753 | H75: Acalypha | I75: Acalypha L., 1753 | K75: I | L75: P | M75: P | N75: P | O75: P | P75: P | R75: P | S75: I | T75: P | X75: P | Y75: P | Z75: P | AB75: Plantae | AD75: Equisetopsida | AE75: Malpighiales | AF75: Euphorbiaceae | AI75: Plantes vasculaires | AJ75: Angiospermes | AK75: 188683 | AL75: 187320 | AM75: 187320 | AN75: 188683 | AO75: GN | AP75: Acal sp. | AQ75: Acalypha L., 1753 - ACALYPHA L., 1753 | AR75: =CONCATENATE(E75," - ",F75) -> Acalypha L., 1753 - ACALYPHA L., 1753
A76: 39300 | B76: L., 1753 | C76: Acalyphe de Virginie | E76: Acalypha virginica L., 1753 | F76: ACALYPHA VIRGINICA L., 1753 | G76: Acalypha virginica L., 1753 | H76: Acalypha virginica | I76: Acalypha virginica L., 1753 | J76: 3 | K76: I | AB76: Plantae | AD76: Equisetopsida | AE76: Malpighiales | AF76: Euphorbiaceae | AI76: Plantes vasculaires | AJ76: Angiospermes | AK76: 79713 | AL76: 188683 | AM76: 188683 | AN76: 79713 | AO76: ES | AP76: Acal virg | AQ76: Acalypha virginica L., 1753 - ACALYPHA VIRGINICA L., 1753 | AR76: =CONCATENATE(E76," - ",F76) -> Acalypha virginica L., 1753 - ACALYPHA VIRGINICA L., 1753
A77: 19869 | B77: Forssk., 1775 | E77: Acanthus arboreus Forssk., 1775 | F77: ACANTHUS ARBOREUS FORSSK., 1775 | G77: Acanthus arboreus Forssk., 1775 | H77: Acanthus arboreus | I77: Acanthus arboreus Forssk., 1775 | J77: 7 | K77: I | AB77: Plantae | AD77: Equisetopsida | AE77: Lamiales | AF77: Acanthaceae | AI77: Plantes vasculaires | AJ77: Angiospermes | AK77: 611761 | AL77: 188719 | AM77: 188719 | AN77: 611761 | AO77: ES | AP77: Acan arbo | AQ77: Acanthus arboreus Forssk., 1775 - ACANTHUS ARBOREUS FORSSK., 1775 | AR77: =CONCATENATE(E77," - ",F77) -> Acanthus arboreus Forssk., 1775 - ACANTHUS ARBOREUS FORSSK., 1775
A78: 43980 | B78: (Bory) H.Wendl., 1867 | E78: Acanthophoenix crinita (Bory) H.Wendl., 1867 | F78: ACANTHOPHOENIX CRINITA (BORY) H.WENDL., 1867 | G78: Acanthophoenix crinita (Bory) H.Wendl., 1867 | H78: Acanthophoenix crinita | I78: Acanthophoenix crinita (Bory) H.Wendl., 1867 _ Areca crinita Bory, 1804 _ Calamus verschaffeltii hort. ex Balf.f., 1877 | J78: 3 | K78: A | L78: A | M78: A | N78: A | O78: A | P78: A | Q78: A | R78: A | S78: A | T78: E | U78: A | V78: A | W78: A | X78: A | Y78: A | Z78: A | AA78: A | AB78: Plantae | AD78: Equisetopsida | AE78: Arecales | AF78: Arecaceae | AI78: Plantes vasculaires | AJ78: Angiospermes | AK78: 705760 | AL78: 627836 | AM78: 627836 | AN78: 705760 | AO78: ES | AP78: Acan crin | AQ78: Acanthophoenix crinita (Bory) H.Wendl., 1867 - ACANTHOPHOENIX CRINITA (BORY) H.WENDL., 1867 | AR78: =CONCATENATE(E78," - ",F78) -> Acanthophoenix crinita (Bory) H.Wendl., 1867 - ACANTHOPHOENIX CRINITA (BORY) H.WENDL., 1867
A79: 16773 | B79: (L.) Spenn., 1843 | C79: Ballote Ã©pineuse | E79: Acanthoprasium frutescens (L.) Spenn., 1843 | F79: ACANTHOPRASIUM FRUTESCENS (L.) SPENN., 1843 | G79: Acanthoprasium frutescens (L.) Spenn., 1843 | H79: Acanthoprasium frutescens | I79: Acanthoprasium frutescens (L.) Spenn., 1843 _ Ballota frutescens (L.) J.Woods, 1850 _ Ballota spinosa Link, 1829 _ Beringeria frutescens (L.) Rchb., 1831 _ Moluccella frutescens L., 1753 | J79: 7 | K79: P | AB79: Plantae | AD79: Equisetopsida | AE79: Lamiales | AF79: Lamiaceae | AG79: Lamioideae | AH79: Marrubieae | AI79: Plantes vasculaires | AJ79: Angiospermes | AK79: 79716 | AL79: 715600 | AM79: 715600 | AN79: 79716 | AO79: ES | AP79: Acan frut | AQ79: Acanthoprasium frutescens (L.) Spenn., 1843 - ACANTHOPRASIUM FRUTESCENS (L.) SPENN., 1843 | AR79: =CONCATENATE(E79," - ",F79) -> Acanthoprasium frutescens (L.) Spenn., 1843 - ACANTHOPRASIUM FRUTESCENS (L.) SPENN., 1843
A80: 44355 | B80: DC., 1836 | D80: Hispid Starbur | E80: Acanthospermum hispidum DC., 1836 | F80: ACANTHOSPERMUM HISPIDUM DC., 1836 | G80: Acanthospermum hispidum DC., 1836 | H80: Acanthospermum hispidum | I80: Acanthospermum hispidum DC., 1836 _ Acanthospermum humile var. hispidum (DC.) Kuntze, 1891 | J80: 7 | K80: D | L80: P | M80: I | N80: I | O80: I | P80: I | R80: C | T80: I | X80: I | AB80: Plantae | AD80: Equisetopsida | AE80: Asterales | AF80: Asteraceae | AI80: Plantes vasculaires | AJ80: Angiospermes | AK80: 79717 | AL80: 188713 | AM80: 188713 | AN80: 79717 | AO80: ES | AP80: Acan hisp | AQ80: Acanthospermum hispidum DC., 1836 - ACANTHOSPERMUM HISPIDUM DC., 1836 | AR80: =CONCATENATE(E80," - ",F80) -> Acanthospermum hispidum DC., 1836 - ACANTHOSPERMUM HISPIDUM DC., 1836
A81: 33409 | B81: (Sw.) DC., 1836 | E81: Acanthospermum humile (Sw.) DC., 1836 | F81: ACANTHOSPERMUM HUMILE (SW.) DC., 1836 | G81: Acanthospermum humile (Sw.) DC., 1836 | H81: Acanthospermum humile | I81: Acanthospermum humile (Sw.) DC., 1836 _ Acanthospermum humile var. normale Kuntze, 1891 _ Centrospermum humile Less., 1832 _ Melampodium humile Sw., 1788 | J81: 3 | K81: I | M81: P | N81: A | O81: P | P81: A | AB81: Plantae | AD81: Equisetopsida | AE81: Asterales | AF81: Asteraceae | AI81: Plantes vasculaires | AJ81: Angiospermes | AK81: 160344 | AL81: 188713 | AM81: 188713 | AN81: 160344 | AO81: ES | AP81: Acan humi | AQ81: Acanthospermum humile (Sw.) DC., 1836 - ACANTHOSPERMUM HUMILE (SW.) DC., 1836 | AR81: =CONCATENATE(E81," - ",F81) -> Acanthospermum humile (Sw.) DC., 1836 - ACANTHOSPERMUM HUMILE (SW.) DC., 1836
A82: 13869 | B82: (BorbÃ¡s) Baen., 1896 | E82: Acanthus hungaricus (BorbÃ¡s) Baen., 1896 | F82: ACANTHUS HUNGARICUS (BORBÃ¡S) BAEN., 1896 | G82: Acanthus hungaricus (BorbÃ¡s) Baen., 1896 | H82: Acanthus hungaricus | I82: Acanthus hungaricus (BorbÃ¡s) Baen., 1896 _ Acanthus longifolius var. hungaricus BorbÃ¡s | J82: 7 | K82: P | AB82: Plantae | AD82: Equisetopsida | AE82: Lamiales | AF82: Acanthaceae | AI82: Plantes vasculaires | AJ82: Angiospermes | AK82: 788767 | AL82: 188719 | AM82: 188719 | AN82: 788767 | AO82: ES | AP82: Acan hung | AQ82: Acanthus hungaricus (BorbÃ¡s) Baen., 1896 - ACANTHUS HUNGARICUS (BORBÃ¡S) BAEN., 1896 | AR82: =CONCATENATE(E82," - ",F82) -> Acanthus hungaricus (BorbÃ¡s) Baen., 1896 - ACANTHUS HUNGARICUS (BORBÃ¡S) BAEN., 1896
A83: 3704 | B83: (ThÃ©r.) Broth., 1925 | E83: Acanthorrhynchium microcarpum (ThÃ©r.) Broth., 1925 | F83: ACANTHORRHYNCHIUM MICROCARPUM (THÃ©R.) BROTH., 1925 | G83: Acanthorrhynchium microcarpum (ThÃ©r.) Broth., 1925 | H83: Acanthorrhynchium microcarpum | I83: Acanthorrhynchium microcarpum (ThÃ©r.) Broth., 1925 | J83: 7 | K83: A | L83: A | M83: A | N83: A | O83: A | P83: A | Q83: A | R83: A | S83: A | T83: A | U83: A | V83: A | W83: A | X83: A | Y83: E | Z83: A | AA83: A | AB83: Plantae | AD83: Equisetopsida | AE83: Hypnales | AF83: Sematophyllaceae | AI83: Bryophytes | AJ83: Mousses | AK83: 656516 | AL83: 656301 | AM83: 656301 | AN83: 656516 | AO83: ES | AP83: Acan micr | AQ83: Acanthorrhynchium microcarpum (ThÃ©r.) Broth., 1925 - ACANTHORRHYNCHIUM MICROCARPUM (THÃ©R.) BROTH., 1925 | AR83: =CONCATENATE(E83," - ",F83) -> Acanthorrhynchium microcarpum (ThÃ©r.) Broth., 1925 - ACANTHORRHYNCHIUM MICROCARPUM (THÃ©R.) BROTH., 1925
A84: 37939 | B84: L., 1753 | C84: Acanthe Ã feuilles molles, Acanthe molle | D84: Bear's-breech | E84: Acanthus mollis L., 1753 | F84: ACANTHUS MOLLIS L., 1753 | G84: Acanthus mollis L., 1753 | H84: Acanthus mollis | I84: Acanthus mollis L., 1753 _ Acanthus latifolius hort. ex E.Goeze, 1867 _ Acanthus lusitanicus hort., 1867 _ Acanthus mollis subsp. mollis L., 1753 _ Acanthus spinosissimus Host, 1831 _ Acanthus spinulosus Host, 1831 | J84: 3 | K84: I | AB84: Plantae | AD84: Equisetopsida | AE84: Lamiales | AF84: Acanthaceae | AI84: Plantes vasculaires | AJ84: Angiospermes | AK84: 79721 | AL84: 188719 | AM84: 188719 | AN84: 79721 | AO84: ES | AP84: Acan moll | AQ84: Acanthus mollis L., 1753 - ACANTHUS MOLLIS L., 1753 | AR84: =CONCATENATE(E84," - ",F84) -> Acanthus mollis L., 1753 - ACANTHUS MOLLIS L., 1753
A85: 9712 | B85: (Delile) Papenf., 1968 | E85: Acanthophora nayadiformis (Delile) Papenf., 1968 | F85: ACANTHOPHORA NAYADIFORMIS (DELILE) PAPENF., 1968 | G85: Acanthophora nayadiformis (Delile) Papenf., 1968 | H85: Acanthophora nayadiformis | I85: Acanthophora nayadiformis (Delile) Papenf., 1968 _ Acanthophora delilei Grev., 1830 _ Acanthophora delilei J.V.Lamour., 1813 _ Acanthophora najadiformis _ Chondria delilei C.Agardh, 1822 _ Fucus nayadiformis Delile, 1813 | J85: 1 | K85: I | AB85: Plantae | AC85: Rhodophyta | AD85: Florideophyceae | AE85: Ceramiales | AF85: Rhodomelaceae | AH85: Chondrieae | AI85: Algues | AJ85: Algues rouges | AK85: 370859 | AL85: 354596 | AM85: 354596 | AN85: 370859 | AO85: ES | AP85: Acan naya | AQ85: Acanthophora nayadiformis (Delile) Papenf., 1968 - ACANTHOPHORA NAYADIFORMIS (DELILE) PAPENF., 1968 | AR85: =CONCATENATE(E85," - ",F85) -> Acanthophora nayadiformis (Delile) Papenf., 1968 - ACANTHOPHORA NAYADIFORMIS (DELILE) PAPENF., 1968
A86: 4262 | B86: N.Ludw., 2006 | E86: Acanthophoenix rousselii N.Ludw., 2006 | F86: ACANTHOPHOENIX ROUSSELII N.LUDW., 2006 | G86: Acanthophoenix rousselii N.Ludw., 2006 | H86: Acanthophoenix rousselii | I86: Acanthophoenix rousselii N.Ludw., 2006 | J86: 3 | K86: A | L86: A | M86: A | N86: A | O86: A | P86: A | Q86: A | R86: A | S86: A | T86: E | U86: A | V86: A | W86: A | X86: A | Y86: A | Z86: A | AA86: A | AB86: Plantae | AD86: Equisetopsida | AE86: Arecales | AF86: Arecaceae | AI86: Plantes vasculaires | AJ86: Angiospermes | AK86: 705761 | AL86: 627836 | AM86: 627836 | AN86: 705761 | AO86: ES | AP86: Acan rous | AQ86: Acanthophoenix rousselii N.Ludw., 2006 - ACANTHOPHOENIX ROUSSELII N.LUDW., 2006 | AR86: =CONCATENATE(E86," - ",F86) -> Acanthophoenix rousselii N.Ludw., 2006 - ACANTHOPHOENIX ROUSSELII N.LUDW., 2006
A87: 36983 | B87: Juss., 1789 | D87: bear's-breech family | E87: Acanthaceae Juss., 1789 | F87: ACANTHACEAE JUSS., 1789 | G87: Acanthaceae Juss., 1789 | H87: Acanthaceae | I87: Acanthaceae Juss., 1789 _ Avicenniaceae Miq., 1845 _ Mendonciaceae Bremek., 1954 | K87: P | L87: P | M87: P | N87: P | O87: P | P87: P | R87: P | S87: P | T87: P | X87: P | Y87: P | Z87: P | AB87: Plantae | AD87: Equisetopsida | AE87: Lamiales | AF87: Acanthaceae | AI87: Plantes vasculaires | AJ87: Angiospermes | AK87: 187410 | AL87: 525386 | AM87: 525386 | AN87: 187410 | AO87: FM | AP87: Acan sp. | AQ87: Acanthaceae Juss., 1789 - ACANTHACEAE JUSS., 1789 | AR87: =CONCATENATE(E87," - ",F87) -> Acanthaceae Juss., 1789 - ACANTHACEAE JUSS., 1789
A88: 34191 | B88: J.V.Lamour., 1813 | E88: Acanthophora J.V.Lamour., 1813 | F88: ACANTHOPHORA J.V.LAMOUR., 1813 | G88: Acanthophora J.V.Lamour., 1813 | H88: Acanthophora | I88: Acanthophora J.V.Lamour., 1813 | J88: 1 | K88: P | M88: P | N88: P | O88: P | R88: P | S88: P | T88: P | X88: P | Y88: P | Z88: P | AB88: Plantae | AC88: Rhodophyta | AD88: Florideophyceae | AE88: Ceramiales | AF88: Rhodomelaceae | AH88: Chondrieae | AI88: Algues | AJ88: Algues rouges | AK88: 354596 | AL88: 830280 | AM88: 830280 | AN88: 354596 | AO88: GN | AP88: Acan sp. | AQ88: Acanthophora J.V.Lamour., 1813 - ACANTHOPHORA J.V.LAMOUR., 1813 | AR88: =CONCATENATE(E88," - ",F88) -> Acanthophora J.V.Lamour., 1813 - ACANTHOPHORA J.V.LAMOUR., 1813
A89: 35741 | B89: (Benth.) Spach, 1840 | E89: Acanthoprasium (Benth.) Spach, 1840 | F89: ACANTHOPRASIUM (BENTH.) SPACH, 1840 | G89: Acanthoprasium (Benth.) Spach, 1840 | H89: Acanthoprasium | I89: Acanthoprasium (Benth.) Spach, 1840 | K89: P | AB89: Plantae | AD89: Equisetopsida | AE89: Lamiales | AF89: Lamiaceae | AG89: Lamioideae | AH89: Marrubieae | AI89: Plantes vasculaires | AJ89: Angiospermes | AK89: 715600 | AL89: 851840 | AM89: 851840 | AN89: 715600 | AO89: GN | AP89: Acan sp. | AQ89: Acanthoprasium (Benth.) Spach, 1840 - ACANTHOPRASIUM (BENTH.) SPACH, 1840 | AR89: =CONCATENATE(E89," - ",F89) -> Acanthoprasium (Benth.) Spach, 1840 - ACANTHOPRASIUM (BENTH.) SPACH, 1840
A90: 6079 | B90: Schrank, 1819 | E90: Acanthospermum Schrank, 1819 | F90: ACANTHOSPERMUM SCHRANK, 1819 | G90: Acanthospermum Schrank, 1819 | H90: Acanthospermum | I90: Acanthospermum Schrank, 1819 | K90: I | L90: P | M90: P | N90: P | O90: P | P90: P | R90: P | T90: I | X90: P | AB90: Plantae | AD90: Equisetopsida | AE90: Asterales | AF90: Asteraceae | AI90: Plantes vasculaires | AJ90: Angiospermes | AK90: 188713 | AL90: 187227 | AM90: 187227 | AN90: 188713 | AO90: GN | AP90: Acan sp. | AQ90: Acanthospermum Schrank, 1819 - ACANTHOSPERMUM SCHRANK, 1819 | AR90: =CONCATENATE(E90," - ",F90) -> Acanthospermum Schrank, 1819 - ACANTHOSPERMUM SCHRANK, 1819
A91: 9349 | B91: L., 1753 | D91: bear's-breeches | E91: Acanthus L., 1753 | F91: ACANTHUS L., 1753 | G91: Acanthus L., 1753 | H91: Acanthus | I91: Acanthus L., 1753 | K91: P | Y91: P | AB91: Plantae | AD91: Equisetopsida | AE91: Lamiales | AF91: Acanthaceae | AI91: Plantes vasculaires | AJ91: Angiospermes | AK91: 188719 | AL91: 187410 | AM91: 187410 | AN91: 188719 | AO91: GN | AP91: Acan sp. | AQ91: Acanthus L., 1753 - ACANTHUS L., 1753 | AR91: =CONCATENATE(E91," - ",F91) -> Acanthus L., 1753 - ACANTHUS L., 1753
A92: 11201 | B92: L., 1753 | D92: Spiny Bear's-breech | E92: Acanthus spinosus L., 1753 | F92: ACANTHUS SPINOSUS L., 1753 | G92: Acanthus spinosus L., 1753 | H92: Acanthus spinosus | I92: Acanthus spinosus L., 1753 | J92: 7 | K92: M | AB92: Plantae | AD92: Equisetopsida | AE92: Lamiales | AF92: Acanthaceae | AI92: Plantes vasculaires | AJ92: Angiospermes | AK92: 79723 | AL92: 188719 | AM92: 188719 | AN92: 79723 | AO92: ES | AP92: Acan spin | AQ92: Acanthus spinosus L., 1753 - ACANTHUS SPINOSUS L., 1753 | AR92: =CONCATENATE(E92," - ",F92) -> Acanthus spinosus L., 1753 - ACANTHUS SPINOSUS L., 1753
A93: 23336 | B93: BruguÃ©s & H.A.Crum | E93: Acaulon casasianum BruguÃ©s & H.A.Crum | F93: ACAULON CASASIANUM BRUGUÃ©S & H.A.CRUM | G93: Acaulon casasianum BruguÃ©s & H.A.Crum | H93: Acaulon casasianum | I93: Acaulon casasianum BruguÃ©s & H.A.Crum | J93: 3 | K93: P | AB93: Plantae | AD93: Equisetopsida | AE93: Pottiales | AF93: Pottiaceae | AI93: Bryophytes | AJ93: Mousses | AK93: 434166 | AL93: 188727 | AM93: 188727 | AN93: 434166 | AO93: ES | AP93: Acau casa | AQ93: Acaulon casasianum BruguÃ©s & H.A.Crum - ACAULON CASASIANUM BRUGUÃ©S & H.A.CRUM | AR93: =CONCATENATE(E93," - ",F93) -> Acaulon casasianum BruguÃ©s & H.A.Crum - ACAULON CASASIANUM BRUGUÃ©S & H.A.CRUM
A94: 8999 | B94: Casas & SÃ©rgio, 1990 | E94: Acaulon fontiquerianum Casas & SÃ©rgio, 1990 | F94: ACAULON FONTIQUERIANUM CASAS & SÃ©RGIO, 1990 | G94: Acaulon fontiquerianum Casas & SÃ©rgio, 1990 | H94: Acaulon fontiquerianum | I94: Acaulon fontiquerianum Casas & SÃ©rgio, 1990 | J94: 3 | K94: P | AB94: Plantae | AD94: Equisetopsida | AE94: Pottiales | AF94: Pottiaceae | AI94: Bryophytes | AJ94: Mousses | AK94: 4858 | AL94: 188727 | AM94: 188727 | AN94: 4858 | AO94: ES | AP94: Acau font | AQ94: Acaulon fontiquerianum Casas & SÃ©rgio, 1990 - ACAULON FONTIQUERIANUM CASAS & SÃ©RGIO, 1990 | AR94: =CONCATENATE(E94," - ",F94) -> Acaulon fontiquerianum Casas & SÃ©rgio, 1990 - ACAULON FONTIQUERIANUM CASAS & SÃ©RGIO, 1990
A95: 1116 | B95: Limpr., 1885 | E95: Acaulon mediterraneum Limpr., 1885 | F95: ACAULON MEDITERRANEUM LIMPR., 1885 | G95: Acaulon mediterraneum Limpr., 1885 | H95: Acaulon mediterraneum | I95: Acaulon mediterraneum Limpr., 1885 _ Acaulon muticum var. mediterraneum (Limpr.) SÃ©rgio, 1972 | J95: 3 | K95: P | AB95: Plantae | AD95: Equisetopsida | AE95: Pottiales | AF95: Pottiaceae | AI95: Bryophytes | AJ95: Mousses | AK95: 4860 | AL95: 188727 | AM95: 188727 | AN95: 4860 | AO95: ES | AP95: Acau medi | AQ95: Acaulon mediterraneum Limpr., 1885 - ACAULON MEDITERRANEUM LIMPR., 1885 | AR95: =CONCATENATE(E95," - ",F95) -> Acaulon mediterraneum Limpr., 1885 - ACAULON MEDITERRANEUM LIMPR., 1885
A96: 38127 | B96: (Hedw.) MÃ¼ll.Hal., 1847 | D96: Rounded Pygmy-moss | E96: Acaulon muticum (Hedw.) MÃ¼ll.Hal., 1847 | F96: ACAULON MUTICUM (HEDW.) MÃ¼LL.HAL., 1847 | G96: Acaulon muticum (Hedw.) MÃ¼ll.Hal., 1847 | H96: Acaulon muticum | I96: Acaulon muticum (Hedw.) MÃ¼ll.Hal., 1847 _ Acaulon minus (Hook. & Taylor) A.Jaeger, 1869 _ Acaulon muticum var. muticum (Hedw.) MÃ¼ll.Hal. _ Phascum muticum Schreb. ex Hedw., 1801 | J96: 3 | K96: P | AB96: Plantae | AD96: Equisetopsida | AE96: Pottiales | AF96: Pottiaceae | AI96: Bryophytes | AJ96: Mousses | AK96: 4859 | AL96: 188727 | AM96: 188727 | AN96: 4859 | AO96: ES | AP96: Acau muti | AQ96: Acaulon muticum (Hedw.) MÃ¼ll.Hal., 1847 - ACAULON MUTICUM (HEDW.) MÃ¼LL.HAL., 1847 | AR96: =CONCATENATE(E96," - ",F96) -> Acaulon muticum (Hedw.) MÃ¼ll.Hal., 1847 - ACAULON MUTICUM (HEDW.) MÃ¼LL.HAL., 1847
A97: 26168 | B97: MÃ¼ll.Hal., 1847 | E97: Acaulon MÃ¼ll.Hal., 1847 | F97: ACAULON MÃ¼LL.HAL., 1847 | G97: Acaulon MÃ¼ll.Hal., 1847 | H97: Acaulon | I97: Acaulon MÃ¼ll.Hal., 1847 | J97: 3 | K97: P | AB97: Plantae | AD97: Equisetopsida | AE97: Pottiales | AF97: Pottiaceae | AI97: Bryophytes | AJ97: Mousses | AK97: 188727 | AL97: 187141 | AM97: 187141 | AN97: 188727 | AO97: GN | AP97: Acau sp. | AQ97: Acaulon MÃ¼ll.Hal., 1847 - ACAULON MÃ¼LL.HAL., 1847 | AR97: =CONCATENATE(E97," - ",F97) -> Acaulon MÃ¼ll.Hal., 1847 - ACAULON MÃ¼LL.HAL., 1847
A98: 3737 | B98: (Spruce) MÃ¼ll.Hal., 1847 | D98: Triangular Pygmy-moss | E98: Acaulon triquetrum (Spruce) MÃ¼ll.Hal., 1847 | F98: ACAULON TRIQUETRUM (SPRUCE) MÃ¼LL.HAL., 1847 | G98: Acaulon triquetrum (Spruce) MÃ¼ll.Hal., 1847 | H98: Acaulon triquetrum | I98: Acaulon triquetrum (Spruce) MÃ¼ll.Hal., 1847 | J98: 3 | K98: P | AB98: Plantae | AD98: Equisetopsida | AE98: Pottiales | AF98: Pottiaceae | AI98: Bryophytes | AJ98: Mousses | AK98: 4862 | AL98: 188727 | AM98: 188727 | AN98: 4862 | AO98: ES | AP98: Acau triq | AQ98: Acaulon triquetrum (Spruce) MÃ¼ll.Hal., 1847 - ACAULON TRIQUETRUM (SPRUCE) MÃ¼LL.HAL., 1847 | AR98: =CONCATENATE(E98," - ",F98) -> Acaulon triquetrum (Spruce) MÃ¼ll.Hal., 1847 - ACAULON TRIQUETRUM (SPRUCE) MÃ¼LL.HAL., 1847
A99: 4161 | B99: L., 1753 | C99: Ã‰rable champÃªtre, AcÃ©raille | D99: Field Maple | E99: Acer campestre L., 1753 | F99: ACER CAMPESTRE L., 1753 | G99: Acer campestre L., 1753 | H99: Acer campestre | I99: Acer campestre L., 1753 _ Acer affine Opiz, 1824 _ Acer austriacum Tratt., 1811 _ Acer bedoi BorbÃ¡s, 1887 _ Acer campestre subsp. campestre L., 1753 _ Acer heterotoma BorbÃ¡s, 1881 _ Acer microcarpon Opiz, 1824 _ Acer molle Opiz, 1824 _ Acer polycarpon Opiz, 1824 _ Acer praecox Opiz, 1852 _ Acer suberosum Dumort., 1827 _ Acer sylvestre Wender., 1831 _ Acer tauschianum Opiz, 1852 _ Acer tomentosum Kitt., 1863 _ Acer trattinickii Pohl, 1814 _ Acer vulgare Borkh., 1793 _ Acer wondracekii Opiz, 1852 _ Euacer campestre (L.) Opiz, 1852 | J99: 3 | K99: P | AB99: Plantae | AD99: Equisetopsida | AE99: Sapindales | AF99: Sapindaceae | AI99: Plantes vasculaires | AJ99: Angiospermes | AK99: 79734 | AL99: 188731 | AM99: 188731 | AN99: 79734 | AO99: ES | AP99: Acer camp | AQ99: Acer campestre L., 1753 - ACER CAMPESTRE L., 1753 | AR99: =CONCATENATE(E99," - ",F99) -> Acer campestre L., 1753 - ACER CAMPESTRE L., 1753
A100: 30504 | B100: Gled., 1785 | C100: Ã‰rable de Cappadoce | D100: Cappadocian Maple | E100: Acer cappadocicum Gled., 1785 | F100: ACER CAPPADOCICUM GLED., 1785 | G100: Acer cappadocicum Gled., 1785 | H100: Acer cappadocicum | I100: Acer cappadocicum Gled., 1785 _ Acer cappadocicum var. cultratum (Wall.) Bean _ Acer cappadocicum var. cultratum (Wall.) W.P.Fang, 1939 _ Acer colchicum Booth ex Gordon, 1840 _ Acer cultratum Wall., 1831 _ Acer hederifolium Rupr., 1870 _ Acer laetum C.A.Mey., 1831 _ Acer lobelii subsp. laetum (C.A.Mey.) Pax, 1886 _ Acer sterculiaceum J.W.Griff., 1848 | J100: 3 | K100: M | AB100: Plantae | AD100: Equisetopsida | AE100: Sapindales | AF100: Sapindaceae | AI100: Plantes vasculaires | AJ100: Angiospermes | AK100: 79735 | AL100: 188731 | AM100: 188731 | AN100: 79735 | AO100: ES | AP100: Acer capp | AQ100: Acer cappadocicum Gled., 1785 - ACER CAPPADOCICUM GLED., 1785 | AR100: =CONCATENATE(E100," - ",F100) -> Acer cappadocicum Gled., 1785 - ACER CAPPADOCICUM GLED., 1785
...

Sheet Database synonymes complete
A1: REGNE | B1: PHYLUM | C1: CLASSE | D1: ORDRE | E1: FAMILLE | F1: SOUS_FAMILLE | G1: TRIBU | H1: GROUP1_INPN | I1: GROUP2_INPN | J1: CD_NOM | K1: CD_TAXSUP | L1: CD_SUP | M1: CD_REF | N1: RANG | O1: LB_NOM | P1: LB_AUTEUR | Q1: NOM_COMPLET | R1: CODE_NOM_COMPLET (synonymes) | S1: NOM_VALIDE | T1: CODE_NOM_VALIDE | U1: NOM_VERN | V1: NOM_VERN_ENG | W1: HABITAT | X1: FR | Y1: GF | Z1: MAR | AA1: GUA | AB1: SM | AC1: SB | AD1: SPM | AE1: MAY | AF1: EPA | AG1: REU | AH1: SA | AI1: TA | AJ1: TAAF | AK1: PF | AL1: NC | AM1: WF | AN1: CLI | AP1: CODE_NOM_COMPLET (synonymes) | AQ1: CODE_NOM_VALIDE
A2: Plantae | C2: Equisetopsida | D2: Asterales | E2: Asteraceae | H2: Plantes vasculaires | I2: Angiospermes | J2: 610592 | K2: 606842 | L2: 606842 | M2: 610592 | N2: ES | O2: Aaronsohnia pubescens | P2: (Desf.) K.Bremer & Humphries, 1993 | Q2: Aaronsohnia pubescens (Desf.) K.Bremer & Humphries, 1993 | R2: Aaro pube | S2: Aaronsohnia pubescens (Desf.) K.Bremer & Humphries, 1993 | T2: Aaro pube | W2: 7 | X2: I | AP2: Aaro pube | AQ2: Aaro pube
A3: Plantae | C3: Equisetopsida | D3: Fabales | E3: Fabaceae | F3: Papilionoideae | H3: Plantes vasculaires | I3: Angiospermes | J3: 79313 | M3: 129159 | N3: ES | O3: Abacosa dumetorum | P3: (L.) Alef., 1861 | Q3: Abacosa dumetorum (L.) Alef., 1861 | R3: Abac dume | S3: Vicia dumetorum L., 1753 | T3: Vici dume | U3: Vesce des buissons, TremblarÃ¨te | W3: 7 | X3: P | AP3: Abac dume | AQ3: Vici dume
A4: Plantae | C4: Equisetopsida | D4: Fabales | E4: Fabaceae | F4: Papilionoideae | H4: Plantes vasculaires | I4: Angiospermes | J4: 79314 | M4: 129260 | N4: ES | O4: Abacosa onobrychioides | P4: (L.) Alef., 1861 | Q4: Abacosa onobrychioides (L.) Alef., 1861 | R4: Abac onob | S4: Vicia onobrychioides L., 1753 | T4: Vici onob | U4: Vesce fausse esparcette, Vesce faux Sainfoin | W4: 7 | X4: P | AP4: Abac onob | AQ4: Vici onob
A5: Plantae | C5: Equisetopsida | D5: Dioscoreales | E5: Nartheciaceae | H5: Plantes vasculaires | I5: Angiospermes | J5: 79315 | M5: 109372 | N5: ES | O5: Abama ossifraga | P5: (L.) DC., 1805 | Q5: Abama ossifraga (L.) DC., 1805 | R5: Abam ossi | S5: Narthecium ossifragum (L.) Huds., 1762 | T5: Nart ossi | U5: NarthÃ©cie des marais, Ossifrage, Brise-os | V5: Bog Asphodel | W5: 7 | X5: P | AP5: Abam ossi | AQ5: Nart ossi
A6: Plantae | C6: Equisetopsida | D6: Fabales | E6: Fabaceae | F6: Caesalpinioideae | G6: Mimoseae | H6: Plantes vasculaires | I6: Angiospermes | J6: 733813 | K6: 628277 | L6: 628277 | M6: 733813 | N6: ES | O6: Abarema gallorum | P6: Barneby & J.W.Grimes, 1996 | Q6: Abarema gallorum Barneby & J.W.Grimes, 1996 | R6: Abar gall | S6: Abarema gallorum Barneby & J.W.Grimes, 1996 | T6: Abar gall | W6: 3 | X6: A | Y6: E | Z6: A | AA6: A | AB6: A | AC6: A | AD6: A | AE6: A | AF6: A | AG6: A | AH6: A | AI6: A | AJ6: A | AK6: A | AL6: A | AM6: A | AN6: A | AP6: Abar gall | AQ6: Abar gall
A7: Plantae | C7: Equisetopsida | D7: Brassicales | E7: Brassicaceae | H7: Plantes vasculaires | I7: Angiospermes | J7: 79316 | M7: 83285 | N7: ES | O7: Abasicarpon patulum | P7: (Weinm.) Andrz. ex Rchb., 1828 | Q7: Abasicarpon patulum (Weinm.) Andrz. ex Rchb., 1828 | R7: Abas patu | S7: Arabis auriculata Lam., 1783 | T7: Arab auri | U7: Arabette dressÃ©e, Arabette auriculÃ©e | W7: 7 | X7: P | AP7: Abas patu | AQ7: Arab auri
A8: Plantae | C8: Equisetopsida | D8: Alismatales | E8: Juncaginaceae | H8: Plantes vasculaires | I8: Angiospermes | J8: 79317 | M8: 127547 | N8: ES | O8: Abbotia palustris | P8: (L.) Raf., 1836 | Q8: Abbotia palustris (L.) Raf., 1836 | R8: Abbo palu | S8: Triglochin palustris L., 1753 | T8: Trig palu | U8: Troscart des marais | V8: Marsh Arrowgrass | W8: 7 | X8: P | AD8: P | AP8: Abbo palu | AQ8: Trig palu
A9: Plantae | C9: Equisetopsida | D9: Alismatales | E9: Juncaginaceae | H9: Plantes vasculaires | I9: Angiospermes | J9: 79318 | M9: 127537 | N9: ES | O9: Abbotia pumila | P9: Raf., 1836 | Q9: Abbotia pumila Raf., 1836 | R9: Abbo pumi | S9: Triglochin barrelieri Loisel., 1807 | T9: Trig barr | U9: Troscart de Barrelier | W9: 7 | X9: P | AP9: Abbo pumi | AQ9: Trig barr
A10: Plantae | C10: Equisetopsida | D10: Pinales | E10: Pinaceae | H10: Plantes vasculaires | I10: Gymnospermes | J10: 79319 | K10: 188665 | L10: 188665 | M10: 79319 | N10: ES | O10: Abies alba | P10: Mill., 1768 | Q10: Abies alba Mill., 1768 | R10: Abie alba | S10: Abies alba Mill., 1768 | T10: Abie alba | U10: Sapin pectinÃ©, Sapin Ã feuilles d'If | V10: European Silver-fir | W10: 3 | X10: P | AP10: Abie alba | AQ10: Abie alba
A11: Plantae | C11: Equisetopsida | D11: Pinales | E11: Pinaceae | H11: Plantes vasculaires | I11: Gymnospermes | J11: 79320 | M11: 127896 | N11: ES | O11: Abies albertiana | P11: A.Murray, 1863 | Q11: Abies albertiana A.Murray, 1863 | R11: Abie albe | S11: Tsuga heterophylla (Raf.) Sarg., 1899 | T11: Tsug hete | U11: Tsuga de Californie | V11: Western Hemlock | W11: 3 | X11: M | AP11: Abie albe | AQ11: Tsug hete
A12: Plantae | C12: Equisetopsida | D12: Pinales | E12: Pinaceae | H12: Plantes vasculaires | I12: Gymnospermes | J12: 621361 | M12: 611374 | N12: ES | O12: Abies alcoquiana | P12: Veitch ex Lindl., 1861 | Q12: Abies alcoquiana Veitch ex Lindl., 1861 | R12: Abie alco | S12: Picea alcoquiana (Veitch ex Lindl.) CarriÃ¨re, 1867 | T12: Pice alco | W12: 7 | X12: M | AP12: Abie alco | AQ12: Pice alco
A13: Plantae | C13: Equisetopsida | D13: Pinales | E13: Pinaceae | H13: Plantes vasculaires | I13: Gymnospermes | J13: 79321 | M13: 113432 | N13: ES | O13: Abies alpestris | P13: BrÃ¼gger, 1886 | Q13: Abies alpestris BrÃ¼gger, 1886 | R13: Abie alpe | S13: Picea abies (L.) H.Karst., 1881 | T13: Pice abie | U13: Ã‰picÃ©a commun, SÃ©rente | V13: Norway Spruce | W13: 3 | X13: P | AP13: Abie alpe | AQ13: Pice abie
A14: Plantae | C14: Equisetopsida | D14: Pinales | E14: Pinaceae | H14: Plantes vasculaires | I14: Gymnospermes | J14: 717018 | K14: 188665 | L14: 188665 | M14: 717018 | N14: ES | O14: Abies amabilis | P14: J.Forbes | Q14: Abies amabilis J.Forbes | R14: Abie amab | S14: Abies amabilis J.Forbes | T14: Abie amab | W14: 7 | X14: M | AP14: Abie amab | AQ14: Abie amab
A15: Plantae | C15: Equisetopsida | D15: Pinales | E15: Pinaceae | H15: Plantes vasculaires | I15: Gymnospermes | J15: 79322 | M15: 79325 | N15: ES | O15: Abies apollinis | P15: Link, 1841 | Q15: Abies apollinis Link, 1841 | R15: Abie apol | S15: Abies cephalonica Loudon, 1838 | T15: Abie ceph | U15: Sapin de CÃ©phalonie | V15: Greek Fir | W15: 3 | X15: I | AP15: Abie apol | AQ15: Abie ceph
A16: Plantae | C16: Equisetopsida | D16: Pinales | E16: Pinaceae | H16: Plantes vasculaires | I16: Gymnospermes | J16: 717022 | K16: 188665 | L16: 188665 | M16: 717022 | N16: ES | O16: Abies balsamea | P16: (L.) Mill., 1768 | Q16: Abies balsamea (L.) Mill., 1768 | R16: Abie bals | S16: Abies balsamea (L.) Mill., 1768 | T16: Abie bals | U16: Sapin baumier | W16: 3 | X16: M | AD16: P | AP16: Abie bals | AQ16: Abie bals
A17: Plantae | C17: Equisetopsida | D17: Pinales | E17: Pinaceae | H17: Plantes vasculaires | I17: Gymnospermes | J17: 79323 | K17: 188665 | L17: 188665 | M17: 79323 | N17: ES | O17: Abies bornmuelleriana | P17: Mattf., 1925 | Q17: Abies bornmuelleriana Mattf., 1925 | R17: Abie born | S17: Abies bornmuelleriana Mattf., 1925 | T17: Abie born | U17: Sapin de Turquie | W17: 3 | X17: M | AP17: Abie born | AQ17: Abie born
A18: Plantae | C18: Equisetopsida | D18: Pinales | E18: Pinaceae | H18: Plantes vasculaires | I18: Gymnospermes | J18: 621648 | M18: 611392 | N18: ES | O18: Abies brachytyla | P18: Franch., 1899 | Q18: Abies brachytyla Franch., 1899 | R18: Abie brac | S18: Picea brachytyla (Franch.) E.Pritz., 1900 | T18: Pice brac | W18: 7 | X18: M | AP18: Abie brac | AQ18: Pice brac
A19: Plantae | C19: Equisetopsida | D19: Pinales | E19: Pinaceae | H19: Plantes vasculaires | I19: Gymnospermes | J19: 717023 | K19: 188665 | L19: 188665 | M19: 717023 | N19: ES | O19: Abies bracteata | P19: (D.Don) Poit., 1845 | Q19: Abies bracteata (D.Don) Poit., 1845 | R19: Abie brac | S19: Abies bracteata (D.Don) Poit., 1845 | T19: Abie brac | W19: 7 | X19: M | AP19: Abie brac | AQ19: Abie brac
A20: Plantae | C20: Equisetopsida | D20: Pinales | E20: Pinaceae | H20: Plantes vasculaires | I20: Gymnospermes | J20: 79324 | M20: 127896 | N20: ES | O20: Abies bridgesii | P20: Kellogg, 1863 | Q20: Abies bridgesii Kellogg, 1863 | R20: Abie brid | S20: Tsuga heterophylla (Raf.) Sarg., 1899 | T20: Tsug hete | U20: Tsuga de Californie | V20: Western Hemlock | W20: 3 | X20: M | AP20: Abie brid | AQ20: Tsug hete
A21: Plantae | C21: Equisetopsida | D21: Pinales | E21: Pinaceae | H21: Plantes vasculaires | I21: Gymnospermes | J21: 772010 | M21: 611390 | N21: ES | O21: Abies canadensis | P21: Mill., 1768 | Q21: Abies canadensis Mill., 1768 | R21: Abie cana | S21: Picea glauca (Moench) Voss, 1907 | T21: Pice glau | U21: EpicÃ©a blanc | W21: 3 | X21: M | AD21: P | AP21: Abie cana | AQ21: Pice glau
A22: Plantae | C22: Equisetopsida | D22: Pinales | E22: Pinaceae | H22: Plantes vasculaires | I22: Gymnospermes | J22: 79325 | K22: 188665 | L22: 188665 | M22: 79325 | N22: ES | O22: Abies cephalonica | P22: Loudon, 1838 | Q22: Abies cephalonica Loudon, 1838 | R22: Abie ceph | S22: Abies cephalonica Loudon, 1838 | T22: Abie ceph | U22: Sapin de CÃ©phalonie | V22: Greek Fir | W22: 3 | X22: I | AP22: Abie ceph | AQ22: Abie ceph
A23: Plantae | C23: Equisetopsida | D23: Pinales | E23: Pinaceae | H23: Plantes vasculaires | I23: Gymnospermes | J23: 717024 | K23: 188665 | L23: 188665 | M23: 717024 | N23: ES | O23: Abies chensiensis | P23: Tiegh., 1892 | Q23: Abies chensiensis Tiegh., 1892 | R23: Abie chen | S23: Abies chensiensis Tiegh., 1892 | T23: Abie chen | W23: 7 | X23: M | AP23: Abie chen | AQ23: Abie chen
A24: Plantae | C24: Equisetopsida | D24: Pinales | E24: Pinaceae | H24: Plantes vasculaires | I24: Gymnospermes | J24: 718869 | M24: 717688 | N24: ES | O24: Abies chinensis | P24: Franch., 1899 | Q24: Abies chinensis Franch., 1899 | R24: Abie chin | S24: Tsuga chinensis (Franch.) E.Pritz., 1900 | T24: Tsug chin | W24: 7 | X24: M | AP24: Abie chin | AQ24: Tsug chin
A25: Plantae | C25: Equisetopsida | D25: Pinales | E25: Pinaceae | H25: Plantes vasculaires | I25: Gymnospermes | J25: 717025 | K25: 188665 | L25: 188665 | M25: 717025 | N25: ES | O25: Abies cilicica | P25: (Antoine & Kotschy) CarriÃ¨re, 1855 | Q25: Abies cilicica (Antoine & Kotschy) CarriÃ¨re, 1855 | R25: Abie cili | S25: Abies cilicica (Antoine & Kotschy) CarriÃ¨re, 1855 | T25: Abie cili | W25: 3 | X25: M | AP25: Abie cili | AQ25: Abie cili
A26: Plantae | C26: Equisetopsida | D26: Pinales | E26: Pinaceae | H26: Plantes vasculaires | I26: Gymnospermes | J26: 79326 | M26: 113432 | N26: ES | O26: Abies cinerea | P26: Borkh., 1800 | Q26: Abies cinerea Borkh., 1800 | R26: Abie cine | S26: Picea abies (L.) H.Karst., 1881 | T26: Pice abie | U26: Ã‰picÃ©a commun, SÃ©rente | V26: Norway Spruce | W26: 3 | X26: P | AP26: Abie cine | AQ26: Pice abie
A27: Plantae | C27: Equisetopsida | D27: Pinales | E27: Pinaceae | H27: Plantes vasculaires | I27: Gymnospermes | J27: 79327 | K27: 188665 | L27: 188665 | M27: 79327 | N27: ES | O27: Abies concolor | P27: (Gordon & Glend.) Lindl. ex Hildebr., 1861 | Q27: Abies concolor (Gordon & Glend.) Lindl. ex Hildebr., 1861 | R27: Abie conc | S27: Abies concolor (Gordon & Glend.) Lindl. ex Hildebr., 1861 | T27: Abie conc | U27: Sapin du Colorado | V27: Colorado White-fir | W27: 3 | X27: M | AP27: Abie conc | AQ27: Abie conc
A28: Plantae | C28: Equisetopsida | D28: Pinales | E28: Pinaceae | H28: Plantes vasculaires | I28: Gymnospermes | J28: 717026 | K28: 188665 | L28: 188665 | M28: 717026 | N28: ES | O28: Abies delavayi | P28: Franch., 1899 | Q28: Abies delavayi Franch., 1899 | R28: Abie dela | S28: Abies delavayi Franch., 1899 | T28: Abie dela | W28: 7 | X28: M | AP28: Abie dela | AQ28: Abie dela
A29: Plantae | C29: Equisetopsida | D29: Pinales | E29: Pinaceae | H29: Plantes vasculaires | I29: Gymnospermes | J29: 79328 | M29: 89454 | N29: ES | O29: Abies deodara | P29: (Roxb. ex D.Don) Lindl., 1833 | Q29: Abies deodara (Roxb. ex D.Don) Lindl., 1833 | R29: Abie deod | S29: Cedrus deodara (Roxb. ex D.Don) G.Don, 1830 | T29: Cedr deod | U29: CÃ¨dre de l'Himalaya | V29: Deodar | W29: 3 | X29: M | AP29: Abie deod | AQ29: Cedr deod
A30: Plantae | C30: Equisetopsida | D30: Pinales | E30: Pinaceae | H30: Plantes vasculaires | I30: Gymnospermes | J30: 718870 | M30: 717689 | N30: ES | O30: Abies diversifolia | P30: Maxim., 1867 | Q30: Abies diversifolia Maxim., 1867 | R30: Abie dive | S30: Tsuga diversifolia (Maxim.) Mast., 1881 | T30: Tsug dive | W30: 7 | X30: M | AP30: Abie dive | AQ30: Tsug dive
A31: Plantae | C31: Equisetopsida | D31: Pinales | E31: Pinaceae | H31: Plantes vasculaires | I31: Gymnospermes | J31: 79329 | M31: 116216 | N31: ES | O31: Abies douglasii | P31: Lindl., 1833 | Q31: Abies douglasii Lindl., 1833 | R31: Abie doug | S31: Pseudotsuga menziesii (Mirb.) Franco, 1950 | T31: Pseu menz | U31: Sapin de Douglas, Pin de l'OrÃ©gon | V31: Douglas Fir | W31: 3 | X31: M | AP31: Abie doug | AQ31: Pseu menz
A32: Plantae | C32: Equisetopsida | D32: Pinales | E32: Pinaceae | H32: Plantes vasculaires | I32: Gymnospermes | J32: 160523 | M32: 113434 | N32: ES | O32: Abies engelmannii | P32: Parry, 1863 | Q32: Abies engelmannii Parry, 1863 | R32: Abie enge | S32: Picea engelmannii Parry ex Engelm., 1863 | T32: Pice enge | V32: Engelmann Spruce | W32: 7 | X32: M | AP32: Abie enge | AQ32: Pice enge
A33: Plantae | C33: Equisetopsida | D33: Pinales | E33: Pinaceae | H33: Plantes vasculaires | I33: Gymnospermes | J33: 789046 | M33: 79323 | N33: ES | O33: Abies equi-trojani | P33: (Asch. & Sint. ex Boiss.) Mattf., 1925 | Q33: Abies equi-trojani (Asch. & Sint. ex Boiss.) Mattf., 1925 | R33: Abie equi | S33: Abies bornmuelleriana Mattf., 1925 | T33: Abie born | U33: Sapin de Turquie | W33: 3 | X33: M | AP33: Abie equi | AQ33: Abie born
A34: Plantae | C34: Equisetopsida | D34: Pinales | E34: Pinaceae | H34: Plantes vasculaires | I34: Gymnospermes | J34: 717027 | K34: 188665 | L34: 188665 | M34: 717027 | N34: ES | O34: Abies ernestii | P34: Rehder, 1939 | Q34: Abies ernestii Rehder, 1939 | R34: Abie erne | S34: Abies ernestii Rehder, 1939 | T34: Abie erne | W34: 7 | X34: M | AP34: Abie erne | AQ34: Abie erne
A35: Plantae | C35: Equisetopsida | D35: Pinales | E35: Pinaceae | H35: Plantes vasculaires | I35: Gymnospermes | J35: 79330 | M35: 113432 | N35: ES | O35: Abies excelsa | P35: Poir., 1805 | Q35: Abies excelsa Poir., 1805 | R35: Abie exce | S35: Picea abies (L.) H.Karst., 1881 | T35: Pice abie | U35: Ã‰picÃ©a commun, SÃ©rente | V35: Norway Spruce | W35: 3 | X35: P | AP35: Abie exce | AQ35: Pice abie
A36: Plantae | C36: Equisetopsida | D36: Pinales | E36: Pinaceae | H36: Plantes vasculaires | I36: Gymnospermes | J36: 717028 | K36: 188665 | L36: 188665 | M36: 717028 | N36: ES | O36: Abies fabri | P36: (Mast.) Craib, 1920 | Q36: Abies fabri (Mast.) Craib, 1920 | R36: Abie fabr | S36: Abies fabri (Mast.) Craib, 1920 | T36: Abie fabr | W36: 7 | X36: M | AP36: Abie fabr | AQ36: Abie fabr
A37: Plantae | C37: Equisetopsida | D37: Pinales | E37: Pinaceae | H37: Plantes vasculaires | I37: Gymnospermes | J37: 79331 | M37: 113444 | N37: ES | O37: Abies falcata | P37: Raf., 1832 | Q37: Abies falcata Raf., 1832 | R37: Abie falc | S37: Picea sitchensis (Bong.) CarriÃ¨re, 1855 | T37: Pice sitc | U37: Ã‰picÃ©a de Sitka | V37: Sitka Spruce | W37: 3 | X37: M | AP37: Abie falc | AQ37: Pice sitc
A38: Plantae | C38: Equisetopsida | D38: Pinales | E38: Pinaceae | H38: Plantes vasculaires | I38: Gymnospermes | J38: 717029 | K38: 188665 | L38: 188665 | M38: 717029 | N38: ES | O38: Abies firma | P38: Siebold & Zucc., 1842 | Q38: Abies firma Siebold & Zucc., 1842 | R38: Abie firm | S38: Abies firma Siebold & Zucc., 1842 | T38: Abie firm | W38: 7 | X38: M | AP38: Abie firm | AQ38: Abie firm
A39: Plantae | C39: Equisetopsida | D39: Pinales | E39: Pinaceae | H39: Plantes vasculaires | I39: Gymnospermes | J39: 717030 | K39: 188665 | L39: 188665 | M39: 717030 | N39: ES | O39: Abies forrestii | P39: Coltm.-Rog., 1919 | Q39: Abies forrestii Coltm.-Rog., 1919 | R39: Abie forr | S39: Abies forrestii Coltm.-Rog., 1919 | T39: Abie forr | W39: 7 | X39: M | AP39: Abie forr | AQ39: Abie forr
A40: Plantae | C40: Equisetopsida | D40: Pinales | E40: Pinaceae | H40: Plantes vasculaires | I40: Gymnospermes | J40: 789168 | M40: 717022 | N40: ES | O40: Abies fraseri | P40: (Pursh) Poir., 1817 | Q40: Abies fraseri (Pursh) Poir., 1817 | R40: Abie fras | S40: Abies balsamea (L.) Mill., 1768 | T40: Abie bals | U40: Sapin baumier | W40: 3 | X40: M | AD40: P | AP40: Abie fras | AQ40: Abie bals
A41: Plantae | C41: Equisetopsida | D41: Pinales | E41: Pinaceae | H41: Plantes vasculaires | I41: Gymnospermes | J41: 717031 | K41: 188665 | L41: 188665 | M41: 717031 | N41: ES | O41: Abies georgei | P41: Orr, 1933 | Q41: Abies georgei Orr, 1933 | R41: Abie geor | S41: Abies georgei Orr, 1933 | T41: Abie geor | W41: 7 | X41: M | AP41: Abie geor | AQ41: Abie geor
A42: Plantae | C42: Equisetopsida | D42: Pinales | E42: Pinaceae | H42: Plantes vasculaires | I42: Gymnospermes | J42: 79332 | M42: 79333 | N42: ES | O42: Abies gordoniana | P42: CarriÃ¨re, 1867 | Q42: Abies gordoniana CarriÃ¨re, 1867 | R42: Abie gord | S42: Abies grandis (Douglas ex D.Don) Lindl., 1833 | T42: Abie gran | U42: Sapin de Vancouver, Sapin de l'OrÃ©gon | V42: Giant Fir | W42: 3 | X42: I | AP42: Abie gord | AQ42: Abie gran
A43: Plantae | C43: Equisetopsida | D43: Pinales | E43: Pinaceae | H43: Plantes vasculaires | I43: Gymnospermes | J43: 79333 | K43: 188665 | L43: 188665 | M43: 79333 | N43: ES | O43: Abies grandis | P43: (Douglas ex D.Don) Lindl., 1833 | Q43: Abies grandis (Douglas ex D.Don) Lindl., 1833 | R43: Abie gran | S43: Abies grandis (Douglas ex D.Don) Lindl., 1833 | T43: Abie gran | U43: Sapin de Vancouver, Sapin de l'OrÃ©gon | V43: Giant Fir | W43: 3 | X43: I | AP43: Abie gran | AQ43: Abie gran
A44: Plantae | C44: Equisetopsida | D44: Pinales | E44: Pinaceae | H44: Plantes vasculaires | I44: Gymnospermes | J44: 79334 | M44: 127896 | N44: ES | O44: Abies heterophylla | P44: Raf., 1832 | Q44: Abies heterophylla Raf., 1832 | R44: Abie hete | S44: Tsuga heterophylla (Raf.) Sarg., 1899 | T44: Tsug hete | U44: Tsuga de Californie | V44: Western Hemlock | W44: 3 | X44: M | AP44: Abie hete | AQ44: Tsug hete
A45: Plantae | C45: Equisetopsida | D45: Pinales | E45: Pinaceae | H45: Plantes vasculaires | I45: Gymnospermes | J45: 79335 | M45: 79349 | N45: ES | O45: Abies hispanica | P45: Chambray, 1845 | Q45: Abies hispanica Chambray, 1845 | R45: Abie hisp | S45: Abies pinsapo Boiss., 1838 | T45: Abie pins | U45: Sapin d'Espagne | V45: Spanish Fir | W45: 3 | X45: M | AP45: Abie hisp | AQ45: Abie pins
A46: Plantae | C46: Equisetopsida | D46: Pinales | E46: Pinaceae | H46: Plantes vasculaires | I46: Gymnospermes | J46: 717033 | K46: 188665 | L46: 188665 | M46: 717033 | N46: ES | O46: Abies holophylla | P46: Maxim., 1866 | Q46: Abies holophylla Maxim., 1866 | R46: Abie holo | S46: Abies holophylla Maxim., 1866 | T46: Abie holo | W46: 7 | X46: M | AP46: Abie holo | AQ46: Abie holo
A47: Plantae | C47: Equisetopsida | D47: Pinales | E47: Pinaceae | H47: Plantes vasculaires | I47: Gymnospermes | J47: 772247 | M47: 717022 | N47: ES | O47: Abies hudsonia | P47: Bosc ex Jacques, 1829 | Q47: Abies hudsonia Bosc ex Jacques, 1829 | R47: Abie huds | S47: Abies balsamea (L.) Mill., 1768 | T47: Abie bals | U47: Sapin baumier | W47: 3 | X47: M | AD47: P | AP47: Abie huds | AQ47: Abie bals
A48: Plantae | C48: Equisetopsida | D48: Pinales | E48: Pinaceae | H48: Plantes vasculaires | I48: Gymnospermes | J48: 79336 | M48: 105044 | N48: ES | O48: Abies kaempferi | P48: Lindl., 1833 | Q48: Abies kaempferi Lindl., 1833 | R48: Abie kaem | S48: Larix kaempferi (Lindl.) CarriÃ¨re, 1856 | T48: Lari kaem | U48: MÃ©lÃ¨ze du Japon | V48: Japanese Larch | W48: 3 | X48: M | AP48: Abie kaem | AQ48: Lari kaem
A49: Plantae | C49: Equisetopsida | D49: Pinales | E49: Pinaceae | H49: Plantes vasculaires | I49: Gymnospermes | J49: 717034 | K49: 188665 | L49: 188665 | M49: 717034 | N49: ES | O49: Abies kawakamii | P49: (Hayata) T.ItÃ´ | Q49: Abies kawakamii (Hayata) T.ItÃ´ | R49: Abie kawa | S49: Abies kawakamii (Hayata) T.ItÃ´ | T49: Abie kawa | W49: 7 | X49: M | AP49: Abie kawa | AQ49: Abie kawa
A50: Plantae | C50: Equisetopsida | D50: Pinales | E50: Pinaceae | H50: Plantes vasculaires | I50: Gymnospermes | J50: 717035 | K50: 188665 | L50: 188665 | M50: 717035 | N50: ES | O50: Abies koreana | P50: E.H.Wilson, 1920 | Q50: Abies koreana E.H.Wilson, 1920 | R50: Abie kore | S50: Abies koreana E.H.Wilson, 1920 | T50: Abie kore | W50: 7 | X50: M | AP50: Abie kore | AQ50: Abie kore
A51: Plantae | C51: Equisetopsida | D51: Pinales | E51: Pinaceae | H51: Plantes vasculaires | I51: Gymnospermes | J51: 79337 | M51: 79325 | N51: ES | O51: Abies kukunaria | P51: Wender., 1831 | Q51: Abies kukunaria Wender., 1831 | R51: Abie kuku | S51: Abies cephalonica Loudon, 1838 | T51: Abie ceph | U51: Sapin de CÃ©phalonie | V51: Greek Fir | W51: 3 | X51: I | AP51: Abie kuku | AQ51: Abie ceph
A52: Plantae | C52: Equisetopsida | D52: Pinales | E52: Pinaceae | H52: Plantes vasculaires | I52: Gymnospermes | J52: 79338 | M52: 105042 | N52: ES | O52: Abies larix | P52: (L.) Poir., 1805 | Q52: Abies larix (L.) Poir., 1805 | R52: Abie lari | S52: Larix decidua Mill., 1768 | T52: Lari deci | U52: MÃ©lÃ¨ze d'Europe, Pin de BrianÃ§on | V52: European Larch | W52: 3 | X52: P | AP52: Abie lari | AQ52: Lari deci
A53: Plantae | C53: Equisetopsida | D53: Pinales | E53: Pinaceae | H53: Plantes vasculaires | I53: Gymnospermes | J53: 717036 | K53: 188665 | L53: 188665 | M53: 717036 | N53: ES | O53: Abies lasiocarpa | P53: (Hook.) Nutt., 1849 | Q53: Abies lasiocarpa (Hook.) Nutt., 1849 | R53: Abie lasi | S53: Abies lasiocarpa (Hook.) Nutt., 1849 | T53: Abie lasi | W53: 7 | X53: M | AP53: Abie lasi | AQ53: Abie lasi
A54: Plantae | C54: Equisetopsida | D54: Pinales | E54: Pinaceae | H54: Plantes vasculaires | I54: Gymnospermes | J54: 79339 | M54: 105044 | N54: ES | O54: Abies leptolepis | P54: Siebold & Zucc., 1846 | Q54: Abies leptolepis Siebold & Zucc., 1846 | R54: Abie lept | S54: Larix kaempferi (Lindl.) CarriÃ¨re, 1856 | T54: Lari kaem | U54: MÃ©lÃ¨ze du Japon | V54: Japanese Larch | W54: 3 | X54: M | AP54: Abie lept | AQ54: Lari kaem
A55: Plantae | C55: Equisetopsida | D55: Pinales | E55: Pinaceae | H55: Plantes vasculaires | I55: Gymnospermes | J55: 621649 | M55: 611377 | N55: ES | O55: Abies likiangensis | P55: Franch., 1899 | Q55: Abies likiangensis Franch., 1899 | R55: Abie liki | S55: Picea likiangensis (Franch.) E.Pritz., 1900 | T55: Pice liki | W55: 7 | X55: M | AP55: Abie liki | AQ55: Pice liki
A56: Plantae | C56: Equisetopsida | D56: Pinales | E56: Pinaceae | H56: Plantes vasculaires | I56: Gymnospermes | J56: 159901 | K56: 188665 | L56: 188665 | M56: 159901 | N56: ES | O56: Abies lowiana | P56: (Gordon) A.Murray, 1863 | Q56: Abies lowiana (Gordon) A.Murray, 1863 | R56: Abie lowi | S56: Abies lowiana (Gordon) A.Murray, 1863 | T56: Abie lowi | W56: 7 | X56: M | AP56: Abie lowi | AQ56: Abie lowi
A57: Plantae | C57: Equisetopsida | D57: Pinales | E57: Pinaceae | H57: Plantes vasculaires | I57: Gymnospermes | J57: 717037 | K57: 188665 | L57: 188665 | M57: 717037 | N57: ES | O57: Abies magnifica | P57: A.Murray, 1863 | Q57: Abies magnifica A.Murray, 1863 | R57: Abie magn | S57: Abies magnifica A.Murray, 1863 | T57: Abie magn | W57: 7 | X57: M | AP57: Abie magn | AQ57: Abie magn
A58: Plantae | C58: Equisetopsida | D58: Pinales | E58: Pinaceae | H58: Plantes vasculaires | I58: Gymnospermes | J58: 79340 | M58: 113432 | N58: ES | O58: Abies medioxima | P58: C.Lawson, 1866 | Q58: Abies medioxima C.Lawson, 1866 | R58: Abie medi | S58: Picea abies (L.) H.Karst., 1881 | T58: Pice abie | U58: Ã‰picÃ©a commun, SÃ©rente | V58: Norway Spruce | W58: 3 | X58: P | AP58: Abie medi | AQ58: Pice abie
A59: Plantae | C59: Equisetopsida | D59: Pinales | E59: Pinaceae | H59: Plantes vasculaires | I59: Gymnospermes | J59: 79341 | M59: 113444 | N59: ES | O59: Abies menziesii | P59: Lindl., 1833 | Q59: Abies menziesii Lindl., 1833 | R59: Abie menz | S59: Picea sitchensis (Bong.) CarriÃ¨re, 1855 | T59: Pice sitc | U59: Ã‰picÃ©a de Sitka | V59: Sitka Spruce | W59: 3 | X59: M | AP59: Abie menz | AQ59: Pice sitc
A60: Plantae | C60: Equisetopsida | D60: Pinales | E60: Pinaceae | H60: Plantes vasculaires | I60: Gymnospermes | J60: 79343 | M60: 116216 | N60: ES | O60: Abies mucronata | P60: Raf., 1832 | Q60: Abies mucronata Raf., 1832 | R60: Abie mucr | S60: Pseudotsuga menziesii (Mirb.) Franco, 1950 | T60: Pseu menz | U60: Sapin de Douglas, Pin de l'OrÃ©gon | V60: Douglas Fir | W60: 3 | X60: M | AP60: Abie mucr | AQ60: Pseu menz
A61: Plantae | C61: Equisetopsida | D61: Pinales | E61: Pinaceae | H61: Plantes vasculaires | I61: Gymnospermes | J61: 717038 | K61: 188665 | L61: 188665 | M61: 717038 | N61: ES | O61: Abies nebrodensis | P61: (Lojac.) Mattei, 1908 | Q61: Abies nebrodensis (Lojac.) Mattei, 1908 | R61: Abie nebr | S61: Abies nebrodensis (Lojac.) Mattei, 1908 | T61: Abie nebr | W61: 7 | X61: M | AP61: Abie nebr | AQ61: Abie nebr
A62: Plantae | C62: Equisetopsida | D62: Pinales | E62: Pinaceae | H62: Plantes vasculaires | I62: Gymnospermes | J62: 79344 | M62: 79350 | N62: ES | O62: Abies nobilis | P62: (Douglas ex Lamb.) Lindl., 1833 | Q62: Abies nobilis (Douglas ex Lamb.) Lindl., 1833 | R62: Abie nobi | S62: Abies procera Rehder, 1949 | T62: Abie proc | V62: Noble Fir | W62: 3 | X62: M | AP62: Abie nobi | AQ62: Abie proc
A63: Plantae | C63: Equisetopsida | D63: Pinales | E63: Pinaceae | H63: Plantes vasculaires | I63: Gymnospermes | J63: 79345 | K63: 188665 | L63: 188665 | M63: 79345 | N63: ES | O63: Abies nordmanniana | P63: (Steven) Spach, 1841 | Q63: Abies nordmanniana (Steven) Spach, 1841 | R63: Abie nord | S63: Abies nordmanniana (Steven) Spach, 1841 | T63: Abie nord | U63: Sapin de Nordmann, Sapin du Caucase, Sapin de CrimÃ©e | V63: Caucasian Fir | W63: 3 | X63: I | AP63: Abie nord | AQ63: Abie nord
A64: Plantae | C64: Equisetopsida | D64: Pinales | E64: Pinaceae | H64: Plantes vasculaires | I64: Gymnospermes | J64: 717039 | K64: 188665 | L64: 188665 | M64: 717039 | N64: ES | O64: Abies numidica | P64: Lannoy ex CarriÃ¨re, 1866 | Q64: Abies numidica Lannoy ex CarriÃ¨re, 1866 | R64: Abie numi | S64: Abies numidica Lannoy ex CarriÃ¨re, 1866 | T64: Abie numi | W64: 3 | X64: I | AP64: Abie numi | AQ64: Abie numi
A65: Plantae | C65: Equisetopsida | D65: Pinales | E65: Pinaceae | H65: Plantes vasculaires | I65: Gymnospermes | J65: 79346 | K65: 188665 | L65: 188665 | M65: 79346 | N65: ES | O65: Abies pardei | P65: Gaussen, 1929 | Q65: Abies pardei Gaussen, 1929 | R65: Abie pard | S65: Abies pardei Gaussen, 1929 | T65: Abie pard | U65: Sapin de PardÃ© | W65: 7 | X65: M | AP65: Abie pard | AQ65: Abie pard
A66: Plantae | C66: Equisetopsida | D66: Pinales | E66: Pinaceae | H66: Plantes vasculaires | I66: Gymnospermes | J66: 79347 | M66: 79319 | N66: ES | O66: Abies pectinata | P66: (Lam.) DC., 1805 | Q66: Abies pectinata (Lam.) DC., 1805 | R66: Abie pect | S66: Abies alba Mill., 1768 | T66: Abie alba | U66: Sapin pectinÃ©, Sapin Ã feuilles d'If | V66: European Silver-fir | W66: 3 | X66: P | AP66: Abie pect | AQ66: Abie alba
A67: Plantae | C67: Equisetopsida | D67: Pinales | E67: Pinaceae | H67: Plantes vasculaires | I67: Gymnospermes | J67: 79348 | M67: 113432 | N67: ES | O67: Abies picea | P67: Mill., 1768 | Q67: Abies picea Mill., 1768 | R67: Abie pice | S67: Picea abies (L.) H.Karst., 1881 | T67: Pice abie | U67: Ã‰picÃ©a commun, SÃ©rente | V67: Norway Spruce | W67: 3 | X67: P | AP67: Abie pice | AQ67: Pice abie
A68: Plantae | C68: Equisetopsida | D68: Pinales | E68: Pinaceae | H68: Plantes vasculaires | I68: Gymnospermes | J68: 717040 | K68: 188665 | L68: 188665 | M68: 717040 | N68: ES | O68: Abies pindrow | P68: (Royle ex D.Don) Royle, 1836 | Q68: Abies pindrow (Royle ex D.Don) Royle, 1836 | R68: Abie pind | S68: Abies pindrow (Royle ex D.Don) Royle, 1836 | T68: Abie pind | W68: 7 | X68: M | AP68: Abie pind | AQ68: Abie pind
A69: Plantae | C69: Equisetopsida | D69: Pinales | E69: Pinaceae | H69: Plantes vasculaires | I69: Gymnospermes | J69: 79349 | K69: 188665 | L69: 188665 | M69: 79349 | N69: ES | O69: Abies pinsapo | P69: Boiss., 1838 | Q69: Abies pinsapo Boiss., 1838 | R69: Abie pins | S69: Abies pinsapo Boiss., 1838 | T69: Abie pins | U69: Sapin d'Espagne | V69: Spanish Fir | W69: 3 | X69: M | AP69: Abie pins | AQ69: Abie pins
A70: Plantae | C70: Equisetopsida | D70: Pinales | E70: Pinaceae | H70: Plantes vasculaires | I70: Gymnospermes | J70: 79350 | K70: 188665 | L70: 188665 | M70: 79350 | N70: ES | O70: Abies procera | P70: Rehder, 1949 | Q70: Abies procera Rehder, 1949 | R70: Abie proc | S70: Abies procera Rehder, 1949 | T70: Abie proc | V70: Noble Fir | W70: 3 | X70: M | AP70: Abie proc | AQ70: Abie proc
A71: Plantae | C71: Equisetopsida | D71: Pinales | E71: Pinaceae | H71: Plantes vasculaires | I71: Gymnospermes | J71: 717041 | K71: 188665 | L71: 188665 | M71: 717041 | N71: ES | O71: Abies recurvata | P71: Mast., 1906 | Q71: Abies recurvata Mast., 1906 | R71: Abie recu | S71: Abies recurvata Mast., 1906 | T71: Abie recu | W71: 7 | X71: M | AP71: Abie recu | AQ71: Abie recu
A72: Plantae | C72: Equisetopsida | D72: Pinales | E72: Pinaceae | H72: Plantes vasculaires | I72: Gymnospermes | J72: 717042 | K72: 188665 | L72: 188665 | M72: 717042 | N72: ES | O72: Abies sibirica | P72: Ledeb., 1833 | Q72: Abies sibirica Ledeb., 1833 | R72: Abie sibi | S72: Abies sibirica Ledeb., 1833 | T72: Abie sibi | W72: 7 | X72: M | AP72: Abie sibi | AQ72: Abie sibi
A73: Plantae | C73: Equisetopsida | D73: Pinales | E73: Pinaceae | H73: Plantes vasculaires | I73: Gymnospermes | J73: 717043 | K73: 188665 | L73: 188665 | M73: 717043 | N73: ES | O73: Abies spectabilis | P73: (D.Don) Spach, 1841 | Q73: Abies spectabilis (D.Don) Spach, 1841 | R73: Abie spec | S73: Abies spectabilis (D.Don) Spach, 1841 | T73: Abie spec | W73: 7 | X73: M | AP73: Abie spec | AQ73: Abie spec
A74: Plantae | C74: Equisetopsida | D74: Pinales | E74: Pinaceae | H74: Plantes vasculaires | I74: Gymnospermes | J74: 717044 | K74: 188665 | L74: 188665 | M74: 717044 | N74: ES | O74: Abies squamata | P74: Mast., 1906 | Q74: Abies squamata Mast., 1906 | R74: Abie squa | S74: Abies squamata Mast., 1906 | T74: Abie squa | W74: 7 | X74: M | AP74: Abie squa | AQ74: Abie squa
A75: Plantae | C75: Equisetopsida | D75: Pinales | E75: Pinaceae | H75: Plantes vasculaires | I75: Gymnospermes | J75: 79351 | M75: 113432 | N75: ES | O75: Abies taxifolia | P75: Desf., 1804 | Q75: Abies taxifolia Desf., 1804 | R75: Abie taxi | S75: Picea abies (L.) H.Karst., 1881 | T75: Pice abie | U75: Ã‰picÃ©a commun, SÃ©rente | V75: Norway Spruce | W75: 3 | X75: P | AP75: Abie taxi | AQ75: Pice abie
A76: Plantae | C76: Equisetopsida | D76: Pinales | E76: Pinaceae | H76: Plantes vasculaires | I76: Gymnospermes | J76: 79353 | M76: 113444 | N76: ES | O76: Abies trigona | P76: Raf., 1832 | Q76: Abies trigona Raf., 1832 | R76: Abie trig | S76: Picea sitchensis (Bong.) CarriÃ¨re, 1855 | T76: Pice sitc | U76: Ã‰picÃ©a de Sitka | V76: Sitka Spruce | W76: 3 | X76: M | AP76: Abie trig | AQ76: Pice sitc
A77: Plantae | C77: Equisetopsida | D77: Pinales | E77: Pinaceae | H77: Plantes vasculaires | I77: Gymnospermes | J77: 610720 | K77: 188665 | L77: 188665 | M77: 610720 | N77: ES | O77: Abies veitchii | P77: Lindl., 1861 | Q77: Abies veitchii Lindl., 1861 | R77: Abie veit | S77: Abies veitchii Lindl., 1861 | T77: Abie veit | W77: 7 | X77: M | AP77: Abie veit | AQ77: Abie veit
A78: Plantae | C78: Equisetopsida | D78: Pinales | E78: Pinaceae | H78: Plantes vasculaires | I78: Gymnospermes | J78: 771786 | M78: 717022 | N78: ES | O78: Abies x phanerolepis | P78: (Fernald) T.S.Liu | Q78: Abies x phanerolepis (Fernald) T.S.Liu | R78: Abie x ph | S78: Abies balsamea (L.) Mill., 1768 | T78: Abie bals | U78: Sapin baumier | W78: 3 | X78: M | AD78: P | AP78: Abie x ph | AQ78: Abie bals
A79: Plantae | C79: Equisetopsida | D79: Hypnales | E79: Thuidiaceae | H79: Bryophytes | I79: Mousses | J79: 5422 | K79: 433851 | L79: 433851 | M79: 5422 | N79: ES | O79: Abietinella abietina | P79: (Hedw.) M.Fleisch., 1922 | Q79: Abietinella abietina (Hedw.) M.Fleisch., 1922 | R79: Abie abie | S79: Abietinella abietina (Hedw.) M.Fleisch., 1922 | T79: Abie abie | V79: Fir Tamarisk-moss | W79: 3 | X79: P | AP79: Abie abie | AQ79: Abie abie
A80: Plantae | C80: Equisetopsida | D80: Lamiales | E80: Lamiaceae | F80: Ajugoideae | H80: Plantes vasculaires | I80: Angiospermes | J80: 79355 | M80: 80983 | N80: ES | O80: Abiga cistifolia | P80: St.-Lag., 1880 | Q80: Abiga cistifolia St.-Lag., 1880 | R80: Abig cist | S80: Ajuga iva (L.) Schreb., 1773 | T80: Ajug iva | U80: Bugle Ivette, Ivette-musquÃ©e | W80: 3 | X80: P | AP80: Abig cist | AQ80: Ajug iva
A81: Plantae | C81: Equisetopsida | D81: Hymenophyllales | E81: Hymenophyllaceae | F81: Trichomanoideae | H81: Plantes vasculaires | I81: FougÃ¨res | J81: 671814 | M81: 701288 | N81: ES | O81: Abrodictyum polystromaticum | P81: (Bierh.) [comb. ined.] | Q81: Abrodictyum polystromaticum (Bierh.) [comb. ined.] | R81: Abro poly | S81: Trichomanes polystromaticum Bierh., 1974 | T81: Tric poly | W81: 3 | X81: A | Y81: A | Z81: A | AA81: A | AB81: A | AC81: A | AD81: A | AE81: A | AF81: A | AG81: A | AH81: A | AI81: A | AJ81: A | AK81: A | AL81: E | AM81: A | AN81: A | AP81: Abro poly | AQ81: Tric poly
A82: Plantae | C82: Equisetopsida | D82: Asterales | E82: Asteraceae | H82: Plantes vasculaires | I82: Angiospermes | J82: 79356 | M82: 83934 | N82: ES | O82: Abrotanum alpestre | P82: Jord. & Fourr., 1868 | Q82: Abrotanum alpestre Jord. & Fourr., 1868 | R82: Abro alpe | S82: Artemisia alba Turra, 1764 | T82: Arte alba | U82: Armoise blanche, Armoise camphrÃ©e | W82: 7 | X82: P | AP82: Abro alpe | AQ82: Arte alba
A83: Plantae | C83: Equisetopsida | D83: Asterales | E83: Asteraceae | H83: Plantes vasculaires | I83: Angiospermes | J83: 79357 | M83: 83934 | N83: ES | O83: Abrotanum ambiguum | P83: Jord. & Fourr., 1868 | Q83: Abrotanum ambiguum Jord. & Fourr., 1868 | R83: Abro ambi | S83: Artemisia alba Turra, 1764 | T83: Arte alba | U83: Armoise blanche, Armoise camphrÃ©e | W83: 7 | X83: P | AP83: Abro ambi | AQ83: Arte alba
A84: Plantae | C84: Equisetopsida | D84: Asterales | E84: Asteraceae | H84: Plantes vasculaires | I84: Angiospermes | J84: 79358 | M84: 83934 | N84: ES | O84: Abrotanum brachylobum | P84: Jord. & Fourr., 1868 | Q84: Abrotanum brachylobum Jord. & Fourr., 1868 | R84: Abro brac | S84: Artemisia alba Turra, 1764 | T84: Arte alba | U84: Armoise blanche, Armoise camphrÃ©e | W84: 7 | X84: P | AP84: Abro brac | AQ84: Arte alba
A85: Plantae | C85: Equisetopsida | D85: Asterales | E85: Asteraceae | H85: Plantes vasculaires | I85: Angiospermes | J85: 79359 | M85: 83934 | N85: ES | O85: Abrotanum congestum | P85: Jord. & Fourr., 1868 | Q85: Abrotanum congestum Jord. & Fourr., 1868 | R85: Abro cong | S85: Artemisia alba Turra, 1764 | T85: Arte alba | U85: Armoise blanche, Armoise camphrÃ©e | W85: 7 | X85: P | AP85: Abro cong | AQ85: Arte alba
A86: Plantae | C86: Equisetopsida | D86: Asterales | E86: Asteraceae | H86: Plantes vasculaires | I86: Angiospermes | J86: 79360 | M86: 83934 | N86: ES | O86: Abrotanum pauciflorum | P86: Jord. & Fourr., 1868 | Q86: Abrotanum pauciflorum Jord. & Fourr., 1868 | R86: Abro pauc | S86: Artemisia alba Turra, 1764 | T86: Arte alba | U86: Armoise blanche, Armoise camphrÃ©e | W86: 7 | X86: P | AP86: Abro pauc | AQ86: Arte alba
A87: Plantae | C87: Equisetopsida | D87: Asterales | E87: Asteraceae | H87: Plantes vasculaires | I87: Angiospermes | J87: 79361 | M87: 83934 | N87: ES | O87: Abrotanum pedunculare | P87: Jord. & Fourr., 1868 | Q87: Abrotanum pedunculare Jord. & Fourr., 1868 | R87: Abro pedu | S87: Artemisia alba Turra, 1764 | T87: Arte alba | U87: Armoise blanche, Armoise camphrÃ©e | W87: 7 | X87: P | AP87: Abro pedu | AQ87: Arte alba
A88: Plantae | C88: Equisetopsida | D88: Asterales | E88: Asteraceae | H88: Plantes vasculaires | I88: Angiospermes | J88: 79362 | M88: 83934 | N88: ES | O88: Abrotanum platylobum | P88: Jord. & Fourr., 1868 | Q88: Abrotanum platylobum Jord. & Fourr., 1868 | R88: Abro plat | S88: Artemisia alba Turra, 1764 | T88: Arte alba | U88: Armoise blanche, Armoise camphrÃ©e | W88: 7 | X88: P | AP88: Abro plat | AQ88: Arte alba
A89: Plantae | C89: Equisetopsida | D89: Asterales | E89: Asteraceae | H89: Plantes vasculaires | I89: Angiospermes | J89: 79363 | M89: 83934 | N89: ES | O89: Abrotanum pulverulentum | P89: Jord. & Fourr., 1868 | Q89: Abrotanum pulverulentum Jord. & Fourr., 1868 | R89: Abro pulv | S89: Artemisia alba Turra, 1764 | T89: Arte alba | U89: Armoise blanche, Armoise camphrÃ©e | W89: 7 | X89: P | AP89: Abro pulv | AQ89: Arte alba
A90: Plantae | C90: Equisetopsida | D90: Asterales | E90: Asteraceae | H90: Plantes vasculaires | I90: Angiospermes | J90: 79364 | M90: 83934 | N90: ES | O90: Abrotanum rhodanicum | P90: Jord. & Fourr., 1868 | Q90: Abrotanum rhodanicum Jord. & Fourr., 1868 | R90: Abro rhod | S90: Artemisia alba Turra, 1764 | T90: Arte alba | U90: Armoise blanche, Armoise camphrÃ©e | W90: 7 | X90: P | AP90: Abro rhod | AQ90: Arte alba
A91: Plantae | C91: Equisetopsida | D91: Asterales | E91: Asteraceae | H91: Plantes vasculaires | I91: Angiospermes | J91: 79365 | M91: 83934 | N91: ES | O91: Abrotanum virgatum | P91: Jord. & Fourr., 1868 | Q91: Abrotanum virgatum Jord. & Fourr., 1868 | R91: Abro virg | S91: Artemisia alba Turra, 1764 | T91: Arte alba | U91: Armoise blanche, Armoise camphrÃ©e | W91: 7 | X91: P | AP91: Abro virg | AQ91: Arte alba
A92: Plantae | C92: Equisetopsida | D92: Asterales | E92: Asteraceae | H92: Plantes vasculaires | I92: Angiospermes | J92: 79366 | M92: 83934 | N92: ES | O92: Abrotanum viridulum | P92: Jord. & Fourr., 1868 | Q92: Abrotanum viridulum Jord. & Fourr., 1868 | R92: Abro viri | S92: Artemisia alba Turra, 1764 | T92: Arte alba | U92: Armoise blanche, Armoise camphrÃ©e | W92: 7 | X92: P | AP92: Abro viri | AQ92: Arte alba
A93: Plantae | C93: Equisetopsida | D93: Asterales | E93: Asteraceae | H93: Plantes vasculaires | I93: Angiospermes | J93: 79367 | M93: 83934 | N93: ES | O93: Abrotanum xerophilum | P93: Jord. & Fourr., 1868 | Q93: Abrotanum xerophilum Jord. & Fourr., 1868 | R93: Abro xero | S93: Artemisia alba Turra, 1764 | T93: Arte alba | U93: Armoise blanche, Armoise camphrÃ©e | W93: 7 | X93: P | AP93: Abro xero | AQ93: Arte alba
A94: Plantae | C94: Equisetopsida | D94: Caryophyllales | E94: Aizoaceae | H94: Plantes vasculaires | I94: Angiospermes | J94: 79368 | M94: 89211 | N94: ES | O94: Abryanthemum acinaciforme | P94: (L.) Rothm., 1941 | Q94: Abryanthemum acinaciforme (L.) Rothm., 1941 | R94: Abry acin | S94: Carpobrotus acinaciformis (L.) L.Bolus, 1927 | T94: Carp acin | U94: FicoÃ¯de Ã feuilles en sabre, Griffe de sorciÃ¨re | V94: Sally-my-handsome | W94: 3 | X94: I | AP94: Abry acin | AQ94: Carp acin
A95: Plantae | C95: Equisetopsida | D95: Caryophyllales | E95: Aizoaceae | H95: Plantes vasculaires | I95: Angiospermes | J95: 79660 | M95: 89212 | N95: ES | O95: Abryanthemum edule | P95: (L.) Rothm., 1941 | Q95: Abryanthemum edule (L.) Rothm., 1941 | R95: Abry edul | S95: Carpobrotus edulis (L.) N.E.Br., 1926 | T95: Carp edul | U95: Ficoide doux, Griffe de sorciÃ¨re, Figuier des Hottentots | V95: Hottentot-fig | W95: 3 | X95: I | AG95: I | AK95: M | AP95: Abry edul | AQ95: Carp edul
A96: Plantae | C96: Equisetopsida | D96: Asterales | E96: Asteraceae | H96: Plantes vasculaires | I96: Angiospermes | J96: 79662 | M96: 83941 | N96: ES | O96: Absinthium arborescens | P96: Moench, 1794 | Q96: Absinthium arborescens Moench, 1794 | R96: Absi arbo | S96: Artemisia arborescens (Vaill.) L., 1763 | T96: Arte arbo | U96: Armoise arborescente | W96: 3 | X96: I | AP96: Absi arbo | AQ96: Arte arbo
A97: Plantae | C97: Equisetopsida | D97: Asterales | E97: Asteraceae | H97: Plantes vasculaires | I97: Angiospermes | J97: 79663 | M97: 83953 | N97: ES | O97: Absinthium campestre | P97: (L.) Dulac, 1867 | Q97: Absinthium campestre (L.) Dulac, 1867 | R97: Absi camp | S97: Artemisia campestris L., 1753 | T97: Arte camp | U97: Armoise champÃªtre, Aurone-des-champs, Armoise rouge | V97: Field Wormwood | W97: 3 | X97: P | AD97: P | AP97: Absi camp | AQ97: Arte camp
A98: Plantae | C98: Equisetopsida | D98: Asterales | E98: Asteraceae | H98: Plantes vasculaires | I98: Angiospermes | J98: 79664 | M98: 83934 | N98: ES | O98: Absinthium camphoratum | P98: (Vill.) Besser, 1829 | Q98: Absinthium camphoratum (Vill.) Besser, 1829 | R98: Absi camp | S98: Artemisia alba Turra, 1764 | T98: Arte alba | U98: Armoise blanche, Armoise camphrÃ©e | W98: 7 | X98: P | AP98: Absi camp | AQ98: Arte alba
A99: Plantae | C99: Equisetopsida | D99: Asterales | E99: Asteraceae | H99: Plantes vasculaires | I99: Angiospermes | J99: 79666 | M99: 83974 | N99: ES | O99: Absinthium congestum | P99: Lam., 1779 | Q99: Absinthium congestum Lam., 1779 | R99: Absi cong | S99: Artemisia glacialis L., 1763 | T99: Arte glac | U99: GenÃ©pi des glaciers | W99: 7 | X99: P | AP99: Absi cong | AQ99: Arte glac
A100: Plantae | C100: Equisetopsida | D100: Asterales | E100: Asteraceae | H100: Plantes vasculaires | I100: Angiospermes | J100: 79667 | M100: 83974 | N100: ES | O100: Absinthium glaciale | P100: (L.) Gaertn., 1791 | Q100: Absinthium glaciale (L.) Gaertn., 1791 | R100: Absi glac | S100: Artemisia glacialis L., 1763 | T100: Arte glac | U100: GenÃ©pi des glaciers | W100: 7 | X100: P | AP100: Absi glac | AQ100: Arte glac
...

Sheet Correspondances
A1: Codes espèces | B1: Correction codes | C1: Abondances | D1: Correspondances | E1: Traitement
A2: Aaro pube | B2: =IF(ISNA(VLOOKUP(A2,'Database synonymes complete'!AP$2:AQ$200,1,FALSE)),"Erreur de saisie ou cellule vide",VLOOKUP(A2,'Database synonymes complete'!AP$2:AQ$200,1,FALSE)) -> Aaro pube | D2: =IF(COUNTIF('Database complete'!AP$2:AQ$200,A2)>1,"choisir ->",VLOOKUP(A2,'Database complete'!AP$2:AQ$200,2,FALSE)) -> Aaronsohnia pubescens (Desf.) K.Bremer & Humphries, 1993 - AARONSOHNIA PUBESCENS (DESF.) K.BREMER & HUMPHRIES, 1993 | E2: =IFERROR(D2,"Synonyme ou erreur de saisie") -> Aaronsohnia pubescens (Desf.) K.Bremer & Humphries, 1993 - AARONSOHNIA PUBESCENS (DESF.) K.BREMER & HUMPHRIES, 1993
A3: Vici dume | B3: =IF(ISNA(VLOOKUP(A3,'Database synonymes complete'!AP$2:AQ$200,1,FALSE)),"Erreur de saisie ou cellule vide",VLOOKUP(A3,'Database synonymes complete'!AP$2:AQ$200,1,FALSE)) -> Erreur de saisie ou cellule vide | D3: =IF(COUNTIF('Database complete'!AP$2:AQ$200,A3)>1,"choisir ->",VLOOKUP(A3,'Database complete'!AP$2:AQ$200,2,FALSE)) -> #N/A | E3: =IFERROR(D3,"Synonyme ou erreur de saisie") -> Synonyme ou erreur de saisie
A4: Vici onob | B4: =IF(ISNA(VLOOKUP(A4,'Database synonymes complete'!AP$2:AQ$200,1,FALSE)),"Erreur de saisie ou cellule vide",VLOOKUP(A4,'Database synonymes complete'!AP$2:AQ$200,1,FALSE)) -> Erreur de saisie ou cellule vide | D4: =IF(COUNTIF('Database complete'!AP$2:AQ$200,A4)>1,"choisir ->",VLOOKUP(A4,'Database complete'!AP$2:AQ$200,2,FALSE)) -> #N/A | E4: =IFERROR(D4,"Synonyme ou erreur de saisie") -> Synonyme ou erreur de saisie
A5: Nart ossi | B5: =IF(ISNA(VLOOKUP(A5,'Database synonymes complete'!AP$2:AQ$200,1,FALSE)),"Erreur de saisie ou cellule vide",VLOOKUP(A5,'Database synonymes complete'!AP$2:AQ$200,1,FALSE)) -> Erreur de saisie ou cellule vide | D5: =IF(COUNTIF('Database complete'!AP$2:AQ$200,A5)>1,"choisir ->",VLOOKUP(A5,'Database complete'!AP$2:AQ$200,2,FALSE)) -> #N/A | E5: =IFERROR(D5,"Synonyme ou erreur de saisie") -> Synonyme ou erreur de saisie
A6: Abar gall | B6: =IF(ISNA(VLOOKUP(A6,'Database synonymes complete'!AP$2:AQ$200,1,FALSE)),"Erreur de saisie ou cellule vide",VLOOKUP(A6,'Database synonymes complete'!AP$2:AQ$200,1,FALSE)) -> Abar gall | D6: =IF(COUNTIF('Database complete'!AP$2:AQ$200,A6)>1,"choisir ->",VLOOKUP(A6,'Database complete'!AP$2:AQ$200,2,FALSE)) -> Abarema gallorum Barneby & J.W.Grimes, 1996 - ABAREMA GALLORUM BARNEBY & J.W.GRIMES, 1996 | E6: =IFERROR(D6,"Synonyme ou erreur de saisie") -> Abarema gallorum Barneby & J.W.Grimes, 1996 - ABAREMA GALLORUM BARNEBY & J.W.GRIMES, 1996
A7: Arab auri | B7: =IF(ISNA(VLOOKUP(A7,'Database synonymes complete'!AP$2:AQ$200,1,FALSE)),"Erreur de saisie ou cellule vide",VLOOKUP(A7,'Database synonymes complete'!AP$2:AQ$200,1,FALSE)) -> Erreur de saisie ou cellule vide | D7: =IF(COUNTIF('Database complete'!AP$2:AQ$200,A7)>1,"choisir ->",VLOOKUP(A7,'Database complete'!AP$2:AQ$200,2,FALSE)) -> #N/A | E7: =IFERROR(D7,"Synonyme ou erreur de saisie") -> Synonyme ou erreur de saisie
A8: Trig palu | B8: =IF(ISNA(VLOOKUP(A8,'Database synonymes complete'!AP$2:AQ$200,1,FALSE)),"Erreur de saisie ou cellule vide",VLOOKUP(A8,'Database synonymes complete'!AP$2:AQ$200,1,FALSE)) -> Erreur de saisie ou cellule vide | D8: =IF(COUNTIF('Database complete'!AP$2:AQ$200,A8)>1,"choisir ->",VLOOKUP(A8,'Database complete'!AP$2:AQ$200,2,FALSE)) -> #N/A | E8: =IFERROR(D8,"Synonyme ou erreur de saisie") -> Synonyme ou erreur de saisie
A9: Trig barr | B9: =IF(ISNA(VLOOKUP(A9,'Database synonymes complete'!AP$2:AQ$200,1,FALSE)),"Erreur de saisie ou cellule vide",VLOOKUP(A9,'Database synonymes complete'!AP$2:AQ$200,1,FALSE)) -> Erreur de saisie ou cellule vide | D9: =IF(COUNTIF('Database complete'!AP$2:AQ$200,A9)>1,"choisir ->",VLOOKUP(A9,'Database complete'!AP$2:AQ$200,2,FALSE)) -> #N/A | E9: =IFERROR(D9,"Synonyme ou erreur de saisie") -> Synonyme ou erreur de saisie
A10: Abie alba | B10: =IF(ISNA(VLOOKUP(A10,'Database synonymes complete'!AP$2:AQ$200,1,FALSE)),"Erreur de saisie ou cellule vide",VLOOKUP(A10,'Database synonymes complete'!AP$2:AQ$200,1,FALSE)) -> Abie alba | D10: =IF(COUNTIF('Database complete'!AP$2:AQ$200,A10)>1,"choisir ->",VLOOKUP(A10,'Database complete'!AP$2:AQ$200,2,FALSE)) -> Abies alba Mill., 1768 - ABIES ALBA MILL., 1768 | E10: =IFERROR(D10,"Synonyme ou erreur de saisie") -> Abies alba Mill., 1768 - ABIES ALBA MILL., 1768
A11: Tsug hete | B11: =IF(ISNA(VLOOKUP(A11,'Database synonymes complete'!AP$2:AQ$200,1,FALSE)),"Erreur de saisie ou cellule vide",VLOOKUP(A11,'Database synonymes complete'!AP$2:AQ$200,1,FALSE)) -> Erreur de saisie ou cellule vide | D11: =IF(COUNTIF('Database complete'!AP$2:AQ$200,A11)>1,"choisir ->",VLOOKUP(A11,'Database complete'!AP$2:AQ$200,2,FALSE)) -> #N/A | E11: =IFERROR(D11,"Synonyme ou erreur de saisie") -> Synonyme ou erreur de saisie
A12: Pice alco | B12: =IF(ISNA(VLOOKUP(A12,'Database synonymes complete'!AP$2:AQ$200,1,FALSE)),"Erreur de saisie ou cellule vide",VLOOKUP(A12,'Database synonymes complete'!AP$2:AQ$200,1,FALSE)) -> Erreur de saisie ou cellule vide | D12: =IF(COUNTIF('Database complete'!AP$2:AQ$200,A12)>1,"choisir ->",VLOOKUP(A12,'Database complete'!AP$2:AQ$200,2,FALSE)) -> #N/A | E12: =IFERROR(D12,"Synonyme ou erreur de saisie") -> Synonyme ou erreur de saisie
A13: Pice abie | B13: =IF(ISNA(VLOOKUP(A13,'Database synonymes complete'!AP$2:AQ$200,1,FALSE)),"Erreur de saisie ou cellule vide",VLOOKUP(A13,'Database synonymes complete'!AP$2:AQ$200,1,FALSE)) -> Erreur de saisie ou cellule vide | D13: =IF(COUNTIF('Database complete'!AP$2:AQ$200,A13)>1,"choisir ->",VLOOKUP(A13,'Database complete'!AP$2:AQ$200,2,FALSE)) -> #N/A | E13: =IFERROR(D13,"Synonyme ou erreur de saisie") -> Synonyme ou erreur de saisie
... A27: Abie albe | B27: =IF(ISNA(VLOOKUP(A27,'Database synonymes complete'!AP$2:AQ$200,1,FALSE)),"Erreur de saisie ou cellule vide",VLOOKUP(A27,'Database synonymes complete'!AP$2:AQ$200,1,FALSE)) -> Abie albe | D27: =IF(COUNTIF('Database complete'!AP$2:AQ$200,A27)>1,"choisir ->",VLOOKUP(A27,'Database complete'!AP$2:AQ$200,2,FALSE)) -> #N/A | E27: =IFERROR(D27,"Synonyme ou erreur de saisie") -> Synonyme ou erreur de saisie
