Workbook

Sheet Liste CE2
A1: CROSS 2018
A2: Liste CE2
A5: DOSSARD | B5: NOM | C5: PRENOM | D5: Sexe (M ou F) | E5: CLASSE | F5: ECOLE | G5: Enseignants
A8: 1 | B8: ALLEGAERT | C8: Valentin | D8: M | E8: CM2 A | F8: J. BREL | G8: MR COUTEL
A9: 2 | B9: BUSSOLENGO | C9: Sylvain | D9: M | E9: CM2 A | F9: J. BREL | G9: MR COUTEL
A10: 3 | B10: CARLEVARIS | C10: Anna | D10: F | E10: CM2 A | F10: J. BREL | G10: MR COUTEL
A11: 4 | B11: CHAMBERLIN | C11: Camille | D11: F | E11: CM2 A | F11: J. BREL | G11: MR COUTEL
A12: 5 | B12: CLOQUET | C12: Maxime | D12: M | E12: CM2 A | F12: J. BREL | G12: MR COUTEL
A13: 6 | B13: COLAIANNI | C13: Célien | D13: M | E13: CM2 A | F13: J. BREL | G13: MR COUTEL
A14: 7 | B14: CRETEUR | C14: Pauline | D14: F | E14: CM2 A | F14: J. BREL | G14: MR COUTEL
A15: 8 | B15: DEBAILLEUL | C15: Sarah | D15: F | E15: CM2 A | F15: J. BREL | G15: MR COUTEL
A16: 9 | B16: DENYS | C16: Thomas | D16: M | E16: CM2 A | F16: J. BREL | G16: MR COUTEL
A17: 10 | B17: FILIPPETTO | C17: Tobias | D17: F | E17: CM2 A | F17: J. BREL | G17: MR COUTEL
A18: 11 | B18: FLOREE | C18: Laurine | D18: M | E18: CM2 A | F18: J. BREL | G18: MR COUTEL
A19: 12 | B19: FLORENT | C19: Dimitri | D19: M | E19: CM2 A | F19: J. BREL | G19: MR COUTEL
... A52: 45 | B52: MASQUELIER | C52: Mathis | D52: F | E52: CM2 B | F52: J. BREL | G52: MR LANNOY
A53: 46 | B53: MATTON | C53: Athénaïs | E53: CM2 B | F53: J. BREL | G53: MR LANNOY

Sheet Feuil1
A3: SEXE | B3: CLASSEMENT | C3: NOM | D3: PRENOM
A4: F | B4: 3 | C4: CARLEVARIS | D4: Anna
B5: 4 | C5: CHAMBERLIN | D5: Camille
B6: 5 | C6: CRETEUR | D6: Pauline
B7: 8 | C7: LE BOT | D7: Romain
B8: 10 | C8: VERBROUCK | D8: Victor
B9: 12 | C9: ANDRES | D9: Zoé
B10: 15 | C10: CAMPION | D10: Léa
B11: 18 | C11: MASQUELIER | D11: Mathis
B12: 20 | C12: MALBRANQUE | D12: Benjamin
B13: 22 | C13: DEBAILLEUL | D13: Sarah
B14: 25 | C14: FILIPPETTO | D14: Tobias
B15: 26 | C15: FRADILLON | D15: Max
B16: 27 | C16: GRISLAIN | D16: Valène
... B26: 41 | C26: DRUEZ | D26: Alexis
A27: M | B27: 1 | C27: ALLEGAERT | D27: Valentin
B28: 2 | C28: BUSSOLENGO | D28: Sylvain
B29: 6 | C29: COLAIANNI | D29: Célien
B30: 7 | C30: FLORENT | D30: Dimitri
B31: 9 | C31: LHEUREUX | D31: Grégory
B32: 11 | C32: VIDAILHET | D32: Louise
B33: 13 | C33: YIN | D33: Neary
B34: 14 | C34: DE BRUYNE | D34: Julien
B35: 16 | C35: BENYAHIA | D35: Elias
B36: 17 | C36: LE POULEN | D36: Elodie
B37: 21 | C37: CLOQUET | D37: Maxime
B38: 23 | C38: DENYS | D38: Thomas
B39: 24 | C39: FLOREE | D39: Laurine
... B45: 43 | C45: FLORIN | D45: Morgane
A46: Total général

Sheet Résultats CE2
A1: RESULTATS CE2
A2: CROSS 2018 | L2: SEPARATION FILLES/GARCONS
A3: CLASSEMENT | B3: DOSSARD | C3: NOM | D3: PRENOM | E3: SEXE | F3: CLASSE | G3: ECOLE | H3: ENSEIGNANT | L3: F | N3: M
A4: 1 | B4: 1 | C4: =IF($B4="","",VLOOKUP($B4,'Liste CE2'!$A$8:$G$53,2,FALSE)) -> ALLEGAERT | D4: =IF($B4="","",VLOOKUP($B4,'Liste CE2'!$A$8:$G$53,3,FALSE)) -> Valentin | E4: =IF($B4="","",VLOOKUP($B4,'Liste CE2'!$A$8:$G$53,4,FALSE)) -> M | F4: =IF($B4="","",VLOOKUP($B4,'Liste CE2'!$A$8:$G$53,5,FALSE)) -> CM2 A | G4: =IF($B4="","",VLOOKUP($B4,'Liste CE2'!$A$8:$G$53,6,FALSE)) -> J. BREL | H4: =IF($B4="","",VLOOKUP($B4,'Liste CE2'!$A$8:$G$53,7,FALSE)) -> MR COUTEL | L4: =IF(E4="F",C4&" "&D4,"") | M4: =IF(L4<>"",A4,"") | N4: =IF(E4="M",C4&" "&D4,"") -> ALLEGAERT Valentin | O4: =IF(E4="M",A4&" ","") -> 1
A5: =(A4+1) -> 2 | B5: 2 | C5: =IF($B5="","",VLOOKUP($B5,'Liste CE2'!$A$8:$G$53,2,FALSE)) -> BUSSOLENGO | D5: =IF($B5="","",VLOOKUP($B5,'Liste CE2'!$A$8:$G$53,3,FALSE)) -> Sylvain | E5: =IF($B5="","",VLOOKUP($B5,'Liste CE2'!$A$8:$G$53,4,FALSE)) -> M | F5: =IF($B5="","",VLOOKUP($B5,'Liste CE2'!$A$8:$G$53,5,FALSE)) -> CM2 A | G5: =IF($B5="","",VLOOKUP($B5,'Liste CE2'!$A$8:$G$53,6,FALSE)) -> J. BREL | H5: =IF($B5="","",VLOOKUP($B5,'Liste CE2'!$A$8:$G$53,7,FALSE)) -> MR COUTEL | L5: =IF(E5="F",C5&" "&D5,"") | M5: =IF(L5<>"",A5,"") | N5: =IF(E5="M",C5&" "&D5,"") -> BUSSOLENGO Sylvain | O5: =IF(E5="M",A5&" ","") -> 2
A6: =(A5+1) -> 3 | B6: 3 | C6: =IF($B6="","",VLOOKUP($B6,'Liste CE2'!$A$8:$G$53,2,FALSE)) -> CARLEVARIS | D6: =IF($B6="","",VLOOKUP($B6,'Liste CE2'!$A$8:$G$53,3,FALSE)) -> Anna | E6: =IF($B6="","",VLOOKUP($B6,'Liste CE2'!$A$8:$G$53,4,FALSE)) -> F | F6: =IF($B6="","",VLOOKUP($B6,'Liste CE2'!$A$8:$G$53,5,FALSE)) -> CM2 A | G6: =IF($B6="","",VLOOKUP($B6,'Liste CE2'!$A$8:$G$53,6,FALSE)) -> J. BREL | H6: =IF($B6="","",VLOOKUP($B6,'Liste CE2'!$A$8:$G$53,7,FALSE)) -> MR COUTEL | L6: =IF(E6="F",C6&" "&D6,"") -> CARLEVARIS Anna | M6: =IF(L6<>"",A6,"") -> 3 | N6: =IF(E6="M",C6&" "&D6,"") | O6: =IF(E6="M",A6&" ","")
A7: =(A6+1) -> 4 | B7: 4 | C7: =IF($B7="","",VLOOKUP($B7,'Liste CE2'!$A$8:$G$53,2,FALSE)) -> CHAMBERLIN | D7: =IF($B7="","",VLOOKUP($B7,'Liste CE2'!$A$8:$G$53,3,FALSE)) -> Camille | E7: =IF($B7="","",VLOOKUP($B7,'Liste CE2'!$A$8:$G$53,4,FALSE)) -> F | F7: =IF($B7="","",VLOOKUP($B7,'Liste CE2'!$A$8:$G$53,5,FALSE)) -> CM2 A | G7: =IF($B7="","",VLOOKUP($B7,'Liste CE2'!$A$8:$G$53,6,FALSE)) -> J. BREL | H7: =IF($B7="","",VLOOKUP($B7,'Liste CE2'!$A$8:$G$53,7,FALSE)) -> MR COUTEL | L7: =IF(E7="F",C7&" "&D7,"") -> CHAMBERLIN Camille | M7: =IF(L7<>"",A7,"") -> 4 | N7: =IF(E7="M",C7&" "&D7,"") | O7: =IF(E7="M",A7&" ","")
A8: =(A7+1) -> 5 | B8: 7 | C8: =IF($B8="","",VLOOKUP($B8,'Liste CE2'!$A$8:$G$53,2,FALSE)) -> CRETEUR | D8: =IF($B8="","",VLOOKUP($B8,'Liste CE2'!$A$8:$G$53,3,FALSE)) -> Pauline | E8: =IF($B8="","",VLOOKUP($B8,'Liste CE2'!$A$8:$G$53,4,FALSE)) -> F | F8: =IF($B8="","",VLOOKUP($B8,'Liste CE2'!$A$8:$G$53,5,FALSE)) -> CM2 A | G8: =IF($B8="","",VLOOKUP($B8,'Liste CE2'!$A$8:$G$53,6,FALSE)) -> J. BREL | H8: =IF($B8="","",VLOOKUP($B8,'Liste CE2'!$A$8:$G$53,7,FALSE)) -> MR COUTEL | L8: =IF(E8="F",C8&" "&D8,"") -> CRETEUR Pauline | M8: =IF(L8<>"",A8,"") -> 5 | N8: =IF(E8="M",C8&" "&D8,"") | O8: =IF(E8="M",A8&" ","")
A9: =(A8+1) -> 6 | B9: 6 | C9: =IF($B9="","",VLOOKUP($B9,'Liste CE2'!$A$8:$G$53,2,FALSE)) -> COLAIANNI | D9: =IF($B9="","",VLOOKUP($B9,'Liste CE2'!$A$8:$G$53,3,FALSE)) -> Célien | E9: =IF($B9="","",VLOOKUP($B9,'Liste CE2'!$A$8:$G$53,4,FALSE)) -> M | F9: =IF($B9="","",VLOOKUP($B9,'Liste CE2'!$A$8:$G$53,5,FALSE)) -> CM2 A | G9: =IF($B9="","",VLOOKUP($B9,'Liste CE2'!$A$8:$G$53,6,FALSE)) -> J. BREL | H9: =IF($B9="","",VLOOKUP($B9,'Liste CE2'!$A$8:$G$53,7,FALSE)) -> MR COUTEL | L9: =IF(E9="F",C9&" "&D9,"") | M9: =IF(L9<>"",A9,"") | N9: =IF(E9="M",C9&" "&D9,"") -> COLAIANNI Célien | O9: =IF(E9="M",A9&" ","") -> 6
A10: =(A9+1) -> 7 | B10: 12 | C10: =IF($B10="","",VLOOKUP($B10,'Liste CE2'!$A$8:$G$53,2,FALSE)) -> FLORENT | D10: =IF($B10="","",VLOOKUP($B10,'Liste CE2'!$A$8:$G$53,3,FALSE)) -> Dimitri | E10: =IF($B10="","",VLOOKUP($B10,'Liste CE2'!$A$8:$G$53,4,FALSE)) -> M | F10: =IF($B10="","",VLOOKUP($B10,'Liste CE2'!$A$8:$G$53,5,FALSE)) -> CM2 A | G10: =IF($B10="","",VLOOKUP($B10,'Liste CE2'!$A$8:$G$53,6,FALSE)) -> J. BREL | H10: =IF($B10="","",VLOOKUP($B10,'Liste CE2'!$A$8:$G$53,7,FALSE)) -> MR COUTEL | L10: =IF(E10="F",C10&" "&D10,"") | M10: =IF(L10<>"",A10,"") | N10: =IF(E10="M",C10&" "&D10,"") -> FLORENT Dimitri | O10: =IF(E10="M",A10&" ","") -> 7
A11: =(A10+1) -> 8 | B11: 16 | C11: =IF($B11="","",VLOOKUP($B11,'Liste CE2'!$A$8:$G$53,2,FALSE)) -> LE BOT | D11: =IF($B11="","",VLOOKUP($B11,'Liste CE2'!$A$8:$G$53,3,FALSE)) -> Romain | E11: =IF($B11="","",VLOOKUP($B11,'Liste CE2'!$A$8:$G$53,4,FALSE)) -> F | F11: =IF($B11="","",VLOOKUP($B11,'Liste CE2'!$A$8:$G$53,5,FALSE)) -> CM2 A | G11: =IF($B11="","",VLOOKUP($B11,'Liste CE2'!$A$8:$G$53,6,FALSE)) -> J. BREL | H11: =IF($B11="","",VLOOKUP($B11,'Liste CE2'!$A$8:$G$53,7,FALSE)) -> MR COUTEL | L11: =IF(E11="F",C11&" "&D11,"") -> LE BOT Romain | M11: =IF(L11<>"",A11,"") -> 8 | N11: =IF(E11="M",C11&" "&D11,"") | O11: =IF(E11="M",A11&" ","")
A12: =(A11+1) -> 9 | B12: 18 | C12: =IF($B12="","",VLOOKUP($B12,'Liste CE2'!$A$8:$G$53,2,FALSE)) -> LHEUREUX | D12: =IF($B12="","",VLOOKUP($B12,'Liste CE2'!$A$8:$G$53,3,FALSE)) -> Grégory | E12: =IF($B12="","",VLOOKUP($B12,'Liste CE2'!$A$8:$G$53,4,FALSE)) -> M | F12: =IF($B12="","",VLOOKUP($B12,'Liste CE2'!$A$8:$G$53,5,FALSE)) -> CM2 A | G12: =IF($B12="","",VLOOKUP($B12,'Liste CE2'!$A$8:$G$53,6,FALSE)) -> J. BREL | H12: =IF($B12="","",VLOOKUP($B12,'Liste CE2'!$A$8:$G$53,7,FALSE)) -> MR COUTEL | L12: =IF(E12="F",C12&" "&D12,"") | M12: =IF(L12<>"",A12,"") | N12: =IF(E12="M",C12&" "&D12,"") -> LHEUREUX Grégory | O12: =IF(E12="M",A12&" ","") -> 9
A13: =(A12+1) -> 10 | B13: 23 | C13: =IF($B13="","",VLOOKUP($B13,'Liste CE2'!$A$8:$G$53,2,FALSE)) -> VERBROUCK | D13: =IF($B13="","",VLOOKUP($B13,'Liste CE2'!$A$8:$G$53,3,FALSE)) -> Victor | E13: =IF($B13="","",VLOOKUP($B13,'Liste CE2'!$A$8:$G$53,4,FALSE)) -> F | F13: =IF($B13="","",VLOOKUP($B13,'Liste CE2'!$A$8:$G$53,5,FALSE)) -> CM2 A | G13: =IF($B13="","",VLOOKUP($B13,'Liste CE2'!$A$8:$G$53,6,FALSE)) -> J. BREL | H13: =IF($B13="","",VLOOKUP($B13,'Liste CE2'!$A$8:$G$53,7,FALSE)) -> MR COUTEL | L13: =IF(E13="F",C13&" "&D13,"") -> VERBROUCK Victor | M13: =IF(L13<>"",A13,"") -> 10 | N13: =IF(E13="M",C13&" "&D13,"") | O13: =IF(E13="M",A13&" ","")
A14: =(A13+1) -> 11 | B14: 24 | C14: =IF($B14="","",VLOOKUP($B14,'Liste CE2'!$A$8:$G$53,2,FALSE)) -> VIDAILHET | D14: =IF($B14="","",VLOOKUP($B14,'Liste CE2'!$A$8:$G$53,3,FALSE)) -> Louise | E14: =IF($B14="","",VLOOKUP($B14,'Liste CE2'!$A$8:$G$53,4,FALSE)) -> M | F14: =IF($B14="","",VLOOKUP($B14,'Liste CE2'!$A$8:$G$53,5,FALSE)) -> CM2 A | G14: =IF($B14="","",VLOOKUP($B14,'Liste CE2'!$A$8:$G$53,6,FALSE)) -> J. BREL | H14: =IF($B14="","",VLOOKUP($B14,'Liste CE2'!$A$8:$G$53,7,FALSE)) -> MR COUTEL | L14: =IF(E14="F",C14&" "&D14,"") | M14: =IF(L14<>"",A14,"") | N14: =IF(E14="M",C14&" "&D14,"") -> VIDAILHET Louise | O14: =IF(E14="M",A14&" ","") -> 11
A15: =(A14+1) -> 12 | B15: 27 | C15: =IF($B15="","",VLOOKUP($B15,'Liste CE2'!$A$8:$G$53,2,FALSE)) -> ANDRES | D15: =IF($B15="","",VLOOKUP($B15,'Liste CE2'!$A$8:$G$53,3,FALSE)) -> Zoé | E15: =IF($B15="","",VLOOKUP($B15,'Liste CE2'!$A$8:$G$53,4,FALSE)) -> F | F15: =IF($B15="","",VLOOKUP($B15,'Liste CE2'!$A$8:$G$53,5,FALSE)) -> CM2 B | G15: =IF($B15="","",VLOOKUP($B15,'Liste CE2'!$A$8:$G$53,6,FALSE)) -> J. BREL | H15: =IF($B15="","",VLOOKUP($B15,'Liste CE2'!$A$8:$G$53,7,FALSE)) -> MR LANNOY | L15: =IF(E15="F",C15&" "&D15,"") -> ANDRES Zoé | M15: =IF(L15<>"",A15,"") -> 12 | N15: =IF(E15="M",C15&" "&D15,"") | O15: =IF(E15="M",A15&" ","")
A16: =(A15+1) -> 13 | B16: 26 | C16: =IF($B16="","",VLOOKUP($B16,'Liste CE2'!$A$8:$G$53,2,FALSE)) -> YIN | D16: =IF($B16="","",VLOOKUP($B16,'Liste CE2'!$A$8:$G$53,3,FALSE)) -> Neary | E16: =IF($B16="","",VLOOKUP($B16,'Liste CE2'!$A$8:$G$53,4,FALSE)) -> M | F16: =IF($B16="","",VLOOKUP($B16,'Liste CE2'!$A$8:$G$53,5,FALSE)) -> CM2 A | G16: =IF($B16="","",VLOOKUP($B16,'Liste CE2'!$A$8:$G$53,6,FALSE)) -> J. BREL | H16: =IF($B16="","",VLOOKUP($B16,'Liste CE2'!$A$8:$G$53,7,FALSE)) -> MR COUTEL | L16: =IF(E16="F",C16&" "&D16,"") | M16: =IF(L16<>"",A16,"") | N16: =IF(E16="M",C16&" "&D16,"") -> YIN Neary | O16: =IF(E16="M",A16&" ","") -> 13
... A46: =(A45+1) -> 43 | B46: 39 | C46: =IF($B46="","",VLOOKUP($B46,'Liste CE2'!$A$8:$G$53,2,FALSE)) -> FLORIN | D46: =IF($B46="","",VLOOKUP($B46,'Liste CE2'!$A$8:$G$53,3,FALSE)) -> Morgane | E46: =IF($B46="","",VLOOKUP($B46,'Liste CE2'!$A$8:$G$53,4,FALSE)) -> M | F46: =IF($B46="","",VLOOKUP($B46,'Liste CE2'!$A$8:$G$53,5,FALSE)) -> CM2 B | G46: =IF($B46="","",VLOOKUP($B46,'Liste CE2'!$A$8:$G$53,6,FALSE)) -> J. BREL | H46: =IF($B46="","",VLOOKUP($B46,'Liste CE2'!$A$8:$G$53,7,FALSE)) -> MR LANNOY | L46: =IF(E46="F",C46&" "&D46,"") | M46: =IF(L46<>"",A46,"") | N46: =IF(E46="M",C46&" "&D46,"") -> FLORIN Morgane | O46: =IF(E46="M",A46&" ","") -> 43
A47: =(A46+1) -> 44 | C47: =IF($B47="","",VLOOKUP($B47,'Liste CE2'!$A$8:$G$53,2,FALSE)) | D47: =IF($B47="","",VLOOKUP($B47,'Liste CE2'!$A$8:$G$53,3,FALSE)) | E47: =IF($B47="","",VLOOKUP($B47,'Liste CE2'!$A$8:$G$53,4,FALSE)) | F47: =IF($B47="","",VLOOKUP($B47,'Liste CE2'!$A$8:$G$53,5,FALSE)) | G47: =IF($B47="","",VLOOKUP($B47,'Liste CE2'!$A$8:$G$53,6,FALSE)) | L47: =IF(E47="F",C47&" "&D47,"") | M47: =IF(L47<>"",A47,"") | N47: =IF(E47="M",C47&" "&D47,"") | O47: =IF(E47="M",A47&" ","")
A48: =(A47+1) -> 45 | C48: =IF($B48="","",VLOOKUP($B48,'Liste CE2'!$A$8:$G$53,2,FALSE)) | D48: =IF($B48="","",VLOOKUP($B48,'Liste CE2'!$A$8:$G$53,3,FALSE)) | E48: =IF($B48="","",VLOOKUP($B48,'Liste CE2'!$A$8:$G$53,4,FALSE)) | F48: =IF($B48="","",VLOOKUP($B48,'Liste CE2'!$A$8:$G$53,5,FALSE)) | G48: =IF($B48="","",VLOOKUP($B48,'Liste CE2'!$A$8:$G$53,6,FALSE)) | L48: =IF(E48="F",C48&" "&D48,"") | M48: =IF(L48<>"",A48,"") | N48: =IF(E48="M",C48&" "&D48,"") | O48: =IF(E48="M",A48&" ","")
A49: =(A48+1) -> 46 | C49: =IF($B49="","",VLOOKUP($B49,'Liste CE2'!$A$8:$G$53,2,FALSE)) | D49: =IF($B49="","",VLOOKUP($B49,'Liste CE2'!$A$8:$G$53,3,FALSE)) | E49: =IF($B49="","",VLOOKUP($B49,'Liste CE2'!$A$8:$G$53,4,FALSE)) | F49: =IF($B49="","",VLOOKUP($B49,'Liste CE2'!$A$8:$G$53,5,FALSE)) | G49: =IF($B49="","",VLOOKUP($B49,'Liste CE2'!$A$8:$G$53,6,FALSE)) | L49: =IF(E49="F",C49&" "&D49,"") | M49: =IF(L49<>"",A49,"") | N49: =IF(E49="M",C49&" "&D49,"") | O49: =IF(E49="M",A49&" ","")
A50: =(A49+1) -> 47 | C50: =IF($B50="","",VLOOKUP($B50,'Liste CE2'!$A$8:$G$53,2,FALSE)) | D50: =IF($B50="","",VLOOKUP($B50,'Liste CE2'!$A$8:$G$53,3,FALSE)) | E50: =IF($B50="","",VLOOKUP($B50,'Liste CE2'!$A$8:$G$53,4,FALSE)) | F50: =IF($B50="","",VLOOKUP($B50,'Liste CE2'!$A$8:$G$53,5,FALSE)) | G50: =IF($B50="","",VLOOKUP($B50,'Liste CE2'!$A$8:$G$53,6,FALSE)) | L50: =IF(E50="F",C50&" "&D50,"") | M50: =IF(L50<>"",A50,"") | N50: =IF(E50="M",C50&" "&D50,"") | O50: =IF(E50="M",A50&" ","")
A51: =(A50+1) -> 48 | C51: =IF($B51="","",VLOOKUP($B51,'Liste CE2'!$A$8:$G$53,2,FALSE)) | D51: =IF($B51="","",VLOOKUP($B51,'Liste CE2'!$A$8:$G$53,3,FALSE)) | E51: =IF($B51="","",VLOOKUP($B51,'Liste CE2'!$A$8:$G$53,4,FALSE)) | F51: =IF($B51="","",VLOOKUP($B51,'Liste CE2'!$A$8:$G$53,5,FALSE)) | G51: =IF($B51="","",VLOOKUP($B51,'Liste CE2'!$A$8:$G$53,6,FALSE)) | L51: =IF(E51="F",C51&" "&D51,"") | M51: =IF(L51<>"",A51,"") | N51: =IF(E51="M",C51&" "&D51,"") | O51: =IF(E51="M",A51&" ","")
A52: =(A51+1) -> 49 | C52: =IF($B52="","",VLOOKUP($B52,'Liste CE2'!$A$8:$G$53,2,FALSE)) | D52: =IF($B52="","",VLOOKUP($B52,'Liste CE2'!$A$8:$G$53,3,FALSE)) | E52: =IF($B52="","",VLOOKUP($B52,'Liste CE2'!$A$8:$G$53,4,FALSE)) | F52: =IF($B52="","",VLOOKUP($B52,'Liste CE2'!$A$8:$G$53,5,FALSE)) | G52: =IF($B52="","",VLOOKUP($B52,'Liste CE2'!$A$8:$G$53,6,FALSE)) | L52: =IF(E52="F",C52&" "&D52,"") | M52: =IF(L52<>"",A52,"") | N52: =IF(E52="M",C52&" "&D52,"") | O52: =IF(E52="M",A52&" ","")
A53: =(A52+1) -> 50 | C53: =IF($B53="","",VLOOKUP($B53,'Liste CE2'!$A$8:$G$53,2,FALSE)) | D53: =IF($B53="","",VLOOKUP($B53,'Liste CE2'!$A$8:$G$53,3,FALSE)) | E53: =IF($B53="","",VLOOKUP($B53,'Liste CE2'!$A$8:$G$53,4,FALSE)) | F53: =IF($B53="","",VLOOKUP($B53,'Liste CE2'!$A$8:$G$53,5,FALSE)) | G53: =IF($B53="","",VLOOKUP($B53,'Liste CE2'!$A$8:$G$53,6,FALSE)) | L53: =IF(E53="F",C53&" "&D53,"") | M53: =IF(L53<>"",A53,"") | N53: =IF(E53="M",C53&" "&D53,"") | O53: =IF(E53="M",A53&" ","")
A54: =(A53+1) -> 51 | C54: =IF($B54="","",VLOOKUP($B54,'Liste CE2'!$A$8:$G$53,2,FALSE)) | E54: =IF($B54="","",VLOOKUP($B54,'Liste CE2'!$A$8:$G$53,4,FALSE)) | M54: =IF(L54<>"",A54,"") | N54: =IF(E54="M",C54&" "&D54,"")
A55: =(A54+1) -> 52 | C55: =IF($B55="","",VLOOKUP($B55,'Liste CE2'!$A$8:$G$53,2,FALSE)) | M55: =IF(L55<>"",A55,"") | N55: =IF(E55="M",C55&" "&D55,"")
A56: =(A55+1) -> 53 | C56: =IF($B56="","",VLOOKUP($B56,'Liste CE2'!$A$8:$G$53,2,FALSE)) | M56: =IF(L56<>"",A56,"") | N56: =IF(E56="M",C56&" "&D56,"")
A57: =(A56+1) -> 54 | C57: =IF($B57="","",VLOOKUP($B57,'Liste CE2'!$A$8:$G$53,2,FALSE)) | M57: =IF(L57<>"",A57,"") | N57: =IF(E57="M",C57&" "&D57,"")
A58: =(A57+1) -> 55 | C58: =IF($B58="","",VLOOKUP($B58,'Liste CE2'!$A$8:$G$53,2,FALSE)) | M58: =IF(L58<>"",A58,"") | N58: =IF(E58="M",C58&" "&D58,"")
A59: =(A58+1) -> 56 | C59: =IF($B59="","",VLOOKUP($B59,'Liste CE2'!$A$8:$G$53,2,FALSE))
A60: =(A59+1) -> 57 | C60: =IF($B60="","",VLOOKUP($B60,'Liste CE2'!$A$8:$G$53,2,FALSE))
A61: =(A60+1) -> 58 | C61: =IF($B61="","",VLOOKUP($B61,'Liste CE2'!$A$8:$G$53,2,FALSE))

Sheet Classements CE2 Garcons
A1: RESULTATS GARCONS CE2
A2: CROSS 2018
A3: CLASSEMENT | B3: NOM | C3: PRENOM | D3: CLASSE | E3: ECOLE | F3: ENSEIGNANT
A4: 1 | B4: =INDEX('Résultats CE2'!C$4:C$14,MATCH(SMALL('Résultats CE2'!O$4:O$14,A4),'Résultats CE2'!O$4:O$14,0)) -> #NUM!
A5: =(A4+1) -> 2 | B5: =INDEX('Résultats CE2'!C$4:C$14,MATCH(SMALL('Résultats CE2'!O$4:O$14,A5),'Résultats CE2'!O$4:O$14,0)) -> #NUM!
A6: =(A5+1) -> 3 | B6: =INDEX('Résultats CE2'!C$4:C$14,MATCH(SMALL('Résultats CE2'!O$4:O$14,A6),'Résultats CE2'!O$4:O$14,0)) -> #NUM!
A7: =(A6+1) -> 4 | B7: =INDEX('Résultats CE2'!C$4:C$14,MATCH(SMALL('Résultats CE2'!O$4:O$14,A7),'Résultats CE2'!O$4:O$14,0)) -> #NUM!
A8: =(A7+1) -> 5 | B8: =INDEX('Résultats CE2'!C$4:C$14,MATCH(SMALL('Résultats CE2'!O$4:O$14,A8),'Résultats CE2'!O$4:O$14,0)) -> #NUM!
A9: =(A8+1) -> 6 | B9: =INDEX('Résultats CE2'!C$4:C$14,MATCH(SMALL('Résultats CE2'!O$4:O$14,A9),'Résultats CE2'!O$4:O$14,0)) -> #NUM!
A10: =(A9+1) -> 7 | B10: =INDEX('Résultats CE2'!C$4:C$14,MATCH(SMALL('Résultats CE2'!O$4:O$14,A10),'Résultats CE2'!O$4:O$14,0)) -> #NUM!
A11: =(A10+1) -> 8 | B11: =INDEX('Résultats CE2'!C$4:C$14,MATCH(SMALL('Résultats CE2'!O$4:O$14,A11),'Résultats CE2'!O$4:O$14,0)) -> #NUM!
A12: =(A11+1) -> 9 | B12: =INDEX('Résultats CE2'!C$4:C$14,MATCH(SMALL('Résultats CE2'!O$4:O$14,A12),'Résultats CE2'!O$4:O$14,0)) -> #NUM!
A13: =(A12+1) -> 10 | B13: =INDEX('Résultats CE2'!C$4:C$14,MATCH(SMALL('Résultats CE2'!O$4:O$14,A13),'Résultats CE2'!O$4:O$14,0)) -> #NUM!
A14: =(A13+1) -> 11 | B14: =INDEX('Résultats CE2'!C$4:C$14,MATCH(SMALL('Résultats CE2'!O$4:O$14,A14),'Résultats CE2'!O$4:O$14,0)) -> #NUM!
A15: =(A14+1) -> 12 | B15: =INDEX('Résultats CE2'!C$4:C$14,MATCH(SMALL('Résultats CE2'!O$4:O$14,A15),'Résultats CE2'!O$4:O$14,0)) -> #NUM!
A16: =(A15+1) -> 13 | B16: =INDEX('Résultats CE2'!C$4:C$14,MATCH(SMALL('Résultats CE2'!O$4:O$14,A16),'Résultats CE2'!O$4:O$14,0)) -> #NUM!
... A23: =(A22+1) -> 20 | B23: =INDEX('Résultats CE2'!C$4:C$14,MATCH(SMALL('Résultats CE2'!O$4:O$14,A23),'Résultats CE2'!O$4:O$14,0)) -> #NUM!
A24: =(A23+1) -> 21 | B24: =INDEX('Résultats CE2'!C$4:C$23,MATCH(SMALL('Résultats CE2'!O$4:O$23,B24),'Résultats CE2'!O$4:O$23,FALSE)) -> 0
A25: =(A24+1) -> 22 | B25: =INDEX('Résultats CE2'!C$4:C$23,MATCH(SMALL('Résultats CE2'!O$4:O$23,B25),'Résultats CE2'!O$4:O$23,FALSE)) -> 0
A26: =(A25+1) -> 23 | B26: =INDEX('Résultats CE2'!C$4:C$23,MATCH(SMALL('Résultats CE2'!O$4:O$23,B26),'Résultats CE2'!O$4:O$23,FALSE)) -> 0
A27: =(A26+1) -> 24 | B27: =INDEX('Résultats CE2'!C$4:C$23,MATCH(SMALL('Résultats CE2'!O$4:O$23,B27),'Résultats CE2'!O$4:O$23,FALSE)) -> 0
A28: =(A27+1) -> 25 | B28: =INDEX('Résultats CE2'!C$4:C$23,MATCH(SMALL('Résultats CE2'!O$4:O$23,B28),'Résultats CE2'!O$4:O$23,FALSE)) -> 0
A29: =(A28+1) -> 26 | B29: =INDEX('Résultats CE2'!C$4:C$23,MATCH(SMALL('Résultats CE2'!O$4:O$23,B29),'Résultats CE2'!O$4:O$23,FALSE)) -> 0
A30: =(A29+1) -> 27 | B30: =INDEX('Résultats CE2'!C$4:C$23,MATCH(SMALL('Résultats CE2'!O$4:O$23,B30),'Résultats CE2'!O$4:O$23,FALSE)) -> 0
A31: =(A30+1) -> 28 | B31: =INDEX('Résultats CE2'!C$4:C$23,MATCH(SMALL('Résultats CE2'!O$4:O$23,B31),'Résultats CE2'!O$4:O$23,FALSE)) -> 0
A32: =(A31+1) -> 29 | B32: =INDEX('Résultats CE2'!C$4:C$23,MATCH(SMALL('Résultats CE2'!O$4:O$23,B32),'Résultats CE2'!O$4:O$23,FALSE)) -> 0
A33: =(A32+1) -> 30 | B33: =INDEX('Résultats CE2'!C$4:C$23,MATCH(SMALL('Résultats CE2'!O$4:O$23,B33),'Résultats CE2'!O$4:O$23,FALSE)) -> 0
A34: =(A33+1) -> 31 | B34: =INDEX('Résultats CE2'!C$4:C$23,MATCH(SMALL('Résultats CE2'!O$4:O$23,B34),'Résultats CE2'!O$4:O$23,FALSE)) -> 0
A35: =(A34+1) -> 32 | B35: =INDEX('Résultats CE2'!C$4:C$23,MATCH(SMALL('Résultats CE2'!O$4:O$23,B35),'Résultats CE2'!O$4:O$23,FALSE)) -> 0
A36: =(A35+1) -> 33 | B36: =INDEX('Résultats CE2'!C$4:C$23,MATCH(SMALL('Résultats CE2'!O$4:O$23,B36),'Résultats CE2'!O$4:O$23,FALSE)) -> 0
A37: =(A36+1) -> 34 | B37: =INDEX('Résultats CE2'!C$4:C$53,MATCH(SMALL('Résultats CE2'!O$4:O$53,B37),'Résultats CE2'!O$4:O$53,0)) -> 0
A38: =(A37+1) -> 35 | B38: =INDEX('Résultats CE2'!C$4:C$53,MATCH(SMALL('Résultats CE2'!O$4:O$53,B38),'Résultats CE2'!O$4:O$53,0)) -> 0
A39: =(A38+1) -> 36 | B39: =INDEX('Résultats CE2'!C$4:C$53,MATCH(SMALL('Résultats CE2'!O$4:O$53,B39),'Résultats CE2'!O$4:O$53,0)) -> 0
A40: =(A39+1) -> 37 | B40: =INDEX('Résultats CE2'!C$4:C$53,MATCH(SMALL('Résultats CE2'!O$4:O$53,B40),'Résultats CE2'!O$4:O$53,0)) -> 0
A41: =(A40+1) -> 38 | B41: =INDEX('Résultats CE2'!C$4:C$53,MATCH(SMALL('Résultats CE2'!O$4:O$53,B41),'Résultats CE2'!O$4:O$53,0)) -> 0
A42: =(A41+1) -> 39 | B42: =INDEX('Résultats CE2'!C$4:C$53,MATCH(SMALL('Résultats CE2'!O$4:O$53,B42),'Résultats CE2'!O$4:O$53,0)) -> 0
A43: =(A42+1) -> 40 | B43: =INDEX('Résultats CE2'!C$4:C$53,MATCH(SMALL('Résultats CE2'!O$4:O$53,B43),'Résultats CE2'!O$4:O$53,0)) -> 0
A44: =(A43+1) -> 41 | B44: =INDEX('Résultats CE2'!C$4:C$53,MATCH(SMALL('Résultats CE2'!O$4:O$53,B44),'Résultats CE2'!O$4:O$53,0)) -> 0
A45: =(A44+1) -> 42 | B45: =INDEX('Résultats CE2'!C$4:C$53,MATCH(SMALL('Résultats CE2'!O$4:O$53,B45),'Résultats CE2'!O$4:O$53,0)) -> 0
A46: =(A45+1) -> 43 | B46: =INDEX('Résultats CE2'!C$4:C$53,MATCH(SMALL('Résultats CE2'!O$4:O$53,B46),'Résultats CE2'!O$4:O$53,0)) -> 0
...
