Workbook

Sheet Feuil1
A1: Fichier prevoyance collecteam - Janvier 2018 à Mars 2018
A3: Critère(s) de sélection:
A4: Date de début de paie entre le 01/01/2018 et le 31/03/2018
A6: Etablissement | C6: Position | E6: position | F6: Agent: | H6: N³ SS: | I6: Assiette | J6: Cot. Rég base | K6: Tx régime de base | L6: Cot. Opt1 | M6: Tx option 1 | N6: Cot. Opt2 | O6: Tx option 2 | P6: Cot. Opt3 | Q6: Tx option 3 | R6: Total taux | S6: Total Cotis.
A7: 001 | B7: coll1 | C7: FMPE | D7: FMPE | E7: =IF((OR(C7="FMPE",C7="TITCNR",C7="TITIRC",C7="STAIRC",C7="STACNR")),"TIT","NONTIT") -> TIT | F7: 00103260 | G7: nom prenom1 | H7: 1245646465456460 | I7: 3734.11 | J7: 49.29 | K7: 1.32 | L7: 0 | M7: 0 | N7: 0 | O7: 0 | P7: 0 | Q7: 0 | R7: 1.32 | S7: 49.29
A8: 001 | B8: coll1 | C8: FMPE | D8: FMPE | E8: =IF((OR(C8="FMPE",C8="TITCNR",C8="TITIRC",C8="STAIRC",C8="STACNR")),"TIT","NONTIT") -> TIT | F8: 00105869 | G8: nom prenom2 | H8: 1245646465456460 | I8: 5706.04 | J8: 141.33 | K8: 1.32 | L8: 0 | M8: 0 | N8: 0 | O8: 0 | P8: 0 | Q8: 0 | R8: 1.32 | S8: 141.33
A9: 001 | B9: coll1 | C9: NTCONT | D9: Contractuel ind. | E9: =IF((OR(C9="FMPE",C9="TITCNR",C9="TITIRC",C9="STAIRC",C9="STACNR")),"TIT","NONTIT") -> NONTIT | F9: 00109754 | G9: nom prenom3 | H9: 1245646465456460 | I9: 7481.43 | J9: 98.76 | K9: 1.32 | L9: 0 | M9: 0 | N9: 0 | O9: 0 | P9: 0 | Q9: 0 | R9: 1.32 | S9: 98.76
A10: 001 | B10: coll1 | C10: NTCONT | D10: Contractuel ind. | E10: =IF((OR(C10="FMPE",C10="TITCNR",C10="TITIRC",C10="STAIRC",C10="STACNR")),"TIT","NONTIT") -> NONTIT | F10: 00116930 | G10: nom prenom4 | H10: 1245646465456460 | I10: 22240.3 | J10: 293.57 | K10: 1.32 | L10: 0 | M10: 0 | N10: 53.38 | O10: 0.24 | P10: 0 | Q10: 0 | R10: 1.56 | S10: 346.95
A11: 001 | B11: coll1 | C11: NTCONT | D11: Contractuel ind. | E11: =IF((OR(C11="FMPE",C11="TITCNR",C11="TITIRC",C11="STAIRC",C11="STACNR")),"TIT","NONTIT") -> NONTIT | F11: 00122583 | G11: nom prenom5 | H11: 1245646465456460 | I11: 8273.44 | J11: 294 | K11: 1.32 | L11: 0 | M11: 0 | N11: 0 | O11: 0 | P11: 86.88 | Q11: 0.39 | R11: 1.71 | S11: 380.88
A12: 001 | B12: coll1 | C12: NTCONT | D12: Contractuel ind. | E12: =IF((OR(C12="FMPE",C12="TITCNR",C12="TITIRC",C12="STAIRC",C12="STACNR")),"TIT","NONTIT") -> NONTIT | F12: 00123390 | G12: nom prenom6 | H12: 1245646465456460 | I12: 8273.44 | J12: 294 | K12: 1.32 | L12: 0 | M12: 0 | N12: 0 | O12: 0 | P12: 0 | Q12: 0 | R12: 1.32 | S12: 294
A13: 002 | B13: Coll2 | C13: TITCNR | D13: Titulaire CNRACL | E13: =IF((OR(C13="FMPE",C13="TITCNR",C13="TITIRC",C13="STAIRC",C13="STACNR")),"TIT","NONTIT") -> TIT | F13: 00200889 | G13: nom prenom7 | H13: 1245646465456460 | I13: 6947.29 | J13: 91.7 | K13: 1.32 | L13: 15.29 | M13: 0.22 | N13: 0 | O13: 0 | P13: 0 | Q13: 0 | R13: 1.54 | S13: 106.99
A14: 002 | B14: Coll2 | C14: TITCNR | D14: Titulaire CNRACL | E14: =IF((OR(C14="FMPE",C14="TITCNR",C14="TITIRC",C14="STAIRC",C14="STACNR")),"TIT","NONTIT") -> TIT | F14: 00200890 | G14: nom prenom8 | H14: 1245646465456460 | I14: 7167.49 | J14: 94.6 | K14: 1.32 | L14: 15.77 | M14: 0.22 | N14: 0 | O14: 0 | P14: 0 | Q14: 0 | R14: 1.54 | S14: 110.37
A15: 002 | B15: Coll2 | C15: TITCNR | D15: Titulaire CNRACL | E15: =IF((OR(C15="FMPE",C15="TITCNR",C15="TITIRC",C15="STAIRC",C15="STACNR")),"TIT","NONTIT") -> TIT | F15: 00202634 | G15: nom prenom9 | H15: 1245646465456460 | I15: 6680.4 | J15: 88.17 | K15: 1.32 | L15: 14.7 | M15: 0.22 | N15: 0 | O15: 0 | P15: 0 | Q15: 0 | R15: 1.54 | S15: 102.87
A16: 002 | B16: Coll2 | C16: TITCNR | D16: Titulaire CNRACL | E16: =IF((OR(C16="FMPE",C16="TITCNR",C16="TITIRC",C16="STAIRC",C16="STACNR")),"TIT","NONTIT") -> TIT | F16: 00203414 | G16: nom prenom10 | H16: 1245646465456460 | I16: 14165.1 | J16: 186.99 | K16: 1.32 | L16: 31.17 | M16: 0.22 | N16: 0 | O16: 0 | P16: 0 | Q16: 0 | R16: 1.54 | S16: 218.16
A17: 002 | B17: Coll2 | C17: TITCNR | D17: Titulaire CNRACL | E17: =IF((OR(C17="FMPE",C17="TITCNR",C17="TITIRC",C17="STAIRC",C17="STACNR")),"TIT","NONTIT") -> TIT | F17: 00214562 | G17: nom prenom11 | H17: 1245646465456460 | I17: 4851 | J17: 64.04 | K17: 1.32 | L17: 0 | M17: 0 | N17: 0 | O17: 0 | P17: 0 | Q17: 0 | R17: 1.32 | S17: 64.04
A18: 008 | B18: Coll3 | C18: TITCNR | D18: Titulaire CNRACL | E18: =IF((OR(C18="FMPE",C18="TITCNR",C18="TITIRC",C18="STAIRC",C18="STACNR")),"TIT","NONTIT") -> TIT | F18: 00815590 | G18: nom prenom12 | H18: 1245646465456460 | I18: 6729.09 | J18: 88.82 | K18: 1.32 | L18: 0 | M18: 0 | N18: 0 | O18: 0 | P18: 0 | Q18: 0 | R18: 1.32 | S18: 88.82
... A24: 010 | B24: Coll4 | C24: TITCNR | D24: Titulaire CNRACL | E24: =IF((OR(C24="FMPE",C24="TITCNR",C24="TITIRC",C24="STAIRC",C24="STACNR")),"TIT","NONTIT") -> TIT | F24: 01003852 | G24: nom prenom18 | H24: 1245646465456460 | I24: 7058.33 | J24: 93.18 | K24: 1.32 | L24: 0 | M24: 0 | N24: 0 | O24: 0 | P24: 0 | Q24: 0 | R24: 1.32 | S24: 93.18

Sheet Feuil2
A2: BORDEREAU APPEL DE COTISATION
A5: APPEL DE COTISATION
A7: Période | B7: (indiquez la période de référence)
A8: Référence | B8: (indiquez votre code APP)
A9: Collectivité | B9: (indiquez le nom de votre collectivité)
A10: N° Contrat | B10: (indiquez le n° de contrat)
A13: GARANTIE | B13: EFFECTIF ASSURE | C13: ASSIETTE traitement brut en Euro de la période considérée | D13: BASE | E13: TAUX | F13: COTISATION
A14: Non-Tit Base | B14: =COUNTIFS(Feuil1!E7:E149,"NONTIT",Feuil1!R7:R149,"1,32") -> 2 | C14: =(SUMIFS(Feuil1!I7:I149,Feuil1!E7:E149,"NONTIT",Feuil1!R7:R149,"1,32")) -> 15754.87 | D14: TBI + NBI + RI si choisi | E14: 0.0132 | F14: =(SUMIFS(Feuil1!S7:S149,Feuil1!E7:E149,"NONTIT",Feuil1!R7:R149,"1,32")) -> 392.76
A15: Non-Tit Base + Option 1 | B15: =COUNTIFS(Feuil1!E7:E149,"NONTIT",Feuil1!R7:R149,"1,54") -> 0 | C15: =(SUMIFS(Feuil1!I7:I149,Feuil1!E7:E149,"NONTIT",Feuil1!R7:R149,"1,54")) -> 0 | D15: TBI + NBI + RI si choisi | E15: 0.0154 | F15: =(SUMIFS(Feuil1!S7:S149,Feuil1!E7:E149,"NONTIT",Feuil1!R7:R149,"1,54")) -> 0
A16: Non-Tit Base + Option 2 | B16: =COUNTIFS(Feuil1!E7:E149,"NONTIT",Feuil1!R7:R149,"1,56") -> 1 | C16: =(SUMIFS(Feuil1!I7:I149,Feuil1!E7:E149,"NONTIT",Feuil1!R7:R149,"1,56")) -> 22240.3 | D16: TBI + NBI + RI si choisi | E16: 0.0156 | F16: =(SUMIFS(Feuil1!S7:S149,Feuil1!E7:E149,"NONTIT",Feuil1!R7:R149,"1,56")) -> 346.95
A17: Non-Tit Base + Option 3 | B17: =COUNTIFS(Feuil1!E7:E149,"NONTIT",Feuil1!R7:R149,"1,71") -> 1 | C17: =(SUMIFS(Feuil1!I7:I149,Feuil1!E7:E149,"NONTIT",Feuil1!R7:R149,"1,71")) -> 8273.44 | D17: TBI + NBI + RI si choisi | E17: 0.0171 | F17: =(SUMIFS(Feuil1!S7:S149,Feuil1!E7:E149,"NONTIT",Feuil1!R7:R149,"1,71")) -> 380.88
A18: Non-Tit Base + Option 1,2 | B18: =COUNTIFS(Feuil1!E7:E149,"NONTIT",Feuil1!R7:R149,"1,78") -> 0 | C18: =(SUMIFS(Feuil1!I7:I149,Feuil1!E7:E149,"NONTIT",Feuil1!R7:R149,"1,88")) -> 0 | D18: TBI + NBI + RI si choisi | E18: 0.0178 | F18: =(SUMIFS(Feuil1!S7:S149,Feuil1!E7:E149,"NONTIT",Feuil1!R7:R149,"1,78")) -> 0
A19: Non-Tit Base + Option 1,2,3 | B19: =COUNTIFS(Feuil1!E7:E149,"NONTIT",Feuil1!R7:R149,"2,17") -> 0 | C19: =(SUMIFS(Feuil1!I7:I149,Feuil1!E7:E149,"NONTIT",Feuil1!R7:R149,"2,17")) -> 0 | D19: TBI + NBI + RI si choisi | E19: 0.0217 | F19: =(SUMIFS(Feuil1!S7:S149,Feuil1!E7:E149,"NONTIT",Feuil1!R7:R149,"2,17")) -> 0
A20: Non-Tit Base + Option 1,3 | B20: =COUNTIFS(Feuil1!E7:E149,"NONTIT",Feuil1!R7:R149,"1,93") -> 0 | C20: =(SUMIFS(Feuil1!I7:I149,Feuil1!E7:E149,"NONTIT",Feuil1!R7:R149,"1,93")) -> 0 | D20: TBI + NBI + RI si choisi | E20: 0.0193 | F20: =(SUMIFS(Feuil1!S7:S149,Feuil1!E7:E149,"NONTIT",Feuil1!R7:R149,"1,93")) -> 0
A21: Non-Tit Base + Option 2,3 | B21: =COUNTIFS(Feuil1!E7:E149,"NONTIT",Feuil1!R7:R149,"1,95") -> 0 | C21: =(SUMIFS(Feuil1!I7:I149,Feuil1!E7:E149,"NONTIT",Feuil1!R7:R149,"1,95")) -> 0 | D21: TBI + NBI + RI si choisi | E21: 0.0195 | F21: =(SUMIFS(Feuil1!S7:S149,Feuil1!E7:E149,"NONTIT",Feuil1!R7:R149,"1,95")) -> 0
A22: Tit Base | B22: =COUNTIFS(Feuil1!E7:E149,"TIT",Feuil1!R7:R149,"1,32") -> 6 | C22: =(SUMIFS(Feuil1!I7:I149,Feuil1!E7:E149,"TIT",Feuil1!R7:R149,"1,32")) -> 32881.51 | D22: TBI + NBI + RI si choisi | E22: 0.0132 | F22: =(SUMIFS(Feuil1!S7:S149,Feuil1!E7:E149,"TIT",Feuil1!R7:R149,"1,32")) -> 500.06
A23: Tit Base + Option 1 | B23: =COUNTIFS(Feuil1!E7:E149,"TIT",Feuil1!R7:R149,"1,54") -> 8 | C23: =(SUMIFS(Feuil1!I7:I149,Feuil1!E7:E149,"TIT",Feuil1!R7:R149,"1,54")) -> 58576.04 | D23: TBI + NBI + RI si choisi | E23: 0.0154 | F23: =(SUMIFS(Feuil1!S7:S149,Feuil1!E7:E149,"TIT",Feuil1!R7:R149,"1,54")) -> 902.08
A24: Tit Base + Option 2 | B24: =COUNTIFS(Feuil1!E7:E149,"TIT",Feuil1!R7:R149,"1,56") -> 0 | C24: =(SUMIFS(Feuil1!I7:I149,Feuil1!E7:E149,"TIT",Feuil1!R7:R149,"1,56")) -> 0 | D24: TBI + NBI + RI si choisi | E24: 0.0156 | F24: =(SUMIFS(Feuil1!S7:S149,Feuil1!E7:E149,"TIT",Feuil1!R7:R149,"1,56")) -> 0
A25: Tit Base + Option 3 | B25: =COUNTIFS(Feuil1!E7:E149,"TIT",Feuil1!R7:R149,"1,71") -> 0 | C25: =(SUMIFS(Feuil1!I7:I149,Feuil1!E7:E149,"TIT",Feuil1!R7:R149,"1,71")) -> 0 | D25: TBI + NBI + RI si choisi | E25: 0.0171 | F25: =(SUMIFS(Feuil1!S7:S149,Feuil1!E7:E149,"TIT",Feuil1!R7:R149,"1,71")) -> 0
A26: Tit Base + Option 1,2 | B26: =COUNTIFS(Feuil1!E7:E149,"TIT",Feuil1!R7:R149,"1,78") -> 0 | C26: =(SUMIFS(Feuil1!I7:I149,Feuil1!E7:E149,"TIT",Feuil1!R7:R149,"1,78")) -> 0 | D26: TBI + NBI + RI si choisi | E26: 0.0178 | F26: =(SUMIFS(Feuil1!S7:S149,Feuil1!E7:E149,"TIT",Feuil1!R7:R149,"1,78")) -> 0
A27: Tit Base + Option 1,2,3 | B27: =COUNTIFS(Feuil1!E7:E149,"TIT",Feuil1!R7:R149,"2,17") -> 0 | C27: =(SUMIFS(Feuil1!I7:I149,Feuil1!E7:E149,"TIT",Feuil1!R7:R149,"2,17")) -> 0 | D27: TBI + NBI + RI si choisi | E27: 0.0217 | F27: =(SUMIFS(Feuil1!S7:S149,Feuil1!E7:E149,"TIT",Feuil1!R7:R149,"2,17")) -> 0
A28: Tit Base + Option 1,3 | B28: =COUNTIFS(Feuil1!E7:E149,"TIT",Feuil1!R7:R149,"1,93") -> 0 | C28: =(SUMIFS(Feuil1!I7:I149,Feuil1!E7:E149,"TIT",Feuil1!R7:R149,"1,93")) -> 0 | D28: TBI + NBI + RI si choisi | E28: 0.0193 | F28: =(SUMIFS(Feuil1!S7:S149,Feuil1!E7:E149,"TIT",Feuil1!R7:R149,"1,93")) -> 0
A29: Tit Base + Option 2,3 | B29: =COUNTIFS(Feuil1!E7:E149,"TIT",Feuil1!R7:R149,"1,95") -> 0 | C29: =(SUMIFS(Feuil1!I7:I149,Feuil1!E7:E149,"TIT",Feuil1!R7:R149,"1,95")) -> 0 | D29: TBI + NBI + RI si choisi | E29: 0.0195 | F29: =(SUMIFS(Feuil1!S7:S149,Feuil1!E7:E149,"TIT",Feuil1!R7:R149,"1,95")) -> 0
A30: Total | B30: =SUM(B14:B29) -> 18
I31: apprenti | J31: 1
A32: Vous pouvez vous aider du fichier type fourni | I32: cae emploi | J32: 6
I33: irc ircantec | J33: 140
A34: COTISATION TOTALE A REGLER | F34: =SUM(F14:F30) -> 2522.73 | J34: 148
I35: cnr cnracl | J35: 467
A36: Merci de nous indiquer le motif des éventuelles modifications ou régularisations apportées sur cet appel de cotisation | I36: 327
I37: 0
A38: Réglé par : | C38: mandat administratif du (des) montant(s) suivant(s) : | I38: non vides | J38: 615
I39: ligne vides | J39: 179
A41: Réglé par : | C41: Chèque Bancaire | I41: non vides | J41: 615
A42: a l'ordre de | I42: ligne vides | J42: 179
A44: Fait le : | E44: Cachet et signature
A45: Par : | E45: Qualité du signataire
A46: Téléphone :
A48: A retourner à :
