Workbook

Sheet OPERATIONS DU RELEVE BANCAIRE
K1: SOLDE AU 31/12/2016
A2: CONDITIONS | B2: NUMERO OPERATION | C2: CODE FLUX | D2: FLUX | E2: DATE OPERATION | F2: LIBELLE | G2: DATE VALEUR | H2: DEBIT | I2: CREDIT | J2: SOLDE
A3: =+IF(E3=E4,TRUE,FALSE) -> TRUE | B3: 1 | C3: 1 | D3: CHEM | E3: 42737 | F3: CHEQUE EMIS | G3: 42738 | H3: 200000000 | J3: =+L1-H3 -> -200000000
A4: =+IF(E4=E5,TRUE,FALSE) -> TRUE | B4: 2 | C4: 2 | D4: RECH | E4: 42737 | F4: REMISE CHEQUE | G4: 42737 | I4: 10000 | J4: =+IF(ISBLANK(H4),+J3+I4,J3-H4) -> -199990000
A5: =+IF(E5=E6,TRUE,FALSE) -> TRUE | B5: 3 | C5: 3 | D5: EFPA | E5: 42737 | F5: EFFET A PAYER | G5: 42737 | H5: 35000 | J5: =+IF(ISBLANK(H5),+J4+I5,J4-H5) -> -200025000
A6: =+IF(E6=E7,TRUE,FALSE) -> TRUE | B6: 4 | C6: 43 | D6: FRFO | E6: 42737 | F6: FRAIS DE FORCAGE | G6: 42737 | H6: 50 | J6: =+IF(ISBLANK(H6),+J5+I6,J5-H6) -> -200025050
A7: =+IF(E7=E8,TRUE,FALSE) -> TRUE | B7: 5 | C7: 65 | D7: TRIN | E7: 42737 | F7: TRANSFERT INTERNATIONALE | G7: 42737 | H7: 3000000 | J7: =+IF(ISBLANK(H7),+J6+I7,J6-H7) -> -203025050
A8: =+IF(E8=E9,TRUE,FALSE) -> FALSE | B8: 6 | C8: 45 | D8: FRIN | E8: 42737 | F8: FRAIS/TRANSFERT INTERNATIONAL | G8: 42737 | H8: 2000 | J8: =+IF(ISBLANK(H8),+J7+I8,J7-H8) -> -203027050
A9: =+IF(E9=E10,TRUE,FALSE) -> TRUE | B9: 7 | C9: 1 | D9: CHEM | E9: 42738 | F9: CHEQUE EMIS | G9: 42738 | H9: 3500 | J9: =+IF(ISBLANK(H9),+J8+I9,J8-H9) -> -203030550
A10: =+IF(E10=E11,TRUE,FALSE) -> FALSE | B10: 8 | C10: 43 | D10: FRFO | E10: 42738 | F10: FRAIS DE FORCAGE | G10: 42738 | H10: 50 | J10: =+IF(ISBLANK(H10),+J9+I10,J9-H10) -> -203030600
A11: =+IF(E11=E12,TRUE,FALSE) -> TRUE | B11: 9 | C11: 2 | D11: RECH | E11: 42739 | F11: REMISE CHEQUE | G11: 42740 | I11: 15000000 | J11: =+IF(ISBLANK(H11),+J10+I11,J10-H11) -> -188030600
A12: =+IF(E12=E13,TRUE,FALSE) -> FALSE | B12: 10 | C12: 5 | D12: VIRE | E12: 42739 | F12: VIREMENT RECU | G12: 42739 | I12: 3000000 | J12: =+IF(ISBLANK(H12),+J11+I12,J11-H12) -> -185030600
A13: =+IF(E13=E14,TRUE,FALSE) -> TRUE | B13: 11 | C13: 1 | D13: CHEM | E13: 42740 | F13: CHEQUE EMIS | G13: 42740 | H13: 25000000 | J13: =+IF(ISBLANK(H13),+J12+I13,J12-H13) -> -210030600
A14: =+IF(E14=E15,TRUE,FALSE) -> TRUE | B14: 12 | C14: 17 | D14: EFPA | E14: 42740 | F14: EFFET A PAYER | G14: 42740 | H14: 24000 | J14: =+IF(ISBLANK(H14),+J13+I14,J13-H14) -> -210054600
A15: =+IF(E15=E16,TRUE,FALSE) -> TRUE | B15: 13 | C15: 43 | D15: FRFO | E15: 42740 | F15: FRAIS DE FORCAGE | G15: 42741 | H15: 50 | J15: =+IF(ISBLANK(H15),+J14+I15,J14-H15) -> -210054650
A16: =+IF(E16=E17,TRUE,FALSE) -> FALSE | B16: 14 | C16: 43 | D16: FRFO | E16: 42740 | F16: FRAIS DE FORCAGE | G16: 42740 | H16: 50 | J16: =+IF(ISBLANK(H16),+J15+I16,J15-H16) -> -210054700
A17: =+IF(E17=E18,TRUE,FALSE) -> TRUE | B17: 15 | C17: 67 | D17: COCA | E17: 42741 | F17: COMMISSION SUR CAUTION | G17: 42741 | H17: 6000 | J17: =+IF(ISBLANK(H17),+J16+I17,J16-H17) -> -210060700
A18: =+IF(E18=E19,TRUE,FALSE) -> FALSE | B18: 16 | C18: 71 | D18: CRVE | E18: 42741 | F18: CREDIT SPOT VERSEMENT | G18: 42742 | I18: 100000000 | J18: =+IF(ISBLANK(H18),+J17+I18,J17-H18) -> -110060700
A19: =+IF(E19=E20,TRUE,FALSE) -> TRUE | B19: 17 | C19: 1 | D19: CHEM | E19: 42744 | F19: CHEQUE EMIS | G19: 42744 | H19: 45000000 | J19: =+IF(ISBLANK(H19),+J18+I19,J18-H19) -> -155060700
A20: =+IF(E20=E21,TRUE,FALSE) -> TRUE | B20: 18 | C20: 43 | D20: FRFO | E20: 42744 | F20: FRAIS DE FORCAGE | G20: 42744 | H20: 50 | J20: =+IF(ISBLANK(H20),+J19+I20,J19-H20) -> -155060750
A21: =+IF(E21=E22,TRUE,FALSE) -> FALSE | B21: 19 | C21: 61 | D21: AGAG | E21: 42744 | F21: AGIOS | G21: 42744 | H21: 300000 | J21: =+IF(ISBLANK(H21),+J20+I21,J20-H21) -> -155360750
A22: =+IF(E22=E23,TRUE,FALSE) -> TRUE | B22: 20 | C22: 1 | D22: CHEM | E22: 42745 | F22: CHEQUE EMIS | G22: 42745 | H22: 200000000 | J22: =+IF(ISBLANK(H22),+J21+I22,J21-H22) -> -355360750
A23: =+IF(E23=E24,TRUE,FALSE) -> FALSE | B23: 21 | C23: 2 | D23: RECH | E23: 42745 | F23: REMISE CHEQUE | G23: 42746 | I23: 10000 | J23: =+IF(ISBLANK(H23),+J22+I23,J22-H23) -> -355350750
A24: =+IF(E24=E25,TRUE,FALSE) -> TRUE | B24: 22 | C24: 3 | D24: EFPA | E24: 42746 | F24: EFFET A PAYER | G24: 42746 | H24: 35000 | J24: =+IF(ISBLANK(H24),+J23+I24,J23-H24) -> -355385750
A25: =+IF(E25=E26,TRUE,FALSE) -> TRUE | B25: 23 | C25: 43 | D25: FRFO | E25: 42746 | F25: FRAIS DE FORCAGE | G25: 42746 | H25: 50 | J25: =+IF(ISBLANK(H25),+J24+I25,J24-H25) -> -355385800
A26: =+IF(E26=E27,TRUE,FALSE) -> TRUE | B26: 24 | C26: 65 | D26: TRIN | E26: 42746 | F26: TRANSFERT INTERNATIONALE | G26: 42746 | H26: 3000000 | J26: =+IF(ISBLANK(H26),+J25+I26,J25-H26) -> -358385800
A27: =+IF(E27=E28,TRUE,FALSE) -> FALSE | B27: 25 | C27: 45 | D27: FRIN | E27: 42746 | F27: FRAIS/TRANSFERT INTERNATIONAL | G27: 42747 | H27: 2000 | J27: =+IF(ISBLANK(H27),+J26+I27,J26-H27) -> -358387800
A28: =+IF(E28=E29,TRUE,FALSE) -> TRUE | B28: 26 | C28: 1 | D28: CHEM | E28: 42747 | F28: CHEQUE EMIS | G28: 42747 | H28: 3500 | J28: =+IF(ISBLANK(H28),+J27+I28,J27-H28) -> -358391300
A29: =+IF(E29=E30,TRUE,FALSE) -> TRUE | B29: 27 | C29: 43 | D29: FRFO | E29: 42747 | F29: FRAIS DE FORCAGE | G29: 42747 | H29: 50 | J29: =+IF(ISBLANK(H29),+J28+I29,J28-H29) -> -358391350
A30: =+IF(E30=E31,TRUE,FALSE) -> TRUE | B30: 28 | C30: 2 | D30: RECH | E30: 42747 | F30: REMISE CHEQUE | G30: 42747 | I30: 15000000 | J30: =+IF(ISBLANK(H30),+J29+I30,J29-H30) -> -343391350
A31: =+IF(E31=E32,TRUE,FALSE) -> TRUE | B31: 29 | C31: 5 | D31: VIRE | E31: 42747 | F31: VIREMENT RECU | G31: 42747 | I31: 3000000 | J31: =+IF(ISBLANK(H31),+J30+I31,J30-H31) -> -340391350
A32: =+IF(E32=E33,TRUE,FALSE) -> TRUE | B32: 30 | C32: 1 | D32: CHEM | E32: 42747 | F32: CHEQUE EMIS | G32: 42739 | H32: 25000000 | J32: =+IF(ISBLANK(H32),+J31+I32,J31-H32) -> -365391350
A33: =+IF(E33=E34,TRUE,FALSE) -> TRUE | B33: 31 | C33: 17 | D33: EFPA | E33: 42747 | F33: EFFET A PAYER | G33: 42739 | H33: 24000 | J33: =+IF(ISBLANK(H33),+J32+I33,J32-H33) -> -365415350
A34: =+IF(E34=E35,TRUE,FALSE) -> TRUE | B34: 32 | C34: 43 | D34: FRFO | E34: 42747 | F34: FRAIS DE FORCAGE | G34: 42739 | H34: 50 | J34: =+IF(ISBLANK(H34),+J33+I34,J33-H34) -> -365415400
A35: =+IF(E35=E36,TRUE,FALSE) -> TRUE | B35: 33 | C35: 43 | D35: FRFO | E35: 42747 | F35: FRAIS DE FORCAGE | G35: 42739 | H35: 50 | J35: =+IF(ISBLANK(H35),+J34+I35,J34-H35) -> -365415450
A36: =+IF(E36=E37,TRUE,FALSE) -> TRUE | B36: 34 | C36: 67 | D36: COCA | E36: 42747 | F36: COMMISSION SUR CAUTION | G36: 42739 | H36: 6000 | J36: =+IF(ISBLANK(H36),+J35+I36,J35-H36) -> -365421450
A37: =+IF(E37=E38,TRUE,FALSE) -> FALSE | B37: 35 | C37: 71 | D37: CRVE | E37: 42747 | F37: CREDIT SPOT VERSEMENT | G37: 42747 | I37: 100000000 | J37: =+IF(ISBLANK(H37),+J36+I37,J36-H37) -> -265421450
A38: =+IF(E38=E39,TRUE,FALSE) -> TRUE | B38: 36 | C38: 1 | D38: CHEM | E38: 42748 | F38: CHEQUE EMIS | G38: 42748 | H38: 45000000 | J38: =+IF(ISBLANK(H38),+J37+I38,J37-H38) -> -310421450
A39: =+IF(E39=E40,TRUE,FALSE) -> TRUE | B39: 37 | C39: 43 | D39: FRFO | E39: 42748 | F39: FRAIS DE FORCAGE | G39: 42748 | H39: 50 | J39: =+IF(ISBLANK(H39),+J38+I39,J38-H39) -> -310421500
A40: =+IF(E40=E41,TRUE,FALSE) -> TRUE | B40: 38 | C40: 61 | D40: AGAG | E40: 42748 | F40: AGIOS | G40: 42748 | H40: 300000 | J40: =+IF(ISBLANK(H40),+J39+I40,J39-H40) -> -310721500
...

Sheet FRFO
B4: NUMERO OPERATION | C4: CODE FLUX | D4: FLUX | E4: DATE OPERATION | F4: LIBELLE | G4: DATE VALEUR | H4: DEBIT | I4: CREDIT | J4: SOLDE J | K4: SOLDE J-1 | N4: EXPLICATIONS FRAIS DE FORCAGE
B5: 4 | C5: 43 | D5: FRFO | E5: 42737 | F5: FRAIS DE FORCAGE | G5: 42737 | H5: 50 | J5: -203027050 | K5: -100000000
B6: 8 | C6: 43 | D6: FRFO | E6: 42738 | F6: FRAIS DE FORCAGE | G6: 42738 | H6: 50 | J6: -203030600 | K6: -203027050 | N6: Les frais de forcage sont des prélèvements réalisés par la banque lorsque le titulaire du compte (les entreprises généralement) dépasse son découvert autorisé. Il s'agit d'un montant fixe qui est prelevé en principe pour tous les mouvements débiteurs réalisés après le dépassement du découvert autorisé. En d'autres termes si le découvert autorisé est de -100 Millions chaque opérations au débit du compte générera des frais de forçage tant que le solde reste en dessous des -100 Millions de découvert autorisé. Mon exemple de relevé bancaire ne respecte pas strictement ce que la banque réalise mais il est suffisant pour comprendre le principe ;)
B7: 13 | C7: 43 | D7: FRFO | E7: 42740 | F7: FRAIS DE FORCAGE | G7: 42741 | H7: 50 | J7: -210054700 | K7: -285030600
B8: 14 | C8: 43 | D8: FRFO | E8: 42740 | F8: FRAIS DE FORCAGE | G8: 42740 | H8: 50 | J8: -210054700 | K8: -285030600
B9: 18 | C9: 43 | D9: FRFO | E9: 42744 | F9: FRAIS DE FORCAGE | G9: 42744 | H9: 50 | J9: -155360750 | K9: -310054700
B10: 23 | C10: 43 | D10: FRFO | E10: 42746 | F10: FRAIS DE FORCAGE | G10: 42746 | H10: 50 | J10: -358385800 | K10: -455350750
B11: 27 | C11: 43 | D11: FRFO | E11: 42747 | F11: FRAIS DE FORCAGE | G11: 42747 | H11: 50 | J11: -265421450 | K11: -358385800
B12: 32 | C12: 43 | D12: FRFO | E12: 42747 | F12: FRAIS DE FORCAGE | G12: 42739 | H12: 50 | J12: -265421450 | K12: -358385800
B13: 33 | C13: 43 | D13: FRFO | E13: 42747 | F13: FRAIS DE FORCAGE | G13: 42739 | H13: 50 | J13: -265421450 | K13: -358385800
B14: 37 | C14: 43 | D14: FRFO | E14: 42748 | F14: FRAIS DE FORCAGE | G14: 42748 | H14: 50 | J14: -510746500 | K14: -265421450
B15: 42 | C15: 43 | D15: FRFO | E15: 42751 | F15: FRAIS DE FORCAGE | G15: 42751 | H15: 50 | J15: -513748550 | K15: -610746500
B16: 46 | C16: 43 | D16: FRFO | E16: 42752 | F16: FRAIS DE FORCAGE | G16: 42752 | H16: 50 | J16: -520752100 | K16: -513748550 | N16: La méthode de prélèvement dépend des banques; une banque peut choisir de prélever ses frais de forcage le jour même où les opérations au débit se réalisent et une autre banque peut décider de les prélever le jour suivant l'occurrence des opérations au débit.
B17: 51 | C17: 43 | D17: FRFO | E17: 42753 | F17: FRAIS DE FORCAGE | G17: 42753 | H17: 50 | J17: -666072250 | K17: -520752100
B18: 52 | C18: 43 | D18: FRFO | E18: 42753 | F18: FRAIS DE FORCAGE | G18: 42753 | H18: 50 | J18: -666072250 | K18: -520752100
B19: 56 | C19: 43 | D19: FRFO | E19: 42753 | F19: FRAIS DE FORCAGE | G19: 42753 | H19: 50 | J19: -666072250 | K19: -520752100
B20: 61 | C20: 43 | D20: FRFO | E20: 42754 | F20: FRAIS DE FORCAGE | G20: 42754 | H20: 50 | J20: -669107300 | K20: -666072250 | N20: Mon travail consiste à m'assurer que le solde du jour de l'apparition des frais de forçage (Lorsque la banque applique la règle du jour j) est bien en dessous du découvert autorisé ou si le solde de la veille du jour de l'apparition des frais de forcage (lorsque la banque applique la règle du J+1) est bien inférieur au découvert autorisé.
B21: 65 | C21: 43 | D21: FRFO | E21: 42755 | F21: FRAIS DE FORCAGE | G21: 42756 | H21: 50 | J21: -669112850 | K21: -669107300
B22: 70 | C22: 43 | D22: FRFO | E22: 42759 | F22: FRAIS DE FORCAGE | G22: 42759 | H22: 50 | J22: -621443000 | K22: -776136850
B23: 71 | C23: 43 | D23: FRFO | E23: 42759 | F23: FRAIS DE FORCAGE | G23: 42759 | H23: 50 | J23: -621443000 | K23: -776136850
B24: 75 | C24: 43 | D24: FRFO | E24: 42759 | F24: FRAIS DE FORCAGE | G24: 42760 | H24: 50 | J24: -621443000 | K24: -776136850
N25: J'aimerais donc pouvoir avec une macro ou une formule : | U25: Comme présenté dans le tableau ci-contre
N27: 1- Reprendre tous les frais de forcage (code flux 43) de la feuille (OPERATIONS DU RELEVE BANCAIRE) avec leur montant
N28: 2- Puis, que le solde du jour de l'apparition des frais de forcage soit renseigner dans une colonne
N29: 3- Que le solde de la veille du jour de l'apparition des frais de forcage soit renseigner dans une autre colonne
N31: Je précise que le solde à prendre est celui de la dernière opération du jour et ce peu importe l'emplacement du frais de forcage durant la journée (voir les opérations du 12/01/2017 pour exemples). PAR AILLEURS LES DATES A PRENDRE EN COMPTE SONT UNIQUEMENT LES DATES D'OPERATIONS PAS LES DATES DE VALEURS
N36: Je vous remercie infiniment pour votre aide

Sheet FRFO RESOLU
B4: NUMERO OPERATION | C4: CODE FLUX | D4: FLUX | E4: DATE OPERATION | F4: LIBELLE | G4: DATE VALEUR | H4: DEBIT | I4: CREDIT | J4: SOLDE J | K4: SOLDE J-1
B5: 4 | C5: 43 | D5: FRFO | E5: 42737 | F5: FRAIS DE FORCAGE | G5: 42737 | H5: 50 | J5: {=VALUE(INDEX('OPERATIONS DU RELEVE BANCAIRE'!$J$3:$J$78,MATCH(1,('OPERATIONS DU RELEVE BANCAIRE'!$E$3:$E$78='FRFO RESOLU'!E5)*('OPERATIONS DU RELEVE BANCAIRE'!$A$3:$A$78=FALSE),0)))} -> -203027050 | K5: {=VALUE(INDEX('OPERATIONS DU RELEVE BANCAIRE'!$J$3:$J$78,MATCH(1,('OPERATIONS DU RELEVE BANCAIRE'!$E$3:$E$78='FRFO RESOLU'!E5)*1-('OPERATIONS DU RELEVE BANCAIRE'!$A$3:$A$78=FALSE),0)-1))} -> -200000000
B6: 8 | C6: 43 | D6: FRFO | E6: 42738 | F6: FRAIS DE FORCAGE | G6: 42738 | H6: 50 | J6: {=VALUE(INDEX('OPERATIONS DU RELEVE BANCAIRE'!$J$3:$J$78,MATCH(1,('OPERATIONS DU RELEVE BANCAIRE'!$E$3:$E$78='FRFO RESOLU'!E6)*('OPERATIONS DU RELEVE BANCAIRE'!$A$3:$A$78=FALSE),0)))} -> -203030600 | K6: {=VALUE(INDEX('OPERATIONS DU RELEVE BANCAIRE'!$J$3:$J$78,MATCH(1,('OPERATIONS DU RELEVE BANCAIRE'!$E$3:$E$78='FRFO RESOLU'!E6)*1-('OPERATIONS DU RELEVE BANCAIRE'!$A$3:$A$78=FALSE),0)-1))} -> -203027050
B7: 13 | C7: 43 | D7: FRFO | E7: 42740 | F7: FRAIS DE FORCAGE | G7: 42741 | H7: 50 | J7: {=VALUE(INDEX('OPERATIONS DU RELEVE BANCAIRE'!$J$3:$J$78,MATCH(1,('OPERATIONS DU RELEVE BANCAIRE'!$E$3:$E$78='FRFO RESOLU'!E7)*('OPERATIONS DU RELEVE BANCAIRE'!$A$3:$A$78=FALSE),0)))} -> -210054700 | K7: {=VALUE(INDEX('OPERATIONS DU RELEVE BANCAIRE'!$J$3:$J$78,MATCH(1,('OPERATIONS DU RELEVE BANCAIRE'!$E$3:$E$78='FRFO RESOLU'!E7)*1-('OPERATIONS DU RELEVE BANCAIRE'!$A$3:$A$78=FALSE),0)-1))} -> -185030600
B8: 14 | C8: 43 | D8: FRFO | E8: 42740 | F8: FRAIS DE FORCAGE | G8: 42740 | H8: 50 | J8: {=VALUE(INDEX('OPERATIONS DU RELEVE BANCAIRE'!$J$3:$J$78,MATCH(1,('OPERATIONS DU RELEVE BANCAIRE'!$E$3:$E$78='FRFO RESOLU'!E8)*('OPERATIONS DU RELEVE BANCAIRE'!$A$3:$A$78=FALSE),0)))} -> -210054700 | K8: {=VALUE(INDEX('OPERATIONS DU RELEVE BANCAIRE'!$J$3:$J$78,MATCH(1,('OPERATIONS DU RELEVE BANCAIRE'!$E$3:$E$78='FRFO RESOLU'!E8)*1-('OPERATIONS DU RELEVE BANCAIRE'!$A$3:$A$78=FALSE),0)-1))} -> -185030600
B9: 18 | C9: 43 | D9: FRFO | E9: 42744 | F9: FRAIS DE FORCAGE | G9: 42744 | H9: 50 | J9: {=VALUE(INDEX('OPERATIONS DU RELEVE BANCAIRE'!$J$3:$J$78,MATCH(1,('OPERATIONS DU RELEVE BANCAIRE'!$E$3:$E$78='FRFO RESOLU'!E9)*('OPERATIONS DU RELEVE BANCAIRE'!$A$3:$A$78=FALSE),0)))} -> -155360750 | K9: {=VALUE(INDEX('OPERATIONS DU RELEVE BANCAIRE'!$J$3:$J$78,MATCH(1,('OPERATIONS DU RELEVE BANCAIRE'!$E$3:$E$78='FRFO RESOLU'!E9)*1-('OPERATIONS DU RELEVE BANCAIRE'!$A$3:$A$78=FALSE),0)-1))} -> -110060700
B10: 23 | C10: 43 | D10: FRFO | E10: 42746 | F10: FRAIS DE FORCAGE | G10: 42746 | H10: 50 | J10: {=VALUE(INDEX('OPERATIONS DU RELEVE BANCAIRE'!$J$3:$J$78,MATCH(1,('OPERATIONS DU RELEVE BANCAIRE'!$E$3:$E$78='FRFO RESOLU'!E10)*('OPERATIONS DU RELEVE BANCAIRE'!$A$3:$A$78=FALSE),0)))} -> -358387800 | K10: {=VALUE(INDEX('OPERATIONS DU RELEVE BANCAIRE'!$J$3:$J$78,MATCH(1,('OPERATIONS DU RELEVE BANCAIRE'!$E$3:$E$78='FRFO RESOLU'!E10)*1-('OPERATIONS DU RELEVE BANCAIRE'!$A$3:$A$78=FALSE),0)-1))} -> -355350750
B11: 27 | C11: 43 | D11: FRFO | E11: 42747 | F11: FRAIS DE FORCAGE | G11: 42747 | H11: 50 | J11: {=VALUE(INDEX('OPERATIONS DU RELEVE BANCAIRE'!$J$3:$J$78,MATCH(1,('OPERATIONS DU RELEVE BANCAIRE'!$E$3:$E$78='FRFO RESOLU'!E11)*('OPERATIONS DU RELEVE BANCAIRE'!$A$3:$A$78=FALSE),0)))} -> -265421450 | K11: {=VALUE(INDEX('OPERATIONS DU RELEVE BANCAIRE'!$J$3:$J$78,MATCH(1,('OPERATIONS DU RELEVE BANCAIRE'!$E$3:$E$78='FRFO RESOLU'!E11)*1-('OPERATIONS DU RELEVE BANCAIRE'!$A$3:$A$78=FALSE),0)-1))} -> -358387800
B12: 32 | C12: 43 | D12: FRFO | E12: 42747 | F12: FRAIS DE FORCAGE | G12: 42739 | H12: 50 | J12: {=VALUE(INDEX('OPERATIONS DU RELEVE BANCAIRE'!$J$3:$J$78,MATCH(1,('OPERATIONS DU RELEVE BANCAIRE'!$E$3:$E$78='FRFO RESOLU'!E12)*('OPERATIONS DU RELEVE BANCAIRE'!$A$3:$A$78=FALSE),0)))} -> -265421450 | K12: {=VALUE(INDEX('OPERATIONS DU RELEVE BANCAIRE'!$J$3:$J$78,MATCH(1,('OPERATIONS DU RELEVE BANCAIRE'!$E$3:$E$78='FRFO RESOLU'!E12)*1-('OPERATIONS DU RELEVE BANCAIRE'!$A$3:$A$78=FALSE),0)-1))} -> -358387800
B13: 33 | C13: 43 | D13: FRFO | E13: 42747 | F13: FRAIS DE FORCAGE | G13: 42739 | H13: 50 | J13: {=VALUE(INDEX('OPERATIONS DU RELEVE BANCAIRE'!$J$3:$J$78,MATCH(1,('OPERATIONS DU RELEVE BANCAIRE'!$E$3:$E$78='FRFO RESOLU'!E13)*('OPERATIONS DU RELEVE BANCAIRE'!$A$3:$A$78=FALSE),0)))} -> -265421450 | K13: {=VALUE(INDEX('OPERATIONS DU RELEVE BANCAIRE'!$J$3:$J$78,MATCH(1,('OPERATIONS DU RELEVE BANCAIRE'!$E$3:$E$78='FRFO RESOLU'!E13)*1-('OPERATIONS DU RELEVE BANCAIRE'!$A$3:$A$78=FALSE),0)-1))} -> -358387800
B14: 37 | C14: 43 | D14: FRFO | E14: 42748 | F14: FRAIS DE FORCAGE | G14: 42748 | H14: 50 | J14: {=VALUE(INDEX('OPERATIONS DU RELEVE BANCAIRE'!$J$3:$J$78,MATCH(1,('OPERATIONS DU RELEVE BANCAIRE'!$E$3:$E$78='FRFO RESOLU'!E14)*('OPERATIONS DU RELEVE BANCAIRE'!$A$3:$A$78=FALSE),0)))} -> -510746500 | K14: {=VALUE(INDEX('OPERATIONS DU RELEVE BANCAIRE'!$J$3:$J$78,MATCH(1,('OPERATIONS DU RELEVE BANCAIRE'!$E$3:$E$78='FRFO RESOLU'!E14)*1-('OPERATIONS DU RELEVE BANCAIRE'!$A$3:$A$78=FALSE),0)-1))} -> -265421450
B15: 42 | C15: 43 | D15: FRFO | E15: 42751 | F15: FRAIS DE FORCAGE | G15: 42751 | H15: 50 | J15: {=VALUE(INDEX('OPERATIONS DU RELEVE BANCAIRE'!$J$3:$J$78,MATCH(1,('OPERATIONS DU RELEVE BANCAIRE'!$E$3:$E$78='FRFO RESOLU'!E15)*('OPERATIONS DU RELEVE BANCAIRE'!$A$3:$A$78=FALSE),0)))} -> -513748550 | K15: {=VALUE(INDEX('OPERATIONS DU RELEVE BANCAIRE'!$J$3:$J$78,MATCH(1,('OPERATIONS DU RELEVE BANCAIRE'!$E$3:$E$78='FRFO RESOLU'!E15)*1-('OPERATIONS DU RELEVE BANCAIRE'!$A$3:$A$78=FALSE),0)-1))} -> -510746500
B16: 46 | C16: 43 | D16: FRFO | E16: 42752 | F16: FRAIS DE FORCAGE | G16: 42752 | H16: 50 | J16: {=VALUE(INDEX('OPERATIONS DU RELEVE BANCAIRE'!$J$3:$J$78,MATCH(1,('OPERATIONS DU RELEVE BANCAIRE'!$E$3:$E$78='FRFO RESOLU'!E16)*('OPERATIONS DU RELEVE BANCAIRE'!$A$3:$A$78=FALSE),0)))} -> -520752100 | K16: {=VALUE(INDEX('OPERATIONS DU RELEVE BANCAIRE'!$J$3:$J$78,MATCH(1,('OPERATIONS DU RELEVE BANCAIRE'!$E$3:$E$78='FRFO RESOLU'!E16)*1-('OPERATIONS DU RELEVE BANCAIRE'!$A$3:$A$78=FALSE),0)-1))} -> -513748550
... B24: 75 | C24: 43 | D24: FRFO | E24: 42759 | F24: FRAIS DE FORCAGE | G24: 42760 | H24: 50 | J24: {=VALUE(INDEX('OPERATIONS DU RELEVE BANCAIRE'!$J$3:$J$78,MATCH(1,('OPERATIONS DU RELEVE BANCAIRE'!$E$3:$E$78='FRFO RESOLU'!E24)*('OPERATIONS DU RELEVE BANCAIRE'!$A$3:$A$78=FALSE),0)))} -> -621443000 | K24: {=VALUE(INDEX('OPERATIONS DU RELEVE BANCAIRE'!$J$3:$J$78,MATCH(1,('OPERATIONS DU RELEVE BANCAIRE'!$E$3:$E$78='FRFO RESOLU'!E24)*1-('OPERATIONS DU RELEVE BANCAIRE'!$A$3:$A$78=FALSE),0)-1))} -> -676136850
