Workbook

Sheet Feuil1
A1: Participe | B1: Evaluation | C1: Prénom | D1: Colonne1 | E1: Nom | F1: Colonne2 | G1: Affiliation | H1: Colonne3 | I1: Colonne4 | J1: Colonne5 | K1: Titre (paper 1) | L1: Titre (paper 2) | M1: Titre (paper 3) | N1: Titre (paper 4)
A2: 1 | C2: Anouk Jasmine | D2: Anouk Jasmine | E2: Albien | F2: Albien | G2: University of Lausanne (UNIL) - Institute of Psychology (IP) | H2: Institute of Psychology | K2: Self-initiated expatriates in Switzerland: Exploring expatriate adjustment according to intentions to stay, time dependent factors, and cultural distance
C3: Ole A. | D3: Ann-Christin | E3: Andreassen | F3: Bächmann | G3: University of Oslo (UiO) | H3: Institute for Employment Research | K3: No Evidence for Causal Effects of Maternal and Paternal Ages at First Birth on Children’s Test Scores at Age 10
C4: Jean-Philippe | D4: Sebastian | E4: Antonietti | F4: Bähr | G4: University of Lausanne (UNIL) - Institute of Psychology (IP) | H4: Institute for Employment Research (IAB) | K4: Religion declines in three stages world-wide
C5: Oliver | D5: Fiacre | E5: Arranz-Becker | F5: BAZIE | G5: Martin Luther University Halle-Wittenberg (MLU) | H5: Issp-Bf | K5: Health effects of own and partner’s unemployment and job insecurity. New longitudinal evidence for Germany.
B6: 0 | C6: Damaris | D6: Maximilian | E6: Aschwanden | F6: Becker | G6: University of Geneva (UNIGE) | H6: Goethe University Frankfurt | K6: Adolescent personality as life course predictor across more than five decades
C7: Fartein | D7: Rolf | E7: Ask Torvik | F7: Becker | G7: Norwegian Institue of Public Health (NIPH) | H7: University of Bern (Dept. Sociology of Education) | K7: No Evidence for Causal Effects of Maternal and Paternal Ages at First Birth on Children’s Test Scores at Age 10
A8: 1 | C8: Ann-Christin | D8: Stéphane | E8: Bächmann | F8: Benveniste | G8: Leibniz Institute for Educational Trajectories (LfBi) | H8: French Institute for Demographic Studies (INED) | K8: Daddy home alone: Which (organizational) factors promote the parental leave take-up of fathers in Germany and what are the career consequences of taking parental leave?
C9: Marie | D9: Ariane | E9: Baeriswyl | F9: Bertogg | G9: University of Geneva (UNIGE) - Center for the Interdisciplinary Study of Gerontology and Vulnerability (CIGEV) | H9: University of Konstanz | K9: Financial support given by older adults to family members in a configurational perspective
C10: Stéphanie | D10: FEI | E10: Baggio | F10: BIAN | G10: University of Bern (UBE) | H10: UNIL | K10: Patterns of resources and strains in family networks: Some evidence of cumulative inequality in life course health
A11: 1 | C11: Sebastian | D11: Danilo | E11: Bähr | F11: Bolano | G11: Institute for Employment Research (IAB) | H11: Bocconi University | K11: Latent and manifest benefits of work (LAMB) in a large-scale German survey
C12: Nicoletta | D12: Giuliano | E12: Balbo | F12: Bonoli | G12: Bocconi University | H12: University of Lausanne | K12: Child Disability: a shaping factor of the parental life course. A study based on population register data
C13: Paolo | D13: Andréa | E13: Barbieri | F13: Borges | G13: University of Trento (UNITN) | H13: University of Lausanne | K13: Unstable careers and life-course income penalty. An age-cohort analysis of the economic consequences of de-standardized work trajectories in Germany and the UK
C14: Paolo | D14: Christina | E14: Barbieri | F14: Bornatici | G14: University of Trento (UNITN) | H14: FORS / UNIL | K14: Who remains single? A macro-micro approach to lifelong singlehood over Italian cohorts
B15: 1 | C15: Marija | D15: Laura | E15: Bashevska | F15: Buchinger | G15: University of Milan (UNIMI) | H15: German Socio-Economic Panel | K15: Essential workers in times of Covid-19 – re-assessing theoretical explanations for couples’ division of housework for a special group in special times
C16: Bernad | D16: Marlis | E16: Batinic | F16: Buchmann | G16: Johannes Kepler university (JKU) | H16: University of Zurich | K16: Latent and manifest benefits of work (LAMB) in a large-scale German survey
A17: 1 | B17: 1 | C17: Fiacre | D17: Claudine | E17: Bazie | F17: Burton-Jeangros | G17: University Joseph KI-Zerbo (UJKZ / Institut Supérieur des Sciences de la Population (ISSP) | H17: University of Geneva, Department of Sociology | K17: PhD Student/Research Assistant/Hôte académique Unige
B18: 0 | C18: Maximilian | D18: Mar | E18: Becker | F18: C. Espadafor | G18: Goethe University Frankfurt | H18: UNED | K18: A Life Course framing of the Effect of Affinity Bias on Trust at Work
C19: Rolf | D19: Beatrice | E19: Becker | F19: Caniglia | G19: University of Bern (UBE) | H19: University of Trento | K19: Socio-economic change and intergenerational class mobility: A dynamic analysis of the experiences of West Germans born between 1929 and 1971
C20: Stéphane | D20: Leandro Iv√°n | E20: Benveniste | F20: Canzio | G20: French Institute for Demographic Studies (INED) | H20: University of Konstanz | K20: Parental death in childhood and wealth accumulation during adulthood
C21: Laura | D21: Cristian | E21: Bernardi | F21: Carmeli | G21: University of Lausanne (UNIL) | H21: Population Health Laboratory (#PopHealthLab), University of Fribourg | K21: Maternal gatekeeping in post-separation families: a dynamic perspective:
C22: Fabrizio | D22: Subin | E22: Bernardi | F22: Chang | G22: European University Institute (EUI) | H22: Goethe University Frankfurt | K22: The month-of-birth effect on parents' expectations of university completion: an improved test on the stickiness of educational expectations
B23: 1 | C23: Ariane | D23: Oana | E23: Bertogg | F23: Ciobanu | G23: Ludwig Maximilian University of Munich (LMU) / University of Konstanz | H23: University of Applied Sciences and Arts Western Switzerland | K23: Did Internet Use Protect Older Adults’ Mental Health During Covid? It Depends on Their Offline Contacts!
C24: Fei | D24: Matthias | E24: Bian | F24: Collischon | G24: University of Lausanne (UNIL) | H24: Institute for Employment Research (IAB) | K24: Partnership Dissolution and Women’s Occupational Status: How Pre-Separation Couple Type Matters
C25: Erik | D25: Chiara Ludovica | E25: Bihagen | F25: Comolli | G25: Swedish Institute for Social Research (SOFI) | H25: University of Bologna | K25: Later and less? New Evidence on Occupational Maturity for Swedish Women and Men
C26: Klaus | D26: Stéphane | E26: Birkelbach | F26: Cullati | G26: University of Duisburg-Essen (DUE) | H26: University of Fribourg | K26: Prof. Dr.
C27: Danilo | D27: Nora | E27: Bolano | F27: Dasoki | G27: Bocconi University | H27: FORS | K27: Child Disability: a shaping factor of the parental life course. A study based on population register data
C28: Giuliano | D28: Christian | E28: Bonoli | F28: Deindl | G28: University of Lausanne (UNIL) | H28: TU Dortmund University | K28: Moral dilemmas in the practice of aspiration management: coping strategies among street-level bureaucrats providing integration services to recently arrived migrants
C29: André | D29: Alessandro | E29: Borges | F29: Di Nallo | G29: University of Lausanne (UNIL) Institute of Psychology (IP) | H29: Bocconi University | K29: Careers in dirty work: A qualitative investigation with domestic cleaning workers
B30: 0 | C30: Francesca | D30: Iuna | E30: Borghese | F30: Dones | G30: University of Gröningen (RUG) | H30: University of Applied Sciences and Arts Western Switzerland (HETSL | HES-SO) | K30: Adolescent personality as life course predictor across more than five decades
C31: Christina | D31: Matthias | E31: Bornatici | F31: Enggist | G31: University of Lausanne (UNIL) / Swiss Centre of Expertise in the Social Sciences (FORS) | H31: Universit√© de Lausanne | K31: Undoing Gender in Switzerland: Couples’ Gender Role Attitudes and New Parents' Employment Behaviours
C32: Sandra | D32: Frederike | E32: Buchholz | F32: Esche | G32: University of Bamberg | H32: University of Hamburg | K32: The role of personality traits in high school graduates intention to enrol in higher education – resource substitution, structural amplification or cumulative advantage?
C33: Marlis | D33: Guillaume | E33: Buchmann | F33: Fernandez | G33: University of Zurich (UZH) | H33: University og Geneva, Institute of sociological research | K33: Do discrepancies between student and teacher judgment across students’ educational trajectory matter for the development of motivation and self-esteem?
C34: Felix | D34: Alessandro | E34: Bühlmann, | F34: Ferrara | G34: University of Lausanne (UNIL) | H34: WZB / European University Institute | K34: Does employability help to cope with job insecurity? An analysis of workers' well-being with Swiss panel data
C35: Claudine | D35: William | E35: Burton-Jeangros | F35: Foley | G35: University of Geneva (UNIGE) | H35: Universidad Carlos III de Madrid | K35: Consequences of legal status regularization on life satisfaction. Factors affecting men and women's well-being among newly regularized and undocumented migrants
B36: 1 | C36: Claudine | D36: Flavia | E36: Burton-Jeangros | F36: Fossati | G36: University of Geneva (UNIGE) | H36: University Lausanne | K36: Social determinants of healthcare for noncommunicable diseases among undocumented migrants: a scoping review
C37: Beatrice | D37: Olga | E37: Caniglia | F37: Ganjour | G37: University of Trento (UNITN) | H37: University of Geneva | K37: Who remains single? A macro-micro approach to lifelong singlehood over Italian cohorts
C38: Leandro Iván | D38: Vanessa | E38: Canzio | F38: Gash | G38: University of Lausanne (UNIL) | H38: City, University of London | K38: Does employability help to cope with job insecurity? An analysis of workers' well-being with Swiss panel data
C39: Cristian | D39: Jacques-Antoine | E39: Carmeli | F39: Gauthier | G39: University of Fribourg (UNIFR) | H39: University of Lausannne | K39: Simulating population interventions on health behaviours or on adverse family environments in adolescence to compare their impact on socioeconomic inequalities in adult cardiometabolic risk and disease: a Finnish prospective cohort study
C40: Subin | D40: Gaia | E40: Chang | F40: Ghirardi | G40: Goethe University Frankfurt | H40: European University Institute (EUI) | K40: Like father, like son? Fathers’ and sons’ work-family trajectories upon the German reunification
...

Sheet Feuil2
A1: Feuil1 Colonne F sans doublon | B1: Recherche dans la fauille 1 colone G | C1: Recheche dans la Feuille 1 colonne E | D1: Recherche dans la Feuile 1 colonne H
A2: Albien | B2: =VLOOKUP(A2,Feuil1!$F:$G,2,FALSE) -> University of Lausanne (UNIL) - Institute of Psychology (IP) | C2: =IFERROR(VLOOKUP(A2, Feuil1!$E:$E, 1, FALSE), "") -> Albien | D2: =IFERROR(VLOOKUP(C2,Feuil1!$E:$H,4,FALSE),"") -> Institute of Psychology
A3: Bächmann | B3: =VLOOKUP(A3,Feuil1!$F:$G,2,FALSE) -> University of Oslo (UiO) | C3: =IFERROR(VLOOKUP(A3, Feuil1!$E:$E, 1, FALSE), "") -> Bächmann | D3: =IFERROR(VLOOKUP(C3,Feuil1!$E:$H,4,FALSE),"") -> French Institute for Demographic Studies (INED)
A4: Bähr | B4: =VLOOKUP(A4,Feuil1!$F:$G,2,FALSE) -> University of Lausanne (UNIL) - Institute of Psychology (IP) | C4: =IFERROR(VLOOKUP(A4, Feuil1!$E:$E, 1, FALSE), "") -> Bähr | D4: =IFERROR(VLOOKUP(C4,Feuil1!$E:$H,4,FALSE),"") -> Bocconi University
A5: BAZIE | B5: =VLOOKUP(A5,Feuil1!$F:$G,2,FALSE) -> Martin Luther University Halle-Wittenberg (MLU) | C5: =IFERROR(VLOOKUP(A5, Feuil1!$E:$E, 1, FALSE), "") -> Bazie | D5: =IFERROR(VLOOKUP(C5,Feuil1!$E:$H,4,FALSE),"") -> University of Geneva, Department of Sociology
A6: Becker | B6: =VLOOKUP(A6,Feuil1!$F:$G,2,FALSE) -> University of Geneva (UNIGE) | C6: =IFERROR(VLOOKUP(A6, Feuil1!$E:$E, 1, FALSE), "") -> Becker | D6: =IFERROR(VLOOKUP(C6,Feuil1!$E:$H,4,FALSE),"") -> UNED
A7: Benveniste | B7: =VLOOKUP(A7,Feuil1!$F:$G,2,FALSE) -> Leibniz Institute for Educational Trajectories (LfBi) | C7: =IFERROR(VLOOKUP(A7, Feuil1!$E:$E, 1, FALSE), "") -> Benveniste | D7: =IFERROR(VLOOKUP(C7,Feuil1!$E:$H,4,FALSE),"") -> University of Konstanz
A8: Bertogg | B8: =VLOOKUP(A8,Feuil1!$F:$G,2,FALSE) -> University of Geneva (UNIGE) - Center for the Interdisciplinary Study of Gerontology and Vulnerability (CIGEV) | C8: =IFERROR(VLOOKUP(A8, Feuil1!$E:$E, 1, FALSE), "") -> Bertogg | D8: =IFERROR(VLOOKUP(C8,Feuil1!$E:$H,4,FALSE),"") -> University of Applied Sciences and Arts Western Switzerland
A9: BIAN | B9: =VLOOKUP(A9,Feuil1!$F:$G,2,FALSE) -> University of Bern (UBE) | C9: =IFERROR(VLOOKUP(A9, Feuil1!$E:$E, 1, FALSE), "") -> Bian | D9: =IFERROR(VLOOKUP(C9,Feuil1!$E:$H,4,FALSE),"") -> Institute for Employment Research (IAB)
A10: Bolano | B10: =VLOOKUP(A10,Feuil1!$F:$G,2,FALSE) -> Institute for Employment Research (IAB) | C10: =IFERROR(VLOOKUP(A10, Feuil1!$E:$E, 1, FALSE), "") -> Bolano | D10: =IFERROR(VLOOKUP(C10,Feuil1!$E:$H,4,FALSE),"") -> FORS
A11: Bonoli | B11: =VLOOKUP(A11,Feuil1!$F:$G,2,FALSE) -> Bocconi University | C11: =IFERROR(VLOOKUP(A11, Feuil1!$E:$E, 1, FALSE), "") -> Bonoli | D11: =IFERROR(VLOOKUP(C11,Feuil1!$E:$H,4,FALSE),"") -> TU Dortmund University
A12: Borges | B12: =VLOOKUP(A12,Feuil1!$F:$G,2,FALSE) -> University of Trento (UNITN) | C12: =IFERROR(VLOOKUP(A12, Feuil1!$E:$E, 1, FALSE), "") -> Borges | D12: =IFERROR(VLOOKUP(C12,Feuil1!$E:$H,4,FALSE),"") -> Bocconi University
A13: Bornatici | B13: =VLOOKUP(A13,Feuil1!$F:$G,2,FALSE) -> University of Trento (UNITN) | C13: =IFERROR(VLOOKUP(A13, Feuil1!$E:$E, 1, FALSE), "") -> Bornatici | D13: =IFERROR(VLOOKUP(C13,Feuil1!$E:$H,4,FALSE),"") -> Universit√© de Lausanne
... A134: Zuber | B134: =VLOOKUP(A134,Feuil1!$F:$G,2,FALSE) -> University of Geneva (UNIGE) | C134: =IFERROR(VLOOKUP(A134, Feuil1!$E:$E, 1, FALSE), "") -> Zuber | D134: =IFERROR(VLOOKUP(C134,Feuil1!$E:$H,4,FALSE),"") -> 0

Sheet Feuil3
A1: Albien | B1: Albien | C1: 1 | D1: =VLOOKUP(B1,A:C,3,FALSE) -> 1
A2: Andreassen | B2: Bächmann | C2: 1 | D2: =VLOOKUP(B2,A:C,3,FALSE) -> 1
A3: Antonietti | B3: Bähr | C3: 1 | D3: =VLOOKUP(B3,A:C,3,FALSE) -> 1
A4: Arranz-Becker | B4: BAZIE | C4: 1 | D4: =VLOOKUP(B4,A:C,3,FALSE) -> 1
A5: Aschwanden | B5: Becker | C5: 1 | D5: =VLOOKUP(B5,A:C,3,FALSE) -> 1
A6: Ask Torvik | B6: Becker | C6: 1 | D6: =VLOOKUP(B6,A:C,3,FALSE) -> 1
A7: Bächmann | B7: Benveniste | C7: 1 | D7: =VLOOKUP(B7,A:C,3,FALSE) -> 1
A8: Baeriswyl | B8: Bertogg | C8: 1 | D8: =VLOOKUP(B8,A:C,3,FALSE) -> 1
A9: Baggio | B9: BIAN | C9: 1 | D9: =VLOOKUP(B9,A:C,3,FALSE) -> 1
A10: Bähr | B10: Bolano | C10: 1 | D10: =VLOOKUP(B10,A:C,3,FALSE) -> 1
A11: Balbo | B11: Bonoli | C11: 1 | D11: =VLOOKUP(B11,A:C,3,FALSE) -> 1
A12: Barbieri | B12: Borges | C12: 1 | D12: =VLOOKUP(B12,A:C,3,FALSE) -> 1
... A134: Lampraki | B134: Zuber | C134: 1 | D134: =VLOOKUP(B134,A:C,3,FALSE) -> 1
A135: Lampraki | C135: 1 | D135: =VLOOKUP(B135,A:C,3,FALSE) -> #N/A
A136: Lampraki | C136: 1 | D136: =VLOOKUP(B136,A:C,3,FALSE) -> #N/A
A137: Lampraki | C137: 1 | D137: =VLOOKUP(B137,A:C,3,FALSE) -> #N/A
A138: Lampropoulos | C138: 1 | D138: =VLOOKUP(B138,A:C,3,FALSE) -> #N/A
A139: Le Feuvre | C139: 1 | D139: =VLOOKUP(B139,A:C,3,FALSE) -> #N/A
A140: le Goff | C140: 1 | D140: =VLOOKUP(B140,A:C,3,FALSE) -> #N/A
A141: Leeming | C141: 1 | D141: =VLOOKUP(B141,A:C,3,FALSE) -> #N/A
A142: Lerch | C142: 1 | D142: =VLOOKUP(B142,A:C,3,FALSE) -> #N/A
A143: Leshchenko | C143: 1 | D143: =VLOOKUP(B143,A:C,3,FALSE) -> #N/A
A144: Leturcq | C144: 1 | D144: =VLOOKUP(B144,A:C,3,FALSE) -> #N/A
A145: Li | C145: 1 | D145: =VLOOKUP(B145,A:C,3,FALSE) -> #N/A
A146: Lu | C146: 1 | D146: =VLOOKUP(B146,A:C,3,FALSE) -> #N/A
... A277: Zuffiano | C277: 1 | D277: =VLOOKUP(B277,A:C,3,FALSE) -> #N/A
