Workbook

Sheet Récapitulatif des FTM
H1: AMENAGEMENT D'UN IMMEUBLE DE BUREAU
A2: Maître d'Ouvrage : | H2: "O 12" | R2: Maîtrise d'œuvre
A3: Amundi | H3: 12 rue d'Oradour sur Glane | R3: LBA INGENIERIE
A4: Représentée par : | H4: 92230 ISSY-LES-MOULINEAUX | R4: 2 boulevard du Général de Gaulle
A5: CAI | R5: 92100 Montrouge
A6: 12 place des Etats - Unis
A7: 92545 MONTROUGE CEDEX | E7: Mise a jour le 01/04/21 V26 avec estimations + et - values
A11: TABLEAU RECAPITULATIF DES FTM
A13: LOT | B13: FTM | C13: Entreprise | D13: Date | E13: Désignation | G13: Indice | H13: Montant | I13: Estimation | J13: Accord BET | K13: Accord MOD | L13: Refus MOD | M13: Envoyé au MO le | O13: Retourné par le MO le | P13: IMPUTATIONS
P14: DEMANDES MO | Q14: Amélioration des prestations | R14: Aleas | S14: Autres
L15: =IF((P15+Q15+R15+S15)=0,"") | T15: =SUM(I15:L15) -> 0
A16: 16 | B16: 1 | C16: BALAS | D16: 44127 | E16: Reprise GTB | H16: 15000 | J16: OK | K16: le 02/11/20 | M16: 44160 | O16: 44169 | R16: =H16 -> 15000 | T16: =SUM(I16:L16) -> 0
A19: 15 | B19: 2 | C19: DESCENTES EU/EV | R19: =H19 -> 0 | T19: =SUM(I19:L19) -> 0
C20: BALAS | D20: 44130 | E20: Reprise des descentes EU et EV | H20: 5216.99 | J20: OK | K20: le 13/11/20 | M20: 44160 | O20: 44169 | R20: =H20 -> 5216.99
B21: 2.2 B | C21: BALAS | D21: 36870 | E21: Descentes bouchonnées | H21: 18772.34 | I21: 20000 | K21: le 17/12/20 | M21: 44243 | O21: 44243 | R21: =H21 -> 18772.34
A24: 15 | B24: 3 | C24: BALAS | D24: 44130 | E24: Percement des trous pour chutes sanitaires | H24: 4000 | K24: le 13/11/20 | M24: 44160 | O24: 44169 | S24: =H24 -> 4000 | T24: =SUM(I24:L24) -> 0
A25: 16 | B25: 4 | C25: BALAS | D25: 44096 | E25: Dépose désenfumage R-1 pour passage gaine VB salle polyvalente | H25: 2352.7 | I25: 3155.03 | K25: le 17/12/20 | M25: 44203 | O25: 44223 | R25: =H25 -> 2352.7 | T25: =SUM(I25:L25) -> 3155.03
A26: 16 | B26: 5 | C26: BALAS | D26: 44127 | E26: Dévoiement de la canalisatioin du gaz au R-1 | H26: 7686.1 | J26: OK | K26: le 13/11/20 | M26: 44160 | O26: 44169 | R26: =H26 -> 7686.1 | T26: =SUM(I26:L26) -> 0
B27: 6 | C27: ACOUSTIQUE | L27: =IF((P27+Q27+R27+S27)=0,"",(P27+Q27+R27+S27)) | S27: =H27 -> 0 | T27: =SUM(I27:L27) -> 0
A28: 6 | C28: PRESTIBAT | D28: 44139 | E28: Isolant acoustique R de C et R de J | H28: 3078 | K28: le 04/11/20 | M28: 44165 | O28: 44169 | Q28: =H28 -> 3078 | T28: =SUM(I28:L28) -> 0
A29: 5 | C29: MELIN | D29: 44099 | E29: Amélioration acoustique sur vitrages hall | H29: 4225 | K29: le 04/11/20 | M29: 44160 | O29: 44169 | Q29: =H29 -> 4225 | T29: =SUM(I29:L29) -> 0
A30: 7 | C30: AUGAGNEUR | D30: 44117 | E30: FP dans salle à manger | L30: 44176 | T30: =SUM(I30:L30) -> 44176
E31: Ossature supports des lots techniques apparents | H31: 23000 | K31: 44176 | M31: 44187 | O31: 44187 | Q31: =H31 -> 23000 | T31: =SUM(I31:L31) -> 44176
B32: 7 | C32: Marketing-suite | P32: =H32 -> 0 | T32: =SUM(I32:L32) -> 0
A33: 6 | C33: PRESTIBAT | D33: 44117 | E33: Cloisons + porte | H33: 3543.4 | K33: le 22/10/20 | M33: 44160 | O33: 44169 | P33: =H33 -> 3543.4 | T33: =SUM(I33:L33) -> 0
A34: 17 | C34: SDEL | D34: 44124 | E34: Eclairage et PC | H34: 8125.04 | K34: le 22/10/20 | M34: 44160 | O34: 44169 | P34: =H34 -> 8125.04 | T34: =SUM(I34:L34) -> 0
A35: 13 | C35: LM décor | D35: 44106 | E35: Papier peint | H35: 384.8 | K35: le 22/10/20 | M35: 25/11 + 10/12 | O35: 44180 | P35: =H35 -> 384.8 | T35: =SUM(I35:L35) -> 0
A36: 8 | C36: BRARD | D36: 44109 | E36: Lattis bois | H36: 1564.85 | K36: le 13/11/20 | M36: 44160 | O36: 44169 | P36: =H36 -> 1564.85 | T36: =SUM(I36:L36) -> 0
A37: 7 | C37: AUGAGNEUR | D37: 44138 | E37: Remplacement coffres à rideaux | H37: 1470 | K37: le 13/11/20 | M37: 44160 | O37: 44169 | P37: =H37 -> 1470
K39: =H39 -> 0 | L39: =IF((P39+Q39+R39+S39)=0,"",(P39+Q39+R39+S39)) | T39: =SUM(I39:L39) -> 0
B40: 8 | C40: sanitaires | L40: =IF((P40+Q40+R40+S40)=0,"",(P40+Q40+R40+S40)) | P40: =H40 -> 0 | T40: =SUM(I40:L40) -> 0
A41: 12 | C41: PRESTIBAT | D41: 44139 | E41: PV fourniture carrelage | H41: 3501 | K41: le 13/11/20 | M41: 44160 | O41: 44169 | Q41: =H41 -> 3501 | T41: =SUM(I41:L41) -> 0
E42: Moins value sanitaires R+1 au R+7 | H42: -7487.35 | M42: 44176 | O42: 44183 | Q42: -7487.35 | T42: =SUM(I42:L42) -> 0
A43: 8 | B43: 8.2 | C43: BRARD | E43: PV béquilles noire | H43: 2508.8 | I43: 2100 | M43: 44237 | O43: 44239
A44: 15 | B44: 8.3 | C44: BALAS | D44: 44182 | E44: PV mitigeurs noire | H44: 1679.94 | I44: 2000 | K44: le 17/12/21 | M44: 44203 | O44: 44223 | Q44: =H44 -> 1679.94
B45: 8.4 | C45: BALAS | D45: 44162 | E45: Rebouchement des trous et socle sous chaudiére. | H45: 5628.6 | M45: 44203 | O45: Attente moins value MANNUCCI | R45: =H45 -> 5628.6
A46: 8 | B46: 8.5 | C46: BRARD | E46: Façades GT | H46: 6735 | M46: 44237 | O46: 44239
A47: 12 | B47: 8.6 | C47: PRESTIBAT | E47: PV carrelage anti-dérapant dans douches | H47: 1582.13 | M47: 44237 | O47: 44239
B48: 8.7 | C48: PRESTIBAT | E48: Isolation phonique + chape R+1 | H48: 11417.5 | I48: 4100 | M48: 44286
K49: =H49 -> 0 | L49: =IF((P49+Q49+R49+S49)=0,"",(P49+Q49+R49+S49)) | T49: =SUM(I49:L49) -> 0
...

Sheet Tableau récapitulatif
A2: CONSTRUCTION D'UN ENSEMBLE DE BUREAU
A3: "OSMOSE" ZAC ANDROMEDE
A4: ILOT 3A
A6: TABLEAU RESPONSABILITE DES TRAVAUX SUPPLEMENTAIRES EN DATE DU 03 MARS 2009
A8: Maître d'Ouvrage : | K8: A.M.O.
A9: CODIC | K9: Cabinet D'AUTHOU
A10: 58, Avenue Marceau | K10: 54, rue Boissonade
A11: 75008 PARIS | K11: 75014 PARIS
A13: LOT N° | B13: CORPS D'ETAT | C13: ENTREPRISES | D13: Montant HT des marchés | E13: TS Accepté | G13: Soit en % du Marché | I13: TS à venir | K13: Soit en % du Marché
E14: MO | F14: MOE/BET | G14: MO | H14: MOE/BET | I14: MO | J14: MOE/BET | K14: MO | L14: MOE/BET
A16: 1 | B16: VOIRIES & RESEAUX DIVERS | C16: GUINTOLI SUD OUEST | D16: 237000
A18: 2 | B18: PAROI MOULEE - TERRASSEMENTS - FONDATIONS - GROS-ŒUVRE
B19: * Mandataire | C19: SOCOTRAP | D19: 7336519 | E19: =+'02 SOCOTRAP'!D18 -> 24156.06 | F19: =+'02 SOCOTRAP'!E18 -> 3000 | G19: =+E19/(D19+D20+D21) -> 0.0028233678 | H19: =+F19/(D19+D20+D21) -> 0.00035064093 | I19: ='02 SOCOTRAP'!F18 -> 96513.32 | J19: ='02 SOCOTRAP'!G18 -> 31960.49 | K19: =+I19/(D19+D20+D21) -> 0.011280507 | L19: =+J19/(D19+D20+D21) -> 0.003735552
B20: * Sous-traitant 1 | C20: BOTTE FONDATIONS | D20: 1077242
B21: * Sous-traitant 2 | C21: COFEX | D21: 142000
A23: 3 | B23: CHARPENTE METALLIQUE | C23: ETS GFM | D23: 295000 | E23: =+'03 GFM'!D18 -> 0 | F23: =+'03 GFM'!E18 -> 44000 | G23: =+E23/(D23+D24+D25) -> 0 | H23: =+F23/D23 -> 0.14915254 | I23: =+'03 GFM'!F18 -> 0 | J23: =+'03 GFM'!G18 -> 0 | L23: =+J23/D23 -> 0
A25: 4 | B25: COUVERTURE - ETANCHEITE | C25: M.B.E. | D25: 550000 | E25: ='04 MBE'!D18 -> 0 | F25: ='04 MBE'!E18 -> 0 | G25: =+E25/(D25+D26+D27) -> 0 | H25: =+F25/D25 -> 0 | I25: ='04 MBE'!F18 -> 6307.76 | J25: ='04 MBE'!G18 -> 10180.37 | K25: =+I25/D25 -> 0.011468655 | L25: =+J25/D25 -> 0.018509764
A27: 5 | B27: OSSATURE BOIS - VETURE BOIS
B28: * Mandataire | C28: RIVIERES | D28: 1470000 | E28: =+' 05 RIVIERE CHARPENTE'!D18 -> 0 | F28: =+' 05 RIVIERE CHARPENTE'!E18 -> 13000 | G28: =+E28/(D28+D29+D30) -> 0 | H28: =+F28/D28 -> 0.0088435374 | I28: =+' 05 RIVIERE CHARPENTE'!F18 -> 72941 | J28: =+' 05 RIVIERE CHARPENTE'!G18 -> 50954.41 | K28: =+I28/D28 -> 0.049619728 | L28: =+J28/D28 -> 0.034662864
B29: Co-traitant 1 | C29: P.O. | D29: 926000 | E29: =+'05 PO'!D18 -> 0 | F29: =+'05 PO'!E18 -> 2600 | G29: =+E29/(D29+D30+D31) -> 0 | H29: =+F29/D29 -> 0.0028077754 | I29: =+'05 PO'!F18 -> 0 | J29: =+'05 PO'!G18 -> 19149 | K29: =+I29/D29 -> 0 | L29: =+J29/D29 -> 0.020679266
B30: Co-traitant 2 | C30: REALCO | D30: 380000
B31: Co-traitant 3 | C31: OXARIS | D31: 1005651.6 | E31: =+'05 OXARIS'!D18 -> 0 | F31: =+'05 OXARIS'!E18 -> 0 | G31: =+E31/(D31+D32+D33) -> 0 | H31: =+F31/D31 -> 0 | I31: =+'05 OXARIS'!F18 -> 99460.56 | J31: =+'05 OXARIS'!G18 -> 0 | K31: =+I31/D31 -> 0.098901607 | L31: =+J31/D31 -> 0
A33: 6 | B33: SERRURERIE | C33: CARRE | D33: 429000 | E33: =+'06 CARRE'!D18 -> 0 | F33: =+'06 CARRE'!E18 -> 0 | G33: =+E33/(D33+D34+D35) -> 0 | H33: =+F33/D33 -> 0 | I33: =+'06 CARRE'!F18 -> 0 | J33: =+'06 CARRE'!G18 -> 16112.4 | K33: =+I33/D33 -> 0 | L33: =+J33/D33 -> 0.037558042
A35: 7 | B35: MENUISERIE INTERIEURE | C35: DEL TEDESCO | D35: 435000 | E35: =+'07 DEL TEDESCO'!D18 -> 0 | F35: =+'07 DEL TEDESCO'!E18 -> 0 | G35: =+E35/(D35+D36+D37) -> 0 | H35: =+F35/D35 -> 0 | I35: =+'07 DEL TEDESCO'!F18 -> 0 | J35: =+'07 DEL TEDESCO'!G18 -> 9751.84 | K35: =+I35/D35 -> 0 | L35: =+J35/D35 -> 0.022418023
A37: 8 | B37: PLATRERIE | C37: MASSOUTIER ET FILS | D37: 272000 | E37: =+'08 MASSOUTIER'!D18 -> 0 | F37: =+'08 MASSOUTIER'!E18 -> 0 | G37: =+E37/(D37+D38+D39) -> 0 | H37: =+F37/D37 -> 0 | I37: =+'08 MASSOUTIER'!F18 -> 0 | J37: =+'08 MASSOUTIER'!G18 -> 6584.57 | K37: =+I37/D37 -> 0 | L37: =+J37/D37 -> 0.024207978
A39: 9 | B39: FLOCAGE | C39: BELET ISOLATION 31 | D39: 183200
A41: 10 | B41: PLAFONDS SUSPENDUS | C41: AQUITAINE ISOL | D41: 117200
A43: 11 / 13 | B43: REVETEMENTS DE SOLS | C43: COMEY | D43: 735000 | E43: =+'11 COMEY'!D18 -> 0 | F43: =+'11 COMEY'!E18 -> 0 | G43: =+E43/(D43+D44+D45) -> 0 | H43: =+F43/D43 -> 0 | I43: =+'11 COMEY'!F18 -> 0 | J43: =+'11 COMEY'!G18 -> 36494.25 | K43: =+I43/D43 -> 0 | L43: =+J43/D43 -> 0.049652041
A45: 12 | B45: SOLS DURS | C45: CARRELAGE | D45: 162300 | E45: =+'12 CARRELAGE'!D18 -> 0 | F45: =+'12 CARRELAGE'!E18 -> 0 | G45: =+E45/(D45+D46+D47) -> 0 | H45: =+F45/D45 -> 0 | I45: =+'12 CARRELAGE'!F18 -> 0 | J45: =+'12 CARRELAGE'!G18 -> 29492 | K45: =+I45/D45 -> 0 | L45: =+J45/D45 -> 0.18171288
A47: 14 | B47: PEINTURE et SOLS SOUPLES PVC | C47: ROUDIER | D47: 293200
A49: 15 | B49: ASCENSEURS | C49: KONE | D49: 343900 | E49: =+'15 KONE'!D18 -> 2390 | F49: =+'15 KONE'!E18 -> 0 | G49: =+E49/(D49+D50+D51) -> 0.00047430987 | H49: =+F49/D49 -> 0 | I49: =+'15 KONE'!F18 -> 645 | J49: =+'15 KONE'!G18 -> 6592 | K49: =+I49/D49 -> 0.0018755452 | L49: =+J49/D49 -> 0.019168363
A51: 16/17 | B51: TRAITEMENT D'AIR - DESENFUMAGE / PLOMBERIE - SANITAIRE | C51: CEGELEC | D51: 4695000 | E51: =+'16 -17 CEGELEC '!D18 -> 11990 | F51: =+'16 -17 CEGELEC '!E18 -> 59940 | G51: =+E51/(D51+D52+D53) -> 0.0020963922 | H51: =+F51/D51 -> 0.012766773 | I51: =+'16 -17 CEGELEC '!F18 -> -21316.16 | J51: =+'16 -17 CEGELEC '!G18 -> 60000 | K51: =+I51/D51 -> -0.0045401832 | L51: =+J51/D51 -> 0.012779553
A53: 18 | B53: ELECTRICITE - COURANTS FORTS & FAIBLES | C53: FONTANIE | D53: 1024349.8 | E53: ='18 FONTANIE'!D18 -> 0 | F53: ='18 FONTANIE'!E18 -> 18000 | G53: =+E53/(D53+D54+D55) -> 0 | H53: =+F53/D53 -> 0.017572123 | I53: ='18 FONTANIE'!F18 -> 54781.94 | J53: ='18 FONTANIE'!G18 -> 31289.3 | K53: =+I53/D53 -> 0.053479722 | L53: =+J53/D53 -> 0.030545524
A55: 19 | B55: ESPACE VERT | C55: JARDIN TOULOUSIN | D55: 29000
B58: TOTAL | D58: =SUM(D15:D57) -> 22138562 | E58: =SUM(E15:E57) -> 38536.06 | F58: =SUM(F15:F57) -> 140540 | G58: =SUM(G18:G57) -> 0.0053940698 | H58: =SUM(H18:H57) -> 0.19149339 | I58: =SUM(I18:I57) -> 309333.42 | J58: =SUM(J18:J57) -> 308560.63 | K58: =SUM(K18:K57) -> 0.22208558 | L58: =SUM(L18:L57) -> 0.45562985
B61: Détails
B62: Total des TS signés et à venir sans moins values | C62: =D87 -> 796970.11 | D62: soit du motant HT des marchés | F62: =C62/D58 -> 0.035999181
B64: Total des TS signés et à venir avec moins values | C64: =F87 -> 572927.46 | D64: soit du motant HT des marchés | F64: =C64/D58 -> 0.025879163
B70: RECAPITULATIF DES TRAVAUX SUPPLEMENTAIRES
D72: a) Sans les moins values | F72: b) Avec les moins values
...

Sheet Tableau des FTM
A1: CONSTRUCTION D'UN ENSEMBLE DE BUREAU
A2: "OSMOSE" ZAC ANDROMEDE
A3: ILOT 3A
A4: Maître d'Ouvrage : | I4: A.M.O.
A5: CODIC | I5: Cabinet D'AUTHOU
A6: 58, Avenue Marceau | I6: 54, rue Boissonade
A7: 75008 PARIS | I7: 75014 PARIS
A9: TABLEAU RECAPITULATIF DES FTM EN DATE DU 27 /02/09
A11: LOT | B11: FTM | C11: Entreprise | D11: Désignation | F11: Montant accepté par CODIC | G11: En attente de décision de CODIC | H11: Estimation devis à venir | I11: Observation
A12: 15 | B12: 1 | C12: KONE | D12: Plus value en remplacement d’un ascenseur de 630 kg à un 1000kg | F12: 2390
A13: 01 | B13: 2 | C13: SOCOTRAP | D13: Modification des surcharges raménée à 600kg/m² au plancher 1 er Sous-sol | F13: 24156.06
A14: 01 | B14: 3 | C14: SOCOTRAP | D14: Fondations pour recevoir un clos et couvert, renfermant les façades avec les aménagements. | F14: 3000
A15: 05 | B15: 4 | C15: RIVIERE CHARPENTES | D15: Prépa prototype | F15: 13000
A16: 05 | B16: 5 | C16: P.O | D16: Changement de vitrage sur la moitié de la façade Nord-Est. | F16: 2600
A17: 16/17 | B17: 6 | C17: CEGELEC | D17: Désenfumage parkings en sous sols -2 et -3 Evolution des ventilateurs de désenfumages | F17: 57000
A18: 18 | B18: 7 | C18: FONTANIE | D18: Désenfumage parkings en sous sols -2 et -3 Evolution des ventilateurs de sdésenfumages | F18: 18000
A19: 03 | B19: 8 | C19: GFM | D19: Reprise des plans suites à la modification des pentes de toitures | F19: 10000
A20: 03 | B20: 9 | C20: GFM | D20: Supports métalliques des Brises Soleil | F20: 34000
A21: 16/17 | B21: 10 | C21: CEGELEC | D21: Etudes | F21: 11990
A22: 16/17 | B22: 11 | C22: CEGELEC | D22: Plus value grilles ALDES type GFA RAL 9010 à la place de grilles couleur gris anodisé | F22: 2940
D23: Sous total A | F23: =SUM(F12:F22) -> 179076.06
A24: 02 | B24: A | C24: SOCOTRAP | D24: Travaux liés à RIO TINTO | G24: 46000 | H24: 10000 | I24: Attente de justification
B25: B | C25: SOCOTRAP | D25: Modification des gaines de désenfumages des sous sols sous dimensionnés dans la phase consultation par le BET TECHNISPHERE | G25: 8000
B26: C | C26: SOCOTRAP | D26: Fourniture et pose de la serrurerie intérieure du transfo du bâtiment C | G26: 3600
B27: D | C27: SOCOTRAP | D27: Fourniture et pose de la serrurerie intérieure du transfo du bâtiment B | G27: 3600
B28: E | C28: SOCOTRAP | D28: Modification de transformateur bâtiment C | G28: 2800
A29: 04 | B29: F | C29: MBE | D29: Isolation thermique sur les sorties et amenées d'air réservées au désenfumage sur les terrasses du 2ème et 4ème étages | G29: 2841.76
A30: 05 | B30: G | C30: PO | D30: Compas limiteurs d'ouverture | G30: 19149
B31: H | C31: GROUPE RIVIERE | D31: Remplacement murs maçonneries par panneaux bois standards | G31: 13000 | I31: MV maçonnerie à venir
B32: I | C32: OXARIS | D32: Garde corps en verre | G32: 99460.56
A33: 07 | B33: J | C33: DEL TEDESCO | D33: Façades en bois des gaines électriques dans les locaux de chaque palier | G33: 8308.72
A34: 09 | B34: K | C34: BELET Isolation | D34: Isolation sur poutres | G34: -29965.47
A35: 15 | B35: L | C35: KONE | D35: Bâche de protection ascenseur | G35: 645
A36: 16/17 | B36: M | C36: CEGELEC | D36: Moins value bouche de reprise | G36: -21316.16
B37: N | C37: CEGELEC | D37: Moins values accessoires | G37: -14826.93
A38: 18 | B38: O | C38: FONTANIE | D38: Luminaire avec reprise d'air avec capot sur luminaire | G38: 37422
B39: P | C39: FONTANIE | D39: Travaux d'infrastructure pour controle d'accès vidéo possible | G39: 8359.94
B40: Q | C40: FONTANIE | D40: Etude RIO TINTO | G40: 9000
D41: Sous total B | G41: =SUM(G12:G40) -> 196078.42
A42: 02 | B42: R | C42: SOCOTRAP | D42: Suppresion de voile en infrastructure | H42: -14190.37
...

Sheet 02 SOCOTRAP
B2: SOCOTRAP | D2: ACCEPTE | F2: A VENIR
A3: FTM | D3: MO | E3: MOE/BET | F3: MO | G3: MOE/BET
A4: ='Tableau des FTM'!B13 -> 2 | D4: ='Tableau des FTM'!F13 -> 24156.06
A5: ='Tableau des FTM'!B14 -> 3 | E5: ='Tableau des FTM'!F14 -> 3000
A6: =+'Tableau des FTM'!B24 -> A | F6: =+'Tableau des FTM'!G24+'Tableau des FTM'!H24 -> 56000
A7: =+'Tableau des FTM'!B25 -> B | G7: =+'Tableau des FTM'!G25 -> 8000
A8: =+'Tableau des FTM'!B26 -> C | G8: =+'Tableau des FTM'!G26 -> 3600
A9: =+'Tableau des FTM'!B27 -> D | G9: =+'Tableau des FTM'!G27 -> 3600
A10: =+'Tableau des FTM'!B28 -> E | G10: =+'Tableau des FTM'!G28 -> 2800
A11: =+'Tableau des FTM'!B43 -> S | G11: =+'Tableau des FTM'!H43 -> 13960.49
A12: =+'Tableau des FTM'!B45 -> U | F12: =+'Tableau des FTM'!H45 -> 40513.32
A13: =+'Tableau des FTM'!B46 -> V | B13: =+'Tableau des FTM'!H46 -> En attente
A14: =+'Tableau des FTM'!B47 -> W | B14: =+'Tableau des FTM'!H47 -> En attente
D18: =SUM(D4:D17) -> 24156.06 | E18: =SUM(E4:E17) -> 3000 | F18: =SUM(F4:F17) -> 96513.32 | G18: =SUM(G4:G17) -> 31960.49

Sheet 03 GFM
B2: GFM | D2: ACCEPTE | F2: A VENIR
A3: FTM | D3: MO | E3: MOE/BET | F3: MO | G3: MOE/BET
A4: =+'Tableau des FTM'!B19 -> 8 | E4: =+'Tableau des FTM'!F19 -> 10000
A5: =+'Tableau des FTM'!B20 -> 9 | E5: =+'Tableau des FTM'!F20 -> 34000
D18: =SUM(D4:D15) -> 0 | E18: =SUM(E4:E17) -> 44000 | F18: =SUM(F4:F15) -> 0 | G18: =SUM(G4:G15) -> 0

Sheet 04 MBE
B2: MBE | D2: ACCEPTE | F2: A VENIR
A3: FTM | D3: MO | E3: MOE/BET | F3: MO | G3: MOE/BET
A4: =+'Tableau des FTM'!B29 -> F | G4: =+'Tableau des FTM'!G29 -> 2841.76
A5: =+'Tableau des FTM'!B48 -> X | G5: =+'Tableau des FTM'!H48 -> 7338.61
A6: =+'Tableau des FTM'!B49 -> Y | F6: =+'Tableau des FTM'!H49 -> 6307.76
D18: =SUM(D4:D17) -> 0 | E18: =SUM(E4:E17) -> 0 | F18: =SUM(F4:F17) -> 6307.76 | G18: =SUM(G4:G17) -> 10180.37

Sheet  05 RIVIERE CHARPENTE
B2: RIVIERE CHARPENTE | D2: ACCEPTE | F2: A VENIR
A3: FTM | D3: MO | E3: MOE/BET | F3: MO | G3: MOE/BET
A4: =+'Tableau des FTM'!A15 -> 05 | E4: =+'Tableau des FTM'!F15 -> 13000
A5: =+'Tableau des FTM'!B31 -> H | G5: =+'Tableau des FTM'!G31 -> 13000
A6: =+'Tableau des FTM'!B50 -> Z | G6: =+'Tableau des FTM'!H50 -> 4303
A7: =+'Tableau des FTM'!B51 -> AA | G7: =+'Tableau des FTM'!H51 -> 15400.45
A8: =+'Tableau des FTM'!B52 -> AB | F8: =+'Tableau des FTM'!H52 -> 72941
A9: =+'Tableau des FTM'!B53 -> AC | G9: =+'Tableau des FTM'!H53 -> 18250.96
D18: =SUM(D4:D17) -> 0 | E18: =SUM(E4:E17) -> 13000 | F18: =SUM(F4:F17) -> 72941 | G18: =SUM(G4:G17) -> 50954.41

Sheet 05 PO
B2: PO | D2: ACCEPTE | F2: A VENIR
A3: FTM | D3: MO | E3: MOE/BET | F3: MO | G3: MOE/BET
A4: =+'Tableau des FTM'!B16 -> 5 | E4: =+'Tableau des FTM'!F16 -> 2600
A5: =+'Tableau des FTM'!B30 -> G | G5: =+'Tableau des FTM'!G30 -> 19149
D18: =SUM(D4:D17) -> 0 | E18: =SUM(E4:E17) -> 2600 | F18: =SUM(F4:F17) -> 0 | G18: =SUM(G4:G17) -> 19149

Sheet 05 OXARIS
B2: PO | D2: ACCEPTE | F2: A VENIR
A3: FTM | D3: MO | E3: MOE/BET | F3: MO | G3: MOE/BET
A4: =+'Tableau des FTM'!B32 -> I | F4: =+'Tableau des FTM'!G32 -> 99460.56
D18: =SUM(D4:D17) -> 0 | E18: =SUM(E4:E17) -> 0 | F18: =SUM(F4:F17) -> 99460.56 | G18: =SUM(G4:G17) -> 0

Sheet 06 CARRE
B2: CARRE | D2: ACCEPTE | F2: A VENIR
A3: FTM | D3: MO | E3: MOE/BET | F3: MO | G3: MOE/BET
A4: =+'Tableau des FTM'!B54 -> AD | G4: =+'Tableau des FTM'!H54 -> 16112.4
D18: =SUM(D4:D17) -> 0 | E18: =SUM(E4:E17) -> 0 | F18: =SUM(F4:F17) -> 0 | G18: =SUM(G4:G17) -> 16112.4

Sheet 07 DEL TEDESCO
B2: DEL TEDESCO | D2: ACCEPTE | F2: A VENIR
A3: FTM | D3: MO | E3: MOE/BET | F3: MO | G3: MOE/BET
A4: =+'Tableau des FTM'!B57 -> AG | G4: =+'Tableau des FTM'!H57 -> 1443.12
A5: =+'Tableau des FTM'!B33 -> J | G5: =+'Tableau des FTM'!G33 -> 8308.72
D18: =SUM(D4:D17) -> 0 | E18: =SUM(E4:E17) -> 0 | F18: =SUM(F4:F17) -> 0 | G18: =SUM(G4:G17) -> 9751.84

Sheet 08 MASSOUTIER
B2: MASSOUTIER | D2: ACCEPTE | F2: A VENIR
A3: FTM | D3: MO | E3: MOE/BET | F3: MO | G3: MOE/BET
A4: =+'Tableau des FTM'!B60 -> AJ | G4: =+'Tableau des FTM'!H60 -> 2424.15
A5: =+'Tableau des FTM'!B61 -> AK | G5: =+'Tableau des FTM'!H61 -> 4160.42
D18: =SUM(D4:D17) -> 0 | E18: =SUM(E4:E17) -> 0 | F18: =SUM(F4:F17) -> 0 | G18: =SUM(G4:G17) -> 6584.57

Sheet 09 BELET
B2: BELET | D2: ACCEPTE | F2: A VENIR
A3: FTM | D3: MO | E3: MOE/BET | F3: MO | G3: MOE/BET
D18: =SUM(D4:D17) -> 0 | E18: =SUM(E4:E17) -> 0 | F18: =SUM(F4:F17) -> 0 | G18: =SUM(G4:G17) -> 0

Sheet 11 COMEY
B2: COMEY | D2: ACCEPTE | F2: A VENIR
A3: FTM | D3: MO | E3: MOE/BET | F3: MO | G3: MOE/BET
A4: =+'Tableau des FTM'!B65 -> AO | G4: =+'Tableau des FTM'!H65 -> 36494.25
D18: =SUM(D4:D17) -> 0 | E18: =SUM(E4:E17) -> 0 | F18: =SUM(F4:F17) -> 0 | G18: =SUM(G4:G17) -> 36494.25

Sheet 12 CARRELAGE
B2: CARRELAGE | D2: ACCEPTE | F2: A VENIR
A3: FTM | D3: MO | E3: MOE/BET | F3: MO | G3: MOE/BET
A4: =+'Tableau des FTM'!B63 -> AM | G4: =+'Tableau des FTM'!H63 -> 24192
A5: =+'Tableau des FTM'!B64 -> AN | G5: =+'Tableau des FTM'!H64 -> 5300
D18: =SUM(D4:D17) -> 0 | E18: =SUM(E4:E17) -> 0 | F18: =SUM(F4:F17) -> 0 | G18: =SUM(G4:G17) -> 29492

Sheet 15 KONE
B2: KONE | D2: ACCEPTE | F2: A VENIR
A3: FTM | D3: MO | E3: MOE/BET | F3: MO | G3: MOE/BET
A4: =+'Tableau des FTM'!B12 -> 1 | D4: =+'Tableau des FTM'!F12 -> 2390
A5: =+'Tableau des FTM'!B35 -> L | F5: =+'Tableau des FTM'!G35 -> 645
A6: =+'Tableau des FTM'!B66 -> AP | G6: =+'Tableau des FTM'!H66 -> 6592
D18: =SUM(D4:D17) -> 2390 | E18: =SUM(E6:E17) -> 0 | F18: =SUM(F4:F17) -> 645 | G18: =SUM(G6:G17) -> 6592

Sheet 16 -17 CEGELEC 
B2: CEGELEC | D2: ACCEPTE | F2: A VENIR
A3: FTM | D3: MO | E3: MOE/BET | F3: MO | G3: MOE/BET
A4: =+'Tableau des FTM'!B17 -> 6 | E4: =+'Tableau des FTM'!F17 -> 57000
A5: =+'Tableau des FTM'!B21 -> 10 | D5: =+'Tableau des FTM'!F21 -> 11990
A6: =+'Tableau des FTM'!B22 -> 11 | E6: =+'Tableau des FTM'!F22 -> 2940
A7: =+'Tableau des FTM'!B68 -> AR | G7: =+'Tableau des FTM'!H68 -> 60000
A8: =+'Tableau des FTM'!B36 -> M | F8: =+'Tableau des FTM'!G36 -> -21316.16
D18: =SUM(D4:D17) -> 11990 | E18: =SUM(E4:E17) -> 59940 | F18: =SUM(F4:F17) -> -21316.16 | G18: =SUM(G4:G17) -> 60000

Sheet 18 FONTANIE
B2: FONTANIE | D2: ACCEPTE | F2: A VENIR
A3: FTM | D3: MO | E3: MOE/BET | F3: MO | G3: MOE/BET
A4: =+'Tableau des FTM'!B18 -> 7 | E4: =+'Tableau des FTM'!F18 -> 18000
A5: =+'Tableau des FTM'!B38 -> O | F5: =+'Tableau des FTM'!G38 -> 37422
A6: =+'Tableau des FTM'!B39 -> P | F6: =+'Tableau des FTM'!G39 -> 8359.94
A7: =+'Tableau des FTM'!B40 -> Q | F7: =+'Tableau des FTM'!G40 -> 9000
A8: =+'Tableau des FTM'!B69 -> AS | G8: =+'Tableau des FTM'!H69 -> 22948
A9: =+'Tableau des FTM'!B71 -> AU | G9: =+'Tableau des FTM'!H71 -> 2385
A10: =+'Tableau des FTM'!B72 -> AV | G10: =+'Tableau des FTM'!H72 -> 5956.3
D18: =SUM(D4:D17) -> 0 | E18: =SUM(E4:E17) -> 18000 | F18: =SUM(F4:F17) -> 54781.94 | G18: =SUM(G4:G17) -> 31289.3
