Workbook

Sheet Param
A1: Jour | B1: Taux de Panne
A2: Lundi | B2: 0.06
A3: Mardi
A4: Mercredi
A5: Jeudi
A6: Vendredi
A7: Samedi

Sheet Data
A1: Semaine | B1: Année | C1: Mois | D1: Jour | E1: Date | F1: Code | G1: Site | H1: Ventes | I1: Panne 1 | J1: Panne 2 | K1: Panne 3 | L1: Panne 4 | M1: Nombre de Pannes | N1: %tage Pannes
A2: =WEEKNUM(E2) -> 19 | B2: =YEAR(E2) -> 2019 | C2: =MONTH(E2) -> 5 | D2: =CHOOSE(WEEKDAY(E2),"Dimanche","Lundi","Mardi","Mercredi","Jeudi","Vendredi","Samedi") -> Lundi | E2: 43591 | F2: =LEFT(G2,5) -> 00156 | G2: 00156 - Paris | H2: 14155 | I2: 470 | J2: 211 | K2: 94 | L2: 176 | M2: =SUM(I2:L2) -> 951 | N2: =M2/H2 -> 0.06718474
A3: =WEEKNUM(E3) -> 19 | B3: =YEAR(E3) -> 2019 | C3: =MONTH(E3) -> 5 | D3: =CHOOSE(WEEKDAY(E3),"Dimanche","Lundi","Mardi","Mercredi","Jeudi","Vendredi","Samedi") -> Lundi | E3: 43591 | F3: =LEFT(G3,5) -> 00159 | G3: 00159 - Aix | H3: 10886 | I3: 328 | J3: 145 | K3: 284 | L3: 332 | M3: =SUM(I3:L3) -> 1089 | N3: =M3/H3 -> 0.10003674
A4: =WEEKNUM(E4) -> 19 | B4: =YEAR(E4) -> 2019 | C4: =MONTH(E4) -> 5 | D4: =CHOOSE(WEEKDAY(E4),"Dimanche","Lundi","Mardi","Mercredi","Jeudi","Vendredi","Samedi") -> Lundi | E4: 43591 | F4: =LEFT(G4,5) -> 00160 | G4: 00160 - Lyon | H4: 9222 | I4: 414 | J4: 82 | K4: 70 | L4: 174 | M4: =SUM(I4:L4) -> 740 | N4: =M4/H4 -> 0.080242897
A5: =WEEKNUM(E5) -> 19 | B5: =YEAR(E5) -> 2019 | C5: =MONTH(E5) -> 5 | D5: =CHOOSE(WEEKDAY(E5),"Dimanche","Lundi","Mardi","Mercredi","Jeudi","Vendredi","Samedi") -> Lundi | E5: 43591 | F5: =LEFT(G5,5) -> 00180 | G5: 00180 - Brest | H5: 9753 | I5: 405 | J5: 180 | K5: 91 | L5: 45 | M5: =SUM(I5:L5) -> 721 | N5: =M5/H5 -> 0.073925971
A6: =WEEKNUM(E6) -> 19 | B6: =YEAR(E6) -> 2019 | C6: =MONTH(E6) -> 5 | D6: =CHOOSE(WEEKDAY(E6),"Dimanche","Lundi","Mardi","Mercredi","Jeudi","Vendredi","Samedi") -> Lundi | E6: 43591 | F6: =LEFT(G6,5) -> 00181 | G6: 00181 - Lille | H6: 15084 | I6: 155 | J6: 112 | K6: 274 | L6: 366 | M6: =SUM(I6:L6) -> 907 | N6: =M6/H6 -> 0.060129939
A7: =WEEKNUM(E7) -> 19 | B7: =YEAR(E7) -> 2019 | C7: =MONTH(E7) -> 5 | D7: =CHOOSE(WEEKDAY(E7),"Dimanche","Lundi","Mardi","Mercredi","Jeudi","Vendredi","Samedi") -> Lundi | E7: 43591 | F7: =LEFT(G7,5) -> 00182 | G7: 00182 - Strasbourg | H7: 13749 | I7: 256 | J7: 113 | K7: 102 | L7: 90 | M7: =SUM(I7:L7) -> 561 | N7: =M7/H7 -> 0.040802967
A8: =WEEKNUM(E8) -> 19 | B8: =YEAR(E8) -> 2019 | C8: =MONTH(E8) -> 5 | D8: =CHOOSE(WEEKDAY(E8),"Dimanche","Lundi","Mardi","Mercredi","Jeudi","Vendredi","Samedi") -> Lundi | E8: 43591 | F8: =LEFT(G8,5) -> 00183 | G8: 00183 - Bordeaux | H8: 14845 | I8: 262 | J8: 127 | K8: 136 | L8: 76 | M8: =SUM(I8:L8) -> 601 | N8: =M8/H8 -> 0.040485012
A9: =WEEKNUM(E9) -> 19 | B9: =YEAR(E9) -> 2019 | C9: =MONTH(E9) -> 5 | D9: =CHOOSE(WEEKDAY(E9),"Dimanche","Lundi","Mardi","Mercredi","Jeudi","Vendredi","Samedi") -> Lundi | E9: 43591 | F9: =LEFT(G9,5) -> 00187 | G9: 00187 - Nice | H9: 19932 | I9: 276 | J9: 74 | K9: 231 | L9: 216 | M9: =SUM(I9:L9) -> 797 | N9: =M9/H9 -> 0.039985952
A10: =WEEKNUM(E10) -> 19 | B10: =YEAR(E10) -> 2019 | C10: =MONTH(E10) -> 5 | D10: =CHOOSE(WEEKDAY(E10),"Dimanche","Lundi","Mardi","Mercredi","Jeudi","Vendredi","Samedi") -> Mardi | E10: 43592 | F10: =LEFT(G10,5) -> 00156 | G10: 00156 - Paris | H10: 12795 | I10: 281 | J10: 225 | K10: 100 | L10: 199 | M10: =SUM(I10:L10) -> 805 | N10: =M10/H10 -> 0.062915201
A11: =WEEKNUM(E11) -> 19 | B11: =YEAR(E11) -> 2019 | C11: =MONTH(E11) -> 5 | D11: =CHOOSE(WEEKDAY(E11),"Dimanche","Lundi","Mardi","Mercredi","Jeudi","Vendredi","Samedi") -> Mardi | E11: 43592 | F11: =LEFT(G11,5) -> 00159 | G11: 00159 - Aix | H11: 16701 | I11: 61 | J11: 78 | K11: 64 | L11: 320 | M11: =SUM(I11:L11) -> 523 | N11: =M11/H11 -> 0.03131549
A12: =WEEKNUM(E12) -> 19 | B12: =YEAR(E12) -> 2019 | C12: =MONTH(E12) -> 5 | D12: =CHOOSE(WEEKDAY(E12),"Dimanche","Lundi","Mardi","Mercredi","Jeudi","Vendredi","Samedi") -> Mardi | E12: 43592 | F12: =LEFT(G12,5) -> 00160 | G12: 00160 - Lyon | H12: 10233 | I12: 154 | J12: 211 | K12: 208 | L12: 264 | M12: =SUM(I12:L12) -> 837 | N12: =M12/H12 -> 0.081794195
A13: =WEEKNUM(E13) -> 19 | B13: =YEAR(E13) -> 2019 | C13: =MONTH(E13) -> 5 | D13: =CHOOSE(WEEKDAY(E13),"Dimanche","Lundi","Mardi","Mercredi","Jeudi","Vendredi","Samedi") -> Mardi | E13: 43592 | F13: =LEFT(G13,5) -> 00180 | G13: 00180 - Brest | H13: 14179 | I13: 235 | J13: 248 | K13: 182 | L13: 193 | M13: =SUM(I13:L13) -> 858 | N13: =M13/H13 -> 0.060512025
... A97: =WEEKNUM(E97) -> 20 | B97: =YEAR(E97) -> 2019 | C97: =MONTH(E97) -> 5 | D97: =CHOOSE(WEEKDAY(E97),"Dimanche","Lundi","Mardi","Mercredi","Jeudi","Vendredi","Samedi") -> Samedi | E97: 43603 | F97: =LEFT(G97,5) -> 00187 | G97: 00187 - Nice | H97: 9647 | I97: 144 | J97: 241 | K97: 78 | L97: 183 | M97: =SUM(I97:L97) -> 646 | N97: =M97/H97 -> 0.066963823
A98: =WEEKNUM(E98) -> 21 | B98: =YEAR(E98) -> 2019 | C98: =MONTH(E98) -> 5 | D98: =CHOOSE(WEEKDAY(E98),"Dimanche","Lundi","Mardi","Mercredi","Jeudi","Vendredi","Samedi") -> Lundi | E98: 43605 | F98: =LEFT(G98,5) -> 00156 | G98: 00156 - Paris | H98: =RANDBETWEEN(7500,20000) -> 13262 | I98: =RANDBETWEEN(51,500) -> 415 | J98: =RANDBETWEEN(71,250) -> 78 | K98: =RANDBETWEEN(31,300) -> 269 | L98: =RANDBETWEEN(41,400) -> 133 | M98: =SUM(I98:L98) -> 895 | N98: =M98/H98 -> 0.06748605
A99: =WEEKNUM(E99) -> 21 | B99: =YEAR(E99) -> 2019 | C99: =MONTH(E99) -> 5 | D99: =CHOOSE(WEEKDAY(E99),"Dimanche","Lundi","Mardi","Mercredi","Jeudi","Vendredi","Samedi") -> Lundi | E99: 43605 | F99: =LEFT(G99,5) -> 00157 | G99: 00157 - Bruxelles | H99: =RANDBETWEEN(7500,20000) -> 7660 | I99: =RANDBETWEEN(51,500) -> 175 | J99: =RANDBETWEEN(71,250) -> 105 | K99: =RANDBETWEEN(31,300) -> 89 | L99: =RANDBETWEEN(41,400) -> 251 | M99: =SUM(I99:L99) -> 620 | N99: =M99/H99 -> 0.080939948
A100: =WEEKNUM(E100) -> 21 | B100: =YEAR(E100) -> 2019 | C100: =MONTH(E100) -> 5 | D100: =CHOOSE(WEEKDAY(E100),"Dimanche","Lundi","Mardi","Mercredi","Jeudi","Vendredi","Samedi") -> Lundi | E100: 43605 | F100: =LEFT(G100,5) -> 00159 | G100: 00159 - Aix | H100: =RANDBETWEEN(7500,20000) -> 9310 | I100: =RANDBETWEEN(51,500) -> 248 | J100: =RANDBETWEEN(71,250) -> 206 | K100: =RANDBETWEEN(31,300) -> 31 | L100: =RANDBETWEEN(41,400) -> 113 | M100: =SUM(I100:L100) -> 598 | N100: =M100/H100 -> 0.064232009
A101: =WEEKNUM(E101) -> 21 | B101: =YEAR(E101) -> 2019 | C101: =MONTH(E101) -> 5 | D101: =CHOOSE(WEEKDAY(E101),"Dimanche","Lundi","Mardi","Mercredi","Jeudi","Vendredi","Samedi") -> Lundi | E101: 43605 | F101: =LEFT(G101,5) -> 00160 | G101: 00160 - Lyon | H101: =RANDBETWEEN(7500,20000) -> 18733 | I101: =RANDBETWEEN(51,500) -> 130 | J101: =RANDBETWEEN(71,250) -> 160 | K101: =RANDBETWEEN(31,300) -> 59 | L101: =RANDBETWEEN(41,400) -> 174 | M101: =SUM(I101:L101) -> 523 | N101: =M101/H101 -> 0.027918646
A102: =WEEKNUM(E102) -> 21 | B102: =YEAR(E102) -> 2019 | C102: =MONTH(E102) -> 5 | D102: =CHOOSE(WEEKDAY(E102),"Dimanche","Lundi","Mardi","Mercredi","Jeudi","Vendredi","Samedi") -> Lundi | E102: 43605 | F102: =LEFT(G102,5) -> 00180 | G102: 00180 - Brest | H102: =RANDBETWEEN(7500,20000) -> 7765 | I102: =RANDBETWEEN(51,500) -> 114 | J102: =RANDBETWEEN(71,250) -> 108 | K102: =RANDBETWEEN(31,300) -> 42 | L102: =RANDBETWEEN(41,400) -> 122 | M102: =SUM(I102:L102) -> 386 | N102: =M102/H102 -> 0.049710238
A103: =WEEKNUM(E103) -> 21 | B103: =YEAR(E103) -> 2019 | C103: =MONTH(E103) -> 5 | D103: =CHOOSE(WEEKDAY(E103),"Dimanche","Lundi","Mardi","Mercredi","Jeudi","Vendredi","Samedi") -> Lundi | E103: 43605 | F103: =LEFT(G103,5) -> 00181 | G103: 00181 - Lille | H103: =RANDBETWEEN(7500,20000) -> 9454 | I103: =RANDBETWEEN(51,500) -> 250 | J103: =RANDBETWEEN(71,250) -> 245 | K103: =RANDBETWEEN(31,300) -> 52 | L103: =RANDBETWEEN(41,400) -> 322 | M103: =SUM(I103:L103) -> 869 | N103: =M103/H103 -> 0.091918765
A104: =WEEKNUM(E104) -> 21 | B104: =YEAR(E104) -> 2019 | C104: =MONTH(E104) -> 5 | D104: =CHOOSE(WEEKDAY(E104),"Dimanche","Lundi","Mardi","Mercredi","Jeudi","Vendredi","Samedi") -> Lundi | E104: 43605 | F104: =LEFT(G104,5) -> 00182 | G104: 00182 - Strasbourg | H104: =RANDBETWEEN(7500,20000) -> 8563 | I104: =RANDBETWEEN(51,500) -> 230 | J104: =RANDBETWEEN(71,250) -> 151 | K104: =RANDBETWEEN(31,300) -> 123 | L104: =RANDBETWEEN(41,400) -> 373 | M104: =SUM(I104:L104) -> 877 | N104: =M104/H104 -> 0.10241738
A105: =WEEKNUM(E105) -> 21 | B105: =YEAR(E105) -> 2019 | C105: =MONTH(E105) -> 5 | D105: =CHOOSE(WEEKDAY(E105),"Dimanche","Lundi","Mardi","Mercredi","Jeudi","Vendredi","Samedi") -> Lundi | E105: 43605 | F105: =LEFT(G105,5) -> 00183 | G105: 00183 - Bordeaux | H105: =RANDBETWEEN(7500,20000) -> 16493 | I105: =RANDBETWEEN(51,500) -> 389 | J105: =RANDBETWEEN(71,250) -> 240 | K105: =RANDBETWEEN(31,300) -> 188 | L105: =RANDBETWEEN(41,400) -> 369 | M105: =SUM(I105:L105) -> 1186 | N105: =M105/H105 -> 0.071909295
A106: =WEEKNUM(E106) -> 21 | B106: =YEAR(E106) -> 2019 | C106: =MONTH(E106) -> 5 | D106: =CHOOSE(WEEKDAY(E106),"Dimanche","Lundi","Mardi","Mercredi","Jeudi","Vendredi","Samedi") -> Lundi | E106: 43605 | F106: =LEFT(G106,5) -> 00187 | G106: 00187 - Nice | H106: =RANDBETWEEN(7500,20000) -> 13028 | I106: =RANDBETWEEN(51,500) -> 146 | J106: =RANDBETWEEN(71,250) -> 132 | K106: =RANDBETWEEN(31,300) -> 122 | L106: =RANDBETWEEN(41,400) -> 59 | M106: =SUM(I106:L106) -> 459 | N106: =M106/H106 -> 0.035231808
A107: =WEEKNUM(E107) -> 21 | B107: =YEAR(E107) -> 2019 | C107: =MONTH(E107) -> 5 | D107: =CHOOSE(WEEKDAY(E107),"Dimanche","Lundi","Mardi","Mercredi","Jeudi","Vendredi","Samedi") -> Mardi | E107: 43606 | F107: =LEFT(G107,5) -> 00156 | G107: 00156 - Paris | H107: =RANDBETWEEN(7500,20000) -> 16645 | I107: =RANDBETWEEN(51,500) -> 245 | J107: =RANDBETWEEN(71,250) -> 143 | K107: =RANDBETWEEN(31,300) -> 96 | L107: =RANDBETWEEN(41,400) -> 148 | M107: =SUM(I107:L107) -> 632 | N107: =M107/H107 -> 0.03796936
A108: =WEEKNUM(E108) -> 21 | B108: =YEAR(E108) -> 2019 | C108: =MONTH(E108) -> 5 | D108: =CHOOSE(WEEKDAY(E108),"Dimanche","Lundi","Mardi","Mercredi","Jeudi","Vendredi","Samedi") -> Mardi | E108: 43606 | F108: =LEFT(G108,5) -> 00157 | G108: 00157 - Bruxelles | H108: =RANDBETWEEN(7500,20000) -> 17012 | I108: =RANDBETWEEN(51,500) -> 123 | J108: =RANDBETWEEN(71,250) -> 73 | K108: =RANDBETWEEN(31,300) -> 167 | L108: =RANDBETWEEN(41,400) -> 308 | M108: =SUM(I108:L108) -> 671 | N108: =M108/H108 -> 0.039442746
A109: =WEEKNUM(E109) -> 21 | B109: =YEAR(E109) -> 2019 | C109: =MONTH(E109) -> 5 | D109: =CHOOSE(WEEKDAY(E109),"Dimanche","Lundi","Mardi","Mercredi","Jeudi","Vendredi","Samedi") -> Mardi | E109: 43606 | F109: =LEFT(G109,5) -> 00159 | G109: 00159 - Aix | H109: =RANDBETWEEN(7500,20000) -> 11516 | I109: =RANDBETWEEN(51,500) -> 148 | J109: =RANDBETWEEN(71,250) -> 144 | K109: =RANDBETWEEN(31,300) -> 121 | L109: =RANDBETWEEN(41,400) -> 45 | M109: =SUM(I109:L109) -> 458 | N109: =M109/H109 -> 0.039770754
... A143: =WEEKNUM(E143) -> 21 | B143: =YEAR(E143) -> 2019 | C143: =MONTH(E143) -> 5 | D143: =CHOOSE(WEEKDAY(E143),"Dimanche","Lundi","Mardi","Mercredi","Jeudi","Vendredi","Samedi") -> Samedi | E143: 43610 | F143: =LEFT(G143,5) -> 00156 | G143: 00156 - Paris | H143: =RANDBETWEEN(7500,20000) -> 15660 | I143: =RANDBETWEEN(51,500) -> 420 | J143: =RANDBETWEEN(71,250) -> 82 | K143: =RANDBETWEEN(31,300) -> 238 | L143: =RANDBETWEEN(41,400) -> 399 | M143: =SUM(I143:L143) -> 1139 | N143: =M143/H143 -> 0.072733078
A144: =WEEKNUM(E144) -> 21 | B144: =YEAR(E144) -> 2019 | C144: =MONTH(E144) -> 5 | D144: =CHOOSE(WEEKDAY(E152),"Dimanche","Lundi","Mardi","Mercredi","Jeudi","Vendredi","Samedi") -> Samedi | E144: 43610 | F144: =LEFT(G144,5) -> 00157 | G144: 00157 - Bruxelles | H144: =RANDBETWEEN(7500,20000) -> 11600 | I144: =RANDBETWEEN(51,500) -> 124 | J144: =RANDBETWEEN(71,250) -> 159 | K144: =RANDBETWEEN(31,300) -> 177 | L144: =RANDBETWEEN(41,400) -> 288 | M144: =SUM(I144:L144) -> 748 | N144: =M144/H144 -> 0.064482759
A145: =WEEKNUM(E145) -> 21 | B145: =YEAR(E145) -> 2019 | C145: =MONTH(E145) -> 5 | D145: =CHOOSE(WEEKDAY(E153),"Dimanche","Lundi","Mardi","Mercredi","Jeudi","Vendredi","Samedi") -> Samedi | E145: 43610 | F145: =LEFT(G145,5) -> 00159 | G145: 00159 - Aix | H145: =RANDBETWEEN(7500,20000) -> 10679 | I145: =RANDBETWEEN(51,500) -> 492 | J145: =RANDBETWEEN(71,250) -> 222 | K145: =RANDBETWEEN(31,300) -> 274 | L145: =RANDBETWEEN(41,400) -> 255 | M145: =SUM(I145:L145) -> 1243 | N145: =M145/H145 -> 0.11639667
A146: =WEEKNUM(E146) -> 21 | B146: =YEAR(E146) -> 2019 | C146: =MONTH(E146) -> 5 | D146: =CHOOSE(WEEKDAY(E154),"Dimanche","Lundi","Mardi","Mercredi","Jeudi","Vendredi","Samedi") -> Samedi | E146: 43610 | F146: =LEFT(G146,5) -> 00160 | G146: 00160 - Lyon | H146: =RANDBETWEEN(7500,20000) -> 8966 | I146: =RANDBETWEEN(51,500) -> 384 | J146: =RANDBETWEEN(71,250) -> 129 | K146: =RANDBETWEEN(31,300) -> 300 | L146: =RANDBETWEEN(41,400) -> 81 | M146: =SUM(I146:L146) -> 894 | N146: =M146/H146 -> 0.099710016
A147: =WEEKNUM(E147) -> 21 | B147: =YEAR(E147) -> 2019 | C147: =MONTH(E147) -> 5 | D147: =CHOOSE(WEEKDAY(E155),"Dimanche","Lundi","Mardi","Mercredi","Jeudi","Vendredi","Samedi") -> Samedi | E147: 43610 | F147: =LEFT(G147,5) -> 00180 | G147: 00180 - Brest | H147: =RANDBETWEEN(7500,20000) -> 7634 | I147: =RANDBETWEEN(51,500) -> 51 | J147: =RANDBETWEEN(71,250) -> 216 | K147: =RANDBETWEEN(31,300) -> 41 | L147: =RANDBETWEEN(41,400) -> 120 | M147: =SUM(I147:L147) -> 428 | N147: =M147/H147 -> 0.056064972
A148: =WEEKNUM(E148) -> 21 | B148: =YEAR(E148) -> 2019 | C148: =MONTH(E148) -> 5 | D148: =CHOOSE(WEEKDAY(E156),"Dimanche","Lundi","Mardi","Mercredi","Jeudi","Vendredi","Samedi") -> Samedi | E148: 43610 | F148: =LEFT(G148,5) -> 00181 | G148: 00181 - Lille | H148: =RANDBETWEEN(7500,20000) -> 14104 | I148: =RANDBETWEEN(51,500) -> 206 | J148: =RANDBETWEEN(71,250) -> 158 | K148: =RANDBETWEEN(31,300) -> 271 | L148: =RANDBETWEEN(41,400) -> 87 | M148: =SUM(I148:L148) -> 722 | N148: =M148/H148 -> 0.051191151
A149: =WEEKNUM(E149) -> 21 | B149: =YEAR(E149) -> 2019 | C149: =MONTH(E149) -> 5 | D149: =CHOOSE(WEEKDAY(E157),"Dimanche","Lundi","Mardi","Mercredi","Jeudi","Vendredi","Samedi") -> Samedi | E149: 43610 | F149: =LEFT(G149,5) -> 00182 | G149: 00182 - Strasbourg | H149: =RANDBETWEEN(7500,20000) -> 14055 | I149: =RANDBETWEEN(51,500) -> 62 | J149: =RANDBETWEEN(71,250) -> 236 | K149: =RANDBETWEEN(31,300) -> 247 | L149: =RANDBETWEEN(41,400) -> 318 | M149: =SUM(I149:L149) -> 863 | N149: =M149/H149 -> 0.061401636
A150: =WEEKNUM(E150) -> 21 | B150: =YEAR(E150) -> 2019 | C150: =MONTH(E150) -> 5 | D150: =CHOOSE(WEEKDAY(E158),"Dimanche","Lundi","Mardi","Mercredi","Jeudi","Vendredi","Samedi") -> Samedi | E150: 43610 | F150: =LEFT(G150,5) -> 00183 | G150: 00183 - Bordeaux | H150: =RANDBETWEEN(7500,20000) -> 8282 | I150: =RANDBETWEEN(51,500) -> 248 | J150: =RANDBETWEEN(71,250) -> 133 | K150: =RANDBETWEEN(31,300) -> 200 | L150: =RANDBETWEEN(41,400) -> 192 | M150: =SUM(I150:L150) -> 773 | N150: =M150/H150 -> 0.093334943
A151: =WEEKNUM(E151) -> 21 | B151: =YEAR(E151) -> 2019 | C151: =MONTH(E151) -> 5 | D151: =CHOOSE(WEEKDAY(E159),"Dimanche","Lundi","Mardi","Mercredi","Jeudi","Vendredi","Samedi") -> Samedi | E151: 43610 | F151: =LEFT(G151,5) -> 00187 | G151: 00187 - Nice | H151: =RANDBETWEEN(7500,20000) -> 7515 | I151: =RANDBETWEEN(51,500) -> 90 | J151: =RANDBETWEEN(71,250) -> 198 | K151: =RANDBETWEEN(31,300) -> 48 | L151: =RANDBETWEEN(41,400) -> 43 | M151: =SUM(I151:L151) -> 379 | N151: =M151/H151 -> 0.050432468

Sheet Analyse
A1: Semaine | B1: Année | C1: Mois | D1: Jour | E1: Date | F1: Code | G1: Site | H1: Nombre de Ventes L M M | I1: Nombre de Ventes J V S | J1: Nombre de Pannes 1 L M M | K1: Nombre de Pannes 2 L M M | L1: Nombre de Pannes 3 L M M | M1: Nombre de Pannes 4 L M M | N1: Nombre de Pannes pour L M M | O1: Taux de Panne pour L M M | P1: Nombre de Pannes 1 J V S | Q1: Nombre de Pannes 2 J V S | R1: Nombre de Pannes 3 J V S | S1: Nombre de Pannes 4 J V S | T1: Nombre de Pannes pour L M M | U1: Taux de Panne pour L M M | V1: Resultat
A2: 19 | B2: 2019 | C2: 5 | F2: =LEFT(G2,5) -> 00156 | G2: 00156 - Paris | H2: =SUMIFS(Data!$H:$H,Data!$F:$F,Analyse!$F2,Data!$B:$B,Analyse!$B2,Data!$A:$A,Analyse!$A2,Data!$D:$D,Param!$A$2)+SUMIFS(Data!$H:$H,Data!$F:$F,Analyse!$F2,Data!$B:$B,Analyse!$B2,Data!$A:$A,Analyse!$A2,Data!$D:$D,Param!$A$3)+SUMIFS(Data!$H:$H,Data!$F:$F,Analyse!$F2,Data!$B:$B,Analyse!$B2,Data!$A:$A,Analyse!$A2,Data!$D:$D,Param!$A$4) -> 45600 | I2: =SUMIFS(Data!$H:$H,Data!$F:$F,Analyse!$F2,Data!$B:$B,Analyse!$B2,Data!$A:$A,Analyse!$A2,Data!$D:$D,Param!$A$5)+SUMIFS(Data!$H:$H,Data!$F:$F,Analyse!$F2,Data!$B:$B,Analyse!$B2,Data!$A:$A,Analyse!$A2,Data!$D:$D,Param!$A$6)+SUMIFS(Data!$H:$H,Data!$F:$F,Analyse!$F2,Data!$B:$B,Analyse!$B2,Data!$A:$A,Analyse!$A2,Data!$D:$D,Param!$A$7) -> 37964 | J2: =SUMIFS(Data!$I:$I,Data!$F:$F,Analyse!$F2,Data!$B:$B,Analyse!$B2,Data!$A:$A,Analyse!$A2,Data!$D:$D,Param!$A$2)+SUMIFS(Data!$I:$I,Data!$F:$F,Analyse!$F2,Data!$B:$B,Analyse!$B2,Data!$A:$A,Analyse!$A2,Data!$D:$D,Param!$A$3)+SUMIFS(Data!$I:$I,Data!$F:$F,Analyse!$F2,Data!$B:$B,Analyse!$B2,Data!$A:$A,Analyse!$A2,Data!$D:$D,Param!$A$4) -> 1210 | K2: =SUMIFS(Data!$J:$J,Data!$F:$F,Analyse!$F2,Data!$B:$B,Analyse!$B2,Data!$A:$A,Analyse!$A2,Data!$D:$D,Param!$A$2)+SUMIFS(Data!$J:$J,Data!$F:$F,Analyse!$F2,Data!$B:$B,Analyse!$B2,Data!$A:$A,Analyse!$A2,Data!$D:$D,Param!$A$3)+SUMIFS(Data!$J:$J,Data!$F:$F,Analyse!$F2,Data!$B:$B,Analyse!$B2,Data!$A:$A,Analyse!$A2,Data!$D:$D,Param!$A$4) -> 582 | L2: =SUMIFS(Data!$K:$K,Data!$F:$F,Analyse!$F2,Data!$B:$B,Analyse!$B2,Data!$A:$A,Analyse!$A2,Data!$D:$D,Param!$A$2)+SUMIFS(Data!$K:$K,Data!$F:$F,Analyse!$F2,Data!$B:$B,Analyse!$B2,Data!$A:$A,Analyse!$A2,Data!$D:$D,Param!$A$3)+SUMIFS(Data!$K:$K,Data!$F:$F,Analyse!$F2,Data!$B:$B,Analyse!$B2,Data!$A:$A,Analyse!$A2,Data!$D:$D,Param!$A$4) -> 316 | M2: =SUMIFS(Data!$L:$L,Data!$F:$F,Analyse!$F2,Data!$B:$B,Analyse!$B2,Data!$A:$A,Analyse!$A2,Data!$D:$D,Param!$A$2)+SUMIFS(Data!$L:$L,Data!$F:$F,Analyse!$F2,Data!$B:$B,Analyse!$B2,Data!$A:$A,Analyse!$A2,Data!$D:$D,Param!$A$3)+SUMIFS(Data!$L:$L,Data!$F:$F,Analyse!$F2,Data!$B:$B,Analyse!$B2,Data!$A:$A,Analyse!$A2,Data!$D:$D,Param!$A$4) -> 632 | N2: =SUM(J2:M2) -> 2740 | O2: =N2/H2 -> 0.060087719 | P2: =SUMIFS(Data!$I:$I,Data!$F:$F,Analyse!$F2,Data!$B:$B,Analyse!$B2,Data!$A:$A,Analyse!$A2,Data!$D:$D,Param!$A$5)+SUMIFS(Data!$I:$I,Data!$F:$F,Analyse!$F2,Data!$B:$B,Analyse!$B2,Data!$A:$A,Analyse!$A2,Data!$D:$D,Param!$A$6)+SUMIFS(Data!$I:$I,Data!$F:$F,Analyse!$F2,Data!$B:$B,Analyse!$B2,Data!$A:$A,Analyse!$A2,Data!$D:$D,Param!$A$7) -> 737 | Q2: =SUMIFS(Data!$J:$J,Data!$F:$F,Analyse!$F2,Data!$B:$B,Analyse!$B2,Data!$A:$A,Analyse!$A2,Data!$D:$D,Param!$A$5)+SUMIFS(Data!$J:$J,Data!$F:$F,Analyse!$F2,Data!$B:$B,Analyse!$B2,Data!$A:$A,Analyse!$A2,Data!$D:$D,Param!$A$6)+SUMIFS(Data!$J:$J,Data!$F:$F,Analyse!$F2,Data!$B:$B,Analyse!$B2,Data!$A:$A,Analyse!$A2,Data!$D:$D,Param!$A$7) -> 577 | R2: =SUMIFS(Data!$K:$K,Data!$F:$F,Analyse!$F2,Data!$B:$B,Analyse!$B2,Data!$A:$A,Analyse!$A2,Data!$D:$D,Param!$A$5)+SUMIFS(Data!$K:$K,Data!$F:$F,Analyse!$F2,Data!$B:$B,Analyse!$B2,Data!$A:$A,Analyse!$A2,Data!$D:$D,Param!$A$6)+SUMIFS(Data!$K:$K,Data!$F:$F,Analyse!$F2,Data!$B:$B,Analyse!$B2,Data!$A:$A,Analyse!$A2,Data!$D:$D,Param!$A$7) -> 568 | S2: =SUMIFS(Data!$L:$L,Data!$F:$F,Analyse!$F2,Data!$B:$B,Analyse!$B2,Data!$A:$A,Analyse!$A2,Data!$D:$D,Param!$A$5)+SUMIFS(Data!$L:$L,Data!$F:$F,Analyse!$F2,Data!$B:$B,Analyse!$B2,Data!$A:$A,Analyse!$A2,Data!$D:$D,Param!$A$6)+SUMIFS(Data!$L:$L,Data!$F:$F,Analyse!$F2,Data!$B:$B,Analyse!$B2,Data!$A:$A,Analyse!$A2,Data!$D:$D,Param!$A$7) -> 383 | T2: =SUM(P2:S2) -> 2265 | U2: =T2/I2 -> 0.059661785 | V2: =IF(AND(O2>Param!$B$2,U2>Param!$B$2),"KO","OK") -> OK
A3: 19 | B3: 2019 | C3: 5 | F3: =LEFT(G3,5) -> 00159 | G3: 00159 - Aix | H3: =SUMIFS(Data!$H:$H,Data!$F:$F,Analyse!$F3,Data!$B:$B,Analyse!$B3,Data!$A:$A,Analyse!$A3,Data!$D:$D,Param!$A$2)+SUMIFS(Data!$H:$H,Data!$F:$F,Analyse!$F3,Data!$B:$B,Analyse!$B3,Data!$A:$A,Analyse!$A3,Data!$D:$D,Param!$A$3)+SUMIFS(Data!$H:$H,Data!$F:$F,Analyse!$F3,Data!$B:$B,Analyse!$B3,Data!$A:$A,Analyse!$A3,Data!$D:$D,Param!$A$4) -> 44114 | I3: =SUMIFS(Data!$H:$H,Data!$F:$F,Analyse!$F3,Data!$B:$B,Analyse!$B3,Data!$A:$A,Analyse!$A3,Data!$D:$D,Param!$A$5)+SUMIFS(Data!$H:$H,Data!$F:$F,Analyse!$F3,Data!$B:$B,Analyse!$B3,Data!$A:$A,Analyse!$A3,Data!$D:$D,Param!$A$6)+SUMIFS(Data!$H:$H,Data!$F:$F,Analyse!$F3,Data!$B:$B,Analyse!$B3,Data!$A:$A,Analyse!$A3,Data!$D:$D,Param!$A$7) -> 43348 | J3: =SUMIFS(Data!$I:$I,Data!$F:$F,Analyse!$F3,Data!$B:$B,Analyse!$B3,Data!$A:$A,Analyse!$A3,Data!$D:$D,Param!$A$2)+SUMIFS(Data!$I:$I,Data!$F:$F,Analyse!$F3,Data!$B:$B,Analyse!$B3,Data!$A:$A,Analyse!$A3,Data!$D:$D,Param!$A$3)+SUMIFS(Data!$I:$I,Data!$F:$F,Analyse!$F3,Data!$B:$B,Analyse!$B3,Data!$A:$A,Analyse!$A3,Data!$D:$D,Param!$A$4) -> 816 | K3: =SUMIFS(Data!$J:$J,Data!$F:$F,Analyse!$F3,Data!$B:$B,Analyse!$B3,Data!$A:$A,Analyse!$A3,Data!$D:$D,Param!$A$2)+SUMIFS(Data!$J:$J,Data!$F:$F,Analyse!$F3,Data!$B:$B,Analyse!$B3,Data!$A:$A,Analyse!$A3,Data!$D:$D,Param!$A$3)+SUMIFS(Data!$J:$J,Data!$F:$F,Analyse!$F3,Data!$B:$B,Analyse!$B3,Data!$A:$A,Analyse!$A3,Data!$D:$D,Param!$A$4) -> 319 | L3: =SUMIFS(Data!$K:$K,Data!$F:$F,Analyse!$F3,Data!$B:$B,Analyse!$B3,Data!$A:$A,Analyse!$A3,Data!$D:$D,Param!$A$2)+SUMIFS(Data!$K:$K,Data!$F:$F,Analyse!$F3,Data!$B:$B,Analyse!$B3,Data!$A:$A,Analyse!$A3,Data!$D:$D,Param!$A$3)+SUMIFS(Data!$K:$K,Data!$F:$F,Analyse!$F3,Data!$B:$B,Analyse!$B3,Data!$A:$A,Analyse!$A3,Data!$D:$D,Param!$A$4) -> 562 | M3: =SUMIFS(Data!$L:$L,Data!$F:$F,Analyse!$F3,Data!$B:$B,Analyse!$B3,Data!$A:$A,Analyse!$A3,Data!$D:$D,Param!$A$2)+SUMIFS(Data!$L:$L,Data!$F:$F,Analyse!$F3,Data!$B:$B,Analyse!$B3,Data!$A:$A,Analyse!$A3,Data!$D:$D,Param!$A$3)+SUMIFS(Data!$L:$L,Data!$F:$F,Analyse!$F3,Data!$B:$B,Analyse!$B3,Data!$A:$A,Analyse!$A3,Data!$D:$D,Param!$A$4) -> 834 | N3: =SUM(J3:M3) -> 2531 | O3: =N3/H3 -> 0.057374076 | P3: =SUMIFS(Data!$I:$I,Data!$F:$F,Analyse!$F3,Data!$B:$B,Analyse!$B3,Data!$A:$A,Analyse!$A3,Data!$D:$D,Param!$A$5)+SUMIFS(Data!$I:$I,Data!$F:$F,Analyse!$F3,Data!$B:$B,Analyse!$B3,Data!$A:$A,Analyse!$A3,Data!$D:$D,Param!$A$6)+SUMIFS(Data!$I:$I,Data!$F:$F,Analyse!$F3,Data!$B:$B,Analyse!$B3,Data!$A:$A,Analyse!$A3,Data!$D:$D,Param!$A$7) -> 787 | Q3: =SUMIFS(Data!$J:$J,Data!$F:$F,Analyse!$F3,Data!$B:$B,Analyse!$B3,Data!$A:$A,Analyse!$A3,Data!$D:$D,Param!$A$5)+SUMIFS(Data!$J:$J,Data!$F:$F,Analyse!$F3,Data!$B:$B,Analyse!$B3,Data!$A:$A,Analyse!$A3,Data!$D:$D,Param!$A$6)+SUMIFS(Data!$J:$J,Data!$F:$F,Analyse!$F3,Data!$B:$B,Analyse!$B3,Data!$A:$A,Analyse!$A3,Data!$D:$D,Param!$A$7) -> 420 | R3: =SUMIFS(Data!$K:$K,Data!$F:$F,Analyse!$F3,Data!$B:$B,Analyse!$B3,Data!$A:$A,Analyse!$A3,Data!$D:$D,Param!$A$5)+SUMIFS(Data!$K:$K,Data!$F:$F,Analyse!$F3,Data!$B:$B,Analyse!$B3,Data!$A:$A,Analyse!$A3,Data!$D:$D,Param!$A$6)+SUMIFS(Data!$K:$K,Data!$F:$F,Analyse!$F3,Data!$B:$B,Analyse!$B3,Data!$A:$A,Analyse!$A3,Data!$D:$D,Param!$A$7) -> 716 | S3: =SUMIFS(Data!$L:$L,Data!$F:$F,Analyse!$F3,Data!$B:$B,Analyse!$B3,Data!$A:$A,Analyse!$A3,Data!$D:$D,Param!$A$5)+SUMIFS(Data!$L:$L,Data!$F:$F,Analyse!$F3,Data!$B:$B,Analyse!$B3,Data!$A:$A,Analyse!$A3,Data!$D:$D,Param!$A$6)+SUMIFS(Data!$L:$L,Data!$F:$F,Analyse!$F3,Data!$B:$B,Analyse!$B3,Data!$A:$A,Analyse!$A3,Data!$D:$D,Param!$A$7) -> 726 | T3: =SUM(P3:S3) -> 2649 | U3: =T3/I3 -> 0.061110086 | V3: =IF(AND(O3>Param!$B$2,U3>Param!$B$2),"KO","OK") -> OK
A4: 19 | B4: 2019 | C4: 5 | F4: =LEFT(G4,5) -> 00160 | G4: 00160 - Lyon | H4: =SUMIFS(Data!$H:$H,Data!$F:$F,Analyse!$F4,Data!$B:$B,Analyse!$B4,Data!$A:$A,Analyse!$A4,Data!$D:$D,Param!$A$2)+SUMIFS(Data!$H:$H,Data!$F:$F,Analyse!$F4,Data!$B:$B,Analyse!$B4,Data!$A:$A,Analyse!$A4,Data!$D:$D,Param!$A$3)+SUMIFS(Data!$H:$H,Data!$F:$F,Analyse!$F4,Data!$B:$B,Analyse!$B4,Data!$A:$A,Analyse!$A4,Data!$D:$D,Param!$A$4) -> 30609 | I4: =SUMIFS(Data!$H:$H,Data!$F:$F,Analyse!$F4,Data!$B:$B,Analyse!$B4,Data!$A:$A,Analyse!$A4,Data!$D:$D,Param!$A$5)+SUMIFS(Data!$H:$H,Data!$F:$F,Analyse!$F4,Data!$B:$B,Analyse!$B4,Data!$A:$A,Analyse!$A4,Data!$D:$D,Param!$A$6)+SUMIFS(Data!$H:$H,Data!$F:$F,Analyse!$F4,Data!$B:$B,Analyse!$B4,Data!$A:$A,Analyse!$A4,Data!$D:$D,Param!$A$7) -> 36306 | J4: =SUMIFS(Data!$I:$I,Data!$F:$F,Analyse!$F4,Data!$B:$B,Analyse!$B4,Data!$A:$A,Analyse!$A4,Data!$D:$D,Param!$A$2)+SUMIFS(Data!$I:$I,Data!$F:$F,Analyse!$F4,Data!$B:$B,Analyse!$B4,Data!$A:$A,Analyse!$A4,Data!$D:$D,Param!$A$3)+SUMIFS(Data!$I:$I,Data!$F:$F,Analyse!$F4,Data!$B:$B,Analyse!$B4,Data!$A:$A,Analyse!$A4,Data!$D:$D,Param!$A$4) -> 710 | K4: =SUMIFS(Data!$J:$J,Data!$F:$F,Analyse!$F4,Data!$B:$B,Analyse!$B4,Data!$A:$A,Analyse!$A4,Data!$D:$D,Param!$A$2)+SUMIFS(Data!$J:$J,Data!$F:$F,Analyse!$F4,Data!$B:$B,Analyse!$B4,Data!$A:$A,Analyse!$A4,Data!$D:$D,Param!$A$3)+SUMIFS(Data!$J:$J,Data!$F:$F,Analyse!$F4,Data!$B:$B,Analyse!$B4,Data!$A:$A,Analyse!$A4,Data!$D:$D,Param!$A$4) -> 369 | L4: =SUMIFS(Data!$K:$K,Data!$F:$F,Analyse!$F4,Data!$B:$B,Analyse!$B4,Data!$A:$A,Analyse!$A4,Data!$D:$D,Param!$A$2)+SUMIFS(Data!$K:$K,Data!$F:$F,Analyse!$F4,Data!$B:$B,Analyse!$B4,Data!$A:$A,Analyse!$A4,Data!$D:$D,Param!$A$3)+SUMIFS(Data!$K:$K,Data!$F:$F,Analyse!$F4,Data!$B:$B,Analyse!$B4,Data!$A:$A,Analyse!$A4,Data!$D:$D,Param!$A$4) -> 356 | M4: =SUMIFS(Data!$L:$L,Data!$F:$F,Analyse!$F4,Data!$B:$B,Analyse!$B4,Data!$A:$A,Analyse!$A4,Data!$D:$D,Param!$A$2)+SUMIFS(Data!$L:$L,Data!$F:$F,Analyse!$F4,Data!$B:$B,Analyse!$B4,Data!$A:$A,Analyse!$A4,Data!$D:$D,Param!$A$3)+SUMIFS(Data!$L:$L,Data!$F:$F,Analyse!$F4,Data!$B:$B,Analyse!$B4,Data!$A:$A,Analyse!$A4,Data!$D:$D,Param!$A$4) -> 627 | N4: =SUM(J4:M4) -> 2062 | O4: =N4/H4 -> 0.067365807 | P4: =SUMIFS(Data!$I:$I,Data!$F:$F,Analyse!$F4,Data!$B:$B,Analyse!$B4,Data!$A:$A,Analyse!$A4,Data!$D:$D,Param!$A$5)+SUMIFS(Data!$I:$I,Data!$F:$F,Analyse!$F4,Data!$B:$B,Analyse!$B4,Data!$A:$A,Analyse!$A4,Data!$D:$D,Param!$A$6)+SUMIFS(Data!$I:$I,Data!$F:$F,Analyse!$F4,Data!$B:$B,Analyse!$B4,Data!$A:$A,Analyse!$A4,Data!$D:$D,Param!$A$7) -> 1019 | Q4: =SUMIFS(Data!$J:$J,Data!$F:$F,Analyse!$F4,Data!$B:$B,Analyse!$B4,Data!$A:$A,Analyse!$A4,Data!$D:$D,Param!$A$5)+SUMIFS(Data!$J:$J,Data!$F:$F,Analyse!$F4,Data!$B:$B,Analyse!$B4,Data!$A:$A,Analyse!$A4,Data!$D:$D,Param!$A$6)+SUMIFS(Data!$J:$J,Data!$F:$F,Analyse!$F4,Data!$B:$B,Analyse!$B4,Data!$A:$A,Analyse!$A4,Data!$D:$D,Param!$A$7) -> 389 | R4: =SUMIFS(Data!$K:$K,Data!$F:$F,Analyse!$F4,Data!$B:$B,Analyse!$B4,Data!$A:$A,Analyse!$A4,Data!$D:$D,Param!$A$5)+SUMIFS(Data!$K:$K,Data!$F:$F,Analyse!$F4,Data!$B:$B,Analyse!$B4,Data!$A:$A,Analyse!$A4,Data!$D:$D,Param!$A$6)+SUMIFS(Data!$K:$K,Data!$F:$F,Analyse!$F4,Data!$B:$B,Analyse!$B4,Data!$A:$A,Analyse!$A4,Data!$D:$D,Param!$A$7) -> 667 | S4: =SUMIFS(Data!$L:$L,Data!$F:$F,Analyse!$F4,Data!$B:$B,Analyse!$B4,Data!$A:$A,Analyse!$A4,Data!$D:$D,Param!$A$5)+SUMIFS(Data!$L:$L,Data!$F:$F,Analyse!$F4,Data!$B:$B,Analyse!$B4,Data!$A:$A,Analyse!$A4,Data!$D:$D,Param!$A$6)+SUMIFS(Data!$L:$L,Data!$F:$F,Analyse!$F4,Data!$B:$B,Analyse!$B4,Data!$A:$A,Analyse!$A4,Data!$D:$D,Param!$A$7) -> 467 | T4: =SUM(P4:S4) -> 2542 | U4: =T4/I4 -> 0.070015975 | V4: =IF(AND(O4>Param!$B$2,U4>Param!$B$2),"KO","OK") -> KO
A5: 19 | B5: 2019 | C5: 5 | F5: =LEFT(G5,5) -> 00180 | G5: 00180 - Brest | H5: =SUMIFS(Data!$H:$H,Data!$F:$F,Analyse!$F5,Data!$B:$B,Analyse!$B5,Data!$A:$A,Analyse!$A5,Data!$D:$D,Param!$A$2)+SUMIFS(Data!$H:$H,Data!$F:$F,Analyse!$F5,Data!$B:$B,Analyse!$B5,Data!$A:$A,Analyse!$A5,Data!$D:$D,Param!$A$3)+SUMIFS(Data!$H:$H,Data!$F:$F,Analyse!$F5,Data!$B:$B,Analyse!$B5,Data!$A:$A,Analyse!$A5,Data!$D:$D,Param!$A$4) -> 33515 | I5: =SUMIFS(Data!$H:$H,Data!$F:$F,Analyse!$F5,Data!$B:$B,Analyse!$B5,Data!$A:$A,Analyse!$A5,Data!$D:$D,Param!$A$5)+SUMIFS(Data!$H:$H,Data!$F:$F,Analyse!$F5,Data!$B:$B,Analyse!$B5,Data!$A:$A,Analyse!$A5,Data!$D:$D,Param!$A$6)+SUMIFS(Data!$H:$H,Data!$F:$F,Analyse!$F5,Data!$B:$B,Analyse!$B5,Data!$A:$A,Analyse!$A5,Data!$D:$D,Param!$A$7) -> 39096 | J5: =SUMIFS(Data!$I:$I,Data!$F:$F,Analyse!$F5,Data!$B:$B,Analyse!$B5,Data!$A:$A,Analyse!$A5,Data!$D:$D,Param!$A$2)+SUMIFS(Data!$I:$I,Data!$F:$F,Analyse!$F5,Data!$B:$B,Analyse!$B5,Data!$A:$A,Analyse!$A5,Data!$D:$D,Param!$A$3)+SUMIFS(Data!$I:$I,Data!$F:$F,Analyse!$F5,Data!$B:$B,Analyse!$B5,Data!$A:$A,Analyse!$A5,Data!$D:$D,Param!$A$4) -> 1038 | K5: =SUMIFS(Data!$J:$J,Data!$F:$F,Analyse!$F5,Data!$B:$B,Analyse!$B5,Data!$A:$A,Analyse!$A5,Data!$D:$D,Param!$A$2)+SUMIFS(Data!$J:$J,Data!$F:$F,Analyse!$F5,Data!$B:$B,Analyse!$B5,Data!$A:$A,Analyse!$A5,Data!$D:$D,Param!$A$3)+SUMIFS(Data!$J:$J,Data!$F:$F,Analyse!$F5,Data!$B:$B,Analyse!$B5,Data!$A:$A,Analyse!$A5,Data!$D:$D,Param!$A$4) -> 592 | L5: =SUMIFS(Data!$K:$K,Data!$F:$F,Analyse!$F5,Data!$B:$B,Analyse!$B5,Data!$A:$A,Analyse!$A5,Data!$D:$D,Param!$A$2)+SUMIFS(Data!$K:$K,Data!$F:$F,Analyse!$F5,Data!$B:$B,Analyse!$B5,Data!$A:$A,Analyse!$A5,Data!$D:$D,Param!$A$3)+SUMIFS(Data!$K:$K,Data!$F:$F,Analyse!$F5,Data!$B:$B,Analyse!$B5,Data!$A:$A,Analyse!$A5,Data!$D:$D,Param!$A$4) -> 430 | M5: =SUMIFS(Data!$L:$L,Data!$F:$F,Analyse!$F5,Data!$B:$B,Analyse!$B5,Data!$A:$A,Analyse!$A5,Data!$D:$D,Param!$A$2)+SUMIFS(Data!$L:$L,Data!$F:$F,Analyse!$F5,Data!$B:$B,Analyse!$B5,Data!$A:$A,Analyse!$A5,Data!$D:$D,Param!$A$3)+SUMIFS(Data!$L:$L,Data!$F:$F,Analyse!$F5,Data!$B:$B,Analyse!$B5,Data!$A:$A,Analyse!$A5,Data!$D:$D,Param!$A$4) -> 484 | N5: =SUM(J5:M5) -> 2544 | O5: =N5/H5 -> 0.075906311 | P5: =SUMIFS(Data!$I:$I,Data!$F:$F,Analyse!$F5,Data!$B:$B,Analyse!$B5,Data!$A:$A,Analyse!$A5,Data!$D:$D,Param!$A$5)+SUMIFS(Data!$I:$I,Data!$F:$F,Analyse!$F5,Data!$B:$B,Analyse!$B5,Data!$A:$A,Analyse!$A5,Data!$D:$D,Param!$A$6)+SUMIFS(Data!$I:$I,Data!$F:$F,Analyse!$F5,Data!$B:$B,Analyse!$B5,Data!$A:$A,Analyse!$A5,Data!$D:$D,Param!$A$7) -> 1003 | Q5: =SUMIFS(Data!$J:$J,Data!$F:$F,Analyse!$F5,Data!$B:$B,Analyse!$B5,Data!$A:$A,Analyse!$A5,Data!$D:$D,Param!$A$5)+SUMIFS(Data!$J:$J,Data!$F:$F,Analyse!$F5,Data!$B:$B,Analyse!$B5,Data!$A:$A,Analyse!$A5,Data!$D:$D,Param!$A$6)+SUMIFS(Data!$J:$J,Data!$F:$F,Analyse!$F5,Data!$B:$B,Analyse!$B5,Data!$A:$A,Analyse!$A5,Data!$D:$D,Param!$A$7) -> 484 | R5: =SUMIFS(Data!$K:$K,Data!$F:$F,Analyse!$F5,Data!$B:$B,Analyse!$B5,Data!$A:$A,Analyse!$A5,Data!$D:$D,Param!$A$5)+SUMIFS(Data!$K:$K,Data!$F:$F,Analyse!$F5,Data!$B:$B,Analyse!$B5,Data!$A:$A,Analyse!$A5,Data!$D:$D,Param!$A$6)+SUMIFS(Data!$K:$K,Data!$F:$F,Analyse!$F5,Data!$B:$B,Analyse!$B5,Data!$A:$A,Analyse!$A5,Data!$D:$D,Param!$A$7) -> 529 | S5: =SUMIFS(Data!$L:$L,Data!$F:$F,Analyse!$F5,Data!$B:$B,Analyse!$B5,Data!$A:$A,Analyse!$A5,Data!$D:$D,Param!$A$5)+SUMIFS(Data!$L:$L,Data!$F:$F,Analyse!$F5,Data!$B:$B,Analyse!$B5,Data!$A:$A,Analyse!$A5,Data!$D:$D,Param!$A$6)+SUMIFS(Data!$L:$L,Data!$F:$F,Analyse!$F5,Data!$B:$B,Analyse!$B5,Data!$A:$A,Analyse!$A5,Data!$D:$D,Param!$A$7) -> 397 | T5: =SUM(P5:S5) -> 2413 | U5: =T5/I5 -> 0.061719869 | V5: =IF(AND(O5>Param!$B$2,U5>Param!$B$2),"KO","OK") -> KO
A6: 19 | B6: 2019 | C6: 5 | F6: =LEFT(G6,5) -> 00181 | G6: 00181 - Lille | H6: =SUMIFS(Data!$H:$H,Data!$F:$F,Analyse!$F6,Data!$B:$B,Analyse!$B6,Data!$A:$A,Analyse!$A6,Data!$D:$D,Param!$A$2)+SUMIFS(Data!$H:$H,Data!$F:$F,Analyse!$F6,Data!$B:$B,Analyse!$B6,Data!$A:$A,Analyse!$A6,Data!$D:$D,Param!$A$3)+SUMIFS(Data!$H:$H,Data!$F:$F,Analyse!$F6,Data!$B:$B,Analyse!$B6,Data!$A:$A,Analyse!$A6,Data!$D:$D,Param!$A$4) -> 36152 | I6: =SUMIFS(Data!$H:$H,Data!$F:$F,Analyse!$F6,Data!$B:$B,Analyse!$B6,Data!$A:$A,Analyse!$A6,Data!$D:$D,Param!$A$5)+SUMIFS(Data!$H:$H,Data!$F:$F,Analyse!$F6,Data!$B:$B,Analyse!$B6,Data!$A:$A,Analyse!$A6,Data!$D:$D,Param!$A$6)+SUMIFS(Data!$H:$H,Data!$F:$F,Analyse!$F6,Data!$B:$B,Analyse!$B6,Data!$A:$A,Analyse!$A6,Data!$D:$D,Param!$A$7) -> 38052 | J6: =SUMIFS(Data!$I:$I,Data!$F:$F,Analyse!$F6,Data!$B:$B,Analyse!$B6,Data!$A:$A,Analyse!$A6,Data!$D:$D,Param!$A$2)+SUMIFS(Data!$I:$I,Data!$F:$F,Analyse!$F6,Data!$B:$B,Analyse!$B6,Data!$A:$A,Analyse!$A6,Data!$D:$D,Param!$A$3)+SUMIFS(Data!$I:$I,Data!$F:$F,Analyse!$F6,Data!$B:$B,Analyse!$B6,Data!$A:$A,Analyse!$A6,Data!$D:$D,Param!$A$4) -> 1007 | K6: =SUMIFS(Data!$J:$J,Data!$F:$F,Analyse!$F6,Data!$B:$B,Analyse!$B6,Data!$A:$A,Analyse!$A6,Data!$D:$D,Param!$A$2)+SUMIFS(Data!$J:$J,Data!$F:$F,Analyse!$F6,Data!$B:$B,Analyse!$B6,Data!$A:$A,Analyse!$A6,Data!$D:$D,Param!$A$3)+SUMIFS(Data!$J:$J,Data!$F:$F,Analyse!$F6,Data!$B:$B,Analyse!$B6,Data!$A:$A,Analyse!$A6,Data!$D:$D,Param!$A$4) -> 292 | L6: =SUMIFS(Data!$K:$K,Data!$F:$F,Analyse!$F6,Data!$B:$B,Analyse!$B6,Data!$A:$A,Analyse!$A6,Data!$D:$D,Param!$A$2)+SUMIFS(Data!$K:$K,Data!$F:$F,Analyse!$F6,Data!$B:$B,Analyse!$B6,Data!$A:$A,Analyse!$A6,Data!$D:$D,Param!$A$3)+SUMIFS(Data!$K:$K,Data!$F:$F,Analyse!$F6,Data!$B:$B,Analyse!$B6,Data!$A:$A,Analyse!$A6,Data!$D:$D,Param!$A$4) -> 682 | M6: =SUMIFS(Data!$L:$L,Data!$F:$F,Analyse!$F6,Data!$B:$B,Analyse!$B6,Data!$A:$A,Analyse!$A6,Data!$D:$D,Param!$A$2)+SUMIFS(Data!$L:$L,Data!$F:$F,Analyse!$F6,Data!$B:$B,Analyse!$B6,Data!$A:$A,Analyse!$A6,Data!$D:$D,Param!$A$3)+SUMIFS(Data!$L:$L,Data!$F:$F,Analyse!$F6,Data!$B:$B,Analyse!$B6,Data!$A:$A,Analyse!$A6,Data!$D:$D,Param!$A$4) -> 977 | N6: =SUM(J6:M6) -> 2958 | O6: =N6/H6 -> 0.081821199 | P6: =SUMIFS(Data!$I:$I,Data!$F:$F,Analyse!$F6,Data!$B:$B,Analyse!$B6,Data!$A:$A,Analyse!$A6,Data!$D:$D,Param!$A$5)+SUMIFS(Data!$I:$I,Data!$F:$F,Analyse!$F6,Data!$B:$B,Analyse!$B6,Data!$A:$A,Analyse!$A6,Data!$D:$D,Param!$A$6)+SUMIFS(Data!$I:$I,Data!$F:$F,Analyse!$F6,Data!$B:$B,Analyse!$B6,Data!$A:$A,Analyse!$A6,Data!$D:$D,Param!$A$7) -> 1155 | Q6: =SUMIFS(Data!$J:$J,Data!$F:$F,Analyse!$F6,Data!$B:$B,Analyse!$B6,Data!$A:$A,Analyse!$A6,Data!$D:$D,Param!$A$5)+SUMIFS(Data!$J:$J,Data!$F:$F,Analyse!$F6,Data!$B:$B,Analyse!$B6,Data!$A:$A,Analyse!$A6,Data!$D:$D,Param!$A$6)+SUMIFS(Data!$J:$J,Data!$F:$F,Analyse!$F6,Data!$B:$B,Analyse!$B6,Data!$A:$A,Analyse!$A6,Data!$D:$D,Param!$A$7) -> 496 | R6: =SUMIFS(Data!$K:$K,Data!$F:$F,Analyse!$F6,Data!$B:$B,Analyse!$B6,Data!$A:$A,Analyse!$A6,Data!$D:$D,Param!$A$5)+SUMIFS(Data!$K:$K,Data!$F:$F,Analyse!$F6,Data!$B:$B,Analyse!$B6,Data!$A:$A,Analyse!$A6,Data!$D:$D,Param!$A$6)+SUMIFS(Data!$K:$K,Data!$F:$F,Analyse!$F6,Data!$B:$B,Analyse!$B6,Data!$A:$A,Analyse!$A6,Data!$D:$D,Param!$A$7) -> 561 | S6: =SUMIFS(Data!$L:$L,Data!$F:$F,Analyse!$F6,Data!$B:$B,Analyse!$B6,Data!$A:$A,Analyse!$A6,Data!$D:$D,Param!$A$5)+SUMIFS(Data!$L:$L,Data!$F:$F,Analyse!$F6,Data!$B:$B,Analyse!$B6,Data!$A:$A,Analyse!$A6,Data!$D:$D,Param!$A$6)+SUMIFS(Data!$L:$L,Data!$F:$F,Analyse!$F6,Data!$B:$B,Analyse!$B6,Data!$A:$A,Analyse!$A6,Data!$D:$D,Param!$A$7) -> 950 | T6: =SUM(P6:S6) -> 3162 | U6: =T6/I6 -> 0.083096815 | V6: =IF(AND(O6>Param!$B$2,U6>Param!$B$2),"KO","OK") -> KO
A7: 19 | B7: 2019 | C7: 5 | F7: =LEFT(G7,5) -> 00182 | G7: 00182 - Strasbourg | H7: =SUMIFS(Data!$H:$H,Data!$F:$F,Analyse!$F7,Data!$B:$B,Analyse!$B7,Data!$A:$A,Analyse!$A7,Data!$D:$D,Param!$A$2)+SUMIFS(Data!$H:$H,Data!$F:$F,Analyse!$F7,Data!$B:$B,Analyse!$B7,Data!$A:$A,Analyse!$A7,Data!$D:$D,Param!$A$3)+SUMIFS(Data!$H:$H,Data!$F:$F,Analyse!$F7,Data!$B:$B,Analyse!$B7,Data!$A:$A,Analyse!$A7,Data!$D:$D,Param!$A$4) -> 42263 | I7: =SUMIFS(Data!$H:$H,Data!$F:$F,Analyse!$F7,Data!$B:$B,Analyse!$B7,Data!$A:$A,Analyse!$A7,Data!$D:$D,Param!$A$5)+SUMIFS(Data!$H:$H,Data!$F:$F,Analyse!$F7,Data!$B:$B,Analyse!$B7,Data!$A:$A,Analyse!$A7,Data!$D:$D,Param!$A$6)+SUMIFS(Data!$H:$H,Data!$F:$F,Analyse!$F7,Data!$B:$B,Analyse!$B7,Data!$A:$A,Analyse!$A7,Data!$D:$D,Param!$A$7) -> 35458 | J7: =SUMIFS(Data!$I:$I,Data!$F:$F,Analyse!$F7,Data!$B:$B,Analyse!$B7,Data!$A:$A,Analyse!$A7,Data!$D:$D,Param!$A$2)+SUMIFS(Data!$I:$I,Data!$F:$F,Analyse!$F7,Data!$B:$B,Analyse!$B7,Data!$A:$A,Analyse!$A7,Data!$D:$D,Param!$A$3)+SUMIFS(Data!$I:$I,Data!$F:$F,Analyse!$F7,Data!$B:$B,Analyse!$B7,Data!$A:$A,Analyse!$A7,Data!$D:$D,Param!$A$4) -> 748 | K7: =SUMIFS(Data!$J:$J,Data!$F:$F,Analyse!$F7,Data!$B:$B,Analyse!$B7,Data!$A:$A,Analyse!$A7,Data!$D:$D,Param!$A$2)+SUMIFS(Data!$J:$J,Data!$F:$F,Analyse!$F7,Data!$B:$B,Analyse!$B7,Data!$A:$A,Analyse!$A7,Data!$D:$D,Param!$A$3)+SUMIFS(Data!$J:$J,Data!$F:$F,Analyse!$F7,Data!$B:$B,Analyse!$B7,Data!$A:$A,Analyse!$A7,Data!$D:$D,Param!$A$4) -> 317 | L7: =SUMIFS(Data!$K:$K,Data!$F:$F,Analyse!$F7,Data!$B:$B,Analyse!$B7,Data!$A:$A,Analyse!$A7,Data!$D:$D,Param!$A$2)+SUMIFS(Data!$K:$K,Data!$F:$F,Analyse!$F7,Data!$B:$B,Analyse!$B7,Data!$A:$A,Analyse!$A7,Data!$D:$D,Param!$A$3)+SUMIFS(Data!$K:$K,Data!$F:$F,Analyse!$F7,Data!$B:$B,Analyse!$B7,Data!$A:$A,Analyse!$A7,Data!$D:$D,Param!$A$4) -> 373 | M7: =SUMIFS(Data!$L:$L,Data!$F:$F,Analyse!$F7,Data!$B:$B,Analyse!$B7,Data!$A:$A,Analyse!$A7,Data!$D:$D,Param!$A$2)+SUMIFS(Data!$L:$L,Data!$F:$F,Analyse!$F7,Data!$B:$B,Analyse!$B7,Data!$A:$A,Analyse!$A7,Data!$D:$D,Param!$A$3)+SUMIFS(Data!$L:$L,Data!$F:$F,Analyse!$F7,Data!$B:$B,Analyse!$B7,Data!$A:$A,Analyse!$A7,Data!$D:$D,Param!$A$4) -> 536 | N7: =SUM(J7:M7) -> 1974 | O7: =N7/H7 -> 0.046707522 | P7: =SUMIFS(Data!$I:$I,Data!$F:$F,Analyse!$F7,Data!$B:$B,Analyse!$B7,Data!$A:$A,Analyse!$A7,Data!$D:$D,Param!$A$5)+SUMIFS(Data!$I:$I,Data!$F:$F,Analyse!$F7,Data!$B:$B,Analyse!$B7,Data!$A:$A,Analyse!$A7,Data!$D:$D,Param!$A$6)+SUMIFS(Data!$I:$I,Data!$F:$F,Analyse!$F7,Data!$B:$B,Analyse!$B7,Data!$A:$A,Analyse!$A7,Data!$D:$D,Param!$A$7) -> 628 | Q7: =SUMIFS(Data!$J:$J,Data!$F:$F,Analyse!$F7,Data!$B:$B,Analyse!$B7,Data!$A:$A,Analyse!$A7,Data!$D:$D,Param!$A$5)+SUMIFS(Data!$J:$J,Data!$F:$F,Analyse!$F7,Data!$B:$B,Analyse!$B7,Data!$A:$A,Analyse!$A7,Data!$D:$D,Param!$A$6)+SUMIFS(Data!$J:$J,Data!$F:$F,Analyse!$F7,Data!$B:$B,Analyse!$B7,Data!$A:$A,Analyse!$A7,Data!$D:$D,Param!$A$7) -> 420 | R7: =SUMIFS(Data!$K:$K,Data!$F:$F,Analyse!$F7,Data!$B:$B,Analyse!$B7,Data!$A:$A,Analyse!$A7,Data!$D:$D,Param!$A$5)+SUMIFS(Data!$K:$K,Data!$F:$F,Analyse!$F7,Data!$B:$B,Analyse!$B7,Data!$A:$A,Analyse!$A7,Data!$D:$D,Param!$A$6)+SUMIFS(Data!$K:$K,Data!$F:$F,Analyse!$F7,Data!$B:$B,Analyse!$B7,Data!$A:$A,Analyse!$A7,Data!$D:$D,Param!$A$7) -> 400 | S7: =SUMIFS(Data!$L:$L,Data!$F:$F,Analyse!$F7,Data!$B:$B,Analyse!$B7,Data!$A:$A,Analyse!$A7,Data!$D:$D,Param!$A$5)+SUMIFS(Data!$L:$L,Data!$F:$F,Analyse!$F7,Data!$B:$B,Analyse!$B7,Data!$A:$A,Analyse!$A7,Data!$D:$D,Param!$A$6)+SUMIFS(Data!$L:$L,Data!$F:$F,Analyse!$F7,Data!$B:$B,Analyse!$B7,Data!$A:$A,Analyse!$A7,Data!$D:$D,Param!$A$7) -> 647 | T7: =SUM(P7:S7) -> 2095 | U7: =T7/I7 -> 0.059083987 | V7: =IF(AND(O7>Param!$B$2,U7>Param!$B$2),"KO","OK") -> OK
A8: 19 | B8: 2019 | C8: 5 | F8: =LEFT(G8,5) -> 00183 | G8: 00183 - Bordeaux | H8: =SUMIFS(Data!$H:$H,Data!$F:$F,Analyse!$F8,Data!$B:$B,Analyse!$B8,Data!$A:$A,Analyse!$A8,Data!$D:$D,Param!$A$2)+SUMIFS(Data!$H:$H,Data!$F:$F,Analyse!$F8,Data!$B:$B,Analyse!$B8,Data!$A:$A,Analyse!$A8,Data!$D:$D,Param!$A$3)+SUMIFS(Data!$H:$H,Data!$F:$F,Analyse!$F8,Data!$B:$B,Analyse!$B8,Data!$A:$A,Analyse!$A8,Data!$D:$D,Param!$A$4) -> 44454 | I8: =SUMIFS(Data!$H:$H,Data!$F:$F,Analyse!$F8,Data!$B:$B,Analyse!$B8,Data!$A:$A,Analyse!$A8,Data!$D:$D,Param!$A$5)+SUMIFS(Data!$H:$H,Data!$F:$F,Analyse!$F8,Data!$B:$B,Analyse!$B8,Data!$A:$A,Analyse!$A8,Data!$D:$D,Param!$A$6)+SUMIFS(Data!$H:$H,Data!$F:$F,Analyse!$F8,Data!$B:$B,Analyse!$B8,Data!$A:$A,Analyse!$A8,Data!$D:$D,Param!$A$7) -> 50967 | J8: =SUMIFS(Data!$I:$I,Data!$F:$F,Analyse!$F8,Data!$B:$B,Analyse!$B8,Data!$A:$A,Analyse!$A8,Data!$D:$D,Param!$A$2)+SUMIFS(Data!$I:$I,Data!$F:$F,Analyse!$F8,Data!$B:$B,Analyse!$B8,Data!$A:$A,Analyse!$A8,Data!$D:$D,Param!$A$3)+SUMIFS(Data!$I:$I,Data!$F:$F,Analyse!$F8,Data!$B:$B,Analyse!$B8,Data!$A:$A,Analyse!$A8,Data!$D:$D,Param!$A$4) -> 790 | K8: =SUMIFS(Data!$J:$J,Data!$F:$F,Analyse!$F8,Data!$B:$B,Analyse!$B8,Data!$A:$A,Analyse!$A8,Data!$D:$D,Param!$A$2)+SUMIFS(Data!$J:$J,Data!$F:$F,Analyse!$F8,Data!$B:$B,Analyse!$B8,Data!$A:$A,Analyse!$A8,Data!$D:$D,Param!$A$3)+SUMIFS(Data!$J:$J,Data!$F:$F,Analyse!$F8,Data!$B:$B,Analyse!$B8,Data!$A:$A,Analyse!$A8,Data!$D:$D,Param!$A$4) -> 364 | L8: =SUMIFS(Data!$K:$K,Data!$F:$F,Analyse!$F8,Data!$B:$B,Analyse!$B8,Data!$A:$A,Analyse!$A8,Data!$D:$D,Param!$A$2)+SUMIFS(Data!$K:$K,Data!$F:$F,Analyse!$F8,Data!$B:$B,Analyse!$B8,Data!$A:$A,Analyse!$A8,Data!$D:$D,Param!$A$3)+SUMIFS(Data!$K:$K,Data!$F:$F,Analyse!$F8,Data!$B:$B,Analyse!$B8,Data!$A:$A,Analyse!$A8,Data!$D:$D,Param!$A$4) -> 467 | M8: =SUMIFS(Data!$L:$L,Data!$F:$F,Analyse!$F8,Data!$B:$B,Analyse!$B8,Data!$A:$A,Analyse!$A8,Data!$D:$D,Param!$A$2)+SUMIFS(Data!$L:$L,Data!$F:$F,Analyse!$F8,Data!$B:$B,Analyse!$B8,Data!$A:$A,Analyse!$A8,Data!$D:$D,Param!$A$3)+SUMIFS(Data!$L:$L,Data!$F:$F,Analyse!$F8,Data!$B:$B,Analyse!$B8,Data!$A:$A,Analyse!$A8,Data!$D:$D,Param!$A$4) -> 550 | N8: =SUM(J8:M8) -> 2171 | O8: =N8/H8 -> 0.048837 | P8: =SUMIFS(Data!$I:$I,Data!$F:$F,Analyse!$F8,Data!$B:$B,Analyse!$B8,Data!$A:$A,Analyse!$A8,Data!$D:$D,Param!$A$5)+SUMIFS(Data!$I:$I,Data!$F:$F,Analyse!$F8,Data!$B:$B,Analyse!$B8,Data!$A:$A,Analyse!$A8,Data!$D:$D,Param!$A$6)+SUMIFS(Data!$I:$I,Data!$F:$F,Analyse!$F8,Data!$B:$B,Analyse!$B8,Data!$A:$A,Analyse!$A8,Data!$D:$D,Param!$A$7) -> 609 | Q8: =SUMIFS(Data!$J:$J,Data!$F:$F,Analyse!$F8,Data!$B:$B,Analyse!$B8,Data!$A:$A,Analyse!$A8,Data!$D:$D,Param!$A$5)+SUMIFS(Data!$J:$J,Data!$F:$F,Analyse!$F8,Data!$B:$B,Analyse!$B8,Data!$A:$A,Analyse!$A8,Data!$D:$D,Param!$A$6)+SUMIFS(Data!$J:$J,Data!$F:$F,Analyse!$F8,Data!$B:$B,Analyse!$B8,Data!$A:$A,Analyse!$A8,Data!$D:$D,Param!$A$7) -> 503 | R8: =SUMIFS(Data!$K:$K,Data!$F:$F,Analyse!$F8,Data!$B:$B,Analyse!$B8,Data!$A:$A,Analyse!$A8,Data!$D:$D,Param!$A$5)+SUMIFS(Data!$K:$K,Data!$F:$F,Analyse!$F8,Data!$B:$B,Analyse!$B8,Data!$A:$A,Analyse!$A8,Data!$D:$D,Param!$A$6)+SUMIFS(Data!$K:$K,Data!$F:$F,Analyse!$F8,Data!$B:$B,Analyse!$B8,Data!$A:$A,Analyse!$A8,Data!$D:$D,Param!$A$7) -> 766 | S8: =SUMIFS(Data!$L:$L,Data!$F:$F,Analyse!$F8,Data!$B:$B,Analyse!$B8,Data!$A:$A,Analyse!$A8,Data!$D:$D,Param!$A$5)+SUMIFS(Data!$L:$L,Data!$F:$F,Analyse!$F8,Data!$B:$B,Analyse!$B8,Data!$A:$A,Analyse!$A8,Data!$D:$D,Param!$A$6)+SUMIFS(Data!$L:$L,Data!$F:$F,Analyse!$F8,Data!$B:$B,Analyse!$B8,Data!$A:$A,Analyse!$A8,Data!$D:$D,Param!$A$7) -> 1056 | T8: =SUM(P8:S8) -> 2934 | U8: =T8/I8 -> 0.057566661 | V8: =IF(AND(O8>Param!$B$2,U8>Param!$B$2),"KO","OK") -> OK
A9: 19 | B9: 2019 | C9: 5 | F9: =LEFT(G9,5) -> 00187 | G9: 00187 - Nice | H9: =SUMIFS(Data!$H:$H,Data!$F:$F,Analyse!$F9,Data!$B:$B,Analyse!$B9,Data!$A:$A,Analyse!$A9,Data!$D:$D,Param!$A$2)+SUMIFS(Data!$H:$H,Data!$F:$F,Analyse!$F9,Data!$B:$B,Analyse!$B9,Data!$A:$A,Analyse!$A9,Data!$D:$D,Param!$A$3)+SUMIFS(Data!$H:$H,Data!$F:$F,Analyse!$F9,Data!$B:$B,Analyse!$B9,Data!$A:$A,Analyse!$A9,Data!$D:$D,Param!$A$4) -> 43628 | I9: =SUMIFS(Data!$H:$H,Data!$F:$F,Analyse!$F9,Data!$B:$B,Analyse!$B9,Data!$A:$A,Analyse!$A9,Data!$D:$D,Param!$A$5)+SUMIFS(Data!$H:$H,Data!$F:$F,Analyse!$F9,Data!$B:$B,Analyse!$B9,Data!$A:$A,Analyse!$A9,Data!$D:$D,Param!$A$6)+SUMIFS(Data!$H:$H,Data!$F:$F,Analyse!$F9,Data!$B:$B,Analyse!$B9,Data!$A:$A,Analyse!$A9,Data!$D:$D,Param!$A$7) -> 49393 | J9: =SUMIFS(Data!$I:$I,Data!$F:$F,Analyse!$F9,Data!$B:$B,Analyse!$B9,Data!$A:$A,Analyse!$A9,Data!$D:$D,Param!$A$2)+SUMIFS(Data!$I:$I,Data!$F:$F,Analyse!$F9,Data!$B:$B,Analyse!$B9,Data!$A:$A,Analyse!$A9,Data!$D:$D,Param!$A$3)+SUMIFS(Data!$I:$I,Data!$F:$F,Analyse!$F9,Data!$B:$B,Analyse!$B9,Data!$A:$A,Analyse!$A9,Data!$D:$D,Param!$A$4) -> 884 | K9: =SUMIFS(Data!$J:$J,Data!$F:$F,Analyse!$F9,Data!$B:$B,Analyse!$B9,Data!$A:$A,Analyse!$A9,Data!$D:$D,Param!$A$2)+SUMIFS(Data!$J:$J,Data!$F:$F,Analyse!$F9,Data!$B:$B,Analyse!$B9,Data!$A:$A,Analyse!$A9,Data!$D:$D,Param!$A$3)+SUMIFS(Data!$J:$J,Data!$F:$F,Analyse!$F9,Data!$B:$B,Analyse!$B9,Data!$A:$A,Analyse!$A9,Data!$D:$D,Param!$A$4) -> 302 | L9: =SUMIFS(Data!$K:$K,Data!$F:$F,Analyse!$F9,Data!$B:$B,Analyse!$B9,Data!$A:$A,Analyse!$A9,Data!$D:$D,Param!$A$2)+SUMIFS(Data!$K:$K,Data!$F:$F,Analyse!$F9,Data!$B:$B,Analyse!$B9,Data!$A:$A,Analyse!$A9,Data!$D:$D,Param!$A$3)+SUMIFS(Data!$K:$K,Data!$F:$F,Analyse!$F9,Data!$B:$B,Analyse!$B9,Data!$A:$A,Analyse!$A9,Data!$D:$D,Param!$A$4) -> 720 | M9: =SUMIFS(Data!$L:$L,Data!$F:$F,Analyse!$F9,Data!$B:$B,Analyse!$B9,Data!$A:$A,Analyse!$A9,Data!$D:$D,Param!$A$2)+SUMIFS(Data!$L:$L,Data!$F:$F,Analyse!$F9,Data!$B:$B,Analyse!$B9,Data!$A:$A,Analyse!$A9,Data!$D:$D,Param!$A$3)+SUMIFS(Data!$L:$L,Data!$F:$F,Analyse!$F9,Data!$B:$B,Analyse!$B9,Data!$A:$A,Analyse!$A9,Data!$D:$D,Param!$A$4) -> 869 | N9: =SUM(J9:M9) -> 2775 | O9: =N9/H9 -> 0.063605941 | P9: =SUMIFS(Data!$I:$I,Data!$F:$F,Analyse!$F9,Data!$B:$B,Analyse!$B9,Data!$A:$A,Analyse!$A9,Data!$D:$D,Param!$A$5)+SUMIFS(Data!$I:$I,Data!$F:$F,Analyse!$F9,Data!$B:$B,Analyse!$B9,Data!$A:$A,Analyse!$A9,Data!$D:$D,Param!$A$6)+SUMIFS(Data!$I:$I,Data!$F:$F,Analyse!$F9,Data!$B:$B,Analyse!$B9,Data!$A:$A,Analyse!$A9,Data!$D:$D,Param!$A$7) -> 1093 | Q9: =SUMIFS(Data!$J:$J,Data!$F:$F,Analyse!$F9,Data!$B:$B,Analyse!$B9,Data!$A:$A,Analyse!$A9,Data!$D:$D,Param!$A$5)+SUMIFS(Data!$J:$J,Data!$F:$F,Analyse!$F9,Data!$B:$B,Analyse!$B9,Data!$A:$A,Analyse!$A9,Data!$D:$D,Param!$A$6)+SUMIFS(Data!$J:$J,Data!$F:$F,Analyse!$F9,Data!$B:$B,Analyse!$B9,Data!$A:$A,Analyse!$A9,Data!$D:$D,Param!$A$7) -> 527 | R9: =SUMIFS(Data!$K:$K,Data!$F:$F,Analyse!$F9,Data!$B:$B,Analyse!$B9,Data!$A:$A,Analyse!$A9,Data!$D:$D,Param!$A$5)+SUMIFS(Data!$K:$K,Data!$F:$F,Analyse!$F9,Data!$B:$B,Analyse!$B9,Data!$A:$A,Analyse!$A9,Data!$D:$D,Param!$A$6)+SUMIFS(Data!$K:$K,Data!$F:$F,Analyse!$F9,Data!$B:$B,Analyse!$B9,Data!$A:$A,Analyse!$A9,Data!$D:$D,Param!$A$7) -> 424 | S9: =SUMIFS(Data!$L:$L,Data!$F:$F,Analyse!$F9,Data!$B:$B,Analyse!$B9,Data!$A:$A,Analyse!$A9,Data!$D:$D,Param!$A$5)+SUMIFS(Data!$L:$L,Data!$F:$F,Analyse!$F9,Data!$B:$B,Analyse!$B9,Data!$A:$A,Analyse!$A9,Data!$D:$D,Param!$A$6)+SUMIFS(Data!$L:$L,Data!$F:$F,Analyse!$F9,Data!$B:$B,Analyse!$B9,Data!$A:$A,Analyse!$A9,Data!$D:$D,Param!$A$7) -> 411 | T9: =SUM(P9:S9) -> 2455 | U9: =T9/I9 -> 0.049703399 | V9: =IF(AND(O9>Param!$B$2,U9>Param!$B$2),"KO","OK") -> OK
A10: 20 | B10: 2019 | C10: 5 | F10: =LEFT(G10,5) -> 00156 | G10: 00156 - Paris | H10: =SUMIFS(Data!$H:$H,Data!$F:$F,Analyse!$F10,Data!$B:$B,Analyse!$B10,Data!$A:$A,Analyse!$A10,Data!$D:$D,Param!$A$2)+SUMIFS(Data!$H:$H,Data!$F:$F,Analyse!$F10,Data!$B:$B,Analyse!$B10,Data!$A:$A,Analyse!$A10,Data!$D:$D,Param!$A$3)+SUMIFS(Data!$H:$H,Data!$F:$F,Analyse!$F10,Data!$B:$B,Analyse!$B10,Data!$A:$A,Analyse!$A10,Data!$D:$D,Param!$A$4) -> 46162 | I10: =SUMIFS(Data!$H:$H,Data!$F:$F,Analyse!$F10,Data!$B:$B,Analyse!$B10,Data!$A:$A,Analyse!$A10,Data!$D:$D,Param!$A$5)+SUMIFS(Data!$H:$H,Data!$F:$F,Analyse!$F10,Data!$B:$B,Analyse!$B10,Data!$A:$A,Analyse!$A10,Data!$D:$D,Param!$A$6)+SUMIFS(Data!$H:$H,Data!$F:$F,Analyse!$F10,Data!$B:$B,Analyse!$B10,Data!$A:$A,Analyse!$A10,Data!$D:$D,Param!$A$7) -> 44610 | J10: =SUMIFS(Data!$I:$I,Data!$F:$F,Analyse!$F10,Data!$B:$B,Analyse!$B10,Data!$A:$A,Analyse!$A10,Data!$D:$D,Param!$A$2)+SUMIFS(Data!$I:$I,Data!$F:$F,Analyse!$F10,Data!$B:$B,Analyse!$B10,Data!$A:$A,Analyse!$A10,Data!$D:$D,Param!$A$3)+SUMIFS(Data!$I:$I,Data!$F:$F,Analyse!$F10,Data!$B:$B,Analyse!$B10,Data!$A:$A,Analyse!$A10,Data!$D:$D,Param!$A$4) -> 890 | K10: =SUMIFS(Data!$J:$J,Data!$F:$F,Analyse!$F10,Data!$B:$B,Analyse!$B10,Data!$A:$A,Analyse!$A10,Data!$D:$D,Param!$A$2)+SUMIFS(Data!$J:$J,Data!$F:$F,Analyse!$F10,Data!$B:$B,Analyse!$B10,Data!$A:$A,Analyse!$A10,Data!$D:$D,Param!$A$3)+SUMIFS(Data!$J:$J,Data!$F:$F,Analyse!$F10,Data!$B:$B,Analyse!$B10,Data!$A:$A,Analyse!$A10,Data!$D:$D,Param!$A$4) -> 568 | L10: =SUMIFS(Data!$K:$K,Data!$F:$F,Analyse!$F10,Data!$B:$B,Analyse!$B10,Data!$A:$A,Analyse!$A10,Data!$D:$D,Param!$A$2)+SUMIFS(Data!$K:$K,Data!$F:$F,Analyse!$F10,Data!$B:$B,Analyse!$B10,Data!$A:$A,Analyse!$A10,Data!$D:$D,Param!$A$3)+SUMIFS(Data!$K:$K,Data!$F:$F,Analyse!$F10,Data!$B:$B,Analyse!$B10,Data!$A:$A,Analyse!$A10,Data!$D:$D,Param!$A$4) -> 685 | M10: =SUMIFS(Data!$L:$L,Data!$F:$F,Analyse!$F10,Data!$B:$B,Analyse!$B10,Data!$A:$A,Analyse!$A10,Data!$D:$D,Param!$A$2)+SUMIFS(Data!$L:$L,Data!$F:$F,Analyse!$F10,Data!$B:$B,Analyse!$B10,Data!$A:$A,Analyse!$A10,Data!$D:$D,Param!$A$3)+SUMIFS(Data!$L:$L,Data!$F:$F,Analyse!$F10,Data!$B:$B,Analyse!$B10,Data!$A:$A,Analyse!$A10,Data!$D:$D,Param!$A$4) -> 774 | N10: =SUM(J10:M10) -> 2917 | O10: =N10/H10 -> 0.063190503 | P10: =SUMIFS(Data!$I:$I,Data!$F:$F,Analyse!$F10,Data!$B:$B,Analyse!$B10,Data!$A:$A,Analyse!$A10,Data!$D:$D,Param!$A$5)+SUMIFS(Data!$I:$I,Data!$F:$F,Analyse!$F10,Data!$B:$B,Analyse!$B10,Data!$A:$A,Analyse!$A10,Data!$D:$D,Param!$A$6)+SUMIFS(Data!$I:$I,Data!$F:$F,Analyse!$F10,Data!$B:$B,Analyse!$B10,Data!$A:$A,Analyse!$A10,Data!$D:$D,Param!$A$7) -> 1037 | Q10: =SUMIFS(Data!$J:$J,Data!$F:$F,Analyse!$F10,Data!$B:$B,Analyse!$B10,Data!$A:$A,Analyse!$A10,Data!$D:$D,Param!$A$5)+SUMIFS(Data!$J:$J,Data!$F:$F,Analyse!$F10,Data!$B:$B,Analyse!$B10,Data!$A:$A,Analyse!$A10,Data!$D:$D,Param!$A$6)+SUMIFS(Data!$J:$J,Data!$F:$F,Analyse!$F10,Data!$B:$B,Analyse!$B10,Data!$A:$A,Analyse!$A10,Data!$D:$D,Param!$A$7) -> 466 | R10: =SUMIFS(Data!$K:$K,Data!$F:$F,Analyse!$F10,Data!$B:$B,Analyse!$B10,Data!$A:$A,Analyse!$A10,Data!$D:$D,Param!$A$5)+SUMIFS(Data!$K:$K,Data!$F:$F,Analyse!$F10,Data!$B:$B,Analyse!$B10,Data!$A:$A,Analyse!$A10,Data!$D:$D,Param!$A$6)+SUMIFS(Data!$K:$K,Data!$F:$F,Analyse!$F10,Data!$B:$B,Analyse!$B10,Data!$A:$A,Analyse!$A10,Data!$D:$D,Param!$A$7) -> 373 | S10: =SUMIFS(Data!$L:$L,Data!$F:$F,Analyse!$F10,Data!$B:$B,Analyse!$B10,Data!$A:$A,Analyse!$A10,Data!$D:$D,Param!$A$5)+SUMIFS(Data!$L:$L,Data!$F:$F,Analyse!$F10,Data!$B:$B,Analyse!$B10,Data!$A:$A,Analyse!$A10,Data!$D:$D,Param!$A$6)+SUMIFS(Data!$L:$L,Data!$F:$F,Analyse!$F10,Data!$B:$B,Analyse!$B10,Data!$A:$A,Analyse!$A10,Data!$D:$D,Param!$A$7) -> 618 | T10: =SUM(P10:S10) -> 2494 | U10: =T10/I10 -> 0.055906747 | V10: =IF(AND(O10>Param!$B$2,U10>Param!$B$2),"KO","OK") -> OK
A11: 20 | B11: 2019 | C11: 5 | F11: =LEFT(G11,5) -> 00159 | G11: 00159 - Aix | H11: =SUMIFS(Data!$H:$H,Data!$F:$F,Analyse!$F11,Data!$B:$B,Analyse!$B11,Data!$A:$A,Analyse!$A11,Data!$D:$D,Param!$A$2)+SUMIFS(Data!$H:$H,Data!$F:$F,Analyse!$F11,Data!$B:$B,Analyse!$B11,Data!$A:$A,Analyse!$A11,Data!$D:$D,Param!$A$3)+SUMIFS(Data!$H:$H,Data!$F:$F,Analyse!$F11,Data!$B:$B,Analyse!$B11,Data!$A:$A,Analyse!$A11,Data!$D:$D,Param!$A$4) -> 43113 | I11: =SUMIFS(Data!$H:$H,Data!$F:$F,Analyse!$F11,Data!$B:$B,Analyse!$B11,Data!$A:$A,Analyse!$A11,Data!$D:$D,Param!$A$5)+SUMIFS(Data!$H:$H,Data!$F:$F,Analyse!$F11,Data!$B:$B,Analyse!$B11,Data!$A:$A,Analyse!$A11,Data!$D:$D,Param!$A$6)+SUMIFS(Data!$H:$H,Data!$F:$F,Analyse!$F11,Data!$B:$B,Analyse!$B11,Data!$A:$A,Analyse!$A11,Data!$D:$D,Param!$A$7) -> 39599 | J11: =SUMIFS(Data!$I:$I,Data!$F:$F,Analyse!$F11,Data!$B:$B,Analyse!$B11,Data!$A:$A,Analyse!$A11,Data!$D:$D,Param!$A$2)+SUMIFS(Data!$I:$I,Data!$F:$F,Analyse!$F11,Data!$B:$B,Analyse!$B11,Data!$A:$A,Analyse!$A11,Data!$D:$D,Param!$A$3)+SUMIFS(Data!$I:$I,Data!$F:$F,Analyse!$F11,Data!$B:$B,Analyse!$B11,Data!$A:$A,Analyse!$A11,Data!$D:$D,Param!$A$4) -> 616 | K11: =SUMIFS(Data!$J:$J,Data!$F:$F,Analyse!$F11,Data!$B:$B,Analyse!$B11,Data!$A:$A,Analyse!$A11,Data!$D:$D,Param!$A$2)+SUMIFS(Data!$J:$J,Data!$F:$F,Analyse!$F11,Data!$B:$B,Analyse!$B11,Data!$A:$A,Analyse!$A11,Data!$D:$D,Param!$A$3)+SUMIFS(Data!$J:$J,Data!$F:$F,Analyse!$F11,Data!$B:$B,Analyse!$B11,Data!$A:$A,Analyse!$A11,Data!$D:$D,Param!$A$4) -> 449 | L11: =SUMIFS(Data!$K:$K,Data!$F:$F,Analyse!$F11,Data!$B:$B,Analyse!$B11,Data!$A:$A,Analyse!$A11,Data!$D:$D,Param!$A$2)+SUMIFS(Data!$K:$K,Data!$F:$F,Analyse!$F11,Data!$B:$B,Analyse!$B11,Data!$A:$A,Analyse!$A11,Data!$D:$D,Param!$A$3)+SUMIFS(Data!$K:$K,Data!$F:$F,Analyse!$F11,Data!$B:$B,Analyse!$B11,Data!$A:$A,Analyse!$A11,Data!$D:$D,Param!$A$4) -> 225 | M11: =SUMIFS(Data!$L:$L,Data!$F:$F,Analyse!$F11,Data!$B:$B,Analyse!$B11,Data!$A:$A,Analyse!$A11,Data!$D:$D,Param!$A$2)+SUMIFS(Data!$L:$L,Data!$F:$F,Analyse!$F11,Data!$B:$B,Analyse!$B11,Data!$A:$A,Analyse!$A11,Data!$D:$D,Param!$A$3)+SUMIFS(Data!$L:$L,Data!$F:$F,Analyse!$F11,Data!$B:$B,Analyse!$B11,Data!$A:$A,Analyse!$A11,Data!$D:$D,Param!$A$4) -> 459 | N11: =SUM(J11:M11) -> 1749 | O11: =N11/H11 -> 0.04056781 | P11: =SUMIFS(Data!$I:$I,Data!$F:$F,Analyse!$F11,Data!$B:$B,Analyse!$B11,Data!$A:$A,Analyse!$A11,Data!$D:$D,Param!$A$5)+SUMIFS(Data!$I:$I,Data!$F:$F,Analyse!$F11,Data!$B:$B,Analyse!$B11,Data!$A:$A,Analyse!$A11,Data!$D:$D,Param!$A$6)+SUMIFS(Data!$I:$I,Data!$F:$F,Analyse!$F11,Data!$B:$B,Analyse!$B11,Data!$A:$A,Analyse!$A11,Data!$D:$D,Param!$A$7) -> 738 | Q11: =SUMIFS(Data!$J:$J,Data!$F:$F,Analyse!$F11,Data!$B:$B,Analyse!$B11,Data!$A:$A,Analyse!$A11,Data!$D:$D,Param!$A$5)+SUMIFS(Data!$J:$J,Data!$F:$F,Analyse!$F11,Data!$B:$B,Analyse!$B11,Data!$A:$A,Analyse!$A11,Data!$D:$D,Param!$A$6)+SUMIFS(Data!$J:$J,Data!$F:$F,Analyse!$F11,Data!$B:$B,Analyse!$B11,Data!$A:$A,Analyse!$A11,Data!$D:$D,Param!$A$7) -> 481 | R11: =SUMIFS(Data!$K:$K,Data!$F:$F,Analyse!$F11,Data!$B:$B,Analyse!$B11,Data!$A:$A,Analyse!$A11,Data!$D:$D,Param!$A$5)+SUMIFS(Data!$K:$K,Data!$F:$F,Analyse!$F11,Data!$B:$B,Analyse!$B11,Data!$A:$A,Analyse!$A11,Data!$D:$D,Param!$A$6)+SUMIFS(Data!$K:$K,Data!$F:$F,Analyse!$F11,Data!$B:$B,Analyse!$B11,Data!$A:$A,Analyse!$A11,Data!$D:$D,Param!$A$7) -> 394 | S11: =SUMIFS(Data!$L:$L,Data!$F:$F,Analyse!$F11,Data!$B:$B,Analyse!$B11,Data!$A:$A,Analyse!$A11,Data!$D:$D,Param!$A$5)+SUMIFS(Data!$L:$L,Data!$F:$F,Analyse!$F11,Data!$B:$B,Analyse!$B11,Data!$A:$A,Analyse!$A11,Data!$D:$D,Param!$A$6)+SUMIFS(Data!$L:$L,Data!$F:$F,Analyse!$F11,Data!$B:$B,Analyse!$B11,Data!$A:$A,Analyse!$A11,Data!$D:$D,Param!$A$7) -> 543 | T11: =SUM(P11:S11) -> 2156 | U11: =T11/I11 -> 0.054445819 | V11: =IF(AND(O11>Param!$B$2,U11>Param!$B$2),"KO","OK") -> OK
A12: 20 | B12: 2019 | C12: 5 | F12: =LEFT(G12,5) -> 00160 | G12: 00160 - Lyon | H12: =SUMIFS(Data!$H:$H,Data!$F:$F,Analyse!$F12,Data!$B:$B,Analyse!$B12,Data!$A:$A,Analyse!$A12,Data!$D:$D,Param!$A$2)+SUMIFS(Data!$H:$H,Data!$F:$F,Analyse!$F12,Data!$B:$B,Analyse!$B12,Data!$A:$A,Analyse!$A12,Data!$D:$D,Param!$A$3)+SUMIFS(Data!$H:$H,Data!$F:$F,Analyse!$F12,Data!$B:$B,Analyse!$B12,Data!$A:$A,Analyse!$A12,Data!$D:$D,Param!$A$4) -> 38729 | I12: =SUMIFS(Data!$H:$H,Data!$F:$F,Analyse!$F12,Data!$B:$B,Analyse!$B12,Data!$A:$A,Analyse!$A12,Data!$D:$D,Param!$A$5)+SUMIFS(Data!$H:$H,Data!$F:$F,Analyse!$F12,Data!$B:$B,Analyse!$B12,Data!$A:$A,Analyse!$A12,Data!$D:$D,Param!$A$6)+SUMIFS(Data!$H:$H,Data!$F:$F,Analyse!$F12,Data!$B:$B,Analyse!$B12,Data!$A:$A,Analyse!$A12,Data!$D:$D,Param!$A$7) -> 45949 | J12: =SUMIFS(Data!$I:$I,Data!$F:$F,Analyse!$F12,Data!$B:$B,Analyse!$B12,Data!$A:$A,Analyse!$A12,Data!$D:$D,Param!$A$2)+SUMIFS(Data!$I:$I,Data!$F:$F,Analyse!$F12,Data!$B:$B,Analyse!$B12,Data!$A:$A,Analyse!$A12,Data!$D:$D,Param!$A$3)+SUMIFS(Data!$I:$I,Data!$F:$F,Analyse!$F12,Data!$B:$B,Analyse!$B12,Data!$A:$A,Analyse!$A12,Data!$D:$D,Param!$A$4) -> 1167 | K12: =SUMIFS(Data!$J:$J,Data!$F:$F,Analyse!$F12,Data!$B:$B,Analyse!$B12,Data!$A:$A,Analyse!$A12,Data!$D:$D,Param!$A$2)+SUMIFS(Data!$J:$J,Data!$F:$F,Analyse!$F12,Data!$B:$B,Analyse!$B12,Data!$A:$A,Analyse!$A12,Data!$D:$D,Param!$A$3)+SUMIFS(Data!$J:$J,Data!$F:$F,Analyse!$F12,Data!$B:$B,Analyse!$B12,Data!$A:$A,Analyse!$A12,Data!$D:$D,Param!$A$4) -> 491 | L12: =SUMIFS(Data!$K:$K,Data!$F:$F,Analyse!$F12,Data!$B:$B,Analyse!$B12,Data!$A:$A,Analyse!$A12,Data!$D:$D,Param!$A$2)+SUMIFS(Data!$K:$K,Data!$F:$F,Analyse!$F12,Data!$B:$B,Analyse!$B12,Data!$A:$A,Analyse!$A12,Data!$D:$D,Param!$A$3)+SUMIFS(Data!$K:$K,Data!$F:$F,Analyse!$F12,Data!$B:$B,Analyse!$B12,Data!$A:$A,Analyse!$A12,Data!$D:$D,Param!$A$4) -> 565 | M12: =SUMIFS(Data!$L:$L,Data!$F:$F,Analyse!$F12,Data!$B:$B,Analyse!$B12,Data!$A:$A,Analyse!$A12,Data!$D:$D,Param!$A$2)+SUMIFS(Data!$L:$L,Data!$F:$F,Analyse!$F12,Data!$B:$B,Analyse!$B12,Data!$A:$A,Analyse!$A12,Data!$D:$D,Param!$A$3)+SUMIFS(Data!$L:$L,Data!$F:$F,Analyse!$F12,Data!$B:$B,Analyse!$B12,Data!$A:$A,Analyse!$A12,Data!$D:$D,Param!$A$4) -> 412 | N12: =SUM(J12:M12) -> 2635 | O12: =N12/H12 -> 0.068036872 | P12: =SUMIFS(Data!$I:$I,Data!$F:$F,Analyse!$F12,Data!$B:$B,Analyse!$B12,Data!$A:$A,Analyse!$A12,Data!$D:$D,Param!$A$5)+SUMIFS(Data!$I:$I,Data!$F:$F,Analyse!$F12,Data!$B:$B,Analyse!$B12,Data!$A:$A,Analyse!$A12,Data!$D:$D,Param!$A$6)+SUMIFS(Data!$I:$I,Data!$F:$F,Analyse!$F12,Data!$B:$B,Analyse!$B12,Data!$A:$A,Analyse!$A12,Data!$D:$D,Param!$A$7) -> 759 | Q12: =SUMIFS(Data!$J:$J,Data!$F:$F,Analyse!$F12,Data!$B:$B,Analyse!$B12,Data!$A:$A,Analyse!$A12,Data!$D:$D,Param!$A$5)+SUMIFS(Data!$J:$J,Data!$F:$F,Analyse!$F12,Data!$B:$B,Analyse!$B12,Data!$A:$A,Analyse!$A12,Data!$D:$D,Param!$A$6)+SUMIFS(Data!$J:$J,Data!$F:$F,Analyse!$F12,Data!$B:$B,Analyse!$B12,Data!$A:$A,Analyse!$A12,Data!$D:$D,Param!$A$7) -> 552 | R12: =SUMIFS(Data!$K:$K,Data!$F:$F,Analyse!$F12,Data!$B:$B,Analyse!$B12,Data!$A:$A,Analyse!$A12,Data!$D:$D,Param!$A$5)+SUMIFS(Data!$K:$K,Data!$F:$F,Analyse!$F12,Data!$B:$B,Analyse!$B12,Data!$A:$A,Analyse!$A12,Data!$D:$D,Param!$A$6)+SUMIFS(Data!$K:$K,Data!$F:$F,Analyse!$F12,Data!$B:$B,Analyse!$B12,Data!$A:$A,Analyse!$A12,Data!$D:$D,Param!$A$7) -> 632 | S12: =SUMIFS(Data!$L:$L,Data!$F:$F,Analyse!$F12,Data!$B:$B,Analyse!$B12,Data!$A:$A,Analyse!$A12,Data!$D:$D,Param!$A$5)+SUMIFS(Data!$L:$L,Data!$F:$F,Analyse!$F12,Data!$B:$B,Analyse!$B12,Data!$A:$A,Analyse!$A12,Data!$D:$D,Param!$A$6)+SUMIFS(Data!$L:$L,Data!$F:$F,Analyse!$F12,Data!$B:$B,Analyse!$B12,Data!$A:$A,Analyse!$A12,Data!$D:$D,Param!$A$7) -> 773 | T12: =SUM(P12:S12) -> 2716 | U12: =T12/I12 -> 0.059109012 | V12: =IF(AND(O12>Param!$B$2,U12>Param!$B$2),"KO","OK") -> OK
