Workbook

Sheet BASE
A1: X.00001 | B1: X.00001.01.01.ABC.001 | C1: DEPENSES DIVERS | D1: 5
A2: X.00001 | B2: X.00001.02.01.ABC.001 | C2: DEPENSES DIVERS | D2: 5
A3: X.00001 | B3: X.00001.03.01.ABC.001 | C3: DEPENSES DIVERS | D3: 5
A4: X.00002 | B4: X.00002.01.01.ABC.001 | C4: TAXI | D4: 5
A5: X.00002 | B5: X.00002.02.01.ABC.001 | C5: TAXI | D5: 5
A6: X.00002 | B6: X.00002.03.01.ABC.001 | C6: TAXI | D6: 5

Sheet INFORMATION RECHERCHÉE
A1: VERIF PROJET | B1: CONTROL | C1: LEVEL 1 | D1: CORRECTION
A2: X.00001.01.01.ABC.001 | B2: =IF($A2>0,VLOOKUP($A2,BASE!$B:$B,1,FALSE),"") -> X.00001.01.01.ABC.001 | C2: =LEFT(A2,7) -> X.00001 | D2: =IF($A2>0,VLOOKUP($C2,BASE!A:B,2,FALSE),"") -> X.00001.01.01.ABC.001
A3: X.00001.01.01.ABC.001 | B3: =IF($A3>0,VLOOKUP($A3,BASE!$B:$B,1,FALSE),"") -> X.00001.01.01.ABC.001 | C3: =LEFT(A3,7) -> X.00001 | D3: =IF($A3>0,VLOOKUP($C3,BASE!A:B,2,FALSE),"") -> X.00001.01.01.ABC.001
A4: X.00002.04.01.ABD.001 | B4: =IF($A4>0,VLOOKUP($A4,BASE!$B:$B,1,FALSE),"") -> #N/A | C4: =LEFT(A4,7) -> X.00002 | D4: =IF($A4>0,VLOOKUP($C4,BASE!A:B,2,FALSE),"") -> X.00002.01.01.ABC.001
B5: =IF($A5>0,VLOOKUP($A5,BASE!$B:$B,1,FALSE),"") | C5: =LEFT(A5,7) | D5: =IF($A5>0,VLOOKUP($C5,BASE!A:B,2,FALSE),"")
B6: =IF($A6>0,VLOOKUP($A6,BASE!$B:$B,1,FALSE),"") | C6: =LEFT(A6,7) | D6: =IF($A6>0,VLOOKUP($C6,BASE!A:B,2,FALSE),"")
B7: =IF($A7>0,VLOOKUP($A7,BASE!$B:$B,1,FALSE),"") | C7: =LEFT(A7,7) | D7: =IF($A7>0,VLOOKUP($C7,BASE!A:B,2,FALSE),"")
B8: =IF($A8>0,VLOOKUP($A8,BASE!$B:$B,1,FALSE),"") | C8: =LEFT(A8,7) | D8: =IF($A8>0,VLOOKUP($C8,BASE!A:B,2,FALSE),"")
B9: =IF($A9>0,VLOOKUP($A9,BASE!$B:$B,1,FALSE),"") | C9: =LEFT(A9,7) | D9: =IF($A9>0,VLOOKUP($C9,BASE!A:B,2,FALSE),"")
B10: =IF($A10>0,VLOOKUP($A10,BASE!$B:$B,1,FALSE),"") | C10: =LEFT(A10,7) | D10: =IF($A10>0,VLOOKUP($C10,BASE!A:B,2,FALSE),"")
B11: =IF($A11>0,VLOOKUP($A11,BASE!$B:$B,1,FALSE),"") | C11: =LEFT(A11,7) | D11: =IF($A11>0,VLOOKUP($C11,BASE!A:B,2,FALSE),"")
B12: =IF($A12>0,VLOOKUP($A12,BASE!$B:$B,1,FALSE),"") | C12: =LEFT(A12,7) | D12: =IF($A12>0,VLOOKUP($C12,BASE!A:B,2,FALSE),"")

Sheet RESULTAT VOULU
A1: VERIF PROJET | B1: CONTROL | C1: LEVEL 1 | D1: CORRECTION
A2: X.00001.01.01.ABC.001 | B2: =IF($A2>0,VLOOKUP($A2,BASE!$B:$B,1,FALSE),"") -> X.00001.01.01.ABC.001 | C2: =LEFT(A2,7) -> X.00001 | D2: =IF($A2>0,VLOOKUP($C2,BASE!A:B,2,FALSE),"") -> X.00001.01.01.ABC.001
A3: X.00001.01.01.ABC.001 | B3: =IF($A3>0,VLOOKUP($A3,BASE!$B:$B,1,FALSE),"") -> X.00001.01.01.ABC.001 | C3: =LEFT(A3,7) -> X.00001 | D3: =IF($A3>0,VLOOKUP($C3,BASE!A:B,2,FALSE),"") -> X.00001.01.01.ABC.001
A4: X.00002.04.01.ABD.001 | B4: =IF($A4>0,VLOOKUP($A4,BASE!$B:$B,1,FALSE),"") -> #N/A | C4: =LEFT(A4,7) -> X.00002 | D4: =IF($A4>0,VLOOKUP($C4,BASE!A:B,2,FALSE),"") -> X.00002.01.01.ABC.001 | E4: X.00002.02.01.ABC.001 | F4: X.00002.03.01.ABC.001
B5: =IF($A5>0,VLOOKUP($A5,BASE!$B:$B,1,FALSE),"") | C5: =LEFT(A5,7) | D5: =IF($A5>0,VLOOKUP($C5,BASE!A:B,2,FALSE),"")
B6: =IF($A6>0,VLOOKUP($A6,BASE!$B:$B,1,FALSE),"") | C6: =LEFT(A6,7) | D6: =IF($A6>0,VLOOKUP($C6,BASE!A:B,2,FALSE),"")
B7: =IF($A7>0,VLOOKUP($A7,BASE!$B:$B,1,FALSE),"") | C7: =LEFT(A7,7) | D7: =IF($A7>0,VLOOKUP($C7,BASE!A:B,2,FALSE),"") | F7: Je sais que c'est brouillon, mais je voudrais quelque chose qui me renvoi les 3 résultats possibles. Pourriez-vous m'aider avec cela s'il vous plaît ?
B8: =IF($A8>0,VLOOKUP($A8,BASE!$B:$B,1,FALSE),"") | C8: =LEFT(A8,7) | D8: =IF($A8>0,VLOOKUP($C8,BASE!A:B,2,FALSE),"")
B9: =IF($A9>0,VLOOKUP($A9,BASE!$B:$B,1,FALSE),"") | C9: =LEFT(A9,7) | D9: =IF($A9>0,VLOOKUP($C9,BASE!A:B,2,FALSE),"")
B10: =IF($A10>0,VLOOKUP($A10,BASE!$B:$B,1,FALSE),"") | C10: =LEFT(A10,7) | D10: =IF($A10>0,VLOOKUP($C10,BASE!A:B,2,FALSE),"")
B11: =IF($A11>0,VLOOKUP($A11,BASE!$B:$B,1,FALSE),"") | C11: =LEFT(A11,7) | D11: =IF($A11>0,VLOOKUP($C11,BASE!A:B,2,FALSE),"")
B12: =IF($A12>0,VLOOKUP($A12,BASE!$B:$B,1,FALSE),"") | C12: =LEFT(A12,7) | D12: =IF($A12>0,VLOOKUP($C12,BASE!A:B,2,FALSE),"")
