Workbook

Sheet TABLE MAPPING PGI
A1: Rubrique | B1: Cost elt | C1: FR cost elt | D1: Empl. Rate | E1: Comp. Rate
A2: 100 | B2: 999999 | C2: 999999 | D2: x | E2: x
A3: 101 | B3: 999999 | C3: 999999 | D3: x | E3: x
A4: 102 | B4: 999999 | C4: 999999 | D4: x | E4: x
A5: 103 | B5: 999999 | C5: 999999 | D5: x | E5: x
A6: 104 | B6: 999999 | C6: 999999 | D6: x | E6: x
A7: 105 | B7: 999999 | C7: 999999 | D7: x | E7: x
A8: 106 | B8: 999999 | C8: 999999 | D8: x | E8: x
A9: 107 | B9: 999999 | C9: 999999 | D9: x | E9: x
A10: 108 | B10: 999999 | C10: 999999 | D10: x | E10: x
A11: 109 | B11: 999999 | C11: 999999 | D11: x | E11: x
A12: 110 | B12: 999999 | C12: 999999 | D12: x | E12: x
A13: 111 | B13: 999999 | C13: 999999 | D13: x | E13: x
... A102: 200 | B102: 999999 | C102: 999999 | D102: x | E102: x

Sheet INFO DU MOIS
A1: periode | B1: service | C1: etablissem | D1: rubrique | E1: libelle | F1: imputation | G1: total_bases | H1: total_monsal | I1: total_monpat
A2: x | B2: x | C2: FR | D2: 100 | E2: AAA | F2: x | G2: x | H2: 10 | I2: 0
A3: x | B3: x | C3: FR | D3: 101 | E3: BBB | F3: x | G3: x | H3: 11 | I3: 0
A4: x | B4: x | C4: FR | D4: 102 | E4: CCC | F4: x | G4: x | H4: 12 | I4: 0
A5: x | B5: x | C5: FR | D5: 103 | E5: AAA | F5: x | G5: x | H5: 13 | I5: 0
A6: x | B6: x | C6: FR | D6: 104 | E6: BBB | F6: x | G6: x | H6: 14 | I6: 0
A7: x | B7: x | C7: FR | D7: 105 | E7: CCC | F7: x | G7: x | H7: 15 | I7: 0
A8: x | B8: x | C8: FR | D8: 106 | E8: AAA | F8: x | G8: x | H8: 16 | I8: 0
A9: x | B9: x | C9: FR | D9: 107 | E9: BBB | F9: x | G9: x | H9: 17 | I9: 0
A10: x | B10: x | C10: FR | D10: 108 | E10: CCC | F10: x | G10: x | H10: 18 | I10: 0
A11: x | B11: x | C11: FR | D11: 109 | E11: AAA | F11: x | G11: x | H11: 19 | I11: 0
A12: x | B12: x | C12: FR | D12: 110 | E12: BBB | F12: x | G12: x | H12: 20 | I12: 0
A13: x | B13: x | C13: FR | D13: 111 | E13: CCC | F13: x | G13: x | H13: 21 | I13: 0
... A100: x | B100: x | C100: FR | D100: 231 | E100: CCC | F100: x | G100: x | H100: 108 | I100: 0

Sheet INFO ANA MOIS

Sheet RUBRIQUES INEXISTANTES
F1: JDR | G1: ANA
F2: =IF(VLOOKUP('INFO DU MOIS'!$D2,'TABLE MAPPING PGI'!$A:$A,1,FALSE),"",'INFO DU MOIS'!$D2)
F3: =IF(VLOOKUP('INFO DU MOIS'!$D3,'TABLE MAPPING PGI'!$A:$A,1,FALSE),"",'INFO DU MOIS'!$D3)
F4: =IF(VLOOKUP('INFO DU MOIS'!$D4,'TABLE MAPPING PGI'!$A:$A,1,FALSE),"",'INFO DU MOIS'!$D4)
F5: =IF(VLOOKUP('INFO DU MOIS'!$D5,'TABLE MAPPING PGI'!$A:$A,1,FALSE),"",'INFO DU MOIS'!$D5)
F6: =IF(VLOOKUP('INFO DU MOIS'!$D6,'TABLE MAPPING PGI'!$A:$A,1,FALSE),"",'INFO DU MOIS'!$D6)
F7: =IF(VLOOKUP('INFO DU MOIS'!$D7,'TABLE MAPPING PGI'!$A:$A,1,FALSE),"",'INFO DU MOIS'!$D7)
F8: =IF(VLOOKUP('INFO DU MOIS'!$D8,'TABLE MAPPING PGI'!$A:$A,1,FALSE),"",'INFO DU MOIS'!$D8)
F9: =IF(VLOOKUP('INFO DU MOIS'!$D9,'TABLE MAPPING PGI'!$A:$A,1,FALSE),"",'INFO DU MOIS'!$D9)
F10: =IF(VLOOKUP('INFO DU MOIS'!$D10,'TABLE MAPPING PGI'!$A:$A,1,FALSE),"",'INFO DU MOIS'!$D10)
F11: =IF(VLOOKUP('INFO DU MOIS'!$D11,'TABLE MAPPING PGI'!$A:$A,1,FALSE),"",'INFO DU MOIS'!$D11)
F12: =IF(VLOOKUP('INFO DU MOIS'!$D12,'TABLE MAPPING PGI'!$A:$A,1,FALSE),"",'INFO DU MOIS'!$D12)
F13: =IF(VLOOKUP('INFO DU MOIS'!$D13,'TABLE MAPPING PGI'!$A:$A,1,FALSE),"",'INFO DU MOIS'!$D13)
... F272: =IF(VLOOKUP('INFO DU MOIS'!$D272,'TABLE MAPPING PGI'!$A:$A,1,FALSE),"",'INFO DU MOIS'!$D272) -> #N/A
