Workbook

Sheet SOURCE
A1: X Society
A2: PO Box 9999
A3: Day Book
A4: 1-Jan-2016 to 31-Dec-2017
A5: Date | B5: Particulars | E5: Vch Type | F5: Vch No. | H5: Debit Amount | I5: Credit Amount
G6: Currency | H6: Inwards Qty | I6: Outwards Qty | J6: Amount if QAR/EUR
A7: 42370 | B7: INVESTISSEMENTS | E7: Journal | F7: 1111 | G7: USD | H7: 10000
B8: Autres | E8: Journal | F8: 1111 | G8: USD | I8: 10000
B9: Libellé Opération 1
A10: 42401 | B10: INVESTISSEMENTS | E10: Journal | F10: 2222 | G10: QAR | H10: 8000 | J10: 4000
B11: 8000 | C11: @ | D11: 0.2747
B12: Autres | E12: Journal | F12: 2222 | G12: QAR | I12: 6000 | J12: 3000
B13: 6000 | C13: @ | D13: 0.2747
B14: Autres | E14: Journal | F14: 2222 | G14: QAR | I14: 2000 | J14: -1000
B15: 2000 | C15: @ | D15: 0.2747
B16: Libellé Opération 2
A17: 42491 | B17: INVESTISSEMENTS | E17: Journal | F17: 3333 | G17: USD | H17: 11000
B18: Autres | E18: Journal | F18: 3333 | G18: USD | I18: 11000
B19: Libellé Opération 3

Sheet INTEGRATION PGI
A1: BELNR | B1: BUKRS | C1: LDGRP | D1: BLART | E1: XBLNR | F1: BLDAT | G1: BUDAT | H1: MONAT | I1: WAERS | J1: KURSF | K1: BKTXT | L1: XMWST | M1: NEWBS | N1: NEWKO | O1: WRBTR | P1: DMBTR | Q1: WMWST | R1: MWSTS | S1: MWSKZ | T1: XSKRL | U1: PROJK | V1: KSTRG | W1: KOSTL | X1: AUFNR | Y1: PRCTR | Z1: VBEL2 | AA1: POSN2 | AB1: BEWAR | AC1: VALUT | AD1: ZFBDT | AE1: ZUONR | AF1: SGTXT | AG1: WSKTO | AH1: SKFBT | AI1: ZLSPR | AJ1: LANDL | AK1: LZBKZ | AL1: VBUND
A2: =IF(OR(ISERROR(INDIRECT("SOURCE!A1")&"-"&YEAR(INDIRECT("SOURCE!A" &ROW()+5))&"."&TEXT(MONTH(INDIRECT("SOURCE!A" &ROW()+5)),"00")),INDIRECT("SOURCE!A" & ROW()+5)=""),"",INDIRECT("SOURCE!A1")&"-"&YEAR(INDIRECT("SOURCE!A" &ROW()+5))&"."&TEXT(MONTH(INDIRECT("SOURCE!A" &ROW()+5)),"00")) -> X Society-2016.01 | F2: =SOURCE!A7 -> 42370 | G2: =SOURCE!A7 -> 42370 | I2: =SOURCE!G7 -> USD | N2: =IF(ISNONTEXT(INDIRECT("SOURCE!" & "B" &ROW()+5)),"",INDIRECT("SOURCE!" & "B" &ROW()+5)) -> INVESTISSEMENTS | O2: =IF(INDIRECT("SOURCE!" & "H" &ROW()+5)<>"",INDIRECT("SOURCE!" & "H" &ROW()+5),INDIRECT("SOURCE!" & "I" &ROW()+5)) -> 10000 | AE2: =SOURCE!F7 -> 1111 | AF2: Libellé Opération 1
A3: =IF(OR(ISERROR(INDIRECT("SOURCE!A1")&"-"&YEAR(INDIRECT("SOURCE!A" &ROW()+5))&"."&TEXT(MONTH(INDIRECT("SOURCE!A" &ROW()+5)),"00")),INDIRECT("SOURCE!A" & ROW()+5)=""),"",INDIRECT("SOURCE!A1")&"-"&YEAR(INDIRECT("SOURCE!A" &ROW()+5))&"."&TEXT(MONTH(INDIRECT("SOURCE!A" &ROW()+5)),"00")) | F3: =SOURCE!A8 -> 0 | G3: =SOURCE!A8 -> 0 | I3: =SOURCE!G8 -> USD | N3: =IF(ISNONTEXT(INDIRECT("SOURCE!" & "B" &ROW()+5)),"",INDIRECT("SOURCE!" & "B" &ROW()+5)) -> Autres | O3: =IF(INDIRECT("SOURCE!" & "H" &ROW()+5)<>"",INDIRECT("SOURCE!" & "H" &ROW()+5),INDIRECT("SOURCE!" & "I" &ROW()+5)) -> 10000 | AE3: =SOURCE!F8 -> 1111 | AF3: Libellé Opération 1
A4: =IF(OR(ISERROR(INDIRECT("SOURCE!A1")&"-"&YEAR(INDIRECT("SOURCE!A" &ROW()+5))&"."&TEXT(MONTH(INDIRECT("SOURCE!A" &ROW()+5)),"00")),INDIRECT("SOURCE!A" & ROW()+5)=""),"",INDIRECT("SOURCE!A1")&"-"&YEAR(INDIRECT("SOURCE!A" &ROW()+5))&"."&TEXT(MONTH(INDIRECT("SOURCE!A" &ROW()+5)),"00")) | N4: =IF(ISNONTEXT(INDIRECT("SOURCE!" & "B" &ROW()+5)),"",INDIRECT("SOURCE!" & "B" &ROW()+5)) -> Libellé Opération 1 | O4: =IF(INDIRECT("SOURCE!" & "H" &ROW()+5)<>"",INDIRECT("SOURCE!" & "H" &ROW()+5),INDIRECT("SOURCE!" & "I" &ROW()+5)) -> 0
A5: =IF(OR(ISERROR(INDIRECT("SOURCE!A1")&"-"&YEAR(INDIRECT("SOURCE!A" &ROW()+5))&"."&TEXT(MONTH(INDIRECT("SOURCE!A" &ROW()+5)),"00")),INDIRECT("SOURCE!A" & ROW()+5)=""),"",INDIRECT("SOURCE!A1")&"-"&YEAR(INDIRECT("SOURCE!A" &ROW()+5))&"."&TEXT(MONTH(INDIRECT("SOURCE!A" &ROW()+5)),"00")) -> X Society-2016.02 | I5: =SOURCE!G10 -> QAR | N5: =IF(ISNONTEXT(INDIRECT("SOURCE!" & "B" &ROW()+5)),"",INDIRECT("SOURCE!" & "B" &ROW()+5)) -> INVESTISSEMENTS | O5: =IF(INDIRECT("SOURCE!" & "H" &ROW()+5)<>"",INDIRECT("SOURCE!" & "H" &ROW()+5),INDIRECT("SOURCE!" & "I" &ROW()+5)) -> 8000
A6: =IF(OR(ISERROR(INDIRECT("SOURCE!A1")&"-"&YEAR(INDIRECT("SOURCE!A" &ROW()+5))&"."&TEXT(MONTH(INDIRECT("SOURCE!A" &ROW()+5)),"00")),INDIRECT("SOURCE!A" & ROW()+5)=""),"",INDIRECT("SOURCE!A1")&"-"&YEAR(INDIRECT("SOURCE!A" &ROW()+5))&"."&TEXT(MONTH(INDIRECT("SOURCE!A" &ROW()+5)),"00")) | N6: =IF(ISNONTEXT(INDIRECT("SOURCE!" & "B" &ROW()+5)),"",INDIRECT("SOURCE!" & "B" &ROW()+5)) | O6: =IF(INDIRECT("SOURCE!" & "H" &ROW()+5)<>"",INDIRECT("SOURCE!" & "H" &ROW()+5),INDIRECT("SOURCE!" & "I" &ROW()+5)) -> 0
A7: =IF(OR(ISERROR(INDIRECT("SOURCE!A1")&"-"&YEAR(INDIRECT("SOURCE!A" &ROW()+5))&"."&TEXT(MONTH(INDIRECT("SOURCE!A" &ROW()+5)),"00")),INDIRECT("SOURCE!A" & ROW()+5)=""),"",INDIRECT("SOURCE!A1")&"-"&YEAR(INDIRECT("SOURCE!A" &ROW()+5))&"."&TEXT(MONTH(INDIRECT("SOURCE!A" &ROW()+5)),"00")) | I7: =SOURCE!G12 -> QAR | N7: =IF(ISNONTEXT(INDIRECT("SOURCE!" & "B" &ROW()+5)),"",INDIRECT("SOURCE!" & "B" &ROW()+5)) -> Autres | O7: =IF(INDIRECT("SOURCE!" & "H" &ROW()+5)<>"",INDIRECT("SOURCE!" & "H" &ROW()+5),INDIRECT("SOURCE!" & "I" &ROW()+5)) -> 6000
A8: =IF(OR(ISERROR(INDIRECT("SOURCE!A1")&"-"&YEAR(INDIRECT("SOURCE!A" &ROW()+5))&"."&TEXT(MONTH(INDIRECT("SOURCE!A" &ROW()+5)),"00")),INDIRECT("SOURCE!A" & ROW()+5)=""),"",INDIRECT("SOURCE!A1")&"-"&YEAR(INDIRECT("SOURCE!A" &ROW()+5))&"."&TEXT(MONTH(INDIRECT("SOURCE!A" &ROW()+5)),"00")) | N8: =IF(ISNONTEXT(INDIRECT("SOURCE!" & "B" &ROW()+5)),"",INDIRECT("SOURCE!" & "B" &ROW()+5)) | O8: =IF(INDIRECT("SOURCE!" & "H" &ROW()+5)<>"",INDIRECT("SOURCE!" & "H" &ROW()+5),INDIRECT("SOURCE!" & "I" &ROW()+5)) -> 0
A9: =IF(OR(ISERROR(INDIRECT("SOURCE!A1")&"-"&YEAR(INDIRECT("SOURCE!A" &ROW()+5))&"."&TEXT(MONTH(INDIRECT("SOURCE!A" &ROW()+5)),"00")),INDIRECT("SOURCE!A" & ROW()+5)=""),"",INDIRECT("SOURCE!A1")&"-"&YEAR(INDIRECT("SOURCE!A" &ROW()+5))&"."&TEXT(MONTH(INDIRECT("SOURCE!A" &ROW()+5)),"00")) | I9: =SOURCE!G14 -> QAR | N9: =IF(ISNONTEXT(INDIRECT("SOURCE!" & "B" &ROW()+5)),"",INDIRECT("SOURCE!" & "B" &ROW()+5)) -> Autres | O9: =IF(INDIRECT("SOURCE!" & "H" &ROW()+5)<>"",INDIRECT("SOURCE!" & "H" &ROW()+5),INDIRECT("SOURCE!" & "I" &ROW()+5)) -> 2000
A10: =IF(OR(ISERROR(INDIRECT("SOURCE!A1")&"-"&YEAR(INDIRECT("SOURCE!A" &ROW()+5))&"."&TEXT(MONTH(INDIRECT("SOURCE!A" &ROW()+5)),"00")),INDIRECT("SOURCE!A" & ROW()+5)=""),"",INDIRECT("SOURCE!A1")&"-"&YEAR(INDIRECT("SOURCE!A" &ROW()+5))&"."&TEXT(MONTH(INDIRECT("SOURCE!A" &ROW()+5)),"00")) | N10: =IF(ISNONTEXT(INDIRECT("SOURCE!" & "B" &ROW()+5)),"",INDIRECT("SOURCE!" & "B" &ROW()+5)) | O10: =IF(INDIRECT("SOURCE!" & "H" &ROW()+5)<>"",INDIRECT("SOURCE!" & "H" &ROW()+5),INDIRECT("SOURCE!" & "I" &ROW()+5)) -> 0
A11: =IF(OR(ISERROR(INDIRECT("SOURCE!A1")&"-"&YEAR(INDIRECT("SOURCE!A" &ROW()+5))&"."&TEXT(MONTH(INDIRECT("SOURCE!A" &ROW()+5)),"00")),INDIRECT("SOURCE!A" & ROW()+5)=""),"",INDIRECT("SOURCE!A1")&"-"&YEAR(INDIRECT("SOURCE!A" &ROW()+5))&"."&TEXT(MONTH(INDIRECT("SOURCE!A" &ROW()+5)),"00")) | N11: =IF(ISNONTEXT(INDIRECT("SOURCE!" & "B" &ROW()+5)),"",INDIRECT("SOURCE!" & "B" &ROW()+5)) -> Libellé Opération 2 | O11: =IF(INDIRECT("SOURCE!" & "H" &ROW()+5)<>"",INDIRECT("SOURCE!" & "H" &ROW()+5),INDIRECT("SOURCE!" & "I" &ROW()+5)) -> 0
A12: =IF(OR(ISERROR(INDIRECT("SOURCE!A1")&"-"&YEAR(INDIRECT("SOURCE!A" &ROW()+5))&"."&TEXT(MONTH(INDIRECT("SOURCE!A" &ROW()+5)),"00")),INDIRECT("SOURCE!A" & ROW()+5)=""),"",INDIRECT("SOURCE!A1")&"-"&YEAR(INDIRECT("SOURCE!A" &ROW()+5))&"."&TEXT(MONTH(INDIRECT("SOURCE!A" &ROW()+5)),"00")) -> X Society-2016.05 | I12: =SOURCE!G17 -> USD | N12: =IF(ISNONTEXT(INDIRECT("SOURCE!" & "B" &ROW()+5)),"",INDIRECT("SOURCE!" & "B" &ROW()+5)) -> INVESTISSEMENTS | O12: =IF(INDIRECT("SOURCE!" & "H" &ROW()+5)<>"",INDIRECT("SOURCE!" & "H" &ROW()+5),INDIRECT("SOURCE!" & "I" &ROW()+5)) -> 11000
A13: =IF(OR(ISERROR(INDIRECT("SOURCE!A1")&"-"&YEAR(INDIRECT("SOURCE!A" &ROW()+5))&"."&TEXT(MONTH(INDIRECT("SOURCE!A" &ROW()+5)),"00")),INDIRECT("SOURCE!A" & ROW()+5)=""),"",INDIRECT("SOURCE!A1")&"-"&YEAR(INDIRECT("SOURCE!A" &ROW()+5))&"."&TEXT(MONTH(INDIRECT("SOURCE!A" &ROW()+5)),"00")) | I13: =SOURCE!G18 -> USD | N13: =IF(ISNONTEXT(INDIRECT("SOURCE!" & "B" &ROW()+5)),"",INDIRECT("SOURCE!" & "B" &ROW()+5)) -> Autres | O13: =IF(INDIRECT("SOURCE!" & "H" &ROW()+5)<>"",INDIRECT("SOURCE!" & "H" &ROW()+5),INDIRECT("SOURCE!" & "I" &ROW()+5)) -> 11000
A14: =IF(OR(ISERROR(INDIRECT("SOURCE!A1")&"-"&YEAR(INDIRECT("SOURCE!A" &ROW()+5))&"."&TEXT(MONTH(INDIRECT("SOURCE!A" &ROW()+5)),"00")),INDIRECT("SOURCE!A" & ROW()+5)=""),"",INDIRECT("SOURCE!A1")&"-"&YEAR(INDIRECT("SOURCE!A" &ROW()+5))&"."&TEXT(MONTH(INDIRECT("SOURCE!A" &ROW()+5)),"00")) | N14: =IF(ISNONTEXT(INDIRECT("SOURCE!" & "B" &ROW()+5)),"",INDIRECT("SOURCE!" & "B" &ROW()+5)) -> Libellé Opération 3 | O14: =IF(INDIRECT("SOURCE!" & "H" &ROW()+5)<>"",INDIRECT("SOURCE!" & "H" &ROW()+5),INDIRECT("SOURCE!" & "I" &ROW()+5)) -> 0
