Workbook

Sheet CA
A1: KEY | B1: ID COMMANDE | C1: Pays | D1: Pays corrigé | E1: Détail | F1: TYPE | G1: QUANTITÉ | H1: TTC AVR | I1: REMISE | J1: TTC APR | K1: HT/CA | L1: DEVISES
B2: 1 | C2: GrÃ¨ce | D2: Grèce | E2: PRODUIT 1 | F2: Accessoire | G2: 2 | H2: 13.8 | I2: =VLOOKUP($B2,REMISES!$A:$B,2,FALSE) -> 10.72 | J2: =H2-I2 -> 3.08 | K2: =J2/1.24 -> 2.483871 | L2: €
B3: 1 | C3: GrÃ¨ce | D3: Grèce | E3: PRODUIT 2 | F3: Original | G3: 1 | H3: 13.27 | I3: =VLOOKUP($B3,REMISES!$A:$B,2,FALSE) -> 10.72 | J3: =H3-I3 -> 2.55 | K3: =J3/1.24 -> 2.0564516 | L3: €
B4: 1 | C4: GrÃ¨ce | D4: Grèce | E4: PRODUIT 2 | F4: Original | G4: 1 | H4: 13.27 | I4: =VLOOKUP($B4,REMISES!$A:$B,2,FALSE) -> 10.72 | J4: =H4-I4 -> 2.55 | K4: =J4/1.24 -> 2.0564516 | L4: €
B5: 1 | C5: GrÃ¨ce | D5: Grèce | E5: PRODUIT 2 | F5: Original | G5: 1 | H5: 13.27 | I5: =VLOOKUP($B5,REMISES!$A:$B,2,FALSE) -> 10.72 | J5: =H5-I5 -> 2.55 | K5: =J5/1.24 -> 2.0564516 | L5: €
B6: 2 | C6: Belgique | D6: Belgique | E6: PRODUIT 1 | F6: Accessoire | G6: 2 | H6: 13.8 | I6: =VLOOKUP($B6,REMISES!$A:$B,2,FALSE) -> 10.72 | J6: =H6-I6 -> 3.08 | K6: =J6/1.21 -> 2.5454545 | L6: €
B7: 2 | C7: Belgique | D7: Belgique | E7: PRODUIT 2 | F7: Original | G7: 1 | H7: 0 | I7: =VLOOKUP($B7,REMISES!$A:$B,2,FALSE) -> 10.72 | J7: =H7-I7 -> -10.72 | K7: =J7/1.21 -> -8.8595041 | L7: €
B8: 2 | C8: Belgique | D8: Belgique | E8: PRODUIT 2 | F8: Original | G8: 1 | H8: 19.9 | I8: =VLOOKUP($B8,REMISES!$A:$B,2,FALSE) -> 10.72 | J8: =H8-I8 -> 9.18 | K8: =J8/1.21 -> 7.5867769 | L8: €
B9: 2 | C9: Belgique | D9: Belgique | E9: PRODUIT 2 | F9: Original | G9: 1 | H9: 19.9 | I9: =VLOOKUP($B9,REMISES!$A:$B,2,FALSE) -> 10.72 | J9: =H9-I9 -> 9.18 | K9: =J9/1.21 -> 7.5867769 | L9: €

Sheet REMISES
A1: Order No | B1: Total discounts
A2: 1 | B2: 10.72
A3: 2 | B3: 10.72
