Workbook

Sheet Feuil1
A1: AZZOUZI | B1: Ihman | C1: 1 | D1: 1 | E1: 1 | F1: 1 | G1: 1 | H1: 1
A2: CARO | B2: Sarah | C2: 2 | D2: 2 | E2: 2 | F2: 2 | G2: 2 | H2: 2
A3: CESAR | B3: Tristan | C3: 3 | D3: 3 | E3: 3 | F3: 3 | G3: 3 | H3: 3
A4: DAUCHOT | B4: Alexandrine | C4: 4 | D4: 4 | E4: 4 | F4: 4 | G4: 4 | H4: 4
A5: FERREIRA | B5: Angéline | C5: 5 | D5: 5 | E5: 5 | F5: 5 | G5: 5 | H5: 5
A6: GENOT | B6: Isabelle | C6: 6 | D6: 6 | E6: 6 | F6: 6 | G6: 6 | H6: 6
A7: KLINKENBERG | B7: Grégory | C7: 7 | D7: 7 | E7: 7 | F7: 7 | G7: 7 | H7: 7
A8: LAGASSE | B8: Audrey | C8: 8 | D8: 8 | E8: 8 | F8: 8 | G8: 8 | H8: 8
A9: LAURIA | B9: Madison | C9: 9 | D9: 9 | E9: 9 | F9: 9 | G9: 9 | H9: 9
A10: LEJEUNE | B10: Véronique | C10: 10 | D10: 10 | E10: 10 | F10: 10 | G10: 10 | H10: 10
A11: LEMMA | B11: Laila | C11: 11 | D11: 11 | E11: 11 | F11: 11 | G11: 11 | H11: 11
A12: RENKENS | B12: Marguerite | C12: 12 | D12: 12 | E12: 12 | F12: 12 | G12: 12 | H12: 12
A13: HERMANT | B13: Pascal | C13: 13 | D13: 13 | E13: 13 | F13: 13 | G13: 13 | H13: 13

Sheet Feuil2
A1: =Feuil1!A1 -> AZZOUZI | B1: =Feuil1!B1 -> Ihman | C1: A | D1: A | E1: A | F1: A | G1: A | H1: A
A2: =Feuil1!A2 -> CARO | B2: =Feuil1!B2 -> Sarah | C2: B | D2: B | E2: B | F2: B | G2: B | H2: B
A3: =Feuil1!A3 -> CESAR | B3: =Feuil1!B3 -> Tristan | C3: C | D3: C | E3: C | F3: C | G3: C | H3: C
A4: =Feuil1!A4 -> DAUCHOT | B4: =Feuil1!B4 -> Alexandrine | C4: D | D4: D | E4: D | F4: D | G4: D | H4: D
A5: =Feuil1!A5 -> FERREIRA | B5: =Feuil1!B5 -> Angéline | C5: E | D5: E | E5: E | F5: E | G5: E | H5: E
A6: =Feuil1!A6 -> GENOT | B6: =Feuil1!B6 -> Isabelle | C6: F | D6: F | E6: F | F6: F | G6: F | H6: F
A7: =Feuil1!A7 -> KLINKENBERG | B7: =Feuil1!B7 -> Grégory | C7: G | D7: G | E7: G | F7: G | G7: G | H7: G
A8: =Feuil1!A8 -> LAGASSE | B8: =Feuil1!B8 -> Audrey | C8: H | D8: H | E8: H | F8: H | G8: H | H8: H
A9: =Feuil1!A9 -> LAURIA | B9: =Feuil1!B9 -> Madison | C9: I | D9: I | E9: I | F9: I | G9: I | H9: I
A10: =Feuil1!A10 -> LEJEUNE | B10: =Feuil1!B10 -> Véronique | C10: J | D10: J | E10: J | F10: J | G10: J | H10: J
A11: =Feuil1!A11 -> LEMMA | B11: =Feuil1!B11 -> Laila | C11: K | D11: K | E11: K | F11: K | G11: K | H11: K
A12: =Feuil1!A12 -> RENKENS | B12: =Feuil1!B12 -> Marguerite | C12: L | D12: L | E12: L | F12: L | G12: L | H12: L
A13: =Feuil1!A13 -> HERMANT | B13: =Feuil1!B13 -> Pascal | C13: M | D13: M | E13: M | F13: M | G13: M | H13: M
