Workbook
Name Affectation: Invités!$J$2:$J$9
Name Competences: ' Section & Compétence'!$C$167:$C$186
Name Fonctions: ' Section & Compétence'!$C$145:$C$153
Name Grades: ' Section & Compétence'!$C$126:$C$141
Name Liste_Activite: Invités!$H$2:$H$20
Name Liste_personnel: #REF!
Name Liste_personnel: #REF!
Name Section: 'Récap Dispo Annuel'!$A$3:$A$88
Name section1234: 'Récap Dispo Annuel'!$A$3:$C$88
Name Sections: ' Section & Compétence'!$C$157:$C$163

Sheet Sommaire
A1: Sommaire | H1: Réalisé par T.DURRIS
A2: Liste des remarques & évolution du fichier
A3: Date | B3: Remarque

Sheet Journal des jours feriés
B1: Journal des jours feriés
B3: 2018 | D3: 2018 | E3: 2019 | G3: 2019 | H3: 2021 | J3: 2020 | K3: 2021 | M3: 2021 | N3: 2022 | P3: 2022 | Q3: 2023 | S3: 2023 | T3: 2024 | V3: 2024 | W3: 2025 | Y3: 2025 | Z3: 2026 | AB3: 2026 | AC3: 2027 | AE3: 2027 | AF3: 2028 | AH3: 2028 | AI3: 2029 | AK3: 2029 | AL3: 2030 | AN3: 2030 | AO3: 2031 | AQ3: 2031 | AR3: 2032 | AT3: 2032 | AU3: 2033 | AW3: 2033 | AX3: 2034 | AZ3: 2034 | BA3: 2035 | BC3: 2035
B7: Jour férié | C7: Dates | E7: Jour férié | F7: Dates | H7: Jour férié | I7: Dates | K7: Jour férié | L7: Dates | N7: Jour férié | O7: Dates | Q7: Jour férié | R7: Dates | T7: Jour férié | U7: Dates | W7: Jour férié | X7: Dates | Z7: Jour férié | AA7: Dates | AC7: Jour férié | AD7: Dates | AF7: Jour férié | AG7: Dates | AI7: Jour férié | AJ7: Dates | AL7: Jour férié | AM7: Dates | AO7: Jour férié | AP7: Dates | AR7: Jour férié | AS7: Dates | AU7: Jour férié | AV7: Dates | AX7: Jour férié | AY7: Dates | BA7: Jour férié | BB7: Dates
B8: Jour de l’an | C8: =DATE($B$3,1,1) -> 43101 | E8: Jour de l’an | F8: =DATE($E$3,1,1) -> 43466 | H8: Jour de l’an | I8: =DATE($H$3,1,1) -> 44197 | K8: Jour de l’an | L8: =DATE($K$3,1,1) -> 44197 | N8: Jour de l’an | O8: =DATE($N$3,1,1) -> 44562 | Q8: Jour de l’an | R8: =DATE($Q$3,1,1) -> 44927 | T8: Jour de l’an | U8: =DATE($T$3,1,1) -> 45292 | W8: Jour de l’an | X8: =DATE($W$3,1,1) -> 45658 | Z8: Jour de l’an | AA8: =DATE($Z$3,1,1) -> 46023 | AC8: Jour de l’an | AD8: =DATE($AC$3,1,1) -> 46388 | AF8: Jour de l’an | AG8: =DATE($AF$3,1,1) -> 46753 | AI8: Jour de l’an | AJ8: =DATE($AI$3,1,1) -> 47119 | AL8: Jour de l’an | AM8: =DATE($AL$3,1,1) -> 47484 | AO8: Jour de l’an | AP8: =DATE($AO$3,1,1) -> 47849 | AR8: Jour de l’an | AS8: =DATE($AR$3,1,1) -> 48214 | AU8: Jour de l’an | AV8: =DATE($AU$3,1,1) -> 48580 | AX8: Jour de l’an | AY8: =DATE($AX$3,1,1) -> 48945 | BA8: Jour de l’an | BB8: =DATE($BA$3,1,1) -> 49310
B9: Pâques | C9: =FLOOR(DAY(MINUTE($B$3/38)/2+56)&"/5/"&$B$3,7)-34 -> 43191 | E9: Pâques | F9: =FLOOR(DAY(MINUTE($E$3/38)/2+56)&"/5/"&$E$3,7)-34 -> 43576 | H9: Pâques | I9: =FLOOR(DAY(MINUTE($H$3/38)/2+56)&"/5/"&$H$3,7)-34 -> 44290 | K9: Pâques | L9: =FLOOR(DAY(MINUTE($K$3/38)/2+56)&"/5/"&$K$3,7)-34 -> 44290 | N9: Pâques | O9: =FLOOR(DAY(MINUTE($N$3/38)/2+56)&"/5/"&$N$3,7)-34 -> 44668 | Q9: Pâques | R9: =FLOOR(DAY(MINUTE($Q$3/38)/2+56)&"/5/"&$Q$3,7)-34 -> 45025 | T9: Pâques | U9: =FLOOR(DAY(MINUTE($T$3/38)/2+56)&"/5/"&$T$3,7)-34 -> 45382 | W9: Pâques | X9: =FLOOR(DAY(MINUTE($W$3/38)/2+56)&"/5/"&$W$3,7)-34 -> 45767 | Z9: Pâques | AA9: =FLOOR(DAY(MINUTE($Z$3/38)/2+56)&"/5/"&$Z$3,7)-34 -> 46117 | AC9: Pâques | AD9: =FLOOR(DAY(MINUTE($AC$3/38)/2+56)&"/5/"&$AC$3,7)-34 -> 46474 | AF9: Pâques | AG9: =FLOOR(DAY(MINUTE($AF$3/38)/2+56)&"/5/"&$AF$3,7)-34 -> 46859 | AI9: Pâques | AJ9: =FLOOR(DAY(MINUTE($FQ$3/38)/2+56)&"/5/"&$AI$3,7)-34 -> 47223 | AL9: Pâques | AM9: =FLOOR(DAY(MINUTE($FQ$3/38)/2+56)&"/5/"&$AL$3,7)-34 -> 47594 | AO9: Pâques | AP9: =FLOOR(DAY(MINUTE($FQ$3/38)/2+56)&"/5/"&$AO$3,7)-34 -> 47958 | AR9: Pâques | AS9: =FLOOR(DAY(MINUTE($FQ$3/38)/2+56)&"/5/"&$AR$3,7)-34 -> 48322 | AU9: Pâques | AV9: =FLOOR(DAY(MINUTE($FQ$3/38)/2+56)&"/5/"&$AU$3,7)-34 -> 48686 | AX9: Pâques | AY9: =FLOOR(DAY(MINUTE($FQ$3/38)/2+56)&"/5/"&$AX$3,7)-34 -> 49050 | BA9: Pâques | BB9: =FLOOR(DAY(MINUTE($FQ$3/38)/2+56)&"/5/"&$BA$3,7)-34 -> 49414
B10: Lundi de Pâques | C10: =C9 + 1 -> 43192 | E10: Lundi de Pâques | F10: =F9 + 1 -> 43577 | H10: Lundi de Pâques | I10: =I9 + 1 -> 44291 | K10: Lundi de Pâques | L10: =L9 + 1 -> 44291 | N10: Lundi de Pâques | O10: =O9 + 1 -> 44669 | Q10: Lundi de Pâques | R10: =R9 + 1 -> 45026 | T10: Lundi de Pâques | U10: =U9 + 1 -> 45383 | W10: Lundi de Pâques | X10: =X9 + 1 -> 45768 | Z10: Lundi de Pâques | AA10: =AA9 + 1 -> 46118 | AC10: Lundi de Pâques | AD10: =AD9 + 1 -> 46475 | AF10: Lundi de Pâques | AG10: =AG9 + 1 -> 46860 | AI10: Lundi de Pâques | AJ10: =AJ9 + 1 -> 47224 | AL10: Lundi de Pâques | AM10: =AM9 + 1 -> 47595 | AO10: Lundi de Pâques | AP10: =AP9 + 1 -> 47959 | AR10: Lundi de Pâques | AS10: =AS9 + 1 -> 48323 | AU10: Lundi de Pâques | AV10: =AV9 + 1 -> 48687 | AX10: Lundi de Pâques | AY10: =AY9 + 1 -> 49051 | BA10: Lundi de Pâques | BB10: =BB9 + 1 -> 49415
B11: Fête du travail | C11: =DATE($B$3,5,1) -> 43221 | E11: Fête du travail | F11: =DATE($E$3,5,1) -> 43586 | H11: Fête du travail | I11: =DATE($H$3,5,1) -> 44317 | K11: Fête du travail | L11: =DATE($K$3,5,1) -> 44317 | N11: Fête du travail | O11: =DATE($N$3,5,1) -> 44682 | Q11: Fête du travail | R11: =DATE($Q$3,5,1) -> 45047 | T11: Fête du travail | U11: =DATE($T$3,5,1) -> 45413 | W11: Fête du travail | X11: =DATE($W$3,5,1) -> 45778 | Z11: Fête du travail | AA11: =DATE($Z$3,5,1) -> 46143 | AC11: Fête du travail | AD11: =DATE($AC$3,5,1) -> 46508 | AF11: Fête du travail | AG11: =DATE($AF$3,5,1) -> 46874 | AI11: Fête du travail | AJ11: =DATE($AI$3,5,1) -> 47239 | AL11: Fête du travail | AM11: =DATE($AL$3,5,1) -> 47604 | AO11: Fête du travail | AP11: =DATE($AO$3,5,1) -> 47969 | AR11: Fête du travail | AS11: =DATE($AR$3,5,1) -> 48335 | AU11: Fête du travail | AV11: =DATE($AU$3,5,1) -> 48700 | AX11: Fête du travail | AY11: =DATE($AX$3,5,1) -> 49065 | BA11: Fête du travail | BB11: =DATE($BA$3,5,1) -> 49430
B12: Armistice 39/45 | C12: =DATE($B$3,5,8) -> 43228 | E12: Armistice 39/45 | F12: =DATE($E$3,5,8) -> 43593 | H12: Armistice 39/45 | I12: =DATE($H$3,5,8) -> 44324 | K12: Armistice 39/45 | L12: =DATE($K$3,5,8) -> 44324 | N12: Armistice 39/45 | O12: =DATE($N$3,5,8) -> 44689 | Q12: Armistice 39/45 | R12: =DATE($Q$3,5,8) -> 45054 | T12: Armistice 39/45 | U12: =DATE($T$3,5,8) -> 45420 | W12: Armistice 39/45 | X12: =DATE($W$3,5,8) -> 45785 | Z12: Armistice 39/45 | AA12: =DATE($Z$3,5,8) -> 46150 | AC12: Armistice 39/45 | AD12: =DATE($AC$3,5,8) -> 46515 | AF12: Armistice 39/45 | AG12: =DATE($AF$3,5,8) -> 46881 | AI12: Armistice 39/45 | AJ12: =DATE($AI$3,5,8) -> 47246 | AL12: Armistice 39/45 | AM12: =DATE($AL$3,5,8) -> 47611 | AO12: Armistice 39/45 | AP12: =DATE($AO$3,5,8) -> 47976 | AR12: Armistice 39/45 | AS12: =DATE($AR$3,5,8) -> 48342 | AU12: Armistice 39/45 | AV12: =DATE($AU$3,5,8) -> 48707 | AX12: Armistice 39/45 | AY12: =DATE($AX$3,5,8) -> 49072 | BA12: Armistice 39/45 | BB12: =DATE($BA$3,5,8) -> 49437
B13: Ascension | C13: =C9 + 39 -> 43230 | E13: Ascension | F13: =F9 + 39 -> 43615 | H13: Ascension | I13: =I9 + 39 -> 44329 | K13: Ascension | L13: =L9 + 39 -> 44329 | N13: Ascension | O13: =O9 + 39 -> 44707 | Q13: Ascension | R13: =R9 + 39 -> 45064 | T13: Ascension | U13: =U9 + 39 -> 45421 | W13: Ascension | X13: =X9 + 39 -> 45806 | Z13: Ascension | AA13: =AA9 + 39 -> 46156 | AC13: Ascension | AD13: =AD9 + 39 -> 46513 | AF13: Ascension | AG13: =AG9 + 39 -> 46898 | AI13: Ascension | AJ13: =AJ9 + 39 -> 47262 | AL13: Ascension | AM13: =AM9 + 39 -> 47633 | AO13: Ascension | AP13: =AP9 + 39 -> 47997 | AR13: Ascension | AS13: =AS9 + 39 -> 48361 | AU13: Ascension | AV13: =AV9 + 39 -> 48725 | AX13: Ascension | AY13: =AY9 + 39 -> 49089 | BA13: Ascension | BB13: =BB9 + 39 -> 49453
B14: Pentecôte | C14: =C9 + 49 -> 43240 | E14: Pentecôte | F14: =F9 + 49 -> 43625 | H14: Pentecôte | I14: =I9 + 49 -> 44339 | K14: Pentecôte | L14: =L9 + 49 -> 44339 | N14: Pentecôte | O14: =O9 + 49 -> 44717 | Q14: Pentecôte | R14: =R9 + 49 -> 45074 | T14: Pentecôte | U14: =U9 + 49 -> 45431 | W14: Pentecôte | X14: =X9 + 49 -> 45816 | Z14: Pentecôte | AA14: =AA9 + 49 -> 46166 | AC14: Pentecôte | AD14: =AD9 + 49 -> 46523 | AF14: Pentecôte | AG14: =AG9 + 49 -> 46908 | AI14: Pentecôte | AJ14: =AJ9 + 49 -> 47272 | AL14: Pentecôte | AM14: =AM9 + 49 -> 47643 | AO14: Pentecôte | AP14: =AP9 + 49 -> 48007 | AR14: Pentecôte | AS14: =AS9 + 49 -> 48371 | AU14: Pentecôte | AV14: =AV9 + 49 -> 48735 | AX14: Pentecôte | AY14: =AY9 + 49 -> 49099 | BA14: Pentecôte | BB14: =BB9 + 49 -> 49463
B15: Lundi de Pentecôte | C15: =C9 + 50 -> 43241 | E15: Lundi de Pentecôte | F15: =F9 + 50 -> 43626 | H15: Lundi de Pentecôte | I15: =I9 + 50 -> 44340 | K15: Lundi de Pentecôte | L15: =L9 + 50 -> 44340 | N15: Lundi de Pentecôte | O15: =O9 + 50 -> 44718 | Q15: Lundi de Pentecôte | R15: =R9 + 50 -> 45075 | T15: Lundi de Pentecôte | U15: =U9 + 50 -> 45432 | W15: Lundi de Pentecôte | X15: =X9 + 50 -> 45817 | Z15: Lundi de Pentecôte | AA15: =AA9 + 50 -> 46167 | AC15: Lundi de Pentecôte | AD15: =AD9 + 50 -> 46524 | AF15: Lundi de Pentecôte | AG15: =AG9 + 50 -> 46909 | AI15: Lundi de Pentecôte | AJ15: =AJ9 + 50 -> 47273 | AL15: Lundi de Pentecôte | AM15: =AM9 + 50 -> 47644 | AO15: Lundi de Pentecôte | AP15: =AP9 + 50 -> 48008 | AR15: Lundi de Pentecôte | AS15: =AS9 + 50 -> 48372 | AU15: Lundi de Pentecôte | AV15: =AV9 + 50 -> 48736 | AX15: Lundi de Pentecôte | AY15: =AY9 + 50 -> 49100 | BA15: Lundi de Pentecôte | BB15: =BB9 + 50 -> 49464
B16: Fête Nationale | C16: =DATE($B$3,7,14) -> 43295 | E16: Fête Nationale | F16: =DATE($E$3,7,14) -> 43660 | H16: Fête Nationale | I16: =DATE($H$3,7,14) -> 44391 | K16: Fête Nationale | L16: =DATE($K$3,7,14) -> 44391 | N16: Fête Nationale | O16: =DATE($N$3,7,14) -> 44756 | Q16: Fête Nationale | R16: =DATE($Q$3,7,14) -> 45121 | T16: Fête Nationale | U16: =DATE($T$3,7,14) -> 45487 | W16: Fête Nationale | X16: =DATE($W$3,7,14) -> 45852 | Z16: Fête Nationale | AA16: =DATE($Z$3,7,14) -> 46217 | AC16: Fête Nationale | AD16: =DATE($AC$3,7,14) -> 46582 | AF16: Fête Nationale | AG16: =DATE($AF$3,7,14) -> 46948 | AI16: Fête Nationale | AJ16: =DATE($AI$3,7,14) -> 47313 | AL16: Fête Nationale | AM16: =DATE($AL$3,7,14) -> 47678 | AO16: Fête Nationale | AP16: =DATE($AO$3,7,14) -> 48043 | AR16: Fête Nationale | AS16: =DATE($AR$3,7,14) -> 48409 | AU16: Fête Nationale | AV16: =DATE($AU$3,7,14) -> 48774 | AX16: Fête Nationale | AY16: =DATE($AX$3,7,14) -> 49139 | BA16: Fête Nationale | BB16: =DATE($BA$3,7,14) -> 49504
B17: Assomption | C17: =DATE($B$3,8,15) -> 43327 | E17: Assomption | F17: =DATE($E$3,8,15) -> 43692 | H17: Assomption | I17: =DATE($H$3,8,15) -> 44423 | K17: Assomption | L17: =DATE($K$3,8,15) -> 44423 | N17: Assomption | O17: =DATE($N$3,8,15) -> 44788 | Q17: Assomption | R17: =DATE($Q$3,8,15) -> 45153 | T17: Assomption | U17: =DATE($T$3,8,15) -> 45519 | W17: Assomption | X17: =DATE($W$3,8,15) -> 45884 | Z17: Assomption | AA17: =DATE($Z$3,8,15) -> 46249 | AC17: Assomption | AD17: =DATE($AC$3,8,15) -> 46614 | AF17: Assomption | AG17: =DATE($AF$3,8,15) -> 46980 | AI17: Assomption | AJ17: =DATE($AI$3,8,15) -> 47345 | AL17: Assomption | AM17: =DATE($AL$3,8,15) -> 47710 | AO17: Assomption | AP17: =DATE($AO$3,8,15) -> 48075 | AR17: Assomption | AS17: =DATE($AR$3,8,15) -> 48441 | AU17: Assomption | AV17: =DATE($AU$3,8,15) -> 48806 | AX17: Assomption | AY17: =DATE($AX$3,8,15) -> 49171 | BA17: Assomption | BB17: =DATE($BA$3,8,15) -> 49536
B18: Toussaint | C18: =DATE($B$3,11,1) -> 43405 | E18: Toussaint | F18: =DATE($E$3,11,1) -> 43770 | H18: Toussaint | I18: =DATE($H$3,11,1) -> 44501 | K18: Toussaint | L18: =DATE($K$3,11,1) -> 44501 | N18: Toussaint | O18: =DATE($N$3,11,1) -> 44866 | Q18: Toussaint | R18: =DATE($Q$3,11,1) -> 45231 | T18: Toussaint | U18: =DATE($T$3,11,1) -> 45597 | W18: Toussaint | X18: =DATE($W$3,11,1) -> 45962 | Z18: Toussaint | AA18: =DATE($Z$3,11,1) -> 46327 | AC18: Toussaint | AD18: =DATE($AC$3,11,1) -> 46692 | AF18: Toussaint | AG18: =DATE($AF$3,11,1) -> 47058 | AI18: Toussaint | AJ18: =DATE($AI$3,11,1) -> 47423 | AL18: Toussaint | AM18: =DATE($AL$3,11,1) -> 47788 | AO18: Toussaint | AP18: =DATE($AO$3,11,1) -> 48153 | AR18: Toussaint | AS18: =DATE($AR$3,11,1) -> 48519 | AU18: Toussaint | AV18: =DATE($AU$3,11,1) -> 48884 | AX18: Toussaint | AY18: =DATE($AX$3,11,1) -> 49249 | BA18: Toussaint | BB18: =DATE($BA$3,11,1) -> 49614
B19: Armistice 14/18 | C19: =DATE($B$3,11,11) -> 43415 | E19: Armistice 14/18 | F19: =DATE($E$3,11,11) -> 43780 | H19: Armistice 14/18 | I19: =DATE($H$3,11,11) -> 44511 | K19: Armistice 14/18 | L19: =DATE($K$3,11,11) -> 44511 | N19: Armistice 14/18 | O19: =DATE($N$3,11,11) -> 44876 | Q19: Armistice 14/18 | R19: =DATE($Q$3,11,11) -> 45241 | T19: Armistice 14/18 | U19: =DATE($T$3,11,11) -> 45607 | W19: Armistice 14/18 | X19: =DATE($W$3,11,11) -> 45972 | Z19: Armistice 14/18 | AA19: =DATE($Z$3,11,11) -> 46337 | AC19: Armistice 14/18 | AD19: =DATE($AC$3,11,11) -> 46702 | AF19: Armistice 14/18 | AG19: =DATE($AF$3,11,11) -> 47068 | AI19: Armistice 14/18 | AJ19: =DATE($AI$3,11,11) -> 47433 | AL19: Armistice 14/18 | AM19: =DATE($AL$3,11,11) -> 47798 | AO19: Armistice 14/18 | AP19: =DATE($AO$3,11,11) -> 48163 | AR19: Armistice 14/18 | AS19: =DATE($AR$3,11,11) -> 48529 | AU19: Armistice 14/18 | AV19: =DATE($AU$3,11,11) -> 48894 | AX19: Armistice 14/18 | AY19: =DATE($AX$3,11,11) -> 49259 | BA19: Armistice 14/18 | BB19: =DATE($BA$3,11,11) -> 49624
B20: Noël | C20: =DATE($B$3,12,25) -> 43459 | E20: Noël | F20: =DATE($E$3,12,25) -> 43824 | H20: Noël | I20: =DATE($H$3,12,25) -> 44555 | K20: Noël | L20: =DATE($K$3,12,25) -> 44555 | N20: Noël | O20: =DATE($N$3,12,25) -> 44920 | Q20: Noël | R20: =DATE($Q$3,12,25) -> 45285 | T20: Noël | U20: =DATE($T$3,12,25) -> 45651 | W20: Noël | X20: =DATE($W$3,12,25) -> 46016 | Z20: Noël | AA20: =DATE($Z$3,12,25) -> 46381 | AC20: Noël | AD20: =DATE($AC$3,12,25) -> 46746 | AF20: Noël | AG20: =DATE($AF$3,12,25) -> 47112 | AI20: Noël | AJ20: =DATE($AI$3,12,25) -> 47477 | AL20: Noël | AM20: =DATE($AL$3,12,25) -> 47842 | AO20: Noël | AP20: =DATE($AO$3,12,25) -> 48207 | AR20: Noël | AS20: =DATE($AR$3,12,25) -> 48573 | AU20: Noël | AV20: =DATE($AU$3,12,25) -> 48938 | AX20: Noël | AY20: =DATE($AX$3,12,25) -> 49303 | BA20: Noël | BB20: =DATE($BA$3,12,25) -> 49668

Sheet Invités
H1: Liste_Activite | J1: Affectation
H2: 00 - Apte | J2: S1
H3: 01 - Apte avec restriction | J3: S2
H4: 02 - Sous contrat | J4: S3
H5: 03 - Inapte temporaire raison de santé | J5: S4
H6: 04 - Suspension d'engagement 6 mois | J6: Hors Section
H7: 05 - Suspension d'engagement 12 mois | J7: Non affecté
H8: 06 - Période probatoire / FI incompléte | J8: AMI
H9: 07 - Inapte non recyclé FMPA | J9: VET
H10: 08 - Rayé cause inconnue ou disciplinaire
H11: 09 - Rupture volontaire d'engagement
H12: 10 - Changement d'unité ou d'affectation
H13: 11 - Congés maternité ou parental
H14: 12 - Retraité / Limite d'âge
H15: 13 - Arrêt anticipé d'activité
H16: 14 - Non renouvellement Quinquennale
H17: 15 - Aprenant
H18: 16 - Arrêt maladie

Sheet Plani. J Férié 19
A1: Planning jours fériés 2019
A5: 2019 | D5: Chef de Garde | F5: Conducteur | H5: Chef d'agrès | J5: Equipier | L5: Equipier | N5: Equipier | P5: Astreinte | R5: Réserve
A6: Jour férié | B6: Dates | C6: Jour-Nuit
D7: LOCATELLI Michèle | F7: ZEMBALIA JP | H7: BORIES Roger | J7: MARTIN Mathieu | L7: DEMOFSQUI Pierre | N7: CHAPERON Steve | P7: GOUYON Kilian
A8: Pâques | B8: =FLOOR(DAY(MINUTE($A$5/38)/2+56)&"/5/"&$A$5,7)-34 -> 43576 | C8: =FLOOR(DAY(MINUTE($A$5/38)/2+56)&"/5/"&$A$5,7)-34 -> 43576
A9: Lundi de Pâques | B9: =B8 + 1 -> 43577 | C9: Jour 7:00h - 19:00h | D9: Garde | F9: Garde | H9: Garde | J9: Garde | L9: Garde | N9: Garde | P9: Astr.Domi.
D10: LOCATELLI Michèle | F10: NIEUWENSTEED Hervé | H10: BORIES Roger | J10: GARCIA Gérald | L10: LEGAIGNEUR Pierre | N10: SENAY Naïs | P10: TRECA Jinan
A11: Fête du travail | B11: =DATE($A$5,5,1) -> 43586 | C11: Jour 7:00h - 19:00h | D11: Garde | F11: Garde | H11: Garde | J11: Garde | L11: Garde | N11: Garde | P11: Astr.Case.
D12: LOCATELLI Michèle | F12: ZEMBALIA JP | H12: GALLARDO Christophe | J12: ARMAND Marlène | L12: CAYRIER Alexis | N12: SENAY Naïs | P12: LEGAIGNEUR Pierre | R12: BORIES Roger
A13: Armistice 39/45 | B13: =DATE($A$5,5,8) -> 43593 | C13: Jour 7:00h - 19:00h | D13: Garde | F13: Garde | H13: Garde | J13: Garde | L13: Garde | N13: Garde | P13: Astr.Domi. | R13: Astr.Domi.
D14: LOCATELLI Michèle | F14: MARTIN Mathieu | H14: AUTHIER Guillaume | J14: VIGREUX Bruno | L14: ZEMBALIA JP | N14: GIRARD Joel
A15: Ascension | B15: =B8 + 39 -> 43615 | C15: Jour 7:00h - 19:00h | D15: Garde | F15: Garde | H15: Garde | J15: Garde | L15: Garde | N15: Garde
D16: LOCATELLI Michèle | F16: CHALEAT Quentin | H16: BORIES Roger | J16: JUHEL Géraldine | L16: DEMOFSQUI Pierre
A17: Pentecôte | B17: =B8 + 49 -> 43625 | C17: =C8 + 49 -> 43625
A18: Lundi de Pentecôte | B18: =B8 + 50 -> 43626 | C18: Jour 7:00h - 19:00h | D18: Garde | F18: Garde | H18: Garde | J18: Garde | L18: Garde
D19: BODARD Thierry | F19: CHALIAS JC | H19: MARTINEZ Thierry | J19: LOCATELLI Michèle | L19: CAYRIER Johan | N19: BORIES Roger | P19: CHALEAT Quentin | R19: JUHEL Géraldine
A20: Fête Nationale | B20: =DATE($A$5,7,14) -> 43660 | C20: Jour 7:00h - 19:00h | D20: Garde | F20: Garde | H20: Garde | J20: Garde | L20: Garde | N20: Garde | P20: Astr.Domi. | R20: Astr.Domi.
D21: MORTAS Loic | F21: ZEMBALIA Jean-Paul | H21: LOCATELLI Michèle | J21: BORIES Roger
A22: Assomption | B22: =DATE($A$5,8,15) -> 43692 | C22: Jour 7:00h - 19:00h | D22: Garde | F22: Garde | H22: Garde | J22: Garde
D23: BODARD Thierry | F23: BORIES Roger | H23: MARI Vincent | J23: ESTELLER Tanguy | L23: AZEVEDO Linda | N23: CHALEAT Quentin | P23: JUHEL Géraldine
A24: Toussaint | B24: =DATE($A$5,11,1) -> 43770 | C24: Jour 7:00h - 19:00h | D24: Garde | F24: Garde | H24: Garde | J24: Garde | L24: Garde | N24: Garde | P24: Astr.Domi.
D25: ANGLADE FEZ J | F25: SARCY Romuald | H25: DURRIS Thierry | J25: FALZONE Christophe | L25: PALPACUER Yoann | N25: JOURDAIN Guillaume | P25: CHALIAS JC
A26: Armistice 14/18 | B26: =DATE($A$5,11,11) -> 43780 | C26: Jour 7:00h - 19:00h | D26: Garde | F26: Garde | H26: Garde | J26: Garde | L26: Garde | N26: Garde | P26: Astr.Domi.
J27: ARMAND Marlène | L27: GOUYON Kilian | N27: ESTELLER Tanguy | P27: SIN Grégory
A28: Reveillon de Noël | B28: =B30 -1 -> 43823 | C28: Nuit 19:00h - 7:00h | J28: Astr.Case. | L28: Astr.Case. | N28: Astr.Case. | P28: Astr.Case.
D29: LOCATELLI Michèle
A30: Noël | B30: =DATE($A$5,12,25) -> 43824 | C30: Jour 7:00h - 19:00h | D30: Garde
F31: ZEMBALIA JP | H31: NIEUWENSTEED Sebastien
A32: Reveillon jour de l'an | B32: =B34 -1 -> 43830 | C32: Nuit 19:00h - 7:00h | F32: Astr.Case. | H32: Astr.Case.
D33: PERRET Emmanuel | F33: ZEMBALIA JP | H33: LOCATELLI Michèle | J33: BENINI Raphael
A34: Jour de l’an | B34: =DATE($A$5+1,1,1) -> 43831 | C34: Jour 7:00h - 19:00h | D34: Garde | F34: Garde | H34: Garde | J34: Garde

Sheet Plani. J Férié 20
A1: Planning jours fériés 2020
A5: 2020 | D5: Chef de Garde | F5: Conducteur | H5: Chef d'agrès | J5: Equipier | L5: Equipier | N5: Equipier | P5: Astreinte | R5: Réserve
A6: Jour férié | B6: Dates | C6: Jour-Nuit
A7: Lundi de Pâques | B7: =B10 + 1 -> 43934 | C7: Jour 7:00h - 19:00h | D7: LOCATELLI Michèle | F7: BORIES Roger | H7: GARCIA Gérald
A10: Pâques | B10: =FLOOR(DAY(MINUTE($A$5/38)/2+56)&"/5/"&$A$5,7)-34 -> 43933 | C10: =FLOOR(DAY(MINUTE($A$5/38)/2+56)&"/5/"&$A$5,7)-34 -> 43933
A12: Fête du travail | B12: =DATE($A$5,5,1) -> 43952 | C12: Jour 7:00h - 19:00h | D12: BENINI Raphael | F12: ZEMBALIA Jean-Paul | H12: AUTHIER Guillaume | J12: BORIES Roger | L12: VIGREUX Bruno
A16: Armistice 39/45 | B16: =DATE($A$5,5,8) -> 43959 | C16: Jour 7:00h - 19:00h | D16: LOCATELLI Michèle | F16: ZEMBALIA Jean-Paul | H16: BORIES Roger | J16: ZEMBALIA Théo | L16: SENAY Naïs
D17: BENINI Raphael
A20: Ascension | B20: =B7 + 38 -> 43972 | C20: Jour 7:00h - 19:00h | D20: LOCATELLI Michèle | F20: ZEMBALIA Jean-Paul | H20: BORIES Roger | J20: JUHEL Géraldine | L20: ZEMBALIA Théo
D21: MORTAS Loic | F21: CHALEAT Quentin
A24: Lundi de Pentecôte | B24: =B10 + 50 -> 43983 | C24: Jour 7:00h - 19:00h | D24: LOCATELLI Michèle | F24: NIEUWENSTEED Hervé | H24: NIEUWENSTEED Sebastien
D25: BENINI Raphael | H25: BORIES Roger
A27: Pentecôte | B27: =B10 + 49 -> 43982 | C27: =C10 + 49 -> 43982
A29: Fête Nationale | B29: =DATE($A$5,7,14) -> 44026 | C29: Jour 7:00h - 19:00h | D29: LOCATELLI Michèle | F29: CHALEAT Quentin | H29: BORIES Roger | J29: JUHEL Géraldine
F30: ZEMBALIA Jean-Paul | H30: GALLARDO Christophe | J30: ZEMBALIA Théo
A33: Assomption | B33: =DATE($A$5,8,15) -> 44058 | C33: Jour 7:00h - 19:00h | D33: LOCATELLI Michèle | F33: ZEMBALIA Jean-Paul | H33: CHALIAS Quentin | J33: ZEMBALIA Théo
D34: MARTINEZ Thierry | F34: MARI Vincent | H34: BORIES Roger | J34: SIN Grégory
A37: Toussaint | B37: =DATE($A$5,11,1) -> 44136 | C37: Jour 7:00h - 19:00h | D37: SARCY Romuald | F37: CHALIAS Jean-Claude | H37: DURRIS Thierry | J37: MARI Vincent
D38: LOCATELLI Michèle | F38: AUTHIER Guillaume | H38: BORIES Roger
D39: BODARD Thierry
A41: Armistice 14/18 | B41: =DATE($A$5,11,11) -> 44146 | C41: Jour 7:00h - 19:00h | D41: LOCATELLI Michèle | F41: AUTHIER Guillaume | H41: GALLARDO Christophe | J41: FALZONE Christophe | L41: DURRIS Thierry
D42: SARCY Romuald | H42: BORIES Roger | J42: DEMOFSQUI Pierre
D43: MARTINEZ Thierry
A45: Reveillon de Noël | B45: =B49 -1 -> 44189 | C45: Nuit 19:00h - 7:00h | F45: NIEUWENSTEED Hervé | J45: ARMAND Marlène | L45: SIN Grégory
A49: Noël | B49: =DATE($A$5,12,25) -> 44190 | C49: Jour 7:00h - 19:00h | D49: LOCATELLI Michèle | H49: BORIES Roger
A53: Reveillon jour de l'an | B53: =B57 -1 -> 44196 | C53: Nuit 19:00h - 7:00h | F53: ZEMBALIA Jean-Paul | H53: BORIES Roger | J53: ZEMBALIA Théo
A57: Jour de l’an | B57: =DATE($A$5+1,1,1) -> 44197 | C57: Jour 7:00h - 19:00h | D57: BENINI Raphael | F57: ZEMBALIA Jean-Paul | H57: BORIES Roger | J57: ZEMBALIA Théo

Sheet Récap Dispo Annuel
C1: Les Compétences
A2: Nom Prénom | C2: Grade | D2: Section | E2: Fonction | F2: Permis | G2: Conduite Engin/Pompe | H2: Conduite Tout Terrain | I2: Formateur Conduite | J2: Conduite Bateau | K2: Feux de Forêts Equipier | L2: Feux de Forêts Chef d'Agrés | N2: Janvier | P2: Février | R2: Mars | T2: Avril | V2: Mai | X2: Juin | Z2: Juillet | AB2: Aôut | AD2: Septembre | AF2: Octobre | AH2: Novembre | AJ2: Décembre | AM2: 2019 | AP2: Janvier | AR2: Février | AT2: Mars | AV2: Avril | AX2: Mai | AZ2: Juin | BB2: Juillet | BD2: Aôut | BF2: Septembre | BH2: Octobre | BJ2: Novembre | BL2: Décembre | BO2: 2020
A3: A
A4: ANGLADE-FEZ Jérome | B4: ANGLADE J (1) | C4: Adc | D4: S1 | E4: Ch.S | F4: PL | G4: COD1 | H4: COD2 | J4: COD4 | K4: FDF1 | L4: FDF2 | N4: =IF($A4="","",COUNTIFS(#REF!,B4,#REF!,"Nuit")+COUNTIFS(#REF!,B4,#REF!,"Nuit")+COUNTIFS(#REF!,B4,#REF!,"Nuit")+COUNTIFS(#REF!,B4,#REF!,"Nuit")+COUNTIFS(#REF!,B4,#REF!,"Nuit")+COUNTIFS(#REF!,B4,#REF!,"Nuit")+COUNTIFS(#REF!,B4,#REF!,"Nuit")+COUNTIFS(#REF!,B4,#REF!,"Nuit")+COUNTIFS(#REF!,B4,#REF!,"Nuit")+COUNTIFS(#REF!,B4,#REF!,"Nuit")+COUNTIFS(#REF!,B4,#REF!,"Nuit")) -> #REF! | O4: =IF($A4="","",COUNTIFS(#REF!,B4,#REF!,"Jour")+COUNTIFS(#REF!,B4,#REF!,"Jour")+COUNTIFS(#REF!,B4,#REF!,"Jour")+COUNTIFS(#REF!,B4,#REF!,"Jour")+COUNTIFS(#REF!,B4,#REF!,"Jour")+COUNTIFS(#REF!,B4,#REF!,"Jour")+COUNTIFS(#REF!,B4,#REF!,"Jour")+COUNTIFS(#REF!,B4,#REF!,"Jour")+COUNTIFS(#REF!,B4,#REF!,"Jour")+COUNTIFS(#REF!,B4,#REF!,"Jour")+COUNTIFS(#REF!,B4,#REF!,"Jour")) -> #REF! | P4: =IF($A4="","",COUNTIFS(#REF!,B4,#REF!,"Nuit")+COUNTIFS(#REF!,B4,#REF!,"Nuit")+COUNTIFS(#REF!,B4,#REF!,"Nuit")+COUNTIFS(#REF!,B4,#REF!,"Nuit")+COUNTIFS(#REF!,B4,#REF!,"Nuit")+COUNTIFS(#REF!,B4,#REF!,"Nuit")+COUNTIFS(#REF!,B4,#REF!,"Nuit")+COUNTIFS(#REF!,B4,#REF!,"Nuit")+COUNTIFS(#REF!,B4,#REF!,"Nuit")+COUNTIFS(#REF!,B4,#REF!,"Nuit")+COUNTIFS(#REF!,B4,#REF!,"Nuit")) -> #REF! | Q4: =IF($A4="","",COUNTIFS(#REF!,B4,#REF!,"Jour")+COUNTIFS(#REF!,B4,#REF!,"Jour")+COUNTIFS(#REF!,B4,#REF!,"Jour")+COUNTIFS(#REF!,B4,#REF!,"Jour")+COUNTIFS(#REF!,B4,#REF!,"Jour")+COUNTIFS(#REF!,B4,#REF!,"Jour")+COUNTIFS(#REF!,B4,#REF!,"Jour")+COUNTIFS(#REF!,B4,#REF!,"Jour")+COUNTIFS(#REF!,B4,#REF!,"Jour")+COUNTIFS(#REF!,B4,#REF!,"Jour")+COUNTIFS(#REF!,B4,#REF!,"Jour")) -> #REF! | R4: =IF($A4="","",COUNTIFS(#REF!,B4,#REF!,"Nuit")+COUNTIFS(#REF!,B4,#REF!,"Nuit")+COUNTIFS(#REF!,B4,#REF!,"Nuit")+COUNTIFS(#REF!,B4,#REF!,"Nuit")+COUNTIFS(#REF!,B4,#REF!,"Nuit")+COUNTIFS(#REF!,B4,#REF!,"Nuit")+COUNTIFS(#REF!,B4,#REF!,"Nuit")+COUNTIFS(#REF!,B4,#REF!,"Nuit")+COUNTIFS(#REF!,B4,#REF!,"Nuit")+COUNTIFS(#REF!,B4,#REF!,"Nuit")+COUNTIFS(#REF!,B4,#REF!,"Nuit")) -> #REF! | S4: =IF($A4="","",COUNTIFS(#REF!,B4,#REF!,"Jour")+COUNTIFS(#REF!,B4,#REF!,"Jour")+COUNTIFS(#REF!,B4,#REF!,"Jour")+COUNTIFS(#REF!,B4,#REF!,"Jour")+COUNTIFS(#REF!,B4,#REF!,"Jour")+COUNTIFS(#REF!,B4,#REF!,"Jour")+COUNTIFS(#REF!,B4,#REF!,"Jour")+COUNTIFS(#REF!,B4,#REF!,"Jour")+COUNTIFS(#REF!,B4,#REF!,"Jour")+COUNTIFS(#REF!,B4,#REF!,"Jour")+COUNTIFS(#REF!,B4,#REF!,"Jour")) -> #REF! | T4: =IF($A4="","",COUNTIFS(#REF!,B4,#REF!,"Nuit")+COUNTIFS(#REF!,B4,#REF!,"Nuit")+COUNTIFS(#REF!,B4,#REF!,"Nuit")+COUNTIFS(#REF!,B4,#REF!,"Nuit")+COUNTIFS(#REF!,B4,#REF!,"Nuit")+COUNTIFS(#REF!,B4,#REF!,"Nuit")+COUNTIFS(#REF!,B4,#REF!,"Nuit")+COUNTIFS(#REF!,B4,#REF!,"Nuit")+COUNTIFS(#REF!,B4,#REF!,"Nuit")+COUNTIFS(#REF!,B4,#REF!,"Nuit")+COUNTIFS(#REF!,B4,#REF!,"Nuit")) -> #REF! | U4: =IF($A4="","",COUNTIFS(#REF!,B4,#REF!,"Jour")+COUNTIFS(#REF!,B4,#REF!,"Jour")+COUNTIFS(#REF!,B4,#REF!,"Jour")+COUNTIFS(#REF!,B4,#REF!,"Jour")+COUNTIFS(#REF!,B4,#REF!,"Jour")+COUNTIFS(#REF!,B4,#REF!,"Jour")+COUNTIFS(#REF!,B4,#REF!,"Jour")+COUNTIFS(#REF!,B4,#REF!,"Jour")+COUNTIFS(#REF!,B4,#REF!,"Jour")+COUNTIFS(#REF!,B4,#REF!,"Jour")+COUNTIFS(#REF!,B4,#REF!,"Jour")) -> #REF! | V4: =IF($A4="","",COUNTIFS(#REF!,B4,#REF!,"Nuit")+COUNTIFS(#REF!,B4,#REF!,"Nuit")+COUNTIFS(#REF!,B4,#REF!,"Nuit")+COUNTIFS(#REF!,B4,#REF!,"Nuit")+COUNTIFS(#REF!,B4,#REF!,"Nuit")+COUNTIFS(#REF!,B4,#REF!,"Nuit")+COUNTIFS(#REF!,B4,#REF!,"Nuit")+COUNTIFS(#REF!,B4,#REF!,"Nuit")+COUNTIFS(#REF!,B4,#REF!,"Nuit")+COUNTIFS(#REF!,B4,#REF!,"Nuit")+COUNTIFS(#REF!,B4,#REF!,"Nuit")) -> #REF! | W4: =IF($A4="","",COUNTIFS(#REF!,B4,#REF!,"Jour")+COUNTIFS(#REF!,B4,#REF!,"Jour")+COUNTIFS(#REF!,B4,#REF!,"Jour")+COUNTIFS(#REF!,B4,#REF!,"Jour")+COUNTIFS(#REF!,B4,#REF!,"Jour")+COUNTIFS(#REF!,B4,#REF!,"Jour")+COUNTIFS(#REF!,B4,#REF!,"Jour")+COUNTIFS(#REF!,B4,#REF!,"Jour")+COUNTIFS(#REF!,B4,#REF!,"Jour")+COUNTIFS(#REF!,B4,#REF!,"Jour")+COUNTIFS(#REF!,B4,#REF!,"Jour")) -> #REF! | X4: =IF($A4="","",COUNTIFS(#REF!,B4,#REF!,"Nuit")+COUNTIFS(#REF!,B4,#REF!,"Nuit")+COUNTIFS(#REF!,B4,#REF!,"Nuit")+COUNTIFS(#REF!,B4,#REF!,"Nuit")+COUNTIFS(#REF!,B4,#REF!,"Nuit")+COUNTIFS(#REF!,B4,#REF!,"Nuit")+COUNTIFS(#REF!,B4,#REF!,"Nuit")+COUNTIFS(#REF!,B4,#REF!,"Nuit")+COUNTIFS(#REF!,B4,#REF!,"Nuit")+COUNTIFS(#REF!,B4,#REF!,"Nuit")+COUNTIFS(#REF!,B4,#REF!,"Nuit")) -> #REF! | Y4: =IF($A4="","",COUNTIFS(#REF!,B4,#REF!,"Jour")+COUNTIFS(#REF!,B4,#REF!,"Jour")+COUNTIFS(#REF!,B4,#REF!,"Jour")+COUNTIFS(#REF!,B4,#REF!,"Jour")+COUNTIFS(#REF!,B4,#REF!,"Jour")+COUNTIFS(#REF!,B4,#REF!,"Jour")+COUNTIFS(#REF!,B4,#REF!,"Jour")+COUNTIFS(#REF!,B4,#REF!,"Jour")+COUNTIFS(#REF!,B4,#REF!,"Jour")+COUNTIFS(#REF!,B4,#REF!,"Jour")+COUNTIFS(#REF!,B4,#REF!,"Jour")) -> #REF! | Z4: =IF($A4="","",COUNTIFS(#REF!,$B4,#REF!,"Nuit")+COUNTIFS(#REF!,$B4,#REF!,"Nuit")+COUNTIFS(#REF!,$B4,#REF!,"Nuit")+COUNTIFS(#REF!,$B4,#REF!,"Nuit")+COUNTIFS(#REF!,$B4,#REF!,"Nuit")+COUNTIFS(#REF!,$B4,#REF!,"Nuit")+COUNTIFS(#REF!,$B4,#REF!,"Nuit")+COUNTIFS(#REF!,$B4,#REF!,"Nuit")+COUNTIFS(#REF!,$B4,#REF!,"Nuit")+COUNTIFS(#REF!,$B4,#REF!,"Nuit")+COUNTIFS(#REF!,$B4,#REF!,"Nuit")) -> #REF! | AA4: =IF($A4="","",COUNTIFS(#REF!,$B4,#REF!,"Jour")+COUNTIFS(#REF!,$B4,#REF!,"Jour")+COUNTIFS(#REF!,$B4,#REF!,"Jour")+COUNTIFS(#REF!,$B4,#REF!,"Jour")+COUNTIFS(#REF!,$B4,#REF!,"Jour")+COUNTIFS(#REF!,$B4,#REF!,"Jour")+COUNTIFS(#REF!,$B4,#REF!,"Jour")+COUNTIFS(#REF!,$B4,#REF!,"Jour")+COUNTIFS(#REF!,$B4,#REF!,"Jour")+COUNTIFS(#REF!,$B4,#REF!,"Jour")+COUNTIFS(#REF!,$B4,#REF!,"Jour")) -> #REF! | AB4: =IF($A4="","",COUNTIFS(#REF!,$B4,#REF!,"Nuit")+COUNTIFS(#REF!,$B4,#REF!,"Nuit")+COUNTIFS(#REF!,$B4,#REF!,"Nuit")+COUNTIFS(#REF!,$B4,#REF!,"Nuit")+COUNTIFS(#REF!,$B4,#REF!,"Nuit")+COUNTIFS(#REF!,$B4,#REF!,"Nuit")+COUNTIFS(#REF!,$B4,#REF!,"Nuit")+COUNTIFS(#REF!,$B4,#REF!,"Nuit")+COUNTIFS(#REF!,$B4,#REF!,"Nuit")+COUNTIFS(#REF!,$B4,#REF!,"Nuit")+COUNTIFS(#REF!,$B4,#REF!,"Nuit")) -> #REF! | AC4: =IF($A4="","",COUNTIFS(#REF!,$B4,#REF!,"Jour")+COUNTIFS(#REF!,$B4,#REF!,"Jour")+COUNTIFS(#REF!,$B4,#REF!,"Jour")+COUNTIFS(#REF!,$B4,#REF!,"Jour")+COUNTIFS(#REF!,$B4,#REF!,"Jour")+COUNTIFS(#REF!,$B4,#REF!,"Jour")+COUNTIFS(#REF!,$B4,#REF!,"Jour")+COUNTIFS(#REF!,$B4,#REF!,"Jour")+COUNTIFS(#REF!,$B4,#REF!,"Jour")+COUNTIFS(#REF!,$B4,#REF!,"Jour")+COUNTIFS(#REF!,$B4,#REF!,"Jour")) -> #REF! | AD4: =IF($A4="","",COUNTIFS(#REF!,$B4,#REF!,"Nuit")+COUNTIFS(#REF!,$B4,#REF!,"Nuit")+COUNTIFS(#REF!,$B4,#REF!,"Nuit")+COUNTIFS(#REF!,$B4,#REF!,"Nuit")+COUNTIFS(#REF!,$B4,#REF!,"Nuit")+COUNTIFS(#REF!,$B4,#REF!,"Nuit")+COUNTIFS(#REF!,$B4,#REF!,"Nuit")+COUNTIFS(#REF!,$B4,#REF!,"Nuit")+COUNTIFS(#REF!,$B4,#REF!,"Nuit")+COUNTIFS(#REF!,$B4,#REF!,"Nuit")+COUNTIFS(#REF!,$B4,#REF!,"Nuit")) -> #REF! | AE4: =IF($A4="","",COUNTIFS(#REF!,$B4,#REF!,"Jour")+COUNTIFS(#REF!,$B4,#REF!,"Jour")+COUNTIFS(#REF!,$B4,#REF!,"Jour")+COUNTIFS(#REF!,$B4,#REF!,"Jour")+COUNTIFS(#REF!,$B4,#REF!,"Jour")+COUNTIFS(#REF!,$B4,#REF!,"Jour")+COUNTIFS(#REF!,$B4,#REF!,"Jour")+COUNTIFS(#REF!,$B4,#REF!,"Jour")+COUNTIFS(#REF!,$B4,#REF!,"Jour")+COUNTIFS(#REF!,$B4,#REF!,"Jour")+COUNTIFS(#REF!,$B4,#REF!,"Jour")) -> #REF! | AF4: =IF($A4="","",COUNTIFS(#REF!,$B4,#REF!,"Nuit")+COUNTIFS(#REF!,$B4,#REF!,"Nuit")+COUNTIFS(#REF!,$B4,#REF!,"Nuit")+COUNTIFS(#REF!,$B4,#REF!,"Nuit")+COUNTIFS(#REF!,$B4,#REF!,"Nuit")+COUNTIFS(#REF!,$B4,#REF!,"Nuit")+COUNTIFS(#REF!,$B4,#REF!,"Nuit")+COUNTIFS(#REF!,$B4,#REF!,"Nuit")+COUNTIFS(#REF!,$B4,#REF!,"Nuit")+COUNTIFS(#REF!,$B4,#REF!,"Nuit")+COUNTIFS(#REF!,$B4,#REF!,"Nuit")) -> #REF! | AG4: =IF($A4="","",COUNTIFS(#REF!,$B4,#REF!,"Jour")+COUNTIFS(#REF!,$B4,#REF!,"Jour")+COUNTIFS(#REF!,$B4,#REF!,"Jour")+COUNTIFS(#REF!,$B4,#REF!,"Jour")+COUNTIFS(#REF!,$B4,#REF!,"Jour")+COUNTIFS(#REF!,$B4,#REF!,"Jour")+COUNTIFS(#REF!,$B4,#REF!,"Jour")+COUNTIFS(#REF!,$B4,#REF!,"Jour")+COUNTIFS(#REF!,$B4,#REF!,"Jour")+COUNTIFS(#REF!,$B4,#REF!,"Jour")+COUNTIFS(#REF!,$B4,#REF!,"Jour")) -> #REF! | AH4: =IF($A4="","",COUNTIFS(#REF!,$B4,#REF!,"Nuit")+COUNTIFS(#REF!,$B4,#REF!,"Nuit")+COUNTIFS(#REF!,$B4,#REF!,"Nuit")+COUNTIFS(#REF!,$B4,#REF!,"Nuit")+COUNTIFS(#REF!,$B4,#REF!,"Nuit")+COUNTIFS(#REF!,$B4,#REF!,"Nuit")+COUNTIFS(#REF!,$B4,#REF!,"Nuit")+COUNTIFS(#REF!,$B4,#REF!,"Nuit")+COUNTIFS(#REF!,$B4,#REF!,"Nuit")+COUNTIFS(#REF!,$B4,#REF!,"Nuit")+COUNTIFS(#REF!,$B4,#REF!,"Nuit")) -> #REF! | AI4: =IF($A4="","",COUNTIFS(#REF!,$B4,#REF!,"Jour")+COUNTIFS(#REF!,$B4,#REF!,"Jour")+COUNTIFS(#REF!,$B4,#REF!,"Jour")+COUNTIFS(#REF!,$B4,#REF!,"Jour")+COUNTIFS(#REF!,$B4,#REF!,"Jour")+COUNTIFS(#REF!,$B4,#REF!,"Jour")+COUNTIFS(#REF!,$B4,#REF!,"Jour")+COUNTIFS(#REF!,$B4,#REF!,"Jour")+COUNTIFS(#REF!,$B4,#REF!,"Jour")+COUNTIFS(#REF!,$B4,#REF!,"Jour")+COUNTIFS(#REF!,$B4,#REF!,"Jour")) -> #REF! | AJ4: =IF($A4="","",COUNTIFS(#REF!,$B4,#REF!,"Nuit")+COUNTIFS(#REF!,$B4,#REF!,"Nuit")+COUNTIFS(#REF!,$B4,#REF!,"Nuit")+COUNTIFS(#REF!,$B4,#REF!,"Nuit")+COUNTIFS(#REF!,$B4,#REF!,"Nuit")+COUNTIFS(#REF!,$B4,#REF!,"Nuit")+COUNTIFS(#REF!,$B4,#REF!,"Nuit")+COUNTIFS(#REF!,$B4,#REF!,"Nuit")+COUNTIFS(#REF!,$B4,#REF!,"Nuit")+COUNTIFS(#REF!,$B4,#REF!,"Nuit")+COUNTIFS(#REF!,$B4,#REF!,"Nuit")) -> #REF! | AK4: =IF($A4="","",COUNTIFS(#REF!,$B4,#REF!,"Jour")+COUNTIFS(#REF!,$B4,#REF!,"Jour")+COUNTIFS(#REF!,$B4,#REF!,"Jour")+COUNTIFS(#REF!,$B4,#REF!,"Jour")+COUNTIFS(#REF!,$B4,#REF!,"Jour")+COUNTIFS(#REF!,$B4,#REF!,"Jour")+COUNTIFS(#REF!,$B4,#REF!,"Jour")+COUNTIFS(#REF!,$B4,#REF!,"Jour")+COUNTIFS(#REF!,$B4,#REF!,"Jour")+COUNTIFS(#REF!,$B4,#REF!,"Jour")+COUNTIFS(#REF!,$B4,#REF!,"Jour")) -> #REF! | AM4: =N4+P4+R4+T4+V4+X4+Z4+AB4+AD4+AF4+AH4+AJ4 -> #REF! | AN4: =O4+Q4+S4+U4+W4+Y4+AA4+AC4+AE4+AG4+AI4+AK4 -> #REF! | AO4: =(AM4*0.6*6)+(AN4*0.6*12) -> #REF! | AP4: =IF($A4="","",COUNTIFS(JAN.20!$F$7:$F$48,$B4,JAN.20!$E$7:$E$48,"Nuit")+COUNTIFS(JAN.20!$H$7:$H$48,$B4,JAN.20!$E$7:$E$48,"Nuit")+COUNTIFS(JAN.20!$J$7:$J$48,$B4,JAN.20!$E$7:$E$48,"Nuit")+COUNTIFS(JAN.20!$L$7:$L$48,$B4,JAN.20!$E$7:$E$48,"Nuit")+COUNTIFS(JAN.20!$N$7:$N$48,$B4,JAN.20!$E$7:$E$48,"Nuit")+COUNTIFS(JAN.20!$P$7:$P$48,$B4,JAN.20!$E$7:$E$48,"Nuit")+COUNTIFS(JAN.20!$R$7:$R$48,$B4,JAN.20!$E$7:$E$48,"Nuit")+COUNTIFS(JAN.20!$T$7:$T$48,$B4,JAN.20!$E$7:$E$48,"Nuit")+COUNTIFS(JAN.20!$V$7:$V$48,$B4,JAN.20!$E$7:$E$48,"Nuit")+COUNTIFS(JAN.20!$W$7:$W$48,$B4,JAN.20!$E$7:$E$48,"Nuit")+COUNTIFS(JAN.20!$X$7:$X$48,$B4,JAN.20!$E$7:$E$48,"Nuit")) -> 5 | AQ4: =IF($A4="","",COUNTIFS(JAN.20!$F$7:$F$48,$B4,JAN.20!$E$7:$E$48,"Jour")+COUNTIFS(JAN.20!$H$7:$H$48,$B4,JAN.20!$E$7:$E$48,"Jour")+COUNTIFS(JAN.20!$J$7:$J$48,$B4,JAN.20!$E$7:$E$48,"Jour")+COUNTIFS(JAN.20!$L$7:$L$48,$B4,JAN.20!$E$7:$E$48,"Jour")+COUNTIFS(JAN.20!$N$7:$N$48,$B4,JAN.20!$E$7:$E$48,"Jour")+COUNTIFS(JAN.20!$P$7:$P$48,$B4,JAN.20!$E$7:$E$48,"Jour")+COUNTIFS(JAN.20!$R$7:$R$48,$B4,JAN.20!$E$7:$E$48,"Jour")+COUNTIFS(JAN.20!$T$7:$T$48,$B4,JAN.20!$E$7:$E$48,"Jour")+COUNTIFS(JAN.20!$V$7:$V$48,$B4,JAN.20!$E$7:$E$48,"Jour")+COUNTIFS(JAN.20!$W$7:$W$48,$B4,JAN.20!$E$7:$E$48,"Jour")+COUNTIFS(JAN.20!$X$7:$X$48,$B4,JAN.20!$E$7:$E$48,"Jour")) -> 0 | AR4: =IF($A4="","",COUNTIFS(FEV.20!$F$7:$F$48,$B4,FEV.20!$E$7:$E$48,"Nuit")+COUNTIFS(FEV.20!$H$7:$H$48,$B4,FEV.20!$E$7:$E$48,"Nuit")+COUNTIFS(FEV.20!$J$7:$J$48,$B4,FEV.20!$E$7:$E$48,"Nuit")+COUNTIFS(FEV.20!$L$7:$L$48,$B4,FEV.20!$E$7:$E$48,"Nuit")+COUNTIFS(FEV.20!$N$7:$N$48,$B4,FEV.20!$E$7:$E$48,"Nuit")+COUNTIFS(FEV.20!$P$7:$P$48,$B4,FEV.20!$E$7:$E$48,"Nuit")+COUNTIFS(FEV.20!$R$7:$R$48,$B4,FEV.20!$E$7:$E$48,"Nuit")+COUNTIFS(FEV.20!$T$7:$T$48,$B4,FEV.20!$E$7:$E$48,"Nuit")+COUNTIFS(FEV.20!$V$7:$V$48,$B4,FEV.20!$E$7:$E$48,"Nuit")+COUNTIFS(FEV.20!$W$7:$W$48,$B4,FEV.20!$E$7:$E$48,"Nuit")+COUNTIFS(FEV.20!$X$7:$X$48,$B4,FEV.20!$E$7:$E$48,"Nuit")) -> 5 | AS4: =IF($A4="","",COUNTIFS(FEV.20!$F$7:$F$48,$B4,FEV.20!$E$7:$E$48,"Jour")+COUNTIFS(FEV.20!$H$7:$H$48,$B4,FEV.20!$E$7:$E$48,"Jour")+COUNTIFS(FEV.20!$J$7:$J$48,$B4,FEV.20!$E$7:$E$48,"Jour")+COUNTIFS(FEV.20!$L$7:$L$48,$B4,FEV.20!$E$7:$E$48,"Jour")+COUNTIFS(FEV.20!$N$7:$N$48,$B4,FEV.20!$E$7:$E$48,"Jour")+COUNTIFS(FEV.20!$P$7:$P$48,$B4,FEV.20!$E$7:$E$48,"Jour")+COUNTIFS(FEV.20!$R$7:$R$48,$B4,FEV.20!$E$7:$E$48,"Jour")+COUNTIFS(FEV.20!$T$7:$T$48,$B4,FEV.20!$E$7:$E$48,"Jour")+COUNTIFS(FEV.20!$V$7:$V$48,$B4,FEV.20!$E$7:$E$48,"Jour")+COUNTIFS(FEV.20!$W$7:$W$48,$B4,FEV.20!$E$7:$E$48,"Jour")+COUNTIFS(FEV.20!$X$7:$X$48,$B4,FEV.20!$E$7:$E$48,"Jour")) -> 1 | AT4: =IF($A4="","",COUNTIFS(Mars.20!$F$7:$F$48,$B4,Mars.20!$E$7:$E$48,"Nuit")+COUNTIFS(Mars.20!$H$7:$H$48,$B4,Mars.20!$E$7:$E$48,"Nuit")+COUNTIFS(Mars.20!$J$7:$J$48,$B4,Mars.20!$E$7:$E$48,"Nuit")+COUNTIFS(Mars.20!$L$7:$L$48,$B4,Mars.20!$E$7:$E$48,"Nuit")+COUNTIFS(Mars.20!$N$7:$N$48,$B4,Mars.20!$E$7:$E$48,"Nuit")+COUNTIFS(Mars.20!$P$7:$P$48,$B4,Mars.20!$E$7:$E$48,"Nuit")+COUNTIFS(Mars.20!$R$7:$R$48,$B4,Mars.20!$E$7:$E$48,"Nuit")+COUNTIFS(Mars.20!$T$7:$T$48,$B4,Mars.20!$E$7:$E$48,"Nuit")+COUNTIFS(Mars.20!$V$7:$V$48,$B4,Mars.20!$E$7:$E$48,"Nuit")+COUNTIFS(Mars.20!$W$7:$W$48,$B4,Mars.20!$E$7:$E$48,"Nuit")+COUNTIFS(Mars.20!$X$7:$X$48,$B4,Mars.20!$E$7:$E$48,"Nuit")) -> 3 | AU4: =IF($A4="","",COUNTIFS(Mars.20!$F$7:$F$48,$B4,Mars.20!$E$7:$E$48,"Jour")+COUNTIFS(Mars.20!$H$7:$H$48,$B4,Mars.20!$E$7:$E$48,"Jour")+COUNTIFS(Mars.20!$J$7:$J$48,$B4,Mars.20!$E$7:$E$48,"Jour")+COUNTIFS(Mars.20!$L$7:$L$48,$B4,Mars.20!$E$7:$E$48,"Jour")+COUNTIFS(Mars.20!$N$7:$N$48,$B4,Mars.20!$E$7:$E$48,"Jour")+COUNTIFS(Mars.20!$P$7:$P$48,$B4,Mars.20!$E$7:$E$48,"Jour")+COUNTIFS(Mars.20!$R$7:$R$48,$B4,Mars.20!$E$7:$E$48,"Jour")+COUNTIFS(Mars.20!$T$7:$T$48,$B4,Mars.20!$E$7:$E$48,"Jour")+COUNTIFS(Mars.20!$V$7:$V$48,$B4,Mars.20!$E$7:$E$48,"Jour")+COUNTIFS(Mars.20!$W$7:$W$48,$B4,Mars.20!$E$7:$E$48,"Jour")+COUNTIFS(Mars.20!$X$7:$X$48,$B4,Mars.20!$E$7:$E$48,"Jour")) -> 0 | AV4: =IF($A4="","",COUNTIFS(AVR.20!$F$7:$F$48,$B4,AVR.20!$E$7:$E$48,"Nuit")+COUNTIFS(AVR.20!$H$7:$H$48,$B4,AVR.20!$E$7:$E$48,"Nuit")+COUNTIFS(AVR.20!$J$7:$J$48,$B4,AVR.20!$E$7:$E$48,"Nuit")+COUNTIFS(AVR.20!$L$7:$L$48,$B4,AVR.20!$E$7:$E$48,"Nuit")+COUNTIFS(AVR.20!$N$7:$N$48,$B4,AVR.20!$E$7:$E$48,"Nuit")+COUNTIFS(AVR.20!$P$7:$P$48,$B4,AVR.20!$E$7:$E$48,"Nuit")+COUNTIFS(AVR.20!$R$7:$R$48,$B4,AVR.20!$E$7:$E$48,"Nuit")+COUNTIFS(AVR.20!$T$7:$T$48,$B4,AVR.20!$E$7:$E$48,"Nuit")+COUNTIFS(AVR.20!$V$7:$V$48,$B4,AVR.20!$E$7:$E$48,"Nuit")+COUNTIFS(AVR.20!$W$7:$W$48,$B4,AVR.20!$E$7:$E$48,"Nuit")+COUNTIFS(AVR.20!$X$7:$X$48,$B4,AVR.20!$E$7:$E$48,"Nuit")) -> 0 | AW4: =IF($A4="","",COUNTIFS(AVR.20!$F$7:$F$48,$B4,AVR.20!$E$7:$E$48,"Jour")+COUNTIFS(AVR.20!$H$7:$H$48,$B4,AVR.20!$E$7:$E$48,"Jour")+COUNTIFS(AVR.20!$J$7:$J$48,$B4,AVR.20!$E$7:$E$48,"Jour")+COUNTIFS(AVR.20!$L$7:$L$48,$B4,AVR.20!$E$7:$E$48,"Jour")+COUNTIFS(AVR.20!$N$7:$N$48,$B4,AVR.20!$E$7:$E$48,"Jour")+COUNTIFS(AVR.20!$P$7:$P$48,$B4,AVR.20!$E$7:$E$48,"Jour")+COUNTIFS(AVR.20!$R$7:$R$48,$B4,AVR.20!$E$7:$E$48,"Jour")+COUNTIFS(AVR.20!$T$7:$T$48,$B4,AVR.20!$E$7:$E$48,"Jour")+COUNTIFS(AVR.20!$V$7:$V$48,$B4,AVR.20!$E$7:$E$48,"Jour")+COUNTIFS(AVR.20!$W$7:$W$48,$B4,AVR.20!$E$7:$E$48,"Jour")+COUNTIFS(AVR.20!$X$7:$X$48,$B4,AVR.20!$E$7:$E$48,"Jour")) -> 0 | AX4: =IF($A4="","",COUNTIFS(AVR.20!$F$7:$F$48,$B4,AVR.20!$E$7:$E$48,"Nuit")+COUNTIFS(AVR.20!$H$7:$H$48,$B4,AVR.20!$E$7:$E$48,"Nuit")+COUNTIFS(AVR.20!$J$7:$J$48,$B4,AVR.20!$E$7:$E$48,"Nuit")+COUNTIFS(AVR.20!$L$7:$L$48,$B4,AVR.20!$E$7:$E$48,"Nuit")+COUNTIFS(AVR.20!$N$7:$N$48,$B4,AVR.20!$E$7:$E$48,"Nuit")+COUNTIFS(AVR.20!$P$7:$P$48,$B4,AVR.20!$E$7:$E$48,"Nuit")+COUNTIFS(AVR.20!$R$7:$R$48,$B4,AVR.20!$E$7:$E$48,"Nuit")+COUNTIFS(AVR.20!$T$7:$T$48,$B4,AVR.20!$E$7:$E$48,"Nuit")+COUNTIFS(AVR.20!$V$7:$V$48,$B4,AVR.20!$E$7:$E$48,"Nuit")+COUNTIFS(AVR.20!$W$7:$W$48,$B4,AVR.20!$E$7:$E$48,"Nuit")+COUNTIFS(AVR.20!$X$7:$X$48,$B4,AVR.20!$E$7:$E$48,"Nuit")) -> 0 | AY4: =IF($A4="","",COUNTIFS(AVR.20!$F$7:$F$48,$B4,AVR.20!$E$7:$E$48,"Jour")+COUNTIFS(AVR.20!$H$7:$H$48,$B4,AVR.20!$E$7:$E$48,"Jour")+COUNTIFS(AVR.20!$J$7:$J$48,$B4,AVR.20!$E$7:$E$48,"Jour")+COUNTIFS(AVR.20!$L$7:$L$48,$B4,AVR.20!$E$7:$E$48,"Jour")+COUNTIFS(AVR.20!$N$7:$N$48,$B4,AVR.20!$E$7:$E$48,"Jour")+COUNTIFS(AVR.20!$P$7:$P$48,$B4,AVR.20!$E$7:$E$48,"Jour")+COUNTIFS(AVR.20!$R$7:$R$48,$B4,AVR.20!$E$7:$E$48,"Jour")+COUNTIFS(AVR.20!$T$7:$T$48,$B4,AVR.20!$E$7:$E$48,"Jour")+COUNTIFS(AVR.20!$V$7:$V$48,$B4,AVR.20!$E$7:$E$48,"Jour")+COUNTIFS(AVR.20!$W$7:$W$48,$B4,AVR.20!$E$7:$E$48,"Jour")+COUNTIFS(AVR.20!$X$7:$X$48,$B4,AVR.20!$E$7:$E$48,"Jour")) -> 0 | AZ4: =IF($A4="","",COUNTIFS(AVR.20!$F$7:$F$48,$B4,AVR.20!$E$7:$E$48,"Nuit")+COUNTIFS(AVR.20!$H$7:$H$48,$B4,AVR.20!$E$7:$E$48,"Nuit")+COUNTIFS(AVR.20!$J$7:$J$48,$B4,AVR.20!$E$7:$E$48,"Nuit")+COUNTIFS(AVR.20!$L$7:$L$48,$B4,AVR.20!$E$7:$E$48,"Nuit")+COUNTIFS(AVR.20!$N$7:$N$48,$B4,AVR.20!$E$7:$E$48,"Nuit")+COUNTIFS(AVR.20!$P$7:$P$48,$B4,AVR.20!$E$7:$E$48,"Nuit")+COUNTIFS(AVR.20!$R$7:$R$48,$B4,AVR.20!$E$7:$E$48,"Nuit")+COUNTIFS(AVR.20!$T$7:$T$48,$B4,AVR.20!$E$7:$E$48,"Nuit")+COUNTIFS(AVR.20!$V$7:$V$48,$B4,AVR.20!$E$7:$E$48,"Nuit")+COUNTIFS(AVR.20!$W$7:$W$48,$B4,AVR.20!$E$7:$E$48,"Nuit")+COUNTIFS(AVR.20!$X$7:$X$48,$B4,AVR.20!$E$7:$E$48,"Nuit")) -> 0 | BA4: =IF($A4="","",COUNTIFS(AVR.20!$F$7:$F$48,$B4,AVR.20!$E$7:$E$48,"Jour")+COUNTIFS(AVR.20!$H$7:$H$48,$B4,AVR.20!$E$7:$E$48,"Jour")+COUNTIFS(AVR.20!$J$7:$J$48,$B4,AVR.20!$E$7:$E$48,"Jour")+COUNTIFS(AVR.20!$L$7:$L$48,$B4,AVR.20!$E$7:$E$48,"Jour")+COUNTIFS(AVR.20!$N$7:$N$48,$B4,AVR.20!$E$7:$E$48,"Jour")+COUNTIFS(AVR.20!$P$7:$P$48,$B4,AVR.20!$E$7:$E$48,"Jour")+COUNTIFS(AVR.20!$R$7:$R$48,$B4,AVR.20!$E$7:$E$48,"Jour")+COUNTIFS(AVR.20!$T$7:$T$48,$B4,AVR.20!$E$7:$E$48,"Jour")+COUNTIFS(AVR.20!$V$7:$V$48,$B4,AVR.20!$E$7:$E$48,"Jour")+COUNTIFS(AVR.20!$W$7:$W$48,$B4,AVR.20!$E$7:$E$48,"Jour")+COUNTIFS(AVR.20!$X$7:$X$48,$B4,AVR.20!$E$7:$E$48,"Jour")) -> 0 | BB4: =IF($A4="","",COUNTIFS(AVR.20!$F$7:$F$48,$B4,AVR.20!$E$7:$E$48,"Nuit")+COUNTIFS(AVR.20!$H$7:$H$48,$B4,AVR.20!$E$7:$E$48,"Nuit")+COUNTIFS(AVR.20!$J$7:$J$48,$B4,AVR.20!$E$7:$E$48,"Nuit")+COUNTIFS(AVR.20!$L$7:$L$48,$B4,AVR.20!$E$7:$E$48,"Nuit")+COUNTIFS(AVR.20!$N$7:$N$48,$B4,AVR.20!$E$7:$E$48,"Nuit")+COUNTIFS(AVR.20!$P$7:$P$48,$B4,AVR.20!$E$7:$E$48,"Nuit")+COUNTIFS(AVR.20!$R$7:$R$48,$B4,AVR.20!$E$7:$E$48,"Nuit")+COUNTIFS(AVR.20!$T$7:$T$48,$B4,AVR.20!$E$7:$E$48,"Nuit")+COUNTIFS(AVR.20!$V$7:$V$48,$B4,AVR.20!$E$7:$E$48,"Nuit")+COUNTIFS(AVR.20!$W$7:$W$48,$B4,AVR.20!$E$7:$E$48,"Nuit")+COUNTIFS(AVR.20!$X$7:$X$48,$B4,AVR.20!$E$7:$E$48,"Nuit")) -> 0 | BC4: =IF($A4="","",COUNTIFS(AVR.20!$F$7:$F$48,$B4,AVR.20!$E$7:$E$48,"Jour")+COUNTIFS(AVR.20!$H$7:$H$48,$B4,AVR.20!$E$7:$E$48,"Jour")+COUNTIFS(AVR.20!$J$7:$J$48,$B4,AVR.20!$E$7:$E$48,"Jour")+COUNTIFS(AVR.20!$L$7:$L$48,$B4,AVR.20!$E$7:$E$48,"Jour")+COUNTIFS(AVR.20!$N$7:$N$48,$B4,AVR.20!$E$7:$E$48,"Jour")+COUNTIFS(AVR.20!$P$7:$P$48,$B4,AVR.20!$E$7:$E$48,"Jour")+COUNTIFS(AVR.20!$R$7:$R$48,$B4,AVR.20!$E$7:$E$48,"Jour")+COUNTIFS(AVR.20!$T$7:$T$48,$B4,AVR.20!$E$7:$E$48,"Jour")+COUNTIFS(AVR.20!$V$7:$V$48,$B4,AVR.20!$E$7:$E$48,"Jour")+COUNTIFS(AVR.20!$W$7:$W$48,$B4,AVR.20!$E$7:$E$48,"Jour")+COUNTIFS(AVR.20!$X$7:$X$48,$B4,AVR.20!$E$7:$E$48,"Jour")) -> 0 | BD4: =IF($A4="","",COUNTIFS(AVR.20!$F$7:$F$48,$B4,AVR.20!$E$7:$E$48,"Nuit")+COUNTIFS(AVR.20!$H$7:$H$48,$B4,AVR.20!$E$7:$E$48,"Nuit")+COUNTIFS(AVR.20!$J$7:$J$48,$B4,AVR.20!$E$7:$E$48,"Nuit")+COUNTIFS(AVR.20!$L$7:$L$48,$B4,AVR.20!$E$7:$E$48,"Nuit")+COUNTIFS(AVR.20!$N$7:$N$48,$B4,AVR.20!$E$7:$E$48,"Nuit")+COUNTIFS(AVR.20!$P$7:$P$48,$B4,AVR.20!$E$7:$E$48,"Nuit")+COUNTIFS(AVR.20!$R$7:$R$48,$B4,AVR.20!$E$7:$E$48,"Nuit")+COUNTIFS(AVR.20!$T$7:$T$48,$B4,AVR.20!$E$7:$E$48,"Nuit")+COUNTIFS(AVR.20!$V$7:$V$48,$B4,AVR.20!$E$7:$E$48,"Nuit")+COUNTIFS(AVR.20!$W$7:$W$48,$B4,AVR.20!$E$7:$E$48,"Nuit")+COUNTIFS(AVR.20!$X$7:$X$48,$B4,AVR.20!$E$7:$E$48,"Nuit")) -> 0 | BE4: =IF($A4="","",COUNTIFS(AVR.20!$F$7:$F$48,$B4,AVR.20!$E$7:$E$48,"Jour")+COUNTIFS(AVR.20!$H$7:$H$48,$B4,AVR.20!$E$7:$E$48,"Jour")+COUNTIFS(AVR.20!$J$7:$J$48,$B4,AVR.20!$E$7:$E$48,"Jour")+COUNTIFS(AVR.20!$L$7:$L$48,$B4,AVR.20!$E$7:$E$48,"Jour")+COUNTIFS(AVR.20!$N$7:$N$48,$B4,AVR.20!$E$7:$E$48,"Jour")+COUNTIFS(AVR.20!$P$7:$P$48,$B4,AVR.20!$E$7:$E$48,"Jour")+COUNTIFS(AVR.20!$R$7:$R$48,$B4,AVR.20!$E$7:$E$48,"Jour")+COUNTIFS(AVR.20!$T$7:$T$48,$B4,AVR.20!$E$7:$E$48,"Jour")+COUNTIFS(AVR.20!$V$7:$V$48,$B4,AVR.20!$E$7:$E$48,"Jour")+COUNTIFS(AVR.20!$W$7:$W$48,$B4,AVR.20!$E$7:$E$48,"Jour")+COUNTIFS(AVR.20!$X$7:$X$48,$B4,AVR.20!$E$7:$E$48,"Jour")) -> 0 | BF4: =IF($A4="","",COUNTIFS(AVR.20!$F$7:$F$48,$B4,AVR.20!$E$7:$E$48,"Nuit")+COUNTIFS(AVR.20!$H$7:$H$48,$B4,AVR.20!$E$7:$E$48,"Nuit")+COUNTIFS(AVR.20!$J$7:$J$48,$B4,AVR.20!$E$7:$E$48,"Nuit")+COUNTIFS(AVR.20!$L$7:$L$48,$B4,AVR.20!$E$7:$E$48,"Nuit")+COUNTIFS(AVR.20!$N$7:$N$48,$B4,AVR.20!$E$7:$E$48,"Nuit")+COUNTIFS(AVR.20!$P$7:$P$48,$B4,AVR.20!$E$7:$E$48,"Nuit")+COUNTIFS(AVR.20!$R$7:$R$48,$B4,AVR.20!$E$7:$E$48,"Nuit")+COUNTIFS(AVR.20!$T$7:$T$48,$B4,AVR.20!$E$7:$E$48,"Nuit")+COUNTIFS(AVR.20!$V$7:$V$48,$B4,AVR.20!$E$7:$E$48,"Nuit")+COUNTIFS(AVR.20!$W$7:$W$48,$B4,AVR.20!$E$7:$E$48,"Nuit")+COUNTIFS(AVR.20!$X$7:$X$48,$B4,AVR.20!$E$7:$E$48,"Nuit")) -> 0 | BG4: =IF($A4="","",COUNTIFS(AVR.20!$F$7:$F$48,$B4,AVR.20!$E$7:$E$48,"Jour")+COUNTIFS(AVR.20!$H$7:$H$48,$B4,AVR.20!$E$7:$E$48,"Jour")+COUNTIFS(AVR.20!$J$7:$J$48,$B4,AVR.20!$E$7:$E$48,"Jour")+COUNTIFS(AVR.20!$L$7:$L$48,$B4,AVR.20!$E$7:$E$48,"Jour")+COUNTIFS(AVR.20!$N$7:$N$48,$B4,AVR.20!$E$7:$E$48,"Jour")+COUNTIFS(AVR.20!$P$7:$P$48,$B4,AVR.20!$E$7:$E$48,"Jour")+COUNTIFS(AVR.20!$R$7:$R$48,$B4,AVR.20!$E$7:$E$48,"Jour")+COUNTIFS(AVR.20!$T$7:$T$48,$B4,AVR.20!$E$7:$E$48,"Jour")+COUNTIFS(AVR.20!$V$7:$V$48,$B4,AVR.20!$E$7:$E$48,"Jour")+COUNTIFS(AVR.20!$W$7:$W$48,$B4,AVR.20!$E$7:$E$48,"Jour")+COUNTIFS(AVR.20!$X$7:$X$48,$B4,AVR.20!$E$7:$E$48,"Jour")) -> 0 | BH4: =IF($A4="","",COUNTIFS(AVR.20!$F$7:$F$48,$B4,AVR.20!$E$7:$E$48,"Nuit")+COUNTIFS(AVR.20!$H$7:$H$48,$B4,AVR.20!$E$7:$E$48,"Nuit")+COUNTIFS(AVR.20!$J$7:$J$48,$B4,AVR.20!$E$7:$E$48,"Nuit")+COUNTIFS(AVR.20!$L$7:$L$48,$B4,AVR.20!$E$7:$E$48,"Nuit")+COUNTIFS(AVR.20!$N$7:$N$48,$B4,AVR.20!$E$7:$E$48,"Nuit")+COUNTIFS(AVR.20!$P$7:$P$48,$B4,AVR.20!$E$7:$E$48,"Nuit")+COUNTIFS(AVR.20!$R$7:$R$48,$B4,AVR.20!$E$7:$E$48,"Nuit")+COUNTIFS(AVR.20!$T$7:$T$48,$B4,AVR.20!$E$7:$E$48,"Nuit")+COUNTIFS(AVR.20!$V$7:$V$48,$B4,AVR.20!$E$7:$E$48,"Nuit")+COUNTIFS(AVR.20!$W$7:$W$48,$B4,AVR.20!$E$7:$E$48,"Nuit")+COUNTIFS(AVR.20!$X$7:$X$48,$B4,AVR.20!$E$7:$E$48,"Nuit")) -> 0 | BI4: =IF($A4="","",COUNTIFS(AVR.20!$F$7:$F$48,$B4,AVR.20!$E$7:$E$48,"Jour")+COUNTIFS(AVR.20!$H$7:$H$48,$B4,AVR.20!$E$7:$E$48,"Jour")+COUNTIFS(AVR.20!$J$7:$J$48,$B4,AVR.20!$E$7:$E$48,"Jour")+COUNTIFS(AVR.20!$L$7:$L$48,$B4,AVR.20!$E$7:$E$48,"Jour")+COUNTIFS(AVR.20!$N$7:$N$48,$B4,AVR.20!$E$7:$E$48,"Jour")+COUNTIFS(AVR.20!$P$7:$P$48,$B4,AVR.20!$E$7:$E$48,"Jour")+COUNTIFS(AVR.20!$R$7:$R$48,$B4,AVR.20!$E$7:$E$48,"Jour")+COUNTIFS(AVR.20!$T$7:$T$48,$B4,AVR.20!$E$7:$E$48,"Jour")+COUNTIFS(AVR.20!$V$7:$V$48,$B4,AVR.20!$E$7:$E$48,"Jour")+COUNTIFS(AVR.20!$W$7:$W$48,$B4,AVR.20!$E$7:$E$48,"Jour")+COUNTIFS(AVR.20!$X$7:$X$48,$B4,AVR.20!$E$7:$E$48,"Jour")) -> 0 | BJ4: =IF($A4="","",COUNTIFS(AVR.20!$F$7:$F$48,$B4,AVR.20!$E$7:$E$48,"Nuit")+COUNTIFS(AVR.20!$H$7:$H$48,$B4,AVR.20!$E$7:$E$48,"Nuit")+COUNTIFS(AVR.20!$J$7:$J$48,$B4,AVR.20!$E$7:$E$48,"Nuit")+COUNTIFS(AVR.20!$L$7:$L$48,$B4,AVR.20!$E$7:$E$48,"Nuit")+COUNTIFS(AVR.20!$N$7:$N$48,$B4,AVR.20!$E$7:$E$48,"Nuit")+COUNTIFS(AVR.20!$P$7:$P$48,$B4,AVR.20!$E$7:$E$48,"Nuit")+COUNTIFS(AVR.20!$R$7:$R$48,$B4,AVR.20!$E$7:$E$48,"Nuit")+COUNTIFS(AVR.20!$T$7:$T$48,$B4,AVR.20!$E$7:$E$48,"Nuit")+COUNTIFS(AVR.20!$V$7:$V$48,$B4,AVR.20!$E$7:$E$48,"Nuit")+COUNTIFS(AVR.20!$W$7:$W$48,$B4,AVR.20!$E$7:$E$48,"Nuit")+COUNTIFS(AVR.20!$X$7:$X$48,$B4,AVR.20!$E$7:$E$48,"Nuit")) -> 0 | BK4: =IF($A4="","",COUNTIFS(AVR.20!$F$7:$F$48,$B4,AVR.20!$E$7:$E$48,"Jour")+COUNTIFS(AVR.20!$H$7:$H$48,$B4,AVR.20!$E$7:$E$48,"Jour")+COUNTIFS(AVR.20!$J$7:$J$48,$B4,AVR.20!$E$7:$E$48,"Jour")+COUNTIFS(AVR.20!$L$7:$L$48,$B4,AVR.20!$E$7:$E$48,"Jour")+COUNTIFS(AVR.20!$N$7:$N$48,$B4,AVR.20!$E$7:$E$48,"Jour")+COUNTIFS(AVR.20!$P$7:$P$48,$B4,AVR.20!$E$7:$E$48,"Jour")+COUNTIFS(AVR.20!$R$7:$R$48,$B4,AVR.20!$E$7:$E$48,"Jour")+COUNTIFS(AVR.20!$T$7:$T$48,$B4,AVR.20!$E$7:$E$48,"Jour")+COUNTIFS(AVR.20!$V$7:$V$48,$B4,AVR.20!$E$7:$E$48,"Jour")+COUNTIFS(AVR.20!$W$7:$W$48,$B4,AVR.20!$E$7:$E$48,"Jour")+COUNTIFS(AVR.20!$X$7:$X$48,$B4,AVR.20!$E$7:$E$48,"Jour")) -> 0 | BL4: =IF($A4="","",COUNTIFS(AVR.20!$F$7:$F$48,$B4,AVR.20!$E$7:$E$48,"Nuit")+COUNTIFS(AVR.20!$H$7:$H$48,$B4,AVR.20!$E$7:$E$48,"Nuit")+COUNTIFS(AVR.20!$J$7:$J$48,$B4,AVR.20!$E$7:$E$48,"Nuit")+COUNTIFS(AVR.20!$L$7:$L$48,$B4,AVR.20!$E$7:$E$48,"Nuit")+COUNTIFS(AVR.20!$N$7:$N$48,$B4,AVR.20!$E$7:$E$48,"Nuit")+COUNTIFS(AVR.20!$P$7:$P$48,$B4,AVR.20!$E$7:$E$48,"Nuit")+COUNTIFS(AVR.20!$R$7:$R$48,$B4,AVR.20!$E$7:$E$48,"Nuit")+COUNTIFS(AVR.20!$T$7:$T$48,$B4,AVR.20!$E$7:$E$48,"Nuit")+COUNTIFS(AVR.20!$V$7:$V$48,$B4,AVR.20!$E$7:$E$48,"Nuit")+COUNTIFS(AVR.20!$W$7:$W$48,$B4,AVR.20!$E$7:$E$48,"Nuit")+COUNTIFS(AVR.20!$X$7:$X$48,$B4,AVR.20!$E$7:$E$48,"Nuit")) -> 0 | BM4: =IF($A4="","",COUNTIFS(AVR.20!$F$7:$F$48,$B4,AVR.20!$E$7:$E$48,"Jour")+COUNTIFS(AVR.20!$H$7:$H$48,$B4,AVR.20!$E$7:$E$48,"Jour")+COUNTIFS(AVR.20!$J$7:$J$48,$B4,AVR.20!$E$7:$E$48,"Jour")+COUNTIFS(AVR.20!$L$7:$L$48,$B4,AVR.20!$E$7:$E$48,"Jour")+COUNTIFS(AVR.20!$N$7:$N$48,$B4,AVR.20!$E$7:$E$48,"Jour")+COUNTIFS(AVR.20!$P$7:$P$48,$B4,AVR.20!$E$7:$E$48,"Jour")+COUNTIFS(AVR.20!$R$7:$R$48,$B4,AVR.20!$E$7:$E$48,"Jour")+COUNTIFS(AVR.20!$T$7:$T$48,$B4,AVR.20!$E$7:$E$48,"Jour")+COUNTIFS(AVR.20!$V$7:$V$48,$B4,AVR.20!$E$7:$E$48,"Jour")+COUNTIFS(AVR.20!$W$7:$W$48,$B4,AVR.20!$E$7:$E$48,"Jour")+COUNTIFS(AVR.20!$X$7:$X$48,$B4,AVR.20!$E$7:$E$48,"Jour")) -> 0 | BO4: =AP4+AR4+AT4+AV4+AX4+AZ4+BB4+BD4+BF4+BH4+BJ4+BL4 -> 13 | BP4: =AQ4+AS4+AU4+AW4+AY4+BA4+BC4+BE4+BG4+BI4+BK4+BM4 -> 1
A5: ARMAND Adrien | B5: ARMAND A (3) | C5: Sgt | D5: S3 | E5: Ch.A 1E | F5: PL | G5: COD1 | H5: COD2 | K5: FDF1 | L5: FDF2 | N5: =IF($A5="","",COUNTIFS(#REF!,B5,#REF!,"Nuit")+COUNTIFS(#REF!,B5,#REF!,"Nuit")+COUNTIFS(#REF!,B5,#REF!,"Nuit")+COUNTIFS(#REF!,B5,#REF!,"Nuit")+COUNTIFS(#REF!,B5,#REF!,"Nuit")+COUNTIFS(#REF!,B5,#REF!,"Nuit")+COUNTIFS(#REF!,B5,#REF!,"Nuit")+COUNTIFS(#REF!,B5,#REF!,"Nuit")+COUNTIFS(#REF!,B5,#REF!,"Nuit")+COUNTIFS(#REF!,B5,#REF!,"Nuit")+COUNTIFS(#REF!,B5,#REF!,"Nuit")) -> #REF! | O5: =IF($A5="","",COUNTIFS(#REF!,B5,#REF!,"Jour")+COUNTIFS(#REF!,B5,#REF!,"Jour")+COUNTIFS(#REF!,B5,#REF!,"Jour")+COUNTIFS(#REF!,B5,#REF!,"Jour")+COUNTIFS(#REF!,B5,#REF!,"Jour")+COUNTIFS(#REF!,B5,#REF!,"Jour")+COUNTIFS(#REF!,B5,#REF!,"Jour")+COUNTIFS(#REF!,B5,#REF!,"Jour")+COUNTIFS(#REF!,B5,#REF!,"Jour")+COUNTIFS(#REF!,B5,#REF!,"Jour")+COUNTIFS(#REF!,B5,#REF!,"Jour")) -> #REF! | P5: =IF($A5="","",COUNTIFS(#REF!,B5,#REF!,"Nuit")+COUNTIFS(#REF!,B5,#REF!,"Nuit")+COUNTIFS(#REF!,B5,#REF!,"Nuit")+COUNTIFS(#REF!,B5,#REF!,"Nuit")+COUNTIFS(#REF!,B5,#REF!,"Nuit")+COUNTIFS(#REF!,B5,#REF!,"Nuit")+COUNTIFS(#REF!,B5,#REF!,"Nuit")+COUNTIFS(#REF!,B5,#REF!,"Nuit")+COUNTIFS(#REF!,B5,#REF!,"Nuit")+COUNTIFS(#REF!,B5,#REF!,"Nuit")+COUNTIFS(#REF!,B5,#REF!,"Nuit")) -> #REF! | Q5: =IF($A5="","",COUNTIFS(#REF!,B5,#REF!,"Jour")+COUNTIFS(#REF!,B5,#REF!,"Jour")+COUNTIFS(#REF!,B5,#REF!,"Jour")+COUNTIFS(#REF!,B5,#REF!,"Jour")+COUNTIFS(#REF!,B5,#REF!,"Jour")+COUNTIFS(#REF!,B5,#REF!,"Jour")+COUNTIFS(#REF!,B5,#REF!,"Jour")+COUNTIFS(#REF!,B5,#REF!,"Jour")+COUNTIFS(#REF!,B5,#REF!,"Jour")+COUNTIFS(#REF!,B5,#REF!,"Jour")+COUNTIFS(#REF!,B5,#REF!,"Jour")) -> #REF! | R5: =IF($A5="","",COUNTIFS(#REF!,B5,#REF!,"Nuit")+COUNTIFS(#REF!,B5,#REF!,"Nuit")+COUNTIFS(#REF!,B5,#REF!,"Nuit")+COUNTIFS(#REF!,B5,#REF!,"Nuit")+COUNTIFS(#REF!,B5,#REF!,"Nuit")+COUNTIFS(#REF!,B5,#REF!,"Nuit")+COUNTIFS(#REF!,B5,#REF!,"Nuit")+COUNTIFS(#REF!,B5,#REF!,"Nuit")+COUNTIFS(#REF!,B5,#REF!,"Nuit")+COUNTIFS(#REF!,B5,#REF!,"Nuit")+COUNTIFS(#REF!,B5,#REF!,"Nuit")) -> #REF! | S5: =IF($A5="","",COUNTIFS(#REF!,B5,#REF!,"Jour")+COUNTIFS(#REF!,B5,#REF!,"Jour")+COUNTIFS(#REF!,B5,#REF!,"Jour")+COUNTIFS(#REF!,B5,#REF!,"Jour")+COUNTIFS(#REF!,B5,#REF!,"Jour")+COUNTIFS(#REF!,B5,#REF!,"Jour")+COUNTIFS(#REF!,B5,#REF!,"Jour")+COUNTIFS(#REF!,B5,#REF!,"Jour")+COUNTIFS(#REF!,B5,#REF!,"Jour")+COUNTIFS(#REF!,B5,#REF!,"Jour")+COUNTIFS(#REF!,B5,#REF!,"Jour")) -> #REF! | T5: =IF($A5="","",COUNTIFS(#REF!,B5,#REF!,"Nuit")+COUNTIFS(#REF!,B5,#REF!,"Nuit")+COUNTIFS(#REF!,B5,#REF!,"Nuit")+COUNTIFS(#REF!,B5,#REF!,"Nuit")+COUNTIFS(#REF!,B5,#REF!,"Nuit")+COUNTIFS(#REF!,B5,#REF!,"Nuit")+COUNTIFS(#REF!,B5,#REF!,"Nuit")+COUNTIFS(#REF!,B5,#REF!,"Nuit")+COUNTIFS(#REF!,B5,#REF!,"Nuit")+COUNTIFS(#REF!,B5,#REF!,"Nuit")+COUNTIFS(#REF!,B5,#REF!,"Nuit")) -> #REF! | U5: =IF($A5="","",COUNTIFS(#REF!,B5,#REF!,"Jour")+COUNTIFS(#REF!,B5,#REF!,"Jour")+COUNTIFS(#REF!,B5,#REF!,"Jour")+COUNTIFS(#REF!,B5,#REF!,"Jour")+COUNTIFS(#REF!,B5,#REF!,"Jour")+COUNTIFS(#REF!,B5,#REF!,"Jour")+COUNTIFS(#REF!,B5,#REF!,"Jour")+COUNTIFS(#REF!,B5,#REF!,"Jour")+COUNTIFS(#REF!,B5,#REF!,"Jour")+COUNTIFS(#REF!,B5,#REF!,"Jour")+COUNTIFS(#REF!,B5,#REF!,"Jour")) -> #REF! | V5: =IF($A5="","",COUNTIFS(#REF!,B5,#REF!,"Nuit")+COUNTIFS(#REF!,B5,#REF!,"Nuit")+COUNTIFS(#REF!,B5,#REF!,"Nuit")+COUNTIFS(#REF!,B5,#REF!,"Nuit")+COUNTIFS(#REF!,B5,#REF!,"Nuit")+COUNTIFS(#REF!,B5,#REF!,"Nuit")+COUNTIFS(#REF!,B5,#REF!,"Nuit")+COUNTIFS(#REF!,B5,#REF!,"Nuit")+COUNTIFS(#REF!,B5,#REF!,"Nuit")+COUNTIFS(#REF!,B5,#REF!,"Nuit")+COUNTIFS(#REF!,B5,#REF!,"Nuit")) -> #REF! | W5: =IF($A5="","",COUNTIFS(#REF!,B5,#REF!,"Jour")+COUNTIFS(#REF!,B5,#REF!,"Jour")+COUNTIFS(#REF!,B5,#REF!,"Jour")+COUNTIFS(#REF!,B5,#REF!,"Jour")+COUNTIFS(#REF!,B5,#REF!,"Jour")+COUNTIFS(#REF!,B5,#REF!,"Jour")+COUNTIFS(#REF!,B5,#REF!,"Jour")+COUNTIFS(#REF!,B5,#REF!,"Jour")+COUNTIFS(#REF!,B5,#REF!,"Jour")+COUNTIFS(#REF!,B5,#REF!,"Jour")+COUNTIFS(#REF!,B5,#REF!,"Jour")) -> #REF! | X5: =IF($A5="","",COUNTIFS(#REF!,B5,#REF!,"Nuit")+COUNTIFS(#REF!,B5,#REF!,"Nuit")+COUNTIFS(#REF!,B5,#REF!,"Nuit")+COUNTIFS(#REF!,B5,#REF!,"Nuit")+COUNTIFS(#REF!,B5,#REF!,"Nuit")+COUNTIFS(#REF!,B5,#REF!,"Nuit")+COUNTIFS(#REF!,B5,#REF!,"Nuit")+COUNTIFS(#REF!,B5,#REF!,"Nuit")+COUNTIFS(#REF!,B5,#REF!,"Nuit")+COUNTIFS(#REF!,B5,#REF!,"Nuit")+COUNTIFS(#REF!,B5,#REF!,"Nuit")) -> #REF! | Y5: =IF($A5="","",COUNTIFS(#REF!,B5,#REF!,"Jour")+COUNTIFS(#REF!,B5,#REF!,"Jour")+COUNTIFS(#REF!,B5,#REF!,"Jour")+COUNTIFS(#REF!,B5,#REF!,"Jour")+COUNTIFS(#REF!,B5,#REF!,"Jour")+COUNTIFS(#REF!,B5,#REF!,"Jour")+COUNTIFS(#REF!,B5,#REF!,"Jour")+COUNTIFS(#REF!,B5,#REF!,"Jour")+COUNTIFS(#REF!,B5,#REF!,"Jour")+COUNTIFS(#REF!,B5,#REF!,"Jour")+COUNTIFS(#REF!,B5,#REF!,"Jour")) -> #REF! | Z5: =IF($A5="","",COUNTIFS(#REF!,$B5,#REF!,"Nuit")+COUNTIFS(#REF!,$B5,#REF!,"Nuit")+COUNTIFS(#REF!,$B5,#REF!,"Nuit")+COUNTIFS(#REF!,$B5,#REF!,"Nuit")+COUNTIFS(#REF!,$B5,#REF!,"Nuit")+COUNTIFS(#REF!,$B5,#REF!,"Nuit")+COUNTIFS(#REF!,$B5,#REF!,"Nuit")+COUNTIFS(#REF!,$B5,#REF!,"Nuit")+COUNTIFS(#REF!,$B5,#REF!,"Nuit")+COUNTIFS(#REF!,$B5,#REF!,"Nuit")+COUNTIFS(#REF!,$B5,#REF!,"Nuit")) -> #REF! | AA5: =IF($A5="","",COUNTIFS(#REF!,$B5,#REF!,"Jour")+COUNTIFS(#REF!,$B5,#REF!,"Jour")+COUNTIFS(#REF!,$B5,#REF!,"Jour")+COUNTIFS(#REF!,$B5,#REF!,"Jour")+COUNTIFS(#REF!,$B5,#REF!,"Jour")+COUNTIFS(#REF!,$B5,#REF!,"Jour")+COUNTIFS(#REF!,$B5,#REF!,"Jour")+COUNTIFS(#REF!,$B5,#REF!,"Jour")+COUNTIFS(#REF!,$B5,#REF!,"Jour")+COUNTIFS(#REF!,$B5,#REF!,"Jour")+COUNTIFS(#REF!,$B5,#REF!,"Jour")) -> #REF! | AB5: =IF($A5="","",COUNTIFS(#REF!,$B5,#REF!,"Nuit")+COUNTIFS(#REF!,$B5,#REF!,"Nuit")+COUNTIFS(#REF!,$B5,#REF!,"Nuit")+COUNTIFS(#REF!,$B5,#REF!,"Nuit")+COUNTIFS(#REF!,$B5,#REF!,"Nuit")+COUNTIFS(#REF!,$B5,#REF!,"Nuit")+COUNTIFS(#REF!,$B5,#REF!,"Nuit")+COUNTIFS(#REF!,$B5,#REF!,"Nuit")+COUNTIFS(#REF!,$B5,#REF!,"Nuit")+COUNTIFS(#REF!,$B5,#REF!,"Nuit")+COUNTIFS(#REF!,$B5,#REF!,"Nuit")) -> #REF! | AC5: =IF($A5="","",COUNTIFS(#REF!,$B5,#REF!,"Jour")+COUNTIFS(#REF!,$B5,#REF!,"Jour")+COUNTIFS(#REF!,$B5,#REF!,"Jour")+COUNTIFS(#REF!,$B5,#REF!,"Jour")+COUNTIFS(#REF!,$B5,#REF!,"Jour")+COUNTIFS(#REF!,$B5,#REF!,"Jour")+COUNTIFS(#REF!,$B5,#REF!,"Jour")+COUNTIFS(#REF!,$B5,#REF!,"Jour")+COUNTIFS(#REF!,$B5,#REF!,"Jour")+COUNTIFS(#REF!,$B5,#REF!,"Jour")+COUNTIFS(#REF!,$B5,#REF!,"Jour")) -> #REF! | AD5: =IF($A5="","",COUNTIFS(#REF!,$B5,#REF!,"Nuit")+COUNTIFS(#REF!,$B5,#REF!,"Nuit")+COUNTIFS(#REF!,$B5,#REF!,"Nuit")+COUNTIFS(#REF!,$B5,#REF!,"Nuit")+COUNTIFS(#REF!,$B5,#REF!,"Nuit")+COUNTIFS(#REF!,$B5,#REF!,"Nuit")+COUNTIFS(#REF!,$B5,#REF!,"Nuit")+COUNTIFS(#REF!,$B5,#REF!,"Nuit")+COUNTIFS(#REF!,$B5,#REF!,"Nuit")+COUNTIFS(#REF!,$B5,#REF!,"Nuit")+COUNTIFS(#REF!,$B5,#REF!,"Nuit")) -> #REF! | AE5: =IF($A5="","",COUNTIFS(#REF!,$B5,#REF!,"Jour")+COUNTIFS(#REF!,$B5,#REF!,"Jour")+COUNTIFS(#REF!,$B5,#REF!,"Jour")+COUNTIFS(#REF!,$B5,#REF!,"Jour")+COUNTIFS(#REF!,$B5,#REF!,"Jour")+COUNTIFS(#REF!,$B5,#REF!,"Jour")+COUNTIFS(#REF!,$B5,#REF!,"Jour")+COUNTIFS(#REF!,$B5,#REF!,"Jour")+COUNTIFS(#REF!,$B5,#REF!,"Jour")+COUNTIFS(#REF!,$B5,#REF!,"Jour")+COUNTIFS(#REF!,$B5,#REF!,"Jour")) -> #REF! | AF5: =IF($A5="","",COUNTIFS(#REF!,$B5,#REF!,"Nuit")+COUNTIFS(#REF!,$B5,#REF!,"Nuit")+COUNTIFS(#REF!,$B5,#REF!,"Nuit")+COUNTIFS(#REF!,$B5,#REF!,"Nuit")+COUNTIFS(#REF!,$B5,#REF!,"Nuit")+COUNTIFS(#REF!,$B5,#REF!,"Nuit")+COUNTIFS(#REF!,$B5,#REF!,"Nuit")+COUNTIFS(#REF!,$B5,#REF!,"Nuit")+COUNTIFS(#REF!,$B5,#REF!,"Nuit")+COUNTIFS(#REF!,$B5,#REF!,"Nuit")+COUNTIFS(#REF!,$B5,#REF!,"Nuit")) -> #REF! | AG5: =IF($A5="","",COUNTIFS(#REF!,$B5,#REF!,"Jour")+COUNTIFS(#REF!,$B5,#REF!,"Jour")+COUNTIFS(#REF!,$B5,#REF!,"Jour")+COUNTIFS(#REF!,$B5,#REF!,"Jour")+COUNTIFS(#REF!,$B5,#REF!,"Jour")+COUNTIFS(#REF!,$B5,#REF!,"Jour")+COUNTIFS(#REF!,$B5,#REF!,"Jour")+COUNTIFS(#REF!,$B5,#REF!,"Jour")+COUNTIFS(#REF!,$B5,#REF!,"Jour")+COUNTIFS(#REF!,$B5,#REF!,"Jour")+COUNTIFS(#REF!,$B5,#REF!,"Jour")) -> #REF! | AH5: =IF($A5="","",COUNTIFS(#REF!,$B5,#REF!,"Nuit")+COUNTIFS(#REF!,$B5,#REF!,"Nuit")+COUNTIFS(#REF!,$B5,#REF!,"Nuit")+COUNTIFS(#REF!,$B5,#REF!,"Nuit")+COUNTIFS(#REF!,$B5,#REF!,"Nuit")+COUNTIFS(#REF!,$B5,#REF!,"Nuit")+COUNTIFS(#REF!,$B5,#REF!,"Nuit")+COUNTIFS(#REF!,$B5,#REF!,"Nuit")+COUNTIFS(#REF!,$B5,#REF!,"Nuit")+COUNTIFS(#REF!,$B5,#REF!,"Nuit")+COUNTIFS(#REF!,$B5,#REF!,"Nuit")) -> #REF! | AI5: =IF($A5="","",COUNTIFS(#REF!,$B5,#REF!,"Jour")+COUNTIFS(#REF!,$B5,#REF!,"Jour")+COUNTIFS(#REF!,$B5,#REF!,"Jour")+COUNTIFS(#REF!,$B5,#REF!,"Jour")+COUNTIFS(#REF!,$B5,#REF!,"Jour")+COUNTIFS(#REF!,$B5,#REF!,"Jour")+COUNTIFS(#REF!,$B5,#REF!,"Jour")+COUNTIFS(#REF!,$B5,#REF!,"Jour")+COUNTIFS(#REF!,$B5,#REF!,"Jour")+COUNTIFS(#REF!,$B5,#REF!,"Jour")+COUNTIFS(#REF!,$B5,#REF!,"Jour")) -> #REF! | AJ5: =IF($A5="","",COUNTIFS(#REF!,$B5,#REF!,"Nuit")+COUNTIFS(#REF!,$B5,#REF!,"Nuit")+COUNTIFS(#REF!,$B5,#REF!,"Nuit")+COUNTIFS(#REF!,$B5,#REF!,"Nuit")+COUNTIFS(#REF!,$B5,#REF!,"Nuit")+COUNTIFS(#REF!,$B5,#REF!,"Nuit")+COUNTIFS(#REF!,$B5,#REF!,"Nuit")+COUNTIFS(#REF!,$B5,#REF!,"Nuit")+COUNTIFS(#REF!,$B5,#REF!,"Nuit")+COUNTIFS(#REF!,$B5,#REF!,"Nuit")+COUNTIFS(#REF!,$B5,#REF!,"Nuit")) -> #REF! | AK5: =IF($A5="","",COUNTIFS(#REF!,$B5,#REF!,"Jour")+COUNTIFS(#REF!,$B5,#REF!,"Jour")+COUNTIFS(#REF!,$B5,#REF!,"Jour")+COUNTIFS(#REF!,$B5,#REF!,"Jour")+COUNTIFS(#REF!,$B5,#REF!,"Jour")+COUNTIFS(#REF!,$B5,#REF!,"Jour")+COUNTIFS(#REF!,$B5,#REF!,"Jour")+COUNTIFS(#REF!,$B5,#REF!,"Jour")+COUNTIFS(#REF!,$B5,#REF!,"Jour")+COUNTIFS(#REF!,$B5,#REF!,"Jour")+COUNTIFS(#REF!,$B5,#REF!,"Jour")) -> #REF! | AM5: =N5+P5+R5+T5+V5+X5+Z5+AB5+AD5+AF5+AH5+AJ5 -> #REF! | AN5: =O5+Q5+S5+U5+W5+Y5+AA5+AC5+AE5+AG5+AI5+AK5 -> #REF! | AO5: =(AM5*0.6*6)+(AN5*0.6*12) -> #REF! | AP5: =IF($A5="","",COUNTIFS(JAN.20!$F$7:$F$48,$B5,JAN.20!$E$7:$E$48,"Nuit")+COUNTIFS(JAN.20!$H$7:$H$48,$B5,JAN.20!$E$7:$E$48,"Nuit")+COUNTIFS(JAN.20!$J$7:$J$48,$B5,JAN.20!$E$7:$E$48,"Nuit")+COUNTIFS(JAN.20!$L$7:$L$48,$B5,JAN.20!$E$7:$E$48,"Nuit")+COUNTIFS(JAN.20!$N$7:$N$48,$B5,JAN.20!$E$7:$E$48,"Nuit")+COUNTIFS(JAN.20!$P$7:$P$48,$B5,JAN.20!$E$7:$E$48,"Nuit")+COUNTIFS(JAN.20!$R$7:$R$48,$B5,JAN.20!$E$7:$E$48,"Nuit")+COUNTIFS(JAN.20!$T$7:$T$48,$B5,JAN.20!$E$7:$E$48,"Nuit")+COUNTIFS(JAN.20!$V$7:$V$48,$B5,JAN.20!$E$7:$E$48,"Nuit")+COUNTIFS(JAN.20!$W$7:$W$48,$B5,JAN.20!$E$7:$E$48,"Nuit")+COUNTIFS(JAN.20!$X$7:$X$48,$B5,JAN.20!$E$7:$E$48,"Nuit")) -> 6 | AQ5: =IF($A5="","",COUNTIFS(JAN.20!$F$7:$F$48,$B5,JAN.20!$E$7:$E$48,"Jour")+COUNTIFS(JAN.20!$H$7:$H$48,$B5,JAN.20!$E$7:$E$48,"Jour")+COUNTIFS(JAN.20!$J$7:$J$48,$B5,JAN.20!$E$7:$E$48,"Jour")+COUNTIFS(JAN.20!$L$7:$L$48,$B5,JAN.20!$E$7:$E$48,"Jour")+COUNTIFS(JAN.20!$N$7:$N$48,$B5,JAN.20!$E$7:$E$48,"Jour")+COUNTIFS(JAN.20!$P$7:$P$48,$B5,JAN.20!$E$7:$E$48,"Jour")+COUNTIFS(JAN.20!$R$7:$R$48,$B5,JAN.20!$E$7:$E$48,"Jour")+COUNTIFS(JAN.20!$T$7:$T$48,$B5,JAN.20!$E$7:$E$48,"Jour")+COUNTIFS(JAN.20!$V$7:$V$48,$B5,JAN.20!$E$7:$E$48,"Jour")+COUNTIFS(JAN.20!$W$7:$W$48,$B5,JAN.20!$E$7:$E$48,"Jour")+COUNTIFS(JAN.20!$X$7:$X$48,$B5,JAN.20!$E$7:$E$48,"Jour")) -> 0 | AR5: =IF($A5="","",COUNTIFS(FEV.20!$F$7:$F$48,$B5,FEV.20!$E$7:$E$48,"Nuit")+COUNTIFS(FEV.20!$H$7:$H$48,$B5,FEV.20!$E$7:$E$48,"Nuit")+COUNTIFS(FEV.20!$J$7:$J$48,$B5,FEV.20!$E$7:$E$48,"Nuit")+COUNTIFS(FEV.20!$L$7:$L$48,$B5,FEV.20!$E$7:$E$48,"Nuit")+COUNTIFS(FEV.20!$N$7:$N$48,$B5,FEV.20!$E$7:$E$48,"Nuit")+COUNTIFS(FEV.20!$P$7:$P$48,$B5,FEV.20!$E$7:$E$48,"Nuit")+COUNTIFS(FEV.20!$R$7:$R$48,$B5,FEV.20!$E$7:$E$48,"Nuit")+COUNTIFS(FEV.20!$T$7:$T$48,$B5,FEV.20!$E$7:$E$48,"Nuit")+COUNTIFS(FEV.20!$V$7:$V$48,$B5,FEV.20!$E$7:$E$48,"Nuit")+COUNTIFS(FEV.20!$W$7:$W$48,$B5,FEV.20!$E$7:$E$48,"Nuit")+COUNTIFS(FEV.20!$X$7:$X$48,$B5,FEV.20!$E$7:$E$48,"Nuit")) -> 4 | AS5: =IF($A5="","",COUNTIFS(FEV.20!$F$7:$F$48,$B5,FEV.20!$E$7:$E$48,"Jour")+COUNTIFS(FEV.20!$H$7:$H$48,$B5,FEV.20!$E$7:$E$48,"Jour")+COUNTIFS(FEV.20!$J$7:$J$48,$B5,FEV.20!$E$7:$E$48,"Jour")+COUNTIFS(FEV.20!$L$7:$L$48,$B5,FEV.20!$E$7:$E$48,"Jour")+COUNTIFS(FEV.20!$N$7:$N$48,$B5,FEV.20!$E$7:$E$48,"Jour")+COUNTIFS(FEV.20!$P$7:$P$48,$B5,FEV.20!$E$7:$E$48,"Jour")+COUNTIFS(FEV.20!$R$7:$R$48,$B5,FEV.20!$E$7:$E$48,"Jour")+COUNTIFS(FEV.20!$T$7:$T$48,$B5,FEV.20!$E$7:$E$48,"Jour")+COUNTIFS(FEV.20!$V$7:$V$48,$B5,FEV.20!$E$7:$E$48,"Jour")+COUNTIFS(FEV.20!$W$7:$W$48,$B5,FEV.20!$E$7:$E$48,"Jour")+COUNTIFS(FEV.20!$X$7:$X$48,$B5,FEV.20!$E$7:$E$48,"Jour")) -> 0 | AT5: =IF($A5="","",COUNTIFS(Mars.20!$F$7:$F$48,$B5,Mars.20!$E$7:$E$48,"Nuit")+COUNTIFS(Mars.20!$H$7:$H$48,$B5,Mars.20!$E$7:$E$48,"Nuit")+COUNTIFS(Mars.20!$J$7:$J$48,$B5,Mars.20!$E$7:$E$48,"Nuit")+COUNTIFS(Mars.20!$L$7:$L$48,$B5,Mars.20!$E$7:$E$48,"Nuit")+COUNTIFS(Mars.20!$N$7:$N$48,$B5,Mars.20!$E$7:$E$48,"Nuit")+COUNTIFS(Mars.20!$P$7:$P$48,$B5,Mars.20!$E$7:$E$48,"Nuit")+COUNTIFS(Mars.20!$R$7:$R$48,$B5,Mars.20!$E$7:$E$48,"Nuit")+COUNTIFS(Mars.20!$T$7:$T$48,$B5,Mars.20!$E$7:$E$48,"Nuit")+COUNTIFS(Mars.20!$V$7:$V$48,$B5,Mars.20!$E$7:$E$48,"Nuit")+COUNTIFS(Mars.20!$W$7:$W$48,$B5,Mars.20!$E$7:$E$48,"Nuit")+COUNTIFS(Mars.20!$X$7:$X$48,$B5,Mars.20!$E$7:$E$48,"Nuit")) -> 3 | AU5: =IF($A5="","",COUNTIFS(Mars.20!$F$7:$F$48,$B5,Mars.20!$E$7:$E$48,"Jour")+COUNTIFS(Mars.20!$H$7:$H$48,$B5,Mars.20!$E$7:$E$48,"Jour")+COUNTIFS(Mars.20!$J$7:$J$48,$B5,Mars.20!$E$7:$E$48,"Jour")+COUNTIFS(Mars.20!$L$7:$L$48,$B5,Mars.20!$E$7:$E$48,"Jour")+COUNTIFS(Mars.20!$N$7:$N$48,$B5,Mars.20!$E$7:$E$48,"Jour")+COUNTIFS(Mars.20!$P$7:$P$48,$B5,Mars.20!$E$7:$E$48,"Jour")+COUNTIFS(Mars.20!$R$7:$R$48,$B5,Mars.20!$E$7:$E$48,"Jour")+COUNTIFS(Mars.20!$T$7:$T$48,$B5,Mars.20!$E$7:$E$48,"Jour")+COUNTIFS(Mars.20!$V$7:$V$48,$B5,Mars.20!$E$7:$E$48,"Jour")+COUNTIFS(Mars.20!$W$7:$W$48,$B5,Mars.20!$E$7:$E$48,"Jour")+COUNTIFS(Mars.20!$X$7:$X$48,$B5,Mars.20!$E$7:$E$48,"Jour")) -> 1 | AV5: =IF($A5="","",COUNTIFS(AVR.20!$F$7:$F$48,$B5,AVR.20!$E$7:$E$48,"Nuit")+COUNTIFS(AVR.20!$H$7:$H$48,$B5,AVR.20!$E$7:$E$48,"Nuit")+COUNTIFS(AVR.20!$J$7:$J$48,$B5,AVR.20!$E$7:$E$48,"Nuit")+COUNTIFS(AVR.20!$L$7:$L$48,$B5,AVR.20!$E$7:$E$48,"Nuit")+COUNTIFS(AVR.20!$N$7:$N$48,$B5,AVR.20!$E$7:$E$48,"Nuit")+COUNTIFS(AVR.20!$P$7:$P$48,$B5,AVR.20!$E$7:$E$48,"Nuit")+COUNTIFS(AVR.20!$R$7:$R$48,$B5,AVR.20!$E$7:$E$48,"Nuit")+COUNTIFS(AVR.20!$T$7:$T$48,$B5,AVR.20!$E$7:$E$48,"Nuit")+COUNTIFS(AVR.20!$V$7:$V$48,$B5,AVR.20!$E$7:$E$48,"Nuit")+COUNTIFS(AVR.20!$W$7:$W$48,$B5,AVR.20!$E$7:$E$48,"Nuit")+COUNTIFS(AVR.20!$X$7:$X$48,$B5,AVR.20!$E$7:$E$48,"Nuit")) -> 0 | AW5: =IF($A5="","",COUNTIFS(AVR.20!$F$7:$F$48,$B5,AVR.20!$E$7:$E$48,"Jour")+COUNTIFS(AVR.20!$H$7:$H$48,$B5,AVR.20!$E$7:$E$48,"Jour")+COUNTIFS(AVR.20!$J$7:$J$48,$B5,AVR.20!$E$7:$E$48,"Jour")+COUNTIFS(AVR.20!$L$7:$L$48,$B5,AVR.20!$E$7:$E$48,"Jour")+COUNTIFS(AVR.20!$N$7:$N$48,$B5,AVR.20!$E$7:$E$48,"Jour")+COUNTIFS(AVR.20!$P$7:$P$48,$B5,AVR.20!$E$7:$E$48,"Jour")+COUNTIFS(AVR.20!$R$7:$R$48,$B5,AVR.20!$E$7:$E$48,"Jour")+COUNTIFS(AVR.20!$T$7:$T$48,$B5,AVR.20!$E$7:$E$48,"Jour")+COUNTIFS(AVR.20!$V$7:$V$48,$B5,AVR.20!$E$7:$E$48,"Jour")+COUNTIFS(AVR.20!$W$7:$W$48,$B5,AVR.20!$E$7:$E$48,"Jour")+COUNTIFS(AVR.20!$X$7:$X$48,$B5,AVR.20!$E$7:$E$48,"Jour")) -> 0 | AX5: =IF($A5="","",COUNTIFS(AVR.20!$F$7:$F$48,$B5,AVR.20!$E$7:$E$48,"Nuit")+COUNTIFS(AVR.20!$H$7:$H$48,$B5,AVR.20!$E$7:$E$48,"Nuit")+COUNTIFS(AVR.20!$J$7:$J$48,$B5,AVR.20!$E$7:$E$48,"Nuit")+COUNTIFS(AVR.20!$L$7:$L$48,$B5,AVR.20!$E$7:$E$48,"Nuit")+COUNTIFS(AVR.20!$N$7:$N$48,$B5,AVR.20!$E$7:$E$48,"Nuit")+COUNTIFS(AVR.20!$P$7:$P$48,$B5,AVR.20!$E$7:$E$48,"Nuit")+COUNTIFS(AVR.20!$R$7:$R$48,$B5,AVR.20!$E$7:$E$48,"Nuit")+COUNTIFS(AVR.20!$T$7:$T$48,$B5,AVR.20!$E$7:$E$48,"Nuit")+COUNTIFS(AVR.20!$V$7:$V$48,$B5,AVR.20!$E$7:$E$48,"Nuit")+COUNTIFS(AVR.20!$W$7:$W$48,$B5,AVR.20!$E$7:$E$48,"Nuit")+COUNTIFS(AVR.20!$X$7:$X$48,$B5,AVR.20!$E$7:$E$48,"Nuit")) -> 0 | AY5: =IF($A5="","",COUNTIFS(AVR.20!$F$7:$F$48,$B5,AVR.20!$E$7:$E$48,"Jour")+COUNTIFS(AVR.20!$H$7:$H$48,$B5,AVR.20!$E$7:$E$48,"Jour")+COUNTIFS(AVR.20!$J$7:$J$48,$B5,AVR.20!$E$7:$E$48,"Jour")+COUNTIFS(AVR.20!$L$7:$L$48,$B5,AVR.20!$E$7:$E$48,"Jour")+COUNTIFS(AVR.20!$N$7:$N$48,$B5,AVR.20!$E$7:$E$48,"Jour")+COUNTIFS(AVR.20!$P$7:$P$48,$B5,AVR.20!$E$7:$E$48,"Jour")+COUNTIFS(AVR.20!$R$7:$R$48,$B5,AVR.20!$E$7:$E$48,"Jour")+COUNTIFS(AVR.20!$T$7:$T$48,$B5,AVR.20!$E$7:$E$48,"Jour")+COUNTIFS(AVR.20!$V$7:$V$48,$B5,AVR.20!$E$7:$E$48,"Jour")+COUNTIFS(AVR.20!$W$7:$W$48,$B5,AVR.20!$E$7:$E$48,"Jour")+COUNTIFS(AVR.20!$X$7:$X$48,$B5,AVR.20!$E$7:$E$48,"Jour")) -> 0 | AZ5: =IF($A5="","",COUNTIFS(AVR.20!$F$7:$F$48,$B5,AVR.20!$E$7:$E$48,"Nuit")+COUNTIFS(AVR.20!$H$7:$H$48,$B5,AVR.20!$E$7:$E$48,"Nuit")+COUNTIFS(AVR.20!$J$7:$J$48,$B5,AVR.20!$E$7:$E$48,"Nuit")+COUNTIFS(AVR.20!$L$7:$L$48,$B5,AVR.20!$E$7:$E$48,"Nuit")+COUNTIFS(AVR.20!$N$7:$N$48,$B5,AVR.20!$E$7:$E$48,"Nuit")+COUNTIFS(AVR.20!$P$7:$P$48,$B5,AVR.20!$E$7:$E$48,"Nuit")+COUNTIFS(AVR.20!$R$7:$R$48,$B5,AVR.20!$E$7:$E$48,"Nuit")+COUNTIFS(AVR.20!$T$7:$T$48,$B5,AVR.20!$E$7:$E$48,"Nuit")+COUNTIFS(AVR.20!$V$7:$V$48,$B5,AVR.20!$E$7:$E$48,"Nuit")+COUNTIFS(AVR.20!$W$7:$W$48,$B5,AVR.20!$E$7:$E$48,"Nuit")+COUNTIFS(AVR.20!$X$7:$X$48,$B5,AVR.20!$E$7:$E$48,"Nuit")) -> 0 | BA5: =IF($A5="","",COUNTIFS(AVR.20!$F$7:$F$48,$B5,AVR.20!$E$7:$E$48,"Jour")+COUNTIFS(AVR.20!$H$7:$H$48,$B5,AVR.20!$E$7:$E$48,"Jour")+COUNTIFS(AVR.20!$J$7:$J$48,$B5,AVR.20!$E$7:$E$48,"Jour")+COUNTIFS(AVR.20!$L$7:$L$48,$B5,AVR.20!$E$7:$E$48,"Jour")+COUNTIFS(AVR.20!$N$7:$N$48,$B5,AVR.20!$E$7:$E$48,"Jour")+COUNTIFS(AVR.20!$P$7:$P$48,$B5,AVR.20!$E$7:$E$48,"Jour")+COUNTIFS(AVR.20!$R$7:$R$48,$B5,AVR.20!$E$7:$E$48,"Jour")+COUNTIFS(AVR.20!$T$7:$T$48,$B5,AVR.20!$E$7:$E$48,"Jour")+COUNTIFS(AVR.20!$V$7:$V$48,$B5,AVR.20!$E$7:$E$48,"Jour")+COUNTIFS(AVR.20!$W$7:$W$48,$B5,AVR.20!$E$7:$E$48,"Jour")+COUNTIFS(AVR.20!$X$7:$X$48,$B5,AVR.20!$E$7:$E$48,"Jour")) -> 0 | BB5: =IF($A5="","",COUNTIFS(AVR.20!$F$7:$F$48,$B5,AVR.20!$E$7:$E$48,"Nuit")+COUNTIFS(AVR.20!$H$7:$H$48,$B5,AVR.20!$E$7:$E$48,"Nuit")+COUNTIFS(AVR.20!$J$7:$J$48,$B5,AVR.20!$E$7:$E$48,"Nuit")+COUNTIFS(AVR.20!$L$7:$L$48,$B5,AVR.20!$E$7:$E$48,"Nuit")+COUNTIFS(AVR.20!$N$7:$N$48,$B5,AVR.20!$E$7:$E$48,"Nuit")+COUNTIFS(AVR.20!$P$7:$P$48,$B5,AVR.20!$E$7:$E$48,"Nuit")+COUNTIFS(AVR.20!$R$7:$R$48,$B5,AVR.20!$E$7:$E$48,"Nuit")+COUNTIFS(AVR.20!$T$7:$T$48,$B5,AVR.20!$E$7:$E$48,"Nuit")+COUNTIFS(AVR.20!$V$7:$V$48,$B5,AVR.20!$E$7:$E$48,"Nuit")+COUNTIFS(AVR.20!$W$7:$W$48,$B5,AVR.20!$E$7:$E$48,"Nuit")+COUNTIFS(AVR.20!$X$7:$X$48,$B5,AVR.20!$E$7:$E$48,"Nuit")) -> 0 | BC5: =IF($A5="","",COUNTIFS(AVR.20!$F$7:$F$48,$B5,AVR.20!$E$7:$E$48,"Jour")+COUNTIFS(AVR.20!$H$7:$H$48,$B5,AVR.20!$E$7:$E$48,"Jour")+COUNTIFS(AVR.20!$J$7:$J$48,$B5,AVR.20!$E$7:$E$48,"Jour")+COUNTIFS(AVR.20!$L$7:$L$48,$B5,AVR.20!$E$7:$E$48,"Jour")+COUNTIFS(AVR.20!$N$7:$N$48,$B5,AVR.20!$E$7:$E$48,"Jour")+COUNTIFS(AVR.20!$P$7:$P$48,$B5,AVR.20!$E$7:$E$48,"Jour")+COUNTIFS(AVR.20!$R$7:$R$48,$B5,AVR.20!$E$7:$E$48,"Jour")+COUNTIFS(AVR.20!$T$7:$T$48,$B5,AVR.20!$E$7:$E$48,"Jour")+COUNTIFS(AVR.20!$V$7:$V$48,$B5,AVR.20!$E$7:$E$48,"Jour")+COUNTIFS(AVR.20!$W$7:$W$48,$B5,AVR.20!$E$7:$E$48,"Jour")+COUNTIFS(AVR.20!$X$7:$X$48,$B5,AVR.20!$E$7:$E$48,"Jour")) -> 0 | BD5: =IF($A5="","",COUNTIFS(AVR.20!$F$7:$F$48,$B5,AVR.20!$E$7:$E$48,"Nuit")+COUNTIFS(AVR.20!$H$7:$H$48,$B5,AVR.20!$E$7:$E$48,"Nuit")+COUNTIFS(AVR.20!$J$7:$J$48,$B5,AVR.20!$E$7:$E$48,"Nuit")+COUNTIFS(AVR.20!$L$7:$L$48,$B5,AVR.20!$E$7:$E$48,"Nuit")+COUNTIFS(AVR.20!$N$7:$N$48,$B5,AVR.20!$E$7:$E$48,"Nuit")+COUNTIFS(AVR.20!$P$7:$P$48,$B5,AVR.20!$E$7:$E$48,"Nuit")+COUNTIFS(AVR.20!$R$7:$R$48,$B5,AVR.20!$E$7:$E$48,"Nuit")+COUNTIFS(AVR.20!$T$7:$T$48,$B5,AVR.20!$E$7:$E$48,"Nuit")+COUNTIFS(AVR.20!$V$7:$V$48,$B5,AVR.20!$E$7:$E$48,"Nuit")+COUNTIFS(AVR.20!$W$7:$W$48,$B5,AVR.20!$E$7:$E$48,"Nuit")+COUNTIFS(AVR.20!$X$7:$X$48,$B5,AVR.20!$E$7:$E$48,"Nuit")) -> 0 | BE5: =IF($A5="","",COUNTIFS(AVR.20!$F$7:$F$48,$B5,AVR.20!$E$7:$E$48,"Jour")+COUNTIFS(AVR.20!$H$7:$H$48,$B5,AVR.20!$E$7:$E$48,"Jour")+COUNTIFS(AVR.20!$J$7:$J$48,$B5,AVR.20!$E$7:$E$48,"Jour")+COUNTIFS(AVR.20!$L$7:$L$48,$B5,AVR.20!$E$7:$E$48,"Jour")+COUNTIFS(AVR.20!$N$7:$N$48,$B5,AVR.20!$E$7:$E$48,"Jour")+COUNTIFS(AVR.20!$P$7:$P$48,$B5,AVR.20!$E$7:$E$48,"Jour")+COUNTIFS(AVR.20!$R$7:$R$48,$B5,AVR.20!$E$7:$E$48,"Jour")+COUNTIFS(AVR.20!$T$7:$T$48,$B5,AVR.20!$E$7:$E$48,"Jour")+COUNTIFS(AVR.20!$V$7:$V$48,$B5,AVR.20!$E$7:$E$48,"Jour")+COUNTIFS(AVR.20!$W$7:$W$48,$B5,AVR.20!$E$7:$E$48,"Jour")+COUNTIFS(AVR.20!$X$7:$X$48,$B5,AVR.20!$E$7:$E$48,"Jour")) -> 0 | BF5: =IF($A5="","",COUNTIFS(AVR.20!$F$7:$F$48,$B5,AVR.20!$E$7:$E$48,"Nuit")+COUNTIFS(AVR.20!$H$7:$H$48,$B5,AVR.20!$E$7:$E$48,"Nuit")+COUNTIFS(AVR.20!$J$7:$J$48,$B5,AVR.20!$E$7:$E$48,"Nuit")+COUNTIFS(AVR.20!$L$7:$L$48,$B5,AVR.20!$E$7:$E$48,"Nuit")+COUNTIFS(AVR.20!$N$7:$N$48,$B5,AVR.20!$E$7:$E$48,"Nuit")+COUNTIFS(AVR.20!$P$7:$P$48,$B5,AVR.20!$E$7:$E$48,"Nuit")+COUNTIFS(AVR.20!$R$7:$R$48,$B5,AVR.20!$E$7:$E$48,"Nuit")+COUNTIFS(AVR.20!$T$7:$T$48,$B5,AVR.20!$E$7:$E$48,"Nuit")+COUNTIFS(AVR.20!$V$7:$V$48,$B5,AVR.20!$E$7:$E$48,"Nuit")+COUNTIFS(AVR.20!$W$7:$W$48,$B5,AVR.20!$E$7:$E$48,"Nuit")+COUNTIFS(AVR.20!$X$7:$X$48,$B5,AVR.20!$E$7:$E$48,"Nuit")) -> 0 | BG5: =IF($A5="","",COUNTIFS(AVR.20!$F$7:$F$48,$B5,AVR.20!$E$7:$E$48,"Jour")+COUNTIFS(AVR.20!$H$7:$H$48,$B5,AVR.20!$E$7:$E$48,"Jour")+COUNTIFS(AVR.20!$J$7:$J$48,$B5,AVR.20!$E$7:$E$48,"Jour")+COUNTIFS(AVR.20!$L$7:$L$48,$B5,AVR.20!$E$7:$E$48,"Jour")+COUNTIFS(AVR.20!$N$7:$N$48,$B5,AVR.20!$E$7:$E$48,"Jour")+COUNTIFS(AVR.20!$P$7:$P$48,$B5,AVR.20!$E$7:$E$48,"Jour")+COUNTIFS(AVR.20!$R$7:$R$48,$B5,AVR.20!$E$7:$E$48,"Jour")+COUNTIFS(AVR.20!$T$7:$T$48,$B5,AVR.20!$E$7:$E$48,"Jour")+COUNTIFS(AVR.20!$V$7:$V$48,$B5,AVR.20!$E$7:$E$48,"Jour")+COUNTIFS(AVR.20!$W$7:$W$48,$B5,AVR.20!$E$7:$E$48,"Jour")+COUNTIFS(AVR.20!$X$7:$X$48,$B5,AVR.20!$E$7:$E$48,"Jour")) -> 0 | BH5: =IF($A5="","",COUNTIFS(AVR.20!$F$7:$F$48,$B5,AVR.20!$E$7:$E$48,"Nuit")+COUNTIFS(AVR.20!$H$7:$H$48,$B5,AVR.20!$E$7:$E$48,"Nuit")+COUNTIFS(AVR.20!$J$7:$J$48,$B5,AVR.20!$E$7:$E$48,"Nuit")+COUNTIFS(AVR.20!$L$7:$L$48,$B5,AVR.20!$E$7:$E$48,"Nuit")+COUNTIFS(AVR.20!$N$7:$N$48,$B5,AVR.20!$E$7:$E$48,"Nuit")+COUNTIFS(AVR.20!$P$7:$P$48,$B5,AVR.20!$E$7:$E$48,"Nuit")+COUNTIFS(AVR.20!$R$7:$R$48,$B5,AVR.20!$E$7:$E$48,"Nuit")+COUNTIFS(AVR.20!$T$7:$T$48,$B5,AVR.20!$E$7:$E$48,"Nuit")+COUNTIFS(AVR.20!$V$7:$V$48,$B5,AVR.20!$E$7:$E$48,"Nuit")+COUNTIFS(AVR.20!$W$7:$W$48,$B5,AVR.20!$E$7:$E$48,"Nuit")+COUNTIFS(AVR.20!$X$7:$X$48,$B5,AVR.20!$E$7:$E$48,"Nuit")) -> 0 | BI5: =IF($A5="","",COUNTIFS(AVR.20!$F$7:$F$48,$B5,AVR.20!$E$7:$E$48,"Jour")+COUNTIFS(AVR.20!$H$7:$H$48,$B5,AVR.20!$E$7:$E$48,"Jour")+COUNTIFS(AVR.20!$J$7:$J$48,$B5,AVR.20!$E$7:$E$48,"Jour")+COUNTIFS(AVR.20!$L$7:$L$48,$B5,AVR.20!$E$7:$E$48,"Jour")+COUNTIFS(AVR.20!$N$7:$N$48,$B5,AVR.20!$E$7:$E$48,"Jour")+COUNTIFS(AVR.20!$P$7:$P$48,$B5,AVR.20!$E$7:$E$48,"Jour")+COUNTIFS(AVR.20!$R$7:$R$48,$B5,AVR.20!$E$7:$E$48,"Jour")+COUNTIFS(AVR.20!$T$7:$T$48,$B5,AVR.20!$E$7:$E$48,"Jour")+COUNTIFS(AVR.20!$V$7:$V$48,$B5,AVR.20!$E$7:$E$48,"Jour")+COUNTIFS(AVR.20!$W$7:$W$48,$B5,AVR.20!$E$7:$E$48,"Jour")+COUNTIFS(AVR.20!$X$7:$X$48,$B5,AVR.20!$E$7:$E$48,"Jour")) -> 0 | BJ5: =IF($A5="","",COUNTIFS(AVR.20!$F$7:$F$48,$B5,AVR.20!$E$7:$E$48,"Nuit")+COUNTIFS(AVR.20!$H$7:$H$48,$B5,AVR.20!$E$7:$E$48,"Nuit")+COUNTIFS(AVR.20!$J$7:$J$48,$B5,AVR.20!$E$7:$E$48,"Nuit")+COUNTIFS(AVR.20!$L$7:$L$48,$B5,AVR.20!$E$7:$E$48,"Nuit")+COUNTIFS(AVR.20!$N$7:$N$48,$B5,AVR.20!$E$7:$E$48,"Nuit")+COUNTIFS(AVR.20!$P$7:$P$48,$B5,AVR.20!$E$7:$E$48,"Nuit")+COUNTIFS(AVR.20!$R$7:$R$48,$B5,AVR.20!$E$7:$E$48,"Nuit")+COUNTIFS(AVR.20!$T$7:$T$48,$B5,AVR.20!$E$7:$E$48,"Nuit")+COUNTIFS(AVR.20!$V$7:$V$48,$B5,AVR.20!$E$7:$E$48,"Nuit")+COUNTIFS(AVR.20!$W$7:$W$48,$B5,AVR.20!$E$7:$E$48,"Nuit")+COUNTIFS(AVR.20!$X$7:$X$48,$B5,AVR.20!$E$7:$E$48,"Nuit")) -> 0 | BK5: =IF($A5="","",COUNTIFS(AVR.20!$F$7:$F$48,$B5,AVR.20!$E$7:$E$48,"Jour")+COUNTIFS(AVR.20!$H$7:$H$48,$B5,AVR.20!$E$7:$E$48,"Jour")+COUNTIFS(AVR.20!$J$7:$J$48,$B5,AVR.20!$E$7:$E$48,"Jour")+COUNTIFS(AVR.20!$L$7:$L$48,$B5,AVR.20!$E$7:$E$48,"Jour")+COUNTIFS(AVR.20!$N$7:$N$48,$B5,AVR.20!$E$7:$E$48,"Jour")+COUNTIFS(AVR.20!$P$7:$P$48,$B5,AVR.20!$E$7:$E$48,"Jour")+COUNTIFS(AVR.20!$R$7:$R$48,$B5,AVR.20!$E$7:$E$48,"Jour")+COUNTIFS(AVR.20!$T$7:$T$48,$B5,AVR.20!$E$7:$E$48,"Jour")+COUNTIFS(AVR.20!$V$7:$V$48,$B5,AVR.20!$E$7:$E$48,"Jour")+COUNTIFS(AVR.20!$W$7:$W$48,$B5,AVR.20!$E$7:$E$48,"Jour")+COUNTIFS(AVR.20!$X$7:$X$48,$B5,AVR.20!$E$7:$E$48,"Jour")) -> 0 | BL5: =IF($A5="","",COUNTIFS(AVR.20!$F$7:$F$48,$B5,AVR.20!$E$7:$E$48,"Nuit")+COUNTIFS(AVR.20!$H$7:$H$48,$B5,AVR.20!$E$7:$E$48,"Nuit")+COUNTIFS(AVR.20!$J$7:$J$48,$B5,AVR.20!$E$7:$E$48,"Nuit")+COUNTIFS(AVR.20!$L$7:$L$48,$B5,AVR.20!$E$7:$E$48,"Nuit")+COUNTIFS(AVR.20!$N$7:$N$48,$B5,AVR.20!$E$7:$E$48,"Nuit")+COUNTIFS(AVR.20!$P$7:$P$48,$B5,AVR.20!$E$7:$E$48,"Nuit")+COUNTIFS(AVR.20!$R$7:$R$48,$B5,AVR.20!$E$7:$E$48,"Nuit")+COUNTIFS(AVR.20!$T$7:$T$48,$B5,AVR.20!$E$7:$E$48,"Nuit")+COUNTIFS(AVR.20!$V$7:$V$48,$B5,AVR.20!$E$7:$E$48,"Nuit")+COUNTIFS(AVR.20!$W$7:$W$48,$B5,AVR.20!$E$7:$E$48,"Nuit")+COUNTIFS(AVR.20!$X$7:$X$48,$B5,AVR.20!$E$7:$E$48,"Nuit")) -> 0 | BM5: =IF($A5="","",COUNTIFS(AVR.20!$F$7:$F$48,$B5,AVR.20!$E$7:$E$48,"Jour")+COUNTIFS(AVR.20!$H$7:$H$48,$B5,AVR.20!$E$7:$E$48,"Jour")+COUNTIFS(AVR.20!$J$7:$J$48,$B5,AVR.20!$E$7:$E$48,"Jour")+COUNTIFS(AVR.20!$L$7:$L$48,$B5,AVR.20!$E$7:$E$48,"Jour")+COUNTIFS(AVR.20!$N$7:$N$48,$B5,AVR.20!$E$7:$E$48,"Jour")+COUNTIFS(AVR.20!$P$7:$P$48,$B5,AVR.20!$E$7:$E$48,"Jour")+COUNTIFS(AVR.20!$R$7:$R$48,$B5,AVR.20!$E$7:$E$48,"Jour")+COUNTIFS(AVR.20!$T$7:$T$48,$B5,AVR.20!$E$7:$E$48,"Jour")+COUNTIFS(AVR.20!$V$7:$V$48,$B5,AVR.20!$E$7:$E$48,"Jour")+COUNTIFS(AVR.20!$W$7:$W$48,$B5,AVR.20!$E$7:$E$48,"Jour")+COUNTIFS(AVR.20!$X$7:$X$48,$B5,AVR.20!$E$7:$E$48,"Jour")) -> 0 | BO5: =AP5+AR5+AT5+AV5+AX5+AZ5+BB5+BD5+BF5+BH5+BJ5+BL5 -> 13 | BP5: =AQ5+AS5+AU5+AW5+AY5+BA5+BC5+BE5+BG5+BI5+BK5+BM5 -> 1
A6: ARMAND Marléne | B6: ARMAND M (3) | C6: Sap1 | D6: S3 | E6: Eq | N6: =IF($A6="","",COUNTIFS(#REF!,B6,#REF!,"Nuit")+COUNTIFS(#REF!,B6,#REF!,"Nuit")+COUNTIFS(#REF!,B6,#REF!,"Nuit")+COUNTIFS(#REF!,B6,#REF!,"Nuit")+COUNTIFS(#REF!,B6,#REF!,"Nuit")+COUNTIFS(#REF!,B6,#REF!,"Nuit")+COUNTIFS(#REF!,B6,#REF!,"Nuit")+COUNTIFS(#REF!,B6,#REF!,"Nuit")+COUNTIFS(#REF!,B6,#REF!,"Nuit")+COUNTIFS(#REF!,B6,#REF!,"Nuit")+COUNTIFS(#REF!,B6,#REF!,"Nuit")) -> #REF! | O6: =IF($A6="","",COUNTIFS(#REF!,B6,#REF!,"Jour")+COUNTIFS(#REF!,B6,#REF!,"Jour")+COUNTIFS(#REF!,B6,#REF!,"Jour")+COUNTIFS(#REF!,B6,#REF!,"Jour")+COUNTIFS(#REF!,B6,#REF!,"Jour")+COUNTIFS(#REF!,B6,#REF!,"Jour")+COUNTIFS(#REF!,B6,#REF!,"Jour")+COUNTIFS(#REF!,B6,#REF!,"Jour")+COUNTIFS(#REF!,B6,#REF!,"Jour")+COUNTIFS(#REF!,B6,#REF!,"Jour")+COUNTIFS(#REF!,B6,#REF!,"Jour")) -> #REF! | P6: =IF($A6="","",COUNTIFS(#REF!,B6,#REF!,"Nuit")+COUNTIFS(#REF!,B6,#REF!,"Nuit")+COUNTIFS(#REF!,B6,#REF!,"Nuit")+COUNTIFS(#REF!,B6,#REF!,"Nuit")+COUNTIFS(#REF!,B6,#REF!,"Nuit")+COUNTIFS(#REF!,B6,#REF!,"Nuit")+COUNTIFS(#REF!,B6,#REF!,"Nuit")+COUNTIFS(#REF!,B6,#REF!,"Nuit")+COUNTIFS(#REF!,B6,#REF!,"Nuit")+COUNTIFS(#REF!,B6,#REF!,"Nuit")+COUNTIFS(#REF!,B6,#REF!,"Nuit")) -> #REF! | Q6: =IF($A6="","",COUNTIFS(#REF!,B6,#REF!,"Jour")+COUNTIFS(#REF!,B6,#REF!,"Jour")+COUNTIFS(#REF!,B6,#REF!,"Jour")+COUNTIFS(#REF!,B6,#REF!,"Jour")+COUNTIFS(#REF!,B6,#REF!,"Jour")+COUNTIFS(#REF!,B6,#REF!,"Jour")+COUNTIFS(#REF!,B6,#REF!,"Jour")+COUNTIFS(#REF!,B6,#REF!,"Jour")+COUNTIFS(#REF!,B6,#REF!,"Jour")+COUNTIFS(#REF!,B6,#REF!,"Jour")+COUNTIFS(#REF!,B6,#REF!,"Jour")) -> #REF! | R6: =IF($A6="","",COUNTIFS(#REF!,B6,#REF!,"Nuit")+COUNTIFS(#REF!,B6,#REF!,"Nuit")+COUNTIFS(#REF!,B6,#REF!,"Nuit")+COUNTIFS(#REF!,B6,#REF!,"Nuit")+COUNTIFS(#REF!,B6,#REF!,"Nuit")+COUNTIFS(#REF!,B6,#REF!,"Nuit")+COUNTIFS(#REF!,B6,#REF!,"Nuit")+COUNTIFS(#REF!,B6,#REF!,"Nuit")+COUNTIFS(#REF!,B6,#REF!,"Nuit")+COUNTIFS(#REF!,B6,#REF!,"Nuit")+COUNTIFS(#REF!,B6,#REF!,"Nuit")) -> #REF! | S6: =IF($A6="","",COUNTIFS(#REF!,B6,#REF!,"Jour")+COUNTIFS(#REF!,B6,#REF!,"Jour")+COUNTIFS(#REF!,B6,#REF!,"Jour")+COUNTIFS(#REF!,B6,#REF!,"Jour")+COUNTIFS(#REF!,B6,#REF!,"Jour")+COUNTIFS(#REF!,B6,#REF!,"Jour")+COUNTIFS(#REF!,B6,#REF!,"Jour")+COUNTIFS(#REF!,B6,#REF!,"Jour")+COUNTIFS(#REF!,B6,#REF!,"Jour")+COUNTIFS(#REF!,B6,#REF!,"Jour")+COUNTIFS(#REF!,B6,#REF!,"Jour")) -> #REF! | T6: =IF($A6="","",COUNTIFS(#REF!,B6,#REF!,"Nuit")+COUNTIFS(#REF!,B6,#REF!,"Nuit")+COUNTIFS(#REF!,B6,#REF!,"Nuit")+COUNTIFS(#REF!,B6,#REF!,"Nuit")+COUNTIFS(#REF!,B6,#REF!,"Nuit")+COUNTIFS(#REF!,B6,#REF!,"Nuit")+COUNTIFS(#REF!,B6,#REF!,"Nuit")+COUNTIFS(#REF!,B6,#REF!,"Nuit")+COUNTIFS(#REF!,B6,#REF!,"Nuit")+COUNTIFS(#REF!,B6,#REF!,"Nuit")+COUNTIFS(#REF!,B6,#REF!,"Nuit")) -> #REF! | U6: =IF($A6="","",COUNTIFS(#REF!,B6,#REF!,"Jour")+COUNTIFS(#REF!,B6,#REF!,"Jour")+COUNTIFS(#REF!,B6,#REF!,"Jour")+COUNTIFS(#REF!,B6,#REF!,"Jour")+COUNTIFS(#REF!,B6,#REF!,"Jour")+COUNTIFS(#REF!,B6,#REF!,"Jour")+COUNTIFS(#REF!,B6,#REF!,"Jour")+COUNTIFS(#REF!,B6,#REF!,"Jour")+COUNTIFS(#REF!,B6,#REF!,"Jour")+COUNTIFS(#REF!,B6,#REF!,"Jour")+COUNTIFS(#REF!,B6,#REF!,"Jour")) -> #REF! | V6: =IF($A6="","",COUNTIFS(#REF!,B6,#REF!,"Nuit")+COUNTIFS(#REF!,B6,#REF!,"Nuit")+COUNTIFS(#REF!,B6,#REF!,"Nuit")+COUNTIFS(#REF!,B6,#REF!,"Nuit")+COUNTIFS(#REF!,B6,#REF!,"Nuit")+COUNTIFS(#REF!,B6,#REF!,"Nuit")+COUNTIFS(#REF!,B6,#REF!,"Nuit")+COUNTIFS(#REF!,B6,#REF!,"Nuit")+COUNTIFS(#REF!,B6,#REF!,"Nuit")+COUNTIFS(#REF!,B6,#REF!,"Nuit")+COUNTIFS(#REF!,B6,#REF!,"Nuit")) -> #REF! | W6: =IF($A6="","",COUNTIFS(#REF!,B6,#REF!,"Jour")+COUNTIFS(#REF!,B6,#REF!,"Jour")+COUNTIFS(#REF!,B6,#REF!,"Jour")+COUNTIFS(#REF!,B6,#REF!,"Jour")+COUNTIFS(#REF!,B6,#REF!,"Jour")+COUNTIFS(#REF!,B6,#REF!,"Jour")+COUNTIFS(#REF!,B6,#REF!,"Jour")+COUNTIFS(#REF!,B6,#REF!,"Jour")+COUNTIFS(#REF!,B6,#REF!,"Jour")+COUNTIFS(#REF!,B6,#REF!,"Jour")+COUNTIFS(#REF!,B6,#REF!,"Jour")) -> #REF! | X6: =IF($A6="","",COUNTIFS(#REF!,B6,#REF!,"Nuit")+COUNTIFS(#REF!,B6,#REF!,"Nuit")+COUNTIFS(#REF!,B6,#REF!,"Nuit")+COUNTIFS(#REF!,B6,#REF!,"Nuit")+COUNTIFS(#REF!,B6,#REF!,"Nuit")+COUNTIFS(#REF!,B6,#REF!,"Nuit")+COUNTIFS(#REF!,B6,#REF!,"Nuit")+COUNTIFS(#REF!,B6,#REF!,"Nuit")+COUNTIFS(#REF!,B6,#REF!,"Nuit")+COUNTIFS(#REF!,B6,#REF!,"Nuit")+COUNTIFS(#REF!,B6,#REF!,"Nuit")) -> #REF! | Y6: =IF($A6="","",COUNTIFS(#REF!,B6,#REF!,"Jour")+COUNTIFS(#REF!,B6,#REF!,"Jour")+COUNTIFS(#REF!,B6,#REF!,"Jour")+COUNTIFS(#REF!,B6,#REF!,"Jour")+COUNTIFS(#REF!,B6,#REF!,"Jour")+COUNTIFS(#REF!,B6,#REF!,"Jour")+COUNTIFS(#REF!,B6,#REF!,"Jour")+COUNTIFS(#REF!,B6,#REF!,"Jour")+COUNTIFS(#REF!,B6,#REF!,"Jour")+COUNTIFS(#REF!,B6,#REF!,"Jour")+COUNTIFS(#REF!,B6,#REF!,"Jour")) -> #REF! | Z6: =IF($A6="","",COUNTIFS(#REF!,$B6,#REF!,"Nuit")+COUNTIFS(#REF!,B6,#REF!,"Nuit")+COUNTIFS(#REF!,B6,#REF!,"Nuit")+COUNTIFS(#REF!,B6,#REF!,"Nuit")+COUNTIFS(#REF!,B6,#REF!,"Nuit")+COUNTIFS(#REF!,B6,#REF!,"Nuit")+COUNTIFS(#REF!,B6,#REF!,"Nuit")+COUNTIFS(#REF!,B6,#REF!,"Nuit")+COUNTIFS(#REF!,B6,#REF!,"Nuit")+COUNTIFS(#REF!,B6,#REF!,"Nuit")+COUNTIFS(#REF!,B6,#REF!,"Nuit")) -> #REF! | AA6: =IF($A6="","",COUNTIFS(#REF!,$B6,#REF!,"Jour")+COUNTIFS(#REF!,$B6,#REF!,"Jour")+COUNTIFS(#REF!,$B6,#REF!,"Jour")+COUNTIFS(#REF!,$B6,#REF!,"Jour")+COUNTIFS(#REF!,$B6,#REF!,"Jour")+COUNTIFS(#REF!,$B6,#REF!,"Jour")+COUNTIFS(#REF!,$B6,#REF!,"Jour")+COUNTIFS(#REF!,$B6,#REF!,"Jour")+COUNTIFS(#REF!,$B6,#REF!,"Jour")+COUNTIFS(#REF!,$B6,#REF!,"Jour")+COUNTIFS(#REF!,$B6,#REF!,"Jour")) -> #REF! | AB6: =IF($A6="","",COUNTIFS(#REF!,$B6,#REF!,"Nuit")+COUNTIFS(#REF!,$B6,#REF!,"Nuit")+COUNTIFS(#REF!,$B6,#REF!,"Nuit")+COUNTIFS(#REF!,$B6,#REF!,"Nuit")+COUNTIFS(#REF!,$B6,#REF!,"Nuit")+COUNTIFS(#REF!,$B6,#REF!,"Nuit")+COUNTIFS(#REF!,$B6,#REF!,"Nuit")+COUNTIFS(#REF!,$B6,#REF!,"Nuit")+COUNTIFS(#REF!,$B6,#REF!,"Nuit")+COUNTIFS(#REF!,$B6,#REF!,"Nuit")+COUNTIFS(#REF!,$B6,#REF!,"Nuit")) -> #REF! | AC6: =IF($A6="","",COUNTIFS(#REF!,$B6,#REF!,"Jour")+COUNTIFS(#REF!,$B6,#REF!,"Jour")+COUNTIFS(#REF!,$B6,#REF!,"Jour")+COUNTIFS(#REF!,$B6,#REF!,"Jour")+COUNTIFS(#REF!,$B6,#REF!,"Jour")+COUNTIFS(#REF!,$B6,#REF!,"Jour")+COUNTIFS(#REF!,$B6,#REF!,"Jour")+COUNTIFS(#REF!,$B6,#REF!,"Jour")+COUNTIFS(#REF!,$B6,#REF!,"Jour")+COUNTIFS(#REF!,$B6,#REF!,"Jour")+COUNTIFS(#REF!,$B6,#REF!,"Jour")) -> #REF! | AD6: =IF($A6="","",COUNTIFS(#REF!,$B6,#REF!,"Nuit")+COUNTIFS(#REF!,$B6,#REF!,"Nuit")+COUNTIFS(#REF!,$B6,#REF!,"Nuit")+COUNTIFS(#REF!,$B6,#REF!,"Nuit")+COUNTIFS(#REF!,$B6,#REF!,"Nuit")+COUNTIFS(#REF!,$B6,#REF!,"Nuit")+COUNTIFS(#REF!,$B6,#REF!,"Nuit")+COUNTIFS(#REF!,$B6,#REF!,"Nuit")+COUNTIFS(#REF!,$B6,#REF!,"Nuit")+COUNTIFS(#REF!,$B6,#REF!,"Nuit")+COUNTIFS(#REF!,$B6,#REF!,"Nuit")) -> #REF! | AE6: =IF($A6="","",COUNTIFS(#REF!,$B6,#REF!,"Jour")+COUNTIFS(#REF!,$B6,#REF!,"Jour")+COUNTIFS(#REF!,$B6,#REF!,"Jour")+COUNTIFS(#REF!,$B6,#REF!,"Jour")+COUNTIFS(#REF!,$B6,#REF!,"Jour")+COUNTIFS(#REF!,$B6,#REF!,"Jour")+COUNTIFS(#REF!,$B6,#REF!,"Jour")+COUNTIFS(#REF!,$B6,#REF!,"Jour")+COUNTIFS(#REF!,$B6,#REF!,"Jour")+COUNTIFS(#REF!,$B6,#REF!,"Jour")+COUNTIFS(#REF!,$B6,#REF!,"Jour")) -> #REF! | AF6: =IF($A6="","",COUNTIFS(#REF!,$B6,#REF!,"Nuit")+COUNTIFS(#REF!,$B6,#REF!,"Nuit")+COUNTIFS(#REF!,$B6,#REF!,"Nuit")+COUNTIFS(#REF!,$B6,#REF!,"Nuit")+COUNTIFS(#REF!,$B6,#REF!,"Nuit")+COUNTIFS(#REF!,$B6,#REF!,"Nuit")+COUNTIFS(#REF!,$B6,#REF!,"Nuit")+COUNTIFS(#REF!,$B6,#REF!,"Nuit")+COUNTIFS(#REF!,$B6,#REF!,"Nuit")+COUNTIFS(#REF!,$B6,#REF!,"Nuit")+COUNTIFS(#REF!,$B6,#REF!,"Nuit")) -> #REF! | AG6: =IF($A6="","",COUNTIFS(#REF!,$B6,#REF!,"Jour")+COUNTIFS(#REF!,$B6,#REF!,"Jour")+COUNTIFS(#REF!,$B6,#REF!,"Jour")+COUNTIFS(#REF!,$B6,#REF!,"Jour")+COUNTIFS(#REF!,$B6,#REF!,"Jour")+COUNTIFS(#REF!,$B6,#REF!,"Jour")+COUNTIFS(#REF!,$B6,#REF!,"Jour")+COUNTIFS(#REF!,$B6,#REF!,"Jour")+COUNTIFS(#REF!,$B6,#REF!,"Jour")+COUNTIFS(#REF!,$B6,#REF!,"Jour")+COUNTIFS(#REF!,$B6,#REF!,"Jour")) -> #REF! | AH6: =IF($A6="","",COUNTIFS(#REF!,$B6,#REF!,"Nuit")+COUNTIFS(#REF!,$B6,#REF!,"Nuit")+COUNTIFS(#REF!,$B6,#REF!,"Nuit")+COUNTIFS(#REF!,$B6,#REF!,"Nuit")+COUNTIFS(#REF!,$B6,#REF!,"Nuit")+COUNTIFS(#REF!,$B6,#REF!,"Nuit")+COUNTIFS(#REF!,$B6,#REF!,"Nuit")+COUNTIFS(#REF!,$B6,#REF!,"Nuit")+COUNTIFS(#REF!,$B6,#REF!,"Nuit")+COUNTIFS(#REF!,$B6,#REF!,"Nuit")+COUNTIFS(#REF!,$B6,#REF!,"Nuit")) -> #REF! | AI6: =IF($A6="","",COUNTIFS(#REF!,$B6,#REF!,"Jour")+COUNTIFS(#REF!,$B6,#REF!,"Jour")+COUNTIFS(#REF!,$B6,#REF!,"Jour")+COUNTIFS(#REF!,$B6,#REF!,"Jour")+COUNTIFS(#REF!,$B6,#REF!,"Jour")+COUNTIFS(#REF!,$B6,#REF!,"Jour")+COUNTIFS(#REF!,$B6,#REF!,"Jour")+COUNTIFS(#REF!,$B6,#REF!,"Jour")+COUNTIFS(#REF!,$B6,#REF!,"Jour")+COUNTIFS(#REF!,$B6,#REF!,"Jour")+COUNTIFS(#REF!,$B6,#REF!,"Jour")) -> #REF! | AJ6: =IF($A6="","",COUNTIFS(#REF!,$B6,#REF!,"Nuit")+COUNTIFS(#REF!,$B6,#REF!,"Nuit")+COUNTIFS(#REF!,$B6,#REF!,"Nuit")+COUNTIFS(#REF!,$B6,#REF!,"Nuit")+COUNTIFS(#REF!,$B6,#REF!,"Nuit")+COUNTIFS(#REF!,$B6,#REF!,"Nuit")+COUNTIFS(#REF!,$B6,#REF!,"Nuit")+COUNTIFS(#REF!,$B6,#REF!,"Nuit")+COUNTIFS(#REF!,$B6,#REF!,"Nuit")+COUNTIFS(#REF!,$B6,#REF!,"Nuit")+COUNTIFS(#REF!,$B6,#REF!,"Nuit")) -> #REF! | AK6: =IF($A6="","",COUNTIFS(#REF!,$B6,#REF!,"Jour")+COUNTIFS(#REF!,$B6,#REF!,"Jour")+COUNTIFS(#REF!,$B6,#REF!,"Jour")+COUNTIFS(#REF!,$B6,#REF!,"Jour")+COUNTIFS(#REF!,$B6,#REF!,"Jour")+COUNTIFS(#REF!,$B6,#REF!,"Jour")+COUNTIFS(#REF!,$B6,#REF!,"Jour")+COUNTIFS(#REF!,$B6,#REF!,"Jour")+COUNTIFS(#REF!,$B6,#REF!,"Jour")+COUNTIFS(#REF!,$B6,#REF!,"Jour")+COUNTIFS(#REF!,$B6,#REF!,"Jour")) -> #REF! | AM6: =N6+P6+R6+T6+V6+X6+Z6+AB6+AD6+AF6+AH6+AJ6 -> #REF! | AN6: =O6+Q6+S6+U6+W6+Y6+AA6+AC6+AE6+AG6+AI6+AK6 -> #REF! | AO6: =(AM6*0.6*6)+(AN6*0.6*12) -> #REF! | AP6: =IF($A6="","",COUNTIFS(JAN.20!$F$7:$F$48,$B6,JAN.20!$E$7:$E$48,"Nuit")+COUNTIFS(JAN.20!$H$7:$H$48,$B6,JAN.20!$E$7:$E$48,"Nuit")+COUNTIFS(JAN.20!$J$7:$J$48,$B6,JAN.20!$E$7:$E$48,"Nuit")+COUNTIFS(JAN.20!$L$7:$L$48,$B6,JAN.20!$E$7:$E$48,"Nuit")+COUNTIFS(JAN.20!$N$7:$N$48,$B6,JAN.20!$E$7:$E$48,"Nuit")+COUNTIFS(JAN.20!$P$7:$P$48,$B6,JAN.20!$E$7:$E$48,"Nuit")+COUNTIFS(JAN.20!$R$7:$R$48,$B6,JAN.20!$E$7:$E$48,"Nuit")+COUNTIFS(JAN.20!$T$7:$T$48,$B6,JAN.20!$E$7:$E$48,"Nuit")+COUNTIFS(JAN.20!$V$7:$V$48,$B6,JAN.20!$E$7:$E$48,"Nuit")+COUNTIFS(JAN.20!$W$7:$W$48,$B6,JAN.20!$E$7:$E$48,"Nuit")+COUNTIFS(JAN.20!$X$7:$X$48,$B6,JAN.20!$E$7:$E$48,"Nuit")) -> 6 | AQ6: =IF($A6="","",COUNTIFS(JAN.20!$F$7:$F$48,$B6,JAN.20!$E$7:$E$48,"Jour")+COUNTIFS(JAN.20!$H$7:$H$48,$B6,JAN.20!$E$7:$E$48,"Jour")+COUNTIFS(JAN.20!$J$7:$J$48,$B6,JAN.20!$E$7:$E$48,"Jour")+COUNTIFS(JAN.20!$L$7:$L$48,$B6,JAN.20!$E$7:$E$48,"Jour")+COUNTIFS(JAN.20!$N$7:$N$48,$B6,JAN.20!$E$7:$E$48,"Jour")+COUNTIFS(JAN.20!$P$7:$P$48,$B6,JAN.20!$E$7:$E$48,"Jour")+COUNTIFS(JAN.20!$R$7:$R$48,$B6,JAN.20!$E$7:$E$48,"Jour")+COUNTIFS(JAN.20!$T$7:$T$48,$B6,JAN.20!$E$7:$E$48,"Jour")+COUNTIFS(JAN.20!$V$7:$V$48,$B6,JAN.20!$E$7:$E$48,"Jour")+COUNTIFS(JAN.20!$W$7:$W$48,$B6,JAN.20!$E$7:$E$48,"Jour")+COUNTIFS(JAN.20!$X$7:$X$48,$B6,JAN.20!$E$7:$E$48,"Jour")) -> 2 | AR6: =IF($A6="","",COUNTIFS(FEV.20!$F$7:$F$48,$B6,FEV.20!$E$7:$E$48,"Nuit")+COUNTIFS(FEV.20!$H$7:$H$48,$B6,FEV.20!$E$7:$E$48,"Nuit")+COUNTIFS(FEV.20!$J$7:$J$48,$B6,FEV.20!$E$7:$E$48,"Nuit")+COUNTIFS(FEV.20!$L$7:$L$48,$B6,FEV.20!$E$7:$E$48,"Nuit")+COUNTIFS(FEV.20!$N$7:$N$48,$B6,FEV.20!$E$7:$E$48,"Nuit")+COUNTIFS(FEV.20!$P$7:$P$48,$B6,FEV.20!$E$7:$E$48,"Nuit")+COUNTIFS(FEV.20!$R$7:$R$48,$B6,FEV.20!$E$7:$E$48,"Nuit")+COUNTIFS(FEV.20!$T$7:$T$48,$B6,FEV.20!$E$7:$E$48,"Nuit")+COUNTIFS(FEV.20!$V$7:$V$48,$B6,FEV.20!$E$7:$E$48,"Nuit")+COUNTIFS(FEV.20!$W$7:$W$48,$B6,FEV.20!$E$7:$E$48,"Nuit")+COUNTIFS(FEV.20!$X$7:$X$48,$B6,FEV.20!$E$7:$E$48,"Nuit")) -> 5 | AS6: =IF($A6="","",COUNTIFS(FEV.20!$F$7:$F$48,$B6,FEV.20!$E$7:$E$48,"Jour")+COUNTIFS(FEV.20!$H$7:$H$48,$B6,FEV.20!$E$7:$E$48,"Jour")+COUNTIFS(FEV.20!$J$7:$J$48,$B6,FEV.20!$E$7:$E$48,"Jour")+COUNTIFS(FEV.20!$L$7:$L$48,$B6,FEV.20!$E$7:$E$48,"Jour")+COUNTIFS(FEV.20!$N$7:$N$48,$B6,FEV.20!$E$7:$E$48,"Jour")+COUNTIFS(FEV.20!$P$7:$P$48,$B6,FEV.20!$E$7:$E$48,"Jour")+COUNTIFS(FEV.20!$R$7:$R$48,$B6,FEV.20!$E$7:$E$48,"Jour")+COUNTIFS(FEV.20!$T$7:$T$48,$B6,FEV.20!$E$7:$E$48,"Jour")+COUNTIFS(FEV.20!$V$7:$V$48,$B6,FEV.20!$E$7:$E$48,"Jour")+COUNTIFS(FEV.20!$W$7:$W$48,$B6,FEV.20!$E$7:$E$48,"Jour")+COUNTIFS(FEV.20!$X$7:$X$48,$B6,FEV.20!$E$7:$E$48,"Jour")) -> 4 | AT6: =IF($A6="","",COUNTIFS(Mars.20!$F$7:$F$48,$B6,Mars.20!$E$7:$E$48,"Nuit")+COUNTIFS(Mars.20!$H$7:$H$48,$B6,Mars.20!$E$7:$E$48,"Nuit")+COUNTIFS(Mars.20!$J$7:$J$48,$B6,Mars.20!$E$7:$E$48,"Nuit")+COUNTIFS(Mars.20!$L$7:$L$48,$B6,Mars.20!$E$7:$E$48,"Nuit")+COUNTIFS(Mars.20!$N$7:$N$48,$B6,Mars.20!$E$7:$E$48,"Nuit")+COUNTIFS(Mars.20!$P$7:$P$48,$B6,Mars.20!$E$7:$E$48,"Nuit")+COUNTIFS(Mars.20!$R$7:$R$48,$B6,Mars.20!$E$7:$E$48,"Nuit")+COUNTIFS(Mars.20!$T$7:$T$48,$B6,Mars.20!$E$7:$E$48,"Nuit")+COUNTIFS(Mars.20!$V$7:$V$48,$B6,Mars.20!$E$7:$E$48,"Nuit")+COUNTIFS(Mars.20!$W$7:$W$48,$B6,Mars.20!$E$7:$E$48,"Nuit")+COUNTIFS(Mars.20!$X$7:$X$48,$B6,Mars.20!$E$7:$E$48,"Nuit")) -> 4 | AU6: =IF($A6="","",COUNTIFS(Mars.20!$F$7:$F$48,$B6,Mars.20!$E$7:$E$48,"Jour")+COUNTIFS(Mars.20!$H$7:$H$48,$B6,Mars.20!$E$7:$E$48,"Jour")+COUNTIFS(Mars.20!$J$7:$J$48,$B6,Mars.20!$E$7:$E$48,"Jour")+COUNTIFS(Mars.20!$L$7:$L$48,$B6,Mars.20!$E$7:$E$48,"Jour")+COUNTIFS(Mars.20!$N$7:$N$48,$B6,Mars.20!$E$7:$E$48,"Jour")+COUNTIFS(Mars.20!$P$7:$P$48,$B6,Mars.20!$E$7:$E$48,"Jour")+COUNTIFS(Mars.20!$R$7:$R$48,$B6,Mars.20!$E$7:$E$48,"Jour")+COUNTIFS(Mars.20!$T$7:$T$48,$B6,Mars.20!$E$7:$E$48,"Jour")+COUNTIFS(Mars.20!$V$7:$V$48,$B6,Mars.20!$E$7:$E$48,"Jour")+COUNTIFS(Mars.20!$W$7:$W$48,$B6,Mars.20!$E$7:$E$48,"Jour")+COUNTIFS(Mars.20!$X$7:$X$48,$B6,Mars.20!$E$7:$E$48,"Jour")) -> 4 | AV6: =IF($A6="","",COUNTIFS(AVR.20!$F$7:$F$48,$B6,AVR.20!$E$7:$E$48,"Nuit")+COUNTIFS(AVR.20!$H$7:$H$48,$B6,AVR.20!$E$7:$E$48,"Nuit")+COUNTIFS(AVR.20!$J$7:$J$48,$B6,AVR.20!$E$7:$E$48,"Nuit")+COUNTIFS(AVR.20!$L$7:$L$48,$B6,AVR.20!$E$7:$E$48,"Nuit")+COUNTIFS(AVR.20!$N$7:$N$48,$B6,AVR.20!$E$7:$E$48,"Nuit")+COUNTIFS(AVR.20!$P$7:$P$48,$B6,AVR.20!$E$7:$E$48,"Nuit")+COUNTIFS(AVR.20!$R$7:$R$48,$B6,AVR.20!$E$7:$E$48,"Nuit")+COUNTIFS(AVR.20!$T$7:$T$48,$B6,AVR.20!$E$7:$E$48,"Nuit")+COUNTIFS(AVR.20!$V$7:$V$48,$B6,AVR.20!$E$7:$E$48,"Nuit")+COUNTIFS(AVR.20!$W$7:$W$48,$B6,AVR.20!$E$7:$E$48,"Nuit")+COUNTIFS(AVR.20!$X$7:$X$48,$B6,AVR.20!$E$7:$E$48,"Nuit")) -> 0 | AW6: =IF($A6="","",COUNTIFS(AVR.20!$F$7:$F$48,$B6,AVR.20!$E$7:$E$48,"Jour")+COUNTIFS(AVR.20!$H$7:$H$48,$B6,AVR.20!$E$7:$E$48,"Jour")+COUNTIFS(AVR.20!$J$7:$J$48,$B6,AVR.20!$E$7:$E$48,"Jour")+COUNTIFS(AVR.20!$L$7:$L$48,$B6,AVR.20!$E$7:$E$48,"Jour")+COUNTIFS(AVR.20!$N$7:$N$48,$B6,AVR.20!$E$7:$E$48,"Jour")+COUNTIFS(AVR.20!$P$7:$P$48,$B6,AVR.20!$E$7:$E$48,"Jour")+COUNTIFS(AVR.20!$R$7:$R$48,$B6,AVR.20!$E$7:$E$48,"Jour")+COUNTIFS(AVR.20!$T$7:$T$48,$B6,AVR.20!$E$7:$E$48,"Jour")+COUNTIFS(AVR.20!$V$7:$V$48,$B6,AVR.20!$E$7:$E$48,"Jour")+COUNTIFS(AVR.20!$W$7:$W$48,$B6,AVR.20!$E$7:$E$48,"Jour")+COUNTIFS(AVR.20!$X$7:$X$48,$B6,AVR.20!$E$7:$E$48,"Jour")) -> 0 | AX6: =IF($A6="","",COUNTIFS(AVR.20!$F$7:$F$48,$B6,AVR.20!$E$7:$E$48,"Nuit")+COUNTIFS(AVR.20!$H$7:$H$48,$B6,AVR.20!$E$7:$E$48,"Nuit")+COUNTIFS(AVR.20!$J$7:$J$48,$B6,AVR.20!$E$7:$E$48,"Nuit")+COUNTIFS(AVR.20!$L$7:$L$48,$B6,AVR.20!$E$7:$E$48,"Nuit")+COUNTIFS(AVR.20!$N$7:$N$48,$B6,AVR.20!$E$7:$E$48,"Nuit")+COUNTIFS(AVR.20!$P$7:$P$48,$B6,AVR.20!$E$7:$E$48,"Nuit")+COUNTIFS(AVR.20!$R$7:$R$48,$B6,AVR.20!$E$7:$E$48,"Nuit")+COUNTIFS(AVR.20!$T$7:$T$48,$B6,AVR.20!$E$7:$E$48,"Nuit")+COUNTIFS(AVR.20!$V$7:$V$48,$B6,AVR.20!$E$7:$E$48,"Nuit")+COUNTIFS(AVR.20!$W$7:$W$48,$B6,AVR.20!$E$7:$E$48,"Nuit")+COUNTIFS(AVR.20!$X$7:$X$48,$B6,AVR.20!$E$7:$E$48,"Nuit")) -> 0 | AY6: =IF($A6="","",COUNTIFS(AVR.20!$F$7:$F$48,$B6,AVR.20!$E$7:$E$48,"Jour")+COUNTIFS(AVR.20!$H$7:$H$48,$B6,AVR.20!$E$7:$E$48,"Jour")+COUNTIFS(AVR.20!$J$7:$J$48,$B6,AVR.20!$E$7:$E$48,"Jour")+COUNTIFS(AVR.20!$L$7:$L$48,$B6,AVR.20!$E$7:$E$48,"Jour")+COUNTIFS(AVR.20!$N$7:$N$48,$B6,AVR.20!$E$7:$E$48,"Jour")+COUNTIFS(AVR.20!$P$7:$P$48,$B6,AVR.20!$E$7:$E$48,"Jour")+COUNTIFS(AVR.20!$R$7:$R$48,$B6,AVR.20!$E$7:$E$48,"Jour")+COUNTIFS(AVR.20!$T$7:$T$48,$B6,AVR.20!$E$7:$E$48,"Jour")+COUNTIFS(AVR.20!$V$7:$V$48,$B6,AVR.20!$E$7:$E$48,"Jour")+COUNTIFS(AVR.20!$W$7:$W$48,$B6,AVR.20!$E$7:$E$48,"Jour")+COUNTIFS(AVR.20!$X$7:$X$48,$B6,AVR.20!$E$7:$E$48,"Jour")) -> 0 | AZ6: =IF($A6="","",COUNTIFS(AVR.20!$F$7:$F$48,$B6,AVR.20!$E$7:$E$48,"Nuit")+COUNTIFS(AVR.20!$H$7:$H$48,$B6,AVR.20!$E$7:$E$48,"Nuit")+COUNTIFS(AVR.20!$J$7:$J$48,$B6,AVR.20!$E$7:$E$48,"Nuit")+COUNTIFS(AVR.20!$L$7:$L$48,$B6,AVR.20!$E$7:$E$48,"Nuit")+COUNTIFS(AVR.20!$N$7:$N$48,$B6,AVR.20!$E$7:$E$48,"Nuit")+COUNTIFS(AVR.20!$P$7:$P$48,$B6,AVR.20!$E$7:$E$48,"Nuit")+COUNTIFS(AVR.20!$R$7:$R$48,$B6,AVR.20!$E$7:$E$48,"Nuit")+COUNTIFS(AVR.20!$T$7:$T$48,$B6,AVR.20!$E$7:$E$48,"Nuit")+COUNTIFS(AVR.20!$V$7:$V$48,$B6,AVR.20!$E$7:$E$48,"Nuit")+COUNTIFS(AVR.20!$W$7:$W$48,$B6,AVR.20!$E$7:$E$48,"Nuit")+COUNTIFS(AVR.20!$X$7:$X$48,$B6,AVR.20!$E$7:$E$48,"Nuit")) -> 0 | BA6: =IF($A6="","",COUNTIFS(AVR.20!$F$7:$F$48,$B6,AVR.20!$E$7:$E$48,"Jour")+COUNTIFS(AVR.20!$H$7:$H$48,$B6,AVR.20!$E$7:$E$48,"Jour")+COUNTIFS(AVR.20!$J$7:$J$48,$B6,AVR.20!$E$7:$E$48,"Jour")+COUNTIFS(AVR.20!$L$7:$L$48,$B6,AVR.20!$E$7:$E$48,"Jour")+COUNTIFS(AVR.20!$N$7:$N$48,$B6,AVR.20!$E$7:$E$48,"Jour")+COUNTIFS(AVR.20!$P$7:$P$48,$B6,AVR.20!$E$7:$E$48,"Jour")+COUNTIFS(AVR.20!$R$7:$R$48,$B6,AVR.20!$E$7:$E$48,"Jour")+COUNTIFS(AVR.20!$T$7:$T$48,$B6,AVR.20!$E$7:$E$48,"Jour")+COUNTIFS(AVR.20!$V$7:$V$48,$B6,AVR.20!$E$7:$E$48,"Jour")+COUNTIFS(AVR.20!$W$7:$W$48,$B6,AVR.20!$E$7:$E$48,"Jour")+COUNTIFS(AVR.20!$X$7:$X$48,$B6,AVR.20!$E$7:$E$48,"Jour")) -> 0 | BB6: =IF($A6="","",COUNTIFS(AVR.20!$F$7:$F$48,$B6,AVR.20!$E$7:$E$48,"Nuit")+COUNTIFS(AVR.20!$H$7:$H$48,$B6,AVR.20!$E$7:$E$48,"Nuit")+COUNTIFS(AVR.20!$J$7:$J$48,$B6,AVR.20!$E$7:$E$48,"Nuit")+COUNTIFS(AVR.20!$L$7:$L$48,$B6,AVR.20!$E$7:$E$48,"Nuit")+COUNTIFS(AVR.20!$N$7:$N$48,$B6,AVR.20!$E$7:$E$48,"Nuit")+COUNTIFS(AVR.20!$P$7:$P$48,$B6,AVR.20!$E$7:$E$48,"Nuit")+COUNTIFS(AVR.20!$R$7:$R$48,$B6,AVR.20!$E$7:$E$48,"Nuit")+COUNTIFS(AVR.20!$T$7:$T$48,$B6,AVR.20!$E$7:$E$48,"Nuit")+COUNTIFS(AVR.20!$V$7:$V$48,$B6,AVR.20!$E$7:$E$48,"Nuit")+COUNTIFS(AVR.20!$W$7:$W$48,$B6,AVR.20!$E$7:$E$48,"Nuit")+COUNTIFS(AVR.20!$X$7:$X$48,$B6,AVR.20!$E$7:$E$48,"Nuit")) -> 0 | BC6: =IF($A6="","",COUNTIFS(AVR.20!$F$7:$F$48,$B6,AVR.20!$E$7:$E$48,"Jour")+COUNTIFS(AVR.20!$H$7:$H$48,$B6,AVR.20!$E$7:$E$48,"Jour")+COUNTIFS(AVR.20!$J$7:$J$48,$B6,AVR.20!$E$7:$E$48,"Jour")+COUNTIFS(AVR.20!$L$7:$L$48,$B6,AVR.20!$E$7:$E$48,"Jour")+COUNTIFS(AVR.20!$N$7:$N$48,$B6,AVR.20!$E$7:$E$48,"Jour")+COUNTIFS(AVR.20!$P$7:$P$48,$B6,AVR.20!$E$7:$E$48,"Jour")+COUNTIFS(AVR.20!$R$7:$R$48,$B6,AVR.20!$E$7:$E$48,"Jour")+COUNTIFS(AVR.20!$T$7:$T$48,$B6,AVR.20!$E$7:$E$48,"Jour")+COUNTIFS(AVR.20!$V$7:$V$48,$B6,AVR.20!$E$7:$E$48,"Jour")+COUNTIFS(AVR.20!$W$7:$W$48,$B6,AVR.20!$E$7:$E$48,"Jour")+COUNTIFS(AVR.20!$X$7:$X$48,$B6,AVR.20!$E$7:$E$48,"Jour")) -> 0 | BD6: =IF($A6="","",COUNTIFS(AVR.20!$F$7:$F$48,$B6,AVR.20!$E$7:$E$48,"Nuit")+COUNTIFS(AVR.20!$H$7:$H$48,$B6,AVR.20!$E$7:$E$48,"Nuit")+COUNTIFS(AVR.20!$J$7:$J$48,$B6,AVR.20!$E$7:$E$48,"Nuit")+COUNTIFS(AVR.20!$L$7:$L$48,$B6,AVR.20!$E$7:$E$48,"Nuit")+COUNTIFS(AVR.20!$N$7:$N$48,$B6,AVR.20!$E$7:$E$48,"Nuit")+COUNTIFS(AVR.20!$P$7:$P$48,$B6,AVR.20!$E$7:$E$48,"Nuit")+COUNTIFS(AVR.20!$R$7:$R$48,$B6,AVR.20!$E$7:$E$48,"Nuit")+COUNTIFS(AVR.20!$T$7:$T$48,$B6,AVR.20!$E$7:$E$48,"Nuit")+COUNTIFS(AVR.20!$V$7:$V$48,$B6,AVR.20!$E$7:$E$48,"Nuit")+COUNTIFS(AVR.20!$W$7:$W$48,$B6,AVR.20!$E$7:$E$48,"Nuit")+COUNTIFS(AVR.20!$X$7:$X$48,$B6,AVR.20!$E$7:$E$48,"Nuit")) -> 0 | BE6: =IF($A6="","",COUNTIFS(AVR.20!$F$7:$F$48,$B6,AVR.20!$E$7:$E$48,"Jour")+COUNTIFS(AVR.20!$H$7:$H$48,$B6,AVR.20!$E$7:$E$48,"Jour")+COUNTIFS(AVR.20!$J$7:$J$48,$B6,AVR.20!$E$7:$E$48,"Jour")+COUNTIFS(AVR.20!$L$7:$L$48,$B6,AVR.20!$E$7:$E$48,"Jour")+COUNTIFS(AVR.20!$N$7:$N$48,$B6,AVR.20!$E$7:$E$48,"Jour")+COUNTIFS(AVR.20!$P$7:$P$48,$B6,AVR.20!$E$7:$E$48,"Jour")+COUNTIFS(AVR.20!$R$7:$R$48,$B6,AVR.20!$E$7:$E$48,"Jour")+COUNTIFS(AVR.20!$T$7:$T$48,$B6,AVR.20!$E$7:$E$48,"Jour")+COUNTIFS(AVR.20!$V$7:$V$48,$B6,AVR.20!$E$7:$E$48,"Jour")+COUNTIFS(AVR.20!$W$7:$W$48,$B6,AVR.20!$E$7:$E$48,"Jour")+COUNTIFS(AVR.20!$X$7:$X$48,$B6,AVR.20!$E$7:$E$48,"Jour")) -> 0 | BF6: =IF($A6="","",COUNTIFS(AVR.20!$F$7:$F$48,$B6,AVR.20!$E$7:$E$48,"Nuit")+COUNTIFS(AVR.20!$H$7:$H$48,$B6,AVR.20!$E$7:$E$48,"Nuit")+COUNTIFS(AVR.20!$J$7:$J$48,$B6,AVR.20!$E$7:$E$48,"Nuit")+COUNTIFS(AVR.20!$L$7:$L$48,$B6,AVR.20!$E$7:$E$48,"Nuit")+COUNTIFS(AVR.20!$N$7:$N$48,$B6,AVR.20!$E$7:$E$48,"Nuit")+COUNTIFS(AVR.20!$P$7:$P$48,$B6,AVR.20!$E$7:$E$48,"Nuit")+COUNTIFS(AVR.20!$R$7:$R$48,$B6,AVR.20!$E$7:$E$48,"Nuit")+COUNTIFS(AVR.20!$T$7:$T$48,$B6,AVR.20!$E$7:$E$48,"Nuit")+COUNTIFS(AVR.20!$V$7:$V$48,$B6,AVR.20!$E$7:$E$48,"Nuit")+COUNTIFS(AVR.20!$W$7:$W$48,$B6,AVR.20!$E$7:$E$48,"Nuit")+COUNTIFS(AVR.20!$X$7:$X$48,$B6,AVR.20!$E$7:$E$48,"Nuit")) -> 0 | BG6: =IF($A6="","",COUNTIFS(AVR.20!$F$7:$F$48,$B6,AVR.20!$E$7:$E$48,"Jour")+COUNTIFS(AVR.20!$H$7:$H$48,$B6,AVR.20!$E$7:$E$48,"Jour")+COUNTIFS(AVR.20!$J$7:$J$48,$B6,AVR.20!$E$7:$E$48,"Jour")+COUNTIFS(AVR.20!$L$7:$L$48,$B6,AVR.20!$E$7:$E$48,"Jour")+COUNTIFS(AVR.20!$N$7:$N$48,$B6,AVR.20!$E$7:$E$48,"Jour")+COUNTIFS(AVR.20!$P$7:$P$48,$B6,AVR.20!$E$7:$E$48,"Jour")+COUNTIFS(AVR.20!$R$7:$R$48,$B6,AVR.20!$E$7:$E$48,"Jour")+COUNTIFS(AVR.20!$T$7:$T$48,$B6,AVR.20!$E$7:$E$48,"Jour")+COUNTIFS(AVR.20!$V$7:$V$48,$B6,AVR.20!$E$7:$E$48,"Jour")+COUNTIFS(AVR.20!$W$7:$W$48,$B6,AVR.20!$E$7:$E$48,"Jour")+COUNTIFS(AVR.20!$X$7:$X$48,$B6,AVR.20!$E$7:$E$48,"Jour")) -> 0 | BH6: =IF($A6="","",COUNTIFS(AVR.20!$F$7:$F$48,$B6,AVR.20!$E$7:$E$48,"Nuit")+COUNTIFS(AVR.20!$H$7:$H$48,$B6,AVR.20!$E$7:$E$48,"Nuit")+COUNTIFS(AVR.20!$J$7:$J$48,$B6,AVR.20!$E$7:$E$48,"Nuit")+COUNTIFS(AVR.20!$L$7:$L$48,$B6,AVR.20!$E$7:$E$48,"Nuit")+COUNTIFS(AVR.20!$N$7:$N$48,$B6,AVR.20!$E$7:$E$48,"Nuit")+COUNTIFS(AVR.20!$P$7:$P$48,$B6,AVR.20!$E$7:$E$48,"Nuit")+COUNTIFS(AVR.20!$R$7:$R$48,$B6,AVR.20!$E$7:$E$48,"Nuit")+COUNTIFS(AVR.20!$T$7:$T$48,$B6,AVR.20!$E$7:$E$48,"Nuit")+COUNTIFS(AVR.20!$V$7:$V$48,$B6,AVR.20!$E$7:$E$48,"Nuit")+COUNTIFS(AVR.20!$W$7:$W$48,$B6,AVR.20!$E$7:$E$48,"Nuit")+COUNTIFS(AVR.20!$X$7:$X$48,$B6,AVR.20!$E$7:$E$48,"Nuit")) -> 0 | BI6: =IF($A6="","",COUNTIFS(AVR.20!$F$7:$F$48,$B6,AVR.20!$E$7:$E$48,"Jour")+COUNTIFS(AVR.20!$H$7:$H$48,$B6,AVR.20!$E$7:$E$48,"Jour")+COUNTIFS(AVR.20!$J$7:$J$48,$B6,AVR.20!$E$7:$E$48,"Jour")+COUNTIFS(AVR.20!$L$7:$L$48,$B6,AVR.20!$E$7:$E$48,"Jour")+COUNTIFS(AVR.20!$N$7:$N$48,$B6,AVR.20!$E$7:$E$48,"Jour")+COUNTIFS(AVR.20!$P$7:$P$48,$B6,AVR.20!$E$7:$E$48,"Jour")+COUNTIFS(AVR.20!$R$7:$R$48,$B6,AVR.20!$E$7:$E$48,"Jour")+COUNTIFS(AVR.20!$T$7:$T$48,$B6,AVR.20!$E$7:$E$48,"Jour")+COUNTIFS(AVR.20!$V$7:$V$48,$B6,AVR.20!$E$7:$E$48,"Jour")+COUNTIFS(AVR.20!$W$7:$W$48,$B6,AVR.20!$E$7:$E$48,"Jour")+COUNTIFS(AVR.20!$X$7:$X$48,$B6,AVR.20!$E$7:$E$48,"Jour")) -> 0 | BJ6: =IF($A6="","",COUNTIFS(AVR.20!$F$7:$F$48,$B6,AVR.20!$E$7:$E$48,"Nuit")+COUNTIFS(AVR.20!$H$7:$H$48,$B6,AVR.20!$E$7:$E$48,"Nuit")+COUNTIFS(AVR.20!$J$7:$J$48,$B6,AVR.20!$E$7:$E$48,"Nuit")+COUNTIFS(AVR.20!$L$7:$L$48,$B6,AVR.20!$E$7:$E$48,"Nuit")+COUNTIFS(AVR.20!$N$7:$N$48,$B6,AVR.20!$E$7:$E$48,"Nuit")+COUNTIFS(AVR.20!$P$7:$P$48,$B6,AVR.20!$E$7:$E$48,"Nuit")+COUNTIFS(AVR.20!$R$7:$R$48,$B6,AVR.20!$E$7:$E$48,"Nuit")+COUNTIFS(AVR.20!$T$7:$T$48,$B6,AVR.20!$E$7:$E$48,"Nuit")+COUNTIFS(AVR.20!$V$7:$V$48,$B6,AVR.20!$E$7:$E$48,"Nuit")+COUNTIFS(AVR.20!$W$7:$W$48,$B6,AVR.20!$E$7:$E$48,"Nuit")+COUNTIFS(AVR.20!$X$7:$X$48,$B6,AVR.20!$E$7:$E$48,"Nuit")) -> 0 | BK6: =IF($A6="","",COUNTIFS(AVR.20!$F$7:$F$48,$B6,AVR.20!$E$7:$E$48,"Jour")+COUNTIFS(AVR.20!$H$7:$H$48,$B6,AVR.20!$E$7:$E$48,"Jour")+COUNTIFS(AVR.20!$J$7:$J$48,$B6,AVR.20!$E$7:$E$48,"Jour")+COUNTIFS(AVR.20!$L$7:$L$48,$B6,AVR.20!$E$7:$E$48,"Jour")+COUNTIFS(AVR.20!$N$7:$N$48,$B6,AVR.20!$E$7:$E$48,"Jour")+COUNTIFS(AVR.20!$P$7:$P$48,$B6,AVR.20!$E$7:$E$48,"Jour")+COUNTIFS(AVR.20!$R$7:$R$48,$B6,AVR.20!$E$7:$E$48,"Jour")+COUNTIFS(AVR.20!$T$7:$T$48,$B6,AVR.20!$E$7:$E$48,"Jour")+COUNTIFS(AVR.20!$V$7:$V$48,$B6,AVR.20!$E$7:$E$48,"Jour")+COUNTIFS(AVR.20!$W$7:$W$48,$B6,AVR.20!$E$7:$E$48,"Jour")+COUNTIFS(AVR.20!$X$7:$X$48,$B6,AVR.20!$E$7:$E$48,"Jour")) -> 0 | BL6: =IF($A6="","",COUNTIFS(AVR.20!$F$7:$F$48,$B6,AVR.20!$E$7:$E$48,"Nuit")+COUNTIFS(AVR.20!$H$7:$H$48,$B6,AVR.20!$E$7:$E$48,"Nuit")+COUNTIFS(AVR.20!$J$7:$J$48,$B6,AVR.20!$E$7:$E$48,"Nuit")+COUNTIFS(AVR.20!$L$7:$L$48,$B6,AVR.20!$E$7:$E$48,"Nuit")+COUNTIFS(AVR.20!$N$7:$N$48,$B6,AVR.20!$E$7:$E$48,"Nuit")+COUNTIFS(AVR.20!$P$7:$P$48,$B6,AVR.20!$E$7:$E$48,"Nuit")+COUNTIFS(AVR.20!$R$7:$R$48,$B6,AVR.20!$E$7:$E$48,"Nuit")+COUNTIFS(AVR.20!$T$7:$T$48,$B6,AVR.20!$E$7:$E$48,"Nuit")+COUNTIFS(AVR.20!$V$7:$V$48,$B6,AVR.20!$E$7:$E$48,"Nuit")+COUNTIFS(AVR.20!$W$7:$W$48,$B6,AVR.20!$E$7:$E$48,"Nuit")+COUNTIFS(AVR.20!$X$7:$X$48,$B6,AVR.20!$E$7:$E$48,"Nuit")) -> 0 | BM6: =IF($A6="","",COUNTIFS(AVR.20!$F$7:$F$48,$B6,AVR.20!$E$7:$E$48,"Jour")+COUNTIFS(AVR.20!$H$7:$H$48,$B6,AVR.20!$E$7:$E$48,"Jour")+COUNTIFS(AVR.20!$J$7:$J$48,$B6,AVR.20!$E$7:$E$48,"Jour")+COUNTIFS(AVR.20!$L$7:$L$48,$B6,AVR.20!$E$7:$E$48,"Jour")+COUNTIFS(AVR.20!$N$7:$N$48,$B6,AVR.20!$E$7:$E$48,"Jour")+COUNTIFS(AVR.20!$P$7:$P$48,$B6,AVR.20!$E$7:$E$48,"Jour")+COUNTIFS(AVR.20!$R$7:$R$48,$B6,AVR.20!$E$7:$E$48,"Jour")+COUNTIFS(AVR.20!$T$7:$T$48,$B6,AVR.20!$E$7:$E$48,"Jour")+COUNTIFS(AVR.20!$V$7:$V$48,$B6,AVR.20!$E$7:$E$48,"Jour")+COUNTIFS(AVR.20!$W$7:$W$48,$B6,AVR.20!$E$7:$E$48,"Jour")+COUNTIFS(AVR.20!$X$7:$X$48,$B6,AVR.20!$E$7:$E$48,"Jour")) -> 0 | BO6: =AP6+AR6+AT6+AV6+AX6+AZ6+BB6+BD6+BF6+BH6+BJ6+BL6 -> 15 | BP6: =AQ6+AS6+AU6+AW6+AY6+BA6+BC6+BE6+BG6+BI6+BK6+BM6 -> 10
A7: AUTHIER Guillaume | B7: AUTHIER G (3) | C7: Sgt | D7: S3 | E7: Ch.A 1E | F7: PL | G7: COD1 | K7: FDF1 | L7: FDF2 | N7: =IF($A7="","",COUNTIFS(#REF!,B7,#REF!,"Nuit")+COUNTIFS(#REF!,B7,#REF!,"Nuit")+COUNTIFS(#REF!,B7,#REF!,"Nuit")+COUNTIFS(#REF!,B7,#REF!,"Nuit")+COUNTIFS(#REF!,B7,#REF!,"Nuit")+COUNTIFS(#REF!,B7,#REF!,"Nuit")+COUNTIFS(#REF!,B7,#REF!,"Nuit")+COUNTIFS(#REF!,B7,#REF!,"Nuit")+COUNTIFS(#REF!,B7,#REF!,"Nuit")+COUNTIFS(#REF!,B7,#REF!,"Nuit")+COUNTIFS(#REF!,B7,#REF!,"Nuit")) -> #REF! | O7: =IF($A7="","",COUNTIFS(#REF!,B7,#REF!,"Jour")+COUNTIFS(#REF!,B7,#REF!,"Jour")+COUNTIFS(#REF!,B7,#REF!,"Jour")+COUNTIFS(#REF!,B7,#REF!,"Jour")+COUNTIFS(#REF!,B7,#REF!,"Jour")+COUNTIFS(#REF!,B7,#REF!,"Jour")+COUNTIFS(#REF!,B7,#REF!,"Jour")+COUNTIFS(#REF!,B7,#REF!,"Jour")+COUNTIFS(#REF!,B7,#REF!,"Jour")+COUNTIFS(#REF!,B7,#REF!,"Jour")+COUNTIFS(#REF!,B7,#REF!,"Jour")) -> #REF! | P7: =IF($A7="","",COUNTIFS(#REF!,B7,#REF!,"Nuit")+COUNTIFS(#REF!,B7,#REF!,"Nuit")+COUNTIFS(#REF!,B7,#REF!,"Nuit")+COUNTIFS(#REF!,B7,#REF!,"Nuit")+COUNTIFS(#REF!,B7,#REF!,"Nuit")+COUNTIFS(#REF!,B7,#REF!,"Nuit")+COUNTIFS(#REF!,B7,#REF!,"Nuit")+COUNTIFS(#REF!,B7,#REF!,"Nuit")+COUNTIFS(#REF!,B7,#REF!,"Nuit")+COUNTIFS(#REF!,B7,#REF!,"Nuit")+COUNTIFS(#REF!,B7,#REF!,"Nuit")) -> #REF! | Q7: =IF($A7="","",COUNTIFS(#REF!,B7,#REF!,"Jour")+COUNTIFS(#REF!,B7,#REF!,"Jour")+COUNTIFS(#REF!,B7,#REF!,"Jour")+COUNTIFS(#REF!,B7,#REF!,"Jour")+COUNTIFS(#REF!,B7,#REF!,"Jour")+COUNTIFS(#REF!,B7,#REF!,"Jour")+COUNTIFS(#REF!,B7,#REF!,"Jour")+COUNTIFS(#REF!,B7,#REF!,"Jour")+COUNTIFS(#REF!,B7,#REF!,"Jour")+COUNTIFS(#REF!,B7,#REF!,"Jour")+COUNTIFS(#REF!,B7,#REF!,"Jour")) -> #REF! | R7: =IF($A7="","",COUNTIFS(#REF!,B7,#REF!,"Nuit")+COUNTIFS(#REF!,B7,#REF!,"Nuit")+COUNTIFS(#REF!,B7,#REF!,"Nuit")+COUNTIFS(#REF!,B7,#REF!,"Nuit")+COUNTIFS(#REF!,B7,#REF!,"Nuit")+COUNTIFS(#REF!,B7,#REF!,"Nuit")+COUNTIFS(#REF!,B7,#REF!,"Nuit")+COUNTIFS(#REF!,B7,#REF!,"Nuit")+COUNTIFS(#REF!,B7,#REF!,"Nuit")+COUNTIFS(#REF!,B7,#REF!,"Nuit")+COUNTIFS(#REF!,B7,#REF!,"Nuit")) -> #REF! | S7: =IF($A7="","",COUNTIFS(#REF!,B7,#REF!,"Jour")+COUNTIFS(#REF!,B7,#REF!,"Jour")+COUNTIFS(#REF!,B7,#REF!,"Jour")+COUNTIFS(#REF!,B7,#REF!,"Jour")+COUNTIFS(#REF!,B7,#REF!,"Jour")+COUNTIFS(#REF!,B7,#REF!,"Jour")+COUNTIFS(#REF!,B7,#REF!,"Jour")+COUNTIFS(#REF!,B7,#REF!,"Jour")+COUNTIFS(#REF!,B7,#REF!,"Jour")+COUNTIFS(#REF!,B7,#REF!,"Jour")+COUNTIFS(#REF!,B7,#REF!,"Jour")) -> #REF! | T7: =IF($A7="","",COUNTIFS(#REF!,B7,#REF!,"Nuit")+COUNTIFS(#REF!,B7,#REF!,"Nuit")+COUNTIFS(#REF!,B7,#REF!,"Nuit")+COUNTIFS(#REF!,B7,#REF!,"Nuit")+COUNTIFS(#REF!,B7,#REF!,"Nuit")+COUNTIFS(#REF!,B7,#REF!,"Nuit")+COUNTIFS(#REF!,B7,#REF!,"Nuit")+COUNTIFS(#REF!,B7,#REF!,"Nuit")+COUNTIFS(#REF!,B7,#REF!,"Nuit")+COUNTIFS(#REF!,B7,#REF!,"Nuit")+COUNTIFS(#REF!,B7,#REF!,"Nuit")) -> #REF! | U7: =IF($A7="","",COUNTIFS(#REF!,B7,#REF!,"Jour")+COUNTIFS(#REF!,B7,#REF!,"Jour")+COUNTIFS(#REF!,B7,#REF!,"Jour")+COUNTIFS(#REF!,B7,#REF!,"Jour")+COUNTIFS(#REF!,B7,#REF!,"Jour")+COUNTIFS(#REF!,B7,#REF!,"Jour")+COUNTIFS(#REF!,B7,#REF!,"Jour")+COUNTIFS(#REF!,B7,#REF!,"Jour")+COUNTIFS(#REF!,B7,#REF!,"Jour")+COUNTIFS(#REF!,B7,#REF!,"Jour")+COUNTIFS(#REF!,B7,#REF!,"Jour")) -> #REF! | V7: =IF($A7="","",COUNTIFS(#REF!,B7,#REF!,"Nuit")+COUNTIFS(#REF!,B7,#REF!,"Nuit")+COUNTIFS(#REF!,B7,#REF!,"Nuit")+COUNTIFS(#REF!,B7,#REF!,"Nuit")+COUNTIFS(#REF!,B7,#REF!,"Nuit")+COUNTIFS(#REF!,B7,#REF!,"Nuit")+COUNTIFS(#REF!,B7,#REF!,"Nuit")+COUNTIFS(#REF!,B7,#REF!,"Nuit")+COUNTIFS(#REF!,B7,#REF!,"Nuit")+COUNTIFS(#REF!,B7,#REF!,"Nuit")+COUNTIFS(#REF!,B7,#REF!,"Nuit")) -> #REF! | W7: =IF($A7="","",COUNTIFS(#REF!,B7,#REF!,"Jour")+COUNTIFS(#REF!,B7,#REF!,"Jour")+COUNTIFS(#REF!,B7,#REF!,"Jour")+COUNTIFS(#REF!,B7,#REF!,"Jour")+COUNTIFS(#REF!,B7,#REF!,"Jour")+COUNTIFS(#REF!,B7,#REF!,"Jour")+COUNTIFS(#REF!,B7,#REF!,"Jour")+COUNTIFS(#REF!,B7,#REF!,"Jour")+COUNTIFS(#REF!,B7,#REF!,"Jour")+COUNTIFS(#REF!,B7,#REF!,"Jour")+COUNTIFS(#REF!,B7,#REF!,"Jour")) -> #REF! | X7: =IF($A7="","",COUNTIFS(#REF!,B7,#REF!,"Nuit")+COUNTIFS(#REF!,B7,#REF!,"Nuit")+COUNTIFS(#REF!,B7,#REF!,"Nuit")+COUNTIFS(#REF!,B7,#REF!,"Nuit")+COUNTIFS(#REF!,B7,#REF!,"Nuit")+COUNTIFS(#REF!,B7,#REF!,"Nuit")+COUNTIFS(#REF!,B7,#REF!,"Nuit")+COUNTIFS(#REF!,B7,#REF!,"Nuit")+COUNTIFS(#REF!,B7,#REF!,"Nuit")+COUNTIFS(#REF!,B7,#REF!,"Nuit")+COUNTIFS(#REF!,B7,#REF!,"Nuit")) -> #REF! | Y7: =IF($A7="","",COUNTIFS(#REF!,B7,#REF!,"Jour")+COUNTIFS(#REF!,B7,#REF!,"Jour")+COUNTIFS(#REF!,B7,#REF!,"Jour")+COUNTIFS(#REF!,B7,#REF!,"Jour")+COUNTIFS(#REF!,B7,#REF!,"Jour")+COUNTIFS(#REF!,B7,#REF!,"Jour")+COUNTIFS(#REF!,B7,#REF!,"Jour")+COUNTIFS(#REF!,B7,#REF!,"Jour")+COUNTIFS(#REF!,B7,#REF!,"Jour")+COUNTIFS(#REF!,B7,#REF!,"Jour")+COUNTIFS(#REF!,B7,#REF!,"Jour")) -> #REF! | Z7: =IF($A7="","",COUNTIFS(#REF!,$B7,#REF!,"Nuit")+COUNTIFS(#REF!,B7,#REF!,"Nuit")+COUNTIFS(#REF!,B7,#REF!,"Nuit")+COUNTIFS(#REF!,B7,#REF!,"Nuit")+COUNTIFS(#REF!,B7,#REF!,"Nuit")+COUNTIFS(#REF!,B7,#REF!,"Nuit")+COUNTIFS(#REF!,B7,#REF!,"Nuit")+COUNTIFS(#REF!,B7,#REF!,"Nuit")+COUNTIFS(#REF!,B7,#REF!,"Nuit")+COUNTIFS(#REF!,B7,#REF!,"Nuit")+COUNTIFS(#REF!,B7,#REF!,"Nuit")) -> #REF! | AA7: =IF($A7="","",COUNTIFS(#REF!,$B7,#REF!,"Jour")+COUNTIFS(#REF!,$B7,#REF!,"Jour")+COUNTIFS(#REF!,$B7,#REF!,"Jour")+COUNTIFS(#REF!,$B7,#REF!,"Jour")+COUNTIFS(#REF!,$B7,#REF!,"Jour")+COUNTIFS(#REF!,$B7,#REF!,"Jour")+COUNTIFS(#REF!,$B7,#REF!,"Jour")+COUNTIFS(#REF!,$B7,#REF!,"Jour")+COUNTIFS(#REF!,$B7,#REF!,"Jour")+COUNTIFS(#REF!,$B7,#REF!,"Jour")+COUNTIFS(#REF!,$B7,#REF!,"Jour")) -> #REF! | AB7: =IF($A7="","",COUNTIFS(#REF!,$B7,#REF!,"Nuit")+COUNTIFS(#REF!,$B7,#REF!,"Nuit")+COUNTIFS(#REF!,$B7,#REF!,"Nuit")+COUNTIFS(#REF!,$B7,#REF!,"Nuit")+COUNTIFS(#REF!,$B7,#REF!,"Nuit")+COUNTIFS(#REF!,$B7,#REF!,"Nuit")+COUNTIFS(#REF!,$B7,#REF!,"Nuit")+COUNTIFS(#REF!,$B7,#REF!,"Nuit")+COUNTIFS(#REF!,$B7,#REF!,"Nuit")+COUNTIFS(#REF!,$B7,#REF!,"Nuit")+COUNTIFS(#REF!,$B7,#REF!,"Nuit")) -> #REF! | AC7: =IF($A7="","",COUNTIFS(#REF!,$B7,#REF!,"Jour")+COUNTIFS(#REF!,$B7,#REF!,"Jour")+COUNTIFS(#REF!,$B7,#REF!,"Jour")+COUNTIFS(#REF!,$B7,#REF!,"Jour")+COUNTIFS(#REF!,$B7,#REF!,"Jour")+COUNTIFS(#REF!,$B7,#REF!,"Jour")+COUNTIFS(#REF!,$B7,#REF!,"Jour")+COUNTIFS(#REF!,$B7,#REF!,"Jour")+COUNTIFS(#REF!,$B7,#REF!,"Jour")+COUNTIFS(#REF!,$B7,#REF!,"Jour")+COUNTIFS(#REF!,$B7,#REF!,"Jour")) -> #REF! | AD7: =IF($A7="","",COUNTIFS(#REF!,$B7,#REF!,"Nuit")+COUNTIFS(#REF!,$B7,#REF!,"Nuit")+COUNTIFS(#REF!,$B7,#REF!,"Nuit")+COUNTIFS(#REF!,$B7,#REF!,"Nuit")+COUNTIFS(#REF!,$B7,#REF!,"Nuit")+COUNTIFS(#REF!,$B7,#REF!,"Nuit")+COUNTIFS(#REF!,$B7,#REF!,"Nuit")+COUNTIFS(#REF!,$B7,#REF!,"Nuit")+COUNTIFS(#REF!,$B7,#REF!,"Nuit")+COUNTIFS(#REF!,$B7,#REF!,"Nuit")+COUNTIFS(#REF!,$B7,#REF!,"Nuit")) -> #REF! | AE7: =IF($A7="","",COUNTIFS(#REF!,$B7,#REF!,"Jour")+COUNTIFS(#REF!,$B7,#REF!,"Jour")+COUNTIFS(#REF!,$B7,#REF!,"Jour")+COUNTIFS(#REF!,$B7,#REF!,"Jour")+COUNTIFS(#REF!,$B7,#REF!,"Jour")+COUNTIFS(#REF!,$B7,#REF!,"Jour")+COUNTIFS(#REF!,$B7,#REF!,"Jour")+COUNTIFS(#REF!,$B7,#REF!,"Jour")+COUNTIFS(#REF!,$B7,#REF!,"Jour")+COUNTIFS(#REF!,$B7,#REF!,"Jour")+COUNTIFS(#REF!,$B7,#REF!,"Jour")) -> #REF! | AF7: =IF($A7="","",COUNTIFS(#REF!,$B7,#REF!,"Nuit")+COUNTIFS(#REF!,$B7,#REF!,"Nuit")+COUNTIFS(#REF!,$B7,#REF!,"Nuit")+COUNTIFS(#REF!,$B7,#REF!,"Nuit")+COUNTIFS(#REF!,$B7,#REF!,"Nuit")+COUNTIFS(#REF!,$B7,#REF!,"Nuit")+COUNTIFS(#REF!,$B7,#REF!,"Nuit")+COUNTIFS(#REF!,$B7,#REF!,"Nuit")+COUNTIFS(#REF!,$B7,#REF!,"Nuit")+COUNTIFS(#REF!,$B7,#REF!,"Nuit")+COUNTIFS(#REF!,$B7,#REF!,"Nuit")) -> #REF! | AG7: =IF($A7="","",COUNTIFS(#REF!,$B7,#REF!,"Jour")+COUNTIFS(#REF!,$B7,#REF!,"Jour")+COUNTIFS(#REF!,$B7,#REF!,"Jour")+COUNTIFS(#REF!,$B7,#REF!,"Jour")+COUNTIFS(#REF!,$B7,#REF!,"Jour")+COUNTIFS(#REF!,$B7,#REF!,"Jour")+COUNTIFS(#REF!,$B7,#REF!,"Jour")+COUNTIFS(#REF!,$B7,#REF!,"Jour")+COUNTIFS(#REF!,$B7,#REF!,"Jour")+COUNTIFS(#REF!,$B7,#REF!,"Jour")+COUNTIFS(#REF!,$B7,#REF!,"Jour")) -> #REF! | AH7: =IF($A7="","",COUNTIFS(#REF!,$B7,#REF!,"Nuit")+COUNTIFS(#REF!,$B7,#REF!,"Nuit")+COUNTIFS(#REF!,$B7,#REF!,"Nuit")+COUNTIFS(#REF!,$B7,#REF!,"Nuit")+COUNTIFS(#REF!,$B7,#REF!,"Nuit")+COUNTIFS(#REF!,$B7,#REF!,"Nuit")+COUNTIFS(#REF!,$B7,#REF!,"Nuit")+COUNTIFS(#REF!,$B7,#REF!,"Nuit")+COUNTIFS(#REF!,$B7,#REF!,"Nuit")+COUNTIFS(#REF!,$B7,#REF!,"Nuit")+COUNTIFS(#REF!,$B7,#REF!,"Nuit")) -> #REF! | AI7: =IF($A7="","",COUNTIFS(#REF!,$B7,#REF!,"Jour")+COUNTIFS(#REF!,$B7,#REF!,"Jour")+COUNTIFS(#REF!,$B7,#REF!,"Jour")+COUNTIFS(#REF!,$B7,#REF!,"Jour")+COUNTIFS(#REF!,$B7,#REF!,"Jour")+COUNTIFS(#REF!,$B7,#REF!,"Jour")+COUNTIFS(#REF!,$B7,#REF!,"Jour")+COUNTIFS(#REF!,$B7,#REF!,"Jour")+COUNTIFS(#REF!,$B7,#REF!,"Jour")+COUNTIFS(#REF!,$B7,#REF!,"Jour")+COUNTIFS(#REF!,$B7,#REF!,"Jour")) -> #REF! | AJ7: =IF($A7="","",COUNTIFS(#REF!,$B7,#REF!,"Nuit")+COUNTIFS(#REF!,$B7,#REF!,"Nuit")+COUNTIFS(#REF!,$B7,#REF!,"Nuit")+COUNTIFS(#REF!,$B7,#REF!,"Nuit")+COUNTIFS(#REF!,$B7,#REF!,"Nuit")+COUNTIFS(#REF!,$B7,#REF!,"Nuit")+COUNTIFS(#REF!,$B7,#REF!,"Nuit")+COUNTIFS(#REF!,$B7,#REF!,"Nuit")+COUNTIFS(#REF!,$B7,#REF!,"Nuit")+COUNTIFS(#REF!,$B7,#REF!,"Nuit")+COUNTIFS(#REF!,$B7,#REF!,"Nuit")) -> #REF! | AK7: =IF($A7="","",COUNTIFS(#REF!,$B7,#REF!,"Jour")+COUNTIFS(#REF!,$B7,#REF!,"Jour")+COUNTIFS(#REF!,$B7,#REF!,"Jour")+COUNTIFS(#REF!,$B7,#REF!,"Jour")+COUNTIFS(#REF!,$B7,#REF!,"Jour")+COUNTIFS(#REF!,$B7,#REF!,"Jour")+COUNTIFS(#REF!,$B7,#REF!,"Jour")+COUNTIFS(#REF!,$B7,#REF!,"Jour")+COUNTIFS(#REF!,$B7,#REF!,"Jour")+COUNTIFS(#REF!,$B7,#REF!,"Jour")+COUNTIFS(#REF!,$B7,#REF!,"Jour")) -> #REF! | AM7: =N7+P7+R7+T7+V7+X7+Z7+AB7+AD7+AF7+AH7+AJ7 -> #REF! | AN7: =O7+Q7+S7+U7+W7+Y7+AA7+AC7+AE7+AG7+AI7+AK7 -> #REF! | AO7: =(AM7*0.6*6)+(AN7*0.6*12) -> #REF! | AP7: =IF($A7="","",COUNTIFS(JAN.20!$F$7:$F$48,$B7,JAN.20!$E$7:$E$48,"Nuit")+COUNTIFS(JAN.20!$H$7:$H$48,$B7,JAN.20!$E$7:$E$48,"Nuit")+COUNTIFS(JAN.20!$J$7:$J$48,$B7,JAN.20!$E$7:$E$48,"Nuit")+COUNTIFS(JAN.20!$L$7:$L$48,$B7,JAN.20!$E$7:$E$48,"Nuit")+COUNTIFS(JAN.20!$N$7:$N$48,$B7,JAN.20!$E$7:$E$48,"Nuit")+COUNTIFS(JAN.20!$P$7:$P$48,$B7,JAN.20!$E$7:$E$48,"Nuit")+COUNTIFS(JAN.20!$R$7:$R$48,$B7,JAN.20!$E$7:$E$48,"Nuit")+COUNTIFS(JAN.20!$T$7:$T$48,$B7,JAN.20!$E$7:$E$48,"Nuit")+COUNTIFS(JAN.20!$V$7:$V$48,$B7,JAN.20!$E$7:$E$48,"Nuit")+COUNTIFS(JAN.20!$W$7:$W$48,$B7,JAN.20!$E$7:$E$48,"Nuit")+COUNTIFS(JAN.20!$X$7:$X$48,$B7,JAN.20!$E$7:$E$48,"Nuit")) -> 6 | AQ7: =IF($A7="","",COUNTIFS(JAN.20!$F$7:$F$48,$B7,JAN.20!$E$7:$E$48,"Jour")+COUNTIFS(JAN.20!$H$7:$H$48,$B7,JAN.20!$E$7:$E$48,"Jour")+COUNTIFS(JAN.20!$J$7:$J$48,$B7,JAN.20!$E$7:$E$48,"Jour")+COUNTIFS(JAN.20!$L$7:$L$48,$B7,JAN.20!$E$7:$E$48,"Jour")+COUNTIFS(JAN.20!$N$7:$N$48,$B7,JAN.20!$E$7:$E$48,"Jour")+COUNTIFS(JAN.20!$P$7:$P$48,$B7,JAN.20!$E$7:$E$48,"Jour")+COUNTIFS(JAN.20!$R$7:$R$48,$B7,JAN.20!$E$7:$E$48,"Jour")+COUNTIFS(JAN.20!$T$7:$T$48,$B7,JAN.20!$E$7:$E$48,"Jour")+COUNTIFS(JAN.20!$V$7:$V$48,$B7,JAN.20!$E$7:$E$48,"Jour")+COUNTIFS(JAN.20!$W$7:$W$48,$B7,JAN.20!$E$7:$E$48,"Jour")+COUNTIFS(JAN.20!$X$7:$X$48,$B7,JAN.20!$E$7:$E$48,"Jour")) -> 5 | AR7: =IF($A7="","",COUNTIFS(FEV.20!$F$7:$F$48,$B7,FEV.20!$E$7:$E$48,"Nuit")+COUNTIFS(FEV.20!$H$7:$H$48,$B7,FEV.20!$E$7:$E$48,"Nuit")+COUNTIFS(FEV.20!$J$7:$J$48,$B7,FEV.20!$E$7:$E$48,"Nuit")+COUNTIFS(FEV.20!$L$7:$L$48,$B7,FEV.20!$E$7:$E$48,"Nuit")+COUNTIFS(FEV.20!$N$7:$N$48,$B7,FEV.20!$E$7:$E$48,"Nuit")+COUNTIFS(FEV.20!$P$7:$P$48,$B7,FEV.20!$E$7:$E$48,"Nuit")+COUNTIFS(FEV.20!$R$7:$R$48,$B7,FEV.20!$E$7:$E$48,"Nuit")+COUNTIFS(FEV.20!$T$7:$T$48,$B7,FEV.20!$E$7:$E$48,"Nuit")+COUNTIFS(FEV.20!$V$7:$V$48,$B7,FEV.20!$E$7:$E$48,"Nuit")+COUNTIFS(FEV.20!$W$7:$W$48,$B7,FEV.20!$E$7:$E$48,"Nuit")+COUNTIFS(FEV.20!$X$7:$X$48,$B7,FEV.20!$E$7:$E$48,"Nuit")) -> 10 | AS7: =IF($A7="","",COUNTIFS(FEV.20!$F$7:$F$48,$B7,FEV.20!$E$7:$E$48,"Jour")+COUNTIFS(FEV.20!$H$7:$H$48,$B7,FEV.20!$E$7:$E$48,"Jour")+COUNTIFS(FEV.20!$J$7:$J$48,$B7,FEV.20!$E$7:$E$48,"Jour")+COUNTIFS(FEV.20!$L$7:$L$48,$B7,FEV.20!$E$7:$E$48,"Jour")+COUNTIFS(FEV.20!$N$7:$N$48,$B7,FEV.20!$E$7:$E$48,"Jour")+COUNTIFS(FEV.20!$P$7:$P$48,$B7,FEV.20!$E$7:$E$48,"Jour")+COUNTIFS(FEV.20!$R$7:$R$48,$B7,FEV.20!$E$7:$E$48,"Jour")+COUNTIFS(FEV.20!$T$7:$T$48,$B7,FEV.20!$E$7:$E$48,"Jour")+COUNTIFS(FEV.20!$V$7:$V$48,$B7,FEV.20!$E$7:$E$48,"Jour")+COUNTIFS(FEV.20!$W$7:$W$48,$B7,FEV.20!$E$7:$E$48,"Jour")+COUNTIFS(FEV.20!$X$7:$X$48,$B7,FEV.20!$E$7:$E$48,"Jour")) -> 3 | AT7: =IF($A7="","",COUNTIFS(Mars.20!$F$7:$F$48,$B7,Mars.20!$E$7:$E$48,"Nuit")+COUNTIFS(Mars.20!$H$7:$H$48,$B7,Mars.20!$E$7:$E$48,"Nuit")+COUNTIFS(Mars.20!$J$7:$J$48,$B7,Mars.20!$E$7:$E$48,"Nuit")+COUNTIFS(Mars.20!$L$7:$L$48,$B7,Mars.20!$E$7:$E$48,"Nuit")+COUNTIFS(Mars.20!$N$7:$N$48,$B7,Mars.20!$E$7:$E$48,"Nuit")+COUNTIFS(Mars.20!$P$7:$P$48,$B7,Mars.20!$E$7:$E$48,"Nuit")+COUNTIFS(Mars.20!$R$7:$R$48,$B7,Mars.20!$E$7:$E$48,"Nuit")+COUNTIFS(Mars.20!$T$7:$T$48,$B7,Mars.20!$E$7:$E$48,"Nuit")+COUNTIFS(Mars.20!$V$7:$V$48,$B7,Mars.20!$E$7:$E$48,"Nuit")+COUNTIFS(Mars.20!$W$7:$W$48,$B7,Mars.20!$E$7:$E$48,"Nuit")+COUNTIFS(Mars.20!$X$7:$X$48,$B7,Mars.20!$E$7:$E$48,"Nuit")) -> 7 | AU7: =IF($A7="","",COUNTIFS(Mars.20!$F$7:$F$48,$B7,Mars.20!$E$7:$E$48,"Jour")+COUNTIFS(Mars.20!$H$7:$H$48,$B7,Mars.20!$E$7:$E$48,"Jour")+COUNTIFS(Mars.20!$J$7:$J$48,$B7,Mars.20!$E$7:$E$48,"Jour")+COUNTIFS(Mars.20!$L$7:$L$48,$B7,Mars.20!$E$7:$E$48,"Jour")+COUNTIFS(Mars.20!$N$7:$N$48,$B7,Mars.20!$E$7:$E$48,"Jour")+COUNTIFS(Mars.20!$P$7:$P$48,$B7,Mars.20!$E$7:$E$48,"Jour")+COUNTIFS(Mars.20!$R$7:$R$48,$B7,Mars.20!$E$7:$E$48,"Jour")+COUNTIFS(Mars.20!$T$7:$T$48,$B7,Mars.20!$E$7:$E$48,"Jour")+COUNTIFS(Mars.20!$V$7:$V$48,$B7,Mars.20!$E$7:$E$48,"Jour")+COUNTIFS(Mars.20!$W$7:$W$48,$B7,Mars.20!$E$7:$E$48,"Jour")+COUNTIFS(Mars.20!$X$7:$X$48,$B7,Mars.20!$E$7:$E$48,"Jour")) -> 3 | AV7: =IF($A7="","",COUNTIFS(AVR.20!$F$7:$F$48,$B7,AVR.20!$E$7:$E$48,"Nuit")+COUNTIFS(AVR.20!$H$7:$H$48,$B7,AVR.20!$E$7:$E$48,"Nuit")+COUNTIFS(AVR.20!$J$7:$J$48,$B7,AVR.20!$E$7:$E$48,"Nuit")+COUNTIFS(AVR.20!$L$7:$L$48,$B7,AVR.20!$E$7:$E$48,"Nuit")+COUNTIFS(AVR.20!$N$7:$N$48,$B7,AVR.20!$E$7:$E$48,"Nuit")+COUNTIFS(AVR.20!$P$7:$P$48,$B7,AVR.20!$E$7:$E$48,"Nuit")+COUNTIFS(AVR.20!$R$7:$R$48,$B7,AVR.20!$E$7:$E$48,"Nuit")+COUNTIFS(AVR.20!$T$7:$T$48,$B7,AVR.20!$E$7:$E$48,"Nuit")+COUNTIFS(AVR.20!$V$7:$V$48,$B7,AVR.20!$E$7:$E$48,"Nuit")+COUNTIFS(AVR.20!$W$7:$W$48,$B7,AVR.20!$E$7:$E$48,"Nuit")+COUNTIFS(AVR.20!$X$7:$X$48,$B7,AVR.20!$E$7:$E$48,"Nuit")) -> 0 | AW7: =IF($A7="","",COUNTIFS(AVR.20!$F$7:$F$48,$B7,AVR.20!$E$7:$E$48,"Jour")+COUNTIFS(AVR.20!$H$7:$H$48,$B7,AVR.20!$E$7:$E$48,"Jour")+COUNTIFS(AVR.20!$J$7:$J$48,$B7,AVR.20!$E$7:$E$48,"Jour")+COUNTIFS(AVR.20!$L$7:$L$48,$B7,AVR.20!$E$7:$E$48,"Jour")+COUNTIFS(AVR.20!$N$7:$N$48,$B7,AVR.20!$E$7:$E$48,"Jour")+COUNTIFS(AVR.20!$P$7:$P$48,$B7,AVR.20!$E$7:$E$48,"Jour")+COUNTIFS(AVR.20!$R$7:$R$48,$B7,AVR.20!$E$7:$E$48,"Jour")+COUNTIFS(AVR.20!$T$7:$T$48,$B7,AVR.20!$E$7:$E$48,"Jour")+COUNTIFS(AVR.20!$V$7:$V$48,$B7,AVR.20!$E$7:$E$48,"Jour")+COUNTIFS(AVR.20!$W$7:$W$48,$B7,AVR.20!$E$7:$E$48,"Jour")+COUNTIFS(AVR.20!$X$7:$X$48,$B7,AVR.20!$E$7:$E$48,"Jour")) -> 0 | AX7: =IF($A7="","",COUNTIFS(AVR.20!$F$7:$F$48,$B7,AVR.20!$E$7:$E$48,"Nuit")+COUNTIFS(AVR.20!$H$7:$H$48,$B7,AVR.20!$E$7:$E$48,"Nuit")+COUNTIFS(AVR.20!$J$7:$J$48,$B7,AVR.20!$E$7:$E$48,"Nuit")+COUNTIFS(AVR.20!$L$7:$L$48,$B7,AVR.20!$E$7:$E$48,"Nuit")+COUNTIFS(AVR.20!$N$7:$N$48,$B7,AVR.20!$E$7:$E$48,"Nuit")+COUNTIFS(AVR.20!$P$7:$P$48,$B7,AVR.20!$E$7:$E$48,"Nuit")+COUNTIFS(AVR.20!$R$7:$R$48,$B7,AVR.20!$E$7:$E$48,"Nuit")+COUNTIFS(AVR.20!$T$7:$T$48,$B7,AVR.20!$E$7:$E$48,"Nuit")+COUNTIFS(AVR.20!$V$7:$V$48,$B7,AVR.20!$E$7:$E$48,"Nuit")+COUNTIFS(AVR.20!$W$7:$W$48,$B7,AVR.20!$E$7:$E$48,"Nuit")+COUNTIFS(AVR.20!$X$7:$X$48,$B7,AVR.20!$E$7:$E$48,"Nuit")) -> 0 | AY7: =IF($A7="","",COUNTIFS(AVR.20!$F$7:$F$48,$B7,AVR.20!$E$7:$E$48,"Jour")+COUNTIFS(AVR.20!$H$7:$H$48,$B7,AVR.20!$E$7:$E$48,"Jour")+COUNTIFS(AVR.20!$J$7:$J$48,$B7,AVR.20!$E$7:$E$48,"Jour")+COUNTIFS(AVR.20!$L$7:$L$48,$B7,AVR.20!$E$7:$E$48,"Jour")+COUNTIFS(AVR.20!$N$7:$N$48,$B7,AVR.20!$E$7:$E$48,"Jour")+COUNTIFS(AVR.20!$P$7:$P$48,$B7,AVR.20!$E$7:$E$48,"Jour")+COUNTIFS(AVR.20!$R$7:$R$48,$B7,AVR.20!$E$7:$E$48,"Jour")+COUNTIFS(AVR.20!$T$7:$T$48,$B7,AVR.20!$E$7:$E$48,"Jour")+COUNTIFS(AVR.20!$V$7:$V$48,$B7,AVR.20!$E$7:$E$48,"Jour")+COUNTIFS(AVR.20!$W$7:$W$48,$B7,AVR.20!$E$7:$E$48,"Jour")+COUNTIFS(AVR.20!$X$7:$X$48,$B7,AVR.20!$E$7:$E$48,"Jour")) -> 0 | AZ7: =IF($A7="","",COUNTIFS(AVR.20!$F$7:$F$48,$B7,AVR.20!$E$7:$E$48,"Nuit")+COUNTIFS(AVR.20!$H$7:$H$48,$B7,AVR.20!$E$7:$E$48,"Nuit")+COUNTIFS(AVR.20!$J$7:$J$48,$B7,AVR.20!$E$7:$E$48,"Nuit")+COUNTIFS(AVR.20!$L$7:$L$48,$B7,AVR.20!$E$7:$E$48,"Nuit")+COUNTIFS(AVR.20!$N$7:$N$48,$B7,AVR.20!$E$7:$E$48,"Nuit")+COUNTIFS(AVR.20!$P$7:$P$48,$B7,AVR.20!$E$7:$E$48,"Nuit")+COUNTIFS(AVR.20!$R$7:$R$48,$B7,AVR.20!$E$7:$E$48,"Nuit")+COUNTIFS(AVR.20!$T$7:$T$48,$B7,AVR.20!$E$7:$E$48,"Nuit")+COUNTIFS(AVR.20!$V$7:$V$48,$B7,AVR.20!$E$7:$E$48,"Nuit")+COUNTIFS(AVR.20!$W$7:$W$48,$B7,AVR.20!$E$7:$E$48,"Nuit")+COUNTIFS(AVR.20!$X$7:$X$48,$B7,AVR.20!$E$7:$E$48,"Nuit")) -> 0 | BA7: =IF($A7="","",COUNTIFS(AVR.20!$F$7:$F$48,$B7,AVR.20!$E$7:$E$48,"Jour")+COUNTIFS(AVR.20!$H$7:$H$48,$B7,AVR.20!$E$7:$E$48,"Jour")+COUNTIFS(AVR.20!$J$7:$J$48,$B7,AVR.20!$E$7:$E$48,"Jour")+COUNTIFS(AVR.20!$L$7:$L$48,$B7,AVR.20!$E$7:$E$48,"Jour")+COUNTIFS(AVR.20!$N$7:$N$48,$B7,AVR.20!$E$7:$E$48,"Jour")+COUNTIFS(AVR.20!$P$7:$P$48,$B7,AVR.20!$E$7:$E$48,"Jour")+COUNTIFS(AVR.20!$R$7:$R$48,$B7,AVR.20!$E$7:$E$48,"Jour")+COUNTIFS(AVR.20!$T$7:$T$48,$B7,AVR.20!$E$7:$E$48,"Jour")+COUNTIFS(AVR.20!$V$7:$V$48,$B7,AVR.20!$E$7:$E$48,"Jour")+COUNTIFS(AVR.20!$W$7:$W$48,$B7,AVR.20!$E$7:$E$48,"Jour")+COUNTIFS(AVR.20!$X$7:$X$48,$B7,AVR.20!$E$7:$E$48,"Jour")) -> 0 | BB7: =IF($A7="","",COUNTIFS(AVR.20!$F$7:$F$48,$B7,AVR.20!$E$7:$E$48,"Nuit")+COUNTIFS(AVR.20!$H$7:$H$48,$B7,AVR.20!$E$7:$E$48,"Nuit")+COUNTIFS(AVR.20!$J$7:$J$48,$B7,AVR.20!$E$7:$E$48,"Nuit")+COUNTIFS(AVR.20!$L$7:$L$48,$B7,AVR.20!$E$7:$E$48,"Nuit")+COUNTIFS(AVR.20!$N$7:$N$48,$B7,AVR.20!$E$7:$E$48,"Nuit")+COUNTIFS(AVR.20!$P$7:$P$48,$B7,AVR.20!$E$7:$E$48,"Nuit")+COUNTIFS(AVR.20!$R$7:$R$48,$B7,AVR.20!$E$7:$E$48,"Nuit")+COUNTIFS(AVR.20!$T$7:$T$48,$B7,AVR.20!$E$7:$E$48,"Nuit")+COUNTIFS(AVR.20!$V$7:$V$48,$B7,AVR.20!$E$7:$E$48,"Nuit")+COUNTIFS(AVR.20!$W$7:$W$48,$B7,AVR.20!$E$7:$E$48,"Nuit")+COUNTIFS(AVR.20!$X$7:$X$48,$B7,AVR.20!$E$7:$E$48,"Nuit")) -> 0 | BC7: =IF($A7="","",COUNTIFS(AVR.20!$F$7:$F$48,$B7,AVR.20!$E$7:$E$48,"Jour")+COUNTIFS(AVR.20!$H$7:$H$48,$B7,AVR.20!$E$7:$E$48,"Jour")+COUNTIFS(AVR.20!$J$7:$J$48,$B7,AVR.20!$E$7:$E$48,"Jour")+COUNTIFS(AVR.20!$L$7:$L$48,$B7,AVR.20!$E$7:$E$48,"Jour")+COUNTIFS(AVR.20!$N$7:$N$48,$B7,AVR.20!$E$7:$E$48,"Jour")+COUNTIFS(AVR.20!$P$7:$P$48,$B7,AVR.20!$E$7:$E$48,"Jour")+COUNTIFS(AVR.20!$R$7:$R$48,$B7,AVR.20!$E$7:$E$48,"Jour")+COUNTIFS(AVR.20!$T$7:$T$48,$B7,AVR.20!$E$7:$E$48,"Jour")+COUNTIFS(AVR.20!$V$7:$V$48,$B7,AVR.20!$E$7:$E$48,"Jour")+COUNTIFS(AVR.20!$W$7:$W$48,$B7,AVR.20!$E$7:$E$48,"Jour")+COUNTIFS(AVR.20!$X$7:$X$48,$B7,AVR.20!$E$7:$E$48,"Jour")) -> 0 | BD7: =IF($A7="","",COUNTIFS(AVR.20!$F$7:$F$48,$B7,AVR.20!$E$7:$E$48,"Nuit")+COUNTIFS(AVR.20!$H$7:$H$48,$B7,AVR.20!$E$7:$E$48,"Nuit")+COUNTIFS(AVR.20!$J$7:$J$48,$B7,AVR.20!$E$7:$E$48,"Nuit")+COUNTIFS(AVR.20!$L$7:$L$48,$B7,AVR.20!$E$7:$E$48,"Nuit")+COUNTIFS(AVR.20!$N$7:$N$48,$B7,AVR.20!$E$7:$E$48,"Nuit")+COUNTIFS(AVR.20!$P$7:$P$48,$B7,AVR.20!$E$7:$E$48,"Nuit")+COUNTIFS(AVR.20!$R$7:$R$48,$B7,AVR.20!$E$7:$E$48,"Nuit")+COUNTIFS(AVR.20!$T$7:$T$48,$B7,AVR.20!$E$7:$E$48,"Nuit")+COUNTIFS(AVR.20!$V$7:$V$48,$B7,AVR.20!$E$7:$E$48,"Nuit")+COUNTIFS(AVR.20!$W$7:$W$48,$B7,AVR.20!$E$7:$E$48,"Nuit")+COUNTIFS(AVR.20!$X$7:$X$48,$B7,AVR.20!$E$7:$E$48,"Nuit")) -> 0 | BE7: =IF($A7="","",COUNTIFS(AVR.20!$F$7:$F$48,$B7,AVR.20!$E$7:$E$48,"Jour")+COUNTIFS(AVR.20!$H$7:$H$48,$B7,AVR.20!$E$7:$E$48,"Jour")+COUNTIFS(AVR.20!$J$7:$J$48,$B7,AVR.20!$E$7:$E$48,"Jour")+COUNTIFS(AVR.20!$L$7:$L$48,$B7,AVR.20!$E$7:$E$48,"Jour")+COUNTIFS(AVR.20!$N$7:$N$48,$B7,AVR.20!$E$7:$E$48,"Jour")+COUNTIFS(AVR.20!$P$7:$P$48,$B7,AVR.20!$E$7:$E$48,"Jour")+COUNTIFS(AVR.20!$R$7:$R$48,$B7,AVR.20!$E$7:$E$48,"Jour")+COUNTIFS(AVR.20!$T$7:$T$48,$B7,AVR.20!$E$7:$E$48,"Jour")+COUNTIFS(AVR.20!$V$7:$V$48,$B7,AVR.20!$E$7:$E$48,"Jour")+COUNTIFS(AVR.20!$W$7:$W$48,$B7,AVR.20!$E$7:$E$48,"Jour")+COUNTIFS(AVR.20!$X$7:$X$48,$B7,AVR.20!$E$7:$E$48,"Jour")) -> 0 | BF7: =IF($A7="","",COUNTIFS(AVR.20!$F$7:$F$48,$B7,AVR.20!$E$7:$E$48,"Nuit")+COUNTIFS(AVR.20!$H$7:$H$48,$B7,AVR.20!$E$7:$E$48,"Nuit")+COUNTIFS(AVR.20!$J$7:$J$48,$B7,AVR.20!$E$7:$E$48,"Nuit")+COUNTIFS(AVR.20!$L$7:$L$48,$B7,AVR.20!$E$7:$E$48,"Nuit")+COUNTIFS(AVR.20!$N$7:$N$48,$B7,AVR.20!$E$7:$E$48,"Nuit")+COUNTIFS(AVR.20!$P$7:$P$48,$B7,AVR.20!$E$7:$E$48,"Nuit")+COUNTIFS(AVR.20!$R$7:$R$48,$B7,AVR.20!$E$7:$E$48,"Nuit")+COUNTIFS(AVR.20!$T$7:$T$48,$B7,AVR.20!$E$7:$E$48,"Nuit")+COUNTIFS(AVR.20!$V$7:$V$48,$B7,AVR.20!$E$7:$E$48,"Nuit")+COUNTIFS(AVR.20!$W$7:$W$48,$B7,AVR.20!$E$7:$E$48,"Nuit")+COUNTIFS(AVR.20!$X$7:$X$48,$B7,AVR.20!$E$7:$E$48,"Nuit")) -> 0 | BG7: =IF($A7="","",COUNTIFS(AVR.20!$F$7:$F$48,$B7,AVR.20!$E$7:$E$48,"Jour")+COUNTIFS(AVR.20!$H$7:$H$48,$B7,AVR.20!$E$7:$E$48,"Jour")+COUNTIFS(AVR.20!$J$7:$J$48,$B7,AVR.20!$E$7:$E$48,"Jour")+COUNTIFS(AVR.20!$L$7:$L$48,$B7,AVR.20!$E$7:$E$48,"Jour")+COUNTIFS(AVR.20!$N$7:$N$48,$B7,AVR.20!$E$7:$E$48,"Jour")+COUNTIFS(AVR.20!$P$7:$P$48,$B7,AVR.20!$E$7:$E$48,"Jour")+COUNTIFS(AVR.20!$R$7:$R$48,$B7,AVR.20!$E$7:$E$48,"Jour")+COUNTIFS(AVR.20!$T$7:$T$48,$B7,AVR.20!$E$7:$E$48,"Jour")+COUNTIFS(AVR.20!$V$7:$V$48,$B7,AVR.20!$E$7:$E$48,"Jour")+COUNTIFS(AVR.20!$W$7:$W$48,$B7,AVR.20!$E$7:$E$48,"Jour")+COUNTIFS(AVR.20!$X$7:$X$48,$B7,AVR.20!$E$7:$E$48,"Jour")) -> 0 | BH7: =IF($A7="","",COUNTIFS(AVR.20!$F$7:$F$48,$B7,AVR.20!$E$7:$E$48,"Nuit")+COUNTIFS(AVR.20!$H$7:$H$48,$B7,AVR.20!$E$7:$E$48,"Nuit")+COUNTIFS(AVR.20!$J$7:$J$48,$B7,AVR.20!$E$7:$E$48,"Nuit")+COUNTIFS(AVR.20!$L$7:$L$48,$B7,AVR.20!$E$7:$E$48,"Nuit")+COUNTIFS(AVR.20!$N$7:$N$48,$B7,AVR.20!$E$7:$E$48,"Nuit")+COUNTIFS(AVR.20!$P$7:$P$48,$B7,AVR.20!$E$7:$E$48,"Nuit")+COUNTIFS(AVR.20!$R$7:$R$48,$B7,AVR.20!$E$7:$E$48,"Nuit")+COUNTIFS(AVR.20!$T$7:$T$48,$B7,AVR.20!$E$7:$E$48,"Nuit")+COUNTIFS(AVR.20!$V$7:$V$48,$B7,AVR.20!$E$7:$E$48,"Nuit")+COUNTIFS(AVR.20!$W$7:$W$48,$B7,AVR.20!$E$7:$E$48,"Nuit")+COUNTIFS(AVR.20!$X$7:$X$48,$B7,AVR.20!$E$7:$E$48,"Nuit")) -> 0 | BI7: =IF($A7="","",COUNTIFS(AVR.20!$F$7:$F$48,$B7,AVR.20!$E$7:$E$48,"Jour")+COUNTIFS(AVR.20!$H$7:$H$48,$B7,AVR.20!$E$7:$E$48,"Jour")+COUNTIFS(AVR.20!$J$7:$J$48,$B7,AVR.20!$E$7:$E$48,"Jour")+COUNTIFS(AVR.20!$L$7:$L$48,$B7,AVR.20!$E$7:$E$48,"Jour")+COUNTIFS(AVR.20!$N$7:$N$48,$B7,AVR.20!$E$7:$E$48,"Jour")+COUNTIFS(AVR.20!$P$7:$P$48,$B7,AVR.20!$E$7:$E$48,"Jour")+COUNTIFS(AVR.20!$R$7:$R$48,$B7,AVR.20!$E$7:$E$48,"Jour")+COUNTIFS(AVR.20!$T$7:$T$48,$B7,AVR.20!$E$7:$E$48,"Jour")+COUNTIFS(AVR.20!$V$7:$V$48,$B7,AVR.20!$E$7:$E$48,"Jour")+COUNTIFS(AVR.20!$W$7:$W$48,$B7,AVR.20!$E$7:$E$48,"Jour")+COUNTIFS(AVR.20!$X$7:$X$48,$B7,AVR.20!$E$7:$E$48,"Jour")) -> 0 | BJ7: =IF($A7="","",COUNTIFS(AVR.20!$F$7:$F$48,$B7,AVR.20!$E$7:$E$48,"Nuit")+COUNTIFS(AVR.20!$H$7:$H$48,$B7,AVR.20!$E$7:$E$48,"Nuit")+COUNTIFS(AVR.20!$J$7:$J$48,$B7,AVR.20!$E$7:$E$48,"Nuit")+COUNTIFS(AVR.20!$L$7:$L$48,$B7,AVR.20!$E$7:$E$48,"Nuit")+COUNTIFS(AVR.20!$N$7:$N$48,$B7,AVR.20!$E$7:$E$48,"Nuit")+COUNTIFS(AVR.20!$P$7:$P$48,$B7,AVR.20!$E$7:$E$48,"Nuit")+COUNTIFS(AVR.20!$R$7:$R$48,$B7,AVR.20!$E$7:$E$48,"Nuit")+COUNTIFS(AVR.20!$T$7:$T$48,$B7,AVR.20!$E$7:$E$48,"Nuit")+COUNTIFS(AVR.20!$V$7:$V$48,$B7,AVR.20!$E$7:$E$48,"Nuit")+COUNTIFS(AVR.20!$W$7:$W$48,$B7,AVR.20!$E$7:$E$48,"Nuit")+COUNTIFS(AVR.20!$X$7:$X$48,$B7,AVR.20!$E$7:$E$48,"Nuit")) -> 0 | BK7: =IF($A7="","",COUNTIFS(AVR.20!$F$7:$F$48,$B7,AVR.20!$E$7:$E$48,"Jour")+COUNTIFS(AVR.20!$H$7:$H$48,$B7,AVR.20!$E$7:$E$48,"Jour")+COUNTIFS(AVR.20!$J$7:$J$48,$B7,AVR.20!$E$7:$E$48,"Jour")+COUNTIFS(AVR.20!$L$7:$L$48,$B7,AVR.20!$E$7:$E$48,"Jour")+COUNTIFS(AVR.20!$N$7:$N$48,$B7,AVR.20!$E$7:$E$48,"Jour")+COUNTIFS(AVR.20!$P$7:$P$48,$B7,AVR.20!$E$7:$E$48,"Jour")+COUNTIFS(AVR.20!$R$7:$R$48,$B7,AVR.20!$E$7:$E$48,"Jour")+COUNTIFS(AVR.20!$T$7:$T$48,$B7,AVR.20!$E$7:$E$48,"Jour")+COUNTIFS(AVR.20!$V$7:$V$48,$B7,AVR.20!$E$7:$E$48,"Jour")+COUNTIFS(AVR.20!$W$7:$W$48,$B7,AVR.20!$E$7:$E$48,"Jour")+COUNTIFS(AVR.20!$X$7:$X$48,$B7,AVR.20!$E$7:$E$48,"Jour")) -> 0 | BL7: =IF($A7="","",COUNTIFS(AVR.20!$F$7:$F$48,$B7,AVR.20!$E$7:$E$48,"Nuit")+COUNTIFS(AVR.20!$H$7:$H$48,$B7,AVR.20!$E$7:$E$48,"Nuit")+COUNTIFS(AVR.20!$J$7:$J$48,$B7,AVR.20!$E$7:$E$48,"Nuit")+COUNTIFS(AVR.20!$L$7:$L$48,$B7,AVR.20!$E$7:$E$48,"Nuit")+COUNTIFS(AVR.20!$N$7:$N$48,$B7,AVR.20!$E$7:$E$48,"Nuit")+COUNTIFS(AVR.20!$P$7:$P$48,$B7,AVR.20!$E$7:$E$48,"Nuit")+COUNTIFS(AVR.20!$R$7:$R$48,$B7,AVR.20!$E$7:$E$48,"Nuit")+COUNTIFS(AVR.20!$T$7:$T$48,$B7,AVR.20!$E$7:$E$48,"Nuit")+COUNTIFS(AVR.20!$V$7:$V$48,$B7,AVR.20!$E$7:$E$48,"Nuit")+COUNTIFS(AVR.20!$W$7:$W$48,$B7,AVR.20!$E$7:$E$48,"Nuit")+COUNTIFS(AVR.20!$X$7:$X$48,$B7,AVR.20!$E$7:$E$48,"Nuit")) -> 0 | BM7: =IF($A7="","",COUNTIFS(AVR.20!$F$7:$F$48,$B7,AVR.20!$E$7:$E$48,"Jour")+COUNTIFS(AVR.20!$H$7:$H$48,$B7,AVR.20!$E$7:$E$48,"Jour")+COUNTIFS(AVR.20!$J$7:$J$48,$B7,AVR.20!$E$7:$E$48,"Jour")+COUNTIFS(AVR.20!$L$7:$L$48,$B7,AVR.20!$E$7:$E$48,"Jour")+COUNTIFS(AVR.20!$N$7:$N$48,$B7,AVR.20!$E$7:$E$48,"Jour")+COUNTIFS(AVR.20!$P$7:$P$48,$B7,AVR.20!$E$7:$E$48,"Jour")+COUNTIFS(AVR.20!$R$7:$R$48,$B7,AVR.20!$E$7:$E$48,"Jour")+COUNTIFS(AVR.20!$T$7:$T$48,$B7,AVR.20!$E$7:$E$48,"Jour")+COUNTIFS(AVR.20!$V$7:$V$48,$B7,AVR.20!$E$7:$E$48,"Jour")+COUNTIFS(AVR.20!$W$7:$W$48,$B7,AVR.20!$E$7:$E$48,"Jour")+COUNTIFS(AVR.20!$X$7:$X$48,$B7,AVR.20!$E$7:$E$48,"Jour")) -> 0 | BO7: =AP7+AR7+AT7+AV7+AX7+AZ7+BB7+BD7+BF7+BH7+BJ7+BL7 -> 23 | BP7: =AQ7+AS7+AU7+AW7+AY7+BA7+BC7+BE7+BG7+BI7+BK7+BM7 -> 11
A8: AZEVEDO Linda | B8: AZEVEDO L (1) | C8: Sap1 | D8: S1 | E8: Ch.E | K8: FDF1 | N8: =IF($A8="","",COUNTIFS(#REF!,B8,#REF!,"Nuit")+COUNTIFS(#REF!,B8,#REF!,"Nuit")+COUNTIFS(#REF!,B8,#REF!,"Nuit")+COUNTIFS(#REF!,B8,#REF!,"Nuit")+COUNTIFS(#REF!,B8,#REF!,"Nuit")+COUNTIFS(#REF!,B8,#REF!,"Nuit")+COUNTIFS(#REF!,B8,#REF!,"Nuit")+COUNTIFS(#REF!,B8,#REF!,"Nuit")+COUNTIFS(#REF!,B8,#REF!,"Nuit")+COUNTIFS(#REF!,B8,#REF!,"Nuit")+COUNTIFS(#REF!,B8,#REF!,"Nuit")) -> #REF! | O8: =IF($A8="","",COUNTIFS(#REF!,B8,#REF!,"Jour")+COUNTIFS(#REF!,B8,#REF!,"Jour")+COUNTIFS(#REF!,B8,#REF!,"Jour")+COUNTIFS(#REF!,B8,#REF!,"Jour")+COUNTIFS(#REF!,B8,#REF!,"Jour")+COUNTIFS(#REF!,B8,#REF!,"Jour")+COUNTIFS(#REF!,B8,#REF!,"Jour")+COUNTIFS(#REF!,B8,#REF!,"Jour")+COUNTIFS(#REF!,B8,#REF!,"Jour")+COUNTIFS(#REF!,B8,#REF!,"Jour")+COUNTIFS(#REF!,B8,#REF!,"Jour")) -> #REF! | P8: =IF($A8="","",COUNTIFS(#REF!,B8,#REF!,"Nuit")+COUNTIFS(#REF!,B8,#REF!,"Nuit")+COUNTIFS(#REF!,B8,#REF!,"Nuit")+COUNTIFS(#REF!,B8,#REF!,"Nuit")+COUNTIFS(#REF!,B8,#REF!,"Nuit")+COUNTIFS(#REF!,B8,#REF!,"Nuit")+COUNTIFS(#REF!,B8,#REF!,"Nuit")+COUNTIFS(#REF!,B8,#REF!,"Nuit")+COUNTIFS(#REF!,B8,#REF!,"Nuit")+COUNTIFS(#REF!,B8,#REF!,"Nuit")+COUNTIFS(#REF!,B8,#REF!,"Nuit")) -> #REF! | Q8: =IF($A8="","",COUNTIFS(#REF!,B8,#REF!,"Jour")+COUNTIFS(#REF!,B8,#REF!,"Jour")+COUNTIFS(#REF!,B8,#REF!,"Jour")+COUNTIFS(#REF!,B8,#REF!,"Jour")+COUNTIFS(#REF!,B8,#REF!,"Jour")+COUNTIFS(#REF!,B8,#REF!,"Jour")+COUNTIFS(#REF!,B8,#REF!,"Jour")+COUNTIFS(#REF!,B8,#REF!,"Jour")+COUNTIFS(#REF!,B8,#REF!,"Jour")+COUNTIFS(#REF!,B8,#REF!,"Jour")+COUNTIFS(#REF!,B8,#REF!,"Jour")) -> #REF! | R8: =IF($A8="","",COUNTIFS(#REF!,B8,#REF!,"Nuit")+COUNTIFS(#REF!,B8,#REF!,"Nuit")+COUNTIFS(#REF!,B8,#REF!,"Nuit")+COUNTIFS(#REF!,B8,#REF!,"Nuit")+COUNTIFS(#REF!,B8,#REF!,"Nuit")+COUNTIFS(#REF!,B8,#REF!,"Nuit")+COUNTIFS(#REF!,B8,#REF!,"Nuit")+COUNTIFS(#REF!,B8,#REF!,"Nuit")+COUNTIFS(#REF!,B8,#REF!,"Nuit")+COUNTIFS(#REF!,B8,#REF!,"Nuit")+COUNTIFS(#REF!,B8,#REF!,"Nuit")) -> #REF! | S8: =IF($A8="","",COUNTIFS(#REF!,B8,#REF!,"Jour")+COUNTIFS(#REF!,B8,#REF!,"Jour")+COUNTIFS(#REF!,B8,#REF!,"Jour")+COUNTIFS(#REF!,B8,#REF!,"Jour")+COUNTIFS(#REF!,B8,#REF!,"Jour")+COUNTIFS(#REF!,B8,#REF!,"Jour")+COUNTIFS(#REF!,B8,#REF!,"Jour")+COUNTIFS(#REF!,B8,#REF!,"Jour")+COUNTIFS(#REF!,B8,#REF!,"Jour")+COUNTIFS(#REF!,B8,#REF!,"Jour")+COUNTIFS(#REF!,B8,#REF!,"Jour")) -> #REF! | T8: =IF($A8="","",COUNTIFS(#REF!,B8,#REF!,"Nuit")+COUNTIFS(#REF!,B8,#REF!,"Nuit")+COUNTIFS(#REF!,B8,#REF!,"Nuit")+COUNTIFS(#REF!,B8,#REF!,"Nuit")+COUNTIFS(#REF!,B8,#REF!,"Nuit")+COUNTIFS(#REF!,B8,#REF!,"Nuit")+COUNTIFS(#REF!,B8,#REF!,"Nuit")+COUNTIFS(#REF!,B8,#REF!,"Nuit")+COUNTIFS(#REF!,B8,#REF!,"Nuit")+COUNTIFS(#REF!,B8,#REF!,"Nuit")+COUNTIFS(#REF!,B8,#REF!,"Nuit")) -> #REF! | U8: =IF($A8="","",COUNTIFS(#REF!,B8,#REF!,"Jour")+COUNTIFS(#REF!,B8,#REF!,"Jour")+COUNTIFS(#REF!,B8,#REF!,"Jour")+COUNTIFS(#REF!,B8,#REF!,"Jour")+COUNTIFS(#REF!,B8,#REF!,"Jour")+COUNTIFS(#REF!,B8,#REF!,"Jour")+COUNTIFS(#REF!,B8,#REF!,"Jour")+COUNTIFS(#REF!,B8,#REF!,"Jour")+COUNTIFS(#REF!,B8,#REF!,"Jour")+COUNTIFS(#REF!,B8,#REF!,"Jour")+COUNTIFS(#REF!,B8,#REF!,"Jour")) -> #REF! | V8: =IF($A8="","",COUNTIFS(#REF!,B8,#REF!,"Nuit")+COUNTIFS(#REF!,B8,#REF!,"Nuit")+COUNTIFS(#REF!,B8,#REF!,"Nuit")+COUNTIFS(#REF!,B8,#REF!,"Nuit")+COUNTIFS(#REF!,B8,#REF!,"Nuit")+COUNTIFS(#REF!,B8,#REF!,"Nuit")+COUNTIFS(#REF!,B8,#REF!,"Nuit")+COUNTIFS(#REF!,B8,#REF!,"Nuit")+COUNTIFS(#REF!,B8,#REF!,"Nuit")+COUNTIFS(#REF!,B8,#REF!,"Nuit")+COUNTIFS(#REF!,B8,#REF!,"Nuit")) -> #REF! | W8: =IF($A8="","",COUNTIFS(#REF!,B8,#REF!,"Jour")+COUNTIFS(#REF!,B8,#REF!,"Jour")+COUNTIFS(#REF!,B8,#REF!,"Jour")+COUNTIFS(#REF!,B8,#REF!,"Jour")+COUNTIFS(#REF!,B8,#REF!,"Jour")+COUNTIFS(#REF!,B8,#REF!,"Jour")+COUNTIFS(#REF!,B8,#REF!,"Jour")+COUNTIFS(#REF!,B8,#REF!,"Jour")+COUNTIFS(#REF!,B8,#REF!,"Jour")+COUNTIFS(#REF!,B8,#REF!,"Jour")+COUNTIFS(#REF!,B8,#REF!,"Jour")) -> #REF! | X8: =IF($A8="","",COUNTIFS(#REF!,B8,#REF!,"Nuit")+COUNTIFS(#REF!,B8,#REF!,"Nuit")+COUNTIFS(#REF!,B8,#REF!,"Nuit")+COUNTIFS(#REF!,B8,#REF!,"Nuit")+COUNTIFS(#REF!,B8,#REF!,"Nuit")+COUNTIFS(#REF!,B8,#REF!,"Nuit")+COUNTIFS(#REF!,B8,#REF!,"Nuit")+COUNTIFS(#REF!,B8,#REF!,"Nuit")+COUNTIFS(#REF!,B8,#REF!,"Nuit")+COUNTIFS(#REF!,B8,#REF!,"Nuit")+COUNTIFS(#REF!,B8,#REF!,"Nuit")) -> #REF! | Y8: =IF($A8="","",COUNTIFS(#REF!,B8,#REF!,"Jour")+COUNTIFS(#REF!,B8,#REF!,"Jour")+COUNTIFS(#REF!,B8,#REF!,"Jour")+COUNTIFS(#REF!,B8,#REF!,"Jour")+COUNTIFS(#REF!,B8,#REF!,"Jour")+COUNTIFS(#REF!,B8,#REF!,"Jour")+COUNTIFS(#REF!,B8,#REF!,"Jour")+COUNTIFS(#REF!,B8,#REF!,"Jour")+COUNTIFS(#REF!,B8,#REF!,"Jour")+COUNTIFS(#REF!,B8,#REF!,"Jour")+COUNTIFS(#REF!,B8,#REF!,"Jour")) -> #REF! | Z8: =IF($A8="","",COUNTIFS(#REF!,$B8,#REF!,"Nuit")+COUNTIFS(#REF!,B8,#REF!,"Nuit")+COUNTIFS(#REF!,B8,#REF!,"Nuit")+COUNTIFS(#REF!,B8,#REF!,"Nuit")+COUNTIFS(#REF!,B8,#REF!,"Nuit")+COUNTIFS(#REF!,B8,#REF!,"Nuit")+COUNTIFS(#REF!,B8,#REF!,"Nuit")+COUNTIFS(#REF!,B8,#REF!,"Nuit")+COUNTIFS(#REF!,B8,#REF!,"Nuit")+COUNTIFS(#REF!,B8,#REF!,"Nuit")+COUNTIFS(#REF!,B8,#REF!,"Nuit")) -> #REF! | AA8: =IF($A8="","",COUNTIFS(#REF!,$B8,#REF!,"Jour")+COUNTIFS(#REF!,$B8,#REF!,"Jour")+COUNTIFS(#REF!,$B8,#REF!,"Jour")+COUNTIFS(#REF!,$B8,#REF!,"Jour")+COUNTIFS(#REF!,$B8,#REF!,"Jour")+COUNTIFS(#REF!,$B8,#REF!,"Jour")+COUNTIFS(#REF!,$B8,#REF!,"Jour")+COUNTIFS(#REF!,$B8,#REF!,"Jour")+COUNTIFS(#REF!,$B8,#REF!,"Jour")+COUNTIFS(#REF!,$B8,#REF!,"Jour")+COUNTIFS(#REF!,$B8,#REF!,"Jour")) -> #REF! | AB8: =IF($A8="","",COUNTIFS(#REF!,$B8,#REF!,"Nuit")+COUNTIFS(#REF!,$B8,#REF!,"Nuit")+COUNTIFS(#REF!,$B8,#REF!,"Nuit")+COUNTIFS(#REF!,$B8,#REF!,"Nuit")+COUNTIFS(#REF!,$B8,#REF!,"Nuit")+COUNTIFS(#REF!,$B8,#REF!,"Nuit")+COUNTIFS(#REF!,$B8,#REF!,"Nuit")+COUNTIFS(#REF!,$B8,#REF!,"Nuit")+COUNTIFS(#REF!,$B8,#REF!,"Nuit")+COUNTIFS(#REF!,$B8,#REF!,"Nuit")+COUNTIFS(#REF!,$B8,#REF!,"Nuit")) -> #REF! | AC8: =IF($A8="","",COUNTIFS(#REF!,$B8,#REF!,"Jour")+COUNTIFS(#REF!,$B8,#REF!,"Jour")+COUNTIFS(#REF!,$B8,#REF!,"Jour")+COUNTIFS(#REF!,$B8,#REF!,"Jour")+COUNTIFS(#REF!,$B8,#REF!,"Jour")+COUNTIFS(#REF!,$B8,#REF!,"Jour")+COUNTIFS(#REF!,$B8,#REF!,"Jour")+COUNTIFS(#REF!,$B8,#REF!,"Jour")+COUNTIFS(#REF!,$B8,#REF!,"Jour")+COUNTIFS(#REF!,$B8,#REF!,"Jour")+COUNTIFS(#REF!,$B8,#REF!,"Jour")) -> #REF! | AD8: =IF($A8="","",COUNTIFS(#REF!,$B8,#REF!,"Nuit")+COUNTIFS(#REF!,$B8,#REF!,"Nuit")+COUNTIFS(#REF!,$B8,#REF!,"Nuit")+COUNTIFS(#REF!,$B8,#REF!,"Nuit")+COUNTIFS(#REF!,$B8,#REF!,"Nuit")+COUNTIFS(#REF!,$B8,#REF!,"Nuit")+COUNTIFS(#REF!,$B8,#REF!,"Nuit")+COUNTIFS(#REF!,$B8,#REF!,"Nuit")+COUNTIFS(#REF!,$B8,#REF!,"Nuit")+COUNTIFS(#REF!,$B8,#REF!,"Nuit")+COUNTIFS(#REF!,$B8,#REF!,"Nuit")) -> #REF! | AE8: =IF($A8="","",COUNTIFS(#REF!,$B8,#REF!,"Jour")+COUNTIFS(#REF!,$B8,#REF!,"Jour")+COUNTIFS(#REF!,$B8,#REF!,"Jour")+COUNTIFS(#REF!,$B8,#REF!,"Jour")+COUNTIFS(#REF!,$B8,#REF!,"Jour")+COUNTIFS(#REF!,$B8,#REF!,"Jour")+COUNTIFS(#REF!,$B8,#REF!,"Jour")+COUNTIFS(#REF!,$B8,#REF!,"Jour")+COUNTIFS(#REF!,$B8,#REF!,"Jour")+COUNTIFS(#REF!,$B8,#REF!,"Jour")+COUNTIFS(#REF!,$B8,#REF!,"Jour")) -> #REF! | AF8: =IF($A8="","",COUNTIFS(#REF!,$B8,#REF!,"Nuit")+COUNTIFS(#REF!,$B8,#REF!,"Nuit")+COUNTIFS(#REF!,$B8,#REF!,"Nuit")+COUNTIFS(#REF!,$B8,#REF!,"Nuit")+COUNTIFS(#REF!,$B8,#REF!,"Nuit")+COUNTIFS(#REF!,$B8,#REF!,"Nuit")+COUNTIFS(#REF!,$B8,#REF!,"Nuit")+COUNTIFS(#REF!,$B8,#REF!,"Nuit")+COUNTIFS(#REF!,$B8,#REF!,"Nuit")+COUNTIFS(#REF!,$B8,#REF!,"Nuit")+COUNTIFS(#REF!,$B8,#REF!,"Nuit")) -> #REF! | AG8: =IF($A8="","",COUNTIFS(#REF!,$B8,#REF!,"Jour")+COUNTIFS(#REF!,$B8,#REF!,"Jour")+COUNTIFS(#REF!,$B8,#REF!,"Jour")+COUNTIFS(#REF!,$B8,#REF!,"Jour")+COUNTIFS(#REF!,$B8,#REF!,"Jour")+COUNTIFS(#REF!,$B8,#REF!,"Jour")+COUNTIFS(#REF!,$B8,#REF!,"Jour")+COUNTIFS(#REF!,$B8,#REF!,"Jour")+COUNTIFS(#REF!,$B8,#REF!,"Jour")+COUNTIFS(#REF!,$B8,#REF!,"Jour")+COUNTIFS(#REF!,$B8,#REF!,"Jour")) -> #REF! | AH8: =IF($A8="","",COUNTIFS(#REF!,$B8,#REF!,"Nuit")+COUNTIFS(#REF!,$B8,#REF!,"Nuit")+COUNTIFS(#REF!,$B8,#REF!,"Nuit")+COUNTIFS(#REF!,$B8,#REF!,"Nuit")+COUNTIFS(#REF!,$B8,#REF!,"Nuit")+COUNTIFS(#REF!,$B8,#REF!,"Nuit")+COUNTIFS(#REF!,$B8,#REF!,"Nuit")+COUNTIFS(#REF!,$B8,#REF!,"Nuit")+COUNTIFS(#REF!,$B8,#REF!,"Nuit")+COUNTIFS(#REF!,$B8,#REF!,"Nuit")+COUNTIFS(#REF!,$B8,#REF!,"Nuit")) -> #REF! | AI8: =IF($A8="","",COUNTIFS(#REF!,$B8,#REF!,"Jour")+COUNTIFS(#REF!,$B8,#REF!,"Jour")+COUNTIFS(#REF!,$B8,#REF!,"Jour")+COUNTIFS(#REF!,$B8,#REF!,"Jour")+COUNTIFS(#REF!,$B8,#REF!,"Jour")+COUNTIFS(#REF!,$B8,#REF!,"Jour")+COUNTIFS(#REF!,$B8,#REF!,"Jour")+COUNTIFS(#REF!,$B8,#REF!,"Jour")+COUNTIFS(#REF!,$B8,#REF!,"Jour")+COUNTIFS(#REF!,$B8,#REF!,"Jour")+COUNTIFS(#REF!,$B8,#REF!,"Jour")) -> #REF! | AJ8: =IF($A8="","",COUNTIFS(#REF!,$B8,#REF!,"Nuit")+COUNTIFS(#REF!,$B8,#REF!,"Nuit")+COUNTIFS(#REF!,$B8,#REF!,"Nuit")+COUNTIFS(#REF!,$B8,#REF!,"Nuit")+COUNTIFS(#REF!,$B8,#REF!,"Nuit")+COUNTIFS(#REF!,$B8,#REF!,"Nuit")+COUNTIFS(#REF!,$B8,#REF!,"Nuit")+COUNTIFS(#REF!,$B8,#REF!,"Nuit")+COUNTIFS(#REF!,$B8,#REF!,"Nuit")+COUNTIFS(#REF!,$B8,#REF!,"Nuit")+COUNTIFS(#REF!,$B8,#REF!,"Nuit")) -> #REF! | AK8: =IF($A8="","",COUNTIFS(#REF!,$B8,#REF!,"Jour")+COUNTIFS(#REF!,$B8,#REF!,"Jour")+COUNTIFS(#REF!,$B8,#REF!,"Jour")+COUNTIFS(#REF!,$B8,#REF!,"Jour")+COUNTIFS(#REF!,$B8,#REF!,"Jour")+COUNTIFS(#REF!,$B8,#REF!,"Jour")+COUNTIFS(#REF!,$B8,#REF!,"Jour")+COUNTIFS(#REF!,$B8,#REF!,"Jour")+COUNTIFS(#REF!,$B8,#REF!,"Jour")+COUNTIFS(#REF!,$B8,#REF!,"Jour")+COUNTIFS(#REF!,$B8,#REF!,"Jour")) -> #REF! | AM8: =N8+P8+R8+T8+V8+X8+Z8+AB8+AD8+AF8+AH8+AJ8 -> #REF! | AN8: =O8+Q8+S8+U8+W8+Y8+AA8+AC8+AE8+AG8+AI8+AK8 -> #REF! | AO8: =(AM8*0.6*6)+(AN8*0.6*12) -> #REF! | AP8: =IF($A8="","",COUNTIFS(JAN.20!$F$7:$F$48,$B8,JAN.20!$E$7:$E$48,"Nuit")+COUNTIFS(JAN.20!$H$7:$H$48,$B8,JAN.20!$E$7:$E$48,"Nuit")+COUNTIFS(JAN.20!$J$7:$J$48,$B8,JAN.20!$E$7:$E$48,"Nuit")+COUNTIFS(JAN.20!$L$7:$L$48,$B8,JAN.20!$E$7:$E$48,"Nuit")+COUNTIFS(JAN.20!$N$7:$N$48,$B8,JAN.20!$E$7:$E$48,"Nuit")+COUNTIFS(JAN.20!$P$7:$P$48,$B8,JAN.20!$E$7:$E$48,"Nuit")+COUNTIFS(JAN.20!$R$7:$R$48,$B8,JAN.20!$E$7:$E$48,"Nuit")+COUNTIFS(JAN.20!$T$7:$T$48,$B8,JAN.20!$E$7:$E$48,"Nuit")+COUNTIFS(JAN.20!$V$7:$V$48,$B8,JAN.20!$E$7:$E$48,"Nuit")+COUNTIFS(JAN.20!$W$7:$W$48,$B8,JAN.20!$E$7:$E$48,"Nuit")+COUNTIFS(JAN.20!$X$7:$X$48,$B8,JAN.20!$E$7:$E$48,"Nuit")) -> 2 | AQ8: =IF($A8="","",COUNTIFS(JAN.20!$F$7:$F$48,$B8,JAN.20!$E$7:$E$48,"Jour")+COUNTIFS(JAN.20!$H$7:$H$48,$B8,JAN.20!$E$7:$E$48,"Jour")+COUNTIFS(JAN.20!$J$7:$J$48,$B8,JAN.20!$E$7:$E$48,"Jour")+COUNTIFS(JAN.20!$L$7:$L$48,$B8,JAN.20!$E$7:$E$48,"Jour")+COUNTIFS(JAN.20!$N$7:$N$48,$B8,JAN.20!$E$7:$E$48,"Jour")+COUNTIFS(JAN.20!$P$7:$P$48,$B8,JAN.20!$E$7:$E$48,"Jour")+COUNTIFS(JAN.20!$R$7:$R$48,$B8,JAN.20!$E$7:$E$48,"Jour")+COUNTIFS(JAN.20!$T$7:$T$48,$B8,JAN.20!$E$7:$E$48,"Jour")+COUNTIFS(JAN.20!$V$7:$V$48,$B8,JAN.20!$E$7:$E$48,"Jour")+COUNTIFS(JAN.20!$W$7:$W$48,$B8,JAN.20!$E$7:$E$48,"Jour")+COUNTIFS(JAN.20!$X$7:$X$48,$B8,JAN.20!$E$7:$E$48,"Jour")) -> 1 | AR8: =IF($A8="","",COUNTIFS(FEV.20!$F$7:$F$48,$B8,FEV.20!$E$7:$E$48,"Nuit")+COUNTIFS(FEV.20!$H$7:$H$48,$B8,FEV.20!$E$7:$E$48,"Nuit")+COUNTIFS(FEV.20!$J$7:$J$48,$B8,FEV.20!$E$7:$E$48,"Nuit")+COUNTIFS(FEV.20!$L$7:$L$48,$B8,FEV.20!$E$7:$E$48,"Nuit")+COUNTIFS(FEV.20!$N$7:$N$48,$B8,FEV.20!$E$7:$E$48,"Nuit")+COUNTIFS(FEV.20!$P$7:$P$48,$B8,FEV.20!$E$7:$E$48,"Nuit")+COUNTIFS(FEV.20!$R$7:$R$48,$B8,FEV.20!$E$7:$E$48,"Nuit")+COUNTIFS(FEV.20!$T$7:$T$48,$B8,FEV.20!$E$7:$E$48,"Nuit")+COUNTIFS(FEV.20!$V$7:$V$48,$B8,FEV.20!$E$7:$E$48,"Nuit")+COUNTIFS(FEV.20!$W$7:$W$48,$B8,FEV.20!$E$7:$E$48,"Nuit")+COUNTIFS(FEV.20!$X$7:$X$48,$B8,FEV.20!$E$7:$E$48,"Nuit")) -> 0 | AS8: =IF($A8="","",COUNTIFS(FEV.20!$F$7:$F$48,$B8,FEV.20!$E$7:$E$48,"Jour")+COUNTIFS(FEV.20!$H$7:$H$48,$B8,FEV.20!$E$7:$E$48,"Jour")+COUNTIFS(FEV.20!$J$7:$J$48,$B8,FEV.20!$E$7:$E$48,"Jour")+COUNTIFS(FEV.20!$L$7:$L$48,$B8,FEV.20!$E$7:$E$48,"Jour")+COUNTIFS(FEV.20!$N$7:$N$48,$B8,FEV.20!$E$7:$E$48,"Jour")+COUNTIFS(FEV.20!$P$7:$P$48,$B8,FEV.20!$E$7:$E$48,"Jour")+COUNTIFS(FEV.20!$R$7:$R$48,$B8,FEV.20!$E$7:$E$48,"Jour")+COUNTIFS(FEV.20!$T$7:$T$48,$B8,FEV.20!$E$7:$E$48,"Jour")+COUNTIFS(FEV.20!$V$7:$V$48,$B8,FEV.20!$E$7:$E$48,"Jour")+COUNTIFS(FEV.20!$W$7:$W$48,$B8,FEV.20!$E$7:$E$48,"Jour")+COUNTIFS(FEV.20!$X$7:$X$48,$B8,FEV.20!$E$7:$E$48,"Jour")) -> 0 | AT8: =IF($A8="","",COUNTIFS(Mars.20!$F$7:$F$48,$B8,Mars.20!$E$7:$E$48,"Nuit")+COUNTIFS(Mars.20!$H$7:$H$48,$B8,Mars.20!$E$7:$E$48,"Nuit")+COUNTIFS(Mars.20!$J$7:$J$48,$B8,Mars.20!$E$7:$E$48,"Nuit")+COUNTIFS(Mars.20!$L$7:$L$48,$B8,Mars.20!$E$7:$E$48,"Nuit")+COUNTIFS(Mars.20!$N$7:$N$48,$B8,Mars.20!$E$7:$E$48,"Nuit")+COUNTIFS(Mars.20!$P$7:$P$48,$B8,Mars.20!$E$7:$E$48,"Nuit")+COUNTIFS(Mars.20!$R$7:$R$48,$B8,Mars.20!$E$7:$E$48,"Nuit")+COUNTIFS(Mars.20!$T$7:$T$48,$B8,Mars.20!$E$7:$E$48,"Nuit")+COUNTIFS(Mars.20!$V$7:$V$48,$B8,Mars.20!$E$7:$E$48,"Nuit")+COUNTIFS(Mars.20!$W$7:$W$48,$B8,Mars.20!$E$7:$E$48,"Nuit")+COUNTIFS(Mars.20!$X$7:$X$48,$B8,Mars.20!$E$7:$E$48,"Nuit")) -> 0 | AU8: =IF($A8="","",COUNTIFS(Mars.20!$F$7:$F$48,$B8,Mars.20!$E$7:$E$48,"Jour")+COUNTIFS(Mars.20!$H$7:$H$48,$B8,Mars.20!$E$7:$E$48,"Jour")+COUNTIFS(Mars.20!$J$7:$J$48,$B8,Mars.20!$E$7:$E$48,"Jour")+COUNTIFS(Mars.20!$L$7:$L$48,$B8,Mars.20!$E$7:$E$48,"Jour")+COUNTIFS(Mars.20!$N$7:$N$48,$B8,Mars.20!$E$7:$E$48,"Jour")+COUNTIFS(Mars.20!$P$7:$P$48,$B8,Mars.20!$E$7:$E$48,"Jour")+COUNTIFS(Mars.20!$R$7:$R$48,$B8,Mars.20!$E$7:$E$48,"Jour")+COUNTIFS(Mars.20!$T$7:$T$48,$B8,Mars.20!$E$7:$E$48,"Jour")+COUNTIFS(Mars.20!$V$7:$V$48,$B8,Mars.20!$E$7:$E$48,"Jour")+COUNTIFS(Mars.20!$W$7:$W$48,$B8,Mars.20!$E$7:$E$48,"Jour")+COUNTIFS(Mars.20!$X$7:$X$48,$B8,Mars.20!$E$7:$E$48,"Jour")) -> 0 | AV8: =IF($A8="","",COUNTIFS(AVR.20!$F$7:$F$48,$B8,AVR.20!$E$7:$E$48,"Nuit")+COUNTIFS(AVR.20!$H$7:$H$48,$B8,AVR.20!$E$7:$E$48,"Nuit")+COUNTIFS(AVR.20!$J$7:$J$48,$B8,AVR.20!$E$7:$E$48,"Nuit")+COUNTIFS(AVR.20!$L$7:$L$48,$B8,AVR.20!$E$7:$E$48,"Nuit")+COUNTIFS(AVR.20!$N$7:$N$48,$B8,AVR.20!$E$7:$E$48,"Nuit")+COUNTIFS(AVR.20!$P$7:$P$48,$B8,AVR.20!$E$7:$E$48,"Nuit")+COUNTIFS(AVR.20!$R$7:$R$48,$B8,AVR.20!$E$7:$E$48,"Nuit")+COUNTIFS(AVR.20!$T$7:$T$48,$B8,AVR.20!$E$7:$E$48,"Nuit")+COUNTIFS(AVR.20!$V$7:$V$48,$B8,AVR.20!$E$7:$E$48,"Nuit")+COUNTIFS(AVR.20!$W$7:$W$48,$B8,AVR.20!$E$7:$E$48,"Nuit")+COUNTIFS(AVR.20!$X$7:$X$48,$B8,AVR.20!$E$7:$E$48,"Nuit")) -> 0 | AW8: =IF($A8="","",COUNTIFS(AVR.20!$F$7:$F$48,$B8,AVR.20!$E$7:$E$48,"Jour")+COUNTIFS(AVR.20!$H$7:$H$48,$B8,AVR.20!$E$7:$E$48,"Jour")+COUNTIFS(AVR.20!$J$7:$J$48,$B8,AVR.20!$E$7:$E$48,"Jour")+COUNTIFS(AVR.20!$L$7:$L$48,$B8,AVR.20!$E$7:$E$48,"Jour")+COUNTIFS(AVR.20!$N$7:$N$48,$B8,AVR.20!$E$7:$E$48,"Jour")+COUNTIFS(AVR.20!$P$7:$P$48,$B8,AVR.20!$E$7:$E$48,"Jour")+COUNTIFS(AVR.20!$R$7:$R$48,$B8,AVR.20!$E$7:$E$48,"Jour")+COUNTIFS(AVR.20!$T$7:$T$48,$B8,AVR.20!$E$7:$E$48,"Jour")+COUNTIFS(AVR.20!$V$7:$V$48,$B8,AVR.20!$E$7:$E$48,"Jour")+COUNTIFS(AVR.20!$W$7:$W$48,$B8,AVR.20!$E$7:$E$48,"Jour")+COUNTIFS(AVR.20!$X$7:$X$48,$B8,AVR.20!$E$7:$E$48,"Jour")) -> 0 | AX8: =IF($A8="","",COUNTIFS(AVR.20!$F$7:$F$48,$B8,AVR.20!$E$7:$E$48,"Nuit")+COUNTIFS(AVR.20!$H$7:$H$48,$B8,AVR.20!$E$7:$E$48,"Nuit")+COUNTIFS(AVR.20!$J$7:$J$48,$B8,AVR.20!$E$7:$E$48,"Nuit")+COUNTIFS(AVR.20!$L$7:$L$48,$B8,AVR.20!$E$7:$E$48,"Nuit")+COUNTIFS(AVR.20!$N$7:$N$48,$B8,AVR.20!$E$7:$E$48,"Nuit")+COUNTIFS(AVR.20!$P$7:$P$48,$B8,AVR.20!$E$7:$E$48,"Nuit")+COUNTIFS(AVR.20!$R$7:$R$48,$B8,AVR.20!$E$7:$E$48,"Nuit")+COUNTIFS(AVR.20!$T$7:$T$48,$B8,AVR.20!$E$7:$E$48,"Nuit")+COUNTIFS(AVR.20!$V$7:$V$48,$B8,AVR.20!$E$7:$E$48,"Nuit")+COUNTIFS(AVR.20!$W$7:$W$48,$B8,AVR.20!$E$7:$E$48,"Nuit")+COUNTIFS(AVR.20!$X$7:$X$48,$B8,AVR.20!$E$7:$E$48,"Nuit")) -> 0 | AY8: =IF($A8="","",COUNTIFS(AVR.20!$F$7:$F$48,$B8,AVR.20!$E$7:$E$48,"Jour")+COUNTIFS(AVR.20!$H$7:$H$48,$B8,AVR.20!$E$7:$E$48,"Jour")+COUNTIFS(AVR.20!$J$7:$J$48,$B8,AVR.20!$E$7:$E$48,"Jour")+COUNTIFS(AVR.20!$L$7:$L$48,$B8,AVR.20!$E$7:$E$48,"Jour")+COUNTIFS(AVR.20!$N$7:$N$48,$B8,AVR.20!$E$7:$E$48,"Jour")+COUNTIFS(AVR.20!$P$7:$P$48,$B8,AVR.20!$E$7:$E$48,"Jour")+COUNTIFS(AVR.20!$R$7:$R$48,$B8,AVR.20!$E$7:$E$48,"Jour")+COUNTIFS(AVR.20!$T$7:$T$48,$B8,AVR.20!$E$7:$E$48,"Jour")+COUNTIFS(AVR.20!$V$7:$V$48,$B8,AVR.20!$E$7:$E$48,"Jour")+COUNTIFS(AVR.20!$W$7:$W$48,$B8,AVR.20!$E$7:$E$48,"Jour")+COUNTIFS(AVR.20!$X$7:$X$48,$B8,AVR.20!$E$7:$E$48,"Jour")) -> 0 | AZ8: =IF($A8="","",COUNTIFS(AVR.20!$F$7:$F$48,$B8,AVR.20!$E$7:$E$48,"Nuit")+COUNTIFS(AVR.20!$H$7:$H$48,$B8,AVR.20!$E$7:$E$48,"Nuit")+COUNTIFS(AVR.20!$J$7:$J$48,$B8,AVR.20!$E$7:$E$48,"Nuit")+COUNTIFS(AVR.20!$L$7:$L$48,$B8,AVR.20!$E$7:$E$48,"Nuit")+COUNTIFS(AVR.20!$N$7:$N$48,$B8,AVR.20!$E$7:$E$48,"Nuit")+COUNTIFS(AVR.20!$P$7:$P$48,$B8,AVR.20!$E$7:$E$48,"Nuit")+COUNTIFS(AVR.20!$R$7:$R$48,$B8,AVR.20!$E$7:$E$48,"Nuit")+COUNTIFS(AVR.20!$T$7:$T$48,$B8,AVR.20!$E$7:$E$48,"Nuit")+COUNTIFS(AVR.20!$V$7:$V$48,$B8,AVR.20!$E$7:$E$48,"Nuit")+COUNTIFS(AVR.20!$W$7:$W$48,$B8,AVR.20!$E$7:$E$48,"Nuit")+COUNTIFS(AVR.20!$X$7:$X$48,$B8,AVR.20!$E$7:$E$48,"Nuit")) -> 0 | BA8: =IF($A8="","",COUNTIFS(AVR.20!$F$7:$F$48,$B8,AVR.20!$E$7:$E$48,"Jour")+COUNTIFS(AVR.20!$H$7:$H$48,$B8,AVR.20!$E$7:$E$48,"Jour")+COUNTIFS(AVR.20!$J$7:$J$48,$B8,AVR.20!$E$7:$E$48,"Jour")+COUNTIFS(AVR.20!$L$7:$L$48,$B8,AVR.20!$E$7:$E$48,"Jour")+COUNTIFS(AVR.20!$N$7:$N$48,$B8,AVR.20!$E$7:$E$48,"Jour")+COUNTIFS(AVR.20!$P$7:$P$48,$B8,AVR.20!$E$7:$E$48,"Jour")+COUNTIFS(AVR.20!$R$7:$R$48,$B8,AVR.20!$E$7:$E$48,"Jour")+COUNTIFS(AVR.20!$T$7:$T$48,$B8,AVR.20!$E$7:$E$48,"Jour")+COUNTIFS(AVR.20!$V$7:$V$48,$B8,AVR.20!$E$7:$E$48,"Jour")+COUNTIFS(AVR.20!$W$7:$W$48,$B8,AVR.20!$E$7:$E$48,"Jour")+COUNTIFS(AVR.20!$X$7:$X$48,$B8,AVR.20!$E$7:$E$48,"Jour")) -> 0 | BB8: =IF($A8="","",COUNTIFS(AVR.20!$F$7:$F$48,$B8,AVR.20!$E$7:$E$48,"Nuit")+COUNTIFS(AVR.20!$H$7:$H$48,$B8,AVR.20!$E$7:$E$48,"Nuit")+COUNTIFS(AVR.20!$J$7:$J$48,$B8,AVR.20!$E$7:$E$48,"Nuit")+COUNTIFS(AVR.20!$L$7:$L$48,$B8,AVR.20!$E$7:$E$48,"Nuit")+COUNTIFS(AVR.20!$N$7:$N$48,$B8,AVR.20!$E$7:$E$48,"Nuit")+COUNTIFS(AVR.20!$P$7:$P$48,$B8,AVR.20!$E$7:$E$48,"Nuit")+COUNTIFS(AVR.20!$R$7:$R$48,$B8,AVR.20!$E$7:$E$48,"Nuit")+COUNTIFS(AVR.20!$T$7:$T$48,$B8,AVR.20!$E$7:$E$48,"Nuit")+COUNTIFS(AVR.20!$V$7:$V$48,$B8,AVR.20!$E$7:$E$48,"Nuit")+COUNTIFS(AVR.20!$W$7:$W$48,$B8,AVR.20!$E$7:$E$48,"Nuit")+COUNTIFS(AVR.20!$X$7:$X$48,$B8,AVR.20!$E$7:$E$48,"Nuit")) -> 0 | BC8: =IF($A8="","",COUNTIFS(AVR.20!$F$7:$F$48,$B8,AVR.20!$E$7:$E$48,"Jour")+COUNTIFS(AVR.20!$H$7:$H$48,$B8,AVR.20!$E$7:$E$48,"Jour")+COUNTIFS(AVR.20!$J$7:$J$48,$B8,AVR.20!$E$7:$E$48,"Jour")+COUNTIFS(AVR.20!$L$7:$L$48,$B8,AVR.20!$E$7:$E$48,"Jour")+COUNTIFS(AVR.20!$N$7:$N$48,$B8,AVR.20!$E$7:$E$48,"Jour")+COUNTIFS(AVR.20!$P$7:$P$48,$B8,AVR.20!$E$7:$E$48,"Jour")+COUNTIFS(AVR.20!$R$7:$R$48,$B8,AVR.20!$E$7:$E$48,"Jour")+COUNTIFS(AVR.20!$T$7:$T$48,$B8,AVR.20!$E$7:$E$48,"Jour")+COUNTIFS(AVR.20!$V$7:$V$48,$B8,AVR.20!$E$7:$E$48,"Jour")+COUNTIFS(AVR.20!$W$7:$W$48,$B8,AVR.20!$E$7:$E$48,"Jour")+COUNTIFS(AVR.20!$X$7:$X$48,$B8,AVR.20!$E$7:$E$48,"Jour")) -> 0 | BD8: =IF($A8="","",COUNTIFS(AVR.20!$F$7:$F$48,$B8,AVR.20!$E$7:$E$48,"Nuit")+COUNTIFS(AVR.20!$H$7:$H$48,$B8,AVR.20!$E$7:$E$48,"Nuit")+COUNTIFS(AVR.20!$J$7:$J$48,$B8,AVR.20!$E$7:$E$48,"Nuit")+COUNTIFS(AVR.20!$L$7:$L$48,$B8,AVR.20!$E$7:$E$48,"Nuit")+COUNTIFS(AVR.20!$N$7:$N$48,$B8,AVR.20!$E$7:$E$48,"Nuit")+COUNTIFS(AVR.20!$P$7:$P$48,$B8,AVR.20!$E$7:$E$48,"Nuit")+COUNTIFS(AVR.20!$R$7:$R$48,$B8,AVR.20!$E$7:$E$48,"Nuit")+COUNTIFS(AVR.20!$T$7:$T$48,$B8,AVR.20!$E$7:$E$48,"Nuit")+COUNTIFS(AVR.20!$V$7:$V$48,$B8,AVR.20!$E$7:$E$48,"Nuit")+COUNTIFS(AVR.20!$W$7:$W$48,$B8,AVR.20!$E$7:$E$48,"Nuit")+COUNTIFS(AVR.20!$X$7:$X$48,$B8,AVR.20!$E$7:$E$48,"Nuit")) -> 0 | BE8: =IF($A8="","",COUNTIFS(AVR.20!$F$7:$F$48,$B8,AVR.20!$E$7:$E$48,"Jour")+COUNTIFS(AVR.20!$H$7:$H$48,$B8,AVR.20!$E$7:$E$48,"Jour")+COUNTIFS(AVR.20!$J$7:$J$48,$B8,AVR.20!$E$7:$E$48,"Jour")+COUNTIFS(AVR.20!$L$7:$L$48,$B8,AVR.20!$E$7:$E$48,"Jour")+COUNTIFS(AVR.20!$N$7:$N$48,$B8,AVR.20!$E$7:$E$48,"Jour")+COUNTIFS(AVR.20!$P$7:$P$48,$B8,AVR.20!$E$7:$E$48,"Jour")+COUNTIFS(AVR.20!$R$7:$R$48,$B8,AVR.20!$E$7:$E$48,"Jour")+COUNTIFS(AVR.20!$T$7:$T$48,$B8,AVR.20!$E$7:$E$48,"Jour")+COUNTIFS(AVR.20!$V$7:$V$48,$B8,AVR.20!$E$7:$E$48,"Jour")+COUNTIFS(AVR.20!$W$7:$W$48,$B8,AVR.20!$E$7:$E$48,"Jour")+COUNTIFS(AVR.20!$X$7:$X$48,$B8,AVR.20!$E$7:$E$48,"Jour")) -> 0 | BF8: =IF($A8="","",COUNTIFS(AVR.20!$F$7:$F$48,$B8,AVR.20!$E$7:$E$48,"Nuit")+COUNTIFS(AVR.20!$H$7:$H$48,$B8,AVR.20!$E$7:$E$48,"Nuit")+COUNTIFS(AVR.20!$J$7:$J$48,$B8,AVR.20!$E$7:$E$48,"Nuit")+COUNTIFS(AVR.20!$L$7:$L$48,$B8,AVR.20!$E$7:$E$48,"Nuit")+COUNTIFS(AVR.20!$N$7:$N$48,$B8,AVR.20!$E$7:$E$48,"Nuit")+COUNTIFS(AVR.20!$P$7:$P$48,$B8,AVR.20!$E$7:$E$48,"Nuit")+COUNTIFS(AVR.20!$R$7:$R$48,$B8,AVR.20!$E$7:$E$48,"Nuit")+COUNTIFS(AVR.20!$T$7:$T$48,$B8,AVR.20!$E$7:$E$48,"Nuit")+COUNTIFS(AVR.20!$V$7:$V$48,$B8,AVR.20!$E$7:$E$48,"Nuit")+COUNTIFS(AVR.20!$W$7:$W$48,$B8,AVR.20!$E$7:$E$48,"Nuit")+COUNTIFS(AVR.20!$X$7:$X$48,$B8,AVR.20!$E$7:$E$48,"Nuit")) -> 0 | BG8: =IF($A8="","",COUNTIFS(AVR.20!$F$7:$F$48,$B8,AVR.20!$E$7:$E$48,"Jour")+COUNTIFS(AVR.20!$H$7:$H$48,$B8,AVR.20!$E$7:$E$48,"Jour")+COUNTIFS(AVR.20!$J$7:$J$48,$B8,AVR.20!$E$7:$E$48,"Jour")+COUNTIFS(AVR.20!$L$7:$L$48,$B8,AVR.20!$E$7:$E$48,"Jour")+COUNTIFS(AVR.20!$N$7:$N$48,$B8,AVR.20!$E$7:$E$48,"Jour")+COUNTIFS(AVR.20!$P$7:$P$48,$B8,AVR.20!$E$7:$E$48,"Jour")+COUNTIFS(AVR.20!$R$7:$R$48,$B8,AVR.20!$E$7:$E$48,"Jour")+COUNTIFS(AVR.20!$T$7:$T$48,$B8,AVR.20!$E$7:$E$48,"Jour")+COUNTIFS(AVR.20!$V$7:$V$48,$B8,AVR.20!$E$7:$E$48,"Jour")+COUNTIFS(AVR.20!$W$7:$W$48,$B8,AVR.20!$E$7:$E$48,"Jour")+COUNTIFS(AVR.20!$X$7:$X$48,$B8,AVR.20!$E$7:$E$48,"Jour")) -> 0 | BH8: =IF($A8="","",COUNTIFS(AVR.20!$F$7:$F$48,$B8,AVR.20!$E$7:$E$48,"Nuit")+COUNTIFS(AVR.20!$H$7:$H$48,$B8,AVR.20!$E$7:$E$48,"Nuit")+COUNTIFS(AVR.20!$J$7:$J$48,$B8,AVR.20!$E$7:$E$48,"Nuit")+COUNTIFS(AVR.20!$L$7:$L$48,$B8,AVR.20!$E$7:$E$48,"Nuit")+COUNTIFS(AVR.20!$N$7:$N$48,$B8,AVR.20!$E$7:$E$48,"Nuit")+COUNTIFS(AVR.20!$P$7:$P$48,$B8,AVR.20!$E$7:$E$48,"Nuit")+COUNTIFS(AVR.20!$R$7:$R$48,$B8,AVR.20!$E$7:$E$48,"Nuit")+COUNTIFS(AVR.20!$T$7:$T$48,$B8,AVR.20!$E$7:$E$48,"Nuit")+COUNTIFS(AVR.20!$V$7:$V$48,$B8,AVR.20!$E$7:$E$48,"Nuit")+COUNTIFS(AVR.20!$W$7:$W$48,$B8,AVR.20!$E$7:$E$48,"Nuit")+COUNTIFS(AVR.20!$X$7:$X$48,$B8,AVR.20!$E$7:$E$48,"Nuit")) -> 0 | BI8: =IF($A8="","",COUNTIFS(AVR.20!$F$7:$F$48,$B8,AVR.20!$E$7:$E$48,"Jour")+COUNTIFS(AVR.20!$H$7:$H$48,$B8,AVR.20!$E$7:$E$48,"Jour")+COUNTIFS(AVR.20!$J$7:$J$48,$B8,AVR.20!$E$7:$E$48,"Jour")+COUNTIFS(AVR.20!$L$7:$L$48,$B8,AVR.20!$E$7:$E$48,"Jour")+COUNTIFS(AVR.20!$N$7:$N$48,$B8,AVR.20!$E$7:$E$48,"Jour")+COUNTIFS(AVR.20!$P$7:$P$48,$B8,AVR.20!$E$7:$E$48,"Jour")+COUNTIFS(AVR.20!$R$7:$R$48,$B8,AVR.20!$E$7:$E$48,"Jour")+COUNTIFS(AVR.20!$T$7:$T$48,$B8,AVR.20!$E$7:$E$48,"Jour")+COUNTIFS(AVR.20!$V$7:$V$48,$B8,AVR.20!$E$7:$E$48,"Jour")+COUNTIFS(AVR.20!$W$7:$W$48,$B8,AVR.20!$E$7:$E$48,"Jour")+COUNTIFS(AVR.20!$X$7:$X$48,$B8,AVR.20!$E$7:$E$48,"Jour")) -> 0 | BJ8: =IF($A8="","",COUNTIFS(AVR.20!$F$7:$F$48,$B8,AVR.20!$E$7:$E$48,"Nuit")+COUNTIFS(AVR.20!$H$7:$H$48,$B8,AVR.20!$E$7:$E$48,"Nuit")+COUNTIFS(AVR.20!$J$7:$J$48,$B8,AVR.20!$E$7:$E$48,"Nuit")+COUNTIFS(AVR.20!$L$7:$L$48,$B8,AVR.20!$E$7:$E$48,"Nuit")+COUNTIFS(AVR.20!$N$7:$N$48,$B8,AVR.20!$E$7:$E$48,"Nuit")+COUNTIFS(AVR.20!$P$7:$P$48,$B8,AVR.20!$E$7:$E$48,"Nuit")+COUNTIFS(AVR.20!$R$7:$R$48,$B8,AVR.20!$E$7:$E$48,"Nuit")+COUNTIFS(AVR.20!$T$7:$T$48,$B8,AVR.20!$E$7:$E$48,"Nuit")+COUNTIFS(AVR.20!$V$7:$V$48,$B8,AVR.20!$E$7:$E$48,"Nuit")+COUNTIFS(AVR.20!$W$7:$W$48,$B8,AVR.20!$E$7:$E$48,"Nuit")+COUNTIFS(AVR.20!$X$7:$X$48,$B8,AVR.20!$E$7:$E$48,"Nuit")) -> 0 | BK8: =IF($A8="","",COUNTIFS(AVR.20!$F$7:$F$48,$B8,AVR.20!$E$7:$E$48,"Jour")+COUNTIFS(AVR.20!$H$7:$H$48,$B8,AVR.20!$E$7:$E$48,"Jour")+COUNTIFS(AVR.20!$J$7:$J$48,$B8,AVR.20!$E$7:$E$48,"Jour")+COUNTIFS(AVR.20!$L$7:$L$48,$B8,AVR.20!$E$7:$E$48,"Jour")+COUNTIFS(AVR.20!$N$7:$N$48,$B8,AVR.20!$E$7:$E$48,"Jour")+COUNTIFS(AVR.20!$P$7:$P$48,$B8,AVR.20!$E$7:$E$48,"Jour")+COUNTIFS(AVR.20!$R$7:$R$48,$B8,AVR.20!$E$7:$E$48,"Jour")+COUNTIFS(AVR.20!$T$7:$T$48,$B8,AVR.20!$E$7:$E$48,"Jour")+COUNTIFS(AVR.20!$V$7:$V$48,$B8,AVR.20!$E$7:$E$48,"Jour")+COUNTIFS(AVR.20!$W$7:$W$48,$B8,AVR.20!$E$7:$E$48,"Jour")+COUNTIFS(AVR.20!$X$7:$X$48,$B8,AVR.20!$E$7:$E$48,"Jour")) -> 0 | BL8: =IF($A8="","",COUNTIFS(AVR.20!$F$7:$F$48,$B8,AVR.20!$E$7:$E$48,"Nuit")+COUNTIFS(AVR.20!$H$7:$H$48,$B8,AVR.20!$E$7:$E$48,"Nuit")+COUNTIFS(AVR.20!$J$7:$J$48,$B8,AVR.20!$E$7:$E$48,"Nuit")+COUNTIFS(AVR.20!$L$7:$L$48,$B8,AVR.20!$E$7:$E$48,"Nuit")+COUNTIFS(AVR.20!$N$7:$N$48,$B8,AVR.20!$E$7:$E$48,"Nuit")+COUNTIFS(AVR.20!$P$7:$P$48,$B8,AVR.20!$E$7:$E$48,"Nuit")+COUNTIFS(AVR.20!$R$7:$R$48,$B8,AVR.20!$E$7:$E$48,"Nuit")+COUNTIFS(AVR.20!$T$7:$T$48,$B8,AVR.20!$E$7:$E$48,"Nuit")+COUNTIFS(AVR.20!$V$7:$V$48,$B8,AVR.20!$E$7:$E$48,"Nuit")+COUNTIFS(AVR.20!$W$7:$W$48,$B8,AVR.20!$E$7:$E$48,"Nuit")+COUNTIFS(AVR.20!$X$7:$X$48,$B8,AVR.20!$E$7:$E$48,"Nuit")) -> 0 | BM8: =IF($A8="","",COUNTIFS(AVR.20!$F$7:$F$48,$B8,AVR.20!$E$7:$E$48,"Jour")+COUNTIFS(AVR.20!$H$7:$H$48,$B8,AVR.20!$E$7:$E$48,"Jour")+COUNTIFS(AVR.20!$J$7:$J$48,$B8,AVR.20!$E$7:$E$48,"Jour")+COUNTIFS(AVR.20!$L$7:$L$48,$B8,AVR.20!$E$7:$E$48,"Jour")+COUNTIFS(AVR.20!$N$7:$N$48,$B8,AVR.20!$E$7:$E$48,"Jour")+COUNTIFS(AVR.20!$P$7:$P$48,$B8,AVR.20!$E$7:$E$48,"Jour")+COUNTIFS(AVR.20!$R$7:$R$48,$B8,AVR.20!$E$7:$E$48,"Jour")+COUNTIFS(AVR.20!$T$7:$T$48,$B8,AVR.20!$E$7:$E$48,"Jour")+COUNTIFS(AVR.20!$V$7:$V$48,$B8,AVR.20!$E$7:$E$48,"Jour")+COUNTIFS(AVR.20!$W$7:$W$48,$B8,AVR.20!$E$7:$E$48,"Jour")+COUNTIFS(AVR.20!$X$7:$X$48,$B8,AVR.20!$E$7:$E$48,"Jour")) -> 0 | BO8: =AP8+AR8+AT8+AV8+AX8+AZ8+BB8+BD8+BF8+BH8+BJ8+BL8 -> 2 | BP8: =AQ8+AS8+AU8+AW8+AY8+BA8+BC8+BE8+BG8+BI8+BK8+BM8 -> 1
A9: BENINI Mattéo | B9: BENINI M (4) | C9: Sap2 | D9: S4 | E9: Eq | N9: =IF($A9="","",COUNTIFS(#REF!,B9,#REF!,"Nuit")+COUNTIFS(#REF!,B9,#REF!,"Nuit")+COUNTIFS(#REF!,B9,#REF!,"Nuit")+COUNTIFS(#REF!,B9,#REF!,"Nuit")+COUNTIFS(#REF!,B9,#REF!,"Nuit")+COUNTIFS(#REF!,B9,#REF!,"Nuit")+COUNTIFS(#REF!,B9,#REF!,"Nuit")+COUNTIFS(#REF!,B9,#REF!,"Nuit")+COUNTIFS(#REF!,B9,#REF!,"Nuit")+COUNTIFS(#REF!,B9,#REF!,"Nuit")+COUNTIFS(#REF!,B9,#REF!,"Nuit")) -> #REF! | O9: =IF($A9="","",COUNTIFS(#REF!,B9,#REF!,"Jour")+COUNTIFS(#REF!,B9,#REF!,"Jour")+COUNTIFS(#REF!,B9,#REF!,"Jour")+COUNTIFS(#REF!,B9,#REF!,"Jour")+COUNTIFS(#REF!,B9,#REF!,"Jour")+COUNTIFS(#REF!,B9,#REF!,"Jour")+COUNTIFS(#REF!,B9,#REF!,"Jour")+COUNTIFS(#REF!,B9,#REF!,"Jour")+COUNTIFS(#REF!,B9,#REF!,"Jour")+COUNTIFS(#REF!,B9,#REF!,"Jour")+COUNTIFS(#REF!,B9,#REF!,"Jour")) -> #REF! | P9: =IF($A9="","",COUNTIFS(#REF!,B9,#REF!,"Nuit")+COUNTIFS(#REF!,B9,#REF!,"Nuit")+COUNTIFS(#REF!,B9,#REF!,"Nuit")+COUNTIFS(#REF!,B9,#REF!,"Nuit")+COUNTIFS(#REF!,B9,#REF!,"Nuit")+COUNTIFS(#REF!,B9,#REF!,"Nuit")+COUNTIFS(#REF!,B9,#REF!,"Nuit")+COUNTIFS(#REF!,B9,#REF!,"Nuit")+COUNTIFS(#REF!,B9,#REF!,"Nuit")+COUNTIFS(#REF!,B9,#REF!,"Nuit")+COUNTIFS(#REF!,B9,#REF!,"Nuit")) -> #REF! | Q9: =IF($A9="","",COUNTIFS(#REF!,B9,#REF!,"Jour")+COUNTIFS(#REF!,B9,#REF!,"Jour")+COUNTIFS(#REF!,B9,#REF!,"Jour")+COUNTIFS(#REF!,B9,#REF!,"Jour")+COUNTIFS(#REF!,B9,#REF!,"Jour")+COUNTIFS(#REF!,B9,#REF!,"Jour")+COUNTIFS(#REF!,B9,#REF!,"Jour")+COUNTIFS(#REF!,B9,#REF!,"Jour")+COUNTIFS(#REF!,B9,#REF!,"Jour")+COUNTIFS(#REF!,B9,#REF!,"Jour")+COUNTIFS(#REF!,B9,#REF!,"Jour")) -> #REF! | R9: =IF($A9="","",COUNTIFS(#REF!,B9,#REF!,"Nuit")+COUNTIFS(#REF!,B9,#REF!,"Nuit")+COUNTIFS(#REF!,B9,#REF!,"Nuit")+COUNTIFS(#REF!,B9,#REF!,"Nuit")+COUNTIFS(#REF!,B9,#REF!,"Nuit")+COUNTIFS(#REF!,B9,#REF!,"Nuit")+COUNTIFS(#REF!,B9,#REF!,"Nuit")+COUNTIFS(#REF!,B9,#REF!,"Nuit")+COUNTIFS(#REF!,B9,#REF!,"Nuit")+COUNTIFS(#REF!,B9,#REF!,"Nuit")+COUNTIFS(#REF!,B9,#REF!,"Nuit")) -> #REF! | S9: =IF($A9="","",COUNTIFS(#REF!,B9,#REF!,"Jour")+COUNTIFS(#REF!,B9,#REF!,"Jour")+COUNTIFS(#REF!,B9,#REF!,"Jour")+COUNTIFS(#REF!,B9,#REF!,"Jour")+COUNTIFS(#REF!,B9,#REF!,"Jour")+COUNTIFS(#REF!,B9,#REF!,"Jour")+COUNTIFS(#REF!,B9,#REF!,"Jour")+COUNTIFS(#REF!,B9,#REF!,"Jour")+COUNTIFS(#REF!,B9,#REF!,"Jour")+COUNTIFS(#REF!,B9,#REF!,"Jour")+COUNTIFS(#REF!,B9,#REF!,"Jour")) -> #REF! | T9: =IF($A9="","",COUNTIFS(#REF!,B9,#REF!,"Nuit")+COUNTIFS(#REF!,B9,#REF!,"Nuit")+COUNTIFS(#REF!,B9,#REF!,"Nuit")+COUNTIFS(#REF!,B9,#REF!,"Nuit")+COUNTIFS(#REF!,B9,#REF!,"Nuit")+COUNTIFS(#REF!,B9,#REF!,"Nuit")+COUNTIFS(#REF!,B9,#REF!,"Nuit")+COUNTIFS(#REF!,B9,#REF!,"Nuit")+COUNTIFS(#REF!,B9,#REF!,"Nuit")+COUNTIFS(#REF!,B9,#REF!,"Nuit")+COUNTIFS(#REF!,B9,#REF!,"Nuit")) -> #REF! | U9: =IF($A9="","",COUNTIFS(#REF!,B9,#REF!,"Jour")+COUNTIFS(#REF!,B9,#REF!,"Jour")+COUNTIFS(#REF!,B9,#REF!,"Jour")+COUNTIFS(#REF!,B9,#REF!,"Jour")+COUNTIFS(#REF!,B9,#REF!,"Jour")+COUNTIFS(#REF!,B9,#REF!,"Jour")+COUNTIFS(#REF!,B9,#REF!,"Jour")+COUNTIFS(#REF!,B9,#REF!,"Jour")+COUNTIFS(#REF!,B9,#REF!,"Jour")+COUNTIFS(#REF!,B9,#REF!,"Jour")+COUNTIFS(#REF!,B9,#REF!,"Jour")) -> #REF! | V9: =IF($A9="","",COUNTIFS(#REF!,B9,#REF!,"Nuit")+COUNTIFS(#REF!,B9,#REF!,"Nuit")+COUNTIFS(#REF!,B9,#REF!,"Nuit")+COUNTIFS(#REF!,B9,#REF!,"Nuit")+COUNTIFS(#REF!,B9,#REF!,"Nuit")+COUNTIFS(#REF!,B9,#REF!,"Nuit")+COUNTIFS(#REF!,B9,#REF!,"Nuit")+COUNTIFS(#REF!,B9,#REF!,"Nuit")+COUNTIFS(#REF!,B9,#REF!,"Nuit")+COUNTIFS(#REF!,B9,#REF!,"Nuit")+COUNTIFS(#REF!,B9,#REF!,"Nuit")) -> #REF! | W9: =IF($A9="","",COUNTIFS(#REF!,B9,#REF!,"Jour")+COUNTIFS(#REF!,B9,#REF!,"Jour")+COUNTIFS(#REF!,B9,#REF!,"Jour")+COUNTIFS(#REF!,B9,#REF!,"Jour")+COUNTIFS(#REF!,B9,#REF!,"Jour")+COUNTIFS(#REF!,B9,#REF!,"Jour")+COUNTIFS(#REF!,B9,#REF!,"Jour")+COUNTIFS(#REF!,B9,#REF!,"Jour")+COUNTIFS(#REF!,B9,#REF!,"Jour")+COUNTIFS(#REF!,B9,#REF!,"Jour")+COUNTIFS(#REF!,B9,#REF!,"Jour")) -> #REF! | X9: =IF($A9="","",COUNTIFS(#REF!,B9,#REF!,"Nuit")+COUNTIFS(#REF!,B9,#REF!,"Nuit")+COUNTIFS(#REF!,B9,#REF!,"Nuit")+COUNTIFS(#REF!,B9,#REF!,"Nuit")+COUNTIFS(#REF!,B9,#REF!,"Nuit")+COUNTIFS(#REF!,B9,#REF!,"Nuit")+COUNTIFS(#REF!,B9,#REF!,"Nuit")+COUNTIFS(#REF!,B9,#REF!,"Nuit")+COUNTIFS(#REF!,B9,#REF!,"Nuit")+COUNTIFS(#REF!,B9,#REF!,"Nuit")+COUNTIFS(#REF!,B9,#REF!,"Nuit")) -> #REF! | Y9: =IF($A9="","",COUNTIFS(#REF!,B9,#REF!,"Jour")+COUNTIFS(#REF!,B9,#REF!,"Jour")+COUNTIFS(#REF!,B9,#REF!,"Jour")+COUNTIFS(#REF!,B9,#REF!,"Jour")+COUNTIFS(#REF!,B9,#REF!,"Jour")+COUNTIFS(#REF!,B9,#REF!,"Jour")+COUNTIFS(#REF!,B9,#REF!,"Jour")+COUNTIFS(#REF!,B9,#REF!,"Jour")+COUNTIFS(#REF!,B9,#REF!,"Jour")+COUNTIFS(#REF!,B9,#REF!,"Jour")+COUNTIFS(#REF!,B9,#REF!,"Jour")) -> #REF! | Z9: =IF($A9="","",COUNTIFS(#REF!,$B9,#REF!,"Nuit")+COUNTIFS(#REF!,B9,#REF!,"Nuit")+COUNTIFS(#REF!,B9,#REF!,"Nuit")+COUNTIFS(#REF!,B9,#REF!,"Nuit")+COUNTIFS(#REF!,B9,#REF!,"Nuit")+COUNTIFS(#REF!,B9,#REF!,"Nuit")+COUNTIFS(#REF!,B9,#REF!,"Nuit")+COUNTIFS(#REF!,B9,#REF!,"Nuit")+COUNTIFS(#REF!,B9,#REF!,"Nuit")+COUNTIFS(#REF!,B9,#REF!,"Nuit")+COUNTIFS(#REF!,B9,#REF!,"Nuit")) -> #REF! | AA9: =IF($A9="","",COUNTIFS(#REF!,$B9,#REF!,"Jour")+COUNTIFS(#REF!,$B9,#REF!,"Jour")+COUNTIFS(#REF!,$B9,#REF!,"Jour")+COUNTIFS(#REF!,$B9,#REF!,"Jour")+COUNTIFS(#REF!,$B9,#REF!,"Jour")+COUNTIFS(#REF!,$B9,#REF!,"Jour")+COUNTIFS(#REF!,$B9,#REF!,"Jour")+COUNTIFS(#REF!,$B9,#REF!,"Jour")+COUNTIFS(#REF!,$B9,#REF!,"Jour")+COUNTIFS(#REF!,$B9,#REF!,"Jour")+COUNTIFS(#REF!,$B9,#REF!,"Jour")) -> #REF! | AB9: =IF($A9="","",COUNTIFS(#REF!,$B9,#REF!,"Nuit")+COUNTIFS(#REF!,$B9,#REF!,"Nuit")+COUNTIFS(#REF!,$B9,#REF!,"Nuit")+COUNTIFS(#REF!,$B9,#REF!,"Nuit")+COUNTIFS(#REF!,$B9,#REF!,"Nuit")+COUNTIFS(#REF!,$B9,#REF!,"Nuit")+COUNTIFS(#REF!,$B9,#REF!,"Nuit")+COUNTIFS(#REF!,$B9,#REF!,"Nuit")+COUNTIFS(#REF!,$B9,#REF!,"Nuit")+COUNTIFS(#REF!,$B9,#REF!,"Nuit")+COUNTIFS(#REF!,$B9,#REF!,"Nuit")) -> #REF! | AC9: =IF($A9="","",COUNTIFS(#REF!,$B9,#REF!,"Jour")+COUNTIFS(#REF!,$B9,#REF!,"Jour")+COUNTIFS(#REF!,$B9,#REF!,"Jour")+COUNTIFS(#REF!,$B9,#REF!,"Jour")+COUNTIFS(#REF!,$B9,#REF!,"Jour")+COUNTIFS(#REF!,$B9,#REF!,"Jour")+COUNTIFS(#REF!,$B9,#REF!,"Jour")+COUNTIFS(#REF!,$B9,#REF!,"Jour")+COUNTIFS(#REF!,$B9,#REF!,"Jour")+COUNTIFS(#REF!,$B9,#REF!,"Jour")+COUNTIFS(#REF!,$B9,#REF!,"Jour")) -> #REF! | AD9: =IF($A9="","",COUNTIFS(#REF!,$B9,#REF!,"Nuit")+COUNTIFS(#REF!,$B9,#REF!,"Nuit")+COUNTIFS(#REF!,$B9,#REF!,"Nuit")+COUNTIFS(#REF!,$B9,#REF!,"Nuit")+COUNTIFS(#REF!,$B9,#REF!,"Nuit")+COUNTIFS(#REF!,$B9,#REF!,"Nuit")+COUNTIFS(#REF!,$B9,#REF!,"Nuit")+COUNTIFS(#REF!,$B9,#REF!,"Nuit")+COUNTIFS(#REF!,$B9,#REF!,"Nuit")+COUNTIFS(#REF!,$B9,#REF!,"Nuit")+COUNTIFS(#REF!,$B9,#REF!,"Nuit")) -> #REF! | AE9: =IF($A9="","",COUNTIFS(#REF!,$B9,#REF!,"Jour")+COUNTIFS(#REF!,$B9,#REF!,"Jour")+COUNTIFS(#REF!,$B9,#REF!,"Jour")+COUNTIFS(#REF!,$B9,#REF!,"Jour")+COUNTIFS(#REF!,$B9,#REF!,"Jour")+COUNTIFS(#REF!,$B9,#REF!,"Jour")+COUNTIFS(#REF!,$B9,#REF!,"Jour")+COUNTIFS(#REF!,$B9,#REF!,"Jour")+COUNTIFS(#REF!,$B9,#REF!,"Jour")+COUNTIFS(#REF!,$B9,#REF!,"Jour")+COUNTIFS(#REF!,$B9,#REF!,"Jour")) -> #REF! | AF9: =IF($A9="","",COUNTIFS(#REF!,$B9,#REF!,"Nuit")+COUNTIFS(#REF!,$B9,#REF!,"Nuit")+COUNTIFS(#REF!,$B9,#REF!,"Nuit")+COUNTIFS(#REF!,$B9,#REF!,"Nuit")+COUNTIFS(#REF!,$B9,#REF!,"Nuit")+COUNTIFS(#REF!,$B9,#REF!,"Nuit")+COUNTIFS(#REF!,$B9,#REF!,"Nuit")+COUNTIFS(#REF!,$B9,#REF!,"Nuit")+COUNTIFS(#REF!,$B9,#REF!,"Nuit")+COUNTIFS(#REF!,$B9,#REF!,"Nuit")+COUNTIFS(#REF!,$B9,#REF!,"Nuit")) -> #REF! | AG9: =IF($A9="","",COUNTIFS(#REF!,$B9,#REF!,"Jour")+COUNTIFS(#REF!,$B9,#REF!,"Jour")+COUNTIFS(#REF!,$B9,#REF!,"Jour")+COUNTIFS(#REF!,$B9,#REF!,"Jour")+COUNTIFS(#REF!,$B9,#REF!,"Jour")+COUNTIFS(#REF!,$B9,#REF!,"Jour")+COUNTIFS(#REF!,$B9,#REF!,"Jour")+COUNTIFS(#REF!,$B9,#REF!,"Jour")+COUNTIFS(#REF!,$B9,#REF!,"Jour")+COUNTIFS(#REF!,$B9,#REF!,"Jour")+COUNTIFS(#REF!,$B9,#REF!,"Jour")) -> #REF! | AH9: =IF($A9="","",COUNTIFS(#REF!,$B9,#REF!,"Nuit")+COUNTIFS(#REF!,$B9,#REF!,"Nuit")+COUNTIFS(#REF!,$B9,#REF!,"Nuit")+COUNTIFS(#REF!,$B9,#REF!,"Nuit")+COUNTIFS(#REF!,$B9,#REF!,"Nuit")+COUNTIFS(#REF!,$B9,#REF!,"Nuit")+COUNTIFS(#REF!,$B9,#REF!,"Nuit")+COUNTIFS(#REF!,$B9,#REF!,"Nuit")+COUNTIFS(#REF!,$B9,#REF!,"Nuit")+COUNTIFS(#REF!,$B9,#REF!,"Nuit")+COUNTIFS(#REF!,$B9,#REF!,"Nuit")) -> #REF! | AI9: =IF($A9="","",COUNTIFS(#REF!,$B9,#REF!,"Jour")+COUNTIFS(#REF!,$B9,#REF!,"Jour")+COUNTIFS(#REF!,$B9,#REF!,"Jour")+COUNTIFS(#REF!,$B9,#REF!,"Jour")+COUNTIFS(#REF!,$B9,#REF!,"Jour")+COUNTIFS(#REF!,$B9,#REF!,"Jour")+COUNTIFS(#REF!,$B9,#REF!,"Jour")+COUNTIFS(#REF!,$B9,#REF!,"Jour")+COUNTIFS(#REF!,$B9,#REF!,"Jour")+COUNTIFS(#REF!,$B9,#REF!,"Jour")+COUNTIFS(#REF!,$B9,#REF!,"Jour")) -> #REF! | AJ9: =IF($A9="","",COUNTIFS(#REF!,$B9,#REF!,"Nuit")+COUNTIFS(#REF!,$B9,#REF!,"Nuit")+COUNTIFS(#REF!,$B9,#REF!,"Nuit")+COUNTIFS(#REF!,$B9,#REF!,"Nuit")+COUNTIFS(#REF!,$B9,#REF!,"Nuit")+COUNTIFS(#REF!,$B9,#REF!,"Nuit")+COUNTIFS(#REF!,$B9,#REF!,"Nuit")+COUNTIFS(#REF!,$B9,#REF!,"Nuit")+COUNTIFS(#REF!,$B9,#REF!,"Nuit")+COUNTIFS(#REF!,$B9,#REF!,"Nuit")+COUNTIFS(#REF!,$B9,#REF!,"Nuit")) -> #REF! | AK9: =IF($A9="","",COUNTIFS(#REF!,$B9,#REF!,"Jour")+COUNTIFS(#REF!,$B9,#REF!,"Jour")+COUNTIFS(#REF!,$B9,#REF!,"Jour")+COUNTIFS(#REF!,$B9,#REF!,"Jour")+COUNTIFS(#REF!,$B9,#REF!,"Jour")+COUNTIFS(#REF!,$B9,#REF!,"Jour")+COUNTIFS(#REF!,$B9,#REF!,"Jour")+COUNTIFS(#REF!,$B9,#REF!,"Jour")+COUNTIFS(#REF!,$B9,#REF!,"Jour")+COUNTIFS(#REF!,$B9,#REF!,"Jour")+COUNTIFS(#REF!,$B9,#REF!,"Jour")) -> #REF! | AM9: =N9+P9+R9+T9+V9+X9+Z9+AB9+AD9+AF9+AH9+AJ9 -> #REF! | AN9: =O9+Q9+S9+U9+W9+Y9+AA9+AC9+AE9+AG9+AI9+AK9 -> #REF! | AO9: =(AM9*0.6*6)+(AN9*0.6*12) -> #REF! | AP9: =IF($A9="","",COUNTIFS(JAN.20!$F$7:$F$48,$B9,JAN.20!$E$7:$E$48,"Nuit")+COUNTIFS(JAN.20!$H$7:$H$48,$B9,JAN.20!$E$7:$E$48,"Nuit")+COUNTIFS(JAN.20!$J$7:$J$48,$B9,JAN.20!$E$7:$E$48,"Nuit")+COUNTIFS(JAN.20!$L$7:$L$48,$B9,JAN.20!$E$7:$E$48,"Nuit")+COUNTIFS(JAN.20!$N$7:$N$48,$B9,JAN.20!$E$7:$E$48,"Nuit")+COUNTIFS(JAN.20!$P$7:$P$48,$B9,JAN.20!$E$7:$E$48,"Nuit")+COUNTIFS(JAN.20!$R$7:$R$48,$B9,JAN.20!$E$7:$E$48,"Nuit")+COUNTIFS(JAN.20!$T$7:$T$48,$B9,JAN.20!$E$7:$E$48,"Nuit")+COUNTIFS(JAN.20!$V$7:$V$48,$B9,JAN.20!$E$7:$E$48,"Nuit")+COUNTIFS(JAN.20!$W$7:$W$48,$B9,JAN.20!$E$7:$E$48,"Nuit")+COUNTIFS(JAN.20!$X$7:$X$48,$B9,JAN.20!$E$7:$E$48,"Nuit")) -> 0 | AQ9: =IF($A9="","",COUNTIFS(JAN.20!$F$7:$F$48,$B9,JAN.20!$E$7:$E$48,"Jour")+COUNTIFS(JAN.20!$H$7:$H$48,$B9,JAN.20!$E$7:$E$48,"Jour")+COUNTIFS(JAN.20!$J$7:$J$48,$B9,JAN.20!$E$7:$E$48,"Jour")+COUNTIFS(JAN.20!$L$7:$L$48,$B9,JAN.20!$E$7:$E$48,"Jour")+COUNTIFS(JAN.20!$N$7:$N$48,$B9,JAN.20!$E$7:$E$48,"Jour")+COUNTIFS(JAN.20!$P$7:$P$48,$B9,JAN.20!$E$7:$E$48,"Jour")+COUNTIFS(JAN.20!$R$7:$R$48,$B9,JAN.20!$E$7:$E$48,"Jour")+COUNTIFS(JAN.20!$T$7:$T$48,$B9,JAN.20!$E$7:$E$48,"Jour")+COUNTIFS(JAN.20!$V$7:$V$48,$B9,JAN.20!$E$7:$E$48,"Jour")+COUNTIFS(JAN.20!$W$7:$W$48,$B9,JAN.20!$E$7:$E$48,"Jour")+COUNTIFS(JAN.20!$X$7:$X$48,$B9,JAN.20!$E$7:$E$48,"Jour")) -> 0 | AR9: =IF($A9="","",COUNTIFS(FEV.20!$F$7:$F$48,$B9,FEV.20!$E$7:$E$48,"Nuit")+COUNTIFS(FEV.20!$H$7:$H$48,$B9,FEV.20!$E$7:$E$48,"Nuit")+COUNTIFS(FEV.20!$J$7:$J$48,$B9,FEV.20!$E$7:$E$48,"Nuit")+COUNTIFS(FEV.20!$L$7:$L$48,$B9,FEV.20!$E$7:$E$48,"Nuit")+COUNTIFS(FEV.20!$N$7:$N$48,$B9,FEV.20!$E$7:$E$48,"Nuit")+COUNTIFS(FEV.20!$P$7:$P$48,$B9,FEV.20!$E$7:$E$48,"Nuit")+COUNTIFS(FEV.20!$R$7:$R$48,$B9,FEV.20!$E$7:$E$48,"Nuit")+COUNTIFS(FEV.20!$T$7:$T$48,$B9,FEV.20!$E$7:$E$48,"Nuit")+COUNTIFS(FEV.20!$V$7:$V$48,$B9,FEV.20!$E$7:$E$48,"Nuit")+COUNTIFS(FEV.20!$W$7:$W$48,$B9,FEV.20!$E$7:$E$48,"Nuit")+COUNTIFS(FEV.20!$X$7:$X$48,$B9,FEV.20!$E$7:$E$48,"Nuit")) -> 0 | AS9: =IF($A9="","",COUNTIFS(FEV.20!$F$7:$F$48,$B9,FEV.20!$E$7:$E$48,"Jour")+COUNTIFS(FEV.20!$H$7:$H$48,$B9,FEV.20!$E$7:$E$48,"Jour")+COUNTIFS(FEV.20!$J$7:$J$48,$B9,FEV.20!$E$7:$E$48,"Jour")+COUNTIFS(FEV.20!$L$7:$L$48,$B9,FEV.20!$E$7:$E$48,"Jour")+COUNTIFS(FEV.20!$N$7:$N$48,$B9,FEV.20!$E$7:$E$48,"Jour")+COUNTIFS(FEV.20!$P$7:$P$48,$B9,FEV.20!$E$7:$E$48,"Jour")+COUNTIFS(FEV.20!$R$7:$R$48,$B9,FEV.20!$E$7:$E$48,"Jour")+COUNTIFS(FEV.20!$T$7:$T$48,$B9,FEV.20!$E$7:$E$48,"Jour")+COUNTIFS(FEV.20!$V$7:$V$48,$B9,FEV.20!$E$7:$E$48,"Jour")+COUNTIFS(FEV.20!$W$7:$W$48,$B9,FEV.20!$E$7:$E$48,"Jour")+COUNTIFS(FEV.20!$X$7:$X$48,$B9,FEV.20!$E$7:$E$48,"Jour")) -> 0 | AT9: =IF($A9="","",COUNTIFS(Mars.20!$F$7:$F$48,$B9,Mars.20!$E$7:$E$48,"Nuit")+COUNTIFS(Mars.20!$H$7:$H$48,$B9,Mars.20!$E$7:$E$48,"Nuit")+COUNTIFS(Mars.20!$J$7:$J$48,$B9,Mars.20!$E$7:$E$48,"Nuit")+COUNTIFS(Mars.20!$L$7:$L$48,$B9,Mars.20!$E$7:$E$48,"Nuit")+COUNTIFS(Mars.20!$N$7:$N$48,$B9,Mars.20!$E$7:$E$48,"Nuit")+COUNTIFS(Mars.20!$P$7:$P$48,$B9,Mars.20!$E$7:$E$48,"Nuit")+COUNTIFS(Mars.20!$R$7:$R$48,$B9,Mars.20!$E$7:$E$48,"Nuit")+COUNTIFS(Mars.20!$T$7:$T$48,$B9,Mars.20!$E$7:$E$48,"Nuit")+COUNTIFS(Mars.20!$V$7:$V$48,$B9,Mars.20!$E$7:$E$48,"Nuit")+COUNTIFS(Mars.20!$W$7:$W$48,$B9,Mars.20!$E$7:$E$48,"Nuit")+COUNTIFS(Mars.20!$X$7:$X$48,$B9,Mars.20!$E$7:$E$48,"Nuit")) -> 0 | AU9: =IF($A9="","",COUNTIFS(Mars.20!$F$7:$F$48,$B9,Mars.20!$E$7:$E$48,"Jour")+COUNTIFS(Mars.20!$H$7:$H$48,$B9,Mars.20!$E$7:$E$48,"Jour")+COUNTIFS(Mars.20!$J$7:$J$48,$B9,Mars.20!$E$7:$E$48,"Jour")+COUNTIFS(Mars.20!$L$7:$L$48,$B9,Mars.20!$E$7:$E$48,"Jour")+COUNTIFS(Mars.20!$N$7:$N$48,$B9,Mars.20!$E$7:$E$48,"Jour")+COUNTIFS(Mars.20!$P$7:$P$48,$B9,Mars.20!$E$7:$E$48,"Jour")+COUNTIFS(Mars.20!$R$7:$R$48,$B9,Mars.20!$E$7:$E$48,"Jour")+COUNTIFS(Mars.20!$T$7:$T$48,$B9,Mars.20!$E$7:$E$48,"Jour")+COUNTIFS(Mars.20!$V$7:$V$48,$B9,Mars.20!$E$7:$E$48,"Jour")+COUNTIFS(Mars.20!$W$7:$W$48,$B9,Mars.20!$E$7:$E$48,"Jour")+COUNTIFS(Mars.20!$X$7:$X$48,$B9,Mars.20!$E$7:$E$48,"Jour")) -> 0 | AV9: =IF($A9="","",COUNTIFS(AVR.20!$F$7:$F$48,$B9,AVR.20!$E$7:$E$48,"Nuit")+COUNTIFS(AVR.20!$H$7:$H$48,$B9,AVR.20!$E$7:$E$48,"Nuit")+COUNTIFS(AVR.20!$J$7:$J$48,$B9,AVR.20!$E$7:$E$48,"Nuit")+COUNTIFS(AVR.20!$L$7:$L$48,$B9,AVR.20!$E$7:$E$48,"Nuit")+COUNTIFS(AVR.20!$N$7:$N$48,$B9,AVR.20!$E$7:$E$48,"Nuit")+COUNTIFS(AVR.20!$P$7:$P$48,$B9,AVR.20!$E$7:$E$48,"Nuit")+COUNTIFS(AVR.20!$R$7:$R$48,$B9,AVR.20!$E$7:$E$48,"Nuit")+COUNTIFS(AVR.20!$T$7:$T$48,$B9,AVR.20!$E$7:$E$48,"Nuit")+COUNTIFS(AVR.20!$V$7:$V$48,$B9,AVR.20!$E$7:$E$48,"Nuit")+COUNTIFS(AVR.20!$W$7:$W$48,$B9,AVR.20!$E$7:$E$48,"Nuit")+COUNTIFS(AVR.20!$X$7:$X$48,$B9,AVR.20!$E$7:$E$48,"Nuit")) -> 0 | AW9: =IF($A9="","",COUNTIFS(AVR.20!$F$7:$F$48,$B9,AVR.20!$E$7:$E$48,"Jour")+COUNTIFS(AVR.20!$H$7:$H$48,$B9,AVR.20!$E$7:$E$48,"Jour")+COUNTIFS(AVR.20!$J$7:$J$48,$B9,AVR.20!$E$7:$E$48,"Jour")+COUNTIFS(AVR.20!$L$7:$L$48,$B9,AVR.20!$E$7:$E$48,"Jour")+COUNTIFS(AVR.20!$N$7:$N$48,$B9,AVR.20!$E$7:$E$48,"Jour")+COUNTIFS(AVR.20!$P$7:$P$48,$B9,AVR.20!$E$7:$E$48,"Jour")+COUNTIFS(AVR.20!$R$7:$R$48,$B9,AVR.20!$E$7:$E$48,"Jour")+COUNTIFS(AVR.20!$T$7:$T$48,$B9,AVR.20!$E$7:$E$48,"Jour")+COUNTIFS(AVR.20!$V$7:$V$48,$B9,AVR.20!$E$7:$E$48,"Jour")+COUNTIFS(AVR.20!$W$7:$W$48,$B9,AVR.20!$E$7:$E$48,"Jour")+COUNTIFS(AVR.20!$X$7:$X$48,$B9,AVR.20!$E$7:$E$48,"Jour")) -> 0 | AX9: =IF($A9="","",COUNTIFS(AVR.20!$F$7:$F$48,$B9,AVR.20!$E$7:$E$48,"Nuit")+COUNTIFS(AVR.20!$H$7:$H$48,$B9,AVR.20!$E$7:$E$48,"Nuit")+COUNTIFS(AVR.20!$J$7:$J$48,$B9,AVR.20!$E$7:$E$48,"Nuit")+COUNTIFS(AVR.20!$L$7:$L$48,$B9,AVR.20!$E$7:$E$48,"Nuit")+COUNTIFS(AVR.20!$N$7:$N$48,$B9,AVR.20!$E$7:$E$48,"Nuit")+COUNTIFS(AVR.20!$P$7:$P$48,$B9,AVR.20!$E$7:$E$48,"Nuit")+COUNTIFS(AVR.20!$R$7:$R$48,$B9,AVR.20!$E$7:$E$48,"Nuit")+COUNTIFS(AVR.20!$T$7:$T$48,$B9,AVR.20!$E$7:$E$48,"Nuit")+COUNTIFS(AVR.20!$V$7:$V$48,$B9,AVR.20!$E$7:$E$48,"Nuit")+COUNTIFS(AVR.20!$W$7:$W$48,$B9,AVR.20!$E$7:$E$48,"Nuit")+COUNTIFS(AVR.20!$X$7:$X$48,$B9,AVR.20!$E$7:$E$48,"Nuit")) -> 0 | AY9: =IF($A9="","",COUNTIFS(AVR.20!$F$7:$F$48,$B9,AVR.20!$E$7:$E$48,"Jour")+COUNTIFS(AVR.20!$H$7:$H$48,$B9,AVR.20!$E$7:$E$48,"Jour")+COUNTIFS(AVR.20!$J$7:$J$48,$B9,AVR.20!$E$7:$E$48,"Jour")+COUNTIFS(AVR.20!$L$7:$L$48,$B9,AVR.20!$E$7:$E$48,"Jour")+COUNTIFS(AVR.20!$N$7:$N$48,$B9,AVR.20!$E$7:$E$48,"Jour")+COUNTIFS(AVR.20!$P$7:$P$48,$B9,AVR.20!$E$7:$E$48,"Jour")+COUNTIFS(AVR.20!$R$7:$R$48,$B9,AVR.20!$E$7:$E$48,"Jour")+COUNTIFS(AVR.20!$T$7:$T$48,$B9,AVR.20!$E$7:$E$48,"Jour")+COUNTIFS(AVR.20!$V$7:$V$48,$B9,AVR.20!$E$7:$E$48,"Jour")+COUNTIFS(AVR.20!$W$7:$W$48,$B9,AVR.20!$E$7:$E$48,"Jour")+COUNTIFS(AVR.20!$X$7:$X$48,$B9,AVR.20!$E$7:$E$48,"Jour")) -> 0 | AZ9: =IF($A9="","",COUNTIFS(AVR.20!$F$7:$F$48,$B9,AVR.20!$E$7:$E$48,"Nuit")+COUNTIFS(AVR.20!$H$7:$H$48,$B9,AVR.20!$E$7:$E$48,"Nuit")+COUNTIFS(AVR.20!$J$7:$J$48,$B9,AVR.20!$E$7:$E$48,"Nuit")+COUNTIFS(AVR.20!$L$7:$L$48,$B9,AVR.20!$E$7:$E$48,"Nuit")+COUNTIFS(AVR.20!$N$7:$N$48,$B9,AVR.20!$E$7:$E$48,"Nuit")+COUNTIFS(AVR.20!$P$7:$P$48,$B9,AVR.20!$E$7:$E$48,"Nuit")+COUNTIFS(AVR.20!$R$7:$R$48,$B9,AVR.20!$E$7:$E$48,"Nuit")+COUNTIFS(AVR.20!$T$7:$T$48,$B9,AVR.20!$E$7:$E$48,"Nuit")+COUNTIFS(AVR.20!$V$7:$V$48,$B9,AVR.20!$E$7:$E$48,"Nuit")+COUNTIFS(AVR.20!$W$7:$W$48,$B9,AVR.20!$E$7:$E$48,"Nuit")+COUNTIFS(AVR.20!$X$7:$X$48,$B9,AVR.20!$E$7:$E$48,"Nuit")) -> 0 | BA9: =IF($A9="","",COUNTIFS(AVR.20!$F$7:$F$48,$B9,AVR.20!$E$7:$E$48,"Jour")+COUNTIFS(AVR.20!$H$7:$H$48,$B9,AVR.20!$E$7:$E$48,"Jour")+COUNTIFS(AVR.20!$J$7:$J$48,$B9,AVR.20!$E$7:$E$48,"Jour")+COUNTIFS(AVR.20!$L$7:$L$48,$B9,AVR.20!$E$7:$E$48,"Jour")+COUNTIFS(AVR.20!$N$7:$N$48,$B9,AVR.20!$E$7:$E$48,"Jour")+COUNTIFS(AVR.20!$P$7:$P$48,$B9,AVR.20!$E$7:$E$48,"Jour")+COUNTIFS(AVR.20!$R$7:$R$48,$B9,AVR.20!$E$7:$E$48,"Jour")+COUNTIFS(AVR.20!$T$7:$T$48,$B9,AVR.20!$E$7:$E$48,"Jour")+COUNTIFS(AVR.20!$V$7:$V$48,$B9,AVR.20!$E$7:$E$48,"Jour")+COUNTIFS(AVR.20!$W$7:$W$48,$B9,AVR.20!$E$7:$E$48,"Jour")+COUNTIFS(AVR.20!$X$7:$X$48,$B9,AVR.20!$E$7:$E$48,"Jour")) -> 0 | BB9: =IF($A9="","",COUNTIFS(AVR.20!$F$7:$F$48,$B9,AVR.20!$E$7:$E$48,"Nuit")+COUNTIFS(AVR.20!$H$7:$H$48,$B9,AVR.20!$E$7:$E$48,"Nuit")+COUNTIFS(AVR.20!$J$7:$J$48,$B9,AVR.20!$E$7:$E$48,"Nuit")+COUNTIFS(AVR.20!$L$7:$L$48,$B9,AVR.20!$E$7:$E$48,"Nuit")+COUNTIFS(AVR.20!$N$7:$N$48,$B9,AVR.20!$E$7:$E$48,"Nuit")+COUNTIFS(AVR.20!$P$7:$P$48,$B9,AVR.20!$E$7:$E$48,"Nuit")+COUNTIFS(AVR.20!$R$7:$R$48,$B9,AVR.20!$E$7:$E$48,"Nuit")+COUNTIFS(AVR.20!$T$7:$T$48,$B9,AVR.20!$E$7:$E$48,"Nuit")+COUNTIFS(AVR.20!$V$7:$V$48,$B9,AVR.20!$E$7:$E$48,"Nuit")+COUNTIFS(AVR.20!$W$7:$W$48,$B9,AVR.20!$E$7:$E$48,"Nuit")+COUNTIFS(AVR.20!$X$7:$X$48,$B9,AVR.20!$E$7:$E$48,"Nuit")) -> 0 | BC9: =IF($A9="","",COUNTIFS(AVR.20!$F$7:$F$48,$B9,AVR.20!$E$7:$E$48,"Jour")+COUNTIFS(AVR.20!$H$7:$H$48,$B9,AVR.20!$E$7:$E$48,"Jour")+COUNTIFS(AVR.20!$J$7:$J$48,$B9,AVR.20!$E$7:$E$48,"Jour")+COUNTIFS(AVR.20!$L$7:$L$48,$B9,AVR.20!$E$7:$E$48,"Jour")+COUNTIFS(AVR.20!$N$7:$N$48,$B9,AVR.20!$E$7:$E$48,"Jour")+COUNTIFS(AVR.20!$P$7:$P$48,$B9,AVR.20!$E$7:$E$48,"Jour")+COUNTIFS(AVR.20!$R$7:$R$48,$B9,AVR.20!$E$7:$E$48,"Jour")+COUNTIFS(AVR.20!$T$7:$T$48,$B9,AVR.20!$E$7:$E$48,"Jour")+COUNTIFS(AVR.20!$V$7:$V$48,$B9,AVR.20!$E$7:$E$48,"Jour")+COUNTIFS(AVR.20!$W$7:$W$48,$B9,AVR.20!$E$7:$E$48,"Jour")+COUNTIFS(AVR.20!$X$7:$X$48,$B9,AVR.20!$E$7:$E$48,"Jour")) -> 0 | BD9: =IF($A9="","",COUNTIFS(AVR.20!$F$7:$F$48,$B9,AVR.20!$E$7:$E$48,"Nuit")+COUNTIFS(AVR.20!$H$7:$H$48,$B9,AVR.20!$E$7:$E$48,"Nuit")+COUNTIFS(AVR.20!$J$7:$J$48,$B9,AVR.20!$E$7:$E$48,"Nuit")+COUNTIFS(AVR.20!$L$7:$L$48,$B9,AVR.20!$E$7:$E$48,"Nuit")+COUNTIFS(AVR.20!$N$7:$N$48,$B9,AVR.20!$E$7:$E$48,"Nuit")+COUNTIFS(AVR.20!$P$7:$P$48,$B9,AVR.20!$E$7:$E$48,"Nuit")+COUNTIFS(AVR.20!$R$7:$R$48,$B9,AVR.20!$E$7:$E$48,"Nuit")+COUNTIFS(AVR.20!$T$7:$T$48,$B9,AVR.20!$E$7:$E$48,"Nuit")+COUNTIFS(AVR.20!$V$7:$V$48,$B9,AVR.20!$E$7:$E$48,"Nuit")+COUNTIFS(AVR.20!$W$7:$W$48,$B9,AVR.20!$E$7:$E$48,"Nuit")+COUNTIFS(AVR.20!$X$7:$X$48,$B9,AVR.20!$E$7:$E$48,"Nuit")) -> 0 | BE9: =IF($A9="","",COUNTIFS(AVR.20!$F$7:$F$48,$B9,AVR.20!$E$7:$E$48,"Jour")+COUNTIFS(AVR.20!$H$7:$H$48,$B9,AVR.20!$E$7:$E$48,"Jour")+COUNTIFS(AVR.20!$J$7:$J$48,$B9,AVR.20!$E$7:$E$48,"Jour")+COUNTIFS(AVR.20!$L$7:$L$48,$B9,AVR.20!$E$7:$E$48,"Jour")+COUNTIFS(AVR.20!$N$7:$N$48,$B9,AVR.20!$E$7:$E$48,"Jour")+COUNTIFS(AVR.20!$P$7:$P$48,$B9,AVR.20!$E$7:$E$48,"Jour")+COUNTIFS(AVR.20!$R$7:$R$48,$B9,AVR.20!$E$7:$E$48,"Jour")+COUNTIFS(AVR.20!$T$7:$T$48,$B9,AVR.20!$E$7:$E$48,"Jour")+COUNTIFS(AVR.20!$V$7:$V$48,$B9,AVR.20!$E$7:$E$48,"Jour")+COUNTIFS(AVR.20!$W$7:$W$48,$B9,AVR.20!$E$7:$E$48,"Jour")+COUNTIFS(AVR.20!$X$7:$X$48,$B9,AVR.20!$E$7:$E$48,"Jour")) -> 0 | BF9: =IF($A9="","",COUNTIFS(AVR.20!$F$7:$F$48,$B9,AVR.20!$E$7:$E$48,"Nuit")+COUNTIFS(AVR.20!$H$7:$H$48,$B9,AVR.20!$E$7:$E$48,"Nuit")+COUNTIFS(AVR.20!$J$7:$J$48,$B9,AVR.20!$E$7:$E$48,"Nuit")+COUNTIFS(AVR.20!$L$7:$L$48,$B9,AVR.20!$E$7:$E$48,"Nuit")+COUNTIFS(AVR.20!$N$7:$N$48,$B9,AVR.20!$E$7:$E$48,"Nuit")+COUNTIFS(AVR.20!$P$7:$P$48,$B9,AVR.20!$E$7:$E$48,"Nuit")+COUNTIFS(AVR.20!$R$7:$R$48,$B9,AVR.20!$E$7:$E$48,"Nuit")+COUNTIFS(AVR.20!$T$7:$T$48,$B9,AVR.20!$E$7:$E$48,"Nuit")+COUNTIFS(AVR.20!$V$7:$V$48,$B9,AVR.20!$E$7:$E$48,"Nuit")+COUNTIFS(AVR.20!$W$7:$W$48,$B9,AVR.20!$E$7:$E$48,"Nuit")+COUNTIFS(AVR.20!$X$7:$X$48,$B9,AVR.20!$E$7:$E$48,"Nuit")) -> 0 | BG9: =IF($A9="","",COUNTIFS(AVR.20!$F$7:$F$48,$B9,AVR.20!$E$7:$E$48,"Jour")+COUNTIFS(AVR.20!$H$7:$H$48,$B9,AVR.20!$E$7:$E$48,"Jour")+COUNTIFS(AVR.20!$J$7:$J$48,$B9,AVR.20!$E$7:$E$48,"Jour")+COUNTIFS(AVR.20!$L$7:$L$48,$B9,AVR.20!$E$7:$E$48,"Jour")+COUNTIFS(AVR.20!$N$7:$N$48,$B9,AVR.20!$E$7:$E$48,"Jour")+COUNTIFS(AVR.20!$P$7:$P$48,$B9,AVR.20!$E$7:$E$48,"Jour")+COUNTIFS(AVR.20!$R$7:$R$48,$B9,AVR.20!$E$7:$E$48,"Jour")+COUNTIFS(AVR.20!$T$7:$T$48,$B9,AVR.20!$E$7:$E$48,"Jour")+COUNTIFS(AVR.20!$V$7:$V$48,$B9,AVR.20!$E$7:$E$48,"Jour")+COUNTIFS(AVR.20!$W$7:$W$48,$B9,AVR.20!$E$7:$E$48,"Jour")+COUNTIFS(AVR.20!$X$7:$X$48,$B9,AVR.20!$E$7:$E$48,"Jour")) -> 0 | BH9: =IF($A9="","",COUNTIFS(AVR.20!$F$7:$F$48,$B9,AVR.20!$E$7:$E$48,"Nuit")+COUNTIFS(AVR.20!$H$7:$H$48,$B9,AVR.20!$E$7:$E$48,"Nuit")+COUNTIFS(AVR.20!$J$7:$J$48,$B9,AVR.20!$E$7:$E$48,"Nuit")+COUNTIFS(AVR.20!$L$7:$L$48,$B9,AVR.20!$E$7:$E$48,"Nuit")+COUNTIFS(AVR.20!$N$7:$N$48,$B9,AVR.20!$E$7:$E$48,"Nuit")+COUNTIFS(AVR.20!$P$7:$P$48,$B9,AVR.20!$E$7:$E$48,"Nuit")+COUNTIFS(AVR.20!$R$7:$R$48,$B9,AVR.20!$E$7:$E$48,"Nuit")+COUNTIFS(AVR.20!$T$7:$T$48,$B9,AVR.20!$E$7:$E$48,"Nuit")+COUNTIFS(AVR.20!$V$7:$V$48,$B9,AVR.20!$E$7:$E$48,"Nuit")+COUNTIFS(AVR.20!$W$7:$W$48,$B9,AVR.20!$E$7:$E$48,"Nuit")+COUNTIFS(AVR.20!$X$7:$X$48,$B9,AVR.20!$E$7:$E$48,"Nuit")) -> 0 | BI9: =IF($A9="","",COUNTIFS(AVR.20!$F$7:$F$48,$B9,AVR.20!$E$7:$E$48,"Jour")+COUNTIFS(AVR.20!$H$7:$H$48,$B9,AVR.20!$E$7:$E$48,"Jour")+COUNTIFS(AVR.20!$J$7:$J$48,$B9,AVR.20!$E$7:$E$48,"Jour")+COUNTIFS(AVR.20!$L$7:$L$48,$B9,AVR.20!$E$7:$E$48,"Jour")+COUNTIFS(AVR.20!$N$7:$N$48,$B9,AVR.20!$E$7:$E$48,"Jour")+COUNTIFS(AVR.20!$P$7:$P$48,$B9,AVR.20!$E$7:$E$48,"Jour")+COUNTIFS(AVR.20!$R$7:$R$48,$B9,AVR.20!$E$7:$E$48,"Jour")+COUNTIFS(AVR.20!$T$7:$T$48,$B9,AVR.20!$E$7:$E$48,"Jour")+COUNTIFS(AVR.20!$V$7:$V$48,$B9,AVR.20!$E$7:$E$48,"Jour")+COUNTIFS(AVR.20!$W$7:$W$48,$B9,AVR.20!$E$7:$E$48,"Jour")+COUNTIFS(AVR.20!$X$7:$X$48,$B9,AVR.20!$E$7:$E$48,"Jour")) -> 0 | BJ9: =IF($A9="","",COUNTIFS(AVR.20!$F$7:$F$48,$B9,AVR.20!$E$7:$E$48,"Nuit")+COUNTIFS(AVR.20!$H$7:$H$48,$B9,AVR.20!$E$7:$E$48,"Nuit")+COUNTIFS(AVR.20!$J$7:$J$48,$B9,AVR.20!$E$7:$E$48,"Nuit")+COUNTIFS(AVR.20!$L$7:$L$48,$B9,AVR.20!$E$7:$E$48,"Nuit")+COUNTIFS(AVR.20!$N$7:$N$48,$B9,AVR.20!$E$7:$E$48,"Nuit")+COUNTIFS(AVR.20!$P$7:$P$48,$B9,AVR.20!$E$7:$E$48,"Nuit")+COUNTIFS(AVR.20!$R$7:$R$48,$B9,AVR.20!$E$7:$E$48,"Nuit")+COUNTIFS(AVR.20!$T$7:$T$48,$B9,AVR.20!$E$7:$E$48,"Nuit")+COUNTIFS(AVR.20!$V$7:$V$48,$B9,AVR.20!$E$7:$E$48,"Nuit")+COUNTIFS(AVR.20!$W$7:$W$48,$B9,AVR.20!$E$7:$E$48,"Nuit")+COUNTIFS(AVR.20!$X$7:$X$48,$B9,AVR.20!$E$7:$E$48,"Nuit")) -> 0 | BK9: =IF($A9="","",COUNTIFS(AVR.20!$F$7:$F$48,$B9,AVR.20!$E$7:$E$48,"Jour")+COUNTIFS(AVR.20!$H$7:$H$48,$B9,AVR.20!$E$7:$E$48,"Jour")+COUNTIFS(AVR.20!$J$7:$J$48,$B9,AVR.20!$E$7:$E$48,"Jour")+COUNTIFS(AVR.20!$L$7:$L$48,$B9,AVR.20!$E$7:$E$48,"Jour")+COUNTIFS(AVR.20!$N$7:$N$48,$B9,AVR.20!$E$7:$E$48,"Jour")+COUNTIFS(AVR.20!$P$7:$P$48,$B9,AVR.20!$E$7:$E$48,"Jour")+COUNTIFS(AVR.20!$R$7:$R$48,$B9,AVR.20!$E$7:$E$48,"Jour")+COUNTIFS(AVR.20!$T$7:$T$48,$B9,AVR.20!$E$7:$E$48,"Jour")+COUNTIFS(AVR.20!$V$7:$V$48,$B9,AVR.20!$E$7:$E$48,"Jour")+COUNTIFS(AVR.20!$W$7:$W$48,$B9,AVR.20!$E$7:$E$48,"Jour")+COUNTIFS(AVR.20!$X$7:$X$48,$B9,AVR.20!$E$7:$E$48,"Jour")) -> 0 | BL9: =IF($A9="","",COUNTIFS(AVR.20!$F$7:$F$48,$B9,AVR.20!$E$7:$E$48,"Nuit")+COUNTIFS(AVR.20!$H$7:$H$48,$B9,AVR.20!$E$7:$E$48,"Nuit")+COUNTIFS(AVR.20!$J$7:$J$48,$B9,AVR.20!$E$7:$E$48,"Nuit")+COUNTIFS(AVR.20!$L$7:$L$48,$B9,AVR.20!$E$7:$E$48,"Nuit")+COUNTIFS(AVR.20!$N$7:$N$48,$B9,AVR.20!$E$7:$E$48,"Nuit")+COUNTIFS(AVR.20!$P$7:$P$48,$B9,AVR.20!$E$7:$E$48,"Nuit")+COUNTIFS(AVR.20!$R$7:$R$48,$B9,AVR.20!$E$7:$E$48,"Nuit")+COUNTIFS(AVR.20!$T$7:$T$48,$B9,AVR.20!$E$7:$E$48,"Nuit")+COUNTIFS(AVR.20!$V$7:$V$48,$B9,AVR.20!$E$7:$E$48,"Nuit")+COUNTIFS(AVR.20!$W$7:$W$48,$B9,AVR.20!$E$7:$E$48,"Nuit")+COUNTIFS(AVR.20!$X$7:$X$48,$B9,AVR.20!$E$7:$E$48,"Nuit")) -> 0 | BM9: =IF($A9="","",COUNTIFS(AVR.20!$F$7:$F$48,$B9,AVR.20!$E$7:$E$48,"Jour")+COUNTIFS(AVR.20!$H$7:$H$48,$B9,AVR.20!$E$7:$E$48,"Jour")+COUNTIFS(AVR.20!$J$7:$J$48,$B9,AVR.20!$E$7:$E$48,"Jour")+COUNTIFS(AVR.20!$L$7:$L$48,$B9,AVR.20!$E$7:$E$48,"Jour")+COUNTIFS(AVR.20!$N$7:$N$48,$B9,AVR.20!$E$7:$E$48,"Jour")+COUNTIFS(AVR.20!$P$7:$P$48,$B9,AVR.20!$E$7:$E$48,"Jour")+COUNTIFS(AVR.20!$R$7:$R$48,$B9,AVR.20!$E$7:$E$48,"Jour")+COUNTIFS(AVR.20!$T$7:$T$48,$B9,AVR.20!$E$7:$E$48,"Jour")+COUNTIFS(AVR.20!$V$7:$V$48,$B9,AVR.20!$E$7:$E$48,"Jour")+COUNTIFS(AVR.20!$W$7:$W$48,$B9,AVR.20!$E$7:$E$48,"Jour")+COUNTIFS(AVR.20!$X$7:$X$48,$B9,AVR.20!$E$7:$E$48,"Jour")) -> 0 | BO9: =AP9+AR9+AT9+AV9+AX9+AZ9+BB9+BD9+BF9+BH9+BJ9+BL9 -> 0 | BP9: =AQ9+AS9+AU9+AW9+AY9+BA9+BC9+BE9+BG9+BI9+BK9+BM9 -> 0
