Workbook

Sheet Ops Units
A1: All Value in EUR | E1: U+3
A2: Operational Unit:
A3: Country
A4: Currency | B4: EUR | E4: 02. U+3
A5: Fiscal Year | B5: FY2018
A6: Period | B6: P8
A7: Dissier Period | B7: 07. P8
B8: U + 3 Current Month FC (All figures by month, not accumulative nor year to date)
B9: Q1 | C9: Q1 | D9: Q1 | E9: Q2 | F9: Q2 | G9: Q2 | H9: Q3 | I9: Q3 | J9: Q3 | K9: Q4 | L9: Q4 | M9: Q4
B10: 1 | C10: 2 | D10: 3 | E10: 4 | F10: 5 | G10: 6 | H10: 7 | I10: 8 | J10: 9 | K10: 10 | L10: 11 | M10: 12 | N10: U+3 FC
B11: ACT | C11: ACT | D11: ACT | E11: ACT | F11: ACT | G11: ACT | H11: ACT | I11: FC | J11: FC | K11: FC | L11: FC | M11: FC
B12: FY18 | C12: FY18 | D12: FY18 | E12: FY18 | F12: FY18 | G12: FY18 | H12: FY18 | I12: FY18 | J12: FY18 | K12: FY18 | L12: FY18 | M12: FY18 | N12: Total
B13: FC | C13: FC | D13: FC | E13: FC | F13: FC | G13: FC | H13: FC | I13: FC | J13: FC | K13: FC | L13: FC | M13: FC
A14: Cout Fixe | B14: =SUM('1.Neptune'!B14,'2.Minerva'!B14) -> 366 | C14: =SUM('1.Neptune'!C14,'2.Minerva'!C14) -> 167 | D14: =SUM('1.Neptune'!D14,'2.Minerva'!D14) -> 511 | E14: =SUM('1.Neptune'!E14,'2.Minerva'!E14) -> 451 | F14: =SUM('1.Neptune'!F14,'2.Minerva'!F14) -> 339 | G14: =SUM('1.Neptune'!G14,'2.Minerva'!G14) -> 59 | H14: =SUM('1.Neptune'!H14,'2.Minerva'!H14) -> 632 | I14: =SUM('1.Neptune'!I14,'2.Minerva'!I14) -> 353 | ... M14: =SUM('1.Neptune'!M14,'2.Minerva'!M14) -> 571 | N14: =SUM(B14:M14) -> 4421
A15: Cout Materiel | B15: =SUM('1.Neptune'!B15,'2.Minerva'!B15) -> 525 | C15: =SUM('1.Neptune'!C15,'2.Minerva'!C15) -> 249 | D15: =SUM('1.Neptune'!D15,'2.Minerva'!D15) -> 272 | E15: =SUM('1.Neptune'!E15,'2.Minerva'!E15) -> 231 | F15: =SUM('1.Neptune'!F15,'2.Minerva'!F15) -> 77 | G15: =SUM('1.Neptune'!G15,'2.Minerva'!G15) -> 452 | H15: =SUM('1.Neptune'!H15,'2.Minerva'!H15) -> 604 | I15: =SUM('1.Neptune'!I15,'2.Minerva'!I15) -> 300 | ... M15: =SUM('1.Neptune'!M15,'2.Minerva'!M15) -> 594 | N15: =SUM(B15:M15) -> 4391
A16: Cout Salarial | B16: =SUM('1.Neptune'!B16,'2.Minerva'!B16) -> 513 | C16: =SUM('1.Neptune'!C16,'2.Minerva'!C16) -> 412 | D16: =SUM('1.Neptune'!D16,'2.Minerva'!D16) -> 338 | E16: =SUM('1.Neptune'!E16,'2.Minerva'!E16) -> 347 | F16: =SUM('1.Neptune'!F16,'2.Minerva'!F16) -> 530 | G16: =SUM('1.Neptune'!G16,'2.Minerva'!G16) -> 305 | H16: =SUM('1.Neptune'!H16,'2.Minerva'!H16) -> 617 | I16: =SUM('1.Neptune'!I16,'2.Minerva'!I16) -> 396 | ... M16: =SUM('1.Neptune'!M16,'2.Minerva'!M16) -> 420 | N16: =SUM(B16:M16) -> 4602
A18: Total | B18: =SUM(B14:B16) -> 1404 | C18: =SUM(C14:C16) -> 828 | D18: =SUM(D14:D16) -> 1121 | E18: =SUM(E14:E16) -> 1029 | F18: =SUM(F14:F16) -> 946 | G18: =SUM(G14:G16) -> 816 | H18: =SUM(H14:H16) -> 1853 | I18: =SUM(I14:I16) -> 1049 | ... N18: =SUM(N14:N16) -> 13414

Sheet 1.Neptune
A1: All Value in EUR | E1: ='Ops Units'!E1 -> U+3
A2: Operational Unit:
A3: Country
A4: Currency | B4: EUR | E4: ='Ops Units'!E4 -> 02. U+3
A5: Fiscal Year | B5: FY2018
A6: Period | B6: ='Ops Units'!B6 -> P8
A7: Dossier Period | B7: ='Ops Units'!B7 -> 07. P8
B8: U + 3 Current Month FC (All figures by month, not accumulative nor year to date)
B9: Q1 | C9: Q1 | D9: Q1 | E9: Q2 | F9: Q2 | G9: Q2 | H9: Q3 | I9: Q3 | J9: Q3 | K9: Q4 | L9: Q4 | M9: Q4
B10: 1 | C10: 2 | D10: 3 | E10: 4 | F10: 5 | G10: 6 | H10: 7 | I10: 8 | J10: 9 | K10: 10 | L10: 11 | M10: 12 | N10: U+3 FC
B11: ACT | C11: ACT | D11: ACT | E11: ACT | F11: ACT | G11: ACT | H11: ACT | I11: FC | J11: FC | K11: FC | L11: FC | M11: FC
B12: FY18 | C12: FY18 | D12: FY18 | E12: FY18 | F12: FY18 | G12: FY18 | H12: FY18 | I12: FY18 | J12: FY18 | K12: FY18 | L12: FY18 | M12: FY18 | N12: Total
B13: FC | C13: FC | D13: FC | E13: FC | F13: FC | G13: FC | H13: FC | I13: FC | J13: FC | K13: FC | L13: FC | M13: FC
A14: Cout Fixe | B14: ='[1]Key figures'!B14 -> 140 | C14: ='[1]Key figures'!C14 -> 158 | D14: ='[1]Key figures'!D14 -> 107 | E14: ='[1]Key figures'!E14 -> 135 | F14: ='[1]Key figures'!F14 -> 117 | G14: ='[1]Key figures'!G14 -> 56 | H14: ='[1]Key figures'!H14 -> 137 | I14: ='[1]Key figures'!I14 -> 2 | ... M14: ='[1]Key figures'!M14 -> 157 | N14: =SUM(B14:M14) -> 1248
A15: Cout Materiel | B15: ='[1]Key figures'!B15 -> 125 | C15: ='[1]Key figures'!C15 -> 29 | D15: ='[1]Key figures'!D15 -> 112 | E15: ='[1]Key figures'!E15 -> 144 | F15: ='[1]Key figures'!F15 -> 69 | G15: ='[1]Key figures'!G15 -> 151 | H15: ='[1]Key figures'!H15 -> 189 | I15: ='[1]Key figures'!I15 -> 67 | ... M15: ='[1]Key figures'!M15 -> 183 | N15: =SUM(B15:M15) -> 1414
A16: Cout Salarial | B16: ='[1]Key figures'!B16 -> 103 | C16: ='[1]Key figures'!C16 -> 20 | D16: ='[1]Key figures'!D16 -> 125 | E16: ='[1]Key figures'!E16 -> 115 | F16: ='[1]Key figures'!F16 -> 199 | G16: ='[1]Key figures'!G16 -> 134 | H16: ='[1]Key figures'!H16 -> 144 | I16: ='[1]Key figures'!I16 -> 83 | ... M16: ='[1]Key figures'!M16 -> 43 | N16: =SUM(B16:M16) -> 1166

Sheet 2.Minerva
A1: All Value in EUR | E1: ='Ops Units'!E1 -> U+3
A2: Operational Unit:
A3: Country
A4: Currency | B4: EUR | E4: ='Ops Units'!E4 -> 02. U+3
A5: Fiscal Year | B5: FY2018
A6: Period | B6: ='Ops Units'!B6 -> P8
A7: Dossier Period | B7: ='Ops Units'!B7 -> 07. P8
B8: U + 3 Current Month FC (All figures by month, not accumulative nor year to date)
B9: Q1 | C9: Q1 | D9: Q1 | E9: Q2 | F9: Q2 | G9: Q2 | H9: Q3 | I9: Q3 | J9: Q3 | K9: Q4 | L9: Q4 | M9: Q4
B10: 1 | C10: 2 | D10: 3 | E10: 4 | F10: 5 | G10: 6 | H10: 7 | I10: 8 | J10: 9 | K10: 10 | L10: 11 | M10: 12 | N10: U+3 FC
B11: ACT | C11: ACT | D11: ACT | E11: ACT | F11: ACT | G11: ACT | H11: ACT | I11: FC | J11: FC | K11: FC | L11: FC | M11: FC
B12: FY18 | C12: FY18 | D12: FY18 | E12: FY18 | F12: FY18 | G12: FY18 | H12: FY18 | I12: FY18 | J12: FY18 | K12: FY18 | L12: FY18 | M12: FY18 | N12: Total
B13: FC | C13: FC | D13: FC | E13: FC | F13: FC | G13: FC | H13: FC | I13: FC | J13: FC | K13: FC | L13: FC | M13: FC
A14: Cout Fixe | B14: ='[2]Key Figures'!B14 -> 226 | C14: ='[2]Key Figures'!C14 -> 9 | D14: ='[2]Key Figures'!D14 -> 404 | E14: ='[2]Key Figures'!E14 -> 316 | F14: ='[2]Key Figures'!F14 -> 222 | G14: ='[2]Key Figures'!G14 -> 3 | H14: ='[2]Key Figures'!H14 -> 495 | I14: ='[2]Key Figures'!I14 -> 351 | ... M14: ='[2]Key Figures'!M14 -> 414 | N14: =SUM(B14:M14) -> 3173
A15: Cout Materiel | B15: ='[2]Key Figures'!B15 -> 400 | C15: ='[2]Key Figures'!C15 -> 220 | D15: ='[2]Key Figures'!D15 -> 160 | E15: ='[2]Key Figures'!E15 -> 87 | F15: ='[2]Key Figures'!F15 -> 8 | G15: ='[2]Key Figures'!G15 -> 301 | H15: ='[2]Key Figures'!H15 -> 415 | I15: ='[2]Key Figures'!I15 -> 233 | ... M15: ='[2]Key Figures'!M15 -> 411 | N15: =SUM(B15:M15) -> 2977
A16: Cout Salarial | B16: ='[2]Key Figures'!B16 -> 410 | C16: ='[2]Key Figures'!C16 -> 392 | D16: ='[2]Key Figures'!D16 -> 213 | E16: ='[2]Key Figures'!E16 -> 232 | F16: ='[2]Key Figures'!F16 -> 331 | G16: ='[2]Key Figures'!G16 -> 171 | H16: ='[2]Key Figures'!H16 -> 473 | I16: ='[2]Key Figures'!I16 -> 313 | ... M16: ='[2]Key Figures'!M16 -> 377 | N16: =SUM(B16:M16) -> 3436
