Workbook

Sheet STOCK BRUT
B1: RÉFÉRENCE | C1: CATÉGORIE | D1: PRODUIT | E1: DÉLINAISON | F1: TOUQUET | H1: LILLE | J1: HARDELOT | M1: TOUQUET PRIORITE | N1: LILLE PRIORITE | O1: HARDELOT PRIORITE | P1: STOCK A PLACER ou a commander LE TOUQUET | Q1: STOCK A PLACER ou a commander LILLE | R1: STOCK A PLACER ou a commander HARDELOT
F2: STOCK | G2: IDEAL | H2: STOCK | I2: IDEAL | J2: STOCK | K2: IDEAL
A3: 1 | B3: FB984ANIS | C3: Porcelaine | D3: Théière carrée 1-2 pers unie | E3: ANIS | F3: 0 | G3: =IF($C3="porcelaine",IF(ISERROR(VLOOKUP($D3,'STOCK IDEAL'!$B$2:$C$1080,2,FALSE)+VLOOKUP($E3,'REGLE PRIORITE'!$K$3:$L$14,2,FALSE)),VLOOKUP($D3,'STOCK IDEAL'!$B$2:$C$1080,2,FALSE),VLOOKUP($D3,'STOCK IDEAL'!$B$2:$C$1080,2,FALSE)+VLOOKUP($E3,'REGLE PRIORITE'!$K$3:$L$14,2,FALSE)),IF(C3="Bijoux l’atelier",IF(ISERROR(VLOOKUP(D3,'STOCK IDEAL'!$B$2:$C$1108,2,FALSE)+VLOOKUP(E3,'REGLE PRIORITE'!$N$3:$O$18,2,FALSE)),VLOOKUP(D3,'STOCK IDEAL'!$B$2:$C$1108,2,FALSE),VLOOKUP(D3,'STOCK IDEAL'!$B$2:$C$1108,2,FALSE)+VLOOKUP(E3,'REGLE PRIORITE'!$N$3:$O$18,2,FALSE)),IF($C3="Bijoux argent/plaqué or",IF(ISERROR(VLOOKUP(D3,'STOCK IDEAL'!$B$2:$C$1108,2,FALSE)+VLOOKUP($E3,'REGLE PRIORITE'!$Q$3:$R$28,2,FALSE)),VLOOKUP(D3,'STOCK IDEAL'!$B$2:$C$1108,2,FALSE),VLOOKUP(D3,'STOCK IDEAL'!$B$2:$C$1108,2,FALSE)+VLOOKUP($E3,'REGLE PRIORITE'!$Q$3:$R$28,2,FALSE)),VLOOKUP(D3,'STOCK IDEAL'!$B$2:$C$1108,2,FALSE)))) -> 1 | H3: 1 | I3: =IF($C3="porcelaine",IF(ISERROR(VLOOKUP($D3,'STOCK IDEAL'!$B$2:$E$1080,3,FALSE)+VLOOKUP($E3,'REGLE PRIORITE'!$K$3:$L$14,2,FALSE)),VLOOKUP($D3,'STOCK IDEAL'!$B$2:$E$1080,3,FALSE),VLOOKUP($D3,'STOCK IDEAL'!$B$2:$E$1080,3,FALSE)+VLOOKUP($E3,'REGLE PRIORITE'!$K$3:$L$14,2,FALSE)),IF(C3="Bijoux l’atelier",IF(ISERROR(VLOOKUP(D3,'STOCK IDEAL'!$B$2:$E$1108,3,FALSE)+VLOOKUP(E3,'REGLE PRIORITE'!$N$3:$O$18,2,FALSE)),VLOOKUP(D3,'STOCK IDEAL'!$B$2:$E$1108,3,FALSE),VLOOKUP(D3,'STOCK IDEAL'!$B$2:$E$1108,3,FALSE)+VLOOKUP(E3,'REGLE PRIORITE'!$N$3:$O$18,2,FALSE)),IF($C3="Bijoux argent/plaqué or",IF(ISERROR(VLOOKUP(D3,'STOCK IDEAL'!$B$2:$E$1108,3,FALSE)+VLOOKUP($E3,'REGLE PRIORITE'!$Q$3:$R$28,2,FALSE)),VLOOKUP(D3,'STOCK IDEAL'!$B$2:$E$1108,3,FALSE),VLOOKUP(D3,'STOCK IDEAL'!$B$2:$E$1108,3,FALSE)+VLOOKUP($E3,'REGLE PRIORITE'!$Q$3:$R$28,2,FALSE)),VLOOKUP(D3,'STOCK IDEAL'!$B$2:$E$1108,3,FALSE)))) -> 1 | J3: 0 | K3: =IF($C3="porcelaine",IF(ISERROR(VLOOKUP($D3,'STOCK IDEAL'!$B$2:$E$1080,4,FALSE)+VLOOKUP($E3,'REGLE PRIORITE'!$K$3:$L$14,2,FALSE)),VLOOKUP($D3,'STOCK IDEAL'!$B$2:$E$1080,4,FALSE),VLOOKUP($D3,'STOCK IDEAL'!$B$2:$E$1080,4,FALSE)+VLOOKUP($E3,'REGLE PRIORITE'!$K$3:$L$14,2,FALSE)),IF(C3="Bijoux l’atelier",IF(ISERROR(VLOOKUP(D3,'STOCK IDEAL'!$B$2:$E$1108,4,FALSE)+VLOOKUP(E3,'REGLE PRIORITE'!$N$3:$O$18,2,FALSE)),VLOOKUP(D3,'STOCK IDEAL'!$B$2:$E$1108,4,FALSE),VLOOKUP(D3,'STOCK IDEAL'!$B$2:$E$1108,4,FALSE)+VLOOKUP(E3,'REGLE PRIORITE'!$N$3:$O$18,2,FALSE)),IF($C3="Bijoux argent/plaqué or",IF(ISERROR(VLOOKUP(D3,'STOCK IDEAL'!$B$2:$E$1108,4,FALSE)+VLOOKUP($E3,'REGLE PRIORITE'!$Q$3:$R$28,2,FALSE)),VLOOKUP(D3,'STOCK IDEAL'!$B$2:$E$1108,4,FALSE),VLOOKUP(D3,'STOCK IDEAL'!$B$2:$E$1108,4,FALSE)+VLOOKUP($E3,'REGLE PRIORITE'!$Q$3:$R$28,2,FALSE)),VLOOKUP(D3,'STOCK IDEAL'!$B$2:$E$1108,4,FALSE)))) -> 3 | L3: =IF(F3>G3,"OK") -> FALSE | M3: =HLOOKUP('STOCK BRUT'!$C3,'REGLE PRIORITE'!$B$4:$G$7,2,FALSE) -> 1 | N3: =HLOOKUP('STOCK BRUT'!$C3,'REGLE PRIORITE'!$B$4:$G$7,3,FALSE) -> 3 | O3: =HLOOKUP('STOCK BRUT'!$C3,'REGLE PRIORITE'!$B$4:$G$7,4,FALSE) -> 2 | P3: =F3-G3 -> -1 | Q3: =H3-I3 -> 0 | R3: =J3-K3 -> -3 | S3: =P3+Q3+R3 -> -4
A4: 2 | B4: FB984CORAIL | C4: Porcelaine | D4: Théière carrée 1-2 pers unie | E4: CORAIL | F4: 0 | G4: =IF($C4="porcelaine",IF(ISERROR(VLOOKUP($D4,'STOCK IDEAL'!$B$2:$C$1080,2,FALSE)+VLOOKUP($E4,'REGLE PRIORITE'!$K$3:$L$14,2,FALSE)),VLOOKUP($D4,'STOCK IDEAL'!$B$2:$C$1080,2,FALSE),VLOOKUP($D4,'STOCK IDEAL'!$B$2:$C$1080,2,FALSE)+VLOOKUP($E4,'REGLE PRIORITE'!$K$3:$L$14,2,FALSE)),IF(C4="Bijoux l’atelier",IF(ISERROR(VLOOKUP(D4,'STOCK IDEAL'!$B$2:$C$1108,2,FALSE)+VLOOKUP(E4,'REGLE PRIORITE'!$N$3:$O$18,2,FALSE)),VLOOKUP(D4,'STOCK IDEAL'!$B$2:$C$1108,2,FALSE),VLOOKUP(D4,'STOCK IDEAL'!$B$2:$C$1108,2,FALSE)+VLOOKUP(E4,'REGLE PRIORITE'!$N$3:$O$18,2,FALSE)),IF($C4="Bijoux argent/plaqué or",IF(ISERROR(VLOOKUP(D4,'STOCK IDEAL'!$B$2:$C$1108,2,FALSE)+VLOOKUP($E4,'REGLE PRIORITE'!$Q$3:$R$28,2,FALSE)),VLOOKUP(D4,'STOCK IDEAL'!$B$2:$C$1108,2,FALSE),VLOOKUP(D4,'STOCK IDEAL'!$B$2:$C$1108,2,FALSE)+VLOOKUP($E4,'REGLE PRIORITE'!$Q$3:$R$28,2,FALSE)),VLOOKUP(D4,'STOCK IDEAL'!$B$2:$C$1108,2,FALSE)))) -> 1 | H4: 0 | I4: =IF($C4="porcelaine",IF(ISERROR(VLOOKUP($D4,'STOCK IDEAL'!$B$2:$E$1080,3,FALSE)+VLOOKUP($E4,'REGLE PRIORITE'!$K$3:$L$14,2,FALSE)),VLOOKUP($D4,'STOCK IDEAL'!$B$2:$E$1080,3,FALSE),VLOOKUP($D4,'STOCK IDEAL'!$B$2:$E$1080,3,FALSE)+VLOOKUP($E4,'REGLE PRIORITE'!$K$3:$L$14,2,FALSE)),IF(C4="Bijoux l’atelier",IF(ISERROR(VLOOKUP(D4,'STOCK IDEAL'!$B$2:$E$1108,3,FALSE)+VLOOKUP(E4,'REGLE PRIORITE'!$N$3:$O$18,2,FALSE)),VLOOKUP(D4,'STOCK IDEAL'!$B$2:$E$1108,3,FALSE),VLOOKUP(D4,'STOCK IDEAL'!$B$2:$E$1108,3,FALSE)+VLOOKUP(E4,'REGLE PRIORITE'!$N$3:$O$18,2,FALSE)),IF($C4="Bijoux argent/plaqué or",IF(ISERROR(VLOOKUP(D4,'STOCK IDEAL'!$B$2:$E$1108,3,FALSE)+VLOOKUP($E4,'REGLE PRIORITE'!$Q$3:$R$28,2,FALSE)),VLOOKUP(D4,'STOCK IDEAL'!$B$2:$E$1108,3,FALSE),VLOOKUP(D4,'STOCK IDEAL'!$B$2:$E$1108,3,FALSE)+VLOOKUP($E4,'REGLE PRIORITE'!$Q$3:$R$28,2,FALSE)),VLOOKUP(D4,'STOCK IDEAL'!$B$2:$E$1108,3,FALSE)))) -> 1 | J4: 0 | K4: =IF($C4="porcelaine",IF(ISERROR(VLOOKUP($D4,'STOCK IDEAL'!$B$2:$E$1080,4,FALSE)+VLOOKUP($E4,'REGLE PRIORITE'!$K$3:$L$14,2,FALSE)),VLOOKUP($D4,'STOCK IDEAL'!$B$2:$E$1080,4,FALSE),VLOOKUP($D4,'STOCK IDEAL'!$B$2:$E$1080,4,FALSE)+VLOOKUP($E4,'REGLE PRIORITE'!$K$3:$L$14,2,FALSE)),IF(C4="Bijoux l’atelier",IF(ISERROR(VLOOKUP(D4,'STOCK IDEAL'!$B$2:$E$1108,4,FALSE)+VLOOKUP(E4,'REGLE PRIORITE'!$N$3:$O$18,2,FALSE)),VLOOKUP(D4,'STOCK IDEAL'!$B$2:$E$1108,4,FALSE),VLOOKUP(D4,'STOCK IDEAL'!$B$2:$E$1108,4,FALSE)+VLOOKUP(E4,'REGLE PRIORITE'!$N$3:$O$18,2,FALSE)),IF($C4="Bijoux argent/plaqué or",IF(ISERROR(VLOOKUP(D4,'STOCK IDEAL'!$B$2:$E$1108,4,FALSE)+VLOOKUP($E4,'REGLE PRIORITE'!$Q$3:$R$28,2,FALSE)),VLOOKUP(D4,'STOCK IDEAL'!$B$2:$E$1108,4,FALSE),VLOOKUP(D4,'STOCK IDEAL'!$B$2:$E$1108,4,FALSE)+VLOOKUP($E4,'REGLE PRIORITE'!$Q$3:$R$28,2,FALSE)),VLOOKUP(D4,'STOCK IDEAL'!$B$2:$E$1108,4,FALSE)))) -> 3 | L4: =IF(F4>G4,"OK") -> FALSE | M4: =HLOOKUP('STOCK BRUT'!$C4,'REGLE PRIORITE'!$B$4:$G$7,2,FALSE) -> 1 | N4: =HLOOKUP('STOCK BRUT'!$C4,'REGLE PRIORITE'!$B$4:$G$7,3,FALSE) -> 3 | O4: =HLOOKUP('STOCK BRUT'!$C4,'REGLE PRIORITE'!$B$4:$G$7,4,FALSE) -> 2 | P4: =F4-G4 -> -1 | Q4: =H4-I4 -> -1 | R4: =J4-K4 -> -3 | S4: =P4+Q4+R4 -> -5
A5: 3 | B5: FB984FRAMB | C5: Porcelaine | D5: Théière carrée 1-2 pers unie | E5: FRAMBOISE | F5: 1 | G5: =IF($C5="porcelaine",IF(ISERROR(VLOOKUP($D5,'STOCK IDEAL'!$B$2:$C$1080,2,FALSE)+VLOOKUP($E5,'REGLE PRIORITE'!$K$3:$L$14,2,FALSE)),VLOOKUP($D5,'STOCK IDEAL'!$B$2:$C$1080,2,FALSE),VLOOKUP($D5,'STOCK IDEAL'!$B$2:$C$1080,2,FALSE)+VLOOKUP($E5,'REGLE PRIORITE'!$K$3:$L$14,2,FALSE)),IF(C5="Bijoux l’atelier",IF(ISERROR(VLOOKUP(D5,'STOCK IDEAL'!$B$2:$C$1108,2,FALSE)+VLOOKUP(E5,'REGLE PRIORITE'!$N$3:$O$18,2,FALSE)),VLOOKUP(D5,'STOCK IDEAL'!$B$2:$C$1108,2,FALSE),VLOOKUP(D5,'STOCK IDEAL'!$B$2:$C$1108,2,FALSE)+VLOOKUP(E5,'REGLE PRIORITE'!$N$3:$O$18,2,FALSE)),IF($C5="Bijoux argent/plaqué or",IF(ISERROR(VLOOKUP(D5,'STOCK IDEAL'!$B$2:$C$1108,2,FALSE)+VLOOKUP($E5,'REGLE PRIORITE'!$Q$3:$R$28,2,FALSE)),VLOOKUP(D5,'STOCK IDEAL'!$B$2:$C$1108,2,FALSE),VLOOKUP(D5,'STOCK IDEAL'!$B$2:$C$1108,2,FALSE)+VLOOKUP($E5,'REGLE PRIORITE'!$Q$3:$R$28,2,FALSE)),VLOOKUP(D5,'STOCK IDEAL'!$B$2:$C$1108,2,FALSE)))) -> 1 | H5: 1 | I5: =IF($C5="porcelaine",IF(ISERROR(VLOOKUP($D5,'STOCK IDEAL'!$B$2:$E$1080,3,FALSE)+VLOOKUP($E5,'REGLE PRIORITE'!$K$3:$L$14,2,FALSE)),VLOOKUP($D5,'STOCK IDEAL'!$B$2:$E$1080,3,FALSE),VLOOKUP($D5,'STOCK IDEAL'!$B$2:$E$1080,3,FALSE)+VLOOKUP($E5,'REGLE PRIORITE'!$K$3:$L$14,2,FALSE)),IF(C5="Bijoux l’atelier",IF(ISERROR(VLOOKUP(D5,'STOCK IDEAL'!$B$2:$E$1108,3,FALSE)+VLOOKUP(E5,'REGLE PRIORITE'!$N$3:$O$18,2,FALSE)),VLOOKUP(D5,'STOCK IDEAL'!$B$2:$E$1108,3,FALSE),VLOOKUP(D5,'STOCK IDEAL'!$B$2:$E$1108,3,FALSE)+VLOOKUP(E5,'REGLE PRIORITE'!$N$3:$O$18,2,FALSE)),IF($C5="Bijoux argent/plaqué or",IF(ISERROR(VLOOKUP(D5,'STOCK IDEAL'!$B$2:$E$1108,3,FALSE)+VLOOKUP($E5,'REGLE PRIORITE'!$Q$3:$R$28,2,FALSE)),VLOOKUP(D5,'STOCK IDEAL'!$B$2:$E$1108,3,FALSE),VLOOKUP(D5,'STOCK IDEAL'!$B$2:$E$1108,3,FALSE)+VLOOKUP($E5,'REGLE PRIORITE'!$Q$3:$R$28,2,FALSE)),VLOOKUP(D5,'STOCK IDEAL'!$B$2:$E$1108,3,FALSE)))) -> 1 | J5: 1 | K5: =IF($C5="porcelaine",IF(ISERROR(VLOOKUP($D5,'STOCK IDEAL'!$B$2:$E$1080,4,FALSE)+VLOOKUP($E5,'REGLE PRIORITE'!$K$3:$L$14,2,FALSE)),VLOOKUP($D5,'STOCK IDEAL'!$B$2:$E$1080,4,FALSE),VLOOKUP($D5,'STOCK IDEAL'!$B$2:$E$1080,4,FALSE)+VLOOKUP($E5,'REGLE PRIORITE'!$K$3:$L$14,2,FALSE)),IF(C5="Bijoux l’atelier",IF(ISERROR(VLOOKUP(D5,'STOCK IDEAL'!$B$2:$E$1108,4,FALSE)+VLOOKUP(E5,'REGLE PRIORITE'!$N$3:$O$18,2,FALSE)),VLOOKUP(D5,'STOCK IDEAL'!$B$2:$E$1108,4,FALSE),VLOOKUP(D5,'STOCK IDEAL'!$B$2:$E$1108,4,FALSE)+VLOOKUP(E5,'REGLE PRIORITE'!$N$3:$O$18,2,FALSE)),IF($C5="Bijoux argent/plaqué or",IF(ISERROR(VLOOKUP(D5,'STOCK IDEAL'!$B$2:$E$1108,4,FALSE)+VLOOKUP($E5,'REGLE PRIORITE'!$Q$3:$R$28,2,FALSE)),VLOOKUP(D5,'STOCK IDEAL'!$B$2:$E$1108,4,FALSE),VLOOKUP(D5,'STOCK IDEAL'!$B$2:$E$1108,4,FALSE)+VLOOKUP($E5,'REGLE PRIORITE'!$Q$3:$R$28,2,FALSE)),VLOOKUP(D5,'STOCK IDEAL'!$B$2:$E$1108,4,FALSE)))) -> 3 | L5: =IF(F5>G5,"OK") -> FALSE | M5: =HLOOKUP('STOCK BRUT'!$C5,'REGLE PRIORITE'!$B$4:$G$7,2,FALSE) -> 1 | N5: =HLOOKUP('STOCK BRUT'!$C5,'REGLE PRIORITE'!$B$4:$G$7,3,FALSE) -> 3 | O5: =HLOOKUP('STOCK BRUT'!$C5,'REGLE PRIORITE'!$B$4:$G$7,4,FALSE) -> 2 | P5: =F5-G5 -> 0 | Q5: =H5-I5 -> 0 | R5: =J5-K5 -> -2 | S5: =P5+Q5+R5 -> -2 | Y5: =COUNTA('[1]Fichier client'!$A$2:$A$1048576)+1 -> 4031
A6: 4 | B6: FB984IVOIRE | C6: Porcelaine | D6: Théière carrée 1-2 pers unie | E6: IVOIRE | F6: 1 | G6: =IF($C6="porcelaine",IF(ISERROR(VLOOKUP($D6,'STOCK IDEAL'!$B$2:$C$1080,2,FALSE)+VLOOKUP($E6,'REGLE PRIORITE'!$K$3:$L$14,2,FALSE)),VLOOKUP($D6,'STOCK IDEAL'!$B$2:$C$1080,2,FALSE),VLOOKUP($D6,'STOCK IDEAL'!$B$2:$C$1080,2,FALSE)+VLOOKUP($E6,'REGLE PRIORITE'!$K$3:$L$14,2,FALSE)),IF(C6="Bijoux l’atelier",IF(ISERROR(VLOOKUP(D6,'STOCK IDEAL'!$B$2:$C$1108,2,FALSE)+VLOOKUP(E6,'REGLE PRIORITE'!$N$3:$O$18,2,FALSE)),VLOOKUP(D6,'STOCK IDEAL'!$B$2:$C$1108,2,FALSE),VLOOKUP(D6,'STOCK IDEAL'!$B$2:$C$1108,2,FALSE)+VLOOKUP(E6,'REGLE PRIORITE'!$N$3:$O$18,2,FALSE)),IF($C6="Bijoux argent/plaqué or",IF(ISERROR(VLOOKUP(D6,'STOCK IDEAL'!$B$2:$C$1108,2,FALSE)+VLOOKUP($E6,'REGLE PRIORITE'!$Q$3:$R$28,2,FALSE)),VLOOKUP(D6,'STOCK IDEAL'!$B$2:$C$1108,2,FALSE),VLOOKUP(D6,'STOCK IDEAL'!$B$2:$C$1108,2,FALSE)+VLOOKUP($E6,'REGLE PRIORITE'!$Q$3:$R$28,2,FALSE)),VLOOKUP(D6,'STOCK IDEAL'!$B$2:$C$1108,2,FALSE)))) -> 2 | H6: 1 | I6: =IF($C6="porcelaine",IF(ISERROR(VLOOKUP($D6,'STOCK IDEAL'!$B$2:$E$1080,3,FALSE)+VLOOKUP($E6,'REGLE PRIORITE'!$K$3:$L$14,2,FALSE)),VLOOKUP($D6,'STOCK IDEAL'!$B$2:$E$1080,3,FALSE),VLOOKUP($D6,'STOCK IDEAL'!$B$2:$E$1080,3,FALSE)+VLOOKUP($E6,'REGLE PRIORITE'!$K$3:$L$14,2,FALSE)),IF(C6="Bijoux l’atelier",IF(ISERROR(VLOOKUP(D6,'STOCK IDEAL'!$B$2:$E$1108,3,FALSE)+VLOOKUP(E6,'REGLE PRIORITE'!$N$3:$O$18,2,FALSE)),VLOOKUP(D6,'STOCK IDEAL'!$B$2:$E$1108,3,FALSE),VLOOKUP(D6,'STOCK IDEAL'!$B$2:$E$1108,3,FALSE)+VLOOKUP(E6,'REGLE PRIORITE'!$N$3:$O$18,2,FALSE)),IF($C6="Bijoux argent/plaqué or",IF(ISERROR(VLOOKUP(D6,'STOCK IDEAL'!$B$2:$E$1108,3,FALSE)+VLOOKUP($E6,'REGLE PRIORITE'!$Q$3:$R$28,2,FALSE)),VLOOKUP(D6,'STOCK IDEAL'!$B$2:$E$1108,3,FALSE),VLOOKUP(D6,'STOCK IDEAL'!$B$2:$E$1108,3,FALSE)+VLOOKUP($E6,'REGLE PRIORITE'!$Q$3:$R$28,2,FALSE)),VLOOKUP(D6,'STOCK IDEAL'!$B$2:$E$1108,3,FALSE)))) -> 2 | J6: 1 | K6: =IF($C6="porcelaine",IF(ISERROR(VLOOKUP($D6,'STOCK IDEAL'!$B$2:$E$1080,4,FALSE)+VLOOKUP($E6,'REGLE PRIORITE'!$K$3:$L$14,2,FALSE)),VLOOKUP($D6,'STOCK IDEAL'!$B$2:$E$1080,4,FALSE),VLOOKUP($D6,'STOCK IDEAL'!$B$2:$E$1080,4,FALSE)+VLOOKUP($E6,'REGLE PRIORITE'!$K$3:$L$14,2,FALSE)),IF(C6="Bijoux l’atelier",IF(ISERROR(VLOOKUP(D6,'STOCK IDEAL'!$B$2:$E$1108,4,FALSE)+VLOOKUP(E6,'REGLE PRIORITE'!$N$3:$O$18,2,FALSE)),VLOOKUP(D6,'STOCK IDEAL'!$B$2:$E$1108,4,FALSE),VLOOKUP(D6,'STOCK IDEAL'!$B$2:$E$1108,4,FALSE)+VLOOKUP(E6,'REGLE PRIORITE'!$N$3:$O$18,2,FALSE)),IF($C6="Bijoux argent/plaqué or",IF(ISERROR(VLOOKUP(D6,'STOCK IDEAL'!$B$2:$E$1108,4,FALSE)+VLOOKUP($E6,'REGLE PRIORITE'!$Q$3:$R$28,2,FALSE)),VLOOKUP(D6,'STOCK IDEAL'!$B$2:$E$1108,4,FALSE),VLOOKUP(D6,'STOCK IDEAL'!$B$2:$E$1108,4,FALSE)+VLOOKUP($E6,'REGLE PRIORITE'!$Q$3:$R$28,2,FALSE)),VLOOKUP(D6,'STOCK IDEAL'!$B$2:$E$1108,4,FALSE)))) -> 4 | L6: =IF(F6>G6,"OK") -> FALSE | M6: =HLOOKUP('STOCK BRUT'!$C6,'REGLE PRIORITE'!$B$4:$G$7,2,FALSE) -> 1 | N6: =HLOOKUP('STOCK BRUT'!$C6,'REGLE PRIORITE'!$B$4:$G$7,3,FALSE) -> 3 | O6: =HLOOKUP('STOCK BRUT'!$C6,'REGLE PRIORITE'!$B$4:$G$7,4,FALSE) -> 2 | P6: =F6-G6 -> -1 | Q6: =H6-I6 -> -1 | R6: =J6-K6 -> -3 | S6: =P6+Q6+R6 -> -5
A7: 5 | B7: FB984OCEAN | C7: Porcelaine | D7: Théière carrée 1-2 pers unie | E7: OCÉAN | F7: 1 | G7: =IF($C7="porcelaine",IF(ISERROR(VLOOKUP($D7,'STOCK IDEAL'!$B$2:$C$1080,2,FALSE)+VLOOKUP($E7,'REGLE PRIORITE'!$K$3:$L$14,2,FALSE)),VLOOKUP($D7,'STOCK IDEAL'!$B$2:$C$1080,2,FALSE),VLOOKUP($D7,'STOCK IDEAL'!$B$2:$C$1080,2,FALSE)+VLOOKUP($E7,'REGLE PRIORITE'!$K$3:$L$14,2,FALSE)),IF(C7="Bijoux l’atelier",IF(ISERROR(VLOOKUP(D7,'STOCK IDEAL'!$B$2:$C$1108,2,FALSE)+VLOOKUP(E7,'REGLE PRIORITE'!$N$3:$O$18,2,FALSE)),VLOOKUP(D7,'STOCK IDEAL'!$B$2:$C$1108,2,FALSE),VLOOKUP(D7,'STOCK IDEAL'!$B$2:$C$1108,2,FALSE)+VLOOKUP(E7,'REGLE PRIORITE'!$N$3:$O$18,2,FALSE)),IF($C7="Bijoux argent/plaqué or",IF(ISERROR(VLOOKUP(D7,'STOCK IDEAL'!$B$2:$C$1108,2,FALSE)+VLOOKUP($E7,'REGLE PRIORITE'!$Q$3:$R$28,2,FALSE)),VLOOKUP(D7,'STOCK IDEAL'!$B$2:$C$1108,2,FALSE),VLOOKUP(D7,'STOCK IDEAL'!$B$2:$C$1108,2,FALSE)+VLOOKUP($E7,'REGLE PRIORITE'!$Q$3:$R$28,2,FALSE)),VLOOKUP(D7,'STOCK IDEAL'!$B$2:$C$1108,2,FALSE)))) -> 1 | H7: 1 | I7: =IF($C7="porcelaine",IF(ISERROR(VLOOKUP($D7,'STOCK IDEAL'!$B$2:$E$1080,3,FALSE)+VLOOKUP($E7,'REGLE PRIORITE'!$K$3:$L$14,2,FALSE)),VLOOKUP($D7,'STOCK IDEAL'!$B$2:$E$1080,3,FALSE),VLOOKUP($D7,'STOCK IDEAL'!$B$2:$E$1080,3,FALSE)+VLOOKUP($E7,'REGLE PRIORITE'!$K$3:$L$14,2,FALSE)),IF(C7="Bijoux l’atelier",IF(ISERROR(VLOOKUP(D7,'STOCK IDEAL'!$B$2:$E$1108,3,FALSE)+VLOOKUP(E7,'REGLE PRIORITE'!$N$3:$O$18,2,FALSE)),VLOOKUP(D7,'STOCK IDEAL'!$B$2:$E$1108,3,FALSE),VLOOKUP(D7,'STOCK IDEAL'!$B$2:$E$1108,3,FALSE)+VLOOKUP(E7,'REGLE PRIORITE'!$N$3:$O$18,2,FALSE)),IF($C7="Bijoux argent/plaqué or",IF(ISERROR(VLOOKUP(D7,'STOCK IDEAL'!$B$2:$E$1108,3,FALSE)+VLOOKUP($E7,'REGLE PRIORITE'!$Q$3:$R$28,2,FALSE)),VLOOKUP(D7,'STOCK IDEAL'!$B$2:$E$1108,3,FALSE),VLOOKUP(D7,'STOCK IDEAL'!$B$2:$E$1108,3,FALSE)+VLOOKUP($E7,'REGLE PRIORITE'!$Q$3:$R$28,2,FALSE)),VLOOKUP(D7,'STOCK IDEAL'!$B$2:$E$1108,3,FALSE)))) -> 1 | J7: 1 | K7: =IF($C7="porcelaine",IF(ISERROR(VLOOKUP($D7,'STOCK IDEAL'!$B$2:$E$1080,4,FALSE)+VLOOKUP($E7,'REGLE PRIORITE'!$K$3:$L$14,2,FALSE)),VLOOKUP($D7,'STOCK IDEAL'!$B$2:$E$1080,4,FALSE),VLOOKUP($D7,'STOCK IDEAL'!$B$2:$E$1080,4,FALSE)+VLOOKUP($E7,'REGLE PRIORITE'!$K$3:$L$14,2,FALSE)),IF(C7="Bijoux l’atelier",IF(ISERROR(VLOOKUP(D7,'STOCK IDEAL'!$B$2:$E$1108,4,FALSE)+VLOOKUP(E7,'REGLE PRIORITE'!$N$3:$O$18,2,FALSE)),VLOOKUP(D7,'STOCK IDEAL'!$B$2:$E$1108,4,FALSE),VLOOKUP(D7,'STOCK IDEAL'!$B$2:$E$1108,4,FALSE)+VLOOKUP(E7,'REGLE PRIORITE'!$N$3:$O$18,2,FALSE)),IF($C7="Bijoux argent/plaqué or",IF(ISERROR(VLOOKUP(D7,'STOCK IDEAL'!$B$2:$E$1108,4,FALSE)+VLOOKUP($E7,'REGLE PRIORITE'!$Q$3:$R$28,2,FALSE)),VLOOKUP(D7,'STOCK IDEAL'!$B$2:$E$1108,4,FALSE),VLOOKUP(D7,'STOCK IDEAL'!$B$2:$E$1108,4,FALSE)+VLOOKUP($E7,'REGLE PRIORITE'!$Q$3:$R$28,2,FALSE)),VLOOKUP(D7,'STOCK IDEAL'!$B$2:$E$1108,4,FALSE)))) -> 3 | L7: =IF(F7>G7,"OK") -> FALSE | M7: =HLOOKUP('STOCK BRUT'!$C7,'REGLE PRIORITE'!$B$4:$G$7,2,FALSE) -> 1 | N7: =HLOOKUP('STOCK BRUT'!$C7,'REGLE PRIORITE'!$B$4:$G$7,3,FALSE) -> 3 | O7: =HLOOKUP('STOCK BRUT'!$C7,'REGLE PRIORITE'!$B$4:$G$7,4,FALSE) -> 2 | P7: =F7-G7 -> 0 | Q7: =H7-I7 -> 0 | R7: =J7-K7 -> -2 | S7: =P7+Q7+R7 -> -2
A8: 6 | B8: FB984ORANG | C8: Porcelaine | D8: Théière carrée 1-2 pers unie | E8: ORANGE | F8: 0 | G8: =IF($C8="porcelaine",IF(ISERROR(VLOOKUP($D8,'STOCK IDEAL'!$B$2:$C$1080,2,FALSE)+VLOOKUP($E8,'REGLE PRIORITE'!$K$3:$L$14,2,FALSE)),VLOOKUP($D8,'STOCK IDEAL'!$B$2:$C$1080,2,FALSE),VLOOKUP($D8,'STOCK IDEAL'!$B$2:$C$1080,2,FALSE)+VLOOKUP($E8,'REGLE PRIORITE'!$K$3:$L$14,2,FALSE)),IF(C8="Bijoux l’atelier",IF(ISERROR(VLOOKUP(D8,'STOCK IDEAL'!$B$2:$C$1108,2,FALSE)+VLOOKUP(E8,'REGLE PRIORITE'!$N$3:$O$18,2,FALSE)),VLOOKUP(D8,'STOCK IDEAL'!$B$2:$C$1108,2,FALSE),VLOOKUP(D8,'STOCK IDEAL'!$B$2:$C$1108,2,FALSE)+VLOOKUP(E8,'REGLE PRIORITE'!$N$3:$O$18,2,FALSE)),IF($C8="Bijoux argent/plaqué or",IF(ISERROR(VLOOKUP(D8,'STOCK IDEAL'!$B$2:$C$1108,2,FALSE)+VLOOKUP($E8,'REGLE PRIORITE'!$Q$3:$R$28,2,FALSE)),VLOOKUP(D8,'STOCK IDEAL'!$B$2:$C$1108,2,FALSE),VLOOKUP(D8,'STOCK IDEAL'!$B$2:$C$1108,2,FALSE)+VLOOKUP($E8,'REGLE PRIORITE'!$Q$3:$R$28,2,FALSE)),VLOOKUP(D8,'STOCK IDEAL'!$B$2:$C$1108,2,FALSE)))) -> 1 | H8: 0 | I8: =IF($C8="porcelaine",IF(ISERROR(VLOOKUP($D8,'STOCK IDEAL'!$B$2:$E$1080,3,FALSE)+VLOOKUP($E8,'REGLE PRIORITE'!$K$3:$L$14,2,FALSE)),VLOOKUP($D8,'STOCK IDEAL'!$B$2:$E$1080,3,FALSE),VLOOKUP($D8,'STOCK IDEAL'!$B$2:$E$1080,3,FALSE)+VLOOKUP($E8,'REGLE PRIORITE'!$K$3:$L$14,2,FALSE)),IF(C8="Bijoux l’atelier",IF(ISERROR(VLOOKUP(D8,'STOCK IDEAL'!$B$2:$E$1108,3,FALSE)+VLOOKUP(E8,'REGLE PRIORITE'!$N$3:$O$18,2,FALSE)),VLOOKUP(D8,'STOCK IDEAL'!$B$2:$E$1108,3,FALSE),VLOOKUP(D8,'STOCK IDEAL'!$B$2:$E$1108,3,FALSE)+VLOOKUP(E8,'REGLE PRIORITE'!$N$3:$O$18,2,FALSE)),IF($C8="Bijoux argent/plaqué or",IF(ISERROR(VLOOKUP(D8,'STOCK IDEAL'!$B$2:$E$1108,3,FALSE)+VLOOKUP($E8,'REGLE PRIORITE'!$Q$3:$R$28,2,FALSE)),VLOOKUP(D8,'STOCK IDEAL'!$B$2:$E$1108,3,FALSE),VLOOKUP(D8,'STOCK IDEAL'!$B$2:$E$1108,3,FALSE)+VLOOKUP($E8,'REGLE PRIORITE'!$Q$3:$R$28,2,FALSE)),VLOOKUP(D8,'STOCK IDEAL'!$B$2:$E$1108,3,FALSE)))) -> 1 | J8: 0 | K8: =IF($C8="porcelaine",IF(ISERROR(VLOOKUP($D8,'STOCK IDEAL'!$B$2:$E$1080,4,FALSE)+VLOOKUP($E8,'REGLE PRIORITE'!$K$3:$L$14,2,FALSE)),VLOOKUP($D8,'STOCK IDEAL'!$B$2:$E$1080,4,FALSE),VLOOKUP($D8,'STOCK IDEAL'!$B$2:$E$1080,4,FALSE)+VLOOKUP($E8,'REGLE PRIORITE'!$K$3:$L$14,2,FALSE)),IF(C8="Bijoux l’atelier",IF(ISERROR(VLOOKUP(D8,'STOCK IDEAL'!$B$2:$E$1108,4,FALSE)+VLOOKUP(E8,'REGLE PRIORITE'!$N$3:$O$18,2,FALSE)),VLOOKUP(D8,'STOCK IDEAL'!$B$2:$E$1108,4,FALSE),VLOOKUP(D8,'STOCK IDEAL'!$B$2:$E$1108,4,FALSE)+VLOOKUP(E8,'REGLE PRIORITE'!$N$3:$O$18,2,FALSE)),IF($C8="Bijoux argent/plaqué or",IF(ISERROR(VLOOKUP(D8,'STOCK IDEAL'!$B$2:$E$1108,4,FALSE)+VLOOKUP($E8,'REGLE PRIORITE'!$Q$3:$R$28,2,FALSE)),VLOOKUP(D8,'STOCK IDEAL'!$B$2:$E$1108,4,FALSE),VLOOKUP(D8,'STOCK IDEAL'!$B$2:$E$1108,4,FALSE)+VLOOKUP($E8,'REGLE PRIORITE'!$Q$3:$R$28,2,FALSE)),VLOOKUP(D8,'STOCK IDEAL'!$B$2:$E$1108,4,FALSE)))) -> 3 | L8: =IF(F8>G8,"OK") -> FALSE | M8: =HLOOKUP('STOCK BRUT'!$C8,'REGLE PRIORITE'!$B$4:$G$7,2,FALSE) -> 1 | N8: =HLOOKUP('STOCK BRUT'!$C8,'REGLE PRIORITE'!$B$4:$G$7,3,FALSE) -> 3 | O8: =HLOOKUP('STOCK BRUT'!$C8,'REGLE PRIORITE'!$B$4:$G$7,4,FALSE) -> 2 | P8: =F8-G8 -> -1 | Q8: =H8-I8 -> -1 | R8: =J8-K8 -> -3 | S8: =P8+Q8+R8 -> -5
A9: 7 | B9: FB984POIVRE | C9: Porcelaine | D9: Théière carrée 1-2 pers unie | E9: POIVRE | F9: 1 | G9: =IF($C9="porcelaine",IF(ISERROR(VLOOKUP($D9,'STOCK IDEAL'!$B$2:$C$1080,2,FALSE)+VLOOKUP($E9,'REGLE PRIORITE'!$K$3:$L$14,2,FALSE)),VLOOKUP($D9,'STOCK IDEAL'!$B$2:$C$1080,2,FALSE),VLOOKUP($D9,'STOCK IDEAL'!$B$2:$C$1080,2,FALSE)+VLOOKUP($E9,'REGLE PRIORITE'!$K$3:$L$14,2,FALSE)),IF(C9="Bijoux l’atelier",IF(ISERROR(VLOOKUP(D9,'STOCK IDEAL'!$B$2:$C$1108,2,FALSE)+VLOOKUP(E9,'REGLE PRIORITE'!$N$3:$O$18,2,FALSE)),VLOOKUP(D9,'STOCK IDEAL'!$B$2:$C$1108,2,FALSE),VLOOKUP(D9,'STOCK IDEAL'!$B$2:$C$1108,2,FALSE)+VLOOKUP(E9,'REGLE PRIORITE'!$N$3:$O$18,2,FALSE)),IF($C9="Bijoux argent/plaqué or",IF(ISERROR(VLOOKUP(D9,'STOCK IDEAL'!$B$2:$C$1108,2,FALSE)+VLOOKUP($E9,'REGLE PRIORITE'!$Q$3:$R$28,2,FALSE)),VLOOKUP(D9,'STOCK IDEAL'!$B$2:$C$1108,2,FALSE),VLOOKUP(D9,'STOCK IDEAL'!$B$2:$C$1108,2,FALSE)+VLOOKUP($E9,'REGLE PRIORITE'!$Q$3:$R$28,2,FALSE)),VLOOKUP(D9,'STOCK IDEAL'!$B$2:$C$1108,2,FALSE)))) -> 2 | H9: 1 | I9: =IF($C9="porcelaine",IF(ISERROR(VLOOKUP($D9,'STOCK IDEAL'!$B$2:$E$1080,3,FALSE)+VLOOKUP($E9,'REGLE PRIORITE'!$K$3:$L$14,2,FALSE)),VLOOKUP($D9,'STOCK IDEAL'!$B$2:$E$1080,3,FALSE),VLOOKUP($D9,'STOCK IDEAL'!$B$2:$E$1080,3,FALSE)+VLOOKUP($E9,'REGLE PRIORITE'!$K$3:$L$14,2,FALSE)),IF(C9="Bijoux l’atelier",IF(ISERROR(VLOOKUP(D9,'STOCK IDEAL'!$B$2:$E$1108,3,FALSE)+VLOOKUP(E9,'REGLE PRIORITE'!$N$3:$O$18,2,FALSE)),VLOOKUP(D9,'STOCK IDEAL'!$B$2:$E$1108,3,FALSE),VLOOKUP(D9,'STOCK IDEAL'!$B$2:$E$1108,3,FALSE)+VLOOKUP(E9,'REGLE PRIORITE'!$N$3:$O$18,2,FALSE)),IF($C9="Bijoux argent/plaqué or",IF(ISERROR(VLOOKUP(D9,'STOCK IDEAL'!$B$2:$E$1108,3,FALSE)+VLOOKUP($E9,'REGLE PRIORITE'!$Q$3:$R$28,2,FALSE)),VLOOKUP(D9,'STOCK IDEAL'!$B$2:$E$1108,3,FALSE),VLOOKUP(D9,'STOCK IDEAL'!$B$2:$E$1108,3,FALSE)+VLOOKUP($E9,'REGLE PRIORITE'!$Q$3:$R$28,2,FALSE)),VLOOKUP(D9,'STOCK IDEAL'!$B$2:$E$1108,3,FALSE)))) -> 2 | J9: 0 | K9: =IF($C9="porcelaine",IF(ISERROR(VLOOKUP($D9,'STOCK IDEAL'!$B$2:$E$1080,4,FALSE)+VLOOKUP($E9,'REGLE PRIORITE'!$K$3:$L$14,2,FALSE)),VLOOKUP($D9,'STOCK IDEAL'!$B$2:$E$1080,4,FALSE),VLOOKUP($D9,'STOCK IDEAL'!$B$2:$E$1080,4,FALSE)+VLOOKUP($E9,'REGLE PRIORITE'!$K$3:$L$14,2,FALSE)),IF(C9="Bijoux l’atelier",IF(ISERROR(VLOOKUP(D9,'STOCK IDEAL'!$B$2:$E$1108,4,FALSE)+VLOOKUP(E9,'REGLE PRIORITE'!$N$3:$O$18,2,FALSE)),VLOOKUP(D9,'STOCK IDEAL'!$B$2:$E$1108,4,FALSE),VLOOKUP(D9,'STOCK IDEAL'!$B$2:$E$1108,4,FALSE)+VLOOKUP(E9,'REGLE PRIORITE'!$N$3:$O$18,2,FALSE)),IF($C9="Bijoux argent/plaqué or",IF(ISERROR(VLOOKUP(D9,'STOCK IDEAL'!$B$2:$E$1108,4,FALSE)+VLOOKUP($E9,'REGLE PRIORITE'!$Q$3:$R$28,2,FALSE)),VLOOKUP(D9,'STOCK IDEAL'!$B$2:$E$1108,4,FALSE),VLOOKUP(D9,'STOCK IDEAL'!$B$2:$E$1108,4,FALSE)+VLOOKUP($E9,'REGLE PRIORITE'!$Q$3:$R$28,2,FALSE)),VLOOKUP(D9,'STOCK IDEAL'!$B$2:$E$1108,4,FALSE)))) -> 4 | L9: =IF(F9>G9,"OK") -> FALSE | M9: =HLOOKUP('STOCK BRUT'!$C9,'REGLE PRIORITE'!$B$4:$G$7,2,FALSE) -> 1 | N9: =HLOOKUP('STOCK BRUT'!$C9,'REGLE PRIORITE'!$B$4:$G$7,3,FALSE) -> 3 | O9: =HLOOKUP('STOCK BRUT'!$C9,'REGLE PRIORITE'!$B$4:$G$7,4,FALSE) -> 2 | P9: =F9-G9 -> -1 | Q9: =H9-I9 -> -1 | R9: =J9-K9 -> -4 | S9: =P9+Q9+R9 -> -6
A10: 8 | B10: FB984ROSE | C10: Porcelaine | D10: Théière carrée 1-2 pers unie | E10: ROSE | F10: 1 | G10: =IF($C10="porcelaine",IF(ISERROR(VLOOKUP($D10,'STOCK IDEAL'!$B$2:$C$1080,2,FALSE)+VLOOKUP($E10,'REGLE PRIORITE'!$K$3:$L$14,2,FALSE)),VLOOKUP($D10,'STOCK IDEAL'!$B$2:$C$1080,2,FALSE),VLOOKUP($D10,'STOCK IDEAL'!$B$2:$C$1080,2,FALSE)+VLOOKUP($E10,'REGLE PRIORITE'!$K$3:$L$14,2,FALSE)),IF(C10="Bijoux l’atelier",IF(ISERROR(VLOOKUP(D10,'STOCK IDEAL'!$B$2:$C$1108,2,FALSE)+VLOOKUP(E10,'REGLE PRIORITE'!$N$3:$O$18,2,FALSE)),VLOOKUP(D10,'STOCK IDEAL'!$B$2:$C$1108,2,FALSE),VLOOKUP(D10,'STOCK IDEAL'!$B$2:$C$1108,2,FALSE)+VLOOKUP(E10,'REGLE PRIORITE'!$N$3:$O$18,2,FALSE)),IF($C10="Bijoux argent/plaqué or",IF(ISERROR(VLOOKUP(D10,'STOCK IDEAL'!$B$2:$C$1108,2,FALSE)+VLOOKUP($E10,'REGLE PRIORITE'!$Q$3:$R$28,2,FALSE)),VLOOKUP(D10,'STOCK IDEAL'!$B$2:$C$1108,2,FALSE),VLOOKUP(D10,'STOCK IDEAL'!$B$2:$C$1108,2,FALSE)+VLOOKUP($E10,'REGLE PRIORITE'!$Q$3:$R$28,2,FALSE)),VLOOKUP(D10,'STOCK IDEAL'!$B$2:$C$1108,2,FALSE)))) -> 1 | H10: 0 | I10: =IF($C10="porcelaine",IF(ISERROR(VLOOKUP($D10,'STOCK IDEAL'!$B$2:$E$1080,3,FALSE)+VLOOKUP($E10,'REGLE PRIORITE'!$K$3:$L$14,2,FALSE)),VLOOKUP($D10,'STOCK IDEAL'!$B$2:$E$1080,3,FALSE),VLOOKUP($D10,'STOCK IDEAL'!$B$2:$E$1080,3,FALSE)+VLOOKUP($E10,'REGLE PRIORITE'!$K$3:$L$14,2,FALSE)),IF(C10="Bijoux l’atelier",IF(ISERROR(VLOOKUP(D10,'STOCK IDEAL'!$B$2:$E$1108,3,FALSE)+VLOOKUP(E10,'REGLE PRIORITE'!$N$3:$O$18,2,FALSE)),VLOOKUP(D10,'STOCK IDEAL'!$B$2:$E$1108,3,FALSE),VLOOKUP(D10,'STOCK IDEAL'!$B$2:$E$1108,3,FALSE)+VLOOKUP(E10,'REGLE PRIORITE'!$N$3:$O$18,2,FALSE)),IF($C10="Bijoux argent/plaqué or",IF(ISERROR(VLOOKUP(D10,'STOCK IDEAL'!$B$2:$E$1108,3,FALSE)+VLOOKUP($E10,'REGLE PRIORITE'!$Q$3:$R$28,2,FALSE)),VLOOKUP(D10,'STOCK IDEAL'!$B$2:$E$1108,3,FALSE),VLOOKUP(D10,'STOCK IDEAL'!$B$2:$E$1108,3,FALSE)+VLOOKUP($E10,'REGLE PRIORITE'!$Q$3:$R$28,2,FALSE)),VLOOKUP(D10,'STOCK IDEAL'!$B$2:$E$1108,3,FALSE)))) -> 1 | J10: 0 | K10: =IF($C10="porcelaine",IF(ISERROR(VLOOKUP($D10,'STOCK IDEAL'!$B$2:$E$1080,4,FALSE)+VLOOKUP($E10,'REGLE PRIORITE'!$K$3:$L$14,2,FALSE)),VLOOKUP($D10,'STOCK IDEAL'!$B$2:$E$1080,4,FALSE),VLOOKUP($D10,'STOCK IDEAL'!$B$2:$E$1080,4,FALSE)+VLOOKUP($E10,'REGLE PRIORITE'!$K$3:$L$14,2,FALSE)),IF(C10="Bijoux l’atelier",IF(ISERROR(VLOOKUP(D10,'STOCK IDEAL'!$B$2:$E$1108,4,FALSE)+VLOOKUP(E10,'REGLE PRIORITE'!$N$3:$O$18,2,FALSE)),VLOOKUP(D10,'STOCK IDEAL'!$B$2:$E$1108,4,FALSE),VLOOKUP(D10,'STOCK IDEAL'!$B$2:$E$1108,4,FALSE)+VLOOKUP(E10,'REGLE PRIORITE'!$N$3:$O$18,2,FALSE)),IF($C10="Bijoux argent/plaqué or",IF(ISERROR(VLOOKUP(D10,'STOCK IDEAL'!$B$2:$E$1108,4,FALSE)+VLOOKUP($E10,'REGLE PRIORITE'!$Q$3:$R$28,2,FALSE)),VLOOKUP(D10,'STOCK IDEAL'!$B$2:$E$1108,4,FALSE),VLOOKUP(D10,'STOCK IDEAL'!$B$2:$E$1108,4,FALSE)+VLOOKUP($E10,'REGLE PRIORITE'!$Q$3:$R$28,2,FALSE)),VLOOKUP(D10,'STOCK IDEAL'!$B$2:$E$1108,4,FALSE)))) -> 3 | L10: =IF(F10>G10,"OK") -> FALSE | M10: =HLOOKUP('STOCK BRUT'!$C10,'REGLE PRIORITE'!$B$4:$G$7,2,FALSE) -> 1 | N10: =HLOOKUP('STOCK BRUT'!$C10,'REGLE PRIORITE'!$B$4:$G$7,3,FALSE) -> 3 | O10: =HLOOKUP('STOCK BRUT'!$C10,'REGLE PRIORITE'!$B$4:$G$7,4,FALSE) -> 2 | P10: =F10-G10 -> 0 | Q10: =H10-I10 -> -1 | R10: =J10-K10 -> -3 | S10: =P10+Q10+R10 -> -4
A11: 9 | B11: FB984ROUGE | C11: Porcelaine | D11: Théière carrée 1-2 pers unie | E11: ROUGE | F11: 0 | G11: =IF($C11="porcelaine",IF(ISERROR(VLOOKUP($D11,'STOCK IDEAL'!$B$2:$C$1080,2,FALSE)+VLOOKUP($E11,'REGLE PRIORITE'!$K$3:$L$14,2,FALSE)),VLOOKUP($D11,'STOCK IDEAL'!$B$2:$C$1080,2,FALSE),VLOOKUP($D11,'STOCK IDEAL'!$B$2:$C$1080,2,FALSE)+VLOOKUP($E11,'REGLE PRIORITE'!$K$3:$L$14,2,FALSE)),IF(C11="Bijoux l’atelier",IF(ISERROR(VLOOKUP(D11,'STOCK IDEAL'!$B$2:$C$1108,2,FALSE)+VLOOKUP(E11,'REGLE PRIORITE'!$N$3:$O$18,2,FALSE)),VLOOKUP(D11,'STOCK IDEAL'!$B$2:$C$1108,2,FALSE),VLOOKUP(D11,'STOCK IDEAL'!$B$2:$C$1108,2,FALSE)+VLOOKUP(E11,'REGLE PRIORITE'!$N$3:$O$18,2,FALSE)),IF($C11="Bijoux argent/plaqué or",IF(ISERROR(VLOOKUP(D11,'STOCK IDEAL'!$B$2:$C$1108,2,FALSE)+VLOOKUP($E11,'REGLE PRIORITE'!$Q$3:$R$28,2,FALSE)),VLOOKUP(D11,'STOCK IDEAL'!$B$2:$C$1108,2,FALSE),VLOOKUP(D11,'STOCK IDEAL'!$B$2:$C$1108,2,FALSE)+VLOOKUP($E11,'REGLE PRIORITE'!$Q$3:$R$28,2,FALSE)),VLOOKUP(D11,'STOCK IDEAL'!$B$2:$C$1108,2,FALSE)))) -> 1 | H11: 0 | I11: =IF($C11="porcelaine",IF(ISERROR(VLOOKUP($D11,'STOCK IDEAL'!$B$2:$E$1080,3,FALSE)+VLOOKUP($E11,'REGLE PRIORITE'!$K$3:$L$14,2,FALSE)),VLOOKUP($D11,'STOCK IDEAL'!$B$2:$E$1080,3,FALSE),VLOOKUP($D11,'STOCK IDEAL'!$B$2:$E$1080,3,FALSE)+VLOOKUP($E11,'REGLE PRIORITE'!$K$3:$L$14,2,FALSE)),IF(C11="Bijoux l’atelier",IF(ISERROR(VLOOKUP(D11,'STOCK IDEAL'!$B$2:$E$1108,3,FALSE)+VLOOKUP(E11,'REGLE PRIORITE'!$N$3:$O$18,2,FALSE)),VLOOKUP(D11,'STOCK IDEAL'!$B$2:$E$1108,3,FALSE),VLOOKUP(D11,'STOCK IDEAL'!$B$2:$E$1108,3,FALSE)+VLOOKUP(E11,'REGLE PRIORITE'!$N$3:$O$18,2,FALSE)),IF($C11="Bijoux argent/plaqué or",IF(ISERROR(VLOOKUP(D11,'STOCK IDEAL'!$B$2:$E$1108,3,FALSE)+VLOOKUP($E11,'REGLE PRIORITE'!$Q$3:$R$28,2,FALSE)),VLOOKUP(D11,'STOCK IDEAL'!$B$2:$E$1108,3,FALSE),VLOOKUP(D11,'STOCK IDEAL'!$B$2:$E$1108,3,FALSE)+VLOOKUP($E11,'REGLE PRIORITE'!$Q$3:$R$28,2,FALSE)),VLOOKUP(D11,'STOCK IDEAL'!$B$2:$E$1108,3,FALSE)))) -> 1 | J11: 0 | K11: =IF($C11="porcelaine",IF(ISERROR(VLOOKUP($D11,'STOCK IDEAL'!$B$2:$E$1080,4,FALSE)+VLOOKUP($E11,'REGLE PRIORITE'!$K$3:$L$14,2,FALSE)),VLOOKUP($D11,'STOCK IDEAL'!$B$2:$E$1080,4,FALSE),VLOOKUP($D11,'STOCK IDEAL'!$B$2:$E$1080,4,FALSE)+VLOOKUP($E11,'REGLE PRIORITE'!$K$3:$L$14,2,FALSE)),IF(C11="Bijoux l’atelier",IF(ISERROR(VLOOKUP(D11,'STOCK IDEAL'!$B$2:$E$1108,4,FALSE)+VLOOKUP(E11,'REGLE PRIORITE'!$N$3:$O$18,2,FALSE)),VLOOKUP(D11,'STOCK IDEAL'!$B$2:$E$1108,4,FALSE),VLOOKUP(D11,'STOCK IDEAL'!$B$2:$E$1108,4,FALSE)+VLOOKUP(E11,'REGLE PRIORITE'!$N$3:$O$18,2,FALSE)),IF($C11="Bijoux argent/plaqué or",IF(ISERROR(VLOOKUP(D11,'STOCK IDEAL'!$B$2:$E$1108,4,FALSE)+VLOOKUP($E11,'REGLE PRIORITE'!$Q$3:$R$28,2,FALSE)),VLOOKUP(D11,'STOCK IDEAL'!$B$2:$E$1108,4,FALSE),VLOOKUP(D11,'STOCK IDEAL'!$B$2:$E$1108,4,FALSE)+VLOOKUP($E11,'REGLE PRIORITE'!$Q$3:$R$28,2,FALSE)),VLOOKUP(D11,'STOCK IDEAL'!$B$2:$E$1108,4,FALSE)))) -> 3 | L11: =IF(F11>G11,"OK") -> FALSE | M11: =HLOOKUP('STOCK BRUT'!$C11,'REGLE PRIORITE'!$B$4:$G$7,2,FALSE) -> 1 | N11: =HLOOKUP('STOCK BRUT'!$C11,'REGLE PRIORITE'!$B$4:$G$7,3,FALSE) -> 3 | O11: =HLOOKUP('STOCK BRUT'!$C11,'REGLE PRIORITE'!$B$4:$G$7,4,FALSE) -> 2 | P11: =F11-G11 -> -1 | Q11: =H11-I11 -> -1 | R11: =J11-K11 -> -3 | S11: =P11+Q11+R11 -> -5
A12: 10 | B12: FB984TAUPE | C12: Porcelaine | D12: Théière carrée 1-2 pers unie | E12: TAUPE | F12: 1 | G12: =IF($C12="porcelaine",IF(ISERROR(VLOOKUP($D12,'STOCK IDEAL'!$B$2:$C$1080,2,FALSE)+VLOOKUP($E12,'REGLE PRIORITE'!$K$3:$L$14,2,FALSE)),VLOOKUP($D12,'STOCK IDEAL'!$B$2:$C$1080,2,FALSE),VLOOKUP($D12,'STOCK IDEAL'!$B$2:$C$1080,2,FALSE)+VLOOKUP($E12,'REGLE PRIORITE'!$K$3:$L$14,2,FALSE)),IF(C12="Bijoux l’atelier",IF(ISERROR(VLOOKUP(D12,'STOCK IDEAL'!$B$2:$C$1108,2,FALSE)+VLOOKUP(E12,'REGLE PRIORITE'!$N$3:$O$18,2,FALSE)),VLOOKUP(D12,'STOCK IDEAL'!$B$2:$C$1108,2,FALSE),VLOOKUP(D12,'STOCK IDEAL'!$B$2:$C$1108,2,FALSE)+VLOOKUP(E12,'REGLE PRIORITE'!$N$3:$O$18,2,FALSE)),IF($C12="Bijoux argent/plaqué or",IF(ISERROR(VLOOKUP(D12,'STOCK IDEAL'!$B$2:$C$1108,2,FALSE)+VLOOKUP($E12,'REGLE PRIORITE'!$Q$3:$R$28,2,FALSE)),VLOOKUP(D12,'STOCK IDEAL'!$B$2:$C$1108,2,FALSE),VLOOKUP(D12,'STOCK IDEAL'!$B$2:$C$1108,2,FALSE)+VLOOKUP($E12,'REGLE PRIORITE'!$Q$3:$R$28,2,FALSE)),VLOOKUP(D12,'STOCK IDEAL'!$B$2:$C$1108,2,FALSE)))) -> 2 | H12: 1 | I12: =IF($C12="porcelaine",IF(ISERROR(VLOOKUP($D12,'STOCK IDEAL'!$B$2:$E$1080,3,FALSE)+VLOOKUP($E12,'REGLE PRIORITE'!$K$3:$L$14,2,FALSE)),VLOOKUP($D12,'STOCK IDEAL'!$B$2:$E$1080,3,FALSE),VLOOKUP($D12,'STOCK IDEAL'!$B$2:$E$1080,3,FALSE)+VLOOKUP($E12,'REGLE PRIORITE'!$K$3:$L$14,2,FALSE)),IF(C12="Bijoux l’atelier",IF(ISERROR(VLOOKUP(D12,'STOCK IDEAL'!$B$2:$E$1108,3,FALSE)+VLOOKUP(E12,'REGLE PRIORITE'!$N$3:$O$18,2,FALSE)),VLOOKUP(D12,'STOCK IDEAL'!$B$2:$E$1108,3,FALSE),VLOOKUP(D12,'STOCK IDEAL'!$B$2:$E$1108,3,FALSE)+VLOOKUP(E12,'REGLE PRIORITE'!$N$3:$O$18,2,FALSE)),IF($C12="Bijoux argent/plaqué or",IF(ISERROR(VLOOKUP(D12,'STOCK IDEAL'!$B$2:$E$1108,3,FALSE)+VLOOKUP($E12,'REGLE PRIORITE'!$Q$3:$R$28,2,FALSE)),VLOOKUP(D12,'STOCK IDEAL'!$B$2:$E$1108,3,FALSE),VLOOKUP(D12,'STOCK IDEAL'!$B$2:$E$1108,3,FALSE)+VLOOKUP($E12,'REGLE PRIORITE'!$Q$3:$R$28,2,FALSE)),VLOOKUP(D12,'STOCK IDEAL'!$B$2:$E$1108,3,FALSE)))) -> 2 | J12: 1 | K12: =IF($C12="porcelaine",IF(ISERROR(VLOOKUP($D12,'STOCK IDEAL'!$B$2:$E$1080,4,FALSE)+VLOOKUP($E12,'REGLE PRIORITE'!$K$3:$L$14,2,FALSE)),VLOOKUP($D12,'STOCK IDEAL'!$B$2:$E$1080,4,FALSE),VLOOKUP($D12,'STOCK IDEAL'!$B$2:$E$1080,4,FALSE)+VLOOKUP($E12,'REGLE PRIORITE'!$K$3:$L$14,2,FALSE)),IF(C12="Bijoux l’atelier",IF(ISERROR(VLOOKUP(D12,'STOCK IDEAL'!$B$2:$E$1108,4,FALSE)+VLOOKUP(E12,'REGLE PRIORITE'!$N$3:$O$18,2,FALSE)),VLOOKUP(D12,'STOCK IDEAL'!$B$2:$E$1108,4,FALSE),VLOOKUP(D12,'STOCK IDEAL'!$B$2:$E$1108,4,FALSE)+VLOOKUP(E12,'REGLE PRIORITE'!$N$3:$O$18,2,FALSE)),IF($C12="Bijoux argent/plaqué or",IF(ISERROR(VLOOKUP(D12,'STOCK IDEAL'!$B$2:$E$1108,4,FALSE)+VLOOKUP($E12,'REGLE PRIORITE'!$Q$3:$R$28,2,FALSE)),VLOOKUP(D12,'STOCK IDEAL'!$B$2:$E$1108,4,FALSE),VLOOKUP(D12,'STOCK IDEAL'!$B$2:$E$1108,4,FALSE)+VLOOKUP($E12,'REGLE PRIORITE'!$Q$3:$R$28,2,FALSE)),VLOOKUP(D12,'STOCK IDEAL'!$B$2:$E$1108,4,FALSE)))) -> 4 | L12: =IF(F12>G12,"OK") -> FALSE | M12: =HLOOKUP('STOCK BRUT'!$C12,'REGLE PRIORITE'!$B$4:$G$7,2,FALSE) -> 1 | N12: =HLOOKUP('STOCK BRUT'!$C12,'REGLE PRIORITE'!$B$4:$G$7,3,FALSE) -> 3 | O12: =HLOOKUP('STOCK BRUT'!$C12,'REGLE PRIORITE'!$B$4:$G$7,4,FALSE) -> 2 | P12: =F12-G12 -> -1 | Q12: =H12-I12 -> -1 | R12: =J12-K12 -> -3 | S12: =P12+Q12+R12 -> -5
A13: 11 | B13: FB984TURQ | C13: Porcelaine | D13: Théière carrée 1-2 pers unie | E13: TURQUOISE | F13: 1 | G13: =IF($C13="porcelaine",IF(ISERROR(VLOOKUP($D13,'STOCK IDEAL'!$B$2:$C$1080,2,FALSE)+VLOOKUP($E13,'REGLE PRIORITE'!$K$3:$L$14,2,FALSE)),VLOOKUP($D13,'STOCK IDEAL'!$B$2:$C$1080,2,FALSE),VLOOKUP($D13,'STOCK IDEAL'!$B$2:$C$1080,2,FALSE)+VLOOKUP($E13,'REGLE PRIORITE'!$K$3:$L$14,2,FALSE)),IF(C13="Bijoux l’atelier",IF(ISERROR(VLOOKUP(D13,'STOCK IDEAL'!$B$2:$C$1108,2,FALSE)+VLOOKUP(E13,'REGLE PRIORITE'!$N$3:$O$18,2,FALSE)),VLOOKUP(D13,'STOCK IDEAL'!$B$2:$C$1108,2,FALSE),VLOOKUP(D13,'STOCK IDEAL'!$B$2:$C$1108,2,FALSE)+VLOOKUP(E13,'REGLE PRIORITE'!$N$3:$O$18,2,FALSE)),IF($C13="Bijoux argent/plaqué or",IF(ISERROR(VLOOKUP(D13,'STOCK IDEAL'!$B$2:$C$1108,2,FALSE)+VLOOKUP($E13,'REGLE PRIORITE'!$Q$3:$R$28,2,FALSE)),VLOOKUP(D13,'STOCK IDEAL'!$B$2:$C$1108,2,FALSE),VLOOKUP(D13,'STOCK IDEAL'!$B$2:$C$1108,2,FALSE)+VLOOKUP($E13,'REGLE PRIORITE'!$Q$3:$R$28,2,FALSE)),VLOOKUP(D13,'STOCK IDEAL'!$B$2:$C$1108,2,FALSE)))) -> 1 | H13: 1 | I13: =IF($C13="porcelaine",IF(ISERROR(VLOOKUP($D13,'STOCK IDEAL'!$B$2:$E$1080,3,FALSE)+VLOOKUP($E13,'REGLE PRIORITE'!$K$3:$L$14,2,FALSE)),VLOOKUP($D13,'STOCK IDEAL'!$B$2:$E$1080,3,FALSE),VLOOKUP($D13,'STOCK IDEAL'!$B$2:$E$1080,3,FALSE)+VLOOKUP($E13,'REGLE PRIORITE'!$K$3:$L$14,2,FALSE)),IF(C13="Bijoux l’atelier",IF(ISERROR(VLOOKUP(D13,'STOCK IDEAL'!$B$2:$E$1108,3,FALSE)+VLOOKUP(E13,'REGLE PRIORITE'!$N$3:$O$18,2,FALSE)),VLOOKUP(D13,'STOCK IDEAL'!$B$2:$E$1108,3,FALSE),VLOOKUP(D13,'STOCK IDEAL'!$B$2:$E$1108,3,FALSE)+VLOOKUP(E13,'REGLE PRIORITE'!$N$3:$O$18,2,FALSE)),IF($C13="Bijoux argent/plaqué or",IF(ISERROR(VLOOKUP(D13,'STOCK IDEAL'!$B$2:$E$1108,3,FALSE)+VLOOKUP($E13,'REGLE PRIORITE'!$Q$3:$R$28,2,FALSE)),VLOOKUP(D13,'STOCK IDEAL'!$B$2:$E$1108,3,FALSE),VLOOKUP(D13,'STOCK IDEAL'!$B$2:$E$1108,3,FALSE)+VLOOKUP($E13,'REGLE PRIORITE'!$Q$3:$R$28,2,FALSE)),VLOOKUP(D13,'STOCK IDEAL'!$B$2:$E$1108,3,FALSE)))) -> 1 | J13: 0 | K13: =IF($C13="porcelaine",IF(ISERROR(VLOOKUP($D13,'STOCK IDEAL'!$B$2:$E$1080,4,FALSE)+VLOOKUP($E13,'REGLE PRIORITE'!$K$3:$L$14,2,FALSE)),VLOOKUP($D13,'STOCK IDEAL'!$B$2:$E$1080,4,FALSE),VLOOKUP($D13,'STOCK IDEAL'!$B$2:$E$1080,4,FALSE)+VLOOKUP($E13,'REGLE PRIORITE'!$K$3:$L$14,2,FALSE)),IF(C13="Bijoux l’atelier",IF(ISERROR(VLOOKUP(D13,'STOCK IDEAL'!$B$2:$E$1108,4,FALSE)+VLOOKUP(E13,'REGLE PRIORITE'!$N$3:$O$18,2,FALSE)),VLOOKUP(D13,'STOCK IDEAL'!$B$2:$E$1108,4,FALSE),VLOOKUP(D13,'STOCK IDEAL'!$B$2:$E$1108,4,FALSE)+VLOOKUP(E13,'REGLE PRIORITE'!$N$3:$O$18,2,FALSE)),IF($C13="Bijoux argent/plaqué or",IF(ISERROR(VLOOKUP(D13,'STOCK IDEAL'!$B$2:$E$1108,4,FALSE)+VLOOKUP($E13,'REGLE PRIORITE'!$Q$3:$R$28,2,FALSE)),VLOOKUP(D13,'STOCK IDEAL'!$B$2:$E$1108,4,FALSE),VLOOKUP(D13,'STOCK IDEAL'!$B$2:$E$1108,4,FALSE)+VLOOKUP($E13,'REGLE PRIORITE'!$Q$3:$R$28,2,FALSE)),VLOOKUP(D13,'STOCK IDEAL'!$B$2:$E$1108,4,FALSE)))) -> 3 | L13: =IF(F13>G13,"OK") -> FALSE | M13: =HLOOKUP('STOCK BRUT'!$C13,'REGLE PRIORITE'!$B$4:$G$7,2,FALSE) -> 1 | N13: =HLOOKUP('STOCK BRUT'!$C13,'REGLE PRIORITE'!$B$4:$G$7,3,FALSE) -> 3 | O13: =HLOOKUP('STOCK BRUT'!$C13,'REGLE PRIORITE'!$B$4:$G$7,4,FALSE) -> 2 | P13: =F13-G13 -> 0 | Q13: =H13-I13 -> 0 | R13: =J13-K13 -> -3 | S13: =P13+Q13+R13 -> -3
A14: 12 | B14: FB984VIOLET | C14: Porcelaine | D14: Théière carrée 1-2 pers unie | E14: VIOLET | F14: 0 | G14: =IF($C14="porcelaine",IF(ISERROR(VLOOKUP($D14,'STOCK IDEAL'!$B$2:$C$1080,2,FALSE)+VLOOKUP($E14,'REGLE PRIORITE'!$K$3:$L$14,2,FALSE)),VLOOKUP($D14,'STOCK IDEAL'!$B$2:$C$1080,2,FALSE),VLOOKUP($D14,'STOCK IDEAL'!$B$2:$C$1080,2,FALSE)+VLOOKUP($E14,'REGLE PRIORITE'!$K$3:$L$14,2,FALSE)),IF(C14="Bijoux l’atelier",IF(ISERROR(VLOOKUP(D14,'STOCK IDEAL'!$B$2:$C$1108,2,FALSE)+VLOOKUP(E14,'REGLE PRIORITE'!$N$3:$O$18,2,FALSE)),VLOOKUP(D14,'STOCK IDEAL'!$B$2:$C$1108,2,FALSE),VLOOKUP(D14,'STOCK IDEAL'!$B$2:$C$1108,2,FALSE)+VLOOKUP(E14,'REGLE PRIORITE'!$N$3:$O$18,2,FALSE)),IF($C14="Bijoux argent/plaqué or",IF(ISERROR(VLOOKUP(D14,'STOCK IDEAL'!$B$2:$C$1108,2,FALSE)+VLOOKUP($E14,'REGLE PRIORITE'!$Q$3:$R$28,2,FALSE)),VLOOKUP(D14,'STOCK IDEAL'!$B$2:$C$1108,2,FALSE),VLOOKUP(D14,'STOCK IDEAL'!$B$2:$C$1108,2,FALSE)+VLOOKUP($E14,'REGLE PRIORITE'!$Q$3:$R$28,2,FALSE)),VLOOKUP(D14,'STOCK IDEAL'!$B$2:$C$1108,2,FALSE)))) -> 1 | H14: 0 | I14: =IF($C14="porcelaine",IF(ISERROR(VLOOKUP($D14,'STOCK IDEAL'!$B$2:$E$1080,3,FALSE)+VLOOKUP($E14,'REGLE PRIORITE'!$K$3:$L$14,2,FALSE)),VLOOKUP($D14,'STOCK IDEAL'!$B$2:$E$1080,3,FALSE),VLOOKUP($D14,'STOCK IDEAL'!$B$2:$E$1080,3,FALSE)+VLOOKUP($E14,'REGLE PRIORITE'!$K$3:$L$14,2,FALSE)),IF(C14="Bijoux l’atelier",IF(ISERROR(VLOOKUP(D14,'STOCK IDEAL'!$B$2:$E$1108,3,FALSE)+VLOOKUP(E14,'REGLE PRIORITE'!$N$3:$O$18,2,FALSE)),VLOOKUP(D14,'STOCK IDEAL'!$B$2:$E$1108,3,FALSE),VLOOKUP(D14,'STOCK IDEAL'!$B$2:$E$1108,3,FALSE)+VLOOKUP(E14,'REGLE PRIORITE'!$N$3:$O$18,2,FALSE)),IF($C14="Bijoux argent/plaqué or",IF(ISERROR(VLOOKUP(D14,'STOCK IDEAL'!$B$2:$E$1108,3,FALSE)+VLOOKUP($E14,'REGLE PRIORITE'!$Q$3:$R$28,2,FALSE)),VLOOKUP(D14,'STOCK IDEAL'!$B$2:$E$1108,3,FALSE),VLOOKUP(D14,'STOCK IDEAL'!$B$2:$E$1108,3,FALSE)+VLOOKUP($E14,'REGLE PRIORITE'!$Q$3:$R$28,2,FALSE)),VLOOKUP(D14,'STOCK IDEAL'!$B$2:$E$1108,3,FALSE)))) -> 1 | J14: 0 | K14: =IF($C14="porcelaine",IF(ISERROR(VLOOKUP($D14,'STOCK IDEAL'!$B$2:$E$1080,4,FALSE)+VLOOKUP($E14,'REGLE PRIORITE'!$K$3:$L$14,2,FALSE)),VLOOKUP($D14,'STOCK IDEAL'!$B$2:$E$1080,4,FALSE),VLOOKUP($D14,'STOCK IDEAL'!$B$2:$E$1080,4,FALSE)+VLOOKUP($E14,'REGLE PRIORITE'!$K$3:$L$14,2,FALSE)),IF(C14="Bijoux l’atelier",IF(ISERROR(VLOOKUP(D14,'STOCK IDEAL'!$B$2:$E$1108,4,FALSE)+VLOOKUP(E14,'REGLE PRIORITE'!$N$3:$O$18,2,FALSE)),VLOOKUP(D14,'STOCK IDEAL'!$B$2:$E$1108,4,FALSE),VLOOKUP(D14,'STOCK IDEAL'!$B$2:$E$1108,4,FALSE)+VLOOKUP(E14,'REGLE PRIORITE'!$N$3:$O$18,2,FALSE)),IF($C14="Bijoux argent/plaqué or",IF(ISERROR(VLOOKUP(D14,'STOCK IDEAL'!$B$2:$E$1108,4,FALSE)+VLOOKUP($E14,'REGLE PRIORITE'!$Q$3:$R$28,2,FALSE)),VLOOKUP(D14,'STOCK IDEAL'!$B$2:$E$1108,4,FALSE),VLOOKUP(D14,'STOCK IDEAL'!$B$2:$E$1108,4,FALSE)+VLOOKUP($E14,'REGLE PRIORITE'!$Q$3:$R$28,2,FALSE)),VLOOKUP(D14,'STOCK IDEAL'!$B$2:$E$1108,4,FALSE)))) -> 3 | L14: =IF(F14>G14,"OK") -> FALSE | M14: =HLOOKUP('STOCK BRUT'!$C14,'REGLE PRIORITE'!$B$4:$G$7,2,FALSE) -> 1 | N14: =HLOOKUP('STOCK BRUT'!$C14,'REGLE PRIORITE'!$B$4:$G$7,3,FALSE) -> 3 | O14: =HLOOKUP('STOCK BRUT'!$C14,'REGLE PRIORITE'!$B$4:$G$7,4,FALSE) -> 2 | P14: =F14-G14 -> -1 | Q14: =H14-I14 -> -1 | R14: =J14-K14 -> -3 | S14: =P14+Q14+R14 -> -5
A15: 13 | B15: FB983ANIS | C15: Porcelaine | D15: Théière carrée 2-4 pers unie | E15: ANIS | F15: 0 | G15: =IF($C15="porcelaine",IF(ISERROR(VLOOKUP($D15,'STOCK IDEAL'!$B$2:$C$1080,2,FALSE)+VLOOKUP($E15,'REGLE PRIORITE'!$K$3:$L$14,2,FALSE)),VLOOKUP($D15,'STOCK IDEAL'!$B$2:$C$1080,2,FALSE),VLOOKUP($D15,'STOCK IDEAL'!$B$2:$C$1080,2,FALSE)+VLOOKUP($E15,'REGLE PRIORITE'!$K$3:$L$14,2,FALSE)),IF(C15="Bijoux l’atelier",IF(ISERROR(VLOOKUP(D15,'STOCK IDEAL'!$B$2:$C$1108,2,FALSE)+VLOOKUP(E15,'REGLE PRIORITE'!$N$3:$O$18,2,FALSE)),VLOOKUP(D15,'STOCK IDEAL'!$B$2:$C$1108,2,FALSE),VLOOKUP(D15,'STOCK IDEAL'!$B$2:$C$1108,2,FALSE)+VLOOKUP(E15,'REGLE PRIORITE'!$N$3:$O$18,2,FALSE)),IF($C15="Bijoux argent/plaqué or",IF(ISERROR(VLOOKUP(D15,'STOCK IDEAL'!$B$2:$C$1108,2,FALSE)+VLOOKUP($E15,'REGLE PRIORITE'!$Q$3:$R$28,2,FALSE)),VLOOKUP(D15,'STOCK IDEAL'!$B$2:$C$1108,2,FALSE),VLOOKUP(D15,'STOCK IDEAL'!$B$2:$C$1108,2,FALSE)+VLOOKUP($E15,'REGLE PRIORITE'!$Q$3:$R$28,2,FALSE)),VLOOKUP(D15,'STOCK IDEAL'!$B$2:$C$1108,2,FALSE)))) -> 1 | H15: 0 | I15: =IF($C15="porcelaine",IF(ISERROR(VLOOKUP($D15,'STOCK IDEAL'!$B$2:$E$1080,3,FALSE)+VLOOKUP($E15,'REGLE PRIORITE'!$K$3:$L$14,2,FALSE)),VLOOKUP($D15,'STOCK IDEAL'!$B$2:$E$1080,3,FALSE),VLOOKUP($D15,'STOCK IDEAL'!$B$2:$E$1080,3,FALSE)+VLOOKUP($E15,'REGLE PRIORITE'!$K$3:$L$14,2,FALSE)),IF(C15="Bijoux l’atelier",IF(ISERROR(VLOOKUP(D15,'STOCK IDEAL'!$B$2:$E$1108,3,FALSE)+VLOOKUP(E15,'REGLE PRIORITE'!$N$3:$O$18,2,FALSE)),VLOOKUP(D15,'STOCK IDEAL'!$B$2:$E$1108,3,FALSE),VLOOKUP(D15,'STOCK IDEAL'!$B$2:$E$1108,3,FALSE)+VLOOKUP(E15,'REGLE PRIORITE'!$N$3:$O$18,2,FALSE)),IF($C15="Bijoux argent/plaqué or",IF(ISERROR(VLOOKUP(D15,'STOCK IDEAL'!$B$2:$E$1108,3,FALSE)+VLOOKUP($E15,'REGLE PRIORITE'!$Q$3:$R$28,2,FALSE)),VLOOKUP(D15,'STOCK IDEAL'!$B$2:$E$1108,3,FALSE),VLOOKUP(D15,'STOCK IDEAL'!$B$2:$E$1108,3,FALSE)+VLOOKUP($E15,'REGLE PRIORITE'!$Q$3:$R$28,2,FALSE)),VLOOKUP(D15,'STOCK IDEAL'!$B$2:$E$1108,3,FALSE)))) -> 1 | J15: 0 | K15: =IF($C15="porcelaine",IF(ISERROR(VLOOKUP($D15,'STOCK IDEAL'!$B$2:$E$1080,4,FALSE)+VLOOKUP($E15,'REGLE PRIORITE'!$K$3:$L$14,2,FALSE)),VLOOKUP($D15,'STOCK IDEAL'!$B$2:$E$1080,4,FALSE),VLOOKUP($D15,'STOCK IDEAL'!$B$2:$E$1080,4,FALSE)+VLOOKUP($E15,'REGLE PRIORITE'!$K$3:$L$14,2,FALSE)),IF(C15="Bijoux l’atelier",IF(ISERROR(VLOOKUP(D15,'STOCK IDEAL'!$B$2:$E$1108,4,FALSE)+VLOOKUP(E15,'REGLE PRIORITE'!$N$3:$O$18,2,FALSE)),VLOOKUP(D15,'STOCK IDEAL'!$B$2:$E$1108,4,FALSE),VLOOKUP(D15,'STOCK IDEAL'!$B$2:$E$1108,4,FALSE)+VLOOKUP(E15,'REGLE PRIORITE'!$N$3:$O$18,2,FALSE)),IF($C15="Bijoux argent/plaqué or",IF(ISERROR(VLOOKUP(D15,'STOCK IDEAL'!$B$2:$E$1108,4,FALSE)+VLOOKUP($E15,'REGLE PRIORITE'!$Q$3:$R$28,2,FALSE)),VLOOKUP(D15,'STOCK IDEAL'!$B$2:$E$1108,4,FALSE),VLOOKUP(D15,'STOCK IDEAL'!$B$2:$E$1108,4,FALSE)+VLOOKUP($E15,'REGLE PRIORITE'!$Q$3:$R$28,2,FALSE)),VLOOKUP(D15,'STOCK IDEAL'!$B$2:$E$1108,4,FALSE)))) -> 3 | L15: =IF(F15>G15,"OK") -> FALSE | M15: =HLOOKUP('STOCK BRUT'!$C15,'REGLE PRIORITE'!$B$4:$G$7,2,FALSE) -> 1 | N15: =HLOOKUP('STOCK BRUT'!$C15,'REGLE PRIORITE'!$B$4:$G$7,3,FALSE) -> 3 | O15: =HLOOKUP('STOCK BRUT'!$C15,'REGLE PRIORITE'!$B$4:$G$7,4,FALSE) -> 2 | P15: =F15-G15 -> -1 | Q15: =H15-I15 -> -1 | R15: =J15-K15 -> -3 | S15: =P15+Q15+R15 -> -5
A16: 14 | B16: FB983CORAIL | C16: Porcelaine | D16: Théière carrée 2-4 pers unie | E16: CORAIL | F16: 0 | G16: =IF($C16="porcelaine",IF(ISERROR(VLOOKUP($D16,'STOCK IDEAL'!$B$2:$C$1080,2,FALSE)+VLOOKUP($E16,'REGLE PRIORITE'!$K$3:$L$14,2,FALSE)),VLOOKUP($D16,'STOCK IDEAL'!$B$2:$C$1080,2,FALSE),VLOOKUP($D16,'STOCK IDEAL'!$B$2:$C$1080,2,FALSE)+VLOOKUP($E16,'REGLE PRIORITE'!$K$3:$L$14,2,FALSE)),IF(C16="Bijoux l’atelier",IF(ISERROR(VLOOKUP(D16,'STOCK IDEAL'!$B$2:$C$1108,2,FALSE)+VLOOKUP(E16,'REGLE PRIORITE'!$N$3:$O$18,2,FALSE)),VLOOKUP(D16,'STOCK IDEAL'!$B$2:$C$1108,2,FALSE),VLOOKUP(D16,'STOCK IDEAL'!$B$2:$C$1108,2,FALSE)+VLOOKUP(E16,'REGLE PRIORITE'!$N$3:$O$18,2,FALSE)),IF($C16="Bijoux argent/plaqué or",IF(ISERROR(VLOOKUP(D16,'STOCK IDEAL'!$B$2:$C$1108,2,FALSE)+VLOOKUP($E16,'REGLE PRIORITE'!$Q$3:$R$28,2,FALSE)),VLOOKUP(D16,'STOCK IDEAL'!$B$2:$C$1108,2,FALSE),VLOOKUP(D16,'STOCK IDEAL'!$B$2:$C$1108,2,FALSE)+VLOOKUP($E16,'REGLE PRIORITE'!$Q$3:$R$28,2,FALSE)),VLOOKUP(D16,'STOCK IDEAL'!$B$2:$C$1108,2,FALSE)))) -> 1 | H16: 0 | I16: =IF($C16="porcelaine",IF(ISERROR(VLOOKUP($D16,'STOCK IDEAL'!$B$2:$E$1080,3,FALSE)+VLOOKUP($E16,'REGLE PRIORITE'!$K$3:$L$14,2,FALSE)),VLOOKUP($D16,'STOCK IDEAL'!$B$2:$E$1080,3,FALSE),VLOOKUP($D16,'STOCK IDEAL'!$B$2:$E$1080,3,FALSE)+VLOOKUP($E16,'REGLE PRIORITE'!$K$3:$L$14,2,FALSE)),IF(C16="Bijoux l’atelier",IF(ISERROR(VLOOKUP(D16,'STOCK IDEAL'!$B$2:$E$1108,3,FALSE)+VLOOKUP(E16,'REGLE PRIORITE'!$N$3:$O$18,2,FALSE)),VLOOKUP(D16,'STOCK IDEAL'!$B$2:$E$1108,3,FALSE),VLOOKUP(D16,'STOCK IDEAL'!$B$2:$E$1108,3,FALSE)+VLOOKUP(E16,'REGLE PRIORITE'!$N$3:$O$18,2,FALSE)),IF($C16="Bijoux argent/plaqué or",IF(ISERROR(VLOOKUP(D16,'STOCK IDEAL'!$B$2:$E$1108,3,FALSE)+VLOOKUP($E16,'REGLE PRIORITE'!$Q$3:$R$28,2,FALSE)),VLOOKUP(D16,'STOCK IDEAL'!$B$2:$E$1108,3,FALSE),VLOOKUP(D16,'STOCK IDEAL'!$B$2:$E$1108,3,FALSE)+VLOOKUP($E16,'REGLE PRIORITE'!$Q$3:$R$28,2,FALSE)),VLOOKUP(D16,'STOCK IDEAL'!$B$2:$E$1108,3,FALSE)))) -> 1 | J16: 0 | K16: =IF($C16="porcelaine",IF(ISERROR(VLOOKUP($D16,'STOCK IDEAL'!$B$2:$E$1080,4,FALSE)+VLOOKUP($E16,'REGLE PRIORITE'!$K$3:$L$14,2,FALSE)),VLOOKUP($D16,'STOCK IDEAL'!$B$2:$E$1080,4,FALSE),VLOOKUP($D16,'STOCK IDEAL'!$B$2:$E$1080,4,FALSE)+VLOOKUP($E16,'REGLE PRIORITE'!$K$3:$L$14,2,FALSE)),IF(C16="Bijoux l’atelier",IF(ISERROR(VLOOKUP(D16,'STOCK IDEAL'!$B$2:$E$1108,4,FALSE)+VLOOKUP(E16,'REGLE PRIORITE'!$N$3:$O$18,2,FALSE)),VLOOKUP(D16,'STOCK IDEAL'!$B$2:$E$1108,4,FALSE),VLOOKUP(D16,'STOCK IDEAL'!$B$2:$E$1108,4,FALSE)+VLOOKUP(E16,'REGLE PRIORITE'!$N$3:$O$18,2,FALSE)),IF($C16="Bijoux argent/plaqué or",IF(ISERROR(VLOOKUP(D16,'STOCK IDEAL'!$B$2:$E$1108,4,FALSE)+VLOOKUP($E16,'REGLE PRIORITE'!$Q$3:$R$28,2,FALSE)),VLOOKUP(D16,'STOCK IDEAL'!$B$2:$E$1108,4,FALSE),VLOOKUP(D16,'STOCK IDEAL'!$B$2:$E$1108,4,FALSE)+VLOOKUP($E16,'REGLE PRIORITE'!$Q$3:$R$28,2,FALSE)),VLOOKUP(D16,'STOCK IDEAL'!$B$2:$E$1108,4,FALSE)))) -> 3 | L16: =IF(F16>G16,"OK") -> FALSE | M16: =HLOOKUP('STOCK BRUT'!$C16,'REGLE PRIORITE'!$B$4:$G$7,2,FALSE) -> 1 | N16: =HLOOKUP('STOCK BRUT'!$C16,'REGLE PRIORITE'!$B$4:$G$7,3,FALSE) -> 3 | O16: =HLOOKUP('STOCK BRUT'!$C16,'REGLE PRIORITE'!$B$4:$G$7,4,FALSE) -> 2 | P16: =F16-G16 -> -1 | Q16: =H16-I16 -> -1 | R16: =J16-K16 -> -3 | S16: =P16+Q16+R16 -> -5
A17: 15 | B17: FB983FRAMB | C17: Porcelaine | D17: Théière carrée 2-4 pers unie | E17: FRAMBOISE | F17: 1 | G17: =IF($C17="porcelaine",IF(ISERROR(VLOOKUP($D17,'STOCK IDEAL'!$B$2:$C$1080,2,FALSE)+VLOOKUP($E17,'REGLE PRIORITE'!$K$3:$L$14,2,FALSE)),VLOOKUP($D17,'STOCK IDEAL'!$B$2:$C$1080,2,FALSE),VLOOKUP($D17,'STOCK IDEAL'!$B$2:$C$1080,2,FALSE)+VLOOKUP($E17,'REGLE PRIORITE'!$K$3:$L$14,2,FALSE)),IF(C17="Bijoux l’atelier",IF(ISERROR(VLOOKUP(D17,'STOCK IDEAL'!$B$2:$C$1108,2,FALSE)+VLOOKUP(E17,'REGLE PRIORITE'!$N$3:$O$18,2,FALSE)),VLOOKUP(D17,'STOCK IDEAL'!$B$2:$C$1108,2,FALSE),VLOOKUP(D17,'STOCK IDEAL'!$B$2:$C$1108,2,FALSE)+VLOOKUP(E17,'REGLE PRIORITE'!$N$3:$O$18,2,FALSE)),IF($C17="Bijoux argent/plaqué or",IF(ISERROR(VLOOKUP(D17,'STOCK IDEAL'!$B$2:$C$1108,2,FALSE)+VLOOKUP($E17,'REGLE PRIORITE'!$Q$3:$R$28,2,FALSE)),VLOOKUP(D17,'STOCK IDEAL'!$B$2:$C$1108,2,FALSE),VLOOKUP(D17,'STOCK IDEAL'!$B$2:$C$1108,2,FALSE)+VLOOKUP($E17,'REGLE PRIORITE'!$Q$3:$R$28,2,FALSE)),VLOOKUP(D17,'STOCK IDEAL'!$B$2:$C$1108,2,FALSE)))) -> 1 | H17: 1 | I17: =IF($C17="porcelaine",IF(ISERROR(VLOOKUP($D17,'STOCK IDEAL'!$B$2:$E$1080,3,FALSE)+VLOOKUP($E17,'REGLE PRIORITE'!$K$3:$L$14,2,FALSE)),VLOOKUP($D17,'STOCK IDEAL'!$B$2:$E$1080,3,FALSE),VLOOKUP($D17,'STOCK IDEAL'!$B$2:$E$1080,3,FALSE)+VLOOKUP($E17,'REGLE PRIORITE'!$K$3:$L$14,2,FALSE)),IF(C17="Bijoux l’atelier",IF(ISERROR(VLOOKUP(D17,'STOCK IDEAL'!$B$2:$E$1108,3,FALSE)+VLOOKUP(E17,'REGLE PRIORITE'!$N$3:$O$18,2,FALSE)),VLOOKUP(D17,'STOCK IDEAL'!$B$2:$E$1108,3,FALSE),VLOOKUP(D17,'STOCK IDEAL'!$B$2:$E$1108,3,FALSE)+VLOOKUP(E17,'REGLE PRIORITE'!$N$3:$O$18,2,FALSE)),IF($C17="Bijoux argent/plaqué or",IF(ISERROR(VLOOKUP(D17,'STOCK IDEAL'!$B$2:$E$1108,3,FALSE)+VLOOKUP($E17,'REGLE PRIORITE'!$Q$3:$R$28,2,FALSE)),VLOOKUP(D17,'STOCK IDEAL'!$B$2:$E$1108,3,FALSE),VLOOKUP(D17,'STOCK IDEAL'!$B$2:$E$1108,3,FALSE)+VLOOKUP($E17,'REGLE PRIORITE'!$Q$3:$R$28,2,FALSE)),VLOOKUP(D17,'STOCK IDEAL'!$B$2:$E$1108,3,FALSE)))) -> 1 | J17: 1 | K17: =IF($C17="porcelaine",IF(ISERROR(VLOOKUP($D17,'STOCK IDEAL'!$B$2:$E$1080,4,FALSE)+VLOOKUP($E17,'REGLE PRIORITE'!$K$3:$L$14,2,FALSE)),VLOOKUP($D17,'STOCK IDEAL'!$B$2:$E$1080,4,FALSE),VLOOKUP($D17,'STOCK IDEAL'!$B$2:$E$1080,4,FALSE)+VLOOKUP($E17,'REGLE PRIORITE'!$K$3:$L$14,2,FALSE)),IF(C17="Bijoux l’atelier",IF(ISERROR(VLOOKUP(D17,'STOCK IDEAL'!$B$2:$E$1108,4,FALSE)+VLOOKUP(E17,'REGLE PRIORITE'!$N$3:$O$18,2,FALSE)),VLOOKUP(D17,'STOCK IDEAL'!$B$2:$E$1108,4,FALSE),VLOOKUP(D17,'STOCK IDEAL'!$B$2:$E$1108,4,FALSE)+VLOOKUP(E17,'REGLE PRIORITE'!$N$3:$O$18,2,FALSE)),IF($C17="Bijoux argent/plaqué or",IF(ISERROR(VLOOKUP(D17,'STOCK IDEAL'!$B$2:$E$1108,4,FALSE)+VLOOKUP($E17,'REGLE PRIORITE'!$Q$3:$R$28,2,FALSE)),VLOOKUP(D17,'STOCK IDEAL'!$B$2:$E$1108,4,FALSE),VLOOKUP(D17,'STOCK IDEAL'!$B$2:$E$1108,4,FALSE)+VLOOKUP($E17,'REGLE PRIORITE'!$Q$3:$R$28,2,FALSE)),VLOOKUP(D17,'STOCK IDEAL'!$B$2:$E$1108,4,FALSE)))) -> 3 | L17: =IF(F17>G17,"OK") -> FALSE | M17: =HLOOKUP('STOCK BRUT'!$C17,'REGLE PRIORITE'!$B$4:$G$7,2,FALSE) -> 1 | N17: =HLOOKUP('STOCK BRUT'!$C17,'REGLE PRIORITE'!$B$4:$G$7,3,FALSE) -> 3 | O17: =HLOOKUP('STOCK BRUT'!$C17,'REGLE PRIORITE'!$B$4:$G$7,4,FALSE) -> 2 | P17: =F17-G17 -> 0 | Q17: =H17-I17 -> 0 | R17: =J17-K17 -> -2 | S17: =P17+Q17+R17 -> -2
... A155: 153 | B155: P6821VIOLET | C155: Porcelaine | D155: Maxi déjeuner 70 cl | E155: VIOLET | F155: 0 | G155: =IF($C155="porcelaine",IF(ISERROR(VLOOKUP($D155,'STOCK IDEAL'!$B$2:$C$1080,2,FALSE)+VLOOKUP($E155,'REGLE PRIORITE'!$K$3:$L$14,2,FALSE)),VLOOKUP($D155,'STOCK IDEAL'!$B$2:$C$1080,2,FALSE),VLOOKUP($D155,'STOCK IDEAL'!$B$2:$C$1080,2,FALSE)+VLOOKUP($E155,'REGLE PRIORITE'!$K$3:$L$14,2,FALSE)),IF(C155="Bijoux l’atelier",IF(ISERROR(VLOOKUP(D155,'STOCK IDEAL'!$B$2:$C$1108,2,FALSE)+VLOOKUP(E155,'REGLE PRIORITE'!$N$3:$O$18,2,FALSE)),VLOOKUP(D155,'STOCK IDEAL'!$B$2:$C$1108,2,FALSE),VLOOKUP(D155,'STOCK IDEAL'!$B$2:$C$1108,2,FALSE)+VLOOKUP(E155,'REGLE PRIORITE'!$N$3:$O$18,2,FALSE)),IF($C155="Bijoux argent/plaqué or",IF(ISERROR(VLOOKUP(D155,'STOCK IDEAL'!$B$2:$C$1108,2,FALSE)+VLOOKUP($E155,'REGLE PRIORITE'!$Q$3:$R$28,2,FALSE)),VLOOKUP(D155,'STOCK IDEAL'!$B$2:$C$1108,2,FALSE),VLOOKUP(D155,'STOCK IDEAL'!$B$2:$C$1108,2,FALSE)+VLOOKUP($E155,'REGLE PRIORITE'!$Q$3:$R$28,2,FALSE)),VLOOKUP(D155,'STOCK IDEAL'!$B$2:$C$1108,2,FALSE)))) -> 2 | H155: 0 | I155: =IF($C155="porcelaine",IF(ISERROR(VLOOKUP($D155,'STOCK IDEAL'!$B$2:$E$1080,3,FALSE)+VLOOKUP($E155,'REGLE PRIORITE'!$K$3:$L$14,2,FALSE)),VLOOKUP($D155,'STOCK IDEAL'!$B$2:$E$1080,3,FALSE),VLOOKUP($D155,'STOCK IDEAL'!$B$2:$E$1080,3,FALSE)+VLOOKUP($E155,'REGLE PRIORITE'!$K$3:$L$14,2,FALSE)),IF(C155="Bijoux l’atelier",IF(ISERROR(VLOOKUP(D155,'STOCK IDEAL'!$B$2:$E$1108,3,FALSE)+VLOOKUP(E155,'REGLE PRIORITE'!$N$3:$O$18,2,FALSE)),VLOOKUP(D155,'STOCK IDEAL'!$B$2:$E$1108,3,FALSE),VLOOKUP(D155,'STOCK IDEAL'!$B$2:$E$1108,3,FALSE)+VLOOKUP(E155,'REGLE PRIORITE'!$N$3:$O$18,2,FALSE)),IF($C155="Bijoux argent/plaqué or",IF(ISERROR(VLOOKUP(D155,'STOCK IDEAL'!$B$2:$E$1108,3,FALSE)+VLOOKUP($E155,'REGLE PRIORITE'!$Q$3:$R$28,2,FALSE)),VLOOKUP(D155,'STOCK IDEAL'!$B$2:$E$1108,3,FALSE),VLOOKUP(D155,'STOCK IDEAL'!$B$2:$E$1108,3,FALSE)+VLOOKUP($E155,'REGLE PRIORITE'!$Q$3:$R$28,2,FALSE)),VLOOKUP(D155,'STOCK IDEAL'!$B$2:$E$1108,3,FALSE)))) -> 1 | J155: 0 | K155: =IF($C155="porcelaine",IF(ISERROR(VLOOKUP($D155,'STOCK IDEAL'!$B$2:$E$1080,4,FALSE)+VLOOKUP($E155,'REGLE PRIORITE'!$K$3:$L$14,2,FALSE)),VLOOKUP($D155,'STOCK IDEAL'!$B$2:$E$1080,4,FALSE),VLOOKUP($D155,'STOCK IDEAL'!$B$2:$E$1080,4,FALSE)+VLOOKUP($E155,'REGLE PRIORITE'!$K$3:$L$14,2,FALSE)),IF(C155="Bijoux l’atelier",IF(ISERROR(VLOOKUP(D155,'STOCK IDEAL'!$B$2:$E$1108,4,FALSE)+VLOOKUP(E155,'REGLE PRIORITE'!$N$3:$O$18,2,FALSE)),VLOOKUP(D155,'STOCK IDEAL'!$B$2:$E$1108,4,FALSE),VLOOKUP(D155,'STOCK IDEAL'!$B$2:$E$1108,4,FALSE)+VLOOKUP(E155,'REGLE PRIORITE'!$N$3:$O$18,2,FALSE)),IF($C155="Bijoux argent/plaqué or",IF(ISERROR(VLOOKUP(D155,'STOCK IDEAL'!$B$2:$E$1108,4,FALSE)+VLOOKUP($E155,'REGLE PRIORITE'!$Q$3:$R$28,2,FALSE)),VLOOKUP(D155,'STOCK IDEAL'!$B$2:$E$1108,4,FALSE),VLOOKUP(D155,'STOCK IDEAL'!$B$2:$E$1108,4,FALSE)+VLOOKUP($E155,'REGLE PRIORITE'!$Q$3:$R$28,2,FALSE)),VLOOKUP(D155,'STOCK IDEAL'!$B$2:$E$1108,4,FALSE)))) -> 3 | L155: =IF(F155>G155,"OK") -> FALSE | M155: =HLOOKUP('STOCK BRUT'!$C155,'REGLE PRIORITE'!$B$4:$G$7,2,FALSE) -> 1 | N155: =HLOOKUP('STOCK BRUT'!$C155,'REGLE PRIORITE'!$B$4:$G$7,3,FALSE) -> 3 | O155: =HLOOKUP('STOCK BRUT'!$C155,'REGLE PRIORITE'!$B$4:$G$7,4,FALSE) -> 2 | P155: =F155-G155 -> -2 | Q155: =H155-I155 -> -1 | R155: =J155-K155 -> -3 | S155: =P155+Q155+R155 -> -6
A156: 154 | B156: C9030 | C156: Oozoo | D156: Montre Oozoo C9030 | F156: 0 | G156: =IF($C156="porcelaine",IF(ISERROR(VLOOKUP($D156,'STOCK IDEAL'!$B$2:$C$1080,2,FALSE)+VLOOKUP($E156,'REGLE PRIORITE'!$K$3:$L$14,2,FALSE)),VLOOKUP($D156,'STOCK IDEAL'!$B$2:$C$1080,2,FALSE),VLOOKUP($D156,'STOCK IDEAL'!$B$2:$C$1080,2,FALSE)+VLOOKUP($E156,'REGLE PRIORITE'!$K$3:$L$14,2,FALSE)),IF(C156="Bijoux l’atelier",IF(ISERROR(VLOOKUP(D156,'STOCK IDEAL'!$B$2:$C$1108,2,FALSE)+VLOOKUP(E156,'REGLE PRIORITE'!$N$3:$O$18,2,FALSE)),VLOOKUP(D156,'STOCK IDEAL'!$B$2:$C$1108,2,FALSE),VLOOKUP(D156,'STOCK IDEAL'!$B$2:$C$1108,2,FALSE)+VLOOKUP(E156,'REGLE PRIORITE'!$N$3:$O$18,2,FALSE)),IF($C156="Bijoux argent/plaqué or",IF(ISERROR(VLOOKUP(D156,'STOCK IDEAL'!$B$2:$C$1108,2,FALSE)+VLOOKUP($E156,'REGLE PRIORITE'!$Q$3:$R$28,2,FALSE)),VLOOKUP(D156,'STOCK IDEAL'!$B$2:$C$1108,2,FALSE),VLOOKUP(D156,'STOCK IDEAL'!$B$2:$C$1108,2,FALSE)+VLOOKUP($E156,'REGLE PRIORITE'!$Q$3:$R$28,2,FALSE)),VLOOKUP(D156,'STOCK IDEAL'!$B$2:$C$1108,2,FALSE)))) -> 1 | H156: 0 | I156: =IF($C156="porcelaine",IF(ISERROR(VLOOKUP($D156,'STOCK IDEAL'!$B$2:$E$1080,3,FALSE)+VLOOKUP($E156,'REGLE PRIORITE'!$K$3:$L$14,2,FALSE)),VLOOKUP($D156,'STOCK IDEAL'!$B$2:$E$1080,3,FALSE),VLOOKUP($D156,'STOCK IDEAL'!$B$2:$E$1080,3,FALSE)+VLOOKUP($E156,'REGLE PRIORITE'!$K$3:$L$14,2,FALSE)),IF(C156="Bijoux l’atelier",IF(ISERROR(VLOOKUP(D156,'STOCK IDEAL'!$B$2:$E$1108,3,FALSE)+VLOOKUP(E156,'REGLE PRIORITE'!$N$3:$O$18,2,FALSE)),VLOOKUP(D156,'STOCK IDEAL'!$B$2:$E$1108,3,FALSE),VLOOKUP(D156,'STOCK IDEAL'!$B$2:$E$1108,3,FALSE)+VLOOKUP(E156,'REGLE PRIORITE'!$N$3:$O$18,2,FALSE)),IF($C156="Bijoux argent/plaqué or",IF(ISERROR(VLOOKUP(D156,'STOCK IDEAL'!$B$2:$E$1108,3,FALSE)+VLOOKUP($E156,'REGLE PRIORITE'!$Q$3:$R$28,2,FALSE)),VLOOKUP(D156,'STOCK IDEAL'!$B$2:$E$1108,3,FALSE),VLOOKUP(D156,'STOCK IDEAL'!$B$2:$E$1108,3,FALSE)+VLOOKUP($E156,'REGLE PRIORITE'!$Q$3:$R$28,2,FALSE)),VLOOKUP(D156,'STOCK IDEAL'!$B$2:$E$1108,3,FALSE)))) -> 1 | J156: 0 | K156: =IF($C156="porcelaine",IF(ISERROR(VLOOKUP($D156,'STOCK IDEAL'!$B$2:$E$1080,4,FALSE)+VLOOKUP($E156,'REGLE PRIORITE'!$K$3:$L$14,2,FALSE)),VLOOKUP($D156,'STOCK IDEAL'!$B$2:$E$1080,4,FALSE),VLOOKUP($D156,'STOCK IDEAL'!$B$2:$E$1080,4,FALSE)+VLOOKUP($E156,'REGLE PRIORITE'!$K$3:$L$14,2,FALSE)),IF(C156="Bijoux l’atelier",IF(ISERROR(VLOOKUP(D156,'STOCK IDEAL'!$B$2:$E$1108,4,FALSE)+VLOOKUP(E156,'REGLE PRIORITE'!$N$3:$O$18,2,FALSE)),VLOOKUP(D156,'STOCK IDEAL'!$B$2:$E$1108,4,FALSE),VLOOKUP(D156,'STOCK IDEAL'!$B$2:$E$1108,4,FALSE)+VLOOKUP(E156,'REGLE PRIORITE'!$N$3:$O$18,2,FALSE)),IF($C156="Bijoux argent/plaqué or",IF(ISERROR(VLOOKUP(D156,'STOCK IDEAL'!$B$2:$E$1108,4,FALSE)+VLOOKUP($E156,'REGLE PRIORITE'!$Q$3:$R$28,2,FALSE)),VLOOKUP(D156,'STOCK IDEAL'!$B$2:$E$1108,4,FALSE),VLOOKUP(D156,'STOCK IDEAL'!$B$2:$E$1108,4,FALSE)+VLOOKUP($E156,'REGLE PRIORITE'!$Q$3:$R$28,2,FALSE)),VLOOKUP(D156,'STOCK IDEAL'!$B$2:$E$1108,4,FALSE)))) -> 3 | L156: =IF(F156>G156,"OK") -> FALSE | M156: =HLOOKUP('STOCK BRUT'!$C156,'REGLE PRIORITE'!$B$4:$G$7,2,FALSE) -> 2 | N156: =HLOOKUP('STOCK BRUT'!$C156,'REGLE PRIORITE'!$B$4:$G$7,3,FALSE) -> 1 | O156: =HLOOKUP('STOCK BRUT'!$C156,'REGLE PRIORITE'!$B$4:$G$7,4,FALSE) -> 3 | P156: =F156-G156 -> -1 | Q156: =H156-I156 -> -1 | R156: =J156-K156 -> -3 | S156: =P156+Q156+R156 -> -5
A157: 155 | B157: 5346ANIS | C157: Porcelaine | D157: Coupelle entremets pm unie | E157: ANIS | F157: 3 | G157: =IF($C157="porcelaine",IF(ISERROR(VLOOKUP($D157,'STOCK IDEAL'!$B$2:$C$1080,2,FALSE)+VLOOKUP($E157,'REGLE PRIORITE'!$K$3:$L$14,2,FALSE)),VLOOKUP($D157,'STOCK IDEAL'!$B$2:$C$1080,2,FALSE),VLOOKUP($D157,'STOCK IDEAL'!$B$2:$C$1080,2,FALSE)+VLOOKUP($E157,'REGLE PRIORITE'!$K$3:$L$14,2,FALSE)),IF(C157="Bijoux l’atelier",IF(ISERROR(VLOOKUP(D157,'STOCK IDEAL'!$B$2:$C$1108,2,FALSE)+VLOOKUP(E157,'REGLE PRIORITE'!$N$3:$O$18,2,FALSE)),VLOOKUP(D157,'STOCK IDEAL'!$B$2:$C$1108,2,FALSE),VLOOKUP(D157,'STOCK IDEAL'!$B$2:$C$1108,2,FALSE)+VLOOKUP(E157,'REGLE PRIORITE'!$N$3:$O$18,2,FALSE)),IF($C157="Bijoux argent/plaqué or",IF(ISERROR(VLOOKUP(D157,'STOCK IDEAL'!$B$2:$C$1108,2,FALSE)+VLOOKUP($E157,'REGLE PRIORITE'!$Q$3:$R$28,2,FALSE)),VLOOKUP(D157,'STOCK IDEAL'!$B$2:$C$1108,2,FALSE),VLOOKUP(D157,'STOCK IDEAL'!$B$2:$C$1108,2,FALSE)+VLOOKUP($E157,'REGLE PRIORITE'!$Q$3:$R$28,2,FALSE)),VLOOKUP(D157,'STOCK IDEAL'!$B$2:$C$1108,2,FALSE)))) -> 3 | H157: 1 | I157: =IF($C157="porcelaine",IF(ISERROR(VLOOKUP($D157,'STOCK IDEAL'!$B$2:$E$1080,3,FALSE)+VLOOKUP($E157,'REGLE PRIORITE'!$K$3:$L$14,2,FALSE)),VLOOKUP($D157,'STOCK IDEAL'!$B$2:$E$1080,3,FALSE),VLOOKUP($D157,'STOCK IDEAL'!$B$2:$E$1080,3,FALSE)+VLOOKUP($E157,'REGLE PRIORITE'!$K$3:$L$14,2,FALSE)),IF(C157="Bijoux l’atelier",IF(ISERROR(VLOOKUP(D157,'STOCK IDEAL'!$B$2:$E$1108,3,FALSE)+VLOOKUP(E157,'REGLE PRIORITE'!$N$3:$O$18,2,FALSE)),VLOOKUP(D157,'STOCK IDEAL'!$B$2:$E$1108,3,FALSE),VLOOKUP(D157,'STOCK IDEAL'!$B$2:$E$1108,3,FALSE)+VLOOKUP(E157,'REGLE PRIORITE'!$N$3:$O$18,2,FALSE)),IF($C157="Bijoux argent/plaqué or",IF(ISERROR(VLOOKUP(D157,'STOCK IDEAL'!$B$2:$E$1108,3,FALSE)+VLOOKUP($E157,'REGLE PRIORITE'!$Q$3:$R$28,2,FALSE)),VLOOKUP(D157,'STOCK IDEAL'!$B$2:$E$1108,3,FALSE),VLOOKUP(D157,'STOCK IDEAL'!$B$2:$E$1108,3,FALSE)+VLOOKUP($E157,'REGLE PRIORITE'!$Q$3:$R$28,2,FALSE)),VLOOKUP(D157,'STOCK IDEAL'!$B$2:$E$1108,3,FALSE)))) -> 1 | J157: 0 | K157: =IF($C157="porcelaine",IF(ISERROR(VLOOKUP($D157,'STOCK IDEAL'!$B$2:$E$1080,4,FALSE)+VLOOKUP($E157,'REGLE PRIORITE'!$K$3:$L$14,2,FALSE)),VLOOKUP($D157,'STOCK IDEAL'!$B$2:$E$1080,4,FALSE),VLOOKUP($D157,'STOCK IDEAL'!$B$2:$E$1080,4,FALSE)+VLOOKUP($E157,'REGLE PRIORITE'!$K$3:$L$14,2,FALSE)),IF(C157="Bijoux l’atelier",IF(ISERROR(VLOOKUP(D157,'STOCK IDEAL'!$B$2:$E$1108,4,FALSE)+VLOOKUP(E157,'REGLE PRIORITE'!$N$3:$O$18,2,FALSE)),VLOOKUP(D157,'STOCK IDEAL'!$B$2:$E$1108,4,FALSE),VLOOKUP(D157,'STOCK IDEAL'!$B$2:$E$1108,4,FALSE)+VLOOKUP(E157,'REGLE PRIORITE'!$N$3:$O$18,2,FALSE)),IF($C157="Bijoux argent/plaqué or",IF(ISERROR(VLOOKUP(D157,'STOCK IDEAL'!$B$2:$E$1108,4,FALSE)+VLOOKUP($E157,'REGLE PRIORITE'!$Q$3:$R$28,2,FALSE)),VLOOKUP(D157,'STOCK IDEAL'!$B$2:$E$1108,4,FALSE),VLOOKUP(D157,'STOCK IDEAL'!$B$2:$E$1108,4,FALSE)+VLOOKUP($E157,'REGLE PRIORITE'!$Q$3:$R$28,2,FALSE)),VLOOKUP(D157,'STOCK IDEAL'!$B$2:$E$1108,4,FALSE)))) -> 3 | L157: =IF(F157>G157,"OK") -> FALSE | M157: =HLOOKUP('STOCK BRUT'!$C157,'REGLE PRIORITE'!$B$4:$G$7,2,FALSE) -> 1 | N157: =HLOOKUP('STOCK BRUT'!$C157,'REGLE PRIORITE'!$B$4:$G$7,3,FALSE) -> 3 | O157: =HLOOKUP('STOCK BRUT'!$C157,'REGLE PRIORITE'!$B$4:$G$7,4,FALSE) -> 2 | P157: =F157-G157 -> 0 | Q157: =H157-I157 -> 0 | R157: =J157-K157 -> -3 | S157: =P157+Q157+R157 -> -3
