Workbook

Sheet STOCK BRUT
B1: RÉFÉRENCE | C1: CATÉGORIE | D1: PRODUIT | E1: DÉLINAISON | F1: TOUQUET | H1: LILLE | J1: HARDELOT | M1: TOUQUET PRIORITE | N1: LILLE PRIORITE | O1: HARDELOT PRIORITE | P1: STOCK A PLACER ou a commander LE TOUQUET | Q1: STOCK A PLACER ou a commander LILLE | R1: STOCK A PLACER ou a commander HARDELOT
F2: STOCK | G2: IDEAL | H2: STOCK | I2: IDEAL | J2: STOCK | K2: IDEAL
A3: 1 | B3: FB984ANIS | C3: Porcelaine | D3: Théière carrée 1-2 pers unie | E3: ANIS | F3: 0 | G3: =IF($C3="porcelaine",IF(ISERROR(VLOOKUP($D3,'STOCK IDEAL'!$B$2:$C$1080,2,FALSE)+VLOOKUP($E3,'REGLE PRIORITE'!$K$3:$L$14,2,FALSE)),VLOOKUP($D3,'STOCK IDEAL'!$B$2:$C$1080,2,FALSE),VLOOKUP($D3,'STOCK IDEAL'!$B$2:$C$1080,2,FALSE)+VLOOKUP($E3,'REGLE PRIORITE'!$K$3:$L$14,2,FALSE)),IF(C3="Bijoux l’atelier",IF(ISERROR(VLOOKUP(D3,'STOCK IDEAL'!$B$2:$C$1108,2,FALSE)+VLOOKUP(E3,'REGLE PRIORITE'!$N$3:$O$18,2,FALSE)),VLOOKUP(D3,'STOCK IDEAL'!$B$2:$C$1108,2,FALSE),VLOOKUP(D3,'STOCK IDEAL'!$B$2:$C$1108,2,FALSE)+VLOOKUP(E3,'REGLE PRIORITE'!$N$3:$O$18,2,FALSE)),IF($C3="Bijoux argent/plaqué or",IF(ISERROR(VLOOKUP(D3,'STOCK IDEAL'!$B$2:$C$1108,2,FALSE)+VLOOKUP($E3,'REGLE PRIORITE'!$Q$3:$R$28,2,FALSE)),VLOOKUP(D3,'STOCK IDEAL'!$B$2:$C$1108,2,FALSE),VLOOKUP(D3,'STOCK IDEAL'!$B$2:$C$1108,2,FALSE)+VLOOKUP($E3,'REGLE PRIORITE'!$Q$3:$R$28,2,FALSE)),VLOOKUP(D3,'STOCK IDEAL'!$B$2:$C$1108,2,FALSE)))) -> 1 | H3: 1 | I3: =IF($C3="porcelaine",IF(ISERROR(VLOOKUP($D3,'STOCK IDEAL'!$B$2:$E$1080,3,FALSE)+VLOOKUP($E3,'REGLE PRIORITE'!$K$3:$L$14,2,FALSE)),VLOOKUP($D3,'STOCK IDEAL'!$B$2:$E$1080,3,FALSE),VLOOKUP($D3,'STOCK IDEAL'!$B$2:$E$1080,3,FALSE)+VLOOKUP($E3,'REGLE PRIORITE'!$K$3:$L$14,2,FALSE)),IF(C3="Bijoux l’atelier",IF(ISERROR(VLOOKUP(D3,'STOCK IDEAL'!$B$2:$E$1108,3,FALSE)+VLOOKUP(E3,'REGLE PRIORITE'!$N$3:$O$18,2,FALSE)),VLOOKUP(D3,'STOCK IDEAL'!$B$2:$E$1108,3,FALSE),VLOOKUP(D3,'STOCK IDEAL'!$B$2:$E$1108,3,FALSE)+VLOOKUP(E3,'REGLE PRIORITE'!$N$3:$O$18,2,FALSE)),IF($C3="Bijoux argent/plaqué or",IF(ISERROR(VLOOKUP(D3,'STOCK IDEAL'!$B$2:$E$1108,3,FALSE)+VLOOKUP($E3,'REGLE PRIORITE'!$Q$3:$R$28,2,FALSE)),VLOOKUP(D3,'STOCK IDEAL'!$B$2:$E$1108,3,FALSE),VLOOKUP(D3,'STOCK IDEAL'!$B$2:$E$1108,3,FALSE)+VLOOKUP($E3,'REGLE PRIORITE'!$Q$3:$R$28,2,FALSE)),VLOOKUP(D3,'STOCK IDEAL'!$B$2:$E$1108,3,FALSE)))) -> 1 | J3: 0 | K3: =IF($C3="porcelaine",IF(ISERROR(VLOOKUP($D3,'STOCK IDEAL'!$B$2:$E$1080,4,FALSE)+VLOOKUP($E3,'REGLE PRIORITE'!$K$3:$L$14,2,FALSE)),VLOOKUP($D3,'STOCK IDEAL'!$B$2:$E$1080,4,FALSE),VLOOKUP($D3,'STOCK IDEAL'!$B$2:$E$1080,4,FALSE)+VLOOKUP($E3,'REGLE PRIORITE'!$K$3:$L$14,2,FALSE)),IF(C3="Bijoux l’atelier",IF(ISERROR(VLOOKUP(D3,'STOCK IDEAL'!$B$2:$E$1108,4,FALSE)+VLOOKUP(E3,'REGLE PRIORITE'!$N$3:$O$18,2,FALSE)),VLOOKUP(D3,'STOCK IDEAL'!$B$2:$E$1108,4,FALSE),VLOOKUP(D3,'STOCK IDEAL'!$B$2:$E$1108,4,FALSE)+VLOOKUP(E3,'REGLE PRIORITE'!$N$3:$O$18,2,FALSE)),IF($C3="Bijoux argent/plaqué or",IF(ISERROR(VLOOKUP(D3,'STOCK IDEAL'!$B$2:$E$1108,4,FALSE)+VLOOKUP($E3,'REGLE PRIORITE'!$Q$3:$R$28,2,FALSE)),VLOOKUP(D3,'STOCK IDEAL'!$B$2:$E$1108,4,FALSE),VLOOKUP(D3,'STOCK IDEAL'!$B$2:$E$1108,4,FALSE)+VLOOKUP($E3,'REGLE PRIORITE'!$Q$3:$R$28,2,FALSE)),VLOOKUP(D3,'STOCK IDEAL'!$B$2:$E$1108,4,FALSE)))) -> 3 | L3: =IF(F3>G3,"OK") -> FALSE | M3: =HLOOKUP('STOCK BRUT'!$C3,'REGLE PRIORITE'!$B$4:$G$7,2,FALSE) -> 1 | N3: =HLOOKUP('STOCK BRUT'!$C3,'REGLE PRIORITE'!$B$4:$G$7,3,FALSE) -> 3 | O3: =HLOOKUP('STOCK BRUT'!$C3,'REGLE PRIORITE'!$B$4:$G$7,4,FALSE) -> 2 | P3: =F3-G3 -> -1 | Q3: =H3-I3 -> 0 | R3: =J3-K3 -> -3 | S3: =P3+Q3+R3 -> -4
A4: 2 | B4: FB984CORAIL | C4: Porcelaine | D4: Théière carrée 1-2 pers unie | E4: CORAIL | F4: 0 | G4: =IF($C4="porcelaine",IF(ISERROR(VLOOKUP($D4,'STOCK IDEAL'!$B$2:$C$1080,2,FALSE)+VLOOKUP($E4,'REGLE PRIORITE'!$K$3:$L$14,2,FALSE)),VLOOKUP($D4,'STOCK IDEAL'!$B$2:$C$1080,2,FALSE),VLOOKUP($D4,'STOCK IDEAL'!$B$2:$C$1080,2,FALSE)+VLOOKUP($E4,'REGLE PRIORITE'!$K$3:$L$14,2,FALSE)),IF(C4="Bijoux l’atelier",IF(ISERROR(VLOOKUP(D4,'STOCK IDEAL'!$B$2:$C$1108,2,FALSE)+VLOOKUP(E4,'REGLE PRIORITE'!$N$3:$O$18,2,FALSE)),VLOOKUP(D4,'STOCK IDEAL'!$B$2:$C$1108,2,FALSE),VLOOKUP(D4,'STOCK IDEAL'!$B$2:$C$1108,2,FALSE)+VLOOKUP(E4,'REGLE PRIORITE'!$N$3:$O$18,2,FALSE)),IF($C4="Bijoux argent/plaqué or",IF(ISERROR(VLOOKUP(D4,'STOCK IDEAL'!$B$2:$C$1108,2,FALSE)+VLOOKUP($E4,'REGLE PRIORITE'!$Q$3:$R$28,2,FALSE)),VLOOKUP(D4,'STOCK IDEAL'!$B$2:$C$1108,2,FALSE),VLOOKUP(D4,'STOCK IDEAL'!$B$2:$C$1108,2,FALSE)+VLOOKUP($E4,'REGLE PRIORITE'!$Q$3:$R$28,2,FALSE)),VLOOKUP(D4,'STOCK IDEAL'!$B$2:$C$1108,2,FALSE)))) -> 1 | H4: 0 | I4: =IF($C4="porcelaine",IF(ISERROR(VLOOKUP($D4,'STOCK IDEAL'!$B$2:$E$1080,3,FALSE)+VLOOKUP($E4,'REGLE PRIORITE'!$K$3:$L$14,2,FALSE)),VLOOKUP($D4,'STOCK IDEAL'!$B$2:$E$1080,3,FALSE),VLOOKUP($D4,'STOCK IDEAL'!$B$2:$E$1080,3,FALSE)+VLOOKUP($E4,'REGLE PRIORITE'!$K$3:$L$14,2,FALSE)),IF(C4="Bijoux l’atelier",IF(ISERROR(VLOOKUP(D4,'STOCK IDEAL'!$B$2:$E$1108,3,FALSE)+VLOOKUP(E4,'REGLE PRIORITE'!$N$3:$O$18,2,FALSE)),VLOOKUP(D4,'STOCK IDEAL'!$B$2:$E$1108,3,FALSE),VLOOKUP(D4,'STOCK IDEAL'!$B$2:$E$1108,3,FALSE)+VLOOKUP(E4,'REGLE PRIORITE'!$N$3:$O$18,2,FALSE)),IF($C4="Bijoux argent/plaqué or",IF(ISERROR(VLOOKUP(D4,'STOCK IDEAL'!$B$2:$E$1108,3,FALSE)+VLOOKUP($E4,'REGLE PRIORITE'!$Q$3:$R$28,2,FALSE)),VLOOKUP(D4,'STOCK IDEAL'!$B$2:$E$1108,3,FALSE),VLOOKUP(D4,'STOCK IDEAL'!$B$2:$E$1108,3,FALSE)+VLOOKUP($E4,'REGLE PRIORITE'!$Q$3:$R$28,2,FALSE)),VLOOKUP(D4,'STOCK IDEAL'!$B$2:$E$1108,3,FALSE)))) -> 1 | J4: 0 | K4: =IF($C4="porcelaine",IF(ISERROR(VLOOKUP($D4,'STOCK IDEAL'!$B$2:$E$1080,4,FALSE)+VLOOKUP($E4,'REGLE PRIORITE'!$K$3:$L$14,2,FALSE)),VLOOKUP($D4,'STOCK IDEAL'!$B$2:$E$1080,4,FALSE),VLOOKUP($D4,'STOCK IDEAL'!$B$2:$E$1080,4,FALSE)+VLOOKUP($E4,'REGLE PRIORITE'!$K$3:$L$14,2,FALSE)),IF(C4="Bijoux l’atelier",IF(ISERROR(VLOOKUP(D4,'STOCK IDEAL'!$B$2:$E$1108,4,FALSE)+VLOOKUP(E4,'REGLE PRIORITE'!$N$3:$O$18,2,FALSE)),VLOOKUP(D4,'STOCK IDEAL'!$B$2:$E$1108,4,FALSE),VLOOKUP(D4,'STOCK IDEAL'!$B$2:$E$1108,4,FALSE)+VLOOKUP(E4,'REGLE PRIORITE'!$N$3:$O$18,2,FALSE)),IF($C4="Bijoux argent/plaqué or",IF(ISERROR(VLOOKUP(D4,'STOCK IDEAL'!$B$2:$E$1108,4,FALSE)+VLOOKUP($E4,'REGLE PRIORITE'!$Q$3:$R$28,2,FALSE)),VLOOKUP(D4,'STOCK IDEAL'!$B$2:$E$1108,4,FALSE),VLOOKUP(D4,'STOCK IDEAL'!$B$2:$E$1108,4,FALSE)+VLOOKUP($E4,'REGLE PRIORITE'!$Q$3:$R$28,2,FALSE)),VLOOKUP(D4,'STOCK IDEAL'!$B$2:$E$1108,4,FALSE)))) -> 3 | L4: =IF(F4>G4,"OK") -> FALSE | M4: =HLOOKUP('STOCK BRUT'!$C4,'REGLE PRIORITE'!$B$4:$G$7,2,FALSE) -> 1 | N4: =HLOOKUP('STOCK BRUT'!$C4,'REGLE PRIORITE'!$B$4:$G$7,3,FALSE) -> 3 | O4: =HLOOKUP('STOCK BRUT'!$C4,'REGLE PRIORITE'!$B$4:$G$7,4,FALSE) -> 2 | P4: =F4-G4 -> -1 | Q4: =H4-I4 -> -1 | R4: =J4-K4 -> -3 | S4: =P4+Q4+R4 -> -5
A5: 3 | B5: FB984FRAMB | C5: Porcelaine | D5: Théière carrée 1-2 pers unie | E5: FRAMBOISE | F5: 1 | G5: =IF($C5="porcelaine",IF(ISERROR(VLOOKUP($D5,'STOCK IDEAL'!$B$2:$C$1080,2,FALSE)+VLOOKUP($E5,'REGLE PRIORITE'!$K$3:$L$14,2,FALSE)),VLOOKUP($D5,'STOCK IDEAL'!$B$2:$C$1080,2,FALSE),VLOOKUP($D5,'STOCK IDEAL'!$B$2:$C$1080,2,FALSE)+VLOOKUP($E5,'REGLE PRIORITE'!$K$3:$L$14,2,FALSE)),IF(C5="Bijoux l’atelier",IF(ISERROR(VLOOKUP(D5,'STOCK IDEAL'!$B$2:$C$1108,2,FALSE)+VLOOKUP(E5,'REGLE PRIORITE'!$N$3:$O$18,2,FALSE)),VLOOKUP(D5,'STOCK IDEAL'!$B$2:$C$1108,2,FALSE),VLOOKUP(D5,'STOCK IDEAL'!$B$2:$C$1108,2,FALSE)+VLOOKUP(E5,'REGLE PRIORITE'!$N$3:$O$18,2,FALSE)),IF($C5="Bijoux argent/plaqué or",IF(ISERROR(VLOOKUP(D5,'STOCK IDEAL'!$B$2:$C$1108,2,FALSE)+VLOOKUP($E5,'REGLE PRIORITE'!$Q$3:$R$28,2,FALSE)),VLOOKUP(D5,'STOCK IDEAL'!$B$2:$C$1108,2,FALSE),VLOOKUP(D5,'STOCK IDEAL'!$B$2:$C$1108,2,FALSE)+VLOOKUP($E5,'REGLE PRIORITE'!$Q$3:$R$28,2,FALSE)),VLOOKUP(D5,'STOCK IDEAL'!$B$2:$C$1108,2,FALSE)))) -> 1 | H5: 1 | I5: =IF($C5="porcelaine",IF(ISERROR(VLOOKUP($D5,'STOCK IDEAL'!$B$2:$E$1080,3,FALSE)+VLOOKUP($E5,'REGLE PRIORITE'!$K$3:$L$14,2,FALSE)),VLOOKUP($D5,'STOCK IDEAL'!$B$2:$E$1080,3,FALSE),VLOOKUP($D5,'STOCK IDEAL'!$B$2:$E$1080,3,FALSE)+VLOOKUP($E5,'REGLE PRIORITE'!$K$3:$L$14,2,FALSE)),IF(C5="Bijoux l’atelier",IF(ISERROR(VLOOKUP(D5,'STOCK IDEAL'!$B$2:$E$1108,3,FALSE)+VLOOKUP(E5,'REGLE PRIORITE'!$N$3:$O$18,2,FALSE)),VLOOKUP(D5,'STOCK IDEAL'!$B$2:$E$1108,3,FALSE),VLOOKUP(D5,'STOCK IDEAL'!$B$2:$E$1108,3,FALSE)+VLOOKUP(E5,'REGLE PRIORITE'!$N$3:$O$18,2,FALSE)),IF($C5="Bijoux argent/plaqué or",IF(ISERROR(VLOOKUP(D5,'STOCK IDEAL'!$B$2:$E$1108,3,FALSE)+VLOOKUP($E5,'REGLE PRIORITE'!$Q$3:$R$28,2,FALSE)),VLOOKUP(D5,'STOCK IDEAL'!$B$2:$E$1108,3,FALSE),VLOOKUP(D5,'STOCK IDEAL'!$B$2:$E$1108,3,FALSE)+VLOOKUP($E5,'REGLE PRIORITE'!$Q$3:$R$28,2,FALSE)),VLOOKUP(D5,'STOCK IDEAL'!$B$2:$E$1108,3,FALSE)))) -> 1 | J5: 1 | K5: =IF($C5="porcelaine",IF(ISERROR(VLOOKUP($D5,'STOCK IDEAL'!$B$2:$E$1080,4,FALSE)+VLOOKUP($E5,'REGLE PRIORITE'!$K$3:$L$14,2,FALSE)),VLOOKUP($D5,'STOCK IDEAL'!$B$2:$E$1080,4,FALSE),VLOOKUP($D5,'STOCK IDEAL'!$B$2:$E$1080,4,FALSE)+VLOOKUP($E5,'REGLE PRIORITE'!$K$3:$L$14,2,FALSE)),IF(C5="Bijoux l’atelier",IF(ISERROR(VLOOKUP(D5,'STOCK IDEAL'!$B$2:$E$1108,4,FALSE)+VLOOKUP(E5,'REGLE PRIORITE'!$N$3:$O$18,2,FALSE)),VLOOKUP(D5,'STOCK IDEAL'!$B$2:$E$1108,4,FALSE),VLOOKUP(D5,'STOCK IDEAL'!$B$2:$E$1108,4,FALSE)+VLOOKUP(E5,'REGLE PRIORITE'!$N$3:$O$18,2,FALSE)),IF($C5="Bijoux argent/plaqué or",IF(ISERROR(VLOOKUP(D5,'STOCK IDEAL'!$B$2:$E$1108,4,FALSE)+VLOOKUP($E5,'REGLE PRIORITE'!$Q$3:$R$28,2,FALSE)),VLOOKUP(D5,'STOCK IDEAL'!$B$2:$E$1108,4,FALSE),VLOOKUP(D5,'STOCK IDEAL'!$B$2:$E$1108,4,FALSE)+VLOOKUP($E5,'REGLE PRIORITE'!$Q$3:$R$28,2,FALSE)),VLOOKUP(D5,'STOCK IDEAL'!$B$2:$E$1108,4,FALSE)))) -> 3 | L5: =IF(F5>G5,"OK") -> FALSE | M5: =HLOOKUP('STOCK BRUT'!$C5,'REGLE PRIORITE'!$B$4:$G$7,2,FALSE) -> 1 | N5: =HLOOKUP('STOCK BRUT'!$C5,'REGLE PRIORITE'!$B$4:$G$7,3,FALSE) -> 3 | O5: =HLOOKUP('STOCK BRUT'!$C5,'REGLE PRIORITE'!$B$4:$G$7,4,FALSE) -> 2 | P5: =F5-G5 -> 0 | Q5: =H5-I5 -> 0 | R5: =J5-K5 -> -2 | S5: =P5+Q5+R5 -> -2 | Y5: =COUNTA('[1]Fichier client'!$A$2:$A$1048576)+1 -> 4031
A6: 4 | B6: FB984IVOIRE | C6: Porcelaine | D6: Théière carrée 1-2 pers unie | E6: IVOIRE | F6: 1 | G6: =IF($C6="porcelaine",IF(ISERROR(VLOOKUP($D6,'STOCK IDEAL'!$B$2:$C$1080,2,FALSE)+VLOOKUP($E6,'REGLE PRIORITE'!$K$3:$L$14,2,FALSE)),VLOOKUP($D6,'STOCK IDEAL'!$B$2:$C$1080,2,FALSE),VLOOKUP($D6,'STOCK IDEAL'!$B$2:$C$1080,2,FALSE)+VLOOKUP($E6,'REGLE PRIORITE'!$K$3:$L$14,2,FALSE)),IF(C6="Bijoux l’atelier",IF(ISERROR(VLOOKUP(D6,'STOCK IDEAL'!$B$2:$C$1108,2,FALSE)+VLOOKUP(E6,'REGLE PRIORITE'!$N$3:$O$18,2,FALSE)),VLOOKUP(D6,'STOCK IDEAL'!$B$2:$C$1108,2,FALSE),VLOOKUP(D6,'STOCK IDEAL'!$B$2:$C$1108,2,FALSE)+VLOOKUP(E6,'REGLE PRIORITE'!$N$3:$O$18,2,FALSE)),IF($C6="Bijoux argent/plaqué or",IF(ISERROR(VLOOKUP(D6,'STOCK IDEAL'!$B$2:$C$1108,2,FALSE)+VLOOKUP($E6,'REGLE PRIORITE'!$Q$3:$R$28,2,FALSE)),VLOOKUP(D6,'STOCK IDEAL'!$B$2:$C$1108,2,FALSE),VLOOKUP(D6,'STOCK IDEAL'!$B$2:$C$1108,2,FALSE)+VLOOKUP($E6,'REGLE PRIORITE'!$Q$3:$R$28,2,FALSE)),VLOOKUP(D6,'STOCK IDEAL'!$B$2:$C$1108,2,FALSE)))) -> 2 | H6: 1 | I6: =IF($C6="porcelaine",IF(ISERROR(VLOOKUP($D6,'STOCK IDEAL'!$B$2:$E$1080,3,FALSE)+VLOOKUP($E6,'REGLE PRIORITE'!$K$3:$L$14,2,FALSE)),VLOOKUP($D6,'STOCK IDEAL'!$B$2:$E$1080,3,FALSE),VLOOKUP($D6,'STOCK IDEAL'!$B$2:$E$1080,3,FALSE)+VLOOKUP($E6,'REGLE PRIORITE'!$K$3:$L$14,2,FALSE)),IF(C6="Bijoux l’atelier",IF(ISERROR(VLOOKUP(D6,'STOCK IDEAL'!$B$2:$E$1108,3,FALSE)+VLOOKUP(E6,'REGLE PRIORITE'!$N$3:$O$18,2,FALSE)),VLOOKUP(D6,'STOCK IDEAL'!$B$2:$E$1108,3,FALSE),VLOOKUP(D6,'STOCK IDEAL'!$B$2:$E$1108,3,FALSE)+VLOOKUP(E6,'REGLE PRIORITE'!$N$3:$O$18,2,FALSE)),IF($C6="Bijoux argent/plaqué or",IF(ISERROR(VLOOKUP(D6,'STOCK IDEAL'!$B$2:$E$1108,3,FALSE)+VLOOKUP($E6,'REGLE PRIORITE'!$Q$3:$R$28,2,FALSE)),VLOOKUP(D6,'STOCK IDEAL'!$B$2:$E$1108,3,FALSE),VLOOKUP(D6,'STOCK IDEAL'!$B$2:$E$1108,3,FALSE)+VLOOKUP($E6,'REGLE PRIORITE'!$Q$3:$R$28,2,FALSE)),VLOOKUP(D6,'STOCK IDEAL'!$B$2:$E$1108,3,FALSE)))) -> 2 | J6: 1 | K6: =IF($C6="porcelaine",IF(ISERROR(VLOOKUP($D6,'STOCK IDEAL'!$B$2:$E$1080,4,FALSE)+VLOOKUP($E6,'REGLE PRIORITE'!$K$3:$L$14,2,FALSE)),VLOOKUP($D6,'STOCK IDEAL'!$B$2:$E$1080,4,FALSE),VLOOKUP($D6,'STOCK IDEAL'!$B$2:$E$1080,4,FALSE)+VLOOKUP($E6,'REGLE PRIORITE'!$K$3:$L$14,2,FALSE)),IF(C6="Bijoux l’atelier",IF(ISERROR(VLOOKUP(D6,'STOCK IDEAL'!$B$2:$E$1108,4,FALSE)+VLOOKUP(E6,'REGLE PRIORITE'!$N$3:$O$18,2,FALSE)),VLOOKUP(D6,'STOCK IDEAL'!$B$2:$E$1108,4,FALSE),VLOOKUP(D6,'STOCK IDEAL'!$B$2:$E$1108,4,FALSE)+VLOOKUP(E6,'REGLE PRIORITE'!$N$3:$O$18,2,FALSE)),IF($C6="Bijoux argent/plaqué or",IF(ISERROR(VLOOKUP(D6,'STOCK IDEAL'!$B$2:$E$1108,4,FALSE)+VLOOKUP($E6,'REGLE PRIORITE'!$Q$3:$R$28,2,FALSE)),VLOOKUP(D6,'STOCK IDEAL'!$B$2:$E$1108,4,FALSE),VLOOKUP(D6,'STOCK IDEAL'!$B$2:$E$1108,4,FALSE)+VLOOKUP($E6,'REGLE PRIORITE'!$Q$3:$R$28,2,FALSE)),VLOOKUP(D6,'STOCK IDEAL'!$B$2:$E$1108,4,FALSE)))) -> 4 | L6: =IF(F6>G6,"OK") -> FALSE | M6: =HLOOKUP('STOCK BRUT'!$C6,'REGLE PRIORITE'!$B$4:$G$7,2,FALSE) -> 1 | N6: =HLOOKUP('STOCK BRUT'!$C6,'REGLE PRIORITE'!$B$4:$G$7,3,FALSE) -> 3 | O6: =HLOOKUP('STOCK BRUT'!$C6,'REGLE PRIORITE'!$B$4:$G$7,4,FALSE) -> 2 | P6: =F6-G6 -> -1 | Q6: =H6-I6 -> -1 | R6: =J6-K6 -> -3 | S6: =P6+Q6+R6 -> -5
A7: 5 | B7: FB984OCEAN | C7: Porcelaine | D7: Théière carrée 1-2 pers unie | E7: OCÉAN | F7: 1 | G7: =IF($C7="porcelaine",IF(ISERROR(VLOOKUP($D7,'STOCK IDEAL'!$B$2:$C$1080,2,FALSE)+VLOOKUP($E7,'REGLE PRIORITE'!$K$3:$L$14,2,FALSE)),VLOOKUP($D7,'STOCK IDEAL'!$B$2:$C$1080,2,FALSE),VLOOKUP($D7,'STOCK IDEAL'!$B$2:$C$1080,2,FALSE)+VLOOKUP($E7,'REGLE PRIORITE'!$K$3:$L$14,2,FALSE)),IF(C7="Bijoux l’atelier",IF(ISERROR(VLOOKUP(D7,'STOCK IDEAL'!$B$2:$C$1108,2,FALSE)+VLOOKUP(E7,'REGLE PRIORITE'!$N$3:$O$18,2,FALSE)),VLOOKUP(D7,'STOCK IDEAL'!$B$2:$C$1108,2,FALSE),VLOOKUP(D7,'STOCK IDEAL'!$B$2:$C$1108,2,FALSE)+VLOOKUP(E7,'REGLE PRIORITE'!$N$3:$O$18,2,FALSE)),IF($C7="Bijoux argent/plaqué or",IF(ISERROR(VLOOKUP(D7,'STOCK IDEAL'!$B$2:$C$1108,2,FALSE)+VLOOKUP($E7,'REGLE PRIORITE'!$Q$3:$R$28,2,FALSE)),VLOOKUP(D7,'STOCK IDEAL'!$B$2:$C$1108,2,FALSE),VLOOKUP(D7,'STOCK IDEAL'!$B$2:$C$1108,2,FALSE)+VLOOKUP($E7,'REGLE PRIORITE'!$Q$3:$R$28,2,FALSE)),VLOOKUP(D7,'STOCK IDEAL'!$B$2:$C$1108,2,FALSE)))) -> 1 | H7: 1 | I7: =IF($C7="porcelaine",IF(ISERROR(VLOOKUP($D7,'STOCK IDEAL'!$B$2:$E$1080,3,FALSE)+VLOOKUP($E7,'REGLE PRIORITE'!$K$3:$L$14,2,FALSE)),VLOOKUP($D7,'STOCK IDEAL'!$B$2:$E$1080,3,FALSE),VLOOKUP($D7,'STOCK IDEAL'!$B$2:$E$1080,3,FALSE)+VLOOKUP($E7,'REGLE PRIORITE'!$K$3:$L$14,2,FALSE)),IF(C7="Bijoux l’atelier",IF(ISERROR(VLOOKUP(D7,'STOCK IDEAL'!$B$2:$E$1108,3,FALSE)+VLOOKUP(E7,'REGLE PRIORITE'!$N$3:$O$18,2,FALSE)),VLOOKUP(D7,'STOCK IDEAL'!$B$2:$E$1108,3,FALSE),VLOOKUP(D7,'STOCK IDEAL'!$B$2:$E$1108,3,FALSE)+VLOOKUP(E7,'REGLE PRIORITE'!$N$3:$O$18,2,FALSE)),IF($C7="Bijoux argent/plaqué or",IF(ISERROR(VLOOKUP(D7,'STOCK IDEAL'!$B$2:$E$1108,3,FALSE)+VLOOKUP($E7,'REGLE PRIORITE'!$Q$3:$R$28,2,FALSE)),VLOOKUP(D7,'STOCK IDEAL'!$B$2:$E$1108,3,FALSE),VLOOKUP(D7,'STOCK IDEAL'!$B$2:$E$1108,3,FALSE)+VLOOKUP($E7,'REGLE PRIORITE'!$Q$3:$R$28,2,FALSE)),VLOOKUP(D7,'STOCK IDEAL'!$B$2:$E$1108,3,FALSE)))) -> 1 | J7: 1 | K7: =IF($C7="porcelaine",IF(ISERROR(VLOOKUP($D7,'STOCK IDEAL'!$B$2:$E$1080,4,FALSE)+VLOOKUP($E7,'REGLE PRIORITE'!$K$3:$L$14,2,FALSE)),VLOOKUP($D7,'STOCK IDEAL'!$B$2:$E$1080,4,FALSE),VLOOKUP($D7,'STOCK IDEAL'!$B$2:$E$1080,4,FALSE)+VLOOKUP($E7,'REGLE PRIORITE'!$K$3:$L$14,2,FALSE)),IF(C7="Bijoux l’atelier",IF(ISERROR(VLOOKUP(D7,'STOCK IDEAL'!$B$2:$E$1108,4,FALSE)+VLOOKUP(E7,'REGLE PRIORITE'!$N$3:$O$18,2,FALSE)),VLOOKUP(D7,'STOCK IDEAL'!$B$2:$E$1108,4,FALSE),VLOOKUP(D7,'STOCK IDEAL'!$B$2:$E$1108,4,FALSE)+VLOOKUP(E7,'REGLE PRIORITE'!$N$3:$O$18,2,FALSE)),IF($C7="Bijoux argent/plaqué or",IF(ISERROR(VLOOKUP(D7,'STOCK IDEAL'!$B$2:$E$1108,4,FALSE)+VLOOKUP($E7,'REGLE PRIORITE'!$Q$3:$R$28,2,FALSE)),VLOOKUP(D7,'STOCK IDEAL'!$B$2:$E$1108,4,FALSE),VLOOKUP(D7,'STOCK IDEAL'!$B$2:$E$1108,4,FALSE)+VLOOKUP($E7,'REGLE PRIORITE'!$Q$3:$R$28,2,FALSE)),VLOOKUP(D7,'STOCK IDEAL'!$B$2:$E$1108,4,FALSE)))) -> 3 | L7: =IF(F7>G7,"OK") -> FALSE | M7: =HLOOKUP('STOCK BRUT'!$C7,'REGLE PRIORITE'!$B$4:$G$7,2,FALSE) -> 1 | N7: =HLOOKUP('STOCK BRUT'!$C7,'REGLE PRIORITE'!$B$4:$G$7,3,FALSE) -> 3 | O7: =HLOOKUP('STOCK BRUT'!$C7,'REGLE PRIORITE'!$B$4:$G$7,4,FALSE) -> 2 | P7: =F7-G7 -> 0 | Q7: =H7-I7 -> 0 | R7: =J7-K7 -> -2 | S7: =P7+Q7+R7 -> -2
A8: 6 | B8: FB984ORANG | C8: Porcelaine | D8: Théière carrée 1-2 pers unie | E8: ORANGE | F8: 0 | G8: =IF($C8="porcelaine",IF(ISERROR(VLOOKUP($D8,'STOCK IDEAL'!$B$2:$C$1080,2,FALSE)+VLOOKUP($E8,'REGLE PRIORITE'!$K$3:$L$14,2,FALSE)),VLOOKUP($D8,'STOCK IDEAL'!$B$2:$C$1080,2,FALSE),VLOOKUP($D8,'STOCK IDEAL'!$B$2:$C$1080,2,FALSE)+VLOOKUP($E8,'REGLE PRIORITE'!$K$3:$L$14,2,FALSE)),IF(C8="Bijoux l’atelier",IF(ISERROR(VLOOKUP(D8,'STOCK IDEAL'!$B$2:$C$1108,2,FALSE)+VLOOKUP(E8,'REGLE PRIORITE'!$N$3:$O$18,2,FALSE)),VLOOKUP(D8,'STOCK IDEAL'!$B$2:$C$1108,2,FALSE),VLOOKUP(D8,'STOCK IDEAL'!$B$2:$C$1108,2,FALSE)+VLOOKUP(E8,'REGLE PRIORITE'!$N$3:$O$18,2,FALSE)),IF($C8="Bijoux argent/plaqué or",IF(ISERROR(VLOOKUP(D8,'STOCK IDEAL'!$B$2:$C$1108,2,FALSE)+VLOOKUP($E8,'REGLE PRIORITE'!$Q$3:$R$28,2,FALSE)),VLOOKUP(D8,'STOCK IDEAL'!$B$2:$C$1108,2,FALSE),VLOOKUP(D8,'STOCK IDEAL'!$B$2:$C$1108,2,FALSE)+VLOOKUP($E8,'REGLE PRIORITE'!$Q$3:$R$28,2,FALSE)),VLOOKUP(D8,'STOCK IDEAL'!$B$2:$C$1108,2,FALSE)))) -> 1 | H8: 0 | I8: =IF($C8="porcelaine",IF(ISERROR(VLOOKUP($D8,'STOCK IDEAL'!$B$2:$E$1080,3,FALSE)+VLOOKUP($E8,'REGLE PRIORITE'!$K$3:$L$14,2,FALSE)),VLOOKUP($D8,'STOCK IDEAL'!$B$2:$E$1080,3,FALSE),VLOOKUP($D8,'STOCK IDEAL'!$B$2:$E$1080,3,FALSE)+VLOOKUP($E8,'REGLE PRIORITE'!$K$3:$L$14,2,FALSE)),IF(C8="Bijoux l’atelier",IF(ISERROR(VLOOKUP(D8,'STOCK IDEAL'!$B$2:$E$1108,3,FALSE)+VLOOKUP(E8,'REGLE PRIORITE'!$N$3:$O$18,2,FALSE)),VLOOKUP(D8,'STOCK IDEAL'!$B$2:$E$1108,3,FALSE),VLOOKUP(D8,'STOCK IDEAL'!$B$2:$E$1108,3,FALSE)+VLOOKUP(E8,'REGLE PRIORITE'!$N$3:$O$18,2,FALSE)),IF($C8="Bijoux argent/plaqué or",IF(ISERROR(VLOOKUP(D8,'STOCK IDEAL'!$B$2:$E$1108,3,FALSE)+VLOOKUP($E8,'REGLE PRIORITE'!$Q$3:$R$28,2,FALSE)),VLOOKUP(D8,'STOCK IDEAL'!$B$2:$E$1108,3,FALSE),VLOOKUP(D8,'STOCK IDEAL'!$B$2:$E$1108,3,FALSE)+VLOOKUP($E8,'REGLE PRIORITE'!$Q$3:$R$28,2,FALSE)),VLOOKUP(D8,'STOCK IDEAL'!$B$2:$E$1108,3,FALSE)))) -> 1 | J8: 0 | K8: =IF($C8="porcelaine",IF(ISERROR(VLOOKUP($D8,'STOCK IDEAL'!$B$2:$E$1080,4,FALSE)+VLOOKUP($E8,'REGLE PRIORITE'!$K$3:$L$14,2,FALSE)),VLOOKUP($D8,'STOCK IDEAL'!$B$2:$E$1080,4,FALSE),VLOOKUP($D8,'STOCK IDEAL'!$B$2:$E$1080,4,FALSE)+VLOOKUP($E8,'REGLE PRIORITE'!$K$3:$L$14,2,FALSE)),IF(C8="Bijoux l’atelier",IF(ISERROR(VLOOKUP(D8,'STOCK IDEAL'!$B$2:$E$1108,4,FALSE)+VLOOKUP(E8,'REGLE PRIORITE'!$N$3:$O$18,2,FALSE)),VLOOKUP(D8,'STOCK IDEAL'!$B$2:$E$1108,4,FALSE),VLOOKUP(D8,'STOCK IDEAL'!$B$2:$E$1108,4,FALSE)+VLOOKUP(E8,'REGLE PRIORITE'!$N$3:$O$18,2,FALSE)),IF($C8="Bijoux argent/plaqué or",IF(ISERROR(VLOOKUP(D8,'STOCK IDEAL'!$B$2:$E$1108,4,FALSE)+VLOOKUP($E8,'REGLE PRIORITE'!$Q$3:$R$28,2,FALSE)),VLOOKUP(D8,'STOCK IDEAL'!$B$2:$E$1108,4,FALSE),VLOOKUP(D8,'STOCK IDEAL'!$B$2:$E$1108,4,FALSE)+VLOOKUP($E8,'REGLE PRIORITE'!$Q$3:$R$28,2,FALSE)),VLOOKUP(D8,'STOCK IDEAL'!$B$2:$E$1108,4,FALSE)))) -> 3 | L8: =IF(F8>G8,"OK") -> FALSE | M8: =HLOOKUP('STOCK BRUT'!$C8,'REGLE PRIORITE'!$B$4:$G$7,2,FALSE) -> 1 | N8: =HLOOKUP('STOCK BRUT'!$C8,'REGLE PRIORITE'!$B$4:$G$7,3,FALSE) -> 3 | O8: =HLOOKUP('STOCK BRUT'!$C8,'REGLE PRIORITE'!$B$4:$G$7,4,FALSE) -> 2 | P8: =F8-G8 -> -1 | Q8: =H8-I8 -> -1 | R8: =J8-K8 -> -3 | S8: =P8+Q8+R8 -> -5
A9: 7 | B9: FB984POIVRE | C9: Porcelaine | D9: Théière carrée 1-2 pers unie | E9: POIVRE | F9: 1 | G9: =IF($C9="porcelaine",IF(ISERROR(VLOOKUP($D9,'STOCK IDEAL'!$B$2:$C$1080,2,FALSE)+VLOOKUP($E9,'REGLE PRIORITE'!$K$3:$L$14,2,FALSE)),VLOOKUP($D9,'STOCK IDEAL'!$B$2:$C$1080,2,FALSE),VLOOKUP($D9,'STOCK IDEAL'!$B$2:$C$1080,2,FALSE)+VLOOKUP($E9,'REGLE PRIORITE'!$K$3:$L$14,2,FALSE)),IF(C9="Bijoux l’atelier",IF(ISERROR(VLOOKUP(D9,'STOCK IDEAL'!$B$2:$C$1108,2,FALSE)+VLOOKUP(E9,'REGLE PRIORITE'!$N$3:$O$18,2,FALSE)),VLOOKUP(D9,'STOCK IDEAL'!$B$2:$C$1108,2,FALSE),VLOOKUP(D9,'STOCK IDEAL'!$B$2:$C$1108,2,FALSE)+VLOOKUP(E9,'REGLE PRIORITE'!$N$3:$O$18,2,FALSE)),IF($C9="Bijoux argent/plaqué or",IF(ISERROR(VLOOKUP(D9,'STOCK IDEAL'!$B$2:$C$1108,2,FALSE)+VLOOKUP($E9,'REGLE PRIORITE'!$Q$3:$R$28,2,FALSE)),VLOOKUP(D9,'STOCK IDEAL'!$B$2:$C$1108,2,FALSE),VLOOKUP(D9,'STOCK IDEAL'!$B$2:$C$1108,2,FALSE)+VLOOKUP($E9,'REGLE PRIORITE'!$Q$3:$R$28,2,FALSE)),VLOOKUP(D9,'STOCK IDEAL'!$B$2:$C$1108,2,FALSE)))) -> 2 | H9: 1 | I9: =IF($C9="porcelaine",IF(ISERROR(VLOOKUP($D9,'STOCK IDEAL'!$B$2:$E$1080,3,FALSE)+VLOOKUP($E9,'REGLE PRIORITE'!$K$3:$L$14,2,FALSE)),VLOOKUP($D9,'STOCK IDEAL'!$B$2:$E$1080,3,FALSE),VLOOKUP($D9,'STOCK IDEAL'!$B$2:$E$1080,3,FALSE)+VLOOKUP($E9,'REGLE PRIORITE'!$K$3:$L$14,2,FALSE)),IF(C9="Bijoux l’atelier",IF(ISERROR(VLOOKUP(D9,'STOCK IDEAL'!$B$2:$E$1108,3,FALSE)+VLOOKUP(E9,'REGLE PRIORITE'!$N$3:$O$18,2,FALSE)),VLOOKUP(D9,'STOCK IDEAL'!$B$2:$E$1108,3,FALSE),VLOOKUP(D9,'STOCK IDEAL'!$B$2:$E$1108,3,FALSE)+VLOOKUP(E9,'REGLE PRIORITE'!$N$3:$O$18,2,FALSE)),IF($C9="Bijoux argent/plaqué or",IF(ISERROR(VLOOKUP(D9,'STOCK IDEAL'!$B$2:$E$1108,3,FALSE)+VLOOKUP($E9,'REGLE PRIORITE'!$Q$3:$R$28,2,FALSE)),VLOOKUP(D9,'STOCK IDEAL'!$B$2:$E$1108,3,FALSE),VLOOKUP(D9,'STOCK IDEAL'!$B$2:$E$1108,3,FALSE)+VLOOKUP($E9,'REGLE PRIORITE'!$Q$3:$R$28,2,FALSE)),VLOOKUP(D9,'STOCK IDEAL'!$B$2:$E$1108,3,FALSE)))) -> 2 | J9: 0 | K9: =IF($C9="porcelaine",IF(ISERROR(VLOOKUP($D9,'STOCK IDEAL'!$B$2:$E$1080,4,FALSE)+VLOOKUP($E9,'REGLE PRIORITE'!$K$3:$L$14,2,FALSE)),VLOOKUP($D9,'STOCK IDEAL'!$B$2:$E$1080,4,FALSE),VLOOKUP($D9,'STOCK IDEAL'!$B$2:$E$1080,4,FALSE)+VLOOKUP($E9,'REGLE PRIORITE'!$K$3:$L$14,2,FALSE)),IF(C9="Bijoux l’atelier",IF(ISERROR(VLOOKUP(D9,'STOCK IDEAL'!$B$2:$E$1108,4,FALSE)+VLOOKUP(E9,'REGLE PRIORITE'!$N$3:$O$18,2,FALSE)),VLOOKUP(D9,'STOCK IDEAL'!$B$2:$E$1108,4,FALSE),VLOOKUP(D9,'STOCK IDEAL'!$B$2:$E$1108,4,FALSE)+VLOOKUP(E9,'REGLE PRIORITE'!$N$3:$O$18,2,FALSE)),IF($C9="Bijoux argent/plaqué or",IF(ISERROR(VLOOKUP(D9,'STOCK IDEAL'!$B$2:$E$1108,4,FALSE)+VLOOKUP($E9,'REGLE PRIORITE'!$Q$3:$R$28,2,FALSE)),VLOOKUP(D9,'STOCK IDEAL'!$B$2:$E$1108,4,FALSE),VLOOKUP(D9,'STOCK IDEAL'!$B$2:$E$1108,4,FALSE)+VLOOKUP($E9,'REGLE PRIORITE'!$Q$3:$R$28,2,FALSE)),VLOOKUP(D9,'STOCK IDEAL'!$B$2:$E$1108,4,FALSE)))) -> 4 | L9: =IF(F9>G9,"OK") -> FALSE | M9: =HLOOKUP('STOCK BRUT'!$C9,'REGLE PRIORITE'!$B$4:$G$7,2,FALSE) -> 1 | N9: =HLOOKUP('STOCK BRUT'!$C9,'REGLE PRIORITE'!$B$4:$G$7,3,FALSE) -> 3 | O9: =HLOOKUP('STOCK BRUT'!$C9,'REGLE PRIORITE'!$B$4:$G$7,4,FALSE) -> 2 | P9: =F9-G9 -> -1 | Q9: =H9-I9 -> -1 | R9: =J9-K9 -> -4 | S9: =P9+Q9+R9 -> -6
A10: 8 | B10: FB984ROSE | C10: Porcelaine | D10: Théière carrée 1-2 pers unie | E10: ROSE | F10: 1 | G10: =IF($C10="porcelaine",IF(ISERROR(VLOOKUP($D10,'STOCK IDEAL'!$B$2:$C$1080,2,FALSE)+VLOOKUP($E10,'REGLE PRIORITE'!$K$3:$L$14,2,FALSE)),VLOOKUP($D10,'STOCK IDEAL'!$B$2:$C$1080,2,FALSE),VLOOKUP($D10,'STOCK IDEAL'!$B$2:$C$1080,2,FALSE)+VLOOKUP($E10,'REGLE PRIORITE'!$K$3:$L$14,2,FALSE)),IF(C10="Bijoux l’atelier",IF(ISERROR(VLOOKUP(D10,'STOCK IDEAL'!$B$2:$C$1108,2,FALSE)+VLOOKUP(E10,'REGLE PRIORITE'!$N$3:$O$18,2,FALSE)),VLOOKUP(D10,'STOCK IDEAL'!$B$2:$C$1108,2,FALSE),VLOOKUP(D10,'STOCK IDEAL'!$B$2:$C$1108,2,FALSE)+VLOOKUP(E10,'REGLE PRIORITE'!$N$3:$O$18,2,FALSE)),IF($C10="Bijoux argent/plaqué or",IF(ISERROR(VLOOKUP(D10,'STOCK IDEAL'!$B$2:$C$1108,2,FALSE)+VLOOKUP($E10,'REGLE PRIORITE'!$Q$3:$R$28,2,FALSE)),VLOOKUP(D10,'STOCK IDEAL'!$B$2:$C$1108,2,FALSE),VLOOKUP(D10,'STOCK IDEAL'!$B$2:$C$1108,2,FALSE)+VLOOKUP($E10,'REGLE PRIORITE'!$Q$3:$R$28,2,FALSE)),VLOOKUP(D10,'STOCK IDEAL'!$B$2:$C$1108,2,FALSE)))) -> 1 | H10: 0 | I10: =IF($C10="porcelaine",IF(ISERROR(VLOOKUP($D10,'STOCK IDEAL'!$B$2:$E$1080,3,FALSE)+VLOOKUP($E10,'REGLE PRIORITE'!$K$3:$L$14,2,FALSE)),VLOOKUP($D10,'STOCK IDEAL'!$B$2:$E$1080,3,FALSE),VLOOKUP($D10,'STOCK IDEAL'!$B$2:$E$1080,3,FALSE)+VLOOKUP($E10,'REGLE PRIORITE'!$K$3:$L$14,2,FALSE)),IF(C10="Bijoux l’atelier",IF(ISERROR(VLOOKUP(D10,'STOCK IDEAL'!$B$2:$E$1108,3,FALSE)+VLOOKUP(E10,'REGLE PRIORITE'!$N$3:$O$18,2,FALSE)),VLOOKUP(D10,'STOCK IDEAL'!$B$2:$E$1108,3,FALSE),VLOOKUP(D10,'STOCK IDEAL'!$B$2:$E$1108,3,FALSE)+VLOOKUP(E10,'REGLE PRIORITE'!$N$3:$O$18,2,FALSE)),IF($C10="Bijoux argent/plaqué or",IF(ISERROR(VLOOKUP(D10,'STOCK IDEAL'!$B$2:$E$1108,3,FALSE)+VLOOKUP($E10,'REGLE PRIORITE'!$Q$3:$R$28,2,FALSE)),VLOOKUP(D10,'STOCK IDEAL'!$B$2:$E$1108,3,FALSE),VLOOKUP(D10,'STOCK IDEAL'!$B$2:$E$1108,3,FALSE)+VLOOKUP($E10,'REGLE PRIORITE'!$Q$3:$R$28,2,FALSE)),VLOOKUP(D10,'STOCK IDEAL'!$B$2:$E$1108,3,FALSE)))) -> 1 | J10: 0 | K10: =IF($C10="porcelaine",IF(ISERROR(VLOOKUP($D10,'STOCK IDEAL'!$B$2:$E$1080,4,FALSE)+VLOOKUP($E10,'REGLE PRIORITE'!$K$3:$L$14,2,FALSE)),VLOOKUP($D10,'STOCK IDEAL'!$B$2:$E$1080,4,FALSE),VLOOKUP($D10,'STOCK IDEAL'!$B$2:$E$1080,4,FALSE)+VLOOKUP($E10,'REGLE PRIORITE'!$K$3:$L$14,2,FALSE)),IF(C10="Bijoux l’atelier",IF(ISERROR(VLOOKUP(D10,'STOCK IDEAL'!$B$2:$E$1108,4,FALSE)+VLOOKUP(E10,'REGLE PRIORITE'!$N$3:$O$18,2,FALSE)),VLOOKUP(D10,'STOCK IDEAL'!$B$2:$E$1108,4,FALSE),VLOOKUP(D10,'STOCK IDEAL'!$B$2:$E$1108,4,FALSE)+VLOOKUP(E10,'REGLE PRIORITE'!$N$3:$O$18,2,FALSE)),IF($C10="Bijoux argent/plaqué or",IF(ISERROR(VLOOKUP(D10,'STOCK IDEAL'!$B$2:$E$1108,4,FALSE)+VLOOKUP($E10,'REGLE PRIORITE'!$Q$3:$R$28,2,FALSE)),VLOOKUP(D10,'STOCK IDEAL'!$B$2:$E$1108,4,FALSE),VLOOKUP(D10,'STOCK IDEAL'!$B$2:$E$1108,4,FALSE)+VLOOKUP($E10,'REGLE PRIORITE'!$Q$3:$R$28,2,FALSE)),VLOOKUP(D10,'STOCK IDEAL'!$B$2:$E$1108,4,FALSE)))) -> 3 | L10: =IF(F10>G10,"OK") -> FALSE | M10: =HLOOKUP('STOCK BRUT'!$C10,'REGLE PRIORITE'!$B$4:$G$7,2,FALSE) -> 1 | N10: =HLOOKUP('STOCK BRUT'!$C10,'REGLE PRIORITE'!$B$4:$G$7,3,FALSE) -> 3 | O10: =HLOOKUP('STOCK BRUT'!$C10,'REGLE PRIORITE'!$B$4:$G$7,4,FALSE) -> 2 | P10: =F10-G10 -> 0 | Q10: =H10-I10 -> -1 | R10: =J10-K10 -> -3 | S10: =P10+Q10+R10 -> -4
A11: 9 | B11: FB984ROUGE | C11: Porcelaine | D11: Théière carrée 1-2 pers unie | E11: ROUGE | F11: 0 | G11: =IF($C11="porcelaine",IF(ISERROR(VLOOKUP($D11,'STOCK IDEAL'!$B$2:$C$1080,2,FALSE)+VLOOKUP($E11,'REGLE PRIORITE'!$K$3:$L$14,2,FALSE)),VLOOKUP($D11,'STOCK IDEAL'!$B$2:$C$1080,2,FALSE),VLOOKUP($D11,'STOCK IDEAL'!$B$2:$C$1080,2,FALSE)+VLOOKUP($E11,'REGLE PRIORITE'!$K$3:$L$14,2,FALSE)),IF(C11="Bijoux l’atelier",IF(ISERROR(VLOOKUP(D11,'STOCK IDEAL'!$B$2:$C$1108,2,FALSE)+VLOOKUP(E11,'REGLE PRIORITE'!$N$3:$O$18,2,FALSE)),VLOOKUP(D11,'STOCK IDEAL'!$B$2:$C$1108,2,FALSE),VLOOKUP(D11,'STOCK IDEAL'!$B$2:$C$1108,2,FALSE)+VLOOKUP(E11,'REGLE PRIORITE'!$N$3:$O$18,2,FALSE)),IF($C11="Bijoux argent/plaqué or",IF(ISERROR(VLOOKUP(D11,'STOCK IDEAL'!$B$2:$C$1108,2,FALSE)+VLOOKUP($E11,'REGLE PRIORITE'!$Q$3:$R$28,2,FALSE)),VLOOKUP(D11,'STOCK IDEAL'!$B$2:$C$1108,2,FALSE),VLOOKUP(D11,'STOCK IDEAL'!$B$2:$C$1108,2,FALSE)+VLOOKUP($E11,'REGLE PRIORITE'!$Q$3:$R$28,2,FALSE)),VLOOKUP(D11,'STOCK IDEAL'!$B$2:$C$1108,2,FALSE)))) -> 1 | H11: 0 | I11: =IF($C11="porcelaine",IF(ISERROR(VLOOKUP($D11,'STOCK IDEAL'!$B$2:$E$1080,3,FALSE)+VLOOKUP($E11,'REGLE PRIORITE'!$K$3:$L$14,2,FALSE)),VLOOKUP($D11,'STOCK IDEAL'!$B$2:$E$1080,3,FALSE),VLOOKUP($D11,'STOCK IDEAL'!$B$2:$E$1080,3,FALSE)+VLOOKUP($E11,'REGLE PRIORITE'!$K$3:$L$14,2,FALSE)),IF(C11="Bijoux l’atelier",IF(ISERROR(VLOOKUP(D11,'STOCK IDEAL'!$B$2:$E$1108,3,FALSE)+VLOOKUP(E11,'REGLE PRIORITE'!$N$3:$O$18,2,FALSE)),VLOOKUP(D11,'STOCK IDEAL'!$B$2:$E$1108,3,FALSE),VLOOKUP(D11,'STOCK IDEAL'!$B$2:$E$1108,3,FALSE)+VLOOKUP(E11,'REGLE PRIORITE'!$N$3:$O$18,2,FALSE)),IF($C11="Bijoux argent/plaqué or",IF(ISERROR(VLOOKUP(D11,'STOCK IDEAL'!$B$2:$E$1108,3,FALSE)+VLOOKUP($E11,'REGLE PRIORITE'!$Q$3:$R$28,2,FALSE)),VLOOKUP(D11,'STOCK IDEAL'!$B$2:$E$1108,3,FALSE),VLOOKUP(D11,'STOCK IDEAL'!$B$2:$E$1108,3,FALSE)+VLOOKUP($E11,'REGLE PRIORITE'!$Q$3:$R$28,2,FALSE)),VLOOKUP(D11,'STOCK IDEAL'!$B$2:$E$1108,3,FALSE)))) -> 1 | J11: 0 | K11: =IF($C11="porcelaine",IF(ISERROR(VLOOKUP($D11,'STOCK IDEAL'!$B$2:$E$1080,4,FALSE)+VLOOKUP($E11,'REGLE PRIORITE'!$K$3:$L$14,2,FALSE)),VLOOKUP($D11,'STOCK IDEAL'!$B$2:$E$1080,4,FALSE),VLOOKUP($D11,'STOCK IDEAL'!$B$2:$E$1080,4,FALSE)+VLOOKUP($E11,'REGLE PRIORITE'!$K$3:$L$14,2,FALSE)),IF(C11="Bijoux l’atelier",IF(ISERROR(VLOOKUP(D11,'STOCK IDEAL'!$B$2:$E$1108,4,FALSE)+VLOOKUP(E11,'REGLE PRIORITE'!$N$3:$O$18,2,FALSE)),VLOOKUP(D11,'STOCK IDEAL'!$B$2:$E$1108,4,FALSE),VLOOKUP(D11,'STOCK IDEAL'!$B$2:$E$1108,4,FALSE)+VLOOKUP(E11,'REGLE PRIORITE'!$N$3:$O$18,2,FALSE)),IF($C11="Bijoux argent/plaqué or",IF(ISERROR(VLOOKUP(D11,'STOCK IDEAL'!$B$2:$E$1108,4,FALSE)+VLOOKUP($E11,'REGLE PRIORITE'!$Q$3:$R$28,2,FALSE)),VLOOKUP(D11,'STOCK IDEAL'!$B$2:$E$1108,4,FALSE),VLOOKUP(D11,'STOCK IDEAL'!$B$2:$E$1108,4,FALSE)+VLOOKUP($E11,'REGLE PRIORITE'!$Q$3:$R$28,2,FALSE)),VLOOKUP(D11,'STOCK IDEAL'!$B$2:$E$1108,4,FALSE)))) -> 3 | L11: =IF(F11>G11,"OK") -> FALSE | M11: =HLOOKUP('STOCK BRUT'!$C11,'REGLE PRIORITE'!$B$4:$G$7,2,FALSE) -> 1 | N11: =HLOOKUP('STOCK BRUT'!$C11,'REGLE PRIORITE'!$B$4:$G$7,3,FALSE) -> 3 | O11: =HLOOKUP('STOCK BRUT'!$C11,'REGLE PRIORITE'!$B$4:$G$7,4,FALSE) -> 2 | P11: =F11-G11 -> -1 | Q11: =H11-I11 -> -1 | R11: =J11-K11 -> -3 | S11: =P11+Q11+R11 -> -5
A12: 10 | B12: FB984TAUPE | C12: Porcelaine | D12: Théière carrée 1-2 pers unie | E12: TAUPE | F12: 1 | G12: =IF($C12="porcelaine",IF(ISERROR(VLOOKUP($D12,'STOCK IDEAL'!$B$2:$C$1080,2,FALSE)+VLOOKUP($E12,'REGLE PRIORITE'!$K$3:$L$14,2,FALSE)),VLOOKUP($D12,'STOCK IDEAL'!$B$2:$C$1080,2,FALSE),VLOOKUP($D12,'STOCK IDEAL'!$B$2:$C$1080,2,FALSE)+VLOOKUP($E12,'REGLE PRIORITE'!$K$3:$L$14,2,FALSE)),IF(C12="Bijoux l’atelier",IF(ISERROR(VLOOKUP(D12,'STOCK IDEAL'!$B$2:$C$1108,2,FALSE)+VLOOKUP(E12,'REGLE PRIORITE'!$N$3:$O$18,2,FALSE)),VLOOKUP(D12,'STOCK IDEAL'!$B$2:$C$1108,2,FALSE),VLOOKUP(D12,'STOCK IDEAL'!$B$2:$C$1108,2,FALSE)+VLOOKUP(E12,'REGLE PRIORITE'!$N$3:$O$18,2,FALSE)),IF($C12="Bijoux argent/plaqué or",IF(ISERROR(VLOOKUP(D12,'STOCK IDEAL'!$B$2:$C$1108,2,FALSE)+VLOOKUP($E12,'REGLE PRIORITE'!$Q$3:$R$28,2,FALSE)),VLOOKUP(D12,'STOCK IDEAL'!$B$2:$C$1108,2,FALSE),VLOOKUP(D12,'STOCK IDEAL'!$B$2:$C$1108,2,FALSE)+VLOOKUP($E12,'REGLE PRIORITE'!$Q$3:$R$28,2,FALSE)),VLOOKUP(D12,'STOCK IDEAL'!$B$2:$C$1108,2,FALSE)))) -> 2 | H12: 1 | I12: =IF($C12="porcelaine",IF(ISERROR(VLOOKUP($D12,'STOCK IDEAL'!$B$2:$E$1080,3,FALSE)+VLOOKUP($E12,'REGLE PRIORITE'!$K$3:$L$14,2,FALSE)),VLOOKUP($D12,'STOCK IDEAL'!$B$2:$E$1080,3,FALSE),VLOOKUP($D12,'STOCK IDEAL'!$B$2:$E$1080,3,FALSE)+VLOOKUP($E12,'REGLE PRIORITE'!$K$3:$L$14,2,FALSE)),IF(C12="Bijoux l’atelier",IF(ISERROR(VLOOKUP(D12,'STOCK IDEAL'!$B$2:$E$1108,3,FALSE)+VLOOKUP(E12,'REGLE PRIORITE'!$N$3:$O$18,2,FALSE)),VLOOKUP(D12,'STOCK IDEAL'!$B$2:$E$1108,3,FALSE),VLOOKUP(D12,'STOCK IDEAL'!$B$2:$E$1108,3,FALSE)+VLOOKUP(E12,'REGLE PRIORITE'!$N$3:$O$18,2,FALSE)),IF($C12="Bijoux argent/plaqué or",IF(ISERROR(VLOOKUP(D12,'STOCK IDEAL'!$B$2:$E$1108,3,FALSE)+VLOOKUP($E12,'REGLE PRIORITE'!$Q$3:$R$28,2,FALSE)),VLOOKUP(D12,'STOCK IDEAL'!$B$2:$E$1108,3,FALSE),VLOOKUP(D12,'STOCK IDEAL'!$B$2:$E$1108,3,FALSE)+VLOOKUP($E12,'REGLE PRIORITE'!$Q$3:$R$28,2,FALSE)),VLOOKUP(D12,'STOCK IDEAL'!$B$2:$E$1108,3,FALSE)))) -> 2 | J12: 1 | K12: =IF($C12="porcelaine",IF(ISERROR(VLOOKUP($D12,'STOCK IDEAL'!$B$2:$E$1080,4,FALSE)+VLOOKUP($E12,'REGLE PRIORITE'!$K$3:$L$14,2,FALSE)),VLOOKUP($D12,'STOCK IDEAL'!$B$2:$E$1080,4,FALSE),VLOOKUP($D12,'STOCK IDEAL'!$B$2:$E$1080,4,FALSE)+VLOOKUP($E12,'REGLE PRIORITE'!$K$3:$L$14,2,FALSE)),IF(C12="Bijoux l’atelier",IF(ISERROR(VLOOKUP(D12,'STOCK IDEAL'!$B$2:$E$1108,4,FALSE)+VLOOKUP(E12,'REGLE PRIORITE'!$N$3:$O$18,2,FALSE)),VLOOKUP(D12,'STOCK IDEAL'!$B$2:$E$1108,4,FALSE),VLOOKUP(D12,'STOCK IDEAL'!$B$2:$E$1108,4,FALSE)+VLOOKUP(E12,'REGLE PRIORITE'!$N$3:$O$18,2,FALSE)),IF($C12="Bijoux argent/plaqué or",IF(ISERROR(VLOOKUP(D12,'STOCK IDEAL'!$B$2:$E$1108,4,FALSE)+VLOOKUP($E12,'REGLE PRIORITE'!$Q$3:$R$28,2,FALSE)),VLOOKUP(D12,'STOCK IDEAL'!$B$2:$E$1108,4,FALSE),VLOOKUP(D12,'STOCK IDEAL'!$B$2:$E$1108,4,FALSE)+VLOOKUP($E12,'REGLE PRIORITE'!$Q$3:$R$28,2,FALSE)),VLOOKUP(D12,'STOCK IDEAL'!$B$2:$E$1108,4,FALSE)))) -> 4 | L12: =IF(F12>G12,"OK") -> FALSE | M12: =HLOOKUP('STOCK BRUT'!$C12,'REGLE PRIORITE'!$B$4:$G$7,2,FALSE) -> 1 | N12: =HLOOKUP('STOCK BRUT'!$C12,'REGLE PRIORITE'!$B$4:$G$7,3,FALSE) -> 3 | O12: =HLOOKUP('STOCK BRUT'!$C12,'REGLE PRIORITE'!$B$4:$G$7,4,FALSE) -> 2 | P12: =F12-G12 -> -1 | Q12: =H12-I12 -> -1 | R12: =J12-K12 -> -3 | S12: =P12+Q12+R12 -> -5
A13: 11 | B13: FB984TURQ | C13: Porcelaine | D13: Théière carrée 1-2 pers unie | E13: TURQUOISE | F13: 1 | G13: =IF($C13="porcelaine",IF(ISERROR(VLOOKUP($D13,'STOCK IDEAL'!$B$2:$C$1080,2,FALSE)+VLOOKUP($E13,'REGLE PRIORITE'!$K$3:$L$14,2,FALSE)),VLOOKUP($D13,'STOCK IDEAL'!$B$2:$C$1080,2,FALSE),VLOOKUP($D13,'STOCK IDEAL'!$B$2:$C$1080,2,FALSE)+VLOOKUP($E13,'REGLE PRIORITE'!$K$3:$L$14,2,FALSE)),IF(C13="Bijoux l’atelier",IF(ISERROR(VLOOKUP(D13,'STOCK IDEAL'!$B$2:$C$1108,2,FALSE)+VLOOKUP(E13,'REGLE PRIORITE'!$N$3:$O$18,2,FALSE)),VLOOKUP(D13,'STOCK IDEAL'!$B$2:$C$1108,2,FALSE),VLOOKUP(D13,'STOCK IDEAL'!$B$2:$C$1108,2,FALSE)+VLOOKUP(E13,'REGLE PRIORITE'!$N$3:$O$18,2,FALSE)),IF($C13="Bijoux argent/plaqué or",IF(ISERROR(VLOOKUP(D13,'STOCK IDEAL'!$B$2:$C$1108,2,FALSE)+VLOOKUP($E13,'REGLE PRIORITE'!$Q$3:$R$28,2,FALSE)),VLOOKUP(D13,'STOCK IDEAL'!$B$2:$C$1108,2,FALSE),VLOOKUP(D13,'STOCK IDEAL'!$B$2:$C$1108,2,FALSE)+VLOOKUP($E13,'REGLE PRIORITE'!$Q$3:$R$28,2,FALSE)),VLOOKUP(D13,'STOCK IDEAL'!$B$2:$C$1108,2,FALSE)))) -> 1 | H13: 1 | I13: =IF($C13="porcelaine",IF(ISERROR(VLOOKUP($D13,'STOCK IDEAL'!$B$2:$E$1080,3,FALSE)+VLOOKUP($E13,'REGLE PRIORITE'!$K$3:$L$14,2,FALSE)),VLOOKUP($D13,'STOCK IDEAL'!$B$2:$E$1080,3,FALSE),VLOOKUP($D13,'STOCK IDEAL'!$B$2:$E$1080,3,FALSE)+VLOOKUP($E13,'REGLE PRIORITE'!$K$3:$L$14,2,FALSE)),IF(C13="Bijoux l’atelier",IF(ISERROR(VLOOKUP(D13,'STOCK IDEAL'!$B$2:$E$1108,3,FALSE)+VLOOKUP(E13,'REGLE PRIORITE'!$N$3:$O$18,2,FALSE)),VLOOKUP(D13,'STOCK IDEAL'!$B$2:$E$1108,3,FALSE),VLOOKUP(D13,'STOCK IDEAL'!$B$2:$E$1108,3,FALSE)+VLOOKUP(E13,'REGLE PRIORITE'!$N$3:$O$18,2,FALSE)),IF($C13="Bijoux argent/plaqué or",IF(ISERROR(VLOOKUP(D13,'STOCK IDEAL'!$B$2:$E$1108,3,FALSE)+VLOOKUP($E13,'REGLE PRIORITE'!$Q$3:$R$28,2,FALSE)),VLOOKUP(D13,'STOCK IDEAL'!$B$2:$E$1108,3,FALSE),VLOOKUP(D13,'STOCK IDEAL'!$B$2:$E$1108,3,FALSE)+VLOOKUP($E13,'REGLE PRIORITE'!$Q$3:$R$28,2,FALSE)),VLOOKUP(D13,'STOCK IDEAL'!$B$2:$E$1108,3,FALSE)))) -> 1 | J13: 0 | K13: =IF($C13="porcelaine",IF(ISERROR(VLOOKUP($D13,'STOCK IDEAL'!$B$2:$E$1080,4,FALSE)+VLOOKUP($E13,'REGLE PRIORITE'!$K$3:$L$14,2,FALSE)),VLOOKUP($D13,'STOCK IDEAL'!$B$2:$E$1080,4,FALSE),VLOOKUP($D13,'STOCK IDEAL'!$B$2:$E$1080,4,FALSE)+VLOOKUP($E13,'REGLE PRIORITE'!$K$3:$L$14,2,FALSE)),IF(C13="Bijoux l’atelier",IF(ISERROR(VLOOKUP(D13,'STOCK IDEAL'!$B$2:$E$1108,4,FALSE)+VLOOKUP(E13,'REGLE PRIORITE'!$N$3:$O$18,2,FALSE)),VLOOKUP(D13,'STOCK IDEAL'!$B$2:$E$1108,4,FALSE),VLOOKUP(D13,'STOCK IDEAL'!$B$2:$E$1108,4,FALSE)+VLOOKUP(E13,'REGLE PRIORITE'!$N$3:$O$18,2,FALSE)),IF($C13="Bijoux argent/plaqué or",IF(ISERROR(VLOOKUP(D13,'STOCK IDEAL'!$B$2:$E$1108,4,FALSE)+VLOOKUP($E13,'REGLE PRIORITE'!$Q$3:$R$28,2,FALSE)),VLOOKUP(D13,'STOCK IDEAL'!$B$2:$E$1108,4,FALSE),VLOOKUP(D13,'STOCK IDEAL'!$B$2:$E$1108,4,FALSE)+VLOOKUP($E13,'REGLE PRIORITE'!$Q$3:$R$28,2,FALSE)),VLOOKUP(D13,'STOCK IDEAL'!$B$2:$E$1108,4,FALSE)))) -> 3 | L13: =IF(F13>G13,"OK") -> FALSE | M13: =HLOOKUP('STOCK BRUT'!$C13,'REGLE PRIORITE'!$B$4:$G$7,2,FALSE) -> 1 | N13: =HLOOKUP('STOCK BRUT'!$C13,'REGLE PRIORITE'!$B$4:$G$7,3,FALSE) -> 3 | O13: =HLOOKUP('STOCK BRUT'!$C13,'REGLE PRIORITE'!$B$4:$G$7,4,FALSE) -> 2 | P13: =F13-G13 -> 0 | Q13: =H13-I13 -> 0 | R13: =J13-K13 -> -3 | S13: =P13+Q13+R13 -> -3
A14: 12 | B14: FB984VIOLET | C14: Porcelaine | D14: Théière carrée 1-2 pers unie | E14: VIOLET | F14: 0 | G14: =IF($C14="porcelaine",IF(ISERROR(VLOOKUP($D14,'STOCK IDEAL'!$B$2:$C$1080,2,FALSE)+VLOOKUP($E14,'REGLE PRIORITE'!$K$3:$L$14,2,FALSE)),VLOOKUP($D14,'STOCK IDEAL'!$B$2:$C$1080,2,FALSE),VLOOKUP($D14,'STOCK IDEAL'!$B$2:$C$1080,2,FALSE)+VLOOKUP($E14,'REGLE PRIORITE'!$K$3:$L$14,2,FALSE)),IF(C14="Bijoux l’atelier",IF(ISERROR(VLOOKUP(D14,'STOCK IDEAL'!$B$2:$C$1108,2,FALSE)+VLOOKUP(E14,'REGLE PRIORITE'!$N$3:$O$18,2,FALSE)),VLOOKUP(D14,'STOCK IDEAL'!$B$2:$C$1108,2,FALSE),VLOOKUP(D14,'STOCK IDEAL'!$B$2:$C$1108,2,FALSE)+VLOOKUP(E14,'REGLE PRIORITE'!$N$3:$O$18,2,FALSE)),IF($C14="Bijoux argent/plaqué or",IF(ISERROR(VLOOKUP(D14,'STOCK IDEAL'!$B$2:$C$1108,2,FALSE)+VLOOKUP($E14,'REGLE PRIORITE'!$Q$3:$R$28,2,FALSE)),VLOOKUP(D14,'STOCK IDEAL'!$B$2:$C$1108,2,FALSE),VLOOKUP(D14,'STOCK IDEAL'!$B$2:$C$1108,2,FALSE)+VLOOKUP($E14,'REGLE PRIORITE'!$Q$3:$R$28,2,FALSE)),VLOOKUP(D14,'STOCK IDEAL'!$B$2:$C$1108,2,FALSE)))) -> 1 | H14: 0 | I14: =IF($C14="porcelaine",IF(ISERROR(VLOOKUP($D14,'STOCK IDEAL'!$B$2:$E$1080,3,FALSE)+VLOOKUP($E14,'REGLE PRIORITE'!$K$3:$L$14,2,FALSE)),VLOOKUP($D14,'STOCK IDEAL'!$B$2:$E$1080,3,FALSE),VLOOKUP($D14,'STOCK IDEAL'!$B$2:$E$1080,3,FALSE)+VLOOKUP($E14,'REGLE PRIORITE'!$K$3:$L$14,2,FALSE)),IF(C14="Bijoux l’atelier",IF(ISERROR(VLOOKUP(D14,'STOCK IDEAL'!$B$2:$E$1108,3,FALSE)+VLOOKUP(E14,'REGLE PRIORITE'!$N$3:$O$18,2,FALSE)),VLOOKUP(D14,'STOCK IDEAL'!$B$2:$E$1108,3,FALSE),VLOOKUP(D14,'STOCK IDEAL'!$B$2:$E$1108,3,FALSE)+VLOOKUP(E14,'REGLE PRIORITE'!$N$3:$O$18,2,FALSE)),IF($C14="Bijoux argent/plaqué or",IF(ISERROR(VLOOKUP(D14,'STOCK IDEAL'!$B$2:$E$1108,3,FALSE)+VLOOKUP($E14,'REGLE PRIORITE'!$Q$3:$R$28,2,FALSE)),VLOOKUP(D14,'STOCK IDEAL'!$B$2:$E$1108,3,FALSE),VLOOKUP(D14,'STOCK IDEAL'!$B$2:$E$1108,3,FALSE)+VLOOKUP($E14,'REGLE PRIORITE'!$Q$3:$R$28,2,FALSE)),VLOOKUP(D14,'STOCK IDEAL'!$B$2:$E$1108,3,FALSE)))) -> 1 | J14: 0 | K14: =IF($C14="porcelaine",IF(ISERROR(VLOOKUP($D14,'STOCK IDEAL'!$B$2:$E$1080,4,FALSE)+VLOOKUP($E14,'REGLE PRIORITE'!$K$3:$L$14,2,FALSE)),VLOOKUP($D14,'STOCK IDEAL'!$B$2:$E$1080,4,FALSE),VLOOKUP($D14,'STOCK IDEAL'!$B$2:$E$1080,4,FALSE)+VLOOKUP($E14,'REGLE PRIORITE'!$K$3:$L$14,2,FALSE)),IF(C14="Bijoux l’atelier",IF(ISERROR(VLOOKUP(D14,'STOCK IDEAL'!$B$2:$E$1108,4,FALSE)+VLOOKUP(E14,'REGLE PRIORITE'!$N$3:$O$18,2,FALSE)),VLOOKUP(D14,'STOCK IDEAL'!$B$2:$E$1108,4,FALSE),VLOOKUP(D14,'STOCK IDEAL'!$B$2:$E$1108,4,FALSE)+VLOOKUP(E14,'REGLE PRIORITE'!$N$3:$O$18,2,FALSE)),IF($C14="Bijoux argent/plaqué or",IF(ISERROR(VLOOKUP(D14,'STOCK IDEAL'!$B$2:$E$1108,4,FALSE)+VLOOKUP($E14,'REGLE PRIORITE'!$Q$3:$R$28,2,FALSE)),VLOOKUP(D14,'STOCK IDEAL'!$B$2:$E$1108,4,FALSE),VLOOKUP(D14,'STOCK IDEAL'!$B$2:$E$1108,4,FALSE)+VLOOKUP($E14,'REGLE PRIORITE'!$Q$3:$R$28,2,FALSE)),VLOOKUP(D14,'STOCK IDEAL'!$B$2:$E$1108,4,FALSE)))) -> 3 | L14: =IF(F14>G14,"OK") -> FALSE | M14: =HLOOKUP('STOCK BRUT'!$C14,'REGLE PRIORITE'!$B$4:$G$7,2,FALSE) -> 1 | N14: =HLOOKUP('STOCK BRUT'!$C14,'REGLE PRIORITE'!$B$4:$G$7,3,FALSE) -> 3 | O14: =HLOOKUP('STOCK BRUT'!$C14,'REGLE PRIORITE'!$B$4:$G$7,4,FALSE) -> 2 | P14: =F14-G14 -> -1 | Q14: =H14-I14 -> -1 | R14: =J14-K14 -> -3 | S14: =P14+Q14+R14 -> -5
A15: 13 | B15: FB983ANIS | C15: Porcelaine | D15: Théière carrée 2-4 pers unie | E15: ANIS | F15: 0 | G15: =IF($C15="porcelaine",IF(ISERROR(VLOOKUP($D15,'STOCK IDEAL'!$B$2:$C$1080,2,FALSE)+VLOOKUP($E15,'REGLE PRIORITE'!$K$3:$L$14,2,FALSE)),VLOOKUP($D15,'STOCK IDEAL'!$B$2:$C$1080,2,FALSE),VLOOKUP($D15,'STOCK IDEAL'!$B$2:$C$1080,2,FALSE)+VLOOKUP($E15,'REGLE PRIORITE'!$K$3:$L$14,2,FALSE)),IF(C15="Bijoux l’atelier",IF(ISERROR(VLOOKUP(D15,'STOCK IDEAL'!$B$2:$C$1108,2,FALSE)+VLOOKUP(E15,'REGLE PRIORITE'!$N$3:$O$18,2,FALSE)),VLOOKUP(D15,'STOCK IDEAL'!$B$2:$C$1108,2,FALSE),VLOOKUP(D15,'STOCK IDEAL'!$B$2:$C$1108,2,FALSE)+VLOOKUP(E15,'REGLE PRIORITE'!$N$3:$O$18,2,FALSE)),IF($C15="Bijoux argent/plaqué or",IF(ISERROR(VLOOKUP(D15,'STOCK IDEAL'!$B$2:$C$1108,2,FALSE)+VLOOKUP($E15,'REGLE PRIORITE'!$Q$3:$R$28,2,FALSE)),VLOOKUP(D15,'STOCK IDEAL'!$B$2:$C$1108,2,FALSE),VLOOKUP(D15,'STOCK IDEAL'!$B$2:$C$1108,2,FALSE)+VLOOKUP($E15,'REGLE PRIORITE'!$Q$3:$R$28,2,FALSE)),VLOOKUP(D15,'STOCK IDEAL'!$B$2:$C$1108,2,FALSE)))) -> 1 | H15: 0 | I15: =IF($C15="porcelaine",IF(ISERROR(VLOOKUP($D15,'STOCK IDEAL'!$B$2:$E$1080,3,FALSE)+VLOOKUP($E15,'REGLE PRIORITE'!$K$3:$L$14,2,FALSE)),VLOOKUP($D15,'STOCK IDEAL'!$B$2:$E$1080,3,FALSE),VLOOKUP($D15,'STOCK IDEAL'!$B$2:$E$1080,3,FALSE)+VLOOKUP($E15,'REGLE PRIORITE'!$K$3:$L$14,2,FALSE)),IF(C15="Bijoux l’atelier",IF(ISERROR(VLOOKUP(D15,'STOCK IDEAL'!$B$2:$E$1108,3,FALSE)+VLOOKUP(E15,'REGLE PRIORITE'!$N$3:$O$18,2,FALSE)),VLOOKUP(D15,'STOCK IDEAL'!$B$2:$E$1108,3,FALSE),VLOOKUP(D15,'STOCK IDEAL'!$B$2:$E$1108,3,FALSE)+VLOOKUP(E15,'REGLE PRIORITE'!$N$3:$O$18,2,FALSE)),IF($C15="Bijoux argent/plaqué or",IF(ISERROR(VLOOKUP(D15,'STOCK IDEAL'!$B$2:$E$1108,3,FALSE)+VLOOKUP($E15,'REGLE PRIORITE'!$Q$3:$R$28,2,FALSE)),VLOOKUP(D15,'STOCK IDEAL'!$B$2:$E$1108,3,FALSE),VLOOKUP(D15,'STOCK IDEAL'!$B$2:$E$1108,3,FALSE)+VLOOKUP($E15,'REGLE PRIORITE'!$Q$3:$R$28,2,FALSE)),VLOOKUP(D15,'STOCK IDEAL'!$B$2:$E$1108,3,FALSE)))) -> 1 | J15: 0 | K15: =IF($C15="porcelaine",IF(ISERROR(VLOOKUP($D15,'STOCK IDEAL'!$B$2:$E$1080,4,FALSE)+VLOOKUP($E15,'REGLE PRIORITE'!$K$3:$L$14,2,FALSE)),VLOOKUP($D15,'STOCK IDEAL'!$B$2:$E$1080,4,FALSE),VLOOKUP($D15,'STOCK IDEAL'!$B$2:$E$1080,4,FALSE)+VLOOKUP($E15,'REGLE PRIORITE'!$K$3:$L$14,2,FALSE)),IF(C15="Bijoux l’atelier",IF(ISERROR(VLOOKUP(D15,'STOCK IDEAL'!$B$2:$E$1108,4,FALSE)+VLOOKUP(E15,'REGLE PRIORITE'!$N$3:$O$18,2,FALSE)),VLOOKUP(D15,'STOCK IDEAL'!$B$2:$E$1108,4,FALSE),VLOOKUP(D15,'STOCK IDEAL'!$B$2:$E$1108,4,FALSE)+VLOOKUP(E15,'REGLE PRIORITE'!$N$3:$O$18,2,FALSE)),IF($C15="Bijoux argent/plaqué or",IF(ISERROR(VLOOKUP(D15,'STOCK IDEAL'!$B$2:$E$1108,4,FALSE)+VLOOKUP($E15,'REGLE PRIORITE'!$Q$3:$R$28,2,FALSE)),VLOOKUP(D15,'STOCK IDEAL'!$B$2:$E$1108,4,FALSE),VLOOKUP(D15,'STOCK IDEAL'!$B$2:$E$1108,4,FALSE)+VLOOKUP($E15,'REGLE PRIORITE'!$Q$3:$R$28,2,FALSE)),VLOOKUP(D15,'STOCK IDEAL'!$B$2:$E$1108,4,FALSE)))) -> 3 | L15: =IF(F15>G15,"OK") -> FALSE | M15: =HLOOKUP('STOCK BRUT'!$C15,'REGLE PRIORITE'!$B$4:$G$7,2,FALSE) -> 1 | N15: =HLOOKUP('STOCK BRUT'!$C15,'REGLE PRIORITE'!$B$4:$G$7,3,FALSE) -> 3 | O15: =HLOOKUP('STOCK BRUT'!$C15,'REGLE PRIORITE'!$B$4:$G$7,4,FALSE) -> 2 | P15: =F15-G15 -> -1 | Q15: =H15-I15 -> -1 | R15: =J15-K15 -> -3 | S15: =P15+Q15+R15 -> -5
A16: 14 | B16: FB983CORAIL | C16: Porcelaine | D16: Théière carrée 2-4 pers unie | E16: CORAIL | F16: 0 | G16: =IF($C16="porcelaine",IF(ISERROR(VLOOKUP($D16,'STOCK IDEAL'!$B$2:$C$1080,2,FALSE)+VLOOKUP($E16,'REGLE PRIORITE'!$K$3:$L$14,2,FALSE)),VLOOKUP($D16,'STOCK IDEAL'!$B$2:$C$1080,2,FALSE),VLOOKUP($D16,'STOCK IDEAL'!$B$2:$C$1080,2,FALSE)+VLOOKUP($E16,'REGLE PRIORITE'!$K$3:$L$14,2,FALSE)),IF(C16="Bijoux l’atelier",IF(ISERROR(VLOOKUP(D16,'STOCK IDEAL'!$B$2:$C$1108,2,FALSE)+VLOOKUP(E16,'REGLE PRIORITE'!$N$3:$O$18,2,FALSE)),VLOOKUP(D16,'STOCK IDEAL'!$B$2:$C$1108,2,FALSE),VLOOKUP(D16,'STOCK IDEAL'!$B$2:$C$1108,2,FALSE)+VLOOKUP(E16,'REGLE PRIORITE'!$N$3:$O$18,2,FALSE)),IF($C16="Bijoux argent/plaqué or",IF(ISERROR(VLOOKUP(D16,'STOCK IDEAL'!$B$2:$C$1108,2,FALSE)+VLOOKUP($E16,'REGLE PRIORITE'!$Q$3:$R$28,2,FALSE)),VLOOKUP(D16,'STOCK IDEAL'!$B$2:$C$1108,2,FALSE),VLOOKUP(D16,'STOCK IDEAL'!$B$2:$C$1108,2,FALSE)+VLOOKUP($E16,'REGLE PRIORITE'!$Q$3:$R$28,2,FALSE)),VLOOKUP(D16,'STOCK IDEAL'!$B$2:$C$1108,2,FALSE)))) -> 1 | H16: 0 | I16: =IF($C16="porcelaine",IF(ISERROR(VLOOKUP($D16,'STOCK IDEAL'!$B$2:$E$1080,3,FALSE)+VLOOKUP($E16,'REGLE PRIORITE'!$K$3:$L$14,2,FALSE)),VLOOKUP($D16,'STOCK IDEAL'!$B$2:$E$1080,3,FALSE),VLOOKUP($D16,'STOCK IDEAL'!$B$2:$E$1080,3,FALSE)+VLOOKUP($E16,'REGLE PRIORITE'!$K$3:$L$14,2,FALSE)),IF(C16="Bijoux l’atelier",IF(ISERROR(VLOOKUP(D16,'STOCK IDEAL'!$B$2:$E$1108,3,FALSE)+VLOOKUP(E16,'REGLE PRIORITE'!$N$3:$O$18,2,FALSE)),VLOOKUP(D16,'STOCK IDEAL'!$B$2:$E$1108,3,FALSE),VLOOKUP(D16,'STOCK IDEAL'!$B$2:$E$1108,3,FALSE)+VLOOKUP(E16,'REGLE PRIORITE'!$N$3:$O$18,2,FALSE)),IF($C16="Bijoux argent/plaqué or",IF(ISERROR(VLOOKUP(D16,'STOCK IDEAL'!$B$2:$E$1108,3,FALSE)+VLOOKUP($E16,'REGLE PRIORITE'!$Q$3:$R$28,2,FALSE)),VLOOKUP(D16,'STOCK IDEAL'!$B$2:$E$1108,3,FALSE),VLOOKUP(D16,'STOCK IDEAL'!$B$2:$E$1108,3,FALSE)+VLOOKUP($E16,'REGLE PRIORITE'!$Q$3:$R$28,2,FALSE)),VLOOKUP(D16,'STOCK IDEAL'!$B$2:$E$1108,3,FALSE)))) -> 1 | J16: 0 | K16: =IF($C16="porcelaine",IF(ISERROR(VLOOKUP($D16,'STOCK IDEAL'!$B$2:$E$1080,4,FALSE)+VLOOKUP($E16,'REGLE PRIORITE'!$K$3:$L$14,2,FALSE)),VLOOKUP($D16,'STOCK IDEAL'!$B$2:$E$1080,4,FALSE),VLOOKUP($D16,'STOCK IDEAL'!$B$2:$E$1080,4,FALSE)+VLOOKUP($E16,'REGLE PRIORITE'!$K$3:$L$14,2,FALSE)),IF(C16="Bijoux l’atelier",IF(ISERROR(VLOOKUP(D16,'STOCK IDEAL'!$B$2:$E$1108,4,FALSE)+VLOOKUP(E16,'REGLE PRIORITE'!$N$3:$O$18,2,FALSE)),VLOOKUP(D16,'STOCK IDEAL'!$B$2:$E$1108,4,FALSE),VLOOKUP(D16,'STOCK IDEAL'!$B$2:$E$1108,4,FALSE)+VLOOKUP(E16,'REGLE PRIORITE'!$N$3:$O$18,2,FALSE)),IF($C16="Bijoux argent/plaqué or",IF(ISERROR(VLOOKUP(D16,'STOCK IDEAL'!$B$2:$E$1108,4,FALSE)+VLOOKUP($E16,'REGLE PRIORITE'!$Q$3:$R$28,2,FALSE)),VLOOKUP(D16,'STOCK IDEAL'!$B$2:$E$1108,4,FALSE),VLOOKUP(D16,'STOCK IDEAL'!$B$2:$E$1108,4,FALSE)+VLOOKUP($E16,'REGLE PRIORITE'!$Q$3:$R$28,2,FALSE)),VLOOKUP(D16,'STOCK IDEAL'!$B$2:$E$1108,4,FALSE)))) -> 3 | L16: =IF(F16>G16,"OK") -> FALSE | M16: =HLOOKUP('STOCK BRUT'!$C16,'REGLE PRIORITE'!$B$4:$G$7,2,FALSE) -> 1 | N16: =HLOOKUP('STOCK BRUT'!$C16,'REGLE PRIORITE'!$B$4:$G$7,3,FALSE) -> 3 | O16: =HLOOKUP('STOCK BRUT'!$C16,'REGLE PRIORITE'!$B$4:$G$7,4,FALSE) -> 2 | P16: =F16-G16 -> -1 | Q16: =H16-I16 -> -1 | R16: =J16-K16 -> -3 | S16: =P16+Q16+R16 -> -5
A17: 15 | B17: FB983FRAMB | C17: Porcelaine | D17: Théière carrée 2-4 pers unie | E17: FRAMBOISE | F17: 1 | G17: =IF($C17="porcelaine",IF(ISERROR(VLOOKUP($D17,'STOCK IDEAL'!$B$2:$C$1080,2,FALSE)+VLOOKUP($E17,'REGLE PRIORITE'!$K$3:$L$14,2,FALSE)),VLOOKUP($D17,'STOCK IDEAL'!$B$2:$C$1080,2,FALSE),VLOOKUP($D17,'STOCK IDEAL'!$B$2:$C$1080,2,FALSE)+VLOOKUP($E17,'REGLE PRIORITE'!$K$3:$L$14,2,FALSE)),IF(C17="Bijoux l’atelier",IF(ISERROR(VLOOKUP(D17,'STOCK IDEAL'!$B$2:$C$1108,2,FALSE)+VLOOKUP(E17,'REGLE PRIORITE'!$N$3:$O$18,2,FALSE)),VLOOKUP(D17,'STOCK IDEAL'!$B$2:$C$1108,2,FALSE),VLOOKUP(D17,'STOCK IDEAL'!$B$2:$C$1108,2,FALSE)+VLOOKUP(E17,'REGLE PRIORITE'!$N$3:$O$18,2,FALSE)),IF($C17="Bijoux argent/plaqué or",IF(ISERROR(VLOOKUP(D17,'STOCK IDEAL'!$B$2:$C$1108,2,FALSE)+VLOOKUP($E17,'REGLE PRIORITE'!$Q$3:$R$28,2,FALSE)),VLOOKUP(D17,'STOCK IDEAL'!$B$2:$C$1108,2,FALSE),VLOOKUP(D17,'STOCK IDEAL'!$B$2:$C$1108,2,FALSE)+VLOOKUP($E17,'REGLE PRIORITE'!$Q$3:$R$28,2,FALSE)),VLOOKUP(D17,'STOCK IDEAL'!$B$2:$C$1108,2,FALSE)))) -> 1 | H17: 1 | I17: =IF($C17="porcelaine",IF(ISERROR(VLOOKUP($D17,'STOCK IDEAL'!$B$2:$E$1080,3,FALSE)+VLOOKUP($E17,'REGLE PRIORITE'!$K$3:$L$14,2,FALSE)),VLOOKUP($D17,'STOCK IDEAL'!$B$2:$E$1080,3,FALSE),VLOOKUP($D17,'STOCK IDEAL'!$B$2:$E$1080,3,FALSE)+VLOOKUP($E17,'REGLE PRIORITE'!$K$3:$L$14,2,FALSE)),IF(C17="Bijoux l’atelier",IF(ISERROR(VLOOKUP(D17,'STOCK IDEAL'!$B$2:$E$1108,3,FALSE)+VLOOKUP(E17,'REGLE PRIORITE'!$N$3:$O$18,2,FALSE)),VLOOKUP(D17,'STOCK IDEAL'!$B$2:$E$1108,3,FALSE),VLOOKUP(D17,'STOCK IDEAL'!$B$2:$E$1108,3,FALSE)+VLOOKUP(E17,'REGLE PRIORITE'!$N$3:$O$18,2,FALSE)),IF($C17="Bijoux argent/plaqué or",IF(ISERROR(VLOOKUP(D17,'STOCK IDEAL'!$B$2:$E$1108,3,FALSE)+VLOOKUP($E17,'REGLE PRIORITE'!$Q$3:$R$28,2,FALSE)),VLOOKUP(D17,'STOCK IDEAL'!$B$2:$E$1108,3,FALSE),VLOOKUP(D17,'STOCK IDEAL'!$B$2:$E$1108,3,FALSE)+VLOOKUP($E17,'REGLE PRIORITE'!$Q$3:$R$28,2,FALSE)),VLOOKUP(D17,'STOCK IDEAL'!$B$2:$E$1108,3,FALSE)))) -> 1 | J17: 1 | K17: =IF($C17="porcelaine",IF(ISERROR(VLOOKUP($D17,'STOCK IDEAL'!$B$2:$E$1080,4,FALSE)+VLOOKUP($E17,'REGLE PRIORITE'!$K$3:$L$14,2,FALSE)),VLOOKUP($D17,'STOCK IDEAL'!$B$2:$E$1080,4,FALSE),VLOOKUP($D17,'STOCK IDEAL'!$B$2:$E$1080,4,FALSE)+VLOOKUP($E17,'REGLE PRIORITE'!$K$3:$L$14,2,FALSE)),IF(C17="Bijoux l’atelier",IF(ISERROR(VLOOKUP(D17,'STOCK IDEAL'!$B$2:$E$1108,4,FALSE)+VLOOKUP(E17,'REGLE PRIORITE'!$N$3:$O$18,2,FALSE)),VLOOKUP(D17,'STOCK IDEAL'!$B$2:$E$1108,4,FALSE),VLOOKUP(D17,'STOCK IDEAL'!$B$2:$E$1108,4,FALSE)+VLOOKUP(E17,'REGLE PRIORITE'!$N$3:$O$18,2,FALSE)),IF($C17="Bijoux argent/plaqué or",IF(ISERROR(VLOOKUP(D17,'STOCK IDEAL'!$B$2:$E$1108,4,FALSE)+VLOOKUP($E17,'REGLE PRIORITE'!$Q$3:$R$28,2,FALSE)),VLOOKUP(D17,'STOCK IDEAL'!$B$2:$E$1108,4,FALSE),VLOOKUP(D17,'STOCK IDEAL'!$B$2:$E$1108,4,FALSE)+VLOOKUP($E17,'REGLE PRIORITE'!$Q$3:$R$28,2,FALSE)),VLOOKUP(D17,'STOCK IDEAL'!$B$2:$E$1108,4,FALSE)))) -> 3 | L17: =IF(F17>G17,"OK") -> FALSE | M17: =HLOOKUP('STOCK BRUT'!$C17,'REGLE PRIORITE'!$B$4:$G$7,2,FALSE) -> 1 | N17: =HLOOKUP('STOCK BRUT'!$C17,'REGLE PRIORITE'!$B$4:$G$7,3,FALSE) -> 3 | O17: =HLOOKUP('STOCK BRUT'!$C17,'REGLE PRIORITE'!$B$4:$G$7,4,FALSE) -> 2 | P17: =F17-G17 -> 0 | Q17: =H17-I17 -> 0 | R17: =J17-K17 -> -2 | S17: =P17+Q17+R17 -> -2
... A155: 153 | B155: P6821VIOLET | C155: Porcelaine | D155: Maxi déjeuner 70 cl | E155: VIOLET | F155: 0 | G155: =IF($C155="porcelaine",IF(ISERROR(VLOOKUP($D155,'STOCK IDEAL'!$B$2:$C$1080,2,FALSE)+VLOOKUP($E155,'REGLE PRIORITE'!$K$3:$L$14,2,FALSE)),VLOOKUP($D155,'STOCK IDEAL'!$B$2:$C$1080,2,FALSE),VLOOKUP($D155,'STOCK IDEAL'!$B$2:$C$1080,2,FALSE)+VLOOKUP($E155,'REGLE PRIORITE'!$K$3:$L$14,2,FALSE)),IF(C155="Bijoux l’atelier",IF(ISERROR(VLOOKUP(D155,'STOCK IDEAL'!$B$2:$C$1108,2,FALSE)+VLOOKUP(E155,'REGLE PRIORITE'!$N$3:$O$18,2,FALSE)),VLOOKUP(D155,'STOCK IDEAL'!$B$2:$C$1108,2,FALSE),VLOOKUP(D155,'STOCK IDEAL'!$B$2:$C$1108,2,FALSE)+VLOOKUP(E155,'REGLE PRIORITE'!$N$3:$O$18,2,FALSE)),IF($C155="Bijoux argent/plaqué or",IF(ISERROR(VLOOKUP(D155,'STOCK IDEAL'!$B$2:$C$1108,2,FALSE)+VLOOKUP($E155,'REGLE PRIORITE'!$Q$3:$R$28,2,FALSE)),VLOOKUP(D155,'STOCK IDEAL'!$B$2:$C$1108,2,FALSE),VLOOKUP(D155,'STOCK IDEAL'!$B$2:$C$1108,2,FALSE)+VLOOKUP($E155,'REGLE PRIORITE'!$Q$3:$R$28,2,FALSE)),VLOOKUP(D155,'STOCK IDEAL'!$B$2:$C$1108,2,FALSE)))) -> 2 | H155: 0 | I155: =IF($C155="porcelaine",IF(ISERROR(VLOOKUP($D155,'STOCK IDEAL'!$B$2:$E$1080,3,FALSE)+VLOOKUP($E155,'REGLE PRIORITE'!$K$3:$L$14,2,FALSE)),VLOOKUP($D155,'STOCK IDEAL'!$B$2:$E$1080,3,FALSE),VLOOKUP($D155,'STOCK IDEAL'!$B$2:$E$1080,3,FALSE)+VLOOKUP($E155,'REGLE PRIORITE'!$K$3:$L$14,2,FALSE)),IF(C155="Bijoux l’atelier",IF(ISERROR(VLOOKUP(D155,'STOCK IDEAL'!$B$2:$E$1108,3,FALSE)+VLOOKUP(E155,'REGLE PRIORITE'!$N$3:$O$18,2,FALSE)),VLOOKUP(D155,'STOCK IDEAL'!$B$2:$E$1108,3,FALSE),VLOOKUP(D155,'STOCK IDEAL'!$B$2:$E$1108,3,FALSE)+VLOOKUP(E155,'REGLE PRIORITE'!$N$3:$O$18,2,FALSE)),IF($C155="Bijoux argent/plaqué or",IF(ISERROR(VLOOKUP(D155,'STOCK IDEAL'!$B$2:$E$1108,3,FALSE)+VLOOKUP($E155,'REGLE PRIORITE'!$Q$3:$R$28,2,FALSE)),VLOOKUP(D155,'STOCK IDEAL'!$B$2:$E$1108,3,FALSE),VLOOKUP(D155,'STOCK IDEAL'!$B$2:$E$1108,3,FALSE)+VLOOKUP($E155,'REGLE PRIORITE'!$Q$3:$R$28,2,FALSE)),VLOOKUP(D155,'STOCK IDEAL'!$B$2:$E$1108,3,FALSE)))) -> 1 | J155: 0 | K155: =IF($C155="porcelaine",IF(ISERROR(VLOOKUP($D155,'STOCK IDEAL'!$B$2:$E$1080,4,FALSE)+VLOOKUP($E155,'REGLE PRIORITE'!$K$3:$L$14,2,FALSE)),VLOOKUP($D155,'STOCK IDEAL'!$B$2:$E$1080,4,FALSE),VLOOKUP($D155,'STOCK IDEAL'!$B$2:$E$1080,4,FALSE)+VLOOKUP($E155,'REGLE PRIORITE'!$K$3:$L$14,2,FALSE)),IF(C155="Bijoux l’atelier",IF(ISERROR(VLOOKUP(D155,'STOCK IDEAL'!$B$2:$E$1108,4,FALSE)+VLOOKUP(E155,'REGLE PRIORITE'!$N$3:$O$18,2,FALSE)),VLOOKUP(D155,'STOCK IDEAL'!$B$2:$E$1108,4,FALSE),VLOOKUP(D155,'STOCK IDEAL'!$B$2:$E$1108,4,FALSE)+VLOOKUP(E155,'REGLE PRIORITE'!$N$3:$O$18,2,FALSE)),IF($C155="Bijoux argent/plaqué or",IF(ISERROR(VLOOKUP(D155,'STOCK IDEAL'!$B$2:$E$1108,4,FALSE)+VLOOKUP($E155,'REGLE PRIORITE'!$Q$3:$R$28,2,FALSE)),VLOOKUP(D155,'STOCK IDEAL'!$B$2:$E$1108,4,FALSE),VLOOKUP(D155,'STOCK IDEAL'!$B$2:$E$1108,4,FALSE)+VLOOKUP($E155,'REGLE PRIORITE'!$Q$3:$R$28,2,FALSE)),VLOOKUP(D155,'STOCK IDEAL'!$B$2:$E$1108,4,FALSE)))) -> 3 | L155: =IF(F155>G155,"OK") -> FALSE | M155: =HLOOKUP('STOCK BRUT'!$C155,'REGLE PRIORITE'!$B$4:$G$7,2,FALSE) -> 1 | N155: =HLOOKUP('STOCK BRUT'!$C155,'REGLE PRIORITE'!$B$4:$G$7,3,FALSE) -> 3 | O155: =HLOOKUP('STOCK BRUT'!$C155,'REGLE PRIORITE'!$B$4:$G$7,4,FALSE) -> 2 | P155: =F155-G155 -> -2 | Q155: =H155-I155 -> -1 | R155: =J155-K155 -> -3 | S155: =P155+Q155+R155 -> -6
A156: 154 | B156: C9030 | C156: Oozoo | D156: Montre Oozoo C9030 | F156: 0 | G156: =IF($C156="porcelaine",IF(ISERROR(VLOOKUP($D156,'STOCK IDEAL'!$B$2:$C$1080,2,FALSE)+VLOOKUP($E156,'REGLE PRIORITE'!$K$3:$L$14,2,FALSE)),VLOOKUP($D156,'STOCK IDEAL'!$B$2:$C$1080,2,FALSE),VLOOKUP($D156,'STOCK IDEAL'!$B$2:$C$1080,2,FALSE)+VLOOKUP($E156,'REGLE PRIORITE'!$K$3:$L$14,2,FALSE)),IF(C156="Bijoux l’atelier",IF(ISERROR(VLOOKUP(D156,'STOCK IDEAL'!$B$2:$C$1108,2,FALSE)+VLOOKUP(E156,'REGLE PRIORITE'!$N$3:$O$18,2,FALSE)),VLOOKUP(D156,'STOCK IDEAL'!$B$2:$C$1108,2,FALSE),VLOOKUP(D156,'STOCK IDEAL'!$B$2:$C$1108,2,FALSE)+VLOOKUP(E156,'REGLE PRIORITE'!$N$3:$O$18,2,FALSE)),IF($C156="Bijoux argent/plaqué or",IF(ISERROR(VLOOKUP(D156,'STOCK IDEAL'!$B$2:$C$1108,2,FALSE)+VLOOKUP($E156,'REGLE PRIORITE'!$Q$3:$R$28,2,FALSE)),VLOOKUP(D156,'STOCK IDEAL'!$B$2:$C$1108,2,FALSE),VLOOKUP(D156,'STOCK IDEAL'!$B$2:$C$1108,2,FALSE)+VLOOKUP($E156,'REGLE PRIORITE'!$Q$3:$R$28,2,FALSE)),VLOOKUP(D156,'STOCK IDEAL'!$B$2:$C$1108,2,FALSE)))) -> 1 | H156: 0 | I156: =IF($C156="porcelaine",IF(ISERROR(VLOOKUP($D156,'STOCK IDEAL'!$B$2:$E$1080,3,FALSE)+VLOOKUP($E156,'REGLE PRIORITE'!$K$3:$L$14,2,FALSE)),VLOOKUP($D156,'STOCK IDEAL'!$B$2:$E$1080,3,FALSE),VLOOKUP($D156,'STOCK IDEAL'!$B$2:$E$1080,3,FALSE)+VLOOKUP($E156,'REGLE PRIORITE'!$K$3:$L$14,2,FALSE)),IF(C156="Bijoux l’atelier",IF(ISERROR(VLOOKUP(D156,'STOCK IDEAL'!$B$2:$E$1108,3,FALSE)+VLOOKUP(E156,'REGLE PRIORITE'!$N$3:$O$18,2,FALSE)),VLOOKUP(D156,'STOCK IDEAL'!$B$2:$E$1108,3,FALSE),VLOOKUP(D156,'STOCK IDEAL'!$B$2:$E$1108,3,FALSE)+VLOOKUP(E156,'REGLE PRIORITE'!$N$3:$O$18,2,FALSE)),IF($C156="Bijoux argent/plaqué or",IF(ISERROR(VLOOKUP(D156,'STOCK IDEAL'!$B$2:$E$1108,3,FALSE)+VLOOKUP($E156,'REGLE PRIORITE'!$Q$3:$R$28,2,FALSE)),VLOOKUP(D156,'STOCK IDEAL'!$B$2:$E$1108,3,FALSE),VLOOKUP(D156,'STOCK IDEAL'!$B$2:$E$1108,3,FALSE)+VLOOKUP($E156,'REGLE PRIORITE'!$Q$3:$R$28,2,FALSE)),VLOOKUP(D156,'STOCK IDEAL'!$B$2:$E$1108,3,FALSE)))) -> 1 | J156: 0 | K156: =IF($C156="porcelaine",IF(ISERROR(VLOOKUP($D156,'STOCK IDEAL'!$B$2:$E$1080,4,FALSE)+VLOOKUP($E156,'REGLE PRIORITE'!$K$3:$L$14,2,FALSE)),VLOOKUP($D156,'STOCK IDEAL'!$B$2:$E$1080,4,FALSE),VLOOKUP($D156,'STOCK IDEAL'!$B$2:$E$1080,4,FALSE)+VLOOKUP($E156,'REGLE PRIORITE'!$K$3:$L$14,2,FALSE)),IF(C156="Bijoux l’atelier",IF(ISERROR(VLOOKUP(D156,'STOCK IDEAL'!$B$2:$E$1108,4,FALSE)+VLOOKUP(E156,'REGLE PRIORITE'!$N$3:$O$18,2,FALSE)),VLOOKUP(D156,'STOCK IDEAL'!$B$2:$E$1108,4,FALSE),VLOOKUP(D156,'STOCK IDEAL'!$B$2:$E$1108,4,FALSE)+VLOOKUP(E156,'REGLE PRIORITE'!$N$3:$O$18,2,FALSE)),IF($C156="Bijoux argent/plaqué or",IF(ISERROR(VLOOKUP(D156,'STOCK IDEAL'!$B$2:$E$1108,4,FALSE)+VLOOKUP($E156,'REGLE PRIORITE'!$Q$3:$R$28,2,FALSE)),VLOOKUP(D156,'STOCK IDEAL'!$B$2:$E$1108,4,FALSE),VLOOKUP(D156,'STOCK IDEAL'!$B$2:$E$1108,4,FALSE)+VLOOKUP($E156,'REGLE PRIORITE'!$Q$3:$R$28,2,FALSE)),VLOOKUP(D156,'STOCK IDEAL'!$B$2:$E$1108,4,FALSE)))) -> 3 | L156: =IF(F156>G156,"OK") -> FALSE | M156: =HLOOKUP('STOCK BRUT'!$C156,'REGLE PRIORITE'!$B$4:$G$7,2,FALSE) -> 2 | N156: =HLOOKUP('STOCK BRUT'!$C156,'REGLE PRIORITE'!$B$4:$G$7,3,FALSE) -> 1 | O156: =HLOOKUP('STOCK BRUT'!$C156,'REGLE PRIORITE'!$B$4:$G$7,4,FALSE) -> 3 | P156: =F156-G156 -> -1 | Q156: =H156-I156 -> -1 | R156: =J156-K156 -> -3 | S156: =P156+Q156+R156 -> -5
A157: 155 | B157: 5346ANIS | C157: Porcelaine | D157: Coupelle entremets pm unie | E157: ANIS | F157: 3 | G157: =IF($C157="porcelaine",IF(ISERROR(VLOOKUP($D157,'STOCK IDEAL'!$B$2:$C$1080,2,FALSE)+VLOOKUP($E157,'REGLE PRIORITE'!$K$3:$L$14,2,FALSE)),VLOOKUP($D157,'STOCK IDEAL'!$B$2:$C$1080,2,FALSE),VLOOKUP($D157,'STOCK IDEAL'!$B$2:$C$1080,2,FALSE)+VLOOKUP($E157,'REGLE PRIORITE'!$K$3:$L$14,2,FALSE)),IF(C157="Bijoux l’atelier",IF(ISERROR(VLOOKUP(D157,'STOCK IDEAL'!$B$2:$C$1108,2,FALSE)+VLOOKUP(E157,'REGLE PRIORITE'!$N$3:$O$18,2,FALSE)),VLOOKUP(D157,'STOCK IDEAL'!$B$2:$C$1108,2,FALSE),VLOOKUP(D157,'STOCK IDEAL'!$B$2:$C$1108,2,FALSE)+VLOOKUP(E157,'REGLE PRIORITE'!$N$3:$O$18,2,FALSE)),IF($C157="Bijoux argent/plaqué or",IF(ISERROR(VLOOKUP(D157,'STOCK IDEAL'!$B$2:$C$1108,2,FALSE)+VLOOKUP($E157,'REGLE PRIORITE'!$Q$3:$R$28,2,FALSE)),VLOOKUP(D157,'STOCK IDEAL'!$B$2:$C$1108,2,FALSE),VLOOKUP(D157,'STOCK IDEAL'!$B$2:$C$1108,2,FALSE)+VLOOKUP($E157,'REGLE PRIORITE'!$Q$3:$R$28,2,FALSE)),VLOOKUP(D157,'STOCK IDEAL'!$B$2:$C$1108,2,FALSE)))) -> 3 | H157: 1 | I157: =IF($C157="porcelaine",IF(ISERROR(VLOOKUP($D157,'STOCK IDEAL'!$B$2:$E$1080,3,FALSE)+VLOOKUP($E157,'REGLE PRIORITE'!$K$3:$L$14,2,FALSE)),VLOOKUP($D157,'STOCK IDEAL'!$B$2:$E$1080,3,FALSE),VLOOKUP($D157,'STOCK IDEAL'!$B$2:$E$1080,3,FALSE)+VLOOKUP($E157,'REGLE PRIORITE'!$K$3:$L$14,2,FALSE)),IF(C157="Bijoux l’atelier",IF(ISERROR(VLOOKUP(D157,'STOCK IDEAL'!$B$2:$E$1108,3,FALSE)+VLOOKUP(E157,'REGLE PRIORITE'!$N$3:$O$18,2,FALSE)),VLOOKUP(D157,'STOCK IDEAL'!$B$2:$E$1108,3,FALSE),VLOOKUP(D157,'STOCK IDEAL'!$B$2:$E$1108,3,FALSE)+VLOOKUP(E157,'REGLE PRIORITE'!$N$3:$O$18,2,FALSE)),IF($C157="Bijoux argent/plaqué or",IF(ISERROR(VLOOKUP(D157,'STOCK IDEAL'!$B$2:$E$1108,3,FALSE)+VLOOKUP($E157,'REGLE PRIORITE'!$Q$3:$R$28,2,FALSE)),VLOOKUP(D157,'STOCK IDEAL'!$B$2:$E$1108,3,FALSE),VLOOKUP(D157,'STOCK IDEAL'!$B$2:$E$1108,3,FALSE)+VLOOKUP($E157,'REGLE PRIORITE'!$Q$3:$R$28,2,FALSE)),VLOOKUP(D157,'STOCK IDEAL'!$B$2:$E$1108,3,FALSE)))) -> 1 | J157: 0 | K157: =IF($C157="porcelaine",IF(ISERROR(VLOOKUP($D157,'STOCK IDEAL'!$B$2:$E$1080,4,FALSE)+VLOOKUP($E157,'REGLE PRIORITE'!$K$3:$L$14,2,FALSE)),VLOOKUP($D157,'STOCK IDEAL'!$B$2:$E$1080,4,FALSE),VLOOKUP($D157,'STOCK IDEAL'!$B$2:$E$1080,4,FALSE)+VLOOKUP($E157,'REGLE PRIORITE'!$K$3:$L$14,2,FALSE)),IF(C157="Bijoux l’atelier",IF(ISERROR(VLOOKUP(D157,'STOCK IDEAL'!$B$2:$E$1108,4,FALSE)+VLOOKUP(E157,'REGLE PRIORITE'!$N$3:$O$18,2,FALSE)),VLOOKUP(D157,'STOCK IDEAL'!$B$2:$E$1108,4,FALSE),VLOOKUP(D157,'STOCK IDEAL'!$B$2:$E$1108,4,FALSE)+VLOOKUP(E157,'REGLE PRIORITE'!$N$3:$O$18,2,FALSE)),IF($C157="Bijoux argent/plaqué or",IF(ISERROR(VLOOKUP(D157,'STOCK IDEAL'!$B$2:$E$1108,4,FALSE)+VLOOKUP($E157,'REGLE PRIORITE'!$Q$3:$R$28,2,FALSE)),VLOOKUP(D157,'STOCK IDEAL'!$B$2:$E$1108,4,FALSE),VLOOKUP(D157,'STOCK IDEAL'!$B$2:$E$1108,4,FALSE)+VLOOKUP($E157,'REGLE PRIORITE'!$Q$3:$R$28,2,FALSE)),VLOOKUP(D157,'STOCK IDEAL'!$B$2:$E$1108,4,FALSE)))) -> 3 | L157: =IF(F157>G157,"OK") -> FALSE | M157: =HLOOKUP('STOCK BRUT'!$C157,'REGLE PRIORITE'!$B$4:$G$7,2,FALSE) -> 1 | N157: =HLOOKUP('STOCK BRUT'!$C157,'REGLE PRIORITE'!$B$4:$G$7,3,FALSE) -> 3 | O157: =HLOOKUP('STOCK BRUT'!$C157,'REGLE PRIORITE'!$B$4:$G$7,4,FALSE) -> 2 | P157: =F157-G157 -> 0 | Q157: =H157-I157 -> 0 | R157: =J157-K157 -> -3 | S157: =P157+Q157+R157 -> -3
A158: 156 | B158: 5346CORAIL | C158: Porcelaine | D158: Coupelle entremets pm unie | E158: CORAIL | F158: 2 | G158: =IF($C158="porcelaine",IF(ISERROR(VLOOKUP($D158,'STOCK IDEAL'!$B$2:$C$1080,2,FALSE)+VLOOKUP($E158,'REGLE PRIORITE'!$K$3:$L$14,2,FALSE)),VLOOKUP($D158,'STOCK IDEAL'!$B$2:$C$1080,2,FALSE),VLOOKUP($D158,'STOCK IDEAL'!$B$2:$C$1080,2,FALSE)+VLOOKUP($E158,'REGLE PRIORITE'!$K$3:$L$14,2,FALSE)),IF(C158="Bijoux l’atelier",IF(ISERROR(VLOOKUP(D158,'STOCK IDEAL'!$B$2:$C$1108,2,FALSE)+VLOOKUP(E158,'REGLE PRIORITE'!$N$3:$O$18,2,FALSE)),VLOOKUP(D158,'STOCK IDEAL'!$B$2:$C$1108,2,FALSE),VLOOKUP(D158,'STOCK IDEAL'!$B$2:$C$1108,2,FALSE)+VLOOKUP(E158,'REGLE PRIORITE'!$N$3:$O$18,2,FALSE)),IF($C158="Bijoux argent/plaqué or",IF(ISERROR(VLOOKUP(D158,'STOCK IDEAL'!$B$2:$C$1108,2,FALSE)+VLOOKUP($E158,'REGLE PRIORITE'!$Q$3:$R$28,2,FALSE)),VLOOKUP(D158,'STOCK IDEAL'!$B$2:$C$1108,2,FALSE),VLOOKUP(D158,'STOCK IDEAL'!$B$2:$C$1108,2,FALSE)+VLOOKUP($E158,'REGLE PRIORITE'!$Q$3:$R$28,2,FALSE)),VLOOKUP(D158,'STOCK IDEAL'!$B$2:$C$1108,2,FALSE)))) -> 3 | H158: 1 | I158: =IF($C158="porcelaine",IF(ISERROR(VLOOKUP($D158,'STOCK IDEAL'!$B$2:$E$1080,3,FALSE)+VLOOKUP($E158,'REGLE PRIORITE'!$K$3:$L$14,2,FALSE)),VLOOKUP($D158,'STOCK IDEAL'!$B$2:$E$1080,3,FALSE),VLOOKUP($D158,'STOCK IDEAL'!$B$2:$E$1080,3,FALSE)+VLOOKUP($E158,'REGLE PRIORITE'!$K$3:$L$14,2,FALSE)),IF(C158="Bijoux l’atelier",IF(ISERROR(VLOOKUP(D158,'STOCK IDEAL'!$B$2:$E$1108,3,FALSE)+VLOOKUP(E158,'REGLE PRIORITE'!$N$3:$O$18,2,FALSE)),VLOOKUP(D158,'STOCK IDEAL'!$B$2:$E$1108,3,FALSE),VLOOKUP(D158,'STOCK IDEAL'!$B$2:$E$1108,3,FALSE)+VLOOKUP(E158,'REGLE PRIORITE'!$N$3:$O$18,2,FALSE)),IF($C158="Bijoux argent/plaqué or",IF(ISERROR(VLOOKUP(D158,'STOCK IDEAL'!$B$2:$E$1108,3,FALSE)+VLOOKUP($E158,'REGLE PRIORITE'!$Q$3:$R$28,2,FALSE)),VLOOKUP(D158,'STOCK IDEAL'!$B$2:$E$1108,3,FALSE),VLOOKUP(D158,'STOCK IDEAL'!$B$2:$E$1108,3,FALSE)+VLOOKUP($E158,'REGLE PRIORITE'!$Q$3:$R$28,2,FALSE)),VLOOKUP(D158,'STOCK IDEAL'!$B$2:$E$1108,3,FALSE)))) -> 1 | J158: 0 | K158: =IF($C158="porcelaine",IF(ISERROR(VLOOKUP($D158,'STOCK IDEAL'!$B$2:$E$1080,4,FALSE)+VLOOKUP($E158,'REGLE PRIORITE'!$K$3:$L$14,2,FALSE)),VLOOKUP($D158,'STOCK IDEAL'!$B$2:$E$1080,4,FALSE),VLOOKUP($D158,'STOCK IDEAL'!$B$2:$E$1080,4,FALSE)+VLOOKUP($E158,'REGLE PRIORITE'!$K$3:$L$14,2,FALSE)),IF(C158="Bijoux l’atelier",IF(ISERROR(VLOOKUP(D158,'STOCK IDEAL'!$B$2:$E$1108,4,FALSE)+VLOOKUP(E158,'REGLE PRIORITE'!$N$3:$O$18,2,FALSE)),VLOOKUP(D158,'STOCK IDEAL'!$B$2:$E$1108,4,FALSE),VLOOKUP(D158,'STOCK IDEAL'!$B$2:$E$1108,4,FALSE)+VLOOKUP(E158,'REGLE PRIORITE'!$N$3:$O$18,2,FALSE)),IF($C158="Bijoux argent/plaqué or",IF(ISERROR(VLOOKUP(D158,'STOCK IDEAL'!$B$2:$E$1108,4,FALSE)+VLOOKUP($E158,'REGLE PRIORITE'!$Q$3:$R$28,2,FALSE)),VLOOKUP(D158,'STOCK IDEAL'!$B$2:$E$1108,4,FALSE),VLOOKUP(D158,'STOCK IDEAL'!$B$2:$E$1108,4,FALSE)+VLOOKUP($E158,'REGLE PRIORITE'!$Q$3:$R$28,2,FALSE)),VLOOKUP(D158,'STOCK IDEAL'!$B$2:$E$1108,4,FALSE)))) -> 3 | L158: =IF(F158>G158,"OK") -> FALSE | M158: =HLOOKUP('STOCK BRUT'!$C158,'REGLE PRIORITE'!$B$4:$G$7,2,FALSE) -> 1 | N158: =HLOOKUP('STOCK BRUT'!$C158,'REGLE PRIORITE'!$B$4:$G$7,3,FALSE) -> 3 | O158: =HLOOKUP('STOCK BRUT'!$C158,'REGLE PRIORITE'!$B$4:$G$7,4,FALSE) -> 2 | P158: =F158-G158 -> -1 | Q158: =H158-I158 -> 0 | R158: =J158-K158 -> -3 | S158: =P158+Q158+R158 -> -4
A159: 157 | B159: 5346FRAMB | C159: Porcelaine | D159: Coupelle entremets pm unie | E159: FRAMBOISE | F159: 2 | G159: =IF($C159="porcelaine",IF(ISERROR(VLOOKUP($D159,'STOCK IDEAL'!$B$2:$C$1080,2,FALSE)+VLOOKUP($E159,'REGLE PRIORITE'!$K$3:$L$14,2,FALSE)),VLOOKUP($D159,'STOCK IDEAL'!$B$2:$C$1080,2,FALSE),VLOOKUP($D159,'STOCK IDEAL'!$B$2:$C$1080,2,FALSE)+VLOOKUP($E159,'REGLE PRIORITE'!$K$3:$L$14,2,FALSE)),IF(C159="Bijoux l’atelier",IF(ISERROR(VLOOKUP(D159,'STOCK IDEAL'!$B$2:$C$1108,2,FALSE)+VLOOKUP(E159,'REGLE PRIORITE'!$N$3:$O$18,2,FALSE)),VLOOKUP(D159,'STOCK IDEAL'!$B$2:$C$1108,2,FALSE),VLOOKUP(D159,'STOCK IDEAL'!$B$2:$C$1108,2,FALSE)+VLOOKUP(E159,'REGLE PRIORITE'!$N$3:$O$18,2,FALSE)),IF($C159="Bijoux argent/plaqué or",IF(ISERROR(VLOOKUP(D159,'STOCK IDEAL'!$B$2:$C$1108,2,FALSE)+VLOOKUP($E159,'REGLE PRIORITE'!$Q$3:$R$28,2,FALSE)),VLOOKUP(D159,'STOCK IDEAL'!$B$2:$C$1108,2,FALSE),VLOOKUP(D159,'STOCK IDEAL'!$B$2:$C$1108,2,FALSE)+VLOOKUP($E159,'REGLE PRIORITE'!$Q$3:$R$28,2,FALSE)),VLOOKUP(D159,'STOCK IDEAL'!$B$2:$C$1108,2,FALSE)))) -> 3 | H159: 1 | I159: =IF($C159="porcelaine",IF(ISERROR(VLOOKUP($D159,'STOCK IDEAL'!$B$2:$E$1080,3,FALSE)+VLOOKUP($E159,'REGLE PRIORITE'!$K$3:$L$14,2,FALSE)),VLOOKUP($D159,'STOCK IDEAL'!$B$2:$E$1080,3,FALSE),VLOOKUP($D159,'STOCK IDEAL'!$B$2:$E$1080,3,FALSE)+VLOOKUP($E159,'REGLE PRIORITE'!$K$3:$L$14,2,FALSE)),IF(C159="Bijoux l’atelier",IF(ISERROR(VLOOKUP(D159,'STOCK IDEAL'!$B$2:$E$1108,3,FALSE)+VLOOKUP(E159,'REGLE PRIORITE'!$N$3:$O$18,2,FALSE)),VLOOKUP(D159,'STOCK IDEAL'!$B$2:$E$1108,3,FALSE),VLOOKUP(D159,'STOCK IDEAL'!$B$2:$E$1108,3,FALSE)+VLOOKUP(E159,'REGLE PRIORITE'!$N$3:$O$18,2,FALSE)),IF($C159="Bijoux argent/plaqué or",IF(ISERROR(VLOOKUP(D159,'STOCK IDEAL'!$B$2:$E$1108,3,FALSE)+VLOOKUP($E159,'REGLE PRIORITE'!$Q$3:$R$28,2,FALSE)),VLOOKUP(D159,'STOCK IDEAL'!$B$2:$E$1108,3,FALSE),VLOOKUP(D159,'STOCK IDEAL'!$B$2:$E$1108,3,FALSE)+VLOOKUP($E159,'REGLE PRIORITE'!$Q$3:$R$28,2,FALSE)),VLOOKUP(D159,'STOCK IDEAL'!$B$2:$E$1108,3,FALSE)))) -> 1 | J159: 0 | K159: =IF($C159="porcelaine",IF(ISERROR(VLOOKUP($D159,'STOCK IDEAL'!$B$2:$E$1080,4,FALSE)+VLOOKUP($E159,'REGLE PRIORITE'!$K$3:$L$14,2,FALSE)),VLOOKUP($D159,'STOCK IDEAL'!$B$2:$E$1080,4,FALSE),VLOOKUP($D159,'STOCK IDEAL'!$B$2:$E$1080,4,FALSE)+VLOOKUP($E159,'REGLE PRIORITE'!$K$3:$L$14,2,FALSE)),IF(C159="Bijoux l’atelier",IF(ISERROR(VLOOKUP(D159,'STOCK IDEAL'!$B$2:$E$1108,4,FALSE)+VLOOKUP(E159,'REGLE PRIORITE'!$N$3:$O$18,2,FALSE)),VLOOKUP(D159,'STOCK IDEAL'!$B$2:$E$1108,4,FALSE),VLOOKUP(D159,'STOCK IDEAL'!$B$2:$E$1108,4,FALSE)+VLOOKUP(E159,'REGLE PRIORITE'!$N$3:$O$18,2,FALSE)),IF($C159="Bijoux argent/plaqué or",IF(ISERROR(VLOOKUP(D159,'STOCK IDEAL'!$B$2:$E$1108,4,FALSE)+VLOOKUP($E159,'REGLE PRIORITE'!$Q$3:$R$28,2,FALSE)),VLOOKUP(D159,'STOCK IDEAL'!$B$2:$E$1108,4,FALSE),VLOOKUP(D159,'STOCK IDEAL'!$B$2:$E$1108,4,FALSE)+VLOOKUP($E159,'REGLE PRIORITE'!$Q$3:$R$28,2,FALSE)),VLOOKUP(D159,'STOCK IDEAL'!$B$2:$E$1108,4,FALSE)))) -> 3 | L159: =IF(F159>G159,"OK") -> FALSE | M159: =HLOOKUP('STOCK BRUT'!$C159,'REGLE PRIORITE'!$B$4:$G$7,2,FALSE) -> 1 | N159: =HLOOKUP('STOCK BRUT'!$C159,'REGLE PRIORITE'!$B$4:$G$7,3,FALSE) -> 3 | O159: =HLOOKUP('STOCK BRUT'!$C159,'REGLE PRIORITE'!$B$4:$G$7,4,FALSE) -> 2 | P159: =F159-G159 -> -1 | Q159: =H159-I159 -> 0 | R159: =J159-K159 -> -3 | S159: =P159+Q159+R159 -> -4
A160: 158 | B160: 5346IVOIRE | C160: Porcelaine | D160: Coupelle entremets pm unie | E160: IVOIRE | F160: 1 | G160: =IF($C160="porcelaine",IF(ISERROR(VLOOKUP($D160,'STOCK IDEAL'!$B$2:$C$1080,2,FALSE)+VLOOKUP($E160,'REGLE PRIORITE'!$K$3:$L$14,2,FALSE)),VLOOKUP($D160,'STOCK IDEAL'!$B$2:$C$1080,2,FALSE),VLOOKUP($D160,'STOCK IDEAL'!$B$2:$C$1080,2,FALSE)+VLOOKUP($E160,'REGLE PRIORITE'!$K$3:$L$14,2,FALSE)),IF(C160="Bijoux l’atelier",IF(ISERROR(VLOOKUP(D160,'STOCK IDEAL'!$B$2:$C$1108,2,FALSE)+VLOOKUP(E160,'REGLE PRIORITE'!$N$3:$O$18,2,FALSE)),VLOOKUP(D160,'STOCK IDEAL'!$B$2:$C$1108,2,FALSE),VLOOKUP(D160,'STOCK IDEAL'!$B$2:$C$1108,2,FALSE)+VLOOKUP(E160,'REGLE PRIORITE'!$N$3:$O$18,2,FALSE)),IF($C160="Bijoux argent/plaqué or",IF(ISERROR(VLOOKUP(D160,'STOCK IDEAL'!$B$2:$C$1108,2,FALSE)+VLOOKUP($E160,'REGLE PRIORITE'!$Q$3:$R$28,2,FALSE)),VLOOKUP(D160,'STOCK IDEAL'!$B$2:$C$1108,2,FALSE),VLOOKUP(D160,'STOCK IDEAL'!$B$2:$C$1108,2,FALSE)+VLOOKUP($E160,'REGLE PRIORITE'!$Q$3:$R$28,2,FALSE)),VLOOKUP(D160,'STOCK IDEAL'!$B$2:$C$1108,2,FALSE)))) -> 4 | H160: 1 | I160: =IF($C160="porcelaine",IF(ISERROR(VLOOKUP($D160,'STOCK IDEAL'!$B$2:$E$1080,3,FALSE)+VLOOKUP($E160,'REGLE PRIORITE'!$K$3:$L$14,2,FALSE)),VLOOKUP($D160,'STOCK IDEAL'!$B$2:$E$1080,3,FALSE),VLOOKUP($D160,'STOCK IDEAL'!$B$2:$E$1080,3,FALSE)+VLOOKUP($E160,'REGLE PRIORITE'!$K$3:$L$14,2,FALSE)),IF(C160="Bijoux l’atelier",IF(ISERROR(VLOOKUP(D160,'STOCK IDEAL'!$B$2:$E$1108,3,FALSE)+VLOOKUP(E160,'REGLE PRIORITE'!$N$3:$O$18,2,FALSE)),VLOOKUP(D160,'STOCK IDEAL'!$B$2:$E$1108,3,FALSE),VLOOKUP(D160,'STOCK IDEAL'!$B$2:$E$1108,3,FALSE)+VLOOKUP(E160,'REGLE PRIORITE'!$N$3:$O$18,2,FALSE)),IF($C160="Bijoux argent/plaqué or",IF(ISERROR(VLOOKUP(D160,'STOCK IDEAL'!$B$2:$E$1108,3,FALSE)+VLOOKUP($E160,'REGLE PRIORITE'!$Q$3:$R$28,2,FALSE)),VLOOKUP(D160,'STOCK IDEAL'!$B$2:$E$1108,3,FALSE),VLOOKUP(D160,'STOCK IDEAL'!$B$2:$E$1108,3,FALSE)+VLOOKUP($E160,'REGLE PRIORITE'!$Q$3:$R$28,2,FALSE)),VLOOKUP(D160,'STOCK IDEAL'!$B$2:$E$1108,3,FALSE)))) -> 2 | J160: 0 | K160: =IF($C160="porcelaine",IF(ISERROR(VLOOKUP($D160,'STOCK IDEAL'!$B$2:$E$1080,4,FALSE)+VLOOKUP($E160,'REGLE PRIORITE'!$K$3:$L$14,2,FALSE)),VLOOKUP($D160,'STOCK IDEAL'!$B$2:$E$1080,4,FALSE),VLOOKUP($D160,'STOCK IDEAL'!$B$2:$E$1080,4,FALSE)+VLOOKUP($E160,'REGLE PRIORITE'!$K$3:$L$14,2,FALSE)),IF(C160="Bijoux l’atelier",IF(ISERROR(VLOOKUP(D160,'STOCK IDEAL'!$B$2:$E$1108,4,FALSE)+VLOOKUP(E160,'REGLE PRIORITE'!$N$3:$O$18,2,FALSE)),VLOOKUP(D160,'STOCK IDEAL'!$B$2:$E$1108,4,FALSE),VLOOKUP(D160,'STOCK IDEAL'!$B$2:$E$1108,4,FALSE)+VLOOKUP(E160,'REGLE PRIORITE'!$N$3:$O$18,2,FALSE)),IF($C160="Bijoux argent/plaqué or",IF(ISERROR(VLOOKUP(D160,'STOCK IDEAL'!$B$2:$E$1108,4,FALSE)+VLOOKUP($E160,'REGLE PRIORITE'!$Q$3:$R$28,2,FALSE)),VLOOKUP(D160,'STOCK IDEAL'!$B$2:$E$1108,4,FALSE),VLOOKUP(D160,'STOCK IDEAL'!$B$2:$E$1108,4,FALSE)+VLOOKUP($E160,'REGLE PRIORITE'!$Q$3:$R$28,2,FALSE)),VLOOKUP(D160,'STOCK IDEAL'!$B$2:$E$1108,4,FALSE)))) -> 4 | L160: =IF(F160>G160,"OK") -> FALSE | M160: =HLOOKUP('STOCK BRUT'!$C160,'REGLE PRIORITE'!$B$4:$G$7,2,FALSE) -> 1 | N160: =HLOOKUP('STOCK BRUT'!$C160,'REGLE PRIORITE'!$B$4:$G$7,3,FALSE) -> 3 | O160: =HLOOKUP('STOCK BRUT'!$C160,'REGLE PRIORITE'!$B$4:$G$7,4,FALSE) -> 2 | P160: =F160-G160 -> -3 | Q160: =H160-I160 -> -1 | R160: =J160-K160 -> -4 | S160: =P160+Q160+R160 -> -8
A161: 159 | B161: 5346OCEAN | C161: Porcelaine | D161: Coupelle entremets pm unie | E161: OCÉAN | F161: 3 | G161: =IF($C161="porcelaine",IF(ISERROR(VLOOKUP($D161,'STOCK IDEAL'!$B$2:$C$1080,2,FALSE)+VLOOKUP($E161,'REGLE PRIORITE'!$K$3:$L$14,2,FALSE)),VLOOKUP($D161,'STOCK IDEAL'!$B$2:$C$1080,2,FALSE),VLOOKUP($D161,'STOCK IDEAL'!$B$2:$C$1080,2,FALSE)+VLOOKUP($E161,'REGLE PRIORITE'!$K$3:$L$14,2,FALSE)),IF(C161="Bijoux l’atelier",IF(ISERROR(VLOOKUP(D161,'STOCK IDEAL'!$B$2:$C$1108,2,FALSE)+VLOOKUP(E161,'REGLE PRIORITE'!$N$3:$O$18,2,FALSE)),VLOOKUP(D161,'STOCK IDEAL'!$B$2:$C$1108,2,FALSE),VLOOKUP(D161,'STOCK IDEAL'!$B$2:$C$1108,2,FALSE)+VLOOKUP(E161,'REGLE PRIORITE'!$N$3:$O$18,2,FALSE)),IF($C161="Bijoux argent/plaqué or",IF(ISERROR(VLOOKUP(D161,'STOCK IDEAL'!$B$2:$C$1108,2,FALSE)+VLOOKUP($E161,'REGLE PRIORITE'!$Q$3:$R$28,2,FALSE)),VLOOKUP(D161,'STOCK IDEAL'!$B$2:$C$1108,2,FALSE),VLOOKUP(D161,'STOCK IDEAL'!$B$2:$C$1108,2,FALSE)+VLOOKUP($E161,'REGLE PRIORITE'!$Q$3:$R$28,2,FALSE)),VLOOKUP(D161,'STOCK IDEAL'!$B$2:$C$1108,2,FALSE)))) -> 3 | H161: 1 | I161: =IF($C161="porcelaine",IF(ISERROR(VLOOKUP($D161,'STOCK IDEAL'!$B$2:$E$1080,3,FALSE)+VLOOKUP($E161,'REGLE PRIORITE'!$K$3:$L$14,2,FALSE)),VLOOKUP($D161,'STOCK IDEAL'!$B$2:$E$1080,3,FALSE),VLOOKUP($D161,'STOCK IDEAL'!$B$2:$E$1080,3,FALSE)+VLOOKUP($E161,'REGLE PRIORITE'!$K$3:$L$14,2,FALSE)),IF(C161="Bijoux l’atelier",IF(ISERROR(VLOOKUP(D161,'STOCK IDEAL'!$B$2:$E$1108,3,FALSE)+VLOOKUP(E161,'REGLE PRIORITE'!$N$3:$O$18,2,FALSE)),VLOOKUP(D161,'STOCK IDEAL'!$B$2:$E$1108,3,FALSE),VLOOKUP(D161,'STOCK IDEAL'!$B$2:$E$1108,3,FALSE)+VLOOKUP(E161,'REGLE PRIORITE'!$N$3:$O$18,2,FALSE)),IF($C161="Bijoux argent/plaqué or",IF(ISERROR(VLOOKUP(D161,'STOCK IDEAL'!$B$2:$E$1108,3,FALSE)+VLOOKUP($E161,'REGLE PRIORITE'!$Q$3:$R$28,2,FALSE)),VLOOKUP(D161,'STOCK IDEAL'!$B$2:$E$1108,3,FALSE),VLOOKUP(D161,'STOCK IDEAL'!$B$2:$E$1108,3,FALSE)+VLOOKUP($E161,'REGLE PRIORITE'!$Q$3:$R$28,2,FALSE)),VLOOKUP(D161,'STOCK IDEAL'!$B$2:$E$1108,3,FALSE)))) -> 1 | J161: 0 | K161: =IF($C161="porcelaine",IF(ISERROR(VLOOKUP($D161,'STOCK IDEAL'!$B$2:$E$1080,4,FALSE)+VLOOKUP($E161,'REGLE PRIORITE'!$K$3:$L$14,2,FALSE)),VLOOKUP($D161,'STOCK IDEAL'!$B$2:$E$1080,4,FALSE),VLOOKUP($D161,'STOCK IDEAL'!$B$2:$E$1080,4,FALSE)+VLOOKUP($E161,'REGLE PRIORITE'!$K$3:$L$14,2,FALSE)),IF(C161="Bijoux l’atelier",IF(ISERROR(VLOOKUP(D161,'STOCK IDEAL'!$B$2:$E$1108,4,FALSE)+VLOOKUP(E161,'REGLE PRIORITE'!$N$3:$O$18,2,FALSE)),VLOOKUP(D161,'STOCK IDEAL'!$B$2:$E$1108,4,FALSE),VLOOKUP(D161,'STOCK IDEAL'!$B$2:$E$1108,4,FALSE)+VLOOKUP(E161,'REGLE PRIORITE'!$N$3:$O$18,2,FALSE)),IF($C161="Bijoux argent/plaqué or",IF(ISERROR(VLOOKUP(D161,'STOCK IDEAL'!$B$2:$E$1108,4,FALSE)+VLOOKUP($E161,'REGLE PRIORITE'!$Q$3:$R$28,2,FALSE)),VLOOKUP(D161,'STOCK IDEAL'!$B$2:$E$1108,4,FALSE),VLOOKUP(D161,'STOCK IDEAL'!$B$2:$E$1108,4,FALSE)+VLOOKUP($E161,'REGLE PRIORITE'!$Q$3:$R$28,2,FALSE)),VLOOKUP(D161,'STOCK IDEAL'!$B$2:$E$1108,4,FALSE)))) -> 3 | L161: =IF(F161>G161,"OK") -> FALSE | M161: =HLOOKUP('STOCK BRUT'!$C161,'REGLE PRIORITE'!$B$4:$G$7,2,FALSE) -> 1 | N161: =HLOOKUP('STOCK BRUT'!$C161,'REGLE PRIORITE'!$B$4:$G$7,3,FALSE) -> 3 | O161: =HLOOKUP('STOCK BRUT'!$C161,'REGLE PRIORITE'!$B$4:$G$7,4,FALSE) -> 2 | P161: =F161-G161 -> 0 | Q161: =H161-I161 -> 0 | R161: =J161-K161 -> -3 | S161: =P161+Q161+R161 -> -3
A162: 160 | B162: 5346ORANG | C162: Porcelaine | D162: Coupelle entremets pm unie | E162: ORANGE | F162: 1 | G162: =IF($C162="porcelaine",IF(ISERROR(VLOOKUP($D162,'STOCK IDEAL'!$B$2:$C$1080,2,FALSE)+VLOOKUP($E162,'REGLE PRIORITE'!$K$3:$L$14,2,FALSE)),VLOOKUP($D162,'STOCK IDEAL'!$B$2:$C$1080,2,FALSE),VLOOKUP($D162,'STOCK IDEAL'!$B$2:$C$1080,2,FALSE)+VLOOKUP($E162,'REGLE PRIORITE'!$K$3:$L$14,2,FALSE)),IF(C162="Bijoux l’atelier",IF(ISERROR(VLOOKUP(D162,'STOCK IDEAL'!$B$2:$C$1108,2,FALSE)+VLOOKUP(E162,'REGLE PRIORITE'!$N$3:$O$18,2,FALSE)),VLOOKUP(D162,'STOCK IDEAL'!$B$2:$C$1108,2,FALSE),VLOOKUP(D162,'STOCK IDEAL'!$B$2:$C$1108,2,FALSE)+VLOOKUP(E162,'REGLE PRIORITE'!$N$3:$O$18,2,FALSE)),IF($C162="Bijoux argent/plaqué or",IF(ISERROR(VLOOKUP(D162,'STOCK IDEAL'!$B$2:$C$1108,2,FALSE)+VLOOKUP($E162,'REGLE PRIORITE'!$Q$3:$R$28,2,FALSE)),VLOOKUP(D162,'STOCK IDEAL'!$B$2:$C$1108,2,FALSE),VLOOKUP(D162,'STOCK IDEAL'!$B$2:$C$1108,2,FALSE)+VLOOKUP($E162,'REGLE PRIORITE'!$Q$3:$R$28,2,FALSE)),VLOOKUP(D162,'STOCK IDEAL'!$B$2:$C$1108,2,FALSE)))) -> 3 | H162: 0 | I162: =IF($C162="porcelaine",IF(ISERROR(VLOOKUP($D162,'STOCK IDEAL'!$B$2:$E$1080,3,FALSE)+VLOOKUP($E162,'REGLE PRIORITE'!$K$3:$L$14,2,FALSE)),VLOOKUP($D162,'STOCK IDEAL'!$B$2:$E$1080,3,FALSE),VLOOKUP($D162,'STOCK IDEAL'!$B$2:$E$1080,3,FALSE)+VLOOKUP($E162,'REGLE PRIORITE'!$K$3:$L$14,2,FALSE)),IF(C162="Bijoux l’atelier",IF(ISERROR(VLOOKUP(D162,'STOCK IDEAL'!$B$2:$E$1108,3,FALSE)+VLOOKUP(E162,'REGLE PRIORITE'!$N$3:$O$18,2,FALSE)),VLOOKUP(D162,'STOCK IDEAL'!$B$2:$E$1108,3,FALSE),VLOOKUP(D162,'STOCK IDEAL'!$B$2:$E$1108,3,FALSE)+VLOOKUP(E162,'REGLE PRIORITE'!$N$3:$O$18,2,FALSE)),IF($C162="Bijoux argent/plaqué or",IF(ISERROR(VLOOKUP(D162,'STOCK IDEAL'!$B$2:$E$1108,3,FALSE)+VLOOKUP($E162,'REGLE PRIORITE'!$Q$3:$R$28,2,FALSE)),VLOOKUP(D162,'STOCK IDEAL'!$B$2:$E$1108,3,FALSE),VLOOKUP(D162,'STOCK IDEAL'!$B$2:$E$1108,3,FALSE)+VLOOKUP($E162,'REGLE PRIORITE'!$Q$3:$R$28,2,FALSE)),VLOOKUP(D162,'STOCK IDEAL'!$B$2:$E$1108,3,FALSE)))) -> 1 | J162: 0 | K162: =IF($C162="porcelaine",IF(ISERROR(VLOOKUP($D162,'STOCK IDEAL'!$B$2:$E$1080,4,FALSE)+VLOOKUP($E162,'REGLE PRIORITE'!$K$3:$L$14,2,FALSE)),VLOOKUP($D162,'STOCK IDEAL'!$B$2:$E$1080,4,FALSE),VLOOKUP($D162,'STOCK IDEAL'!$B$2:$E$1080,4,FALSE)+VLOOKUP($E162,'REGLE PRIORITE'!$K$3:$L$14,2,FALSE)),IF(C162="Bijoux l’atelier",IF(ISERROR(VLOOKUP(D162,'STOCK IDEAL'!$B$2:$E$1108,4,FALSE)+VLOOKUP(E162,'REGLE PRIORITE'!$N$3:$O$18,2,FALSE)),VLOOKUP(D162,'STOCK IDEAL'!$B$2:$E$1108,4,FALSE),VLOOKUP(D162,'STOCK IDEAL'!$B$2:$E$1108,4,FALSE)+VLOOKUP(E162,'REGLE PRIORITE'!$N$3:$O$18,2,FALSE)),IF($C162="Bijoux argent/plaqué or",IF(ISERROR(VLOOKUP(D162,'STOCK IDEAL'!$B$2:$E$1108,4,FALSE)+VLOOKUP($E162,'REGLE PRIORITE'!$Q$3:$R$28,2,FALSE)),VLOOKUP(D162,'STOCK IDEAL'!$B$2:$E$1108,4,FALSE),VLOOKUP(D162,'STOCK IDEAL'!$B$2:$E$1108,4,FALSE)+VLOOKUP($E162,'REGLE PRIORITE'!$Q$3:$R$28,2,FALSE)),VLOOKUP(D162,'STOCK IDEAL'!$B$2:$E$1108,4,FALSE)))) -> 3 | L162: =IF(F162>G162,"OK") -> FALSE | M162: =HLOOKUP('STOCK BRUT'!$C162,'REGLE PRIORITE'!$B$4:$G$7,2,FALSE) -> 1 | N162: =HLOOKUP('STOCK BRUT'!$C162,'REGLE PRIORITE'!$B$4:$G$7,3,FALSE) -> 3 | O162: =HLOOKUP('STOCK BRUT'!$C162,'REGLE PRIORITE'!$B$4:$G$7,4,FALSE) -> 2 | P162: =F162-G162 -> -2 | Q162: =H162-I162 -> -1 | R162: =J162-K162 -> -3 | S162: =P162+Q162+R162 -> -6
A163: 161 | B163: 5346POIVRE | C163: Porcelaine | D163: Coupelle entremets pm unie | E163: POIVRE | F163: 1 | G163: =IF($C163="porcelaine",IF(ISERROR(VLOOKUP($D163,'STOCK IDEAL'!$B$2:$C$1080,2,FALSE)+VLOOKUP($E163,'REGLE PRIORITE'!$K$3:$L$14,2,FALSE)),VLOOKUP($D163,'STOCK IDEAL'!$B$2:$C$1080,2,FALSE),VLOOKUP($D163,'STOCK IDEAL'!$B$2:$C$1080,2,FALSE)+VLOOKUP($E163,'REGLE PRIORITE'!$K$3:$L$14,2,FALSE)),IF(C163="Bijoux l’atelier",IF(ISERROR(VLOOKUP(D163,'STOCK IDEAL'!$B$2:$C$1108,2,FALSE)+VLOOKUP(E163,'REGLE PRIORITE'!$N$3:$O$18,2,FALSE)),VLOOKUP(D163,'STOCK IDEAL'!$B$2:$C$1108,2,FALSE),VLOOKUP(D163,'STOCK IDEAL'!$B$2:$C$1108,2,FALSE)+VLOOKUP(E163,'REGLE PRIORITE'!$N$3:$O$18,2,FALSE)),IF($C163="Bijoux argent/plaqué or",IF(ISERROR(VLOOKUP(D163,'STOCK IDEAL'!$B$2:$C$1108,2,FALSE)+VLOOKUP($E163,'REGLE PRIORITE'!$Q$3:$R$28,2,FALSE)),VLOOKUP(D163,'STOCK IDEAL'!$B$2:$C$1108,2,FALSE),VLOOKUP(D163,'STOCK IDEAL'!$B$2:$C$1108,2,FALSE)+VLOOKUP($E163,'REGLE PRIORITE'!$Q$3:$R$28,2,FALSE)),VLOOKUP(D163,'STOCK IDEAL'!$B$2:$C$1108,2,FALSE)))) -> 4 | H163: 1 | I163: =IF($C163="porcelaine",IF(ISERROR(VLOOKUP($D163,'STOCK IDEAL'!$B$2:$E$1080,3,FALSE)+VLOOKUP($E163,'REGLE PRIORITE'!$K$3:$L$14,2,FALSE)),VLOOKUP($D163,'STOCK IDEAL'!$B$2:$E$1080,3,FALSE),VLOOKUP($D163,'STOCK IDEAL'!$B$2:$E$1080,3,FALSE)+VLOOKUP($E163,'REGLE PRIORITE'!$K$3:$L$14,2,FALSE)),IF(C163="Bijoux l’atelier",IF(ISERROR(VLOOKUP(D163,'STOCK IDEAL'!$B$2:$E$1108,3,FALSE)+VLOOKUP(E163,'REGLE PRIORITE'!$N$3:$O$18,2,FALSE)),VLOOKUP(D163,'STOCK IDEAL'!$B$2:$E$1108,3,FALSE),VLOOKUP(D163,'STOCK IDEAL'!$B$2:$E$1108,3,FALSE)+VLOOKUP(E163,'REGLE PRIORITE'!$N$3:$O$18,2,FALSE)),IF($C163="Bijoux argent/plaqué or",IF(ISERROR(VLOOKUP(D163,'STOCK IDEAL'!$B$2:$E$1108,3,FALSE)+VLOOKUP($E163,'REGLE PRIORITE'!$Q$3:$R$28,2,FALSE)),VLOOKUP(D163,'STOCK IDEAL'!$B$2:$E$1108,3,FALSE),VLOOKUP(D163,'STOCK IDEAL'!$B$2:$E$1108,3,FALSE)+VLOOKUP($E163,'REGLE PRIORITE'!$Q$3:$R$28,2,FALSE)),VLOOKUP(D163,'STOCK IDEAL'!$B$2:$E$1108,3,FALSE)))) -> 2 | J163: 0 | K163: =IF($C163="porcelaine",IF(ISERROR(VLOOKUP($D163,'STOCK IDEAL'!$B$2:$E$1080,4,FALSE)+VLOOKUP($E163,'REGLE PRIORITE'!$K$3:$L$14,2,FALSE)),VLOOKUP($D163,'STOCK IDEAL'!$B$2:$E$1080,4,FALSE),VLOOKUP($D163,'STOCK IDEAL'!$B$2:$E$1080,4,FALSE)+VLOOKUP($E163,'REGLE PRIORITE'!$K$3:$L$14,2,FALSE)),IF(C163="Bijoux l’atelier",IF(ISERROR(VLOOKUP(D163,'STOCK IDEAL'!$B$2:$E$1108,4,FALSE)+VLOOKUP(E163,'REGLE PRIORITE'!$N$3:$O$18,2,FALSE)),VLOOKUP(D163,'STOCK IDEAL'!$B$2:$E$1108,4,FALSE),VLOOKUP(D163,'STOCK IDEAL'!$B$2:$E$1108,4,FALSE)+VLOOKUP(E163,'REGLE PRIORITE'!$N$3:$O$18,2,FALSE)),IF($C163="Bijoux argent/plaqué or",IF(ISERROR(VLOOKUP(D163,'STOCK IDEAL'!$B$2:$E$1108,4,FALSE)+VLOOKUP($E163,'REGLE PRIORITE'!$Q$3:$R$28,2,FALSE)),VLOOKUP(D163,'STOCK IDEAL'!$B$2:$E$1108,4,FALSE),VLOOKUP(D163,'STOCK IDEAL'!$B$2:$E$1108,4,FALSE)+VLOOKUP($E163,'REGLE PRIORITE'!$Q$3:$R$28,2,FALSE)),VLOOKUP(D163,'STOCK IDEAL'!$B$2:$E$1108,4,FALSE)))) -> 4 | L163: =IF(F163>G163,"OK") -> FALSE | M163: =HLOOKUP('STOCK BRUT'!$C163,'REGLE PRIORITE'!$B$4:$G$7,2,FALSE) -> 1 | N163: =HLOOKUP('STOCK BRUT'!$C163,'REGLE PRIORITE'!$B$4:$G$7,3,FALSE) -> 3 | O163: =HLOOKUP('STOCK BRUT'!$C163,'REGLE PRIORITE'!$B$4:$G$7,4,FALSE) -> 2 | P163: =F163-G163 -> -3 | Q163: =H163-I163 -> -1 | R163: =J163-K163 -> -4 | S163: =P163+Q163+R163 -> -8
A164: 162 | B164: 5346ROSE | C164: Porcelaine | D164: Coupelle entremets pm unie | E164: ROSE | F164: 2 | G164: =IF($C164="porcelaine",IF(ISERROR(VLOOKUP($D164,'STOCK IDEAL'!$B$2:$C$1080,2,FALSE)+VLOOKUP($E164,'REGLE PRIORITE'!$K$3:$L$14,2,FALSE)),VLOOKUP($D164,'STOCK IDEAL'!$B$2:$C$1080,2,FALSE),VLOOKUP($D164,'STOCK IDEAL'!$B$2:$C$1080,2,FALSE)+VLOOKUP($E164,'REGLE PRIORITE'!$K$3:$L$14,2,FALSE)),IF(C164="Bijoux l’atelier",IF(ISERROR(VLOOKUP(D164,'STOCK IDEAL'!$B$2:$C$1108,2,FALSE)+VLOOKUP(E164,'REGLE PRIORITE'!$N$3:$O$18,2,FALSE)),VLOOKUP(D164,'STOCK IDEAL'!$B$2:$C$1108,2,FALSE),VLOOKUP(D164,'STOCK IDEAL'!$B$2:$C$1108,2,FALSE)+VLOOKUP(E164,'REGLE PRIORITE'!$N$3:$O$18,2,FALSE)),IF($C164="Bijoux argent/plaqué or",IF(ISERROR(VLOOKUP(D164,'STOCK IDEAL'!$B$2:$C$1108,2,FALSE)+VLOOKUP($E164,'REGLE PRIORITE'!$Q$3:$R$28,2,FALSE)),VLOOKUP(D164,'STOCK IDEAL'!$B$2:$C$1108,2,FALSE),VLOOKUP(D164,'STOCK IDEAL'!$B$2:$C$1108,2,FALSE)+VLOOKUP($E164,'REGLE PRIORITE'!$Q$3:$R$28,2,FALSE)),VLOOKUP(D164,'STOCK IDEAL'!$B$2:$C$1108,2,FALSE)))) -> 3 | H164: 1 | I164: =IF($C164="porcelaine",IF(ISERROR(VLOOKUP($D164,'STOCK IDEAL'!$B$2:$E$1080,3,FALSE)+VLOOKUP($E164,'REGLE PRIORITE'!$K$3:$L$14,2,FALSE)),VLOOKUP($D164,'STOCK IDEAL'!$B$2:$E$1080,3,FALSE),VLOOKUP($D164,'STOCK IDEAL'!$B$2:$E$1080,3,FALSE)+VLOOKUP($E164,'REGLE PRIORITE'!$K$3:$L$14,2,FALSE)),IF(C164="Bijoux l’atelier",IF(ISERROR(VLOOKUP(D164,'STOCK IDEAL'!$B$2:$E$1108,3,FALSE)+VLOOKUP(E164,'REGLE PRIORITE'!$N$3:$O$18,2,FALSE)),VLOOKUP(D164,'STOCK IDEAL'!$B$2:$E$1108,3,FALSE),VLOOKUP(D164,'STOCK IDEAL'!$B$2:$E$1108,3,FALSE)+VLOOKUP(E164,'REGLE PRIORITE'!$N$3:$O$18,2,FALSE)),IF($C164="Bijoux argent/plaqué or",IF(ISERROR(VLOOKUP(D164,'STOCK IDEAL'!$B$2:$E$1108,3,FALSE)+VLOOKUP($E164,'REGLE PRIORITE'!$Q$3:$R$28,2,FALSE)),VLOOKUP(D164,'STOCK IDEAL'!$B$2:$E$1108,3,FALSE),VLOOKUP(D164,'STOCK IDEAL'!$B$2:$E$1108,3,FALSE)+VLOOKUP($E164,'REGLE PRIORITE'!$Q$3:$R$28,2,FALSE)),VLOOKUP(D164,'STOCK IDEAL'!$B$2:$E$1108,3,FALSE)))) -> 1 | J164: 0 | K164: =IF($C164="porcelaine",IF(ISERROR(VLOOKUP($D164,'STOCK IDEAL'!$B$2:$E$1080,4,FALSE)+VLOOKUP($E164,'REGLE PRIORITE'!$K$3:$L$14,2,FALSE)),VLOOKUP($D164,'STOCK IDEAL'!$B$2:$E$1080,4,FALSE),VLOOKUP($D164,'STOCK IDEAL'!$B$2:$E$1080,4,FALSE)+VLOOKUP($E164,'REGLE PRIORITE'!$K$3:$L$14,2,FALSE)),IF(C164="Bijoux l’atelier",IF(ISERROR(VLOOKUP(D164,'STOCK IDEAL'!$B$2:$E$1108,4,FALSE)+VLOOKUP(E164,'REGLE PRIORITE'!$N$3:$O$18,2,FALSE)),VLOOKUP(D164,'STOCK IDEAL'!$B$2:$E$1108,4,FALSE),VLOOKUP(D164,'STOCK IDEAL'!$B$2:$E$1108,4,FALSE)+VLOOKUP(E164,'REGLE PRIORITE'!$N$3:$O$18,2,FALSE)),IF($C164="Bijoux argent/plaqué or",IF(ISERROR(VLOOKUP(D164,'STOCK IDEAL'!$B$2:$E$1108,4,FALSE)+VLOOKUP($E164,'REGLE PRIORITE'!$Q$3:$R$28,2,FALSE)),VLOOKUP(D164,'STOCK IDEAL'!$B$2:$E$1108,4,FALSE),VLOOKUP(D164,'STOCK IDEAL'!$B$2:$E$1108,4,FALSE)+VLOOKUP($E164,'REGLE PRIORITE'!$Q$3:$R$28,2,FALSE)),VLOOKUP(D164,'STOCK IDEAL'!$B$2:$E$1108,4,FALSE)))) -> 3 | L164: =IF(F164>G164,"OK") -> FALSE | M164: =HLOOKUP('STOCK BRUT'!$C164,'REGLE PRIORITE'!$B$4:$G$7,2,FALSE) -> 1 | N164: =HLOOKUP('STOCK BRUT'!$C164,'REGLE PRIORITE'!$B$4:$G$7,3,FALSE) -> 3 | O164: =HLOOKUP('STOCK BRUT'!$C164,'REGLE PRIORITE'!$B$4:$G$7,4,FALSE) -> 2 | P164: =F164-G164 -> -1 | Q164: =H164-I164 -> 0 | R164: =J164-K164 -> -3 | S164: =P164+Q164+R164 -> -4
A165: 163 | B165: 5346ROUGE | C165: Porcelaine | D165: Coupelle entremets pm unie | E165: ROUGE | F165: 3 | G165: =IF($C165="porcelaine",IF(ISERROR(VLOOKUP($D165,'STOCK IDEAL'!$B$2:$C$1080,2,FALSE)+VLOOKUP($E165,'REGLE PRIORITE'!$K$3:$L$14,2,FALSE)),VLOOKUP($D165,'STOCK IDEAL'!$B$2:$C$1080,2,FALSE),VLOOKUP($D165,'STOCK IDEAL'!$B$2:$C$1080,2,FALSE)+VLOOKUP($E165,'REGLE PRIORITE'!$K$3:$L$14,2,FALSE)),IF(C165="Bijoux l’atelier",IF(ISERROR(VLOOKUP(D165,'STOCK IDEAL'!$B$2:$C$1108,2,FALSE)+VLOOKUP(E165,'REGLE PRIORITE'!$N$3:$O$18,2,FALSE)),VLOOKUP(D165,'STOCK IDEAL'!$B$2:$C$1108,2,FALSE),VLOOKUP(D165,'STOCK IDEAL'!$B$2:$C$1108,2,FALSE)+VLOOKUP(E165,'REGLE PRIORITE'!$N$3:$O$18,2,FALSE)),IF($C165="Bijoux argent/plaqué or",IF(ISERROR(VLOOKUP(D165,'STOCK IDEAL'!$B$2:$C$1108,2,FALSE)+VLOOKUP($E165,'REGLE PRIORITE'!$Q$3:$R$28,2,FALSE)),VLOOKUP(D165,'STOCK IDEAL'!$B$2:$C$1108,2,FALSE),VLOOKUP(D165,'STOCK IDEAL'!$B$2:$C$1108,2,FALSE)+VLOOKUP($E165,'REGLE PRIORITE'!$Q$3:$R$28,2,FALSE)),VLOOKUP(D165,'STOCK IDEAL'!$B$2:$C$1108,2,FALSE)))) -> 3 | H165: 1 | I165: =IF($C165="porcelaine",IF(ISERROR(VLOOKUP($D165,'STOCK IDEAL'!$B$2:$E$1080,3,FALSE)+VLOOKUP($E165,'REGLE PRIORITE'!$K$3:$L$14,2,FALSE)),VLOOKUP($D165,'STOCK IDEAL'!$B$2:$E$1080,3,FALSE),VLOOKUP($D165,'STOCK IDEAL'!$B$2:$E$1080,3,FALSE)+VLOOKUP($E165,'REGLE PRIORITE'!$K$3:$L$14,2,FALSE)),IF(C165="Bijoux l’atelier",IF(ISERROR(VLOOKUP(D165,'STOCK IDEAL'!$B$2:$E$1108,3,FALSE)+VLOOKUP(E165,'REGLE PRIORITE'!$N$3:$O$18,2,FALSE)),VLOOKUP(D165,'STOCK IDEAL'!$B$2:$E$1108,3,FALSE),VLOOKUP(D165,'STOCK IDEAL'!$B$2:$E$1108,3,FALSE)+VLOOKUP(E165,'REGLE PRIORITE'!$N$3:$O$18,2,FALSE)),IF($C165="Bijoux argent/plaqué or",IF(ISERROR(VLOOKUP(D165,'STOCK IDEAL'!$B$2:$E$1108,3,FALSE)+VLOOKUP($E165,'REGLE PRIORITE'!$Q$3:$R$28,2,FALSE)),VLOOKUP(D165,'STOCK IDEAL'!$B$2:$E$1108,3,FALSE),VLOOKUP(D165,'STOCK IDEAL'!$B$2:$E$1108,3,FALSE)+VLOOKUP($E165,'REGLE PRIORITE'!$Q$3:$R$28,2,FALSE)),VLOOKUP(D165,'STOCK IDEAL'!$B$2:$E$1108,3,FALSE)))) -> 1 | J165: 0 | K165: =IF($C165="porcelaine",IF(ISERROR(VLOOKUP($D165,'STOCK IDEAL'!$B$2:$E$1080,4,FALSE)+VLOOKUP($E165,'REGLE PRIORITE'!$K$3:$L$14,2,FALSE)),VLOOKUP($D165,'STOCK IDEAL'!$B$2:$E$1080,4,FALSE),VLOOKUP($D165,'STOCK IDEAL'!$B$2:$E$1080,4,FALSE)+VLOOKUP($E165,'REGLE PRIORITE'!$K$3:$L$14,2,FALSE)),IF(C165="Bijoux l’atelier",IF(ISERROR(VLOOKUP(D165,'STOCK IDEAL'!$B$2:$E$1108,4,FALSE)+VLOOKUP(E165,'REGLE PRIORITE'!$N$3:$O$18,2,FALSE)),VLOOKUP(D165,'STOCK IDEAL'!$B$2:$E$1108,4,FALSE),VLOOKUP(D165,'STOCK IDEAL'!$B$2:$E$1108,4,FALSE)+VLOOKUP(E165,'REGLE PRIORITE'!$N$3:$O$18,2,FALSE)),IF($C165="Bijoux argent/plaqué or",IF(ISERROR(VLOOKUP(D165,'STOCK IDEAL'!$B$2:$E$1108,4,FALSE)+VLOOKUP($E165,'REGLE PRIORITE'!$Q$3:$R$28,2,FALSE)),VLOOKUP(D165,'STOCK IDEAL'!$B$2:$E$1108,4,FALSE),VLOOKUP(D165,'STOCK IDEAL'!$B$2:$E$1108,4,FALSE)+VLOOKUP($E165,'REGLE PRIORITE'!$Q$3:$R$28,2,FALSE)),VLOOKUP(D165,'STOCK IDEAL'!$B$2:$E$1108,4,FALSE)))) -> 3 | L165: =IF(F165>G165,"OK") -> FALSE | M165: =HLOOKUP('STOCK BRUT'!$C165,'REGLE PRIORITE'!$B$4:$G$7,2,FALSE) -> 1 | N165: =HLOOKUP('STOCK BRUT'!$C165,'REGLE PRIORITE'!$B$4:$G$7,3,FALSE) -> 3 | O165: =HLOOKUP('STOCK BRUT'!$C165,'REGLE PRIORITE'!$B$4:$G$7,4,FALSE) -> 2 | P165: =F165-G165 -> 0 | Q165: =H165-I165 -> 0 | R165: =J165-K165 -> -3 | S165: =P165+Q165+R165 -> -3
A166: 164 | B166: 5346TAUPE | C166: Porcelaine | D166: Coupelle entremets pm unie | E166: TAUPE | F166: 1 | G166: =IF($C166="porcelaine",IF(ISERROR(VLOOKUP($D166,'STOCK IDEAL'!$B$2:$C$1080,2,FALSE)+VLOOKUP($E166,'REGLE PRIORITE'!$K$3:$L$14,2,FALSE)),VLOOKUP($D166,'STOCK IDEAL'!$B$2:$C$1080,2,FALSE),VLOOKUP($D166,'STOCK IDEAL'!$B$2:$C$1080,2,FALSE)+VLOOKUP($E166,'REGLE PRIORITE'!$K$3:$L$14,2,FALSE)),IF(C166="Bijoux l’atelier",IF(ISERROR(VLOOKUP(D166,'STOCK IDEAL'!$B$2:$C$1108,2,FALSE)+VLOOKUP(E166,'REGLE PRIORITE'!$N$3:$O$18,2,FALSE)),VLOOKUP(D166,'STOCK IDEAL'!$B$2:$C$1108,2,FALSE),VLOOKUP(D166,'STOCK IDEAL'!$B$2:$C$1108,2,FALSE)+VLOOKUP(E166,'REGLE PRIORITE'!$N$3:$O$18,2,FALSE)),IF($C166="Bijoux argent/plaqué or",IF(ISERROR(VLOOKUP(D166,'STOCK IDEAL'!$B$2:$C$1108,2,FALSE)+VLOOKUP($E166,'REGLE PRIORITE'!$Q$3:$R$28,2,FALSE)),VLOOKUP(D166,'STOCK IDEAL'!$B$2:$C$1108,2,FALSE),VLOOKUP(D166,'STOCK IDEAL'!$B$2:$C$1108,2,FALSE)+VLOOKUP($E166,'REGLE PRIORITE'!$Q$3:$R$28,2,FALSE)),VLOOKUP(D166,'STOCK IDEAL'!$B$2:$C$1108,2,FALSE)))) -> 4 | H166: 1 | I166: =IF($C166="porcelaine",IF(ISERROR(VLOOKUP($D166,'STOCK IDEAL'!$B$2:$E$1080,3,FALSE)+VLOOKUP($E166,'REGLE PRIORITE'!$K$3:$L$14,2,FALSE)),VLOOKUP($D166,'STOCK IDEAL'!$B$2:$E$1080,3,FALSE),VLOOKUP($D166,'STOCK IDEAL'!$B$2:$E$1080,3,FALSE)+VLOOKUP($E166,'REGLE PRIORITE'!$K$3:$L$14,2,FALSE)),IF(C166="Bijoux l’atelier",IF(ISERROR(VLOOKUP(D166,'STOCK IDEAL'!$B$2:$E$1108,3,FALSE)+VLOOKUP(E166,'REGLE PRIORITE'!$N$3:$O$18,2,FALSE)),VLOOKUP(D166,'STOCK IDEAL'!$B$2:$E$1108,3,FALSE),VLOOKUP(D166,'STOCK IDEAL'!$B$2:$E$1108,3,FALSE)+VLOOKUP(E166,'REGLE PRIORITE'!$N$3:$O$18,2,FALSE)),IF($C166="Bijoux argent/plaqué or",IF(ISERROR(VLOOKUP(D166,'STOCK IDEAL'!$B$2:$E$1108,3,FALSE)+VLOOKUP($E166,'REGLE PRIORITE'!$Q$3:$R$28,2,FALSE)),VLOOKUP(D166,'STOCK IDEAL'!$B$2:$E$1108,3,FALSE),VLOOKUP(D166,'STOCK IDEAL'!$B$2:$E$1108,3,FALSE)+VLOOKUP($E166,'REGLE PRIORITE'!$Q$3:$R$28,2,FALSE)),VLOOKUP(D166,'STOCK IDEAL'!$B$2:$E$1108,3,FALSE)))) -> 2 | J166: 0 | K166: =IF($C166="porcelaine",IF(ISERROR(VLOOKUP($D166,'STOCK IDEAL'!$B$2:$E$1080,4,FALSE)+VLOOKUP($E166,'REGLE PRIORITE'!$K$3:$L$14,2,FALSE)),VLOOKUP($D166,'STOCK IDEAL'!$B$2:$E$1080,4,FALSE),VLOOKUP($D166,'STOCK IDEAL'!$B$2:$E$1080,4,FALSE)+VLOOKUP($E166,'REGLE PRIORITE'!$K$3:$L$14,2,FALSE)),IF(C166="Bijoux l’atelier",IF(ISERROR(VLOOKUP(D166,'STOCK IDEAL'!$B$2:$E$1108,4,FALSE)+VLOOKUP(E166,'REGLE PRIORITE'!$N$3:$O$18,2,FALSE)),VLOOKUP(D166,'STOCK IDEAL'!$B$2:$E$1108,4,FALSE),VLOOKUP(D166,'STOCK IDEAL'!$B$2:$E$1108,4,FALSE)+VLOOKUP(E166,'REGLE PRIORITE'!$N$3:$O$18,2,FALSE)),IF($C166="Bijoux argent/plaqué or",IF(ISERROR(VLOOKUP(D166,'STOCK IDEAL'!$B$2:$E$1108,4,FALSE)+VLOOKUP($E166,'REGLE PRIORITE'!$Q$3:$R$28,2,FALSE)),VLOOKUP(D166,'STOCK IDEAL'!$B$2:$E$1108,4,FALSE),VLOOKUP(D166,'STOCK IDEAL'!$B$2:$E$1108,4,FALSE)+VLOOKUP($E166,'REGLE PRIORITE'!$Q$3:$R$28,2,FALSE)),VLOOKUP(D166,'STOCK IDEAL'!$B$2:$E$1108,4,FALSE)))) -> 4 | L166: =IF(F166>G166,"OK") -> FALSE | M166: =HLOOKUP('STOCK BRUT'!$C166,'REGLE PRIORITE'!$B$4:$G$7,2,FALSE) -> 1 | N166: =HLOOKUP('STOCK BRUT'!$C166,'REGLE PRIORITE'!$B$4:$G$7,3,FALSE) -> 3 | O166: =HLOOKUP('STOCK BRUT'!$C166,'REGLE PRIORITE'!$B$4:$G$7,4,FALSE) -> 2 | P166: =F166-G166 -> -3 | Q166: =H166-I166 -> -1 | R166: =J166-K166 -> -4 | S166: =P166+Q166+R166 -> -8
A167: 165 | B167: 5346TURQ | C167: Porcelaine | D167: Coupelle entremets pm unie | E167: TURQUOISE | F167: 3 | G167: =IF($C167="porcelaine",IF(ISERROR(VLOOKUP($D167,'STOCK IDEAL'!$B$2:$C$1080,2,FALSE)+VLOOKUP($E167,'REGLE PRIORITE'!$K$3:$L$14,2,FALSE)),VLOOKUP($D167,'STOCK IDEAL'!$B$2:$C$1080,2,FALSE),VLOOKUP($D167,'STOCK IDEAL'!$B$2:$C$1080,2,FALSE)+VLOOKUP($E167,'REGLE PRIORITE'!$K$3:$L$14,2,FALSE)),IF(C167="Bijoux l’atelier",IF(ISERROR(VLOOKUP(D167,'STOCK IDEAL'!$B$2:$C$1108,2,FALSE)+VLOOKUP(E167,'REGLE PRIORITE'!$N$3:$O$18,2,FALSE)),VLOOKUP(D167,'STOCK IDEAL'!$B$2:$C$1108,2,FALSE),VLOOKUP(D167,'STOCK IDEAL'!$B$2:$C$1108,2,FALSE)+VLOOKUP(E167,'REGLE PRIORITE'!$N$3:$O$18,2,FALSE)),IF($C167="Bijoux argent/plaqué or",IF(ISERROR(VLOOKUP(D167,'STOCK IDEAL'!$B$2:$C$1108,2,FALSE)+VLOOKUP($E167,'REGLE PRIORITE'!$Q$3:$R$28,2,FALSE)),VLOOKUP(D167,'STOCK IDEAL'!$B$2:$C$1108,2,FALSE),VLOOKUP(D167,'STOCK IDEAL'!$B$2:$C$1108,2,FALSE)+VLOOKUP($E167,'REGLE PRIORITE'!$Q$3:$R$28,2,FALSE)),VLOOKUP(D167,'STOCK IDEAL'!$B$2:$C$1108,2,FALSE)))) -> 3 | H167: 1 | I167: =IF($C167="porcelaine",IF(ISERROR(VLOOKUP($D167,'STOCK IDEAL'!$B$2:$E$1080,3,FALSE)+VLOOKUP($E167,'REGLE PRIORITE'!$K$3:$L$14,2,FALSE)),VLOOKUP($D167,'STOCK IDEAL'!$B$2:$E$1080,3,FALSE),VLOOKUP($D167,'STOCK IDEAL'!$B$2:$E$1080,3,FALSE)+VLOOKUP($E167,'REGLE PRIORITE'!$K$3:$L$14,2,FALSE)),IF(C167="Bijoux l’atelier",IF(ISERROR(VLOOKUP(D167,'STOCK IDEAL'!$B$2:$E$1108,3,FALSE)+VLOOKUP(E167,'REGLE PRIORITE'!$N$3:$O$18,2,FALSE)),VLOOKUP(D167,'STOCK IDEAL'!$B$2:$E$1108,3,FALSE),VLOOKUP(D167,'STOCK IDEAL'!$B$2:$E$1108,3,FALSE)+VLOOKUP(E167,'REGLE PRIORITE'!$N$3:$O$18,2,FALSE)),IF($C167="Bijoux argent/plaqué or",IF(ISERROR(VLOOKUP(D167,'STOCK IDEAL'!$B$2:$E$1108,3,FALSE)+VLOOKUP($E167,'REGLE PRIORITE'!$Q$3:$R$28,2,FALSE)),VLOOKUP(D167,'STOCK IDEAL'!$B$2:$E$1108,3,FALSE),VLOOKUP(D167,'STOCK IDEAL'!$B$2:$E$1108,3,FALSE)+VLOOKUP($E167,'REGLE PRIORITE'!$Q$3:$R$28,2,FALSE)),VLOOKUP(D167,'STOCK IDEAL'!$B$2:$E$1108,3,FALSE)))) -> 1 | J167: 0 | K167: =IF($C167="porcelaine",IF(ISERROR(VLOOKUP($D167,'STOCK IDEAL'!$B$2:$E$1080,4,FALSE)+VLOOKUP($E167,'REGLE PRIORITE'!$K$3:$L$14,2,FALSE)),VLOOKUP($D167,'STOCK IDEAL'!$B$2:$E$1080,4,FALSE),VLOOKUP($D167,'STOCK IDEAL'!$B$2:$E$1080,4,FALSE)+VLOOKUP($E167,'REGLE PRIORITE'!$K$3:$L$14,2,FALSE)),IF(C167="Bijoux l’atelier",IF(ISERROR(VLOOKUP(D167,'STOCK IDEAL'!$B$2:$E$1108,4,FALSE)+VLOOKUP(E167,'REGLE PRIORITE'!$N$3:$O$18,2,FALSE)),VLOOKUP(D167,'STOCK IDEAL'!$B$2:$E$1108,4,FALSE),VLOOKUP(D167,'STOCK IDEAL'!$B$2:$E$1108,4,FALSE)+VLOOKUP(E167,'REGLE PRIORITE'!$N$3:$O$18,2,FALSE)),IF($C167="Bijoux argent/plaqué or",IF(ISERROR(VLOOKUP(D167,'STOCK IDEAL'!$B$2:$E$1108,4,FALSE)+VLOOKUP($E167,'REGLE PRIORITE'!$Q$3:$R$28,2,FALSE)),VLOOKUP(D167,'STOCK IDEAL'!$B$2:$E$1108,4,FALSE),VLOOKUP(D167,'STOCK IDEAL'!$B$2:$E$1108,4,FALSE)+VLOOKUP($E167,'REGLE PRIORITE'!$Q$3:$R$28,2,FALSE)),VLOOKUP(D167,'STOCK IDEAL'!$B$2:$E$1108,4,FALSE)))) -> 3 | L167: =IF(F167>G167,"OK") -> FALSE | M167: =HLOOKUP('STOCK BRUT'!$C167,'REGLE PRIORITE'!$B$4:$G$7,2,FALSE) -> 1 | N167: =HLOOKUP('STOCK BRUT'!$C167,'REGLE PRIORITE'!$B$4:$G$7,3,FALSE) -> 3 | O167: =HLOOKUP('STOCK BRUT'!$C167,'REGLE PRIORITE'!$B$4:$G$7,4,FALSE) -> 2 | P167: =F167-G167 -> 0 | Q167: =H167-I167 -> 0 | R167: =J167-K167 -> -3 | S167: =P167+Q167+R167 -> -3
A168: 166 | B168: 5346VIOLET | C168: Porcelaine | D168: Coupelle entremets pm unie | E168: VIOLET | F168: 2 | G168: =IF($C168="porcelaine",IF(ISERROR(VLOOKUP($D168,'STOCK IDEAL'!$B$2:$C$1080,2,FALSE)+VLOOKUP($E168,'REGLE PRIORITE'!$K$3:$L$14,2,FALSE)),VLOOKUP($D168,'STOCK IDEAL'!$B$2:$C$1080,2,FALSE),VLOOKUP($D168,'STOCK IDEAL'!$B$2:$C$1080,2,FALSE)+VLOOKUP($E168,'REGLE PRIORITE'!$K$3:$L$14,2,FALSE)),IF(C168="Bijoux l’atelier",IF(ISERROR(VLOOKUP(D168,'STOCK IDEAL'!$B$2:$C$1108,2,FALSE)+VLOOKUP(E168,'REGLE PRIORITE'!$N$3:$O$18,2,FALSE)),VLOOKUP(D168,'STOCK IDEAL'!$B$2:$C$1108,2,FALSE),VLOOKUP(D168,'STOCK IDEAL'!$B$2:$C$1108,2,FALSE)+VLOOKUP(E168,'REGLE PRIORITE'!$N$3:$O$18,2,FALSE)),IF($C168="Bijoux argent/plaqué or",IF(ISERROR(VLOOKUP(D168,'STOCK IDEAL'!$B$2:$C$1108,2,FALSE)+VLOOKUP($E168,'REGLE PRIORITE'!$Q$3:$R$28,2,FALSE)),VLOOKUP(D168,'STOCK IDEAL'!$B$2:$C$1108,2,FALSE),VLOOKUP(D168,'STOCK IDEAL'!$B$2:$C$1108,2,FALSE)+VLOOKUP($E168,'REGLE PRIORITE'!$Q$3:$R$28,2,FALSE)),VLOOKUP(D168,'STOCK IDEAL'!$B$2:$C$1108,2,FALSE)))) -> 3 | H168: 1 | I168: =IF($C168="porcelaine",IF(ISERROR(VLOOKUP($D168,'STOCK IDEAL'!$B$2:$E$1080,3,FALSE)+VLOOKUP($E168,'REGLE PRIORITE'!$K$3:$L$14,2,FALSE)),VLOOKUP($D168,'STOCK IDEAL'!$B$2:$E$1080,3,FALSE),VLOOKUP($D168,'STOCK IDEAL'!$B$2:$E$1080,3,FALSE)+VLOOKUP($E168,'REGLE PRIORITE'!$K$3:$L$14,2,FALSE)),IF(C168="Bijoux l’atelier",IF(ISERROR(VLOOKUP(D168,'STOCK IDEAL'!$B$2:$E$1108,3,FALSE)+VLOOKUP(E168,'REGLE PRIORITE'!$N$3:$O$18,2,FALSE)),VLOOKUP(D168,'STOCK IDEAL'!$B$2:$E$1108,3,FALSE),VLOOKUP(D168,'STOCK IDEAL'!$B$2:$E$1108,3,FALSE)+VLOOKUP(E168,'REGLE PRIORITE'!$N$3:$O$18,2,FALSE)),IF($C168="Bijoux argent/plaqué or",IF(ISERROR(VLOOKUP(D168,'STOCK IDEAL'!$B$2:$E$1108,3,FALSE)+VLOOKUP($E168,'REGLE PRIORITE'!$Q$3:$R$28,2,FALSE)),VLOOKUP(D168,'STOCK IDEAL'!$B$2:$E$1108,3,FALSE),VLOOKUP(D168,'STOCK IDEAL'!$B$2:$E$1108,3,FALSE)+VLOOKUP($E168,'REGLE PRIORITE'!$Q$3:$R$28,2,FALSE)),VLOOKUP(D168,'STOCK IDEAL'!$B$2:$E$1108,3,FALSE)))) -> 1 | J168: 0 | K168: =IF($C168="porcelaine",IF(ISERROR(VLOOKUP($D168,'STOCK IDEAL'!$B$2:$E$1080,4,FALSE)+VLOOKUP($E168,'REGLE PRIORITE'!$K$3:$L$14,2,FALSE)),VLOOKUP($D168,'STOCK IDEAL'!$B$2:$E$1080,4,FALSE),VLOOKUP($D168,'STOCK IDEAL'!$B$2:$E$1080,4,FALSE)+VLOOKUP($E168,'REGLE PRIORITE'!$K$3:$L$14,2,FALSE)),IF(C168="Bijoux l’atelier",IF(ISERROR(VLOOKUP(D168,'STOCK IDEAL'!$B$2:$E$1108,4,FALSE)+VLOOKUP(E168,'REGLE PRIORITE'!$N$3:$O$18,2,FALSE)),VLOOKUP(D168,'STOCK IDEAL'!$B$2:$E$1108,4,FALSE),VLOOKUP(D168,'STOCK IDEAL'!$B$2:$E$1108,4,FALSE)+VLOOKUP(E168,'REGLE PRIORITE'!$N$3:$O$18,2,FALSE)),IF($C168="Bijoux argent/plaqué or",IF(ISERROR(VLOOKUP(D168,'STOCK IDEAL'!$B$2:$E$1108,4,FALSE)+VLOOKUP($E168,'REGLE PRIORITE'!$Q$3:$R$28,2,FALSE)),VLOOKUP(D168,'STOCK IDEAL'!$B$2:$E$1108,4,FALSE),VLOOKUP(D168,'STOCK IDEAL'!$B$2:$E$1108,4,FALSE)+VLOOKUP($E168,'REGLE PRIORITE'!$Q$3:$R$28,2,FALSE)),VLOOKUP(D168,'STOCK IDEAL'!$B$2:$E$1108,4,FALSE)))) -> 3 | L168: =IF(F168>G168,"OK") -> FALSE | M168: =HLOOKUP('STOCK BRUT'!$C168,'REGLE PRIORITE'!$B$4:$G$7,2,FALSE) -> 1 | N168: =HLOOKUP('STOCK BRUT'!$C168,'REGLE PRIORITE'!$B$4:$G$7,3,FALSE) -> 3 | O168: =HLOOKUP('STOCK BRUT'!$C168,'REGLE PRIORITE'!$B$4:$G$7,4,FALSE) -> 2 | P168: =F168-G168 -> -1 | Q168: =H168-I168 -> 0 | R168: =J168-K168 -> -3 | S168: =P168+Q168+R168 -> -4
A169: 167 | B169: C8837 | C169: Oozoo | D169: Montre Oozoo C8837 | F169: 0 | G169: =IF($C169="porcelaine",IF(ISERROR(VLOOKUP($D169,'STOCK IDEAL'!$B$2:$C$1080,2,FALSE)+VLOOKUP($E169,'REGLE PRIORITE'!$K$3:$L$14,2,FALSE)),VLOOKUP($D169,'STOCK IDEAL'!$B$2:$C$1080,2,FALSE),VLOOKUP($D169,'STOCK IDEAL'!$B$2:$C$1080,2,FALSE)+VLOOKUP($E169,'REGLE PRIORITE'!$K$3:$L$14,2,FALSE)),IF(C169="Bijoux l’atelier",IF(ISERROR(VLOOKUP(D169,'STOCK IDEAL'!$B$2:$C$1108,2,FALSE)+VLOOKUP(E169,'REGLE PRIORITE'!$N$3:$O$18,2,FALSE)),VLOOKUP(D169,'STOCK IDEAL'!$B$2:$C$1108,2,FALSE),VLOOKUP(D169,'STOCK IDEAL'!$B$2:$C$1108,2,FALSE)+VLOOKUP(E169,'REGLE PRIORITE'!$N$3:$O$18,2,FALSE)),IF($C169="Bijoux argent/plaqué or",IF(ISERROR(VLOOKUP(D169,'STOCK IDEAL'!$B$2:$C$1108,2,FALSE)+VLOOKUP($E169,'REGLE PRIORITE'!$Q$3:$R$28,2,FALSE)),VLOOKUP(D169,'STOCK IDEAL'!$B$2:$C$1108,2,FALSE),VLOOKUP(D169,'STOCK IDEAL'!$B$2:$C$1108,2,FALSE)+VLOOKUP($E169,'REGLE PRIORITE'!$Q$3:$R$28,2,FALSE)),VLOOKUP(D169,'STOCK IDEAL'!$B$2:$C$1108,2,FALSE)))) -> 1 | H169: 1 | I169: =IF($C169="porcelaine",IF(ISERROR(VLOOKUP($D169,'STOCK IDEAL'!$B$2:$E$1080,3,FALSE)+VLOOKUP($E169,'REGLE PRIORITE'!$K$3:$L$14,2,FALSE)),VLOOKUP($D169,'STOCK IDEAL'!$B$2:$E$1080,3,FALSE),VLOOKUP($D169,'STOCK IDEAL'!$B$2:$E$1080,3,FALSE)+VLOOKUP($E169,'REGLE PRIORITE'!$K$3:$L$14,2,FALSE)),IF(C169="Bijoux l’atelier",IF(ISERROR(VLOOKUP(D169,'STOCK IDEAL'!$B$2:$E$1108,3,FALSE)+VLOOKUP(E169,'REGLE PRIORITE'!$N$3:$O$18,2,FALSE)),VLOOKUP(D169,'STOCK IDEAL'!$B$2:$E$1108,3,FALSE),VLOOKUP(D169,'STOCK IDEAL'!$B$2:$E$1108,3,FALSE)+VLOOKUP(E169,'REGLE PRIORITE'!$N$3:$O$18,2,FALSE)),IF($C169="Bijoux argent/plaqué or",IF(ISERROR(VLOOKUP(D169,'STOCK IDEAL'!$B$2:$E$1108,3,FALSE)+VLOOKUP($E169,'REGLE PRIORITE'!$Q$3:$R$28,2,FALSE)),VLOOKUP(D169,'STOCK IDEAL'!$B$2:$E$1108,3,FALSE),VLOOKUP(D169,'STOCK IDEAL'!$B$2:$E$1108,3,FALSE)+VLOOKUP($E169,'REGLE PRIORITE'!$Q$3:$R$28,2,FALSE)),VLOOKUP(D169,'STOCK IDEAL'!$B$2:$E$1108,3,FALSE)))) -> 1 | J169: 0 | K169: =IF($C169="porcelaine",IF(ISERROR(VLOOKUP($D169,'STOCK IDEAL'!$B$2:$E$1080,4,FALSE)+VLOOKUP($E169,'REGLE PRIORITE'!$K$3:$L$14,2,FALSE)),VLOOKUP($D169,'STOCK IDEAL'!$B$2:$E$1080,4,FALSE),VLOOKUP($D169,'STOCK IDEAL'!$B$2:$E$1080,4,FALSE)+VLOOKUP($E169,'REGLE PRIORITE'!$K$3:$L$14,2,FALSE)),IF(C169="Bijoux l’atelier",IF(ISERROR(VLOOKUP(D169,'STOCK IDEAL'!$B$2:$E$1108,4,FALSE)+VLOOKUP(E169,'REGLE PRIORITE'!$N$3:$O$18,2,FALSE)),VLOOKUP(D169,'STOCK IDEAL'!$B$2:$E$1108,4,FALSE),VLOOKUP(D169,'STOCK IDEAL'!$B$2:$E$1108,4,FALSE)+VLOOKUP(E169,'REGLE PRIORITE'!$N$3:$O$18,2,FALSE)),IF($C169="Bijoux argent/plaqué or",IF(ISERROR(VLOOKUP(D169,'STOCK IDEAL'!$B$2:$E$1108,4,FALSE)+VLOOKUP($E169,'REGLE PRIORITE'!$Q$3:$R$28,2,FALSE)),VLOOKUP(D169,'STOCK IDEAL'!$B$2:$E$1108,4,FALSE),VLOOKUP(D169,'STOCK IDEAL'!$B$2:$E$1108,4,FALSE)+VLOOKUP($E169,'REGLE PRIORITE'!$Q$3:$R$28,2,FALSE)),VLOOKUP(D169,'STOCK IDEAL'!$B$2:$E$1108,4,FALSE)))) -> 3 | L169: =IF(F169>G169,"OK") -> FALSE | M169: =HLOOKUP('STOCK BRUT'!$C169,'REGLE PRIORITE'!$B$4:$G$7,2,FALSE) -> 2 | N169: =HLOOKUP('STOCK BRUT'!$C169,'REGLE PRIORITE'!$B$4:$G$7,3,FALSE) -> 1 | O169: =HLOOKUP('STOCK BRUT'!$C169,'REGLE PRIORITE'!$B$4:$G$7,4,FALSE) -> 3 | P169: =F169-G169 -> -1 | Q169: =H169-I169 -> 0 | R169: =J169-K169 -> -3 | S169: =P169+Q169+R169 -> -4
A170: 168 | B170: C8825 | C170: Oozoo | D170: Montre Oozoo C8825 | F170: 0 | G170: =IF($C170="porcelaine",IF(ISERROR(VLOOKUP($D170,'STOCK IDEAL'!$B$2:$C$1080,2,FALSE)+VLOOKUP($E170,'REGLE PRIORITE'!$K$3:$L$14,2,FALSE)),VLOOKUP($D170,'STOCK IDEAL'!$B$2:$C$1080,2,FALSE),VLOOKUP($D170,'STOCK IDEAL'!$B$2:$C$1080,2,FALSE)+VLOOKUP($E170,'REGLE PRIORITE'!$K$3:$L$14,2,FALSE)),IF(C170="Bijoux l’atelier",IF(ISERROR(VLOOKUP(D170,'STOCK IDEAL'!$B$2:$C$1108,2,FALSE)+VLOOKUP(E170,'REGLE PRIORITE'!$N$3:$O$18,2,FALSE)),VLOOKUP(D170,'STOCK IDEAL'!$B$2:$C$1108,2,FALSE),VLOOKUP(D170,'STOCK IDEAL'!$B$2:$C$1108,2,FALSE)+VLOOKUP(E170,'REGLE PRIORITE'!$N$3:$O$18,2,FALSE)),IF($C170="Bijoux argent/plaqué or",IF(ISERROR(VLOOKUP(D170,'STOCK IDEAL'!$B$2:$C$1108,2,FALSE)+VLOOKUP($E170,'REGLE PRIORITE'!$Q$3:$R$28,2,FALSE)),VLOOKUP(D170,'STOCK IDEAL'!$B$2:$C$1108,2,FALSE),VLOOKUP(D170,'STOCK IDEAL'!$B$2:$C$1108,2,FALSE)+VLOOKUP($E170,'REGLE PRIORITE'!$Q$3:$R$28,2,FALSE)),VLOOKUP(D170,'STOCK IDEAL'!$B$2:$C$1108,2,FALSE)))) -> 1 | H170: 0 | I170: =IF($C170="porcelaine",IF(ISERROR(VLOOKUP($D170,'STOCK IDEAL'!$B$2:$E$1080,3,FALSE)+VLOOKUP($E170,'REGLE PRIORITE'!$K$3:$L$14,2,FALSE)),VLOOKUP($D170,'STOCK IDEAL'!$B$2:$E$1080,3,FALSE),VLOOKUP($D170,'STOCK IDEAL'!$B$2:$E$1080,3,FALSE)+VLOOKUP($E170,'REGLE PRIORITE'!$K$3:$L$14,2,FALSE)),IF(C170="Bijoux l’atelier",IF(ISERROR(VLOOKUP(D170,'STOCK IDEAL'!$B$2:$E$1108,3,FALSE)+VLOOKUP(E170,'REGLE PRIORITE'!$N$3:$O$18,2,FALSE)),VLOOKUP(D170,'STOCK IDEAL'!$B$2:$E$1108,3,FALSE),VLOOKUP(D170,'STOCK IDEAL'!$B$2:$E$1108,3,FALSE)+VLOOKUP(E170,'REGLE PRIORITE'!$N$3:$O$18,2,FALSE)),IF($C170="Bijoux argent/plaqué or",IF(ISERROR(VLOOKUP(D170,'STOCK IDEAL'!$B$2:$E$1108,3,FALSE)+VLOOKUP($E170,'REGLE PRIORITE'!$Q$3:$R$28,2,FALSE)),VLOOKUP(D170,'STOCK IDEAL'!$B$2:$E$1108,3,FALSE),VLOOKUP(D170,'STOCK IDEAL'!$B$2:$E$1108,3,FALSE)+VLOOKUP($E170,'REGLE PRIORITE'!$Q$3:$R$28,2,FALSE)),VLOOKUP(D170,'STOCK IDEAL'!$B$2:$E$1108,3,FALSE)))) -> 1 | J170: 0 | K170: =IF($C170="porcelaine",IF(ISERROR(VLOOKUP($D170,'STOCK IDEAL'!$B$2:$E$1080,4,FALSE)+VLOOKUP($E170,'REGLE PRIORITE'!$K$3:$L$14,2,FALSE)),VLOOKUP($D170,'STOCK IDEAL'!$B$2:$E$1080,4,FALSE),VLOOKUP($D170,'STOCK IDEAL'!$B$2:$E$1080,4,FALSE)+VLOOKUP($E170,'REGLE PRIORITE'!$K$3:$L$14,2,FALSE)),IF(C170="Bijoux l’atelier",IF(ISERROR(VLOOKUP(D170,'STOCK IDEAL'!$B$2:$E$1108,4,FALSE)+VLOOKUP(E170,'REGLE PRIORITE'!$N$3:$O$18,2,FALSE)),VLOOKUP(D170,'STOCK IDEAL'!$B$2:$E$1108,4,FALSE),VLOOKUP(D170,'STOCK IDEAL'!$B$2:$E$1108,4,FALSE)+VLOOKUP(E170,'REGLE PRIORITE'!$N$3:$O$18,2,FALSE)),IF($C170="Bijoux argent/plaqué or",IF(ISERROR(VLOOKUP(D170,'STOCK IDEAL'!$B$2:$E$1108,4,FALSE)+VLOOKUP($E170,'REGLE PRIORITE'!$Q$3:$R$28,2,FALSE)),VLOOKUP(D170,'STOCK IDEAL'!$B$2:$E$1108,4,FALSE),VLOOKUP(D170,'STOCK IDEAL'!$B$2:$E$1108,4,FALSE)+VLOOKUP($E170,'REGLE PRIORITE'!$Q$3:$R$28,2,FALSE)),VLOOKUP(D170,'STOCK IDEAL'!$B$2:$E$1108,4,FALSE)))) -> 3 | L170: =IF(F170>G170,"OK") -> FALSE | M170: =HLOOKUP('STOCK BRUT'!$C170,'REGLE PRIORITE'!$B$4:$G$7,2,FALSE) -> 2 | N170: =HLOOKUP('STOCK BRUT'!$C170,'REGLE PRIORITE'!$B$4:$G$7,3,FALSE) -> 1 | O170: =HLOOKUP('STOCK BRUT'!$C170,'REGLE PRIORITE'!$B$4:$G$7,4,FALSE) -> 3 | P170: =F170-G170 -> -1 | Q170: =H170-I170 -> -1 | R170: =J170-K170 -> -3 | S170: =P170+Q170+R170 -> -5
A171: 169 | B171: C8801 | C171: Oozoo | D171: Montre Oozoo C8801 | F171: 0 | G171: =IF($C171="porcelaine",IF(ISERROR(VLOOKUP($D171,'STOCK IDEAL'!$B$2:$C$1080,2,FALSE)+VLOOKUP($E171,'REGLE PRIORITE'!$K$3:$L$14,2,FALSE)),VLOOKUP($D171,'STOCK IDEAL'!$B$2:$C$1080,2,FALSE),VLOOKUP($D171,'STOCK IDEAL'!$B$2:$C$1080,2,FALSE)+VLOOKUP($E171,'REGLE PRIORITE'!$K$3:$L$14,2,FALSE)),IF(C171="Bijoux l’atelier",IF(ISERROR(VLOOKUP(D171,'STOCK IDEAL'!$B$2:$C$1108,2,FALSE)+VLOOKUP(E171,'REGLE PRIORITE'!$N$3:$O$18,2,FALSE)),VLOOKUP(D171,'STOCK IDEAL'!$B$2:$C$1108,2,FALSE),VLOOKUP(D171,'STOCK IDEAL'!$B$2:$C$1108,2,FALSE)+VLOOKUP(E171,'REGLE PRIORITE'!$N$3:$O$18,2,FALSE)),IF($C171="Bijoux argent/plaqué or",IF(ISERROR(VLOOKUP(D171,'STOCK IDEAL'!$B$2:$C$1108,2,FALSE)+VLOOKUP($E171,'REGLE PRIORITE'!$Q$3:$R$28,2,FALSE)),VLOOKUP(D171,'STOCK IDEAL'!$B$2:$C$1108,2,FALSE),VLOOKUP(D171,'STOCK IDEAL'!$B$2:$C$1108,2,FALSE)+VLOOKUP($E171,'REGLE PRIORITE'!$Q$3:$R$28,2,FALSE)),VLOOKUP(D171,'STOCK IDEAL'!$B$2:$C$1108,2,FALSE)))) -> 1 | H171: 0 | I171: =IF($C171="porcelaine",IF(ISERROR(VLOOKUP($D171,'STOCK IDEAL'!$B$2:$E$1080,3,FALSE)+VLOOKUP($E171,'REGLE PRIORITE'!$K$3:$L$14,2,FALSE)),VLOOKUP($D171,'STOCK IDEAL'!$B$2:$E$1080,3,FALSE),VLOOKUP($D171,'STOCK IDEAL'!$B$2:$E$1080,3,FALSE)+VLOOKUP($E171,'REGLE PRIORITE'!$K$3:$L$14,2,FALSE)),IF(C171="Bijoux l’atelier",IF(ISERROR(VLOOKUP(D171,'STOCK IDEAL'!$B$2:$E$1108,3,FALSE)+VLOOKUP(E171,'REGLE PRIORITE'!$N$3:$O$18,2,FALSE)),VLOOKUP(D171,'STOCK IDEAL'!$B$2:$E$1108,3,FALSE),VLOOKUP(D171,'STOCK IDEAL'!$B$2:$E$1108,3,FALSE)+VLOOKUP(E171,'REGLE PRIORITE'!$N$3:$O$18,2,FALSE)),IF($C171="Bijoux argent/plaqué or",IF(ISERROR(VLOOKUP(D171,'STOCK IDEAL'!$B$2:$E$1108,3,FALSE)+VLOOKUP($E171,'REGLE PRIORITE'!$Q$3:$R$28,2,FALSE)),VLOOKUP(D171,'STOCK IDEAL'!$B$2:$E$1108,3,FALSE),VLOOKUP(D171,'STOCK IDEAL'!$B$2:$E$1108,3,FALSE)+VLOOKUP($E171,'REGLE PRIORITE'!$Q$3:$R$28,2,FALSE)),VLOOKUP(D171,'STOCK IDEAL'!$B$2:$E$1108,3,FALSE)))) -> 1 | J171: 0 | K171: =IF($C171="porcelaine",IF(ISERROR(VLOOKUP($D171,'STOCK IDEAL'!$B$2:$E$1080,4,FALSE)+VLOOKUP($E171,'REGLE PRIORITE'!$K$3:$L$14,2,FALSE)),VLOOKUP($D171,'STOCK IDEAL'!$B$2:$E$1080,4,FALSE),VLOOKUP($D171,'STOCK IDEAL'!$B$2:$E$1080,4,FALSE)+VLOOKUP($E171,'REGLE PRIORITE'!$K$3:$L$14,2,FALSE)),IF(C171="Bijoux l’atelier",IF(ISERROR(VLOOKUP(D171,'STOCK IDEAL'!$B$2:$E$1108,4,FALSE)+VLOOKUP(E171,'REGLE PRIORITE'!$N$3:$O$18,2,FALSE)),VLOOKUP(D171,'STOCK IDEAL'!$B$2:$E$1108,4,FALSE),VLOOKUP(D171,'STOCK IDEAL'!$B$2:$E$1108,4,FALSE)+VLOOKUP(E171,'REGLE PRIORITE'!$N$3:$O$18,2,FALSE)),IF($C171="Bijoux argent/plaqué or",IF(ISERROR(VLOOKUP(D171,'STOCK IDEAL'!$B$2:$E$1108,4,FALSE)+VLOOKUP($E171,'REGLE PRIORITE'!$Q$3:$R$28,2,FALSE)),VLOOKUP(D171,'STOCK IDEAL'!$B$2:$E$1108,4,FALSE),VLOOKUP(D171,'STOCK IDEAL'!$B$2:$E$1108,4,FALSE)+VLOOKUP($E171,'REGLE PRIORITE'!$Q$3:$R$28,2,FALSE)),VLOOKUP(D171,'STOCK IDEAL'!$B$2:$E$1108,4,FALSE)))) -> 3 | L171: =IF(F171>G171,"OK") -> FALSE | M171: =HLOOKUP('STOCK BRUT'!$C171,'REGLE PRIORITE'!$B$4:$G$7,2,FALSE) -> 2 | N171: =HLOOKUP('STOCK BRUT'!$C171,'REGLE PRIORITE'!$B$4:$G$7,3,FALSE) -> 1 | O171: =HLOOKUP('STOCK BRUT'!$C171,'REGLE PRIORITE'!$B$4:$G$7,4,FALSE) -> 3 | P171: =F171-G171 -> -1 | Q171: =H171-I171 -> -1 | R171: =J171-K171 -> -3 | S171: =P171+Q171+R171 -> -5
A172: 170 | B172: C8820 | C172: Oozoo | D172: Montre Oozoo C8820 | F172: 1 | G172: =IF($C172="porcelaine",IF(ISERROR(VLOOKUP($D172,'STOCK IDEAL'!$B$2:$C$1080,2,FALSE)+VLOOKUP($E172,'REGLE PRIORITE'!$K$3:$L$14,2,FALSE)),VLOOKUP($D172,'STOCK IDEAL'!$B$2:$C$1080,2,FALSE),VLOOKUP($D172,'STOCK IDEAL'!$B$2:$C$1080,2,FALSE)+VLOOKUP($E172,'REGLE PRIORITE'!$K$3:$L$14,2,FALSE)),IF(C172="Bijoux l’atelier",IF(ISERROR(VLOOKUP(D172,'STOCK IDEAL'!$B$2:$C$1108,2,FALSE)+VLOOKUP(E172,'REGLE PRIORITE'!$N$3:$O$18,2,FALSE)),VLOOKUP(D172,'STOCK IDEAL'!$B$2:$C$1108,2,FALSE),VLOOKUP(D172,'STOCK IDEAL'!$B$2:$C$1108,2,FALSE)+VLOOKUP(E172,'REGLE PRIORITE'!$N$3:$O$18,2,FALSE)),IF($C172="Bijoux argent/plaqué or",IF(ISERROR(VLOOKUP(D172,'STOCK IDEAL'!$B$2:$C$1108,2,FALSE)+VLOOKUP($E172,'REGLE PRIORITE'!$Q$3:$R$28,2,FALSE)),VLOOKUP(D172,'STOCK IDEAL'!$B$2:$C$1108,2,FALSE),VLOOKUP(D172,'STOCK IDEAL'!$B$2:$C$1108,2,FALSE)+VLOOKUP($E172,'REGLE PRIORITE'!$Q$3:$R$28,2,FALSE)),VLOOKUP(D172,'STOCK IDEAL'!$B$2:$C$1108,2,FALSE)))) -> 1 | H172: 0 | I172: =IF($C172="porcelaine",IF(ISERROR(VLOOKUP($D172,'STOCK IDEAL'!$B$2:$E$1080,3,FALSE)+VLOOKUP($E172,'REGLE PRIORITE'!$K$3:$L$14,2,FALSE)),VLOOKUP($D172,'STOCK IDEAL'!$B$2:$E$1080,3,FALSE),VLOOKUP($D172,'STOCK IDEAL'!$B$2:$E$1080,3,FALSE)+VLOOKUP($E172,'REGLE PRIORITE'!$K$3:$L$14,2,FALSE)),IF(C172="Bijoux l’atelier",IF(ISERROR(VLOOKUP(D172,'STOCK IDEAL'!$B$2:$E$1108,3,FALSE)+VLOOKUP(E172,'REGLE PRIORITE'!$N$3:$O$18,2,FALSE)),VLOOKUP(D172,'STOCK IDEAL'!$B$2:$E$1108,3,FALSE),VLOOKUP(D172,'STOCK IDEAL'!$B$2:$E$1108,3,FALSE)+VLOOKUP(E172,'REGLE PRIORITE'!$N$3:$O$18,2,FALSE)),IF($C172="Bijoux argent/plaqué or",IF(ISERROR(VLOOKUP(D172,'STOCK IDEAL'!$B$2:$E$1108,3,FALSE)+VLOOKUP($E172,'REGLE PRIORITE'!$Q$3:$R$28,2,FALSE)),VLOOKUP(D172,'STOCK IDEAL'!$B$2:$E$1108,3,FALSE),VLOOKUP(D172,'STOCK IDEAL'!$B$2:$E$1108,3,FALSE)+VLOOKUP($E172,'REGLE PRIORITE'!$Q$3:$R$28,2,FALSE)),VLOOKUP(D172,'STOCK IDEAL'!$B$2:$E$1108,3,FALSE)))) -> 1 | J172: 0 | K172: =IF($C172="porcelaine",IF(ISERROR(VLOOKUP($D172,'STOCK IDEAL'!$B$2:$E$1080,4,FALSE)+VLOOKUP($E172,'REGLE PRIORITE'!$K$3:$L$14,2,FALSE)),VLOOKUP($D172,'STOCK IDEAL'!$B$2:$E$1080,4,FALSE),VLOOKUP($D172,'STOCK IDEAL'!$B$2:$E$1080,4,FALSE)+VLOOKUP($E172,'REGLE PRIORITE'!$K$3:$L$14,2,FALSE)),IF(C172="Bijoux l’atelier",IF(ISERROR(VLOOKUP(D172,'STOCK IDEAL'!$B$2:$E$1108,4,FALSE)+VLOOKUP(E172,'REGLE PRIORITE'!$N$3:$O$18,2,FALSE)),VLOOKUP(D172,'STOCK IDEAL'!$B$2:$E$1108,4,FALSE),VLOOKUP(D172,'STOCK IDEAL'!$B$2:$E$1108,4,FALSE)+VLOOKUP(E172,'REGLE PRIORITE'!$N$3:$O$18,2,FALSE)),IF($C172="Bijoux argent/plaqué or",IF(ISERROR(VLOOKUP(D172,'STOCK IDEAL'!$B$2:$E$1108,4,FALSE)+VLOOKUP($E172,'REGLE PRIORITE'!$Q$3:$R$28,2,FALSE)),VLOOKUP(D172,'STOCK IDEAL'!$B$2:$E$1108,4,FALSE),VLOOKUP(D172,'STOCK IDEAL'!$B$2:$E$1108,4,FALSE)+VLOOKUP($E172,'REGLE PRIORITE'!$Q$3:$R$28,2,FALSE)),VLOOKUP(D172,'STOCK IDEAL'!$B$2:$E$1108,4,FALSE)))) -> 3 | L172: =IF(F172>G172,"OK") -> FALSE | M172: =HLOOKUP('STOCK BRUT'!$C172,'REGLE PRIORITE'!$B$4:$G$7,2,FALSE) -> 2 | N172: =HLOOKUP('STOCK BRUT'!$C172,'REGLE PRIORITE'!$B$4:$G$7,3,FALSE) -> 1 | O172: =HLOOKUP('STOCK BRUT'!$C172,'REGLE PRIORITE'!$B$4:$G$7,4,FALSE) -> 3 | P172: =F172-G172 -> 0 | Q172: =H172-I172 -> -1 | R172: =J172-K172 -> -3 | S172: =P172+Q172+R172 -> -4
A173: 171 | B173: C8688 | C173: Oozoo | D173: Montre Oozoo C8688 | F173: 0 | G173: =IF($C173="porcelaine",IF(ISERROR(VLOOKUP($D173,'STOCK IDEAL'!$B$2:$C$1080,2,FALSE)+VLOOKUP($E173,'REGLE PRIORITE'!$K$3:$L$14,2,FALSE)),VLOOKUP($D173,'STOCK IDEAL'!$B$2:$C$1080,2,FALSE),VLOOKUP($D173,'STOCK IDEAL'!$B$2:$C$1080,2,FALSE)+VLOOKUP($E173,'REGLE PRIORITE'!$K$3:$L$14,2,FALSE)),IF(C173="Bijoux l’atelier",IF(ISERROR(VLOOKUP(D173,'STOCK IDEAL'!$B$2:$C$1108,2,FALSE)+VLOOKUP(E173,'REGLE PRIORITE'!$N$3:$O$18,2,FALSE)),VLOOKUP(D173,'STOCK IDEAL'!$B$2:$C$1108,2,FALSE),VLOOKUP(D173,'STOCK IDEAL'!$B$2:$C$1108,2,FALSE)+VLOOKUP(E173,'REGLE PRIORITE'!$N$3:$O$18,2,FALSE)),IF($C173="Bijoux argent/plaqué or",IF(ISERROR(VLOOKUP(D173,'STOCK IDEAL'!$B$2:$C$1108,2,FALSE)+VLOOKUP($E173,'REGLE PRIORITE'!$Q$3:$R$28,2,FALSE)),VLOOKUP(D173,'STOCK IDEAL'!$B$2:$C$1108,2,FALSE),VLOOKUP(D173,'STOCK IDEAL'!$B$2:$C$1108,2,FALSE)+VLOOKUP($E173,'REGLE PRIORITE'!$Q$3:$R$28,2,FALSE)),VLOOKUP(D173,'STOCK IDEAL'!$B$2:$C$1108,2,FALSE)))) -> 1 | H173: 0 | I173: =IF($C173="porcelaine",IF(ISERROR(VLOOKUP($D173,'STOCK IDEAL'!$B$2:$E$1080,3,FALSE)+VLOOKUP($E173,'REGLE PRIORITE'!$K$3:$L$14,2,FALSE)),VLOOKUP($D173,'STOCK IDEAL'!$B$2:$E$1080,3,FALSE),VLOOKUP($D173,'STOCK IDEAL'!$B$2:$E$1080,3,FALSE)+VLOOKUP($E173,'REGLE PRIORITE'!$K$3:$L$14,2,FALSE)),IF(C173="Bijoux l’atelier",IF(ISERROR(VLOOKUP(D173,'STOCK IDEAL'!$B$2:$E$1108,3,FALSE)+VLOOKUP(E173,'REGLE PRIORITE'!$N$3:$O$18,2,FALSE)),VLOOKUP(D173,'STOCK IDEAL'!$B$2:$E$1108,3,FALSE),VLOOKUP(D173,'STOCK IDEAL'!$B$2:$E$1108,3,FALSE)+VLOOKUP(E173,'REGLE PRIORITE'!$N$3:$O$18,2,FALSE)),IF($C173="Bijoux argent/plaqué or",IF(ISERROR(VLOOKUP(D173,'STOCK IDEAL'!$B$2:$E$1108,3,FALSE)+VLOOKUP($E173,'REGLE PRIORITE'!$Q$3:$R$28,2,FALSE)),VLOOKUP(D173,'STOCK IDEAL'!$B$2:$E$1108,3,FALSE),VLOOKUP(D173,'STOCK IDEAL'!$B$2:$E$1108,3,FALSE)+VLOOKUP($E173,'REGLE PRIORITE'!$Q$3:$R$28,2,FALSE)),VLOOKUP(D173,'STOCK IDEAL'!$B$2:$E$1108,3,FALSE)))) -> 1 | J173: 0 | K173: =IF($C173="porcelaine",IF(ISERROR(VLOOKUP($D173,'STOCK IDEAL'!$B$2:$E$1080,4,FALSE)+VLOOKUP($E173,'REGLE PRIORITE'!$K$3:$L$14,2,FALSE)),VLOOKUP($D173,'STOCK IDEAL'!$B$2:$E$1080,4,FALSE),VLOOKUP($D173,'STOCK IDEAL'!$B$2:$E$1080,4,FALSE)+VLOOKUP($E173,'REGLE PRIORITE'!$K$3:$L$14,2,FALSE)),IF(C173="Bijoux l’atelier",IF(ISERROR(VLOOKUP(D173,'STOCK IDEAL'!$B$2:$E$1108,4,FALSE)+VLOOKUP(E173,'REGLE PRIORITE'!$N$3:$O$18,2,FALSE)),VLOOKUP(D173,'STOCK IDEAL'!$B$2:$E$1108,4,FALSE),VLOOKUP(D173,'STOCK IDEAL'!$B$2:$E$1108,4,FALSE)+VLOOKUP(E173,'REGLE PRIORITE'!$N$3:$O$18,2,FALSE)),IF($C173="Bijoux argent/plaqué or",IF(ISERROR(VLOOKUP(D173,'STOCK IDEAL'!$B$2:$E$1108,4,FALSE)+VLOOKUP($E173,'REGLE PRIORITE'!$Q$3:$R$28,2,FALSE)),VLOOKUP(D173,'STOCK IDEAL'!$B$2:$E$1108,4,FALSE),VLOOKUP(D173,'STOCK IDEAL'!$B$2:$E$1108,4,FALSE)+VLOOKUP($E173,'REGLE PRIORITE'!$Q$3:$R$28,2,FALSE)),VLOOKUP(D173,'STOCK IDEAL'!$B$2:$E$1108,4,FALSE)))) -> 3 | L173: =IF(F173>G173,"OK") -> FALSE | M173: =HLOOKUP('STOCK BRUT'!$C173,'REGLE PRIORITE'!$B$4:$G$7,2,FALSE) -> 2 | N173: =HLOOKUP('STOCK BRUT'!$C173,'REGLE PRIORITE'!$B$4:$G$7,3,FALSE) -> 1 | O173: =HLOOKUP('STOCK BRUT'!$C173,'REGLE PRIORITE'!$B$4:$G$7,4,FALSE) -> 3 | P173: =F173-G173 -> -1 | Q173: =H173-I173 -> -1 | R173: =J173-K173 -> -3 | S173: =P173+Q173+R173 -> -5
A174: 172 | B174: C8812 | C174: Oozoo | D174: Montre Oozoo C8812 | F174: 0 | G174: =IF($C174="porcelaine",IF(ISERROR(VLOOKUP($D174,'STOCK IDEAL'!$B$2:$C$1080,2,FALSE)+VLOOKUP($E174,'REGLE PRIORITE'!$K$3:$L$14,2,FALSE)),VLOOKUP($D174,'STOCK IDEAL'!$B$2:$C$1080,2,FALSE),VLOOKUP($D174,'STOCK IDEAL'!$B$2:$C$1080,2,FALSE)+VLOOKUP($E174,'REGLE PRIORITE'!$K$3:$L$14,2,FALSE)),IF(C174="Bijoux l’atelier",IF(ISERROR(VLOOKUP(D174,'STOCK IDEAL'!$B$2:$C$1108,2,FALSE)+VLOOKUP(E174,'REGLE PRIORITE'!$N$3:$O$18,2,FALSE)),VLOOKUP(D174,'STOCK IDEAL'!$B$2:$C$1108,2,FALSE),VLOOKUP(D174,'STOCK IDEAL'!$B$2:$C$1108,2,FALSE)+VLOOKUP(E174,'REGLE PRIORITE'!$N$3:$O$18,2,FALSE)),IF($C174="Bijoux argent/plaqué or",IF(ISERROR(VLOOKUP(D174,'STOCK IDEAL'!$B$2:$C$1108,2,FALSE)+VLOOKUP($E174,'REGLE PRIORITE'!$Q$3:$R$28,2,FALSE)),VLOOKUP(D174,'STOCK IDEAL'!$B$2:$C$1108,2,FALSE),VLOOKUP(D174,'STOCK IDEAL'!$B$2:$C$1108,2,FALSE)+VLOOKUP($E174,'REGLE PRIORITE'!$Q$3:$R$28,2,FALSE)),VLOOKUP(D174,'STOCK IDEAL'!$B$2:$C$1108,2,FALSE)))) -> 1 | H174: 2 | I174: =IF($C174="porcelaine",IF(ISERROR(VLOOKUP($D174,'STOCK IDEAL'!$B$2:$E$1080,3,FALSE)+VLOOKUP($E174,'REGLE PRIORITE'!$K$3:$L$14,2,FALSE)),VLOOKUP($D174,'STOCK IDEAL'!$B$2:$E$1080,3,FALSE),VLOOKUP($D174,'STOCK IDEAL'!$B$2:$E$1080,3,FALSE)+VLOOKUP($E174,'REGLE PRIORITE'!$K$3:$L$14,2,FALSE)),IF(C174="Bijoux l’atelier",IF(ISERROR(VLOOKUP(D174,'STOCK IDEAL'!$B$2:$E$1108,3,FALSE)+VLOOKUP(E174,'REGLE PRIORITE'!$N$3:$O$18,2,FALSE)),VLOOKUP(D174,'STOCK IDEAL'!$B$2:$E$1108,3,FALSE),VLOOKUP(D174,'STOCK IDEAL'!$B$2:$E$1108,3,FALSE)+VLOOKUP(E174,'REGLE PRIORITE'!$N$3:$O$18,2,FALSE)),IF($C174="Bijoux argent/plaqué or",IF(ISERROR(VLOOKUP(D174,'STOCK IDEAL'!$B$2:$E$1108,3,FALSE)+VLOOKUP($E174,'REGLE PRIORITE'!$Q$3:$R$28,2,FALSE)),VLOOKUP(D174,'STOCK IDEAL'!$B$2:$E$1108,3,FALSE),VLOOKUP(D174,'STOCK IDEAL'!$B$2:$E$1108,3,FALSE)+VLOOKUP($E174,'REGLE PRIORITE'!$Q$3:$R$28,2,FALSE)),VLOOKUP(D174,'STOCK IDEAL'!$B$2:$E$1108,3,FALSE)))) -> 1 | J174: 0 | K174: =IF($C174="porcelaine",IF(ISERROR(VLOOKUP($D174,'STOCK IDEAL'!$B$2:$E$1080,4,FALSE)+VLOOKUP($E174,'REGLE PRIORITE'!$K$3:$L$14,2,FALSE)),VLOOKUP($D174,'STOCK IDEAL'!$B$2:$E$1080,4,FALSE),VLOOKUP($D174,'STOCK IDEAL'!$B$2:$E$1080,4,FALSE)+VLOOKUP($E174,'REGLE PRIORITE'!$K$3:$L$14,2,FALSE)),IF(C174="Bijoux l’atelier",IF(ISERROR(VLOOKUP(D174,'STOCK IDEAL'!$B$2:$E$1108,4,FALSE)+VLOOKUP(E174,'REGLE PRIORITE'!$N$3:$O$18,2,FALSE)),VLOOKUP(D174,'STOCK IDEAL'!$B$2:$E$1108,4,FALSE),VLOOKUP(D174,'STOCK IDEAL'!$B$2:$E$1108,4,FALSE)+VLOOKUP(E174,'REGLE PRIORITE'!$N$3:$O$18,2,FALSE)),IF($C174="Bijoux argent/plaqué or",IF(ISERROR(VLOOKUP(D174,'STOCK IDEAL'!$B$2:$E$1108,4,FALSE)+VLOOKUP($E174,'REGLE PRIORITE'!$Q$3:$R$28,2,FALSE)),VLOOKUP(D174,'STOCK IDEAL'!$B$2:$E$1108,4,FALSE),VLOOKUP(D174,'STOCK IDEAL'!$B$2:$E$1108,4,FALSE)+VLOOKUP($E174,'REGLE PRIORITE'!$Q$3:$R$28,2,FALSE)),VLOOKUP(D174,'STOCK IDEAL'!$B$2:$E$1108,4,FALSE)))) -> 3 | L174: =IF(F174>G174,"OK") -> FALSE | M174: =HLOOKUP('STOCK BRUT'!$C174,'REGLE PRIORITE'!$B$4:$G$7,2,FALSE) -> 2 | N174: =HLOOKUP('STOCK BRUT'!$C174,'REGLE PRIORITE'!$B$4:$G$7,3,FALSE) -> 1 | O174: =HLOOKUP('STOCK BRUT'!$C174,'REGLE PRIORITE'!$B$4:$G$7,4,FALSE) -> 3 | P174: =F174-G174 -> -1 | Q174: =H174-I174 -> 1 | R174: =J174-K174 -> -3 | S174: =P174+Q174+R174 -> -3
A175: 173 | B175: C8832 | C175: Oozoo | D175: Montre Oozo C8832 | F175: 0 | G175: =IF($C175="porcelaine",IF(ISERROR(VLOOKUP($D175,'STOCK IDEAL'!$B$2:$C$1080,2,FALSE)+VLOOKUP($E175,'REGLE PRIORITE'!$K$3:$L$14,2,FALSE)),VLOOKUP($D175,'STOCK IDEAL'!$B$2:$C$1080,2,FALSE),VLOOKUP($D175,'STOCK IDEAL'!$B$2:$C$1080,2,FALSE)+VLOOKUP($E175,'REGLE PRIORITE'!$K$3:$L$14,2,FALSE)),IF(C175="Bijoux l’atelier",IF(ISERROR(VLOOKUP(D175,'STOCK IDEAL'!$B$2:$C$1108,2,FALSE)+VLOOKUP(E175,'REGLE PRIORITE'!$N$3:$O$18,2,FALSE)),VLOOKUP(D175,'STOCK IDEAL'!$B$2:$C$1108,2,FALSE),VLOOKUP(D175,'STOCK IDEAL'!$B$2:$C$1108,2,FALSE)+VLOOKUP(E175,'REGLE PRIORITE'!$N$3:$O$18,2,FALSE)),IF($C175="Bijoux argent/plaqué or",IF(ISERROR(VLOOKUP(D175,'STOCK IDEAL'!$B$2:$C$1108,2,FALSE)+VLOOKUP($E175,'REGLE PRIORITE'!$Q$3:$R$28,2,FALSE)),VLOOKUP(D175,'STOCK IDEAL'!$B$2:$C$1108,2,FALSE),VLOOKUP(D175,'STOCK IDEAL'!$B$2:$C$1108,2,FALSE)+VLOOKUP($E175,'REGLE PRIORITE'!$Q$3:$R$28,2,FALSE)),VLOOKUP(D175,'STOCK IDEAL'!$B$2:$C$1108,2,FALSE)))) -> 1 | H175: 1 | I175: =IF($C175="porcelaine",IF(ISERROR(VLOOKUP($D175,'STOCK IDEAL'!$B$2:$E$1080,3,FALSE)+VLOOKUP($E175,'REGLE PRIORITE'!$K$3:$L$14,2,FALSE)),VLOOKUP($D175,'STOCK IDEAL'!$B$2:$E$1080,3,FALSE),VLOOKUP($D175,'STOCK IDEAL'!$B$2:$E$1080,3,FALSE)+VLOOKUP($E175,'REGLE PRIORITE'!$K$3:$L$14,2,FALSE)),IF(C175="Bijoux l’atelier",IF(ISERROR(VLOOKUP(D175,'STOCK IDEAL'!$B$2:$E$1108,3,FALSE)+VLOOKUP(E175,'REGLE PRIORITE'!$N$3:$O$18,2,FALSE)),VLOOKUP(D175,'STOCK IDEAL'!$B$2:$E$1108,3,FALSE),VLOOKUP(D175,'STOCK IDEAL'!$B$2:$E$1108,3,FALSE)+VLOOKUP(E175,'REGLE PRIORITE'!$N$3:$O$18,2,FALSE)),IF($C175="Bijoux argent/plaqué or",IF(ISERROR(VLOOKUP(D175,'STOCK IDEAL'!$B$2:$E$1108,3,FALSE)+VLOOKUP($E175,'REGLE PRIORITE'!$Q$3:$R$28,2,FALSE)),VLOOKUP(D175,'STOCK IDEAL'!$B$2:$E$1108,3,FALSE),VLOOKUP(D175,'STOCK IDEAL'!$B$2:$E$1108,3,FALSE)+VLOOKUP($E175,'REGLE PRIORITE'!$Q$3:$R$28,2,FALSE)),VLOOKUP(D175,'STOCK IDEAL'!$B$2:$E$1108,3,FALSE)))) -> 1 | J175: 0 | K175: =IF($C175="porcelaine",IF(ISERROR(VLOOKUP($D175,'STOCK IDEAL'!$B$2:$E$1080,4,FALSE)+VLOOKUP($E175,'REGLE PRIORITE'!$K$3:$L$14,2,FALSE)),VLOOKUP($D175,'STOCK IDEAL'!$B$2:$E$1080,4,FALSE),VLOOKUP($D175,'STOCK IDEAL'!$B$2:$E$1080,4,FALSE)+VLOOKUP($E175,'REGLE PRIORITE'!$K$3:$L$14,2,FALSE)),IF(C175="Bijoux l’atelier",IF(ISERROR(VLOOKUP(D175,'STOCK IDEAL'!$B$2:$E$1108,4,FALSE)+VLOOKUP(E175,'REGLE PRIORITE'!$N$3:$O$18,2,FALSE)),VLOOKUP(D175,'STOCK IDEAL'!$B$2:$E$1108,4,FALSE),VLOOKUP(D175,'STOCK IDEAL'!$B$2:$E$1108,4,FALSE)+VLOOKUP(E175,'REGLE PRIORITE'!$N$3:$O$18,2,FALSE)),IF($C175="Bijoux argent/plaqué or",IF(ISERROR(VLOOKUP(D175,'STOCK IDEAL'!$B$2:$E$1108,4,FALSE)+VLOOKUP($E175,'REGLE PRIORITE'!$Q$3:$R$28,2,FALSE)),VLOOKUP(D175,'STOCK IDEAL'!$B$2:$E$1108,4,FALSE),VLOOKUP(D175,'STOCK IDEAL'!$B$2:$E$1108,4,FALSE)+VLOOKUP($E175,'REGLE PRIORITE'!$Q$3:$R$28,2,FALSE)),VLOOKUP(D175,'STOCK IDEAL'!$B$2:$E$1108,4,FALSE)))) -> 3 | L175: =IF(F175>G175,"OK") -> FALSE | M175: =HLOOKUP('STOCK BRUT'!$C175,'REGLE PRIORITE'!$B$4:$G$7,2,FALSE) -> 2 | N175: =HLOOKUP('STOCK BRUT'!$C175,'REGLE PRIORITE'!$B$4:$G$7,3,FALSE) -> 1 | O175: =HLOOKUP('STOCK BRUT'!$C175,'REGLE PRIORITE'!$B$4:$G$7,4,FALSE) -> 3 | P175: =F175-G175 -> -1 | Q175: =H175-I175 -> 0 | R175: =J175-K175 -> -3 | S175: =P175+Q175+R175 -> -4
A176: 174 | B176: C8831 | C176: Oozoo | D176: Montre Oozoo C8831 | F176: 0 | G176: =IF($C176="porcelaine",IF(ISERROR(VLOOKUP($D176,'STOCK IDEAL'!$B$2:$C$1080,2,FALSE)+VLOOKUP($E176,'REGLE PRIORITE'!$K$3:$L$14,2,FALSE)),VLOOKUP($D176,'STOCK IDEAL'!$B$2:$C$1080,2,FALSE),VLOOKUP($D176,'STOCK IDEAL'!$B$2:$C$1080,2,FALSE)+VLOOKUP($E176,'REGLE PRIORITE'!$K$3:$L$14,2,FALSE)),IF(C176="Bijoux l’atelier",IF(ISERROR(VLOOKUP(D176,'STOCK IDEAL'!$B$2:$C$1108,2,FALSE)+VLOOKUP(E176,'REGLE PRIORITE'!$N$3:$O$18,2,FALSE)),VLOOKUP(D176,'STOCK IDEAL'!$B$2:$C$1108,2,FALSE),VLOOKUP(D176,'STOCK IDEAL'!$B$2:$C$1108,2,FALSE)+VLOOKUP(E176,'REGLE PRIORITE'!$N$3:$O$18,2,FALSE)),IF($C176="Bijoux argent/plaqué or",IF(ISERROR(VLOOKUP(D176,'STOCK IDEAL'!$B$2:$C$1108,2,FALSE)+VLOOKUP($E176,'REGLE PRIORITE'!$Q$3:$R$28,2,FALSE)),VLOOKUP(D176,'STOCK IDEAL'!$B$2:$C$1108,2,FALSE),VLOOKUP(D176,'STOCK IDEAL'!$B$2:$C$1108,2,FALSE)+VLOOKUP($E176,'REGLE PRIORITE'!$Q$3:$R$28,2,FALSE)),VLOOKUP(D176,'STOCK IDEAL'!$B$2:$C$1108,2,FALSE)))) -> 3 | H176: 1 | I176: =IF($C176="porcelaine",IF(ISERROR(VLOOKUP($D176,'STOCK IDEAL'!$B$2:$E$1080,3,FALSE)+VLOOKUP($E176,'REGLE PRIORITE'!$K$3:$L$14,2,FALSE)),VLOOKUP($D176,'STOCK IDEAL'!$B$2:$E$1080,3,FALSE),VLOOKUP($D176,'STOCK IDEAL'!$B$2:$E$1080,3,FALSE)+VLOOKUP($E176,'REGLE PRIORITE'!$K$3:$L$14,2,FALSE)),IF(C176="Bijoux l’atelier",IF(ISERROR(VLOOKUP(D176,'STOCK IDEAL'!$B$2:$E$1108,3,FALSE)+VLOOKUP(E176,'REGLE PRIORITE'!$N$3:$O$18,2,FALSE)),VLOOKUP(D176,'STOCK IDEAL'!$B$2:$E$1108,3,FALSE),VLOOKUP(D176,'STOCK IDEAL'!$B$2:$E$1108,3,FALSE)+VLOOKUP(E176,'REGLE PRIORITE'!$N$3:$O$18,2,FALSE)),IF($C176="Bijoux argent/plaqué or",IF(ISERROR(VLOOKUP(D176,'STOCK IDEAL'!$B$2:$E$1108,3,FALSE)+VLOOKUP($E176,'REGLE PRIORITE'!$Q$3:$R$28,2,FALSE)),VLOOKUP(D176,'STOCK IDEAL'!$B$2:$E$1108,3,FALSE),VLOOKUP(D176,'STOCK IDEAL'!$B$2:$E$1108,3,FALSE)+VLOOKUP($E176,'REGLE PRIORITE'!$Q$3:$R$28,2,FALSE)),VLOOKUP(D176,'STOCK IDEAL'!$B$2:$E$1108,3,FALSE)))) -> 1 | J176: 0 | K176: =IF($C176="porcelaine",IF(ISERROR(VLOOKUP($D176,'STOCK IDEAL'!$B$2:$E$1080,4,FALSE)+VLOOKUP($E176,'REGLE PRIORITE'!$K$3:$L$14,2,FALSE)),VLOOKUP($D176,'STOCK IDEAL'!$B$2:$E$1080,4,FALSE),VLOOKUP($D176,'STOCK IDEAL'!$B$2:$E$1080,4,FALSE)+VLOOKUP($E176,'REGLE PRIORITE'!$K$3:$L$14,2,FALSE)),IF(C176="Bijoux l’atelier",IF(ISERROR(VLOOKUP(D176,'STOCK IDEAL'!$B$2:$E$1108,4,FALSE)+VLOOKUP(E176,'REGLE PRIORITE'!$N$3:$O$18,2,FALSE)),VLOOKUP(D176,'STOCK IDEAL'!$B$2:$E$1108,4,FALSE),VLOOKUP(D176,'STOCK IDEAL'!$B$2:$E$1108,4,FALSE)+VLOOKUP(E176,'REGLE PRIORITE'!$N$3:$O$18,2,FALSE)),IF($C176="Bijoux argent/plaqué or",IF(ISERROR(VLOOKUP(D176,'STOCK IDEAL'!$B$2:$E$1108,4,FALSE)+VLOOKUP($E176,'REGLE PRIORITE'!$Q$3:$R$28,2,FALSE)),VLOOKUP(D176,'STOCK IDEAL'!$B$2:$E$1108,4,FALSE),VLOOKUP(D176,'STOCK IDEAL'!$B$2:$E$1108,4,FALSE)+VLOOKUP($E176,'REGLE PRIORITE'!$Q$3:$R$28,2,FALSE)),VLOOKUP(D176,'STOCK IDEAL'!$B$2:$E$1108,4,FALSE)))) -> 3 | L176: =IF(F176>G176,"OK") -> FALSE | M176: =HLOOKUP('STOCK BRUT'!$C176,'REGLE PRIORITE'!$B$4:$G$7,2,FALSE) -> 2 | N176: =HLOOKUP('STOCK BRUT'!$C176,'REGLE PRIORITE'!$B$4:$G$7,3,FALSE) -> 1 | O176: =HLOOKUP('STOCK BRUT'!$C176,'REGLE PRIORITE'!$B$4:$G$7,4,FALSE) -> 3 | P176: =F176-G176 -> -3 | Q176: =H176-I176 -> 0 | R176: =J176-K176 -> -3 | S176: =P176+Q176+R176 -> -6
A177: 175 | B177: 8431ANIS | C177: Porcelaine | D177: Coupelle entremets GM unie | E177: ANIS | F177: 4 | G177: =IF($C177="porcelaine",IF(ISERROR(VLOOKUP($D177,'STOCK IDEAL'!$B$2:$C$1080,2,FALSE)+VLOOKUP($E177,'REGLE PRIORITE'!$K$3:$L$14,2,FALSE)),VLOOKUP($D177,'STOCK IDEAL'!$B$2:$C$1080,2,FALSE),VLOOKUP($D177,'STOCK IDEAL'!$B$2:$C$1080,2,FALSE)+VLOOKUP($E177,'REGLE PRIORITE'!$K$3:$L$14,2,FALSE)),IF(C177="Bijoux l’atelier",IF(ISERROR(VLOOKUP(D177,'STOCK IDEAL'!$B$2:$C$1108,2,FALSE)+VLOOKUP(E177,'REGLE PRIORITE'!$N$3:$O$18,2,FALSE)),VLOOKUP(D177,'STOCK IDEAL'!$B$2:$C$1108,2,FALSE),VLOOKUP(D177,'STOCK IDEAL'!$B$2:$C$1108,2,FALSE)+VLOOKUP(E177,'REGLE PRIORITE'!$N$3:$O$18,2,FALSE)),IF($C177="Bijoux argent/plaqué or",IF(ISERROR(VLOOKUP(D177,'STOCK IDEAL'!$B$2:$C$1108,2,FALSE)+VLOOKUP($E177,'REGLE PRIORITE'!$Q$3:$R$28,2,FALSE)),VLOOKUP(D177,'STOCK IDEAL'!$B$2:$C$1108,2,FALSE),VLOOKUP(D177,'STOCK IDEAL'!$B$2:$C$1108,2,FALSE)+VLOOKUP($E177,'REGLE PRIORITE'!$Q$3:$R$28,2,FALSE)),VLOOKUP(D177,'STOCK IDEAL'!$B$2:$C$1108,2,FALSE)))) -> 1 | H177: 0 | I177: =IF($C177="porcelaine",IF(ISERROR(VLOOKUP($D177,'STOCK IDEAL'!$B$2:$E$1080,3,FALSE)+VLOOKUP($E177,'REGLE PRIORITE'!$K$3:$L$14,2,FALSE)),VLOOKUP($D177,'STOCK IDEAL'!$B$2:$E$1080,3,FALSE),VLOOKUP($D177,'STOCK IDEAL'!$B$2:$E$1080,3,FALSE)+VLOOKUP($E177,'REGLE PRIORITE'!$K$3:$L$14,2,FALSE)),IF(C177="Bijoux l’atelier",IF(ISERROR(VLOOKUP(D177,'STOCK IDEAL'!$B$2:$E$1108,3,FALSE)+VLOOKUP(E177,'REGLE PRIORITE'!$N$3:$O$18,2,FALSE)),VLOOKUP(D177,'STOCK IDEAL'!$B$2:$E$1108,3,FALSE),VLOOKUP(D177,'STOCK IDEAL'!$B$2:$E$1108,3,FALSE)+VLOOKUP(E177,'REGLE PRIORITE'!$N$3:$O$18,2,FALSE)),IF($C177="Bijoux argent/plaqué or",IF(ISERROR(VLOOKUP(D177,'STOCK IDEAL'!$B$2:$E$1108,3,FALSE)+VLOOKUP($E177,'REGLE PRIORITE'!$Q$3:$R$28,2,FALSE)),VLOOKUP(D177,'STOCK IDEAL'!$B$2:$E$1108,3,FALSE),VLOOKUP(D177,'STOCK IDEAL'!$B$2:$E$1108,3,FALSE)+VLOOKUP($E177,'REGLE PRIORITE'!$Q$3:$R$28,2,FALSE)),VLOOKUP(D177,'STOCK IDEAL'!$B$2:$E$1108,3,FALSE)))) -> 1 | J177: 0 | K177: =IF($C177="porcelaine",IF(ISERROR(VLOOKUP($D177,'STOCK IDEAL'!$B$2:$E$1080,4,FALSE)+VLOOKUP($E177,'REGLE PRIORITE'!$K$3:$L$14,2,FALSE)),VLOOKUP($D177,'STOCK IDEAL'!$B$2:$E$1080,4,FALSE),VLOOKUP($D177,'STOCK IDEAL'!$B$2:$E$1080,4,FALSE)+VLOOKUP($E177,'REGLE PRIORITE'!$K$3:$L$14,2,FALSE)),IF(C177="Bijoux l’atelier",IF(ISERROR(VLOOKUP(D177,'STOCK IDEAL'!$B$2:$E$1108,4,FALSE)+VLOOKUP(E177,'REGLE PRIORITE'!$N$3:$O$18,2,FALSE)),VLOOKUP(D177,'STOCK IDEAL'!$B$2:$E$1108,4,FALSE),VLOOKUP(D177,'STOCK IDEAL'!$B$2:$E$1108,4,FALSE)+VLOOKUP(E177,'REGLE PRIORITE'!$N$3:$O$18,2,FALSE)),IF($C177="Bijoux argent/plaqué or",IF(ISERROR(VLOOKUP(D177,'STOCK IDEAL'!$B$2:$E$1108,4,FALSE)+VLOOKUP($E177,'REGLE PRIORITE'!$Q$3:$R$28,2,FALSE)),VLOOKUP(D177,'STOCK IDEAL'!$B$2:$E$1108,4,FALSE),VLOOKUP(D177,'STOCK IDEAL'!$B$2:$E$1108,4,FALSE)+VLOOKUP($E177,'REGLE PRIORITE'!$Q$3:$R$28,2,FALSE)),VLOOKUP(D177,'STOCK IDEAL'!$B$2:$E$1108,4,FALSE)))) -> 3 | L177: =IF(F177>G177,"OK") -> OK | M177: =HLOOKUP('STOCK BRUT'!$C177,'REGLE PRIORITE'!$B$4:$G$7,2,FALSE) -> 1 | N177: =HLOOKUP('STOCK BRUT'!$C177,'REGLE PRIORITE'!$B$4:$G$7,3,FALSE) -> 3 | O177: =HLOOKUP('STOCK BRUT'!$C177,'REGLE PRIORITE'!$B$4:$G$7,4,FALSE) -> 2 | P177: =F177-G177 -> 3 | Q177: =H177-I177 -> -1 | R177: =J177-K177 -> -3 | S177: =P177+Q177+R177 -> -1
A178: 176 | B178: 8431CORAIL | C178: Porcelaine | D178: Coupelle entremets GM unie | E178: CORAIL | F178: 1 | G178: =IF($C178="porcelaine",IF(ISERROR(VLOOKUP($D178,'STOCK IDEAL'!$B$2:$C$1080,2,FALSE)+VLOOKUP($E178,'REGLE PRIORITE'!$K$3:$L$14,2,FALSE)),VLOOKUP($D178,'STOCK IDEAL'!$B$2:$C$1080,2,FALSE),VLOOKUP($D178,'STOCK IDEAL'!$B$2:$C$1080,2,FALSE)+VLOOKUP($E178,'REGLE PRIORITE'!$K$3:$L$14,2,FALSE)),IF(C178="Bijoux l’atelier",IF(ISERROR(VLOOKUP(D178,'STOCK IDEAL'!$B$2:$C$1108,2,FALSE)+VLOOKUP(E178,'REGLE PRIORITE'!$N$3:$O$18,2,FALSE)),VLOOKUP(D178,'STOCK IDEAL'!$B$2:$C$1108,2,FALSE),VLOOKUP(D178,'STOCK IDEAL'!$B$2:$C$1108,2,FALSE)+VLOOKUP(E178,'REGLE PRIORITE'!$N$3:$O$18,2,FALSE)),IF($C178="Bijoux argent/plaqué or",IF(ISERROR(VLOOKUP(D178,'STOCK IDEAL'!$B$2:$C$1108,2,FALSE)+VLOOKUP($E178,'REGLE PRIORITE'!$Q$3:$R$28,2,FALSE)),VLOOKUP(D178,'STOCK IDEAL'!$B$2:$C$1108,2,FALSE),VLOOKUP(D178,'STOCK IDEAL'!$B$2:$C$1108,2,FALSE)+VLOOKUP($E178,'REGLE PRIORITE'!$Q$3:$R$28,2,FALSE)),VLOOKUP(D178,'STOCK IDEAL'!$B$2:$C$1108,2,FALSE)))) -> 1 | H178: 1 | I178: =IF($C178="porcelaine",IF(ISERROR(VLOOKUP($D178,'STOCK IDEAL'!$B$2:$E$1080,3,FALSE)+VLOOKUP($E178,'REGLE PRIORITE'!$K$3:$L$14,2,FALSE)),VLOOKUP($D178,'STOCK IDEAL'!$B$2:$E$1080,3,FALSE),VLOOKUP($D178,'STOCK IDEAL'!$B$2:$E$1080,3,FALSE)+VLOOKUP($E178,'REGLE PRIORITE'!$K$3:$L$14,2,FALSE)),IF(C178="Bijoux l’atelier",IF(ISERROR(VLOOKUP(D178,'STOCK IDEAL'!$B$2:$E$1108,3,FALSE)+VLOOKUP(E178,'REGLE PRIORITE'!$N$3:$O$18,2,FALSE)),VLOOKUP(D178,'STOCK IDEAL'!$B$2:$E$1108,3,FALSE),VLOOKUP(D178,'STOCK IDEAL'!$B$2:$E$1108,3,FALSE)+VLOOKUP(E178,'REGLE PRIORITE'!$N$3:$O$18,2,FALSE)),IF($C178="Bijoux argent/plaqué or",IF(ISERROR(VLOOKUP(D178,'STOCK IDEAL'!$B$2:$E$1108,3,FALSE)+VLOOKUP($E178,'REGLE PRIORITE'!$Q$3:$R$28,2,FALSE)),VLOOKUP(D178,'STOCK IDEAL'!$B$2:$E$1108,3,FALSE),VLOOKUP(D178,'STOCK IDEAL'!$B$2:$E$1108,3,FALSE)+VLOOKUP($E178,'REGLE PRIORITE'!$Q$3:$R$28,2,FALSE)),VLOOKUP(D178,'STOCK IDEAL'!$B$2:$E$1108,3,FALSE)))) -> 1 | J178: 0 | K178: =IF($C178="porcelaine",IF(ISERROR(VLOOKUP($D178,'STOCK IDEAL'!$B$2:$E$1080,4,FALSE)+VLOOKUP($E178,'REGLE PRIORITE'!$K$3:$L$14,2,FALSE)),VLOOKUP($D178,'STOCK IDEAL'!$B$2:$E$1080,4,FALSE),VLOOKUP($D178,'STOCK IDEAL'!$B$2:$E$1080,4,FALSE)+VLOOKUP($E178,'REGLE PRIORITE'!$K$3:$L$14,2,FALSE)),IF(C178="Bijoux l’atelier",IF(ISERROR(VLOOKUP(D178,'STOCK IDEAL'!$B$2:$E$1108,4,FALSE)+VLOOKUP(E178,'REGLE PRIORITE'!$N$3:$O$18,2,FALSE)),VLOOKUP(D178,'STOCK IDEAL'!$B$2:$E$1108,4,FALSE),VLOOKUP(D178,'STOCK IDEAL'!$B$2:$E$1108,4,FALSE)+VLOOKUP(E178,'REGLE PRIORITE'!$N$3:$O$18,2,FALSE)),IF($C178="Bijoux argent/plaqué or",IF(ISERROR(VLOOKUP(D178,'STOCK IDEAL'!$B$2:$E$1108,4,FALSE)+VLOOKUP($E178,'REGLE PRIORITE'!$Q$3:$R$28,2,FALSE)),VLOOKUP(D178,'STOCK IDEAL'!$B$2:$E$1108,4,FALSE),VLOOKUP(D178,'STOCK IDEAL'!$B$2:$E$1108,4,FALSE)+VLOOKUP($E178,'REGLE PRIORITE'!$Q$3:$R$28,2,FALSE)),VLOOKUP(D178,'STOCK IDEAL'!$B$2:$E$1108,4,FALSE)))) -> 3 | L178: =IF(F178>G178,"OK") -> FALSE | M178: =HLOOKUP('STOCK BRUT'!$C178,'REGLE PRIORITE'!$B$4:$G$7,2,FALSE) -> 1 | N178: =HLOOKUP('STOCK BRUT'!$C178,'REGLE PRIORITE'!$B$4:$G$7,3,FALSE) -> 3 | O178: =HLOOKUP('STOCK BRUT'!$C178,'REGLE PRIORITE'!$B$4:$G$7,4,FALSE) -> 2 | P178: =F178-G178 -> 0 | Q178: =H178-I178 -> 0 | R178: =J178-K178 -> -3 | S178: =P178+Q178+R178 -> -3
A179: 177 | B179: 8431FRAMB | C179: Porcelaine | D179: Coupelle entremets GM unie | E179: FRAMBOISE | F179: 4 | G179: =IF($C179="porcelaine",IF(ISERROR(VLOOKUP($D179,'STOCK IDEAL'!$B$2:$C$1080,2,FALSE)+VLOOKUP($E179,'REGLE PRIORITE'!$K$3:$L$14,2,FALSE)),VLOOKUP($D179,'STOCK IDEAL'!$B$2:$C$1080,2,FALSE),VLOOKUP($D179,'STOCK IDEAL'!$B$2:$C$1080,2,FALSE)+VLOOKUP($E179,'REGLE PRIORITE'!$K$3:$L$14,2,FALSE)),IF(C179="Bijoux l’atelier",IF(ISERROR(VLOOKUP(D179,'STOCK IDEAL'!$B$2:$C$1108,2,FALSE)+VLOOKUP(E179,'REGLE PRIORITE'!$N$3:$O$18,2,FALSE)),VLOOKUP(D179,'STOCK IDEAL'!$B$2:$C$1108,2,FALSE),VLOOKUP(D179,'STOCK IDEAL'!$B$2:$C$1108,2,FALSE)+VLOOKUP(E179,'REGLE PRIORITE'!$N$3:$O$18,2,FALSE)),IF($C179="Bijoux argent/plaqué or",IF(ISERROR(VLOOKUP(D179,'STOCK IDEAL'!$B$2:$C$1108,2,FALSE)+VLOOKUP($E179,'REGLE PRIORITE'!$Q$3:$R$28,2,FALSE)),VLOOKUP(D179,'STOCK IDEAL'!$B$2:$C$1108,2,FALSE),VLOOKUP(D179,'STOCK IDEAL'!$B$2:$C$1108,2,FALSE)+VLOOKUP($E179,'REGLE PRIORITE'!$Q$3:$R$28,2,FALSE)),VLOOKUP(D179,'STOCK IDEAL'!$B$2:$C$1108,2,FALSE)))) -> 1 | H179: 0 | I179: =IF($C179="porcelaine",IF(ISERROR(VLOOKUP($D179,'STOCK IDEAL'!$B$2:$E$1080,3,FALSE)+VLOOKUP($E179,'REGLE PRIORITE'!$K$3:$L$14,2,FALSE)),VLOOKUP($D179,'STOCK IDEAL'!$B$2:$E$1080,3,FALSE),VLOOKUP($D179,'STOCK IDEAL'!$B$2:$E$1080,3,FALSE)+VLOOKUP($E179,'REGLE PRIORITE'!$K$3:$L$14,2,FALSE)),IF(C179="Bijoux l’atelier",IF(ISERROR(VLOOKUP(D179,'STOCK IDEAL'!$B$2:$E$1108,3,FALSE)+VLOOKUP(E179,'REGLE PRIORITE'!$N$3:$O$18,2,FALSE)),VLOOKUP(D179,'STOCK IDEAL'!$B$2:$E$1108,3,FALSE),VLOOKUP(D179,'STOCK IDEAL'!$B$2:$E$1108,3,FALSE)+VLOOKUP(E179,'REGLE PRIORITE'!$N$3:$O$18,2,FALSE)),IF($C179="Bijoux argent/plaqué or",IF(ISERROR(VLOOKUP(D179,'STOCK IDEAL'!$B$2:$E$1108,3,FALSE)+VLOOKUP($E179,'REGLE PRIORITE'!$Q$3:$R$28,2,FALSE)),VLOOKUP(D179,'STOCK IDEAL'!$B$2:$E$1108,3,FALSE),VLOOKUP(D179,'STOCK IDEAL'!$B$2:$E$1108,3,FALSE)+VLOOKUP($E179,'REGLE PRIORITE'!$Q$3:$R$28,2,FALSE)),VLOOKUP(D179,'STOCK IDEAL'!$B$2:$E$1108,3,FALSE)))) -> 1 | J179: 0 | K179: =IF($C179="porcelaine",IF(ISERROR(VLOOKUP($D179,'STOCK IDEAL'!$B$2:$E$1080,4,FALSE)+VLOOKUP($E179,'REGLE PRIORITE'!$K$3:$L$14,2,FALSE)),VLOOKUP($D179,'STOCK IDEAL'!$B$2:$E$1080,4,FALSE),VLOOKUP($D179,'STOCK IDEAL'!$B$2:$E$1080,4,FALSE)+VLOOKUP($E179,'REGLE PRIORITE'!$K$3:$L$14,2,FALSE)),IF(C179="Bijoux l’atelier",IF(ISERROR(VLOOKUP(D179,'STOCK IDEAL'!$B$2:$E$1108,4,FALSE)+VLOOKUP(E179,'REGLE PRIORITE'!$N$3:$O$18,2,FALSE)),VLOOKUP(D179,'STOCK IDEAL'!$B$2:$E$1108,4,FALSE),VLOOKUP(D179,'STOCK IDEAL'!$B$2:$E$1108,4,FALSE)+VLOOKUP(E179,'REGLE PRIORITE'!$N$3:$O$18,2,FALSE)),IF($C179="Bijoux argent/plaqué or",IF(ISERROR(VLOOKUP(D179,'STOCK IDEAL'!$B$2:$E$1108,4,FALSE)+VLOOKUP($E179,'REGLE PRIORITE'!$Q$3:$R$28,2,FALSE)),VLOOKUP(D179,'STOCK IDEAL'!$B$2:$E$1108,4,FALSE),VLOOKUP(D179,'STOCK IDEAL'!$B$2:$E$1108,4,FALSE)+VLOOKUP($E179,'REGLE PRIORITE'!$Q$3:$R$28,2,FALSE)),VLOOKUP(D179,'STOCK IDEAL'!$B$2:$E$1108,4,FALSE)))) -> 3 | L179: =IF(F179>G179,"OK") -> OK | M179: =HLOOKUP('STOCK BRUT'!$C179,'REGLE PRIORITE'!$B$4:$G$7,2,FALSE) -> 1 | N179: =HLOOKUP('STOCK BRUT'!$C179,'REGLE PRIORITE'!$B$4:$G$7,3,FALSE) -> 3 | O179: =HLOOKUP('STOCK BRUT'!$C179,'REGLE PRIORITE'!$B$4:$G$7,4,FALSE) -> 2 | P179: =F179-G179 -> 3 | Q179: =H179-I179 -> -1 | R179: =J179-K179 -> -3 | S179: =P179+Q179+R179 -> -1
A180: 178 | B180: 8431IVOIRE | C180: Porcelaine | D180: Coupelle entremets GM unie | E180: IVOIRE | F180: 4 | G180: =IF($C180="porcelaine",IF(ISERROR(VLOOKUP($D180,'STOCK IDEAL'!$B$2:$C$1080,2,FALSE)+VLOOKUP($E180,'REGLE PRIORITE'!$K$3:$L$14,2,FALSE)),VLOOKUP($D180,'STOCK IDEAL'!$B$2:$C$1080,2,FALSE),VLOOKUP($D180,'STOCK IDEAL'!$B$2:$C$1080,2,FALSE)+VLOOKUP($E180,'REGLE PRIORITE'!$K$3:$L$14,2,FALSE)),IF(C180="Bijoux l’atelier",IF(ISERROR(VLOOKUP(D180,'STOCK IDEAL'!$B$2:$C$1108,2,FALSE)+VLOOKUP(E180,'REGLE PRIORITE'!$N$3:$O$18,2,FALSE)),VLOOKUP(D180,'STOCK IDEAL'!$B$2:$C$1108,2,FALSE),VLOOKUP(D180,'STOCK IDEAL'!$B$2:$C$1108,2,FALSE)+VLOOKUP(E180,'REGLE PRIORITE'!$N$3:$O$18,2,FALSE)),IF($C180="Bijoux argent/plaqué or",IF(ISERROR(VLOOKUP(D180,'STOCK IDEAL'!$B$2:$C$1108,2,FALSE)+VLOOKUP($E180,'REGLE PRIORITE'!$Q$3:$R$28,2,FALSE)),VLOOKUP(D180,'STOCK IDEAL'!$B$2:$C$1108,2,FALSE),VLOOKUP(D180,'STOCK IDEAL'!$B$2:$C$1108,2,FALSE)+VLOOKUP($E180,'REGLE PRIORITE'!$Q$3:$R$28,2,FALSE)),VLOOKUP(D180,'STOCK IDEAL'!$B$2:$C$1108,2,FALSE)))) -> 2 | H180: 1 | I180: =IF($C180="porcelaine",IF(ISERROR(VLOOKUP($D180,'STOCK IDEAL'!$B$2:$E$1080,3,FALSE)+VLOOKUP($E180,'REGLE PRIORITE'!$K$3:$L$14,2,FALSE)),VLOOKUP($D180,'STOCK IDEAL'!$B$2:$E$1080,3,FALSE),VLOOKUP($D180,'STOCK IDEAL'!$B$2:$E$1080,3,FALSE)+VLOOKUP($E180,'REGLE PRIORITE'!$K$3:$L$14,2,FALSE)),IF(C180="Bijoux l’atelier",IF(ISERROR(VLOOKUP(D180,'STOCK IDEAL'!$B$2:$E$1108,3,FALSE)+VLOOKUP(E180,'REGLE PRIORITE'!$N$3:$O$18,2,FALSE)),VLOOKUP(D180,'STOCK IDEAL'!$B$2:$E$1108,3,FALSE),VLOOKUP(D180,'STOCK IDEAL'!$B$2:$E$1108,3,FALSE)+VLOOKUP(E180,'REGLE PRIORITE'!$N$3:$O$18,2,FALSE)),IF($C180="Bijoux argent/plaqué or",IF(ISERROR(VLOOKUP(D180,'STOCK IDEAL'!$B$2:$E$1108,3,FALSE)+VLOOKUP($E180,'REGLE PRIORITE'!$Q$3:$R$28,2,FALSE)),VLOOKUP(D180,'STOCK IDEAL'!$B$2:$E$1108,3,FALSE),VLOOKUP(D180,'STOCK IDEAL'!$B$2:$E$1108,3,FALSE)+VLOOKUP($E180,'REGLE PRIORITE'!$Q$3:$R$28,2,FALSE)),VLOOKUP(D180,'STOCK IDEAL'!$B$2:$E$1108,3,FALSE)))) -> 2 | J180: 0 | K180: =IF($C180="porcelaine",IF(ISERROR(VLOOKUP($D180,'STOCK IDEAL'!$B$2:$E$1080,4,FALSE)+VLOOKUP($E180,'REGLE PRIORITE'!$K$3:$L$14,2,FALSE)),VLOOKUP($D180,'STOCK IDEAL'!$B$2:$E$1080,4,FALSE),VLOOKUP($D180,'STOCK IDEAL'!$B$2:$E$1080,4,FALSE)+VLOOKUP($E180,'REGLE PRIORITE'!$K$3:$L$14,2,FALSE)),IF(C180="Bijoux l’atelier",IF(ISERROR(VLOOKUP(D180,'STOCK IDEAL'!$B$2:$E$1108,4,FALSE)+VLOOKUP(E180,'REGLE PRIORITE'!$N$3:$O$18,2,FALSE)),VLOOKUP(D180,'STOCK IDEAL'!$B$2:$E$1108,4,FALSE),VLOOKUP(D180,'STOCK IDEAL'!$B$2:$E$1108,4,FALSE)+VLOOKUP(E180,'REGLE PRIORITE'!$N$3:$O$18,2,FALSE)),IF($C180="Bijoux argent/plaqué or",IF(ISERROR(VLOOKUP(D180,'STOCK IDEAL'!$B$2:$E$1108,4,FALSE)+VLOOKUP($E180,'REGLE PRIORITE'!$Q$3:$R$28,2,FALSE)),VLOOKUP(D180,'STOCK IDEAL'!$B$2:$E$1108,4,FALSE),VLOOKUP(D180,'STOCK IDEAL'!$B$2:$E$1108,4,FALSE)+VLOOKUP($E180,'REGLE PRIORITE'!$Q$3:$R$28,2,FALSE)),VLOOKUP(D180,'STOCK IDEAL'!$B$2:$E$1108,4,FALSE)))) -> 4 | L180: =IF(F180>G180,"OK") -> OK | M180: =HLOOKUP('STOCK BRUT'!$C180,'REGLE PRIORITE'!$B$4:$G$7,2,FALSE) -> 1 | N180: =HLOOKUP('STOCK BRUT'!$C180,'REGLE PRIORITE'!$B$4:$G$7,3,FALSE) -> 3 | O180: =HLOOKUP('STOCK BRUT'!$C180,'REGLE PRIORITE'!$B$4:$G$7,4,FALSE) -> 2 | P180: =F180-G180 -> 2 | Q180: =H180-I180 -> -1 | R180: =J180-K180 -> -4 | S180: =P180+Q180+R180 -> -3
A181: 179 | B181: 8431OCEAN | C181: Porcelaine | D181: Coupelle entremets GM unie | E181: OCÉAN | F181: 5 | G181: =IF($C181="porcelaine",IF(ISERROR(VLOOKUP($D181,'STOCK IDEAL'!$B$2:$C$1080,2,FALSE)+VLOOKUP($E181,'REGLE PRIORITE'!$K$3:$L$14,2,FALSE)),VLOOKUP($D181,'STOCK IDEAL'!$B$2:$C$1080,2,FALSE),VLOOKUP($D181,'STOCK IDEAL'!$B$2:$C$1080,2,FALSE)+VLOOKUP($E181,'REGLE PRIORITE'!$K$3:$L$14,2,FALSE)),IF(C181="Bijoux l’atelier",IF(ISERROR(VLOOKUP(D181,'STOCK IDEAL'!$B$2:$C$1108,2,FALSE)+VLOOKUP(E181,'REGLE PRIORITE'!$N$3:$O$18,2,FALSE)),VLOOKUP(D181,'STOCK IDEAL'!$B$2:$C$1108,2,FALSE),VLOOKUP(D181,'STOCK IDEAL'!$B$2:$C$1108,2,FALSE)+VLOOKUP(E181,'REGLE PRIORITE'!$N$3:$O$18,2,FALSE)),IF($C181="Bijoux argent/plaqué or",IF(ISERROR(VLOOKUP(D181,'STOCK IDEAL'!$B$2:$C$1108,2,FALSE)+VLOOKUP($E181,'REGLE PRIORITE'!$Q$3:$R$28,2,FALSE)),VLOOKUP(D181,'STOCK IDEAL'!$B$2:$C$1108,2,FALSE),VLOOKUP(D181,'STOCK IDEAL'!$B$2:$C$1108,2,FALSE)+VLOOKUP($E181,'REGLE PRIORITE'!$Q$3:$R$28,2,FALSE)),VLOOKUP(D181,'STOCK IDEAL'!$B$2:$C$1108,2,FALSE)))) -> 1 | H181: 1 | I181: =IF($C181="porcelaine",IF(ISERROR(VLOOKUP($D181,'STOCK IDEAL'!$B$2:$E$1080,3,FALSE)+VLOOKUP($E181,'REGLE PRIORITE'!$K$3:$L$14,2,FALSE)),VLOOKUP($D181,'STOCK IDEAL'!$B$2:$E$1080,3,FALSE),VLOOKUP($D181,'STOCK IDEAL'!$B$2:$E$1080,3,FALSE)+VLOOKUP($E181,'REGLE PRIORITE'!$K$3:$L$14,2,FALSE)),IF(C181="Bijoux l’atelier",IF(ISERROR(VLOOKUP(D181,'STOCK IDEAL'!$B$2:$E$1108,3,FALSE)+VLOOKUP(E181,'REGLE PRIORITE'!$N$3:$O$18,2,FALSE)),VLOOKUP(D181,'STOCK IDEAL'!$B$2:$E$1108,3,FALSE),VLOOKUP(D181,'STOCK IDEAL'!$B$2:$E$1108,3,FALSE)+VLOOKUP(E181,'REGLE PRIORITE'!$N$3:$O$18,2,FALSE)),IF($C181="Bijoux argent/plaqué or",IF(ISERROR(VLOOKUP(D181,'STOCK IDEAL'!$B$2:$E$1108,3,FALSE)+VLOOKUP($E181,'REGLE PRIORITE'!$Q$3:$R$28,2,FALSE)),VLOOKUP(D181,'STOCK IDEAL'!$B$2:$E$1108,3,FALSE),VLOOKUP(D181,'STOCK IDEAL'!$B$2:$E$1108,3,FALSE)+VLOOKUP($E181,'REGLE PRIORITE'!$Q$3:$R$28,2,FALSE)),VLOOKUP(D181,'STOCK IDEAL'!$B$2:$E$1108,3,FALSE)))) -> 1 | J181: 0 | K181: =IF($C181="porcelaine",IF(ISERROR(VLOOKUP($D181,'STOCK IDEAL'!$B$2:$E$1080,4,FALSE)+VLOOKUP($E181,'REGLE PRIORITE'!$K$3:$L$14,2,FALSE)),VLOOKUP($D181,'STOCK IDEAL'!$B$2:$E$1080,4,FALSE),VLOOKUP($D181,'STOCK IDEAL'!$B$2:$E$1080,4,FALSE)+VLOOKUP($E181,'REGLE PRIORITE'!$K$3:$L$14,2,FALSE)),IF(C181="Bijoux l’atelier",IF(ISERROR(VLOOKUP(D181,'STOCK IDEAL'!$B$2:$E$1108,4,FALSE)+VLOOKUP(E181,'REGLE PRIORITE'!$N$3:$O$18,2,FALSE)),VLOOKUP(D181,'STOCK IDEAL'!$B$2:$E$1108,4,FALSE),VLOOKUP(D181,'STOCK IDEAL'!$B$2:$E$1108,4,FALSE)+VLOOKUP(E181,'REGLE PRIORITE'!$N$3:$O$18,2,FALSE)),IF($C181="Bijoux argent/plaqué or",IF(ISERROR(VLOOKUP(D181,'STOCK IDEAL'!$B$2:$E$1108,4,FALSE)+VLOOKUP($E181,'REGLE PRIORITE'!$Q$3:$R$28,2,FALSE)),VLOOKUP(D181,'STOCK IDEAL'!$B$2:$E$1108,4,FALSE),VLOOKUP(D181,'STOCK IDEAL'!$B$2:$E$1108,4,FALSE)+VLOOKUP($E181,'REGLE PRIORITE'!$Q$3:$R$28,2,FALSE)),VLOOKUP(D181,'STOCK IDEAL'!$B$2:$E$1108,4,FALSE)))) -> 3 | L181: =IF(F181>G181,"OK") -> OK | M181: =HLOOKUP('STOCK BRUT'!$C181,'REGLE PRIORITE'!$B$4:$G$7,2,FALSE) -> 1 | N181: =HLOOKUP('STOCK BRUT'!$C181,'REGLE PRIORITE'!$B$4:$G$7,3,FALSE) -> 3 | O181: =HLOOKUP('STOCK BRUT'!$C181,'REGLE PRIORITE'!$B$4:$G$7,4,FALSE) -> 2 | P181: =F181-G181 -> 4 | Q181: =H181-I181 -> 0 | R181: =J181-K181 -> -3 | S181: =P181+Q181+R181 -> 1
A182: 180 | B182: 8431ORANG | C182: Porcelaine | D182: Coupelle entremets GM unie | E182: ORANGE | F182: 2 | G182: =IF($C182="porcelaine",IF(ISERROR(VLOOKUP($D182,'STOCK IDEAL'!$B$2:$C$1080,2,FALSE)+VLOOKUP($E182,'REGLE PRIORITE'!$K$3:$L$14,2,FALSE)),VLOOKUP($D182,'STOCK IDEAL'!$B$2:$C$1080,2,FALSE),VLOOKUP($D182,'STOCK IDEAL'!$B$2:$C$1080,2,FALSE)+VLOOKUP($E182,'REGLE PRIORITE'!$K$3:$L$14,2,FALSE)),IF(C182="Bijoux l’atelier",IF(ISERROR(VLOOKUP(D182,'STOCK IDEAL'!$B$2:$C$1108,2,FALSE)+VLOOKUP(E182,'REGLE PRIORITE'!$N$3:$O$18,2,FALSE)),VLOOKUP(D182,'STOCK IDEAL'!$B$2:$C$1108,2,FALSE),VLOOKUP(D182,'STOCK IDEAL'!$B$2:$C$1108,2,FALSE)+VLOOKUP(E182,'REGLE PRIORITE'!$N$3:$O$18,2,FALSE)),IF($C182="Bijoux argent/plaqué or",IF(ISERROR(VLOOKUP(D182,'STOCK IDEAL'!$B$2:$C$1108,2,FALSE)+VLOOKUP($E182,'REGLE PRIORITE'!$Q$3:$R$28,2,FALSE)),VLOOKUP(D182,'STOCK IDEAL'!$B$2:$C$1108,2,FALSE),VLOOKUP(D182,'STOCK IDEAL'!$B$2:$C$1108,2,FALSE)+VLOOKUP($E182,'REGLE PRIORITE'!$Q$3:$R$28,2,FALSE)),VLOOKUP(D182,'STOCK IDEAL'!$B$2:$C$1108,2,FALSE)))) -> 1 | H182: 0 | I182: =IF($C182="porcelaine",IF(ISERROR(VLOOKUP($D182,'STOCK IDEAL'!$B$2:$E$1080,3,FALSE)+VLOOKUP($E182,'REGLE PRIORITE'!$K$3:$L$14,2,FALSE)),VLOOKUP($D182,'STOCK IDEAL'!$B$2:$E$1080,3,FALSE),VLOOKUP($D182,'STOCK IDEAL'!$B$2:$E$1080,3,FALSE)+VLOOKUP($E182,'REGLE PRIORITE'!$K$3:$L$14,2,FALSE)),IF(C182="Bijoux l’atelier",IF(ISERROR(VLOOKUP(D182,'STOCK IDEAL'!$B$2:$E$1108,3,FALSE)+VLOOKUP(E182,'REGLE PRIORITE'!$N$3:$O$18,2,FALSE)),VLOOKUP(D182,'STOCK IDEAL'!$B$2:$E$1108,3,FALSE),VLOOKUP(D182,'STOCK IDEAL'!$B$2:$E$1108,3,FALSE)+VLOOKUP(E182,'REGLE PRIORITE'!$N$3:$O$18,2,FALSE)),IF($C182="Bijoux argent/plaqué or",IF(ISERROR(VLOOKUP(D182,'STOCK IDEAL'!$B$2:$E$1108,3,FALSE)+VLOOKUP($E182,'REGLE PRIORITE'!$Q$3:$R$28,2,FALSE)),VLOOKUP(D182,'STOCK IDEAL'!$B$2:$E$1108,3,FALSE),VLOOKUP(D182,'STOCK IDEAL'!$B$2:$E$1108,3,FALSE)+VLOOKUP($E182,'REGLE PRIORITE'!$Q$3:$R$28,2,FALSE)),VLOOKUP(D182,'STOCK IDEAL'!$B$2:$E$1108,3,FALSE)))) -> 1 | J182: 0 | K182: =IF($C182="porcelaine",IF(ISERROR(VLOOKUP($D182,'STOCK IDEAL'!$B$2:$E$1080,4,FALSE)+VLOOKUP($E182,'REGLE PRIORITE'!$K$3:$L$14,2,FALSE)),VLOOKUP($D182,'STOCK IDEAL'!$B$2:$E$1080,4,FALSE),VLOOKUP($D182,'STOCK IDEAL'!$B$2:$E$1080,4,FALSE)+VLOOKUP($E182,'REGLE PRIORITE'!$K$3:$L$14,2,FALSE)),IF(C182="Bijoux l’atelier",IF(ISERROR(VLOOKUP(D182,'STOCK IDEAL'!$B$2:$E$1108,4,FALSE)+VLOOKUP(E182,'REGLE PRIORITE'!$N$3:$O$18,2,FALSE)),VLOOKUP(D182,'STOCK IDEAL'!$B$2:$E$1108,4,FALSE),VLOOKUP(D182,'STOCK IDEAL'!$B$2:$E$1108,4,FALSE)+VLOOKUP(E182,'REGLE PRIORITE'!$N$3:$O$18,2,FALSE)),IF($C182="Bijoux argent/plaqué or",IF(ISERROR(VLOOKUP(D182,'STOCK IDEAL'!$B$2:$E$1108,4,FALSE)+VLOOKUP($E182,'REGLE PRIORITE'!$Q$3:$R$28,2,FALSE)),VLOOKUP(D182,'STOCK IDEAL'!$B$2:$E$1108,4,FALSE),VLOOKUP(D182,'STOCK IDEAL'!$B$2:$E$1108,4,FALSE)+VLOOKUP($E182,'REGLE PRIORITE'!$Q$3:$R$28,2,FALSE)),VLOOKUP(D182,'STOCK IDEAL'!$B$2:$E$1108,4,FALSE)))) -> 3 | L182: =IF(F182>G182,"OK") -> OK | M182: =HLOOKUP('STOCK BRUT'!$C182,'REGLE PRIORITE'!$B$4:$G$7,2,FALSE) -> 1 | N182: =HLOOKUP('STOCK BRUT'!$C182,'REGLE PRIORITE'!$B$4:$G$7,3,FALSE) -> 3 | O182: =HLOOKUP('STOCK BRUT'!$C182,'REGLE PRIORITE'!$B$4:$G$7,4,FALSE) -> 2 | P182: =F182-G182 -> 1 | Q182: =H182-I182 -> -1 | R182: =J182-K182 -> -3 | S182: =P182+Q182+R182 -> -3
A183: 181 | B183: 8431POIVRE | C183: Porcelaine | D183: Coupelle entremets GM unie | E183: POIVRE | F183: 5 | G183: =IF($C183="porcelaine",IF(ISERROR(VLOOKUP($D183,'STOCK IDEAL'!$B$2:$C$1080,2,FALSE)+VLOOKUP($E183,'REGLE PRIORITE'!$K$3:$L$14,2,FALSE)),VLOOKUP($D183,'STOCK IDEAL'!$B$2:$C$1080,2,FALSE),VLOOKUP($D183,'STOCK IDEAL'!$B$2:$C$1080,2,FALSE)+VLOOKUP($E183,'REGLE PRIORITE'!$K$3:$L$14,2,FALSE)),IF(C183="Bijoux l’atelier",IF(ISERROR(VLOOKUP(D183,'STOCK IDEAL'!$B$2:$C$1108,2,FALSE)+VLOOKUP(E183,'REGLE PRIORITE'!$N$3:$O$18,2,FALSE)),VLOOKUP(D183,'STOCK IDEAL'!$B$2:$C$1108,2,FALSE),VLOOKUP(D183,'STOCK IDEAL'!$B$2:$C$1108,2,FALSE)+VLOOKUP(E183,'REGLE PRIORITE'!$N$3:$O$18,2,FALSE)),IF($C183="Bijoux argent/plaqué or",IF(ISERROR(VLOOKUP(D183,'STOCK IDEAL'!$B$2:$C$1108,2,FALSE)+VLOOKUP($E183,'REGLE PRIORITE'!$Q$3:$R$28,2,FALSE)),VLOOKUP(D183,'STOCK IDEAL'!$B$2:$C$1108,2,FALSE),VLOOKUP(D183,'STOCK IDEAL'!$B$2:$C$1108,2,FALSE)+VLOOKUP($E183,'REGLE PRIORITE'!$Q$3:$R$28,2,FALSE)),VLOOKUP(D183,'STOCK IDEAL'!$B$2:$C$1108,2,FALSE)))) -> 2 | H183: 1 | I183: =IF($C183="porcelaine",IF(ISERROR(VLOOKUP($D183,'STOCK IDEAL'!$B$2:$E$1080,3,FALSE)+VLOOKUP($E183,'REGLE PRIORITE'!$K$3:$L$14,2,FALSE)),VLOOKUP($D183,'STOCK IDEAL'!$B$2:$E$1080,3,FALSE),VLOOKUP($D183,'STOCK IDEAL'!$B$2:$E$1080,3,FALSE)+VLOOKUP($E183,'REGLE PRIORITE'!$K$3:$L$14,2,FALSE)),IF(C183="Bijoux l’atelier",IF(ISERROR(VLOOKUP(D183,'STOCK IDEAL'!$B$2:$E$1108,3,FALSE)+VLOOKUP(E183,'REGLE PRIORITE'!$N$3:$O$18,2,FALSE)),VLOOKUP(D183,'STOCK IDEAL'!$B$2:$E$1108,3,FALSE),VLOOKUP(D183,'STOCK IDEAL'!$B$2:$E$1108,3,FALSE)+VLOOKUP(E183,'REGLE PRIORITE'!$N$3:$O$18,2,FALSE)),IF($C183="Bijoux argent/plaqué or",IF(ISERROR(VLOOKUP(D183,'STOCK IDEAL'!$B$2:$E$1108,3,FALSE)+VLOOKUP($E183,'REGLE PRIORITE'!$Q$3:$R$28,2,FALSE)),VLOOKUP(D183,'STOCK IDEAL'!$B$2:$E$1108,3,FALSE),VLOOKUP(D183,'STOCK IDEAL'!$B$2:$E$1108,3,FALSE)+VLOOKUP($E183,'REGLE PRIORITE'!$Q$3:$R$28,2,FALSE)),VLOOKUP(D183,'STOCK IDEAL'!$B$2:$E$1108,3,FALSE)))) -> 2 | J183: 0 | K183: =IF($C183="porcelaine",IF(ISERROR(VLOOKUP($D183,'STOCK IDEAL'!$B$2:$E$1080,4,FALSE)+VLOOKUP($E183,'REGLE PRIORITE'!$K$3:$L$14,2,FALSE)),VLOOKUP($D183,'STOCK IDEAL'!$B$2:$E$1080,4,FALSE),VLOOKUP($D183,'STOCK IDEAL'!$B$2:$E$1080,4,FALSE)+VLOOKUP($E183,'REGLE PRIORITE'!$K$3:$L$14,2,FALSE)),IF(C183="Bijoux l’atelier",IF(ISERROR(VLOOKUP(D183,'STOCK IDEAL'!$B$2:$E$1108,4,FALSE)+VLOOKUP(E183,'REGLE PRIORITE'!$N$3:$O$18,2,FALSE)),VLOOKUP(D183,'STOCK IDEAL'!$B$2:$E$1108,4,FALSE),VLOOKUP(D183,'STOCK IDEAL'!$B$2:$E$1108,4,FALSE)+VLOOKUP(E183,'REGLE PRIORITE'!$N$3:$O$18,2,FALSE)),IF($C183="Bijoux argent/plaqué or",IF(ISERROR(VLOOKUP(D183,'STOCK IDEAL'!$B$2:$E$1108,4,FALSE)+VLOOKUP($E183,'REGLE PRIORITE'!$Q$3:$R$28,2,FALSE)),VLOOKUP(D183,'STOCK IDEAL'!$B$2:$E$1108,4,FALSE),VLOOKUP(D183,'STOCK IDEAL'!$B$2:$E$1108,4,FALSE)+VLOOKUP($E183,'REGLE PRIORITE'!$Q$3:$R$28,2,FALSE)),VLOOKUP(D183,'STOCK IDEAL'!$B$2:$E$1108,4,FALSE)))) -> 4 | L183: =IF(F183>G183,"OK") -> OK | M183: =HLOOKUP('STOCK BRUT'!$C183,'REGLE PRIORITE'!$B$4:$G$7,2,FALSE) -> 1 | N183: =HLOOKUP('STOCK BRUT'!$C183,'REGLE PRIORITE'!$B$4:$G$7,3,FALSE) -> 3 | O183: =HLOOKUP('STOCK BRUT'!$C183,'REGLE PRIORITE'!$B$4:$G$7,4,FALSE) -> 2 | P183: =F183-G183 -> 3 | Q183: =H183-I183 -> -1 | R183: =J183-K183 -> -4 | S183: =P183+Q183+R183 -> -2
A184: 182 | B184: 8431ROSE | C184: Porcelaine | D184: Coupelle entremets GM unie | E184: ROSE | F184: 1 | G184: =IF($C184="porcelaine",IF(ISERROR(VLOOKUP($D184,'STOCK IDEAL'!$B$2:$C$1080,2,FALSE)+VLOOKUP($E184,'REGLE PRIORITE'!$K$3:$L$14,2,FALSE)),VLOOKUP($D184,'STOCK IDEAL'!$B$2:$C$1080,2,FALSE),VLOOKUP($D184,'STOCK IDEAL'!$B$2:$C$1080,2,FALSE)+VLOOKUP($E184,'REGLE PRIORITE'!$K$3:$L$14,2,FALSE)),IF(C184="Bijoux l’atelier",IF(ISERROR(VLOOKUP(D184,'STOCK IDEAL'!$B$2:$C$1108,2,FALSE)+VLOOKUP(E184,'REGLE PRIORITE'!$N$3:$O$18,2,FALSE)),VLOOKUP(D184,'STOCK IDEAL'!$B$2:$C$1108,2,FALSE),VLOOKUP(D184,'STOCK IDEAL'!$B$2:$C$1108,2,FALSE)+VLOOKUP(E184,'REGLE PRIORITE'!$N$3:$O$18,2,FALSE)),IF($C184="Bijoux argent/plaqué or",IF(ISERROR(VLOOKUP(D184,'STOCK IDEAL'!$B$2:$C$1108,2,FALSE)+VLOOKUP($E184,'REGLE PRIORITE'!$Q$3:$R$28,2,FALSE)),VLOOKUP(D184,'STOCK IDEAL'!$B$2:$C$1108,2,FALSE),VLOOKUP(D184,'STOCK IDEAL'!$B$2:$C$1108,2,FALSE)+VLOOKUP($E184,'REGLE PRIORITE'!$Q$3:$R$28,2,FALSE)),VLOOKUP(D184,'STOCK IDEAL'!$B$2:$C$1108,2,FALSE)))) -> 1 | H184: 1 | I184: =IF($C184="porcelaine",IF(ISERROR(VLOOKUP($D184,'STOCK IDEAL'!$B$2:$E$1080,3,FALSE)+VLOOKUP($E184,'REGLE PRIORITE'!$K$3:$L$14,2,FALSE)),VLOOKUP($D184,'STOCK IDEAL'!$B$2:$E$1080,3,FALSE),VLOOKUP($D184,'STOCK IDEAL'!$B$2:$E$1080,3,FALSE)+VLOOKUP($E184,'REGLE PRIORITE'!$K$3:$L$14,2,FALSE)),IF(C184="Bijoux l’atelier",IF(ISERROR(VLOOKUP(D184,'STOCK IDEAL'!$B$2:$E$1108,3,FALSE)+VLOOKUP(E184,'REGLE PRIORITE'!$N$3:$O$18,2,FALSE)),VLOOKUP(D184,'STOCK IDEAL'!$B$2:$E$1108,3,FALSE),VLOOKUP(D184,'STOCK IDEAL'!$B$2:$E$1108,3,FALSE)+VLOOKUP(E184,'REGLE PRIORITE'!$N$3:$O$18,2,FALSE)),IF($C184="Bijoux argent/plaqué or",IF(ISERROR(VLOOKUP(D184,'STOCK IDEAL'!$B$2:$E$1108,3,FALSE)+VLOOKUP($E184,'REGLE PRIORITE'!$Q$3:$R$28,2,FALSE)),VLOOKUP(D184,'STOCK IDEAL'!$B$2:$E$1108,3,FALSE),VLOOKUP(D184,'STOCK IDEAL'!$B$2:$E$1108,3,FALSE)+VLOOKUP($E184,'REGLE PRIORITE'!$Q$3:$R$28,2,FALSE)),VLOOKUP(D184,'STOCK IDEAL'!$B$2:$E$1108,3,FALSE)))) -> 1 | J184: 0 | K184: =IF($C184="porcelaine",IF(ISERROR(VLOOKUP($D184,'STOCK IDEAL'!$B$2:$E$1080,4,FALSE)+VLOOKUP($E184,'REGLE PRIORITE'!$K$3:$L$14,2,FALSE)),VLOOKUP($D184,'STOCK IDEAL'!$B$2:$E$1080,4,FALSE),VLOOKUP($D184,'STOCK IDEAL'!$B$2:$E$1080,4,FALSE)+VLOOKUP($E184,'REGLE PRIORITE'!$K$3:$L$14,2,FALSE)),IF(C184="Bijoux l’atelier",IF(ISERROR(VLOOKUP(D184,'STOCK IDEAL'!$B$2:$E$1108,4,FALSE)+VLOOKUP(E184,'REGLE PRIORITE'!$N$3:$O$18,2,FALSE)),VLOOKUP(D184,'STOCK IDEAL'!$B$2:$E$1108,4,FALSE),VLOOKUP(D184,'STOCK IDEAL'!$B$2:$E$1108,4,FALSE)+VLOOKUP(E184,'REGLE PRIORITE'!$N$3:$O$18,2,FALSE)),IF($C184="Bijoux argent/plaqué or",IF(ISERROR(VLOOKUP(D184,'STOCK IDEAL'!$B$2:$E$1108,4,FALSE)+VLOOKUP($E184,'REGLE PRIORITE'!$Q$3:$R$28,2,FALSE)),VLOOKUP(D184,'STOCK IDEAL'!$B$2:$E$1108,4,FALSE),VLOOKUP(D184,'STOCK IDEAL'!$B$2:$E$1108,4,FALSE)+VLOOKUP($E184,'REGLE PRIORITE'!$Q$3:$R$28,2,FALSE)),VLOOKUP(D184,'STOCK IDEAL'!$B$2:$E$1108,4,FALSE)))) -> 3 | L184: =IF(F184>G184,"OK") -> FALSE | M184: =HLOOKUP('STOCK BRUT'!$C184,'REGLE PRIORITE'!$B$4:$G$7,2,FALSE) -> 1 | N184: =HLOOKUP('STOCK BRUT'!$C184,'REGLE PRIORITE'!$B$4:$G$7,3,FALSE) -> 3 | O184: =HLOOKUP('STOCK BRUT'!$C184,'REGLE PRIORITE'!$B$4:$G$7,4,FALSE) -> 2 | P184: =F184-G184 -> 0 | Q184: =H184-I184 -> 0 | R184: =J184-K184 -> -3 | S184: =P184+Q184+R184 -> -3
A185: 183 | B185: 8431ROUGE | C185: Porcelaine | D185: Coupelle entremets GM unie | E185: ROUGE | F185: 3 | G185: =IF($C185="porcelaine",IF(ISERROR(VLOOKUP($D185,'STOCK IDEAL'!$B$2:$C$1080,2,FALSE)+VLOOKUP($E185,'REGLE PRIORITE'!$K$3:$L$14,2,FALSE)),VLOOKUP($D185,'STOCK IDEAL'!$B$2:$C$1080,2,FALSE),VLOOKUP($D185,'STOCK IDEAL'!$B$2:$C$1080,2,FALSE)+VLOOKUP($E185,'REGLE PRIORITE'!$K$3:$L$14,2,FALSE)),IF(C185="Bijoux l’atelier",IF(ISERROR(VLOOKUP(D185,'STOCK IDEAL'!$B$2:$C$1108,2,FALSE)+VLOOKUP(E185,'REGLE PRIORITE'!$N$3:$O$18,2,FALSE)),VLOOKUP(D185,'STOCK IDEAL'!$B$2:$C$1108,2,FALSE),VLOOKUP(D185,'STOCK IDEAL'!$B$2:$C$1108,2,FALSE)+VLOOKUP(E185,'REGLE PRIORITE'!$N$3:$O$18,2,FALSE)),IF($C185="Bijoux argent/plaqué or",IF(ISERROR(VLOOKUP(D185,'STOCK IDEAL'!$B$2:$C$1108,2,FALSE)+VLOOKUP($E185,'REGLE PRIORITE'!$Q$3:$R$28,2,FALSE)),VLOOKUP(D185,'STOCK IDEAL'!$B$2:$C$1108,2,FALSE),VLOOKUP(D185,'STOCK IDEAL'!$B$2:$C$1108,2,FALSE)+VLOOKUP($E185,'REGLE PRIORITE'!$Q$3:$R$28,2,FALSE)),VLOOKUP(D185,'STOCK IDEAL'!$B$2:$C$1108,2,FALSE)))) -> 1 | H185: 1 | I185: =IF($C185="porcelaine",IF(ISERROR(VLOOKUP($D185,'STOCK IDEAL'!$B$2:$E$1080,3,FALSE)+VLOOKUP($E185,'REGLE PRIORITE'!$K$3:$L$14,2,FALSE)),VLOOKUP($D185,'STOCK IDEAL'!$B$2:$E$1080,3,FALSE),VLOOKUP($D185,'STOCK IDEAL'!$B$2:$E$1080,3,FALSE)+VLOOKUP($E185,'REGLE PRIORITE'!$K$3:$L$14,2,FALSE)),IF(C185="Bijoux l’atelier",IF(ISERROR(VLOOKUP(D185,'STOCK IDEAL'!$B$2:$E$1108,3,FALSE)+VLOOKUP(E185,'REGLE PRIORITE'!$N$3:$O$18,2,FALSE)),VLOOKUP(D185,'STOCK IDEAL'!$B$2:$E$1108,3,FALSE),VLOOKUP(D185,'STOCK IDEAL'!$B$2:$E$1108,3,FALSE)+VLOOKUP(E185,'REGLE PRIORITE'!$N$3:$O$18,2,FALSE)),IF($C185="Bijoux argent/plaqué or",IF(ISERROR(VLOOKUP(D185,'STOCK IDEAL'!$B$2:$E$1108,3,FALSE)+VLOOKUP($E185,'REGLE PRIORITE'!$Q$3:$R$28,2,FALSE)),VLOOKUP(D185,'STOCK IDEAL'!$B$2:$E$1108,3,FALSE),VLOOKUP(D185,'STOCK IDEAL'!$B$2:$E$1108,3,FALSE)+VLOOKUP($E185,'REGLE PRIORITE'!$Q$3:$R$28,2,FALSE)),VLOOKUP(D185,'STOCK IDEAL'!$B$2:$E$1108,3,FALSE)))) -> 1 | J185: 0 | K185: =IF($C185="porcelaine",IF(ISERROR(VLOOKUP($D185,'STOCK IDEAL'!$B$2:$E$1080,4,FALSE)+VLOOKUP($E185,'REGLE PRIORITE'!$K$3:$L$14,2,FALSE)),VLOOKUP($D185,'STOCK IDEAL'!$B$2:$E$1080,4,FALSE),VLOOKUP($D185,'STOCK IDEAL'!$B$2:$E$1080,4,FALSE)+VLOOKUP($E185,'REGLE PRIORITE'!$K$3:$L$14,2,FALSE)),IF(C185="Bijoux l’atelier",IF(ISERROR(VLOOKUP(D185,'STOCK IDEAL'!$B$2:$E$1108,4,FALSE)+VLOOKUP(E185,'REGLE PRIORITE'!$N$3:$O$18,2,FALSE)),VLOOKUP(D185,'STOCK IDEAL'!$B$2:$E$1108,4,FALSE),VLOOKUP(D185,'STOCK IDEAL'!$B$2:$E$1108,4,FALSE)+VLOOKUP(E185,'REGLE PRIORITE'!$N$3:$O$18,2,FALSE)),IF($C185="Bijoux argent/plaqué or",IF(ISERROR(VLOOKUP(D185,'STOCK IDEAL'!$B$2:$E$1108,4,FALSE)+VLOOKUP($E185,'REGLE PRIORITE'!$Q$3:$R$28,2,FALSE)),VLOOKUP(D185,'STOCK IDEAL'!$B$2:$E$1108,4,FALSE),VLOOKUP(D185,'STOCK IDEAL'!$B$2:$E$1108,4,FALSE)+VLOOKUP($E185,'REGLE PRIORITE'!$Q$3:$R$28,2,FALSE)),VLOOKUP(D185,'STOCK IDEAL'!$B$2:$E$1108,4,FALSE)))) -> 3 | L185: =IF(F185>G185,"OK") -> OK | M185: =HLOOKUP('STOCK BRUT'!$C185,'REGLE PRIORITE'!$B$4:$G$7,2,FALSE) -> 1 | N185: =HLOOKUP('STOCK BRUT'!$C185,'REGLE PRIORITE'!$B$4:$G$7,3,FALSE) -> 3 | O185: =HLOOKUP('STOCK BRUT'!$C185,'REGLE PRIORITE'!$B$4:$G$7,4,FALSE) -> 2 | P185: =F185-G185 -> 2 | Q185: =H185-I185 -> 0 | R185: =J185-K185 -> -3 | S185: =P185+Q185+R185 -> -1
A186: 184 | B186: 8431TAUPE | C186: Porcelaine | D186: Coupelle entremets GM unie | E186: TAUPE | F186: 4 | G186: =IF($C186="porcelaine",IF(ISERROR(VLOOKUP($D186,'STOCK IDEAL'!$B$2:$C$1080,2,FALSE)+VLOOKUP($E186,'REGLE PRIORITE'!$K$3:$L$14,2,FALSE)),VLOOKUP($D186,'STOCK IDEAL'!$B$2:$C$1080,2,FALSE),VLOOKUP($D186,'STOCK IDEAL'!$B$2:$C$1080,2,FALSE)+VLOOKUP($E186,'REGLE PRIORITE'!$K$3:$L$14,2,FALSE)),IF(C186="Bijoux l’atelier",IF(ISERROR(VLOOKUP(D186,'STOCK IDEAL'!$B$2:$C$1108,2,FALSE)+VLOOKUP(E186,'REGLE PRIORITE'!$N$3:$O$18,2,FALSE)),VLOOKUP(D186,'STOCK IDEAL'!$B$2:$C$1108,2,FALSE),VLOOKUP(D186,'STOCK IDEAL'!$B$2:$C$1108,2,FALSE)+VLOOKUP(E186,'REGLE PRIORITE'!$N$3:$O$18,2,FALSE)),IF($C186="Bijoux argent/plaqué or",IF(ISERROR(VLOOKUP(D186,'STOCK IDEAL'!$B$2:$C$1108,2,FALSE)+VLOOKUP($E186,'REGLE PRIORITE'!$Q$3:$R$28,2,FALSE)),VLOOKUP(D186,'STOCK IDEAL'!$B$2:$C$1108,2,FALSE),VLOOKUP(D186,'STOCK IDEAL'!$B$2:$C$1108,2,FALSE)+VLOOKUP($E186,'REGLE PRIORITE'!$Q$3:$R$28,2,FALSE)),VLOOKUP(D186,'STOCK IDEAL'!$B$2:$C$1108,2,FALSE)))) -> 2 | H186: 2 | I186: =IF($C186="porcelaine",IF(ISERROR(VLOOKUP($D186,'STOCK IDEAL'!$B$2:$E$1080,3,FALSE)+VLOOKUP($E186,'REGLE PRIORITE'!$K$3:$L$14,2,FALSE)),VLOOKUP($D186,'STOCK IDEAL'!$B$2:$E$1080,3,FALSE),VLOOKUP($D186,'STOCK IDEAL'!$B$2:$E$1080,3,FALSE)+VLOOKUP($E186,'REGLE PRIORITE'!$K$3:$L$14,2,FALSE)),IF(C186="Bijoux l’atelier",IF(ISERROR(VLOOKUP(D186,'STOCK IDEAL'!$B$2:$E$1108,3,FALSE)+VLOOKUP(E186,'REGLE PRIORITE'!$N$3:$O$18,2,FALSE)),VLOOKUP(D186,'STOCK IDEAL'!$B$2:$E$1108,3,FALSE),VLOOKUP(D186,'STOCK IDEAL'!$B$2:$E$1108,3,FALSE)+VLOOKUP(E186,'REGLE PRIORITE'!$N$3:$O$18,2,FALSE)),IF($C186="Bijoux argent/plaqué or",IF(ISERROR(VLOOKUP(D186,'STOCK IDEAL'!$B$2:$E$1108,3,FALSE)+VLOOKUP($E186,'REGLE PRIORITE'!$Q$3:$R$28,2,FALSE)),VLOOKUP(D186,'STOCK IDEAL'!$B$2:$E$1108,3,FALSE),VLOOKUP(D186,'STOCK IDEAL'!$B$2:$E$1108,3,FALSE)+VLOOKUP($E186,'REGLE PRIORITE'!$Q$3:$R$28,2,FALSE)),VLOOKUP(D186,'STOCK IDEAL'!$B$2:$E$1108,3,FALSE)))) -> 2 | J186: 1 | K186: =IF($C186="porcelaine",IF(ISERROR(VLOOKUP($D186,'STOCK IDEAL'!$B$2:$E$1080,4,FALSE)+VLOOKUP($E186,'REGLE PRIORITE'!$K$3:$L$14,2,FALSE)),VLOOKUP($D186,'STOCK IDEAL'!$B$2:$E$1080,4,FALSE),VLOOKUP($D186,'STOCK IDEAL'!$B$2:$E$1080,4,FALSE)+VLOOKUP($E186,'REGLE PRIORITE'!$K$3:$L$14,2,FALSE)),IF(C186="Bijoux l’atelier",IF(ISERROR(VLOOKUP(D186,'STOCK IDEAL'!$B$2:$E$1108,4,FALSE)+VLOOKUP(E186,'REGLE PRIORITE'!$N$3:$O$18,2,FALSE)),VLOOKUP(D186,'STOCK IDEAL'!$B$2:$E$1108,4,FALSE),VLOOKUP(D186,'STOCK IDEAL'!$B$2:$E$1108,4,FALSE)+VLOOKUP(E186,'REGLE PRIORITE'!$N$3:$O$18,2,FALSE)),IF($C186="Bijoux argent/plaqué or",IF(ISERROR(VLOOKUP(D186,'STOCK IDEAL'!$B$2:$E$1108,4,FALSE)+VLOOKUP($E186,'REGLE PRIORITE'!$Q$3:$R$28,2,FALSE)),VLOOKUP(D186,'STOCK IDEAL'!$B$2:$E$1108,4,FALSE),VLOOKUP(D186,'STOCK IDEAL'!$B$2:$E$1108,4,FALSE)+VLOOKUP($E186,'REGLE PRIORITE'!$Q$3:$R$28,2,FALSE)),VLOOKUP(D186,'STOCK IDEAL'!$B$2:$E$1108,4,FALSE)))) -> 4 | L186: =IF(F186>G186,"OK") -> OK | M186: =HLOOKUP('STOCK BRUT'!$C186,'REGLE PRIORITE'!$B$4:$G$7,2,FALSE) -> 1 | N186: =HLOOKUP('STOCK BRUT'!$C186,'REGLE PRIORITE'!$B$4:$G$7,3,FALSE) -> 3 | O186: =HLOOKUP('STOCK BRUT'!$C186,'REGLE PRIORITE'!$B$4:$G$7,4,FALSE) -> 2 | P186: =F186-G186 -> 2 | Q186: =H186-I186 -> 0 | R186: =J186-K186 -> -3 | S186: =P186+Q186+R186 -> -1
A187: 185 | B187: 8431TURQ | C187: Porcelaine | D187: Coupelle entremets GM unie | E187: TURQUOISE | F187: 2 | G187: =IF($C187="porcelaine",IF(ISERROR(VLOOKUP($D187,'STOCK IDEAL'!$B$2:$C$1080,2,FALSE)+VLOOKUP($E187,'REGLE PRIORITE'!$K$3:$L$14,2,FALSE)),VLOOKUP($D187,'STOCK IDEAL'!$B$2:$C$1080,2,FALSE),VLOOKUP($D187,'STOCK IDEAL'!$B$2:$C$1080,2,FALSE)+VLOOKUP($E187,'REGLE PRIORITE'!$K$3:$L$14,2,FALSE)),IF(C187="Bijoux l’atelier",IF(ISERROR(VLOOKUP(D187,'STOCK IDEAL'!$B$2:$C$1108,2,FALSE)+VLOOKUP(E187,'REGLE PRIORITE'!$N$3:$O$18,2,FALSE)),VLOOKUP(D187,'STOCK IDEAL'!$B$2:$C$1108,2,FALSE),VLOOKUP(D187,'STOCK IDEAL'!$B$2:$C$1108,2,FALSE)+VLOOKUP(E187,'REGLE PRIORITE'!$N$3:$O$18,2,FALSE)),IF($C187="Bijoux argent/plaqué or",IF(ISERROR(VLOOKUP(D187,'STOCK IDEAL'!$B$2:$C$1108,2,FALSE)+VLOOKUP($E187,'REGLE PRIORITE'!$Q$3:$R$28,2,FALSE)),VLOOKUP(D187,'STOCK IDEAL'!$B$2:$C$1108,2,FALSE),VLOOKUP(D187,'STOCK IDEAL'!$B$2:$C$1108,2,FALSE)+VLOOKUP($E187,'REGLE PRIORITE'!$Q$3:$R$28,2,FALSE)),VLOOKUP(D187,'STOCK IDEAL'!$B$2:$C$1108,2,FALSE)))) -> 1 | H187: 1 | I187: =IF($C187="porcelaine",IF(ISERROR(VLOOKUP($D187,'STOCK IDEAL'!$B$2:$E$1080,3,FALSE)+VLOOKUP($E187,'REGLE PRIORITE'!$K$3:$L$14,2,FALSE)),VLOOKUP($D187,'STOCK IDEAL'!$B$2:$E$1080,3,FALSE),VLOOKUP($D187,'STOCK IDEAL'!$B$2:$E$1080,3,FALSE)+VLOOKUP($E187,'REGLE PRIORITE'!$K$3:$L$14,2,FALSE)),IF(C187="Bijoux l’atelier",IF(ISERROR(VLOOKUP(D187,'STOCK IDEAL'!$B$2:$E$1108,3,FALSE)+VLOOKUP(E187,'REGLE PRIORITE'!$N$3:$O$18,2,FALSE)),VLOOKUP(D187,'STOCK IDEAL'!$B$2:$E$1108,3,FALSE),VLOOKUP(D187,'STOCK IDEAL'!$B$2:$E$1108,3,FALSE)+VLOOKUP(E187,'REGLE PRIORITE'!$N$3:$O$18,2,FALSE)),IF($C187="Bijoux argent/plaqué or",IF(ISERROR(VLOOKUP(D187,'STOCK IDEAL'!$B$2:$E$1108,3,FALSE)+VLOOKUP($E187,'REGLE PRIORITE'!$Q$3:$R$28,2,FALSE)),VLOOKUP(D187,'STOCK IDEAL'!$B$2:$E$1108,3,FALSE),VLOOKUP(D187,'STOCK IDEAL'!$B$2:$E$1108,3,FALSE)+VLOOKUP($E187,'REGLE PRIORITE'!$Q$3:$R$28,2,FALSE)),VLOOKUP(D187,'STOCK IDEAL'!$B$2:$E$1108,3,FALSE)))) -> 1 | J187: 0 | K187: =IF($C187="porcelaine",IF(ISERROR(VLOOKUP($D187,'STOCK IDEAL'!$B$2:$E$1080,4,FALSE)+VLOOKUP($E187,'REGLE PRIORITE'!$K$3:$L$14,2,FALSE)),VLOOKUP($D187,'STOCK IDEAL'!$B$2:$E$1080,4,FALSE),VLOOKUP($D187,'STOCK IDEAL'!$B$2:$E$1080,4,FALSE)+VLOOKUP($E187,'REGLE PRIORITE'!$K$3:$L$14,2,FALSE)),IF(C187="Bijoux l’atelier",IF(ISERROR(VLOOKUP(D187,'STOCK IDEAL'!$B$2:$E$1108,4,FALSE)+VLOOKUP(E187,'REGLE PRIORITE'!$N$3:$O$18,2,FALSE)),VLOOKUP(D187,'STOCK IDEAL'!$B$2:$E$1108,4,FALSE),VLOOKUP(D187,'STOCK IDEAL'!$B$2:$E$1108,4,FALSE)+VLOOKUP(E187,'REGLE PRIORITE'!$N$3:$O$18,2,FALSE)),IF($C187="Bijoux argent/plaqué or",IF(ISERROR(VLOOKUP(D187,'STOCK IDEAL'!$B$2:$E$1108,4,FALSE)+VLOOKUP($E187,'REGLE PRIORITE'!$Q$3:$R$28,2,FALSE)),VLOOKUP(D187,'STOCK IDEAL'!$B$2:$E$1108,4,FALSE),VLOOKUP(D187,'STOCK IDEAL'!$B$2:$E$1108,4,FALSE)+VLOOKUP($E187,'REGLE PRIORITE'!$Q$3:$R$28,2,FALSE)),VLOOKUP(D187,'STOCK IDEAL'!$B$2:$E$1108,4,FALSE)))) -> 3 | L187: =IF(F187>G187,"OK") -> OK | M187: =HLOOKUP('STOCK BRUT'!$C187,'REGLE PRIORITE'!$B$4:$G$7,2,FALSE) -> 1 | N187: =HLOOKUP('STOCK BRUT'!$C187,'REGLE PRIORITE'!$B$4:$G$7,3,FALSE) -> 3 | O187: =HLOOKUP('STOCK BRUT'!$C187,'REGLE PRIORITE'!$B$4:$G$7,4,FALSE) -> 2 | P187: =F187-G187 -> 1 | Q187: =H187-I187 -> 0 | R187: =J187-K187 -> -3 | S187: =P187+Q187+R187 -> -2
A188: 186 | B188: 8431VIOLET | C188: Porcelaine | D188: Coupelle entremets GM unie | E188: VIOLET | F188: 1 | G188: =IF($C188="porcelaine",IF(ISERROR(VLOOKUP($D188,'STOCK IDEAL'!$B$2:$C$1080,2,FALSE)+VLOOKUP($E188,'REGLE PRIORITE'!$K$3:$L$14,2,FALSE)),VLOOKUP($D188,'STOCK IDEAL'!$B$2:$C$1080,2,FALSE),VLOOKUP($D188,'STOCK IDEAL'!$B$2:$C$1080,2,FALSE)+VLOOKUP($E188,'REGLE PRIORITE'!$K$3:$L$14,2,FALSE)),IF(C188="Bijoux l’atelier",IF(ISERROR(VLOOKUP(D188,'STOCK IDEAL'!$B$2:$C$1108,2,FALSE)+VLOOKUP(E188,'REGLE PRIORITE'!$N$3:$O$18,2,FALSE)),VLOOKUP(D188,'STOCK IDEAL'!$B$2:$C$1108,2,FALSE),VLOOKUP(D188,'STOCK IDEAL'!$B$2:$C$1108,2,FALSE)+VLOOKUP(E188,'REGLE PRIORITE'!$N$3:$O$18,2,FALSE)),IF($C188="Bijoux argent/plaqué or",IF(ISERROR(VLOOKUP(D188,'STOCK IDEAL'!$B$2:$C$1108,2,FALSE)+VLOOKUP($E188,'REGLE PRIORITE'!$Q$3:$R$28,2,FALSE)),VLOOKUP(D188,'STOCK IDEAL'!$B$2:$C$1108,2,FALSE),VLOOKUP(D188,'STOCK IDEAL'!$B$2:$C$1108,2,FALSE)+VLOOKUP($E188,'REGLE PRIORITE'!$Q$3:$R$28,2,FALSE)),VLOOKUP(D188,'STOCK IDEAL'!$B$2:$C$1108,2,FALSE)))) -> 1 | H188: 1 | I188: =IF($C188="porcelaine",IF(ISERROR(VLOOKUP($D188,'STOCK IDEAL'!$B$2:$E$1080,3,FALSE)+VLOOKUP($E188,'REGLE PRIORITE'!$K$3:$L$14,2,FALSE)),VLOOKUP($D188,'STOCK IDEAL'!$B$2:$E$1080,3,FALSE),VLOOKUP($D188,'STOCK IDEAL'!$B$2:$E$1080,3,FALSE)+VLOOKUP($E188,'REGLE PRIORITE'!$K$3:$L$14,2,FALSE)),IF(C188="Bijoux l’atelier",IF(ISERROR(VLOOKUP(D188,'STOCK IDEAL'!$B$2:$E$1108,3,FALSE)+VLOOKUP(E188,'REGLE PRIORITE'!$N$3:$O$18,2,FALSE)),VLOOKUP(D188,'STOCK IDEAL'!$B$2:$E$1108,3,FALSE),VLOOKUP(D188,'STOCK IDEAL'!$B$2:$E$1108,3,FALSE)+VLOOKUP(E188,'REGLE PRIORITE'!$N$3:$O$18,2,FALSE)),IF($C188="Bijoux argent/plaqué or",IF(ISERROR(VLOOKUP(D188,'STOCK IDEAL'!$B$2:$E$1108,3,FALSE)+VLOOKUP($E188,'REGLE PRIORITE'!$Q$3:$R$28,2,FALSE)),VLOOKUP(D188,'STOCK IDEAL'!$B$2:$E$1108,3,FALSE),VLOOKUP(D188,'STOCK IDEAL'!$B$2:$E$1108,3,FALSE)+VLOOKUP($E188,'REGLE PRIORITE'!$Q$3:$R$28,2,FALSE)),VLOOKUP(D188,'STOCK IDEAL'!$B$2:$E$1108,3,FALSE)))) -> 1 | J188: 0 | K188: =IF($C188="porcelaine",IF(ISERROR(VLOOKUP($D188,'STOCK IDEAL'!$B$2:$E$1080,4,FALSE)+VLOOKUP($E188,'REGLE PRIORITE'!$K$3:$L$14,2,FALSE)),VLOOKUP($D188,'STOCK IDEAL'!$B$2:$E$1080,4,FALSE),VLOOKUP($D188,'STOCK IDEAL'!$B$2:$E$1080,4,FALSE)+VLOOKUP($E188,'REGLE PRIORITE'!$K$3:$L$14,2,FALSE)),IF(C188="Bijoux l’atelier",IF(ISERROR(VLOOKUP(D188,'STOCK IDEAL'!$B$2:$E$1108,4,FALSE)+VLOOKUP(E188,'REGLE PRIORITE'!$N$3:$O$18,2,FALSE)),VLOOKUP(D188,'STOCK IDEAL'!$B$2:$E$1108,4,FALSE),VLOOKUP(D188,'STOCK IDEAL'!$B$2:$E$1108,4,FALSE)+VLOOKUP(E188,'REGLE PRIORITE'!$N$3:$O$18,2,FALSE)),IF($C188="Bijoux argent/plaqué or",IF(ISERROR(VLOOKUP(D188,'STOCK IDEAL'!$B$2:$E$1108,4,FALSE)+VLOOKUP($E188,'REGLE PRIORITE'!$Q$3:$R$28,2,FALSE)),VLOOKUP(D188,'STOCK IDEAL'!$B$2:$E$1108,4,FALSE),VLOOKUP(D188,'STOCK IDEAL'!$B$2:$E$1108,4,FALSE)+VLOOKUP($E188,'REGLE PRIORITE'!$Q$3:$R$28,2,FALSE)),VLOOKUP(D188,'STOCK IDEAL'!$B$2:$E$1108,4,FALSE)))) -> 3 | L188: =IF(F188>G188,"OK") -> FALSE | M188: =HLOOKUP('STOCK BRUT'!$C188,'REGLE PRIORITE'!$B$4:$G$7,2,FALSE) -> 1 | N188: =HLOOKUP('STOCK BRUT'!$C188,'REGLE PRIORITE'!$B$4:$G$7,3,FALSE) -> 3 | O188: =HLOOKUP('STOCK BRUT'!$C188,'REGLE PRIORITE'!$B$4:$G$7,4,FALSE) -> 2 | P188: =F188-G188 -> 0 | Q188: =H188-I188 -> 0 | R188: =J188-K188 -> -3 | S188: =P188+Q188+R188 -> -3
A189: 187 | B189: C8802 | C189: Oozoo | D189: Montre Oozoo C8802 | F189: 0 | G189: =IF($C189="porcelaine",IF(ISERROR(VLOOKUP($D189,'STOCK IDEAL'!$B$2:$C$1080,2,FALSE)+VLOOKUP($E189,'REGLE PRIORITE'!$K$3:$L$14,2,FALSE)),VLOOKUP($D189,'STOCK IDEAL'!$B$2:$C$1080,2,FALSE),VLOOKUP($D189,'STOCK IDEAL'!$B$2:$C$1080,2,FALSE)+VLOOKUP($E189,'REGLE PRIORITE'!$K$3:$L$14,2,FALSE)),IF(C189="Bijoux l’atelier",IF(ISERROR(VLOOKUP(D189,'STOCK IDEAL'!$B$2:$C$1108,2,FALSE)+VLOOKUP(E189,'REGLE PRIORITE'!$N$3:$O$18,2,FALSE)),VLOOKUP(D189,'STOCK IDEAL'!$B$2:$C$1108,2,FALSE),VLOOKUP(D189,'STOCK IDEAL'!$B$2:$C$1108,2,FALSE)+VLOOKUP(E189,'REGLE PRIORITE'!$N$3:$O$18,2,FALSE)),IF($C189="Bijoux argent/plaqué or",IF(ISERROR(VLOOKUP(D189,'STOCK IDEAL'!$B$2:$C$1108,2,FALSE)+VLOOKUP($E189,'REGLE PRIORITE'!$Q$3:$R$28,2,FALSE)),VLOOKUP(D189,'STOCK IDEAL'!$B$2:$C$1108,2,FALSE),VLOOKUP(D189,'STOCK IDEAL'!$B$2:$C$1108,2,FALSE)+VLOOKUP($E189,'REGLE PRIORITE'!$Q$3:$R$28,2,FALSE)),VLOOKUP(D189,'STOCK IDEAL'!$B$2:$C$1108,2,FALSE)))) -> 1 | H189: 0 | I189: =IF($C189="porcelaine",IF(ISERROR(VLOOKUP($D189,'STOCK IDEAL'!$B$2:$E$1080,3,FALSE)+VLOOKUP($E189,'REGLE PRIORITE'!$K$3:$L$14,2,FALSE)),VLOOKUP($D189,'STOCK IDEAL'!$B$2:$E$1080,3,FALSE),VLOOKUP($D189,'STOCK IDEAL'!$B$2:$E$1080,3,FALSE)+VLOOKUP($E189,'REGLE PRIORITE'!$K$3:$L$14,2,FALSE)),IF(C189="Bijoux l’atelier",IF(ISERROR(VLOOKUP(D189,'STOCK IDEAL'!$B$2:$E$1108,3,FALSE)+VLOOKUP(E189,'REGLE PRIORITE'!$N$3:$O$18,2,FALSE)),VLOOKUP(D189,'STOCK IDEAL'!$B$2:$E$1108,3,FALSE),VLOOKUP(D189,'STOCK IDEAL'!$B$2:$E$1108,3,FALSE)+VLOOKUP(E189,'REGLE PRIORITE'!$N$3:$O$18,2,FALSE)),IF($C189="Bijoux argent/plaqué or",IF(ISERROR(VLOOKUP(D189,'STOCK IDEAL'!$B$2:$E$1108,3,FALSE)+VLOOKUP($E189,'REGLE PRIORITE'!$Q$3:$R$28,2,FALSE)),VLOOKUP(D189,'STOCK IDEAL'!$B$2:$E$1108,3,FALSE),VLOOKUP(D189,'STOCK IDEAL'!$B$2:$E$1108,3,FALSE)+VLOOKUP($E189,'REGLE PRIORITE'!$Q$3:$R$28,2,FALSE)),VLOOKUP(D189,'STOCK IDEAL'!$B$2:$E$1108,3,FALSE)))) -> 1 | J189: 0 | K189: =IF($C189="porcelaine",IF(ISERROR(VLOOKUP($D189,'STOCK IDEAL'!$B$2:$E$1080,4,FALSE)+VLOOKUP($E189,'REGLE PRIORITE'!$K$3:$L$14,2,FALSE)),VLOOKUP($D189,'STOCK IDEAL'!$B$2:$E$1080,4,FALSE),VLOOKUP($D189,'STOCK IDEAL'!$B$2:$E$1080,4,FALSE)+VLOOKUP($E189,'REGLE PRIORITE'!$K$3:$L$14,2,FALSE)),IF(C189="Bijoux l’atelier",IF(ISERROR(VLOOKUP(D189,'STOCK IDEAL'!$B$2:$E$1108,4,FALSE)+VLOOKUP(E189,'REGLE PRIORITE'!$N$3:$O$18,2,FALSE)),VLOOKUP(D189,'STOCK IDEAL'!$B$2:$E$1108,4,FALSE),VLOOKUP(D189,'STOCK IDEAL'!$B$2:$E$1108,4,FALSE)+VLOOKUP(E189,'REGLE PRIORITE'!$N$3:$O$18,2,FALSE)),IF($C189="Bijoux argent/plaqué or",IF(ISERROR(VLOOKUP(D189,'STOCK IDEAL'!$B$2:$E$1108,4,FALSE)+VLOOKUP($E189,'REGLE PRIORITE'!$Q$3:$R$28,2,FALSE)),VLOOKUP(D189,'STOCK IDEAL'!$B$2:$E$1108,4,FALSE),VLOOKUP(D189,'STOCK IDEAL'!$B$2:$E$1108,4,FALSE)+VLOOKUP($E189,'REGLE PRIORITE'!$Q$3:$R$28,2,FALSE)),VLOOKUP(D189,'STOCK IDEAL'!$B$2:$E$1108,4,FALSE)))) -> 3 | L189: =IF(F189>G189,"OK") -> FALSE | M189: =HLOOKUP('STOCK BRUT'!$C189,'REGLE PRIORITE'!$B$4:$G$7,2,FALSE) -> 2 | N189: =HLOOKUP('STOCK BRUT'!$C189,'REGLE PRIORITE'!$B$4:$G$7,3,FALSE) -> 1 | O189: =HLOOKUP('STOCK BRUT'!$C189,'REGLE PRIORITE'!$B$4:$G$7,4,FALSE) -> 3 | P189: =F189-G189 -> -1 | Q189: =H189-I189 -> -1 | R189: =J189-K189 -> -3 | S189: =P189+Q189+R189 -> -5
A190: 188 | B190: C8826 | C190: Oozoo | D190: Montre Oozoo C8826 | F190: 0 | G190: =IF($C190="porcelaine",IF(ISERROR(VLOOKUP($D190,'STOCK IDEAL'!$B$2:$C$1080,2,FALSE)+VLOOKUP($E190,'REGLE PRIORITE'!$K$3:$L$14,2,FALSE)),VLOOKUP($D190,'STOCK IDEAL'!$B$2:$C$1080,2,FALSE),VLOOKUP($D190,'STOCK IDEAL'!$B$2:$C$1080,2,FALSE)+VLOOKUP($E190,'REGLE PRIORITE'!$K$3:$L$14,2,FALSE)),IF(C190="Bijoux l’atelier",IF(ISERROR(VLOOKUP(D190,'STOCK IDEAL'!$B$2:$C$1108,2,FALSE)+VLOOKUP(E190,'REGLE PRIORITE'!$N$3:$O$18,2,FALSE)),VLOOKUP(D190,'STOCK IDEAL'!$B$2:$C$1108,2,FALSE),VLOOKUP(D190,'STOCK IDEAL'!$B$2:$C$1108,2,FALSE)+VLOOKUP(E190,'REGLE PRIORITE'!$N$3:$O$18,2,FALSE)),IF($C190="Bijoux argent/plaqué or",IF(ISERROR(VLOOKUP(D190,'STOCK IDEAL'!$B$2:$C$1108,2,FALSE)+VLOOKUP($E190,'REGLE PRIORITE'!$Q$3:$R$28,2,FALSE)),VLOOKUP(D190,'STOCK IDEAL'!$B$2:$C$1108,2,FALSE),VLOOKUP(D190,'STOCK IDEAL'!$B$2:$C$1108,2,FALSE)+VLOOKUP($E190,'REGLE PRIORITE'!$Q$3:$R$28,2,FALSE)),VLOOKUP(D190,'STOCK IDEAL'!$B$2:$C$1108,2,FALSE)))) -> 1 | H190: 0 | I190: =IF($C190="porcelaine",IF(ISERROR(VLOOKUP($D190,'STOCK IDEAL'!$B$2:$E$1080,3,FALSE)+VLOOKUP($E190,'REGLE PRIORITE'!$K$3:$L$14,2,FALSE)),VLOOKUP($D190,'STOCK IDEAL'!$B$2:$E$1080,3,FALSE),VLOOKUP($D190,'STOCK IDEAL'!$B$2:$E$1080,3,FALSE)+VLOOKUP($E190,'REGLE PRIORITE'!$K$3:$L$14,2,FALSE)),IF(C190="Bijoux l’atelier",IF(ISERROR(VLOOKUP(D190,'STOCK IDEAL'!$B$2:$E$1108,3,FALSE)+VLOOKUP(E190,'REGLE PRIORITE'!$N$3:$O$18,2,FALSE)),VLOOKUP(D190,'STOCK IDEAL'!$B$2:$E$1108,3,FALSE),VLOOKUP(D190,'STOCK IDEAL'!$B$2:$E$1108,3,FALSE)+VLOOKUP(E190,'REGLE PRIORITE'!$N$3:$O$18,2,FALSE)),IF($C190="Bijoux argent/plaqué or",IF(ISERROR(VLOOKUP(D190,'STOCK IDEAL'!$B$2:$E$1108,3,FALSE)+VLOOKUP($E190,'REGLE PRIORITE'!$Q$3:$R$28,2,FALSE)),VLOOKUP(D190,'STOCK IDEAL'!$B$2:$E$1108,3,FALSE),VLOOKUP(D190,'STOCK IDEAL'!$B$2:$E$1108,3,FALSE)+VLOOKUP($E190,'REGLE PRIORITE'!$Q$3:$R$28,2,FALSE)),VLOOKUP(D190,'STOCK IDEAL'!$B$2:$E$1108,3,FALSE)))) -> 1 | J190: 0 | K190: =IF($C190="porcelaine",IF(ISERROR(VLOOKUP($D190,'STOCK IDEAL'!$B$2:$E$1080,4,FALSE)+VLOOKUP($E190,'REGLE PRIORITE'!$K$3:$L$14,2,FALSE)),VLOOKUP($D190,'STOCK IDEAL'!$B$2:$E$1080,4,FALSE),VLOOKUP($D190,'STOCK IDEAL'!$B$2:$E$1080,4,FALSE)+VLOOKUP($E190,'REGLE PRIORITE'!$K$3:$L$14,2,FALSE)),IF(C190="Bijoux l’atelier",IF(ISERROR(VLOOKUP(D190,'STOCK IDEAL'!$B$2:$E$1108,4,FALSE)+VLOOKUP(E190,'REGLE PRIORITE'!$N$3:$O$18,2,FALSE)),VLOOKUP(D190,'STOCK IDEAL'!$B$2:$E$1108,4,FALSE),VLOOKUP(D190,'STOCK IDEAL'!$B$2:$E$1108,4,FALSE)+VLOOKUP(E190,'REGLE PRIORITE'!$N$3:$O$18,2,FALSE)),IF($C190="Bijoux argent/plaqué or",IF(ISERROR(VLOOKUP(D190,'STOCK IDEAL'!$B$2:$E$1108,4,FALSE)+VLOOKUP($E190,'REGLE PRIORITE'!$Q$3:$R$28,2,FALSE)),VLOOKUP(D190,'STOCK IDEAL'!$B$2:$E$1108,4,FALSE),VLOOKUP(D190,'STOCK IDEAL'!$B$2:$E$1108,4,FALSE)+VLOOKUP($E190,'REGLE PRIORITE'!$Q$3:$R$28,2,FALSE)),VLOOKUP(D190,'STOCK IDEAL'!$B$2:$E$1108,4,FALSE)))) -> 3 | L190: =IF(F190>G190,"OK") -> FALSE | M190: =HLOOKUP('STOCK BRUT'!$C190,'REGLE PRIORITE'!$B$4:$G$7,2,FALSE) -> 2 | N190: =HLOOKUP('STOCK BRUT'!$C190,'REGLE PRIORITE'!$B$4:$G$7,3,FALSE) -> 1 | O190: =HLOOKUP('STOCK BRUT'!$C190,'REGLE PRIORITE'!$B$4:$G$7,4,FALSE) -> 3 | P190: =F190-G190 -> -1 | Q190: =H190-I190 -> -1 | R190: =J190-K190 -> -3 | S190: =P190+Q190+R190 -> -5
A191: 189 | B191: C8735 | C191: Oozoo | D191: Montre Oozoo C8735 | F191: 0 | G191: =IF($C191="porcelaine",IF(ISERROR(VLOOKUP($D191,'STOCK IDEAL'!$B$2:$C$1080,2,FALSE)+VLOOKUP($E191,'REGLE PRIORITE'!$K$3:$L$14,2,FALSE)),VLOOKUP($D191,'STOCK IDEAL'!$B$2:$C$1080,2,FALSE),VLOOKUP($D191,'STOCK IDEAL'!$B$2:$C$1080,2,FALSE)+VLOOKUP($E191,'REGLE PRIORITE'!$K$3:$L$14,2,FALSE)),IF(C191="Bijoux l’atelier",IF(ISERROR(VLOOKUP(D191,'STOCK IDEAL'!$B$2:$C$1108,2,FALSE)+VLOOKUP(E191,'REGLE PRIORITE'!$N$3:$O$18,2,FALSE)),VLOOKUP(D191,'STOCK IDEAL'!$B$2:$C$1108,2,FALSE),VLOOKUP(D191,'STOCK IDEAL'!$B$2:$C$1108,2,FALSE)+VLOOKUP(E191,'REGLE PRIORITE'!$N$3:$O$18,2,FALSE)),IF($C191="Bijoux argent/plaqué or",IF(ISERROR(VLOOKUP(D191,'STOCK IDEAL'!$B$2:$C$1108,2,FALSE)+VLOOKUP($E191,'REGLE PRIORITE'!$Q$3:$R$28,2,FALSE)),VLOOKUP(D191,'STOCK IDEAL'!$B$2:$C$1108,2,FALSE),VLOOKUP(D191,'STOCK IDEAL'!$B$2:$C$1108,2,FALSE)+VLOOKUP($E191,'REGLE PRIORITE'!$Q$3:$R$28,2,FALSE)),VLOOKUP(D191,'STOCK IDEAL'!$B$2:$C$1108,2,FALSE)))) -> 1 | H191: 0 | I191: =IF($C191="porcelaine",IF(ISERROR(VLOOKUP($D191,'STOCK IDEAL'!$B$2:$E$1080,3,FALSE)+VLOOKUP($E191,'REGLE PRIORITE'!$K$3:$L$14,2,FALSE)),VLOOKUP($D191,'STOCK IDEAL'!$B$2:$E$1080,3,FALSE),VLOOKUP($D191,'STOCK IDEAL'!$B$2:$E$1080,3,FALSE)+VLOOKUP($E191,'REGLE PRIORITE'!$K$3:$L$14,2,FALSE)),IF(C191="Bijoux l’atelier",IF(ISERROR(VLOOKUP(D191,'STOCK IDEAL'!$B$2:$E$1108,3,FALSE)+VLOOKUP(E191,'REGLE PRIORITE'!$N$3:$O$18,2,FALSE)),VLOOKUP(D191,'STOCK IDEAL'!$B$2:$E$1108,3,FALSE),VLOOKUP(D191,'STOCK IDEAL'!$B$2:$E$1108,3,FALSE)+VLOOKUP(E191,'REGLE PRIORITE'!$N$3:$O$18,2,FALSE)),IF($C191="Bijoux argent/plaqué or",IF(ISERROR(VLOOKUP(D191,'STOCK IDEAL'!$B$2:$E$1108,3,FALSE)+VLOOKUP($E191,'REGLE PRIORITE'!$Q$3:$R$28,2,FALSE)),VLOOKUP(D191,'STOCK IDEAL'!$B$2:$E$1108,3,FALSE),VLOOKUP(D191,'STOCK IDEAL'!$B$2:$E$1108,3,FALSE)+VLOOKUP($E191,'REGLE PRIORITE'!$Q$3:$R$28,2,FALSE)),VLOOKUP(D191,'STOCK IDEAL'!$B$2:$E$1108,3,FALSE)))) -> 1 | J191: 0 | K191: =IF($C191="porcelaine",IF(ISERROR(VLOOKUP($D191,'STOCK IDEAL'!$B$2:$E$1080,4,FALSE)+VLOOKUP($E191,'REGLE PRIORITE'!$K$3:$L$14,2,FALSE)),VLOOKUP($D191,'STOCK IDEAL'!$B$2:$E$1080,4,FALSE),VLOOKUP($D191,'STOCK IDEAL'!$B$2:$E$1080,4,FALSE)+VLOOKUP($E191,'REGLE PRIORITE'!$K$3:$L$14,2,FALSE)),IF(C191="Bijoux l’atelier",IF(ISERROR(VLOOKUP(D191,'STOCK IDEAL'!$B$2:$E$1108,4,FALSE)+VLOOKUP(E191,'REGLE PRIORITE'!$N$3:$O$18,2,FALSE)),VLOOKUP(D191,'STOCK IDEAL'!$B$2:$E$1108,4,FALSE),VLOOKUP(D191,'STOCK IDEAL'!$B$2:$E$1108,4,FALSE)+VLOOKUP(E191,'REGLE PRIORITE'!$N$3:$O$18,2,FALSE)),IF($C191="Bijoux argent/plaqué or",IF(ISERROR(VLOOKUP(D191,'STOCK IDEAL'!$B$2:$E$1108,4,FALSE)+VLOOKUP($E191,'REGLE PRIORITE'!$Q$3:$R$28,2,FALSE)),VLOOKUP(D191,'STOCK IDEAL'!$B$2:$E$1108,4,FALSE),VLOOKUP(D191,'STOCK IDEAL'!$B$2:$E$1108,4,FALSE)+VLOOKUP($E191,'REGLE PRIORITE'!$Q$3:$R$28,2,FALSE)),VLOOKUP(D191,'STOCK IDEAL'!$B$2:$E$1108,4,FALSE)))) -> 3 | L191: =IF(F191>G191,"OK") -> FALSE | M191: =HLOOKUP('STOCK BRUT'!$C191,'REGLE PRIORITE'!$B$4:$G$7,2,FALSE) -> 2 | N191: =HLOOKUP('STOCK BRUT'!$C191,'REGLE PRIORITE'!$B$4:$G$7,3,FALSE) -> 1 | O191: =HLOOKUP('STOCK BRUT'!$C191,'REGLE PRIORITE'!$B$4:$G$7,4,FALSE) -> 3 | P191: =F191-G191 -> -1 | Q191: =H191-I191 -> -1 | R191: =J191-K191 -> -3 | S191: =P191+Q191+R191 -> -5
A192: 190 | B192: C8810 | C192: Oozoo | D192: Montre Oozoo C8810 | F192: 0 | G192: =IF($C192="porcelaine",IF(ISERROR(VLOOKUP($D192,'STOCK IDEAL'!$B$2:$C$1080,2,FALSE)+VLOOKUP($E192,'REGLE PRIORITE'!$K$3:$L$14,2,FALSE)),VLOOKUP($D192,'STOCK IDEAL'!$B$2:$C$1080,2,FALSE),VLOOKUP($D192,'STOCK IDEAL'!$B$2:$C$1080,2,FALSE)+VLOOKUP($E192,'REGLE PRIORITE'!$K$3:$L$14,2,FALSE)),IF(C192="Bijoux l’atelier",IF(ISERROR(VLOOKUP(D192,'STOCK IDEAL'!$B$2:$C$1108,2,FALSE)+VLOOKUP(E192,'REGLE PRIORITE'!$N$3:$O$18,2,FALSE)),VLOOKUP(D192,'STOCK IDEAL'!$B$2:$C$1108,2,FALSE),VLOOKUP(D192,'STOCK IDEAL'!$B$2:$C$1108,2,FALSE)+VLOOKUP(E192,'REGLE PRIORITE'!$N$3:$O$18,2,FALSE)),IF($C192="Bijoux argent/plaqué or",IF(ISERROR(VLOOKUP(D192,'STOCK IDEAL'!$B$2:$C$1108,2,FALSE)+VLOOKUP($E192,'REGLE PRIORITE'!$Q$3:$R$28,2,FALSE)),VLOOKUP(D192,'STOCK IDEAL'!$B$2:$C$1108,2,FALSE),VLOOKUP(D192,'STOCK IDEAL'!$B$2:$C$1108,2,FALSE)+VLOOKUP($E192,'REGLE PRIORITE'!$Q$3:$R$28,2,FALSE)),VLOOKUP(D192,'STOCK IDEAL'!$B$2:$C$1108,2,FALSE)))) -> 1 | H192: 1 | I192: =IF($C192="porcelaine",IF(ISERROR(VLOOKUP($D192,'STOCK IDEAL'!$B$2:$E$1080,3,FALSE)+VLOOKUP($E192,'REGLE PRIORITE'!$K$3:$L$14,2,FALSE)),VLOOKUP($D192,'STOCK IDEAL'!$B$2:$E$1080,3,FALSE),VLOOKUP($D192,'STOCK IDEAL'!$B$2:$E$1080,3,FALSE)+VLOOKUP($E192,'REGLE PRIORITE'!$K$3:$L$14,2,FALSE)),IF(C192="Bijoux l’atelier",IF(ISERROR(VLOOKUP(D192,'STOCK IDEAL'!$B$2:$E$1108,3,FALSE)+VLOOKUP(E192,'REGLE PRIORITE'!$N$3:$O$18,2,FALSE)),VLOOKUP(D192,'STOCK IDEAL'!$B$2:$E$1108,3,FALSE),VLOOKUP(D192,'STOCK IDEAL'!$B$2:$E$1108,3,FALSE)+VLOOKUP(E192,'REGLE PRIORITE'!$N$3:$O$18,2,FALSE)),IF($C192="Bijoux argent/plaqué or",IF(ISERROR(VLOOKUP(D192,'STOCK IDEAL'!$B$2:$E$1108,3,FALSE)+VLOOKUP($E192,'REGLE PRIORITE'!$Q$3:$R$28,2,FALSE)),VLOOKUP(D192,'STOCK IDEAL'!$B$2:$E$1108,3,FALSE),VLOOKUP(D192,'STOCK IDEAL'!$B$2:$E$1108,3,FALSE)+VLOOKUP($E192,'REGLE PRIORITE'!$Q$3:$R$28,2,FALSE)),VLOOKUP(D192,'STOCK IDEAL'!$B$2:$E$1108,3,FALSE)))) -> 1 | J192: 0 | K192: =IF($C192="porcelaine",IF(ISERROR(VLOOKUP($D192,'STOCK IDEAL'!$B$2:$E$1080,4,FALSE)+VLOOKUP($E192,'REGLE PRIORITE'!$K$3:$L$14,2,FALSE)),VLOOKUP($D192,'STOCK IDEAL'!$B$2:$E$1080,4,FALSE),VLOOKUP($D192,'STOCK IDEAL'!$B$2:$E$1080,4,FALSE)+VLOOKUP($E192,'REGLE PRIORITE'!$K$3:$L$14,2,FALSE)),IF(C192="Bijoux l’atelier",IF(ISERROR(VLOOKUP(D192,'STOCK IDEAL'!$B$2:$E$1108,4,FALSE)+VLOOKUP(E192,'REGLE PRIORITE'!$N$3:$O$18,2,FALSE)),VLOOKUP(D192,'STOCK IDEAL'!$B$2:$E$1108,4,FALSE),VLOOKUP(D192,'STOCK IDEAL'!$B$2:$E$1108,4,FALSE)+VLOOKUP(E192,'REGLE PRIORITE'!$N$3:$O$18,2,FALSE)),IF($C192="Bijoux argent/plaqué or",IF(ISERROR(VLOOKUP(D192,'STOCK IDEAL'!$B$2:$E$1108,4,FALSE)+VLOOKUP($E192,'REGLE PRIORITE'!$Q$3:$R$28,2,FALSE)),VLOOKUP(D192,'STOCK IDEAL'!$B$2:$E$1108,4,FALSE),VLOOKUP(D192,'STOCK IDEAL'!$B$2:$E$1108,4,FALSE)+VLOOKUP($E192,'REGLE PRIORITE'!$Q$3:$R$28,2,FALSE)),VLOOKUP(D192,'STOCK IDEAL'!$B$2:$E$1108,4,FALSE)))) -> 3 | L192: =IF(F192>G192,"OK") -> FALSE | M192: =HLOOKUP('STOCK BRUT'!$C192,'REGLE PRIORITE'!$B$4:$G$7,2,FALSE) -> 2 | N192: =HLOOKUP('STOCK BRUT'!$C192,'REGLE PRIORITE'!$B$4:$G$7,3,FALSE) -> 1 | O192: =HLOOKUP('STOCK BRUT'!$C192,'REGLE PRIORITE'!$B$4:$G$7,4,FALSE) -> 3 | P192: =F192-G192 -> -1 | Q192: =H192-I192 -> 0 | R192: =J192-K192 -> -3 | S192: =P192+Q192+R192 -> -4
A193: 191 | B193: C8192 | C193: Oozoo | D193: Montre Oozoo C8192 | F193: 0 | G193: =IF($C193="porcelaine",IF(ISERROR(VLOOKUP($D193,'STOCK IDEAL'!$B$2:$C$1080,2,FALSE)+VLOOKUP($E193,'REGLE PRIORITE'!$K$3:$L$14,2,FALSE)),VLOOKUP($D193,'STOCK IDEAL'!$B$2:$C$1080,2,FALSE),VLOOKUP($D193,'STOCK IDEAL'!$B$2:$C$1080,2,FALSE)+VLOOKUP($E193,'REGLE PRIORITE'!$K$3:$L$14,2,FALSE)),IF(C193="Bijoux l’atelier",IF(ISERROR(VLOOKUP(D193,'STOCK IDEAL'!$B$2:$C$1108,2,FALSE)+VLOOKUP(E193,'REGLE PRIORITE'!$N$3:$O$18,2,FALSE)),VLOOKUP(D193,'STOCK IDEAL'!$B$2:$C$1108,2,FALSE),VLOOKUP(D193,'STOCK IDEAL'!$B$2:$C$1108,2,FALSE)+VLOOKUP(E193,'REGLE PRIORITE'!$N$3:$O$18,2,FALSE)),IF($C193="Bijoux argent/plaqué or",IF(ISERROR(VLOOKUP(D193,'STOCK IDEAL'!$B$2:$C$1108,2,FALSE)+VLOOKUP($E193,'REGLE PRIORITE'!$Q$3:$R$28,2,FALSE)),VLOOKUP(D193,'STOCK IDEAL'!$B$2:$C$1108,2,FALSE),VLOOKUP(D193,'STOCK IDEAL'!$B$2:$C$1108,2,FALSE)+VLOOKUP($E193,'REGLE PRIORITE'!$Q$3:$R$28,2,FALSE)),VLOOKUP(D193,'STOCK IDEAL'!$B$2:$C$1108,2,FALSE)))) -> 1 | H193: 0 | I193: =IF($C193="porcelaine",IF(ISERROR(VLOOKUP($D193,'STOCK IDEAL'!$B$2:$E$1080,3,FALSE)+VLOOKUP($E193,'REGLE PRIORITE'!$K$3:$L$14,2,FALSE)),VLOOKUP($D193,'STOCK IDEAL'!$B$2:$E$1080,3,FALSE),VLOOKUP($D193,'STOCK IDEAL'!$B$2:$E$1080,3,FALSE)+VLOOKUP($E193,'REGLE PRIORITE'!$K$3:$L$14,2,FALSE)),IF(C193="Bijoux l’atelier",IF(ISERROR(VLOOKUP(D193,'STOCK IDEAL'!$B$2:$E$1108,3,FALSE)+VLOOKUP(E193,'REGLE PRIORITE'!$N$3:$O$18,2,FALSE)),VLOOKUP(D193,'STOCK IDEAL'!$B$2:$E$1108,3,FALSE),VLOOKUP(D193,'STOCK IDEAL'!$B$2:$E$1108,3,FALSE)+VLOOKUP(E193,'REGLE PRIORITE'!$N$3:$O$18,2,FALSE)),IF($C193="Bijoux argent/plaqué or",IF(ISERROR(VLOOKUP(D193,'STOCK IDEAL'!$B$2:$E$1108,3,FALSE)+VLOOKUP($E193,'REGLE PRIORITE'!$Q$3:$R$28,2,FALSE)),VLOOKUP(D193,'STOCK IDEAL'!$B$2:$E$1108,3,FALSE),VLOOKUP(D193,'STOCK IDEAL'!$B$2:$E$1108,3,FALSE)+VLOOKUP($E193,'REGLE PRIORITE'!$Q$3:$R$28,2,FALSE)),VLOOKUP(D193,'STOCK IDEAL'!$B$2:$E$1108,3,FALSE)))) -> 1 | J193: 0 | K193: =IF($C193="porcelaine",IF(ISERROR(VLOOKUP($D193,'STOCK IDEAL'!$B$2:$E$1080,4,FALSE)+VLOOKUP($E193,'REGLE PRIORITE'!$K$3:$L$14,2,FALSE)),VLOOKUP($D193,'STOCK IDEAL'!$B$2:$E$1080,4,FALSE),VLOOKUP($D193,'STOCK IDEAL'!$B$2:$E$1080,4,FALSE)+VLOOKUP($E193,'REGLE PRIORITE'!$K$3:$L$14,2,FALSE)),IF(C193="Bijoux l’atelier",IF(ISERROR(VLOOKUP(D193,'STOCK IDEAL'!$B$2:$E$1108,4,FALSE)+VLOOKUP(E193,'REGLE PRIORITE'!$N$3:$O$18,2,FALSE)),VLOOKUP(D193,'STOCK IDEAL'!$B$2:$E$1108,4,FALSE),VLOOKUP(D193,'STOCK IDEAL'!$B$2:$E$1108,4,FALSE)+VLOOKUP(E193,'REGLE PRIORITE'!$N$3:$O$18,2,FALSE)),IF($C193="Bijoux argent/plaqué or",IF(ISERROR(VLOOKUP(D193,'STOCK IDEAL'!$B$2:$E$1108,4,FALSE)+VLOOKUP($E193,'REGLE PRIORITE'!$Q$3:$R$28,2,FALSE)),VLOOKUP(D193,'STOCK IDEAL'!$B$2:$E$1108,4,FALSE),VLOOKUP(D193,'STOCK IDEAL'!$B$2:$E$1108,4,FALSE)+VLOOKUP($E193,'REGLE PRIORITE'!$Q$3:$R$28,2,FALSE)),VLOOKUP(D193,'STOCK IDEAL'!$B$2:$E$1108,4,FALSE)))) -> 3 | L193: =IF(F193>G193,"OK") -> FALSE | M193: =HLOOKUP('STOCK BRUT'!$C193,'REGLE PRIORITE'!$B$4:$G$7,2,FALSE) -> 2 | N193: =HLOOKUP('STOCK BRUT'!$C193,'REGLE PRIORITE'!$B$4:$G$7,3,FALSE) -> 1 | O193: =HLOOKUP('STOCK BRUT'!$C193,'REGLE PRIORITE'!$B$4:$G$7,4,FALSE) -> 3 | P193: =F193-G193 -> -1 | Q193: =H193-I193 -> -1 | R193: =J193-K193 -> -3 | S193: =P193+Q193+R193 -> -5
A194: 192 | B194: C8596 | C194: Oozoo | D194: Montre Oozoo C8596 | F194: 0 | G194: =IF($C194="porcelaine",IF(ISERROR(VLOOKUP($D194,'STOCK IDEAL'!$B$2:$C$1080,2,FALSE)+VLOOKUP($E194,'REGLE PRIORITE'!$K$3:$L$14,2,FALSE)),VLOOKUP($D194,'STOCK IDEAL'!$B$2:$C$1080,2,FALSE),VLOOKUP($D194,'STOCK IDEAL'!$B$2:$C$1080,2,FALSE)+VLOOKUP($E194,'REGLE PRIORITE'!$K$3:$L$14,2,FALSE)),IF(C194="Bijoux l’atelier",IF(ISERROR(VLOOKUP(D194,'STOCK IDEAL'!$B$2:$C$1108,2,FALSE)+VLOOKUP(E194,'REGLE PRIORITE'!$N$3:$O$18,2,FALSE)),VLOOKUP(D194,'STOCK IDEAL'!$B$2:$C$1108,2,FALSE),VLOOKUP(D194,'STOCK IDEAL'!$B$2:$C$1108,2,FALSE)+VLOOKUP(E194,'REGLE PRIORITE'!$N$3:$O$18,2,FALSE)),IF($C194="Bijoux argent/plaqué or",IF(ISERROR(VLOOKUP(D194,'STOCK IDEAL'!$B$2:$C$1108,2,FALSE)+VLOOKUP($E194,'REGLE PRIORITE'!$Q$3:$R$28,2,FALSE)),VLOOKUP(D194,'STOCK IDEAL'!$B$2:$C$1108,2,FALSE),VLOOKUP(D194,'STOCK IDEAL'!$B$2:$C$1108,2,FALSE)+VLOOKUP($E194,'REGLE PRIORITE'!$Q$3:$R$28,2,FALSE)),VLOOKUP(D194,'STOCK IDEAL'!$B$2:$C$1108,2,FALSE)))) -> 1 | H194: 0 | I194: =IF($C194="porcelaine",IF(ISERROR(VLOOKUP($D194,'STOCK IDEAL'!$B$2:$E$1080,3,FALSE)+VLOOKUP($E194,'REGLE PRIORITE'!$K$3:$L$14,2,FALSE)),VLOOKUP($D194,'STOCK IDEAL'!$B$2:$E$1080,3,FALSE),VLOOKUP($D194,'STOCK IDEAL'!$B$2:$E$1080,3,FALSE)+VLOOKUP($E194,'REGLE PRIORITE'!$K$3:$L$14,2,FALSE)),IF(C194="Bijoux l’atelier",IF(ISERROR(VLOOKUP(D194,'STOCK IDEAL'!$B$2:$E$1108,3,FALSE)+VLOOKUP(E194,'REGLE PRIORITE'!$N$3:$O$18,2,FALSE)),VLOOKUP(D194,'STOCK IDEAL'!$B$2:$E$1108,3,FALSE),VLOOKUP(D194,'STOCK IDEAL'!$B$2:$E$1108,3,FALSE)+VLOOKUP(E194,'REGLE PRIORITE'!$N$3:$O$18,2,FALSE)),IF($C194="Bijoux argent/plaqué or",IF(ISERROR(VLOOKUP(D194,'STOCK IDEAL'!$B$2:$E$1108,3,FALSE)+VLOOKUP($E194,'REGLE PRIORITE'!$Q$3:$R$28,2,FALSE)),VLOOKUP(D194,'STOCK IDEAL'!$B$2:$E$1108,3,FALSE),VLOOKUP(D194,'STOCK IDEAL'!$B$2:$E$1108,3,FALSE)+VLOOKUP($E194,'REGLE PRIORITE'!$Q$3:$R$28,2,FALSE)),VLOOKUP(D194,'STOCK IDEAL'!$B$2:$E$1108,3,FALSE)))) -> 1 | J194: 0 | K194: =IF($C194="porcelaine",IF(ISERROR(VLOOKUP($D194,'STOCK IDEAL'!$B$2:$E$1080,4,FALSE)+VLOOKUP($E194,'REGLE PRIORITE'!$K$3:$L$14,2,FALSE)),VLOOKUP($D194,'STOCK IDEAL'!$B$2:$E$1080,4,FALSE),VLOOKUP($D194,'STOCK IDEAL'!$B$2:$E$1080,4,FALSE)+VLOOKUP($E194,'REGLE PRIORITE'!$K$3:$L$14,2,FALSE)),IF(C194="Bijoux l’atelier",IF(ISERROR(VLOOKUP(D194,'STOCK IDEAL'!$B$2:$E$1108,4,FALSE)+VLOOKUP(E194,'REGLE PRIORITE'!$N$3:$O$18,2,FALSE)),VLOOKUP(D194,'STOCK IDEAL'!$B$2:$E$1108,4,FALSE),VLOOKUP(D194,'STOCK IDEAL'!$B$2:$E$1108,4,FALSE)+VLOOKUP(E194,'REGLE PRIORITE'!$N$3:$O$18,2,FALSE)),IF($C194="Bijoux argent/plaqué or",IF(ISERROR(VLOOKUP(D194,'STOCK IDEAL'!$B$2:$E$1108,4,FALSE)+VLOOKUP($E194,'REGLE PRIORITE'!$Q$3:$R$28,2,FALSE)),VLOOKUP(D194,'STOCK IDEAL'!$B$2:$E$1108,4,FALSE),VLOOKUP(D194,'STOCK IDEAL'!$B$2:$E$1108,4,FALSE)+VLOOKUP($E194,'REGLE PRIORITE'!$Q$3:$R$28,2,FALSE)),VLOOKUP(D194,'STOCK IDEAL'!$B$2:$E$1108,4,FALSE)))) -> 3 | L194: =IF(F194>G194,"OK") -> FALSE | M194: =HLOOKUP('STOCK BRUT'!$C194,'REGLE PRIORITE'!$B$4:$G$7,2,FALSE) -> 2 | N194: =HLOOKUP('STOCK BRUT'!$C194,'REGLE PRIORITE'!$B$4:$G$7,3,FALSE) -> 1 | O194: =HLOOKUP('STOCK BRUT'!$C194,'REGLE PRIORITE'!$B$4:$G$7,4,FALSE) -> 3 | P194: =F194-G194 -> -1 | Q194: =H194-I194 -> -1 | R194: =J194-K194 -> -3 | S194: =P194+Q194+R194 -> -5
A195: 193 | B195: C8157 | C195: Oozoo | D195: Montre Oozoo C8157 | F195: 0 | G195: =IF($C195="porcelaine",IF(ISERROR(VLOOKUP($D195,'STOCK IDEAL'!$B$2:$C$1080,2,FALSE)+VLOOKUP($E195,'REGLE PRIORITE'!$K$3:$L$14,2,FALSE)),VLOOKUP($D195,'STOCK IDEAL'!$B$2:$C$1080,2,FALSE),VLOOKUP($D195,'STOCK IDEAL'!$B$2:$C$1080,2,FALSE)+VLOOKUP($E195,'REGLE PRIORITE'!$K$3:$L$14,2,FALSE)),IF(C195="Bijoux l’atelier",IF(ISERROR(VLOOKUP(D195,'STOCK IDEAL'!$B$2:$C$1108,2,FALSE)+VLOOKUP(E195,'REGLE PRIORITE'!$N$3:$O$18,2,FALSE)),VLOOKUP(D195,'STOCK IDEAL'!$B$2:$C$1108,2,FALSE),VLOOKUP(D195,'STOCK IDEAL'!$B$2:$C$1108,2,FALSE)+VLOOKUP(E195,'REGLE PRIORITE'!$N$3:$O$18,2,FALSE)),IF($C195="Bijoux argent/plaqué or",IF(ISERROR(VLOOKUP(D195,'STOCK IDEAL'!$B$2:$C$1108,2,FALSE)+VLOOKUP($E195,'REGLE PRIORITE'!$Q$3:$R$28,2,FALSE)),VLOOKUP(D195,'STOCK IDEAL'!$B$2:$C$1108,2,FALSE),VLOOKUP(D195,'STOCK IDEAL'!$B$2:$C$1108,2,FALSE)+VLOOKUP($E195,'REGLE PRIORITE'!$Q$3:$R$28,2,FALSE)),VLOOKUP(D195,'STOCK IDEAL'!$B$2:$C$1108,2,FALSE)))) -> 1 | H195: 0 | I195: =IF($C195="porcelaine",IF(ISERROR(VLOOKUP($D195,'STOCK IDEAL'!$B$2:$E$1080,3,FALSE)+VLOOKUP($E195,'REGLE PRIORITE'!$K$3:$L$14,2,FALSE)),VLOOKUP($D195,'STOCK IDEAL'!$B$2:$E$1080,3,FALSE),VLOOKUP($D195,'STOCK IDEAL'!$B$2:$E$1080,3,FALSE)+VLOOKUP($E195,'REGLE PRIORITE'!$K$3:$L$14,2,FALSE)),IF(C195="Bijoux l’atelier",IF(ISERROR(VLOOKUP(D195,'STOCK IDEAL'!$B$2:$E$1108,3,FALSE)+VLOOKUP(E195,'REGLE PRIORITE'!$N$3:$O$18,2,FALSE)),VLOOKUP(D195,'STOCK IDEAL'!$B$2:$E$1108,3,FALSE),VLOOKUP(D195,'STOCK IDEAL'!$B$2:$E$1108,3,FALSE)+VLOOKUP(E195,'REGLE PRIORITE'!$N$3:$O$18,2,FALSE)),IF($C195="Bijoux argent/plaqué or",IF(ISERROR(VLOOKUP(D195,'STOCK IDEAL'!$B$2:$E$1108,3,FALSE)+VLOOKUP($E195,'REGLE PRIORITE'!$Q$3:$R$28,2,FALSE)),VLOOKUP(D195,'STOCK IDEAL'!$B$2:$E$1108,3,FALSE),VLOOKUP(D195,'STOCK IDEAL'!$B$2:$E$1108,3,FALSE)+VLOOKUP($E195,'REGLE PRIORITE'!$Q$3:$R$28,2,FALSE)),VLOOKUP(D195,'STOCK IDEAL'!$B$2:$E$1108,3,FALSE)))) -> 1 | J195: 0 | K195: =IF($C195="porcelaine",IF(ISERROR(VLOOKUP($D195,'STOCK IDEAL'!$B$2:$E$1080,4,FALSE)+VLOOKUP($E195,'REGLE PRIORITE'!$K$3:$L$14,2,FALSE)),VLOOKUP($D195,'STOCK IDEAL'!$B$2:$E$1080,4,FALSE),VLOOKUP($D195,'STOCK IDEAL'!$B$2:$E$1080,4,FALSE)+VLOOKUP($E195,'REGLE PRIORITE'!$K$3:$L$14,2,FALSE)),IF(C195="Bijoux l’atelier",IF(ISERROR(VLOOKUP(D195,'STOCK IDEAL'!$B$2:$E$1108,4,FALSE)+VLOOKUP(E195,'REGLE PRIORITE'!$N$3:$O$18,2,FALSE)),VLOOKUP(D195,'STOCK IDEAL'!$B$2:$E$1108,4,FALSE),VLOOKUP(D195,'STOCK IDEAL'!$B$2:$E$1108,4,FALSE)+VLOOKUP(E195,'REGLE PRIORITE'!$N$3:$O$18,2,FALSE)),IF($C195="Bijoux argent/plaqué or",IF(ISERROR(VLOOKUP(D195,'STOCK IDEAL'!$B$2:$E$1108,4,FALSE)+VLOOKUP($E195,'REGLE PRIORITE'!$Q$3:$R$28,2,FALSE)),VLOOKUP(D195,'STOCK IDEAL'!$B$2:$E$1108,4,FALSE),VLOOKUP(D195,'STOCK IDEAL'!$B$2:$E$1108,4,FALSE)+VLOOKUP($E195,'REGLE PRIORITE'!$Q$3:$R$28,2,FALSE)),VLOOKUP(D195,'STOCK IDEAL'!$B$2:$E$1108,4,FALSE)))) -> 3 | L195: =IF(F195>G195,"OK") -> FALSE | M195: =HLOOKUP('STOCK BRUT'!$C195,'REGLE PRIORITE'!$B$4:$G$7,2,FALSE) -> 2 | N195: =HLOOKUP('STOCK BRUT'!$C195,'REGLE PRIORITE'!$B$4:$G$7,3,FALSE) -> 1 | O195: =HLOOKUP('STOCK BRUT'!$C195,'REGLE PRIORITE'!$B$4:$G$7,4,FALSE) -> 3 | P195: =F195-G195 -> -1 | Q195: =H195-I195 -> -1 | R195: =J195-K195 -> -3 | S195: =P195+Q195+R195 -> -5
A196: 194 | B196: C8169 | C196: Oozoo | D196: Montre Oozoo C8169 | F196: 0 | G196: =IF($C196="porcelaine",IF(ISERROR(VLOOKUP($D196,'STOCK IDEAL'!$B$2:$C$1080,2,FALSE)+VLOOKUP($E196,'REGLE PRIORITE'!$K$3:$L$14,2,FALSE)),VLOOKUP($D196,'STOCK IDEAL'!$B$2:$C$1080,2,FALSE),VLOOKUP($D196,'STOCK IDEAL'!$B$2:$C$1080,2,FALSE)+VLOOKUP($E196,'REGLE PRIORITE'!$K$3:$L$14,2,FALSE)),IF(C196="Bijoux l’atelier",IF(ISERROR(VLOOKUP(D196,'STOCK IDEAL'!$B$2:$C$1108,2,FALSE)+VLOOKUP(E196,'REGLE PRIORITE'!$N$3:$O$18,2,FALSE)),VLOOKUP(D196,'STOCK IDEAL'!$B$2:$C$1108,2,FALSE),VLOOKUP(D196,'STOCK IDEAL'!$B$2:$C$1108,2,FALSE)+VLOOKUP(E196,'REGLE PRIORITE'!$N$3:$O$18,2,FALSE)),IF($C196="Bijoux argent/plaqué or",IF(ISERROR(VLOOKUP(D196,'STOCK IDEAL'!$B$2:$C$1108,2,FALSE)+VLOOKUP($E196,'REGLE PRIORITE'!$Q$3:$R$28,2,FALSE)),VLOOKUP(D196,'STOCK IDEAL'!$B$2:$C$1108,2,FALSE),VLOOKUP(D196,'STOCK IDEAL'!$B$2:$C$1108,2,FALSE)+VLOOKUP($E196,'REGLE PRIORITE'!$Q$3:$R$28,2,FALSE)),VLOOKUP(D196,'STOCK IDEAL'!$B$2:$C$1108,2,FALSE)))) -> 1 | H196: 0 | I196: =IF($C196="porcelaine",IF(ISERROR(VLOOKUP($D196,'STOCK IDEAL'!$B$2:$E$1080,3,FALSE)+VLOOKUP($E196,'REGLE PRIORITE'!$K$3:$L$14,2,FALSE)),VLOOKUP($D196,'STOCK IDEAL'!$B$2:$E$1080,3,FALSE),VLOOKUP($D196,'STOCK IDEAL'!$B$2:$E$1080,3,FALSE)+VLOOKUP($E196,'REGLE PRIORITE'!$K$3:$L$14,2,FALSE)),IF(C196="Bijoux l’atelier",IF(ISERROR(VLOOKUP(D196,'STOCK IDEAL'!$B$2:$E$1108,3,FALSE)+VLOOKUP(E196,'REGLE PRIORITE'!$N$3:$O$18,2,FALSE)),VLOOKUP(D196,'STOCK IDEAL'!$B$2:$E$1108,3,FALSE),VLOOKUP(D196,'STOCK IDEAL'!$B$2:$E$1108,3,FALSE)+VLOOKUP(E196,'REGLE PRIORITE'!$N$3:$O$18,2,FALSE)),IF($C196="Bijoux argent/plaqué or",IF(ISERROR(VLOOKUP(D196,'STOCK IDEAL'!$B$2:$E$1108,3,FALSE)+VLOOKUP($E196,'REGLE PRIORITE'!$Q$3:$R$28,2,FALSE)),VLOOKUP(D196,'STOCK IDEAL'!$B$2:$E$1108,3,FALSE),VLOOKUP(D196,'STOCK IDEAL'!$B$2:$E$1108,3,FALSE)+VLOOKUP($E196,'REGLE PRIORITE'!$Q$3:$R$28,2,FALSE)),VLOOKUP(D196,'STOCK IDEAL'!$B$2:$E$1108,3,FALSE)))) -> 1 | J196: 0 | K196: =IF($C196="porcelaine",IF(ISERROR(VLOOKUP($D196,'STOCK IDEAL'!$B$2:$E$1080,4,FALSE)+VLOOKUP($E196,'REGLE PRIORITE'!$K$3:$L$14,2,FALSE)),VLOOKUP($D196,'STOCK IDEAL'!$B$2:$E$1080,4,FALSE),VLOOKUP($D196,'STOCK IDEAL'!$B$2:$E$1080,4,FALSE)+VLOOKUP($E196,'REGLE PRIORITE'!$K$3:$L$14,2,FALSE)),IF(C196="Bijoux l’atelier",IF(ISERROR(VLOOKUP(D196,'STOCK IDEAL'!$B$2:$E$1108,4,FALSE)+VLOOKUP(E196,'REGLE PRIORITE'!$N$3:$O$18,2,FALSE)),VLOOKUP(D196,'STOCK IDEAL'!$B$2:$E$1108,4,FALSE),VLOOKUP(D196,'STOCK IDEAL'!$B$2:$E$1108,4,FALSE)+VLOOKUP(E196,'REGLE PRIORITE'!$N$3:$O$18,2,FALSE)),IF($C196="Bijoux argent/plaqué or",IF(ISERROR(VLOOKUP(D196,'STOCK IDEAL'!$B$2:$E$1108,4,FALSE)+VLOOKUP($E196,'REGLE PRIORITE'!$Q$3:$R$28,2,FALSE)),VLOOKUP(D196,'STOCK IDEAL'!$B$2:$E$1108,4,FALSE),VLOOKUP(D196,'STOCK IDEAL'!$B$2:$E$1108,4,FALSE)+VLOOKUP($E196,'REGLE PRIORITE'!$Q$3:$R$28,2,FALSE)),VLOOKUP(D196,'STOCK IDEAL'!$B$2:$E$1108,4,FALSE)))) -> 3 | L196: =IF(F196>G196,"OK") -> FALSE | M196: =HLOOKUP('STOCK BRUT'!$C196,'REGLE PRIORITE'!$B$4:$G$7,2,FALSE) -> 2 | N196: =HLOOKUP('STOCK BRUT'!$C196,'REGLE PRIORITE'!$B$4:$G$7,3,FALSE) -> 1 | O196: =HLOOKUP('STOCK BRUT'!$C196,'REGLE PRIORITE'!$B$4:$G$7,4,FALSE) -> 3 | P196: =F196-G196 -> -1 | Q196: =H196-I196 -> -1 | R196: =J196-K196 -> -3 | S196: =P196+Q196+R196 -> -5
A197: 195 | B197: C8160 | C197: Oozoo | D197: Montre Oozoo C8160 | F197: 0 | G197: =IF($C197="porcelaine",IF(ISERROR(VLOOKUP($D197,'STOCK IDEAL'!$B$2:$C$1080,2,FALSE)+VLOOKUP($E197,'REGLE PRIORITE'!$K$3:$L$14,2,FALSE)),VLOOKUP($D197,'STOCK IDEAL'!$B$2:$C$1080,2,FALSE),VLOOKUP($D197,'STOCK IDEAL'!$B$2:$C$1080,2,FALSE)+VLOOKUP($E197,'REGLE PRIORITE'!$K$3:$L$14,2,FALSE)),IF(C197="Bijoux l’atelier",IF(ISERROR(VLOOKUP(D197,'STOCK IDEAL'!$B$2:$C$1108,2,FALSE)+VLOOKUP(E197,'REGLE PRIORITE'!$N$3:$O$18,2,FALSE)),VLOOKUP(D197,'STOCK IDEAL'!$B$2:$C$1108,2,FALSE),VLOOKUP(D197,'STOCK IDEAL'!$B$2:$C$1108,2,FALSE)+VLOOKUP(E197,'REGLE PRIORITE'!$N$3:$O$18,2,FALSE)),IF($C197="Bijoux argent/plaqué or",IF(ISERROR(VLOOKUP(D197,'STOCK IDEAL'!$B$2:$C$1108,2,FALSE)+VLOOKUP($E197,'REGLE PRIORITE'!$Q$3:$R$28,2,FALSE)),VLOOKUP(D197,'STOCK IDEAL'!$B$2:$C$1108,2,FALSE),VLOOKUP(D197,'STOCK IDEAL'!$B$2:$C$1108,2,FALSE)+VLOOKUP($E197,'REGLE PRIORITE'!$Q$3:$R$28,2,FALSE)),VLOOKUP(D197,'STOCK IDEAL'!$B$2:$C$1108,2,FALSE)))) -> 1 | H197: 1 | I197: =IF($C197="porcelaine",IF(ISERROR(VLOOKUP($D197,'STOCK IDEAL'!$B$2:$E$1080,3,FALSE)+VLOOKUP($E197,'REGLE PRIORITE'!$K$3:$L$14,2,FALSE)),VLOOKUP($D197,'STOCK IDEAL'!$B$2:$E$1080,3,FALSE),VLOOKUP($D197,'STOCK IDEAL'!$B$2:$E$1080,3,FALSE)+VLOOKUP($E197,'REGLE PRIORITE'!$K$3:$L$14,2,FALSE)),IF(C197="Bijoux l’atelier",IF(ISERROR(VLOOKUP(D197,'STOCK IDEAL'!$B$2:$E$1108,3,FALSE)+VLOOKUP(E197,'REGLE PRIORITE'!$N$3:$O$18,2,FALSE)),VLOOKUP(D197,'STOCK IDEAL'!$B$2:$E$1108,3,FALSE),VLOOKUP(D197,'STOCK IDEAL'!$B$2:$E$1108,3,FALSE)+VLOOKUP(E197,'REGLE PRIORITE'!$N$3:$O$18,2,FALSE)),IF($C197="Bijoux argent/plaqué or",IF(ISERROR(VLOOKUP(D197,'STOCK IDEAL'!$B$2:$E$1108,3,FALSE)+VLOOKUP($E197,'REGLE PRIORITE'!$Q$3:$R$28,2,FALSE)),VLOOKUP(D197,'STOCK IDEAL'!$B$2:$E$1108,3,FALSE),VLOOKUP(D197,'STOCK IDEAL'!$B$2:$E$1108,3,FALSE)+VLOOKUP($E197,'REGLE PRIORITE'!$Q$3:$R$28,2,FALSE)),VLOOKUP(D197,'STOCK IDEAL'!$B$2:$E$1108,3,FALSE)))) -> 1 | J197: 0 | K197: =IF($C197="porcelaine",IF(ISERROR(VLOOKUP($D197,'STOCK IDEAL'!$B$2:$E$1080,4,FALSE)+VLOOKUP($E197,'REGLE PRIORITE'!$K$3:$L$14,2,FALSE)),VLOOKUP($D197,'STOCK IDEAL'!$B$2:$E$1080,4,FALSE),VLOOKUP($D197,'STOCK IDEAL'!$B$2:$E$1080,4,FALSE)+VLOOKUP($E197,'REGLE PRIORITE'!$K$3:$L$14,2,FALSE)),IF(C197="Bijoux l’atelier",IF(ISERROR(VLOOKUP(D197,'STOCK IDEAL'!$B$2:$E$1108,4,FALSE)+VLOOKUP(E197,'REGLE PRIORITE'!$N$3:$O$18,2,FALSE)),VLOOKUP(D197,'STOCK IDEAL'!$B$2:$E$1108,4,FALSE),VLOOKUP(D197,'STOCK IDEAL'!$B$2:$E$1108,4,FALSE)+VLOOKUP(E197,'REGLE PRIORITE'!$N$3:$O$18,2,FALSE)),IF($C197="Bijoux argent/plaqué or",IF(ISERROR(VLOOKUP(D197,'STOCK IDEAL'!$B$2:$E$1108,4,FALSE)+VLOOKUP($E197,'REGLE PRIORITE'!$Q$3:$R$28,2,FALSE)),VLOOKUP(D197,'STOCK IDEAL'!$B$2:$E$1108,4,FALSE),VLOOKUP(D197,'STOCK IDEAL'!$B$2:$E$1108,4,FALSE)+VLOOKUP($E197,'REGLE PRIORITE'!$Q$3:$R$28,2,FALSE)),VLOOKUP(D197,'STOCK IDEAL'!$B$2:$E$1108,4,FALSE)))) -> 3 | L197: =IF(F197>G197,"OK") -> FALSE | M197: =HLOOKUP('STOCK BRUT'!$C197,'REGLE PRIORITE'!$B$4:$G$7,2,FALSE) -> 2 | N197: =HLOOKUP('STOCK BRUT'!$C197,'REGLE PRIORITE'!$B$4:$G$7,3,FALSE) -> 1 | O197: =HLOOKUP('STOCK BRUT'!$C197,'REGLE PRIORITE'!$B$4:$G$7,4,FALSE) -> 3 | P197: =F197-G197 -> -1 | Q197: =H197-I197 -> 0 | R197: =J197-K197 -> -3 | S197: =P197+Q197+R197 -> -4
A198: 196 | B198: C8141 | C198: Oozoo | D198: Montre Oozoo C8141 | F198: 0 | G198: =IF($C198="porcelaine",IF(ISERROR(VLOOKUP($D198,'STOCK IDEAL'!$B$2:$C$1080,2,FALSE)+VLOOKUP($E198,'REGLE PRIORITE'!$K$3:$L$14,2,FALSE)),VLOOKUP($D198,'STOCK IDEAL'!$B$2:$C$1080,2,FALSE),VLOOKUP($D198,'STOCK IDEAL'!$B$2:$C$1080,2,FALSE)+VLOOKUP($E198,'REGLE PRIORITE'!$K$3:$L$14,2,FALSE)),IF(C198="Bijoux l’atelier",IF(ISERROR(VLOOKUP(D198,'STOCK IDEAL'!$B$2:$C$1108,2,FALSE)+VLOOKUP(E198,'REGLE PRIORITE'!$N$3:$O$18,2,FALSE)),VLOOKUP(D198,'STOCK IDEAL'!$B$2:$C$1108,2,FALSE),VLOOKUP(D198,'STOCK IDEAL'!$B$2:$C$1108,2,FALSE)+VLOOKUP(E198,'REGLE PRIORITE'!$N$3:$O$18,2,FALSE)),IF($C198="Bijoux argent/plaqué or",IF(ISERROR(VLOOKUP(D198,'STOCK IDEAL'!$B$2:$C$1108,2,FALSE)+VLOOKUP($E198,'REGLE PRIORITE'!$Q$3:$R$28,2,FALSE)),VLOOKUP(D198,'STOCK IDEAL'!$B$2:$C$1108,2,FALSE),VLOOKUP(D198,'STOCK IDEAL'!$B$2:$C$1108,2,FALSE)+VLOOKUP($E198,'REGLE PRIORITE'!$Q$3:$R$28,2,FALSE)),VLOOKUP(D198,'STOCK IDEAL'!$B$2:$C$1108,2,FALSE)))) -> 1 | H198: 0 | I198: =IF($C198="porcelaine",IF(ISERROR(VLOOKUP($D198,'STOCK IDEAL'!$B$2:$E$1080,3,FALSE)+VLOOKUP($E198,'REGLE PRIORITE'!$K$3:$L$14,2,FALSE)),VLOOKUP($D198,'STOCK IDEAL'!$B$2:$E$1080,3,FALSE),VLOOKUP($D198,'STOCK IDEAL'!$B$2:$E$1080,3,FALSE)+VLOOKUP($E198,'REGLE PRIORITE'!$K$3:$L$14,2,FALSE)),IF(C198="Bijoux l’atelier",IF(ISERROR(VLOOKUP(D198,'STOCK IDEAL'!$B$2:$E$1108,3,FALSE)+VLOOKUP(E198,'REGLE PRIORITE'!$N$3:$O$18,2,FALSE)),VLOOKUP(D198,'STOCK IDEAL'!$B$2:$E$1108,3,FALSE),VLOOKUP(D198,'STOCK IDEAL'!$B$2:$E$1108,3,FALSE)+VLOOKUP(E198,'REGLE PRIORITE'!$N$3:$O$18,2,FALSE)),IF($C198="Bijoux argent/plaqué or",IF(ISERROR(VLOOKUP(D198,'STOCK IDEAL'!$B$2:$E$1108,3,FALSE)+VLOOKUP($E198,'REGLE PRIORITE'!$Q$3:$R$28,2,FALSE)),VLOOKUP(D198,'STOCK IDEAL'!$B$2:$E$1108,3,FALSE),VLOOKUP(D198,'STOCK IDEAL'!$B$2:$E$1108,3,FALSE)+VLOOKUP($E198,'REGLE PRIORITE'!$Q$3:$R$28,2,FALSE)),VLOOKUP(D198,'STOCK IDEAL'!$B$2:$E$1108,3,FALSE)))) -> 1 | J198: 0 | K198: =IF($C198="porcelaine",IF(ISERROR(VLOOKUP($D198,'STOCK IDEAL'!$B$2:$E$1080,4,FALSE)+VLOOKUP($E198,'REGLE PRIORITE'!$K$3:$L$14,2,FALSE)),VLOOKUP($D198,'STOCK IDEAL'!$B$2:$E$1080,4,FALSE),VLOOKUP($D198,'STOCK IDEAL'!$B$2:$E$1080,4,FALSE)+VLOOKUP($E198,'REGLE PRIORITE'!$K$3:$L$14,2,FALSE)),IF(C198="Bijoux l’atelier",IF(ISERROR(VLOOKUP(D198,'STOCK IDEAL'!$B$2:$E$1108,4,FALSE)+VLOOKUP(E198,'REGLE PRIORITE'!$N$3:$O$18,2,FALSE)),VLOOKUP(D198,'STOCK IDEAL'!$B$2:$E$1108,4,FALSE),VLOOKUP(D198,'STOCK IDEAL'!$B$2:$E$1108,4,FALSE)+VLOOKUP(E198,'REGLE PRIORITE'!$N$3:$O$18,2,FALSE)),IF($C198="Bijoux argent/plaqué or",IF(ISERROR(VLOOKUP(D198,'STOCK IDEAL'!$B$2:$E$1108,4,FALSE)+VLOOKUP($E198,'REGLE PRIORITE'!$Q$3:$R$28,2,FALSE)),VLOOKUP(D198,'STOCK IDEAL'!$B$2:$E$1108,4,FALSE),VLOOKUP(D198,'STOCK IDEAL'!$B$2:$E$1108,4,FALSE)+VLOOKUP($E198,'REGLE PRIORITE'!$Q$3:$R$28,2,FALSE)),VLOOKUP(D198,'STOCK IDEAL'!$B$2:$E$1108,4,FALSE)))) -> 3 | L198: =IF(F198>G198,"OK") -> FALSE | M198: =HLOOKUP('STOCK BRUT'!$C198,'REGLE PRIORITE'!$B$4:$G$7,2,FALSE) -> 2 | N198: =HLOOKUP('STOCK BRUT'!$C198,'REGLE PRIORITE'!$B$4:$G$7,3,FALSE) -> 1 | O198: =HLOOKUP('STOCK BRUT'!$C198,'REGLE PRIORITE'!$B$4:$G$7,4,FALSE) -> 3 | P198: =F198-G198 -> -1 | Q198: =H198-I198 -> -1 | R198: =J198-K198 -> -3 | S198: =P198+Q198+R198 -> -5
A199: 197 | B199: C8149 | C199: Oozoo | D199: Montre Oozoo C8149 | F199: 0 | G199: =IF($C199="porcelaine",IF(ISERROR(VLOOKUP($D199,'STOCK IDEAL'!$B$2:$C$1080,2,FALSE)+VLOOKUP($E199,'REGLE PRIORITE'!$K$3:$L$14,2,FALSE)),VLOOKUP($D199,'STOCK IDEAL'!$B$2:$C$1080,2,FALSE),VLOOKUP($D199,'STOCK IDEAL'!$B$2:$C$1080,2,FALSE)+VLOOKUP($E199,'REGLE PRIORITE'!$K$3:$L$14,2,FALSE)),IF(C199="Bijoux l’atelier",IF(ISERROR(VLOOKUP(D199,'STOCK IDEAL'!$B$2:$C$1108,2,FALSE)+VLOOKUP(E199,'REGLE PRIORITE'!$N$3:$O$18,2,FALSE)),VLOOKUP(D199,'STOCK IDEAL'!$B$2:$C$1108,2,FALSE),VLOOKUP(D199,'STOCK IDEAL'!$B$2:$C$1108,2,FALSE)+VLOOKUP(E199,'REGLE PRIORITE'!$N$3:$O$18,2,FALSE)),IF($C199="Bijoux argent/plaqué or",IF(ISERROR(VLOOKUP(D199,'STOCK IDEAL'!$B$2:$C$1108,2,FALSE)+VLOOKUP($E199,'REGLE PRIORITE'!$Q$3:$R$28,2,FALSE)),VLOOKUP(D199,'STOCK IDEAL'!$B$2:$C$1108,2,FALSE),VLOOKUP(D199,'STOCK IDEAL'!$B$2:$C$1108,2,FALSE)+VLOOKUP($E199,'REGLE PRIORITE'!$Q$3:$R$28,2,FALSE)),VLOOKUP(D199,'STOCK IDEAL'!$B$2:$C$1108,2,FALSE)))) -> 1 | H199: 0 | I199: =IF($C199="porcelaine",IF(ISERROR(VLOOKUP($D199,'STOCK IDEAL'!$B$2:$E$1080,3,FALSE)+VLOOKUP($E199,'REGLE PRIORITE'!$K$3:$L$14,2,FALSE)),VLOOKUP($D199,'STOCK IDEAL'!$B$2:$E$1080,3,FALSE),VLOOKUP($D199,'STOCK IDEAL'!$B$2:$E$1080,3,FALSE)+VLOOKUP($E199,'REGLE PRIORITE'!$K$3:$L$14,2,FALSE)),IF(C199="Bijoux l’atelier",IF(ISERROR(VLOOKUP(D199,'STOCK IDEAL'!$B$2:$E$1108,3,FALSE)+VLOOKUP(E199,'REGLE PRIORITE'!$N$3:$O$18,2,FALSE)),VLOOKUP(D199,'STOCK IDEAL'!$B$2:$E$1108,3,FALSE),VLOOKUP(D199,'STOCK IDEAL'!$B$2:$E$1108,3,FALSE)+VLOOKUP(E199,'REGLE PRIORITE'!$N$3:$O$18,2,FALSE)),IF($C199="Bijoux argent/plaqué or",IF(ISERROR(VLOOKUP(D199,'STOCK IDEAL'!$B$2:$E$1108,3,FALSE)+VLOOKUP($E199,'REGLE PRIORITE'!$Q$3:$R$28,2,FALSE)),VLOOKUP(D199,'STOCK IDEAL'!$B$2:$E$1108,3,FALSE),VLOOKUP(D199,'STOCK IDEAL'!$B$2:$E$1108,3,FALSE)+VLOOKUP($E199,'REGLE PRIORITE'!$Q$3:$R$28,2,FALSE)),VLOOKUP(D199,'STOCK IDEAL'!$B$2:$E$1108,3,FALSE)))) -> 1 | J199: 0 | K199: =IF($C199="porcelaine",IF(ISERROR(VLOOKUP($D199,'STOCK IDEAL'!$B$2:$E$1080,4,FALSE)+VLOOKUP($E199,'REGLE PRIORITE'!$K$3:$L$14,2,FALSE)),VLOOKUP($D199,'STOCK IDEAL'!$B$2:$E$1080,4,FALSE),VLOOKUP($D199,'STOCK IDEAL'!$B$2:$E$1080,4,FALSE)+VLOOKUP($E199,'REGLE PRIORITE'!$K$3:$L$14,2,FALSE)),IF(C199="Bijoux l’atelier",IF(ISERROR(VLOOKUP(D199,'STOCK IDEAL'!$B$2:$E$1108,4,FALSE)+VLOOKUP(E199,'REGLE PRIORITE'!$N$3:$O$18,2,FALSE)),VLOOKUP(D199,'STOCK IDEAL'!$B$2:$E$1108,4,FALSE),VLOOKUP(D199,'STOCK IDEAL'!$B$2:$E$1108,4,FALSE)+VLOOKUP(E199,'REGLE PRIORITE'!$N$3:$O$18,2,FALSE)),IF($C199="Bijoux argent/plaqué or",IF(ISERROR(VLOOKUP(D199,'STOCK IDEAL'!$B$2:$E$1108,4,FALSE)+VLOOKUP($E199,'REGLE PRIORITE'!$Q$3:$R$28,2,FALSE)),VLOOKUP(D199,'STOCK IDEAL'!$B$2:$E$1108,4,FALSE),VLOOKUP(D199,'STOCK IDEAL'!$B$2:$E$1108,4,FALSE)+VLOOKUP($E199,'REGLE PRIORITE'!$Q$3:$R$28,2,FALSE)),VLOOKUP(D199,'STOCK IDEAL'!$B$2:$E$1108,4,FALSE)))) -> 3 | L199: =IF(F199>G199,"OK") -> FALSE | M199: =HLOOKUP('STOCK BRUT'!$C199,'REGLE PRIORITE'!$B$4:$G$7,2,FALSE) -> 2 | N199: =HLOOKUP('STOCK BRUT'!$C199,'REGLE PRIORITE'!$B$4:$G$7,3,FALSE) -> 1 | O199: =HLOOKUP('STOCK BRUT'!$C199,'REGLE PRIORITE'!$B$4:$G$7,4,FALSE) -> 3 | P199: =F199-G199 -> -1 | Q199: =H199-I199 -> -1 | R199: =J199-K199 -> -3 | S199: =P199+Q199+R199 -> -5
A200: 198 | B200: C8567 | C200: Oozoo | D200: Montre Oozoo C8567 | F200: 0 | G200: =IF($C200="porcelaine",IF(ISERROR(VLOOKUP($D200,'STOCK IDEAL'!$B$2:$C$1080,2,FALSE)+VLOOKUP($E200,'REGLE PRIORITE'!$K$3:$L$14,2,FALSE)),VLOOKUP($D200,'STOCK IDEAL'!$B$2:$C$1080,2,FALSE),VLOOKUP($D200,'STOCK IDEAL'!$B$2:$C$1080,2,FALSE)+VLOOKUP($E200,'REGLE PRIORITE'!$K$3:$L$14,2,FALSE)),IF(C200="Bijoux l’atelier",IF(ISERROR(VLOOKUP(D200,'STOCK IDEAL'!$B$2:$C$1108,2,FALSE)+VLOOKUP(E200,'REGLE PRIORITE'!$N$3:$O$18,2,FALSE)),VLOOKUP(D200,'STOCK IDEAL'!$B$2:$C$1108,2,FALSE),VLOOKUP(D200,'STOCK IDEAL'!$B$2:$C$1108,2,FALSE)+VLOOKUP(E200,'REGLE PRIORITE'!$N$3:$O$18,2,FALSE)),IF($C200="Bijoux argent/plaqué or",IF(ISERROR(VLOOKUP(D200,'STOCK IDEAL'!$B$2:$C$1108,2,FALSE)+VLOOKUP($E200,'REGLE PRIORITE'!$Q$3:$R$28,2,FALSE)),VLOOKUP(D200,'STOCK IDEAL'!$B$2:$C$1108,2,FALSE),VLOOKUP(D200,'STOCK IDEAL'!$B$2:$C$1108,2,FALSE)+VLOOKUP($E200,'REGLE PRIORITE'!$Q$3:$R$28,2,FALSE)),VLOOKUP(D200,'STOCK IDEAL'!$B$2:$C$1108,2,FALSE)))) -> 1 | H200: 0 | I200: =IF($C200="porcelaine",IF(ISERROR(VLOOKUP($D200,'STOCK IDEAL'!$B$2:$E$1080,3,FALSE)+VLOOKUP($E200,'REGLE PRIORITE'!$K$3:$L$14,2,FALSE)),VLOOKUP($D200,'STOCK IDEAL'!$B$2:$E$1080,3,FALSE),VLOOKUP($D200,'STOCK IDEAL'!$B$2:$E$1080,3,FALSE)+VLOOKUP($E200,'REGLE PRIORITE'!$K$3:$L$14,2,FALSE)),IF(C200="Bijoux l’atelier",IF(ISERROR(VLOOKUP(D200,'STOCK IDEAL'!$B$2:$E$1108,3,FALSE)+VLOOKUP(E200,'REGLE PRIORITE'!$N$3:$O$18,2,FALSE)),VLOOKUP(D200,'STOCK IDEAL'!$B$2:$E$1108,3,FALSE),VLOOKUP(D200,'STOCK IDEAL'!$B$2:$E$1108,3,FALSE)+VLOOKUP(E200,'REGLE PRIORITE'!$N$3:$O$18,2,FALSE)),IF($C200="Bijoux argent/plaqué or",IF(ISERROR(VLOOKUP(D200,'STOCK IDEAL'!$B$2:$E$1108,3,FALSE)+VLOOKUP($E200,'REGLE PRIORITE'!$Q$3:$R$28,2,FALSE)),VLOOKUP(D200,'STOCK IDEAL'!$B$2:$E$1108,3,FALSE),VLOOKUP(D200,'STOCK IDEAL'!$B$2:$E$1108,3,FALSE)+VLOOKUP($E200,'REGLE PRIORITE'!$Q$3:$R$28,2,FALSE)),VLOOKUP(D200,'STOCK IDEAL'!$B$2:$E$1108,3,FALSE)))) -> 1 | J200: 0 | K200: =IF($C200="porcelaine",IF(ISERROR(VLOOKUP($D200,'STOCK IDEAL'!$B$2:$E$1080,4,FALSE)+VLOOKUP($E200,'REGLE PRIORITE'!$K$3:$L$14,2,FALSE)),VLOOKUP($D200,'STOCK IDEAL'!$B$2:$E$1080,4,FALSE),VLOOKUP($D200,'STOCK IDEAL'!$B$2:$E$1080,4,FALSE)+VLOOKUP($E200,'REGLE PRIORITE'!$K$3:$L$14,2,FALSE)),IF(C200="Bijoux l’atelier",IF(ISERROR(VLOOKUP(D200,'STOCK IDEAL'!$B$2:$E$1108,4,FALSE)+VLOOKUP(E200,'REGLE PRIORITE'!$N$3:$O$18,2,FALSE)),VLOOKUP(D200,'STOCK IDEAL'!$B$2:$E$1108,4,FALSE),VLOOKUP(D200,'STOCK IDEAL'!$B$2:$E$1108,4,FALSE)+VLOOKUP(E200,'REGLE PRIORITE'!$N$3:$O$18,2,FALSE)),IF($C200="Bijoux argent/plaqué or",IF(ISERROR(VLOOKUP(D200,'STOCK IDEAL'!$B$2:$E$1108,4,FALSE)+VLOOKUP($E200,'REGLE PRIORITE'!$Q$3:$R$28,2,FALSE)),VLOOKUP(D200,'STOCK IDEAL'!$B$2:$E$1108,4,FALSE),VLOOKUP(D200,'STOCK IDEAL'!$B$2:$E$1108,4,FALSE)+VLOOKUP($E200,'REGLE PRIORITE'!$Q$3:$R$28,2,FALSE)),VLOOKUP(D200,'STOCK IDEAL'!$B$2:$E$1108,4,FALSE)))) -> 3 | L200: =IF(F200>G200,"OK") -> FALSE | M200: =HLOOKUP('STOCK BRUT'!$C200,'REGLE PRIORITE'!$B$4:$G$7,2,FALSE) -> 2 | N200: =HLOOKUP('STOCK BRUT'!$C200,'REGLE PRIORITE'!$B$4:$G$7,3,FALSE) -> 1 | O200: =HLOOKUP('STOCK BRUT'!$C200,'REGLE PRIORITE'!$B$4:$G$7,4,FALSE) -> 3 | P200: =F200-G200 -> -1 | Q200: =H200-I200 -> -1 | R200: =J200-K200 -> -3 | S200: =P200+Q200+R200 -> -5
