Workbook
Name Ref_lot: Compost!$A$5:$A$18

Sheet Feuil1
I1: compost | J1: Estimation du volume apres criblage | K1: Estimation de la quantité
I2: 2017 | J2: =SUMPRODUCT((CompostProd[Année]=Feuil1!$I2)*CompostProd[Estimation du volume apres criblage]) -> 240 | K2: =SUMPRODUCT((CompostVente[Année]=Feuil1!$I2)*CompostVente[Estimation de la quantité livrée]) -> 0
I3: 2018 | J3: =SUMPRODUCT((YEAR(CompostProd[[Date de criblage ]])=Feuil1!$I3)*CompostProd[Estimation du volume apres criblage]) -> 175 | K3: =SUMPRODUCT((CompostVente[Année]=Feuil1!$I3)*CompostVente[Estimation de la quantité livrée]) -> 0
I4: 2019 | J4: =SUMPRODUCT((YEAR(CompostProd[[Date de criblage ]])=Feuil1!$I4)*CompostProd[Estimation du volume apres criblage]) -> 0 | K4: =SUMPRODUCT((CompostVente[Année]=Feuil1!$I4)*CompostVente[Estimation de la quantité livrée]) -> 0
I5: 2020 | J5: =SUMPRODUCT((YEAR(CompostProd[[Date de criblage ]])=Feuil1!$I5)*CompostProd[Estimation du volume apres criblage]) -> 0 | K5: =SUMPRODUCT((CompostVente[Année]=Feuil1!$I5)*CompostVente[Estimation de la quantité livrée]) -> 0
I6: 2021 | J6: =SUMPRODUCT((YEAR(CompostProd[[Date de criblage ]])=Feuil1!$I6)*CompostProd[Estimation du volume apres criblage]) -> 0 | K6: =SUMPRODUCT((CompostVente[Année]=Feuil1!$I6)*CompostVente[Estimation de la quantité livrée]) -> 0
I8: mulsh | J8: Estimation du volume apres criblage | K8: Estimation de la quantité
I9: 2017 | J9: =SUMPRODUCT((MulshProd[Année]=Feuil1!$I9)*MulshProd[[Estimation du volume en m3 apres broyage ]]) -> 240 | K9: =SUMPRODUCT((MulshVente[Année]=Feuil1!$I9)*MulshVente[Estimation de la quantité livrée]) -> 10
I10: 2018 | J10: =SUMPRODUCT((MulshProd[Année]=Feuil1!$I10)*MulshProd[[Estimation du volume en m3 apres broyage ]]) -> 175 | K10: =SUMPRODUCT((MulshVente[Année]=Feuil1!$I10)*MulshVente[Estimation de la quantité livrée]) -> 0
I20: terre | J20: Estimation du volume apres criblage | K20: Estimation de la quantité
I21: 2017 | J21: =SUMPRODUCT((TerreProd[Année]=Feuil1!$I21)*TerreProd[Estimation du volume en m3]) -> 240 | K21: =SUMPRODUCT((TerreVente[Année]=Feuil1!$I21)*TerreVente[Estimation de la quantité livrée]) -> 10
I22: 2018 | J22: =SUMPRODUCT((TerreProd[Année]=Feuil1!$I22)*TerreProd[Estimation du volume en m3]) -> 175 | K22: =SUMPRODUCT((TerreVente[Année]=Feuil1!$I22)*TerreVente[Estimation de la quantité livrée]) -> 0

Sheet Compost
B2: Lots de compost
A4: Ref lot | B4: Emplacement | C4: Date de Broyage DV | D4: Date de criblage | E4: Date de l'analyse | F4: Année | G4: Estimation du volume apres criblage | H4: Refus de criblage estimation du volume | I4: Destination du refus de criblage | J4: Disponibilié actuelle en m3 | K4: Commentaires
A5: CCL01 | D5: 42778 | F5: =IF(CompostProd[[#This Row],[Date de criblage ]]="","",YEAR(CompostProd[[#This Row],[Date de criblage ]])) -> 2017 | G5: 100 | J5: =CompostProd[[#This Row],[Estimation du volume apres criblage]]-SUMPRODUCT((CompostVente[Ref lot]=CompostProd[[#This Row],[Ref lot]])*CompostVente[Estimation de la quantité livrée]) -> 100
D6: 42904 | F6: =IF(CompostProd[[#This Row],[Date de criblage ]]="","",YEAR(CompostProd[[#This Row],[Date de criblage ]])) -> 2017 | G6: 60 | J6: =CompostProd[[#This Row],[Estimation du volume apres criblage]]-SUMPRODUCT((CompostVente[Ref lot]=CompostProd[[#This Row],[Ref lot]])*CompostVente[Estimation de la quantité livrée]) -> 35
D7: 42998 | F7: =IF(CompostProd[[#This Row],[Date de criblage ]]="","",YEAR(CompostProd[[#This Row],[Date de criblage ]])) -> 2017 | G7: 80 | J7: =CompostProd[[#This Row],[Estimation du volume apres criblage]]-SUMPRODUCT((CompostVente[Ref lot]=CompostProd[[#This Row],[Ref lot]])*CompostVente[Estimation de la quantité livrée]) -> 55
D8: 43136 | F8: =IF(CompostProd[[#This Row],[Date de criblage ]]="","",YEAR(CompostProd[[#This Row],[Date de criblage ]])) -> 2018 | G8: 85 | J8: =CompostProd[[#This Row],[Estimation du volume apres criblage]]-SUMPRODUCT((CompostVente[Ref lot]=CompostProd[[#This Row],[Ref lot]])*CompostVente[Estimation de la quantité livrée]) -> 60
D9: 43230 | F9: =IF(CompostProd[[#This Row],[Date de criblage ]]="","",YEAR(CompostProd[[#This Row],[Date de criblage ]])) -> 2018 | G9: 90 | J9: =CompostProd[[#This Row],[Estimation du volume apres criblage]]-SUMPRODUCT((CompostVente[Ref lot]=CompostProd[[#This Row],[Ref lot]])*CompostVente[Estimation de la quantité livrée]) -> 65
D10: 42584 | F10: =IF(CompostProd[[#This Row],[Date de criblage ]]="","",YEAR(CompostProd[[#This Row],[Date de criblage ]])) -> 2016 | G10: 200 | J10: =CompostProd[[#This Row],[Estimation du volume apres criblage]]-SUMPRODUCT((CompostVente[Ref lot]=CompostProd[[#This Row],[Ref lot]])*CompostVente[Estimation de la quantité livrée]) -> 175
F11: =IF(CompostProd[[#This Row],[Date de criblage ]]="","",YEAR(CompostProd[[#This Row],[Date de criblage ]])) | J11: =CompostProd[[#This Row],[Estimation du volume apres criblage]]-SUMPRODUCT((CompostVente[Ref lot]=CompostProd[[#This Row],[Ref lot]])*CompostVente[Estimation de la quantité livrée]) -> -25
F12: =IF(CompostProd[[#This Row],[Date de criblage ]]="","",YEAR(CompostProd[[#This Row],[Date de criblage ]])) | J12: =CompostProd[[#This Row],[Estimation du volume apres criblage]]-SUMPRODUCT((CompostVente[Ref lot]=CompostProd[[#This Row],[Ref lot]])*CompostVente[Estimation de la quantité livrée]) -> -25
F13: =IF(CompostProd[[#This Row],[Date de criblage ]]="","",YEAR(CompostProd[[#This Row],[Date de criblage ]])) | J13: =CompostProd[[#This Row],[Estimation du volume apres criblage]]-SUMPRODUCT((CompostVente[Ref lot]=CompostProd[[#This Row],[Ref lot]])*CompostVente[Estimation de la quantité livrée]) -> -25
F14: =IF(CompostProd[[#This Row],[Date de criblage ]]="","",YEAR(CompostProd[[#This Row],[Date de criblage ]])) | J14: =CompostProd[[#This Row],[Estimation du volume apres criblage]]-SUMPRODUCT((CompostVente[Ref lot]=CompostProd[[#This Row],[Ref lot]])*CompostVente[Estimation de la quantité livrée]) -> -25
F15: =IF(CompostProd[[#This Row],[Date de criblage ]]="","",YEAR(CompostProd[[#This Row],[Date de criblage ]])) | J15: =CompostProd[[#This Row],[Estimation du volume apres criblage]]-SUMPRODUCT((CompostVente[Ref lot]=CompostProd[[#This Row],[Ref lot]])*CompostVente[Estimation de la quantité livrée]) -> -25
F16: =IF(CompostProd[[#This Row],[Date de criblage ]]="","",YEAR(CompostProd[[#This Row],[Date de criblage ]])) | J16: =CompostProd[[#This Row],[Estimation du volume apres criblage]]-SUMPRODUCT((CompostVente[Ref lot]=CompostProd[[#This Row],[Ref lot]])*CompostVente[Estimation de la quantité livrée]) -> -25
F17: =IF(CompostProd[[#This Row],[Date de criblage ]]="","",YEAR(CompostProd[[#This Row],[Date de criblage ]])) | J17: =CompostProd[[#This Row],[Estimation du volume apres criblage]]-SUMPRODUCT((CompostVente[Ref lot]=CompostProd[[#This Row],[Ref lot]])*CompostVente[Estimation de la quantité livrée]) -> -25
F18: =IF(CompostProd[[#This Row],[Date de criblage ]]="","",YEAR(CompostProd[[#This Row],[Date de criblage ]])) | J18: =CompostProd[[#This Row],[Estimation du volume apres criblage]]-SUMPRODUCT((CompostVente[Ref lot]=CompostProd[[#This Row],[Ref lot]])*CompostVente[Estimation de la quantité livrée]) -> -25
B20: Suivi de consommation du compost
A22: Ref lot | B22: Date intervention | C22: Année | D22: Estimation de la quantité livrée | E22: Mission | F22: Destinataire | G22: Commentaires
C23: =IF(CompostVente[[#This Row],[Date intervention ]]="","",YEAR(CompostVente[[#This Row],[Date intervention ]])) | D23: 10 | E23: Livraison compost
B24: 42615 | C24: =IF(CompostVente[[#This Row],[Date intervention ]]="","",YEAR(CompostVente[[#This Row],[Date intervention ]])) -> 2016 | D24: 15
C25: =IF(CompostVente[[#This Row],[Date intervention ]]="","",YEAR(CompostVente[[#This Row],[Date intervention ]]))
C26: =IF(CompostVente[[#This Row],[Date intervention ]]="","",YEAR(CompostVente[[#This Row],[Date intervention ]]))
C27: =IF(CompostVente[[#This Row],[Date intervention ]]="","",YEAR(CompostVente[[#This Row],[Date intervention ]]))
C28: =IF(CompostVente[[#This Row],[Date intervention ]]="","",YEAR(CompostVente[[#This Row],[Date intervention ]]))
C29: =IF(CompostVente[[#This Row],[Date intervention ]]="","",YEAR(CompostVente[[#This Row],[Date intervention ]]))
C30: =IF(CompostVente[[#This Row],[Date intervention ]]="","",YEAR(CompostVente[[#This Row],[Date intervention ]]))
C31: =IF(CompostVente[[#This Row],[Date intervention ]]="","",YEAR(CompostVente[[#This Row],[Date intervention ]]))
C32: =IF(CompostVente[[#This Row],[Date intervention ]]="","",YEAR(CompostVente[[#This Row],[Date intervention ]]))
C33: =IF(CompostVente[[#This Row],[Date intervention ]]="","",YEAR(CompostVente[[#This Row],[Date intervention ]]))
C34: =IF(CompostVente[[#This Row],[Date intervention ]]="","",YEAR(CompostVente[[#This Row],[Date intervention ]]))
C35: =IF(CompostVente[[#This Row],[Date intervention ]]="","",YEAR(CompostVente[[#This Row],[Date intervention ]]))
C36: =IF(CompostVente[[#This Row],[Date intervention ]]="","",YEAR(CompostVente[[#This Row],[Date intervention ]]))
... C41: =IF(CompostVente[[#This Row],[Date intervention ]]="","",YEAR(CompostVente[[#This Row],[Date intervention ]]))

Sheet Mulsh
B1: Lots de mulch
A3: Ref lot | B3: Taille du mulch | C3: Emplacement | D3: Date de broyage | E3: Année | F3: Estimation du volume en m3 apres broyage | G3: Disponibilité actuelle du lot en m3 | H3: Commentaires
A4: 1 | C4: CT PTO | D4: 42778 | E4: =IF(MulshProd[[#This Row],[Date de broyage]]="","",YEAR(MulshProd[[#This Row],[Date de broyage]])) -> 2017 | F4: 100 | G4: =MulshProd[[#This Row],[Estimation du volume en m3 apres broyage ]]-SUMPRODUCT((MulshVente[Ref lot]=(MulshProd[[#This Row],[Ref lot]]*MulshVente[Estimation de la quantité livrée]))) -> 100
A5: 2 | C5: Cibeins | D5: 42904 | E5: =IF(MulshProd[[#This Row],[Date de broyage]]="","",YEAR(MulshProd[[#This Row],[Date de broyage]])) -> 2017 | F5: 60 | G5: =MulshProd[[#This Row],[Estimation du volume en m3 apres broyage ]]-SUMPRODUCT((MulshVente[Ref lot]=(MulshProd[[#This Row],[Ref lot]]*MulshVente[Estimation de la quantité livrée]))) -> 60
A6: 3 | C6: Cibeins | D6: 42998 | E6: =IF(MulshProd[[#This Row],[Date de broyage]]="","",YEAR(MulshProd[[#This Row],[Date de broyage]])) -> 2017 | F6: 80 | G6: =MulshProd[[#This Row],[Estimation du volume en m3 apres broyage ]]-SUMPRODUCT((MulshVente[Ref lot]=(MulshProd[[#This Row],[Ref lot]]*MulshVente[Estimation de la quantité livrée]))) -> 80
A7: 4 | C7: Clot laillat | D7: 43136 | E7: =IF(MulshProd[[#This Row],[Date de broyage]]="","",YEAR(MulshProd[[#This Row],[Date de broyage]])) -> 2018 | F7: 85 | G7: =MulshProd[[#This Row],[Estimation du volume en m3 apres broyage ]]-SUMPRODUCT((MulshVente[Ref lot]=(MulshProd[[#This Row],[Ref lot]]*MulshVente[Estimation de la quantité livrée]))) -> 85
A8: 5 | C8: Clot laillat | D8: 43230 | E8: =IF(MulshProd[[#This Row],[Date de broyage]]="","",YEAR(MulshProd[[#This Row],[Date de broyage]])) -> 2018 | F8: 90 | G8: =MulshProd[[#This Row],[Estimation du volume en m3 apres broyage ]]-SUMPRODUCT((MulshVente[Ref lot]=(MulshProd[[#This Row],[Ref lot]]*MulshVente[Estimation de la quantité livrée]))) -> 90
E9: =IF(MulshProd[[#This Row],[Date de broyage]]="","",YEAR(MulshProd[[#This Row],[Date de broyage]])) | G9: =MulshProd[[#This Row],[Estimation du volume en m3 apres broyage ]]-SUMPRODUCT((MulshVente[Ref lot]=(MulshProd[[#This Row],[Ref lot]]*MulshVente[Estimation de la quantité livrée]))) -> 0
E10: =IF(MulshProd[[#This Row],[Date de broyage]]="","",YEAR(MulshProd[[#This Row],[Date de broyage]])) | G10: =MulshProd[[#This Row],[Estimation du volume en m3 apres broyage ]]-SUMPRODUCT((MulshVente[Ref lot]=(MulshProd[[#This Row],[Ref lot]]*MulshVente[Estimation de la quantité livrée]))) -> 0
E11: =IF(MulshProd[[#This Row],[Date de broyage]]="","",YEAR(MulshProd[[#This Row],[Date de broyage]])) | G11: =MulshProd[[#This Row],[Estimation du volume en m3 apres broyage ]]-SUMPRODUCT((MulshVente[Ref lot]=(MulshProd[[#This Row],[Ref lot]]*MulshVente[Estimation de la quantité livrée]))) -> 0
E12: =IF(MulshProd[[#This Row],[Date de broyage]]="","",YEAR(MulshProd[[#This Row],[Date de broyage]])) | G12: =MulshProd[[#This Row],[Estimation du volume en m3 apres broyage ]]-SUMPRODUCT((MulshVente[Ref lot]=(MulshProd[[#This Row],[Ref lot]]*MulshVente[Estimation de la quantité livrée]))) -> 0
E13: =IF(MulshProd[[#This Row],[Date de broyage]]="","",YEAR(MulshProd[[#This Row],[Date de broyage]])) | G13: =MulshProd[[#This Row],[Estimation du volume en m3 apres broyage ]]-SUMPRODUCT((MulshVente[Ref lot]=(MulshProd[[#This Row],[Ref lot]]*MulshVente[Estimation de la quantité livrée]))) -> 0
E14: =IF(MulshProd[[#This Row],[Date de broyage]]="","",YEAR(MulshProd[[#This Row],[Date de broyage]])) | G14: =MulshProd[[#This Row],[Estimation du volume en m3 apres broyage ]]-SUMPRODUCT((MulshVente[Ref lot]=(MulshProd[[#This Row],[Ref lot]]*MulshVente[Estimation de la quantité livrée]))) -> 0
E15: =IF(MulshProd[[#This Row],[Date de broyage]]="","",YEAR(MulshProd[[#This Row],[Date de broyage]])) | G15: =MulshProd[[#This Row],[Estimation du volume en m3 apres broyage ]]-SUMPRODUCT((MulshVente[Ref lot]=(MulshProd[[#This Row],[Ref lot]]*MulshVente[Estimation de la quantité livrée]))) -> 0
E16: =IF(MulshProd[[#This Row],[Date de broyage]]="","",YEAR(MulshProd[[#This Row],[Date de broyage]])) | G16: =MulshProd[[#This Row],[Estimation du volume en m3 apres broyage ]]-SUMPRODUCT((MulshVente[Ref lot]=(MulshProd[[#This Row],[Ref lot]]*MulshVente[Estimation de la quantité livrée]))) -> 0
B18: Suivi de consommation du mulch
A20: Ref lot | B20: Production | C20: Date de livraison | D20: Année | E20: Estimation de la quantité livrée | F20: Mission | G20: Destinataire | H20: Commentaires
A21: 1 | B21: interne | C21: 42959 | D21: =IF(MulshVente[[#This Row],[Date de livraison]]="","",YEAR(MulshVente[[#This Row],[Date de livraison]])) -> 2017 | E21: 10
A22: 1 | D22: =IF(MulshVente[[#This Row],[Date de livraison]]="","",YEAR(MulshVente[[#This Row],[Date de livraison]])) | E22: 15
D23: =IF(MulshVente[[#This Row],[Date de livraison]]="","",YEAR(MulshVente[[#This Row],[Date de livraison]]))
D24: =IF(MulshVente[[#This Row],[Date de livraison]]="","",YEAR(MulshVente[[#This Row],[Date de livraison]]))
D25: =IF(MulshVente[[#This Row],[Date de livraison]]="","",YEAR(MulshVente[[#This Row],[Date de livraison]]))
D26: =IF(MulshVente[[#This Row],[Date de livraison]]="","",YEAR(MulshVente[[#This Row],[Date de livraison]]))
D27: =IF(MulshVente[[#This Row],[Date de livraison]]="","",YEAR(MulshVente[[#This Row],[Date de livraison]]))
D28: =IF(MulshVente[[#This Row],[Date de livraison]]="","",YEAR(MulshVente[[#This Row],[Date de livraison]]))
D29: =IF(MulshVente[[#This Row],[Date de livraison]]="","",YEAR(MulshVente[[#This Row],[Date de livraison]]))
D30: =IF(MulshVente[[#This Row],[Date de livraison]]="","",YEAR(MulshVente[[#This Row],[Date de livraison]]))
D31: =IF(MulshVente[[#This Row],[Date de livraison]]="","",YEAR(MulshVente[[#This Row],[Date de livraison]]))
D32: =IF(MulshVente[[#This Row],[Date de livraison]]="","",YEAR(MulshVente[[#This Row],[Date de livraison]]))
D33: =IF(MulshVente[[#This Row],[Date de livraison]]="","",YEAR(MulshVente[[#This Row],[Date de livraison]]))
D34: =IF(MulshVente[[#This Row],[Date de livraison]]="","",YEAR(MulshVente[[#This Row],[Date de livraison]]))
... D39: =IF(MulshVente[[#This Row],[Date de livraison]]="","",YEAR(MulshVente[[#This Row],[Date de livraison]]))

Sheet Terre
B2: Lots de terre recyclée
A4: Ref lot | B4: Emplacement | C4: Provenance | D4: Date de mise à disposition (criblage ou pas) | E4: Année | F4: Estimation du volume en m3 | G4: Refus de criblage estimation du volume | H4: Destination du refus de criblage | I4: Etat actuel du lot en volume | J4: Commentaires
A5: 1 | D5: 42778 | E5: =IF(TerreProd[[#This Row],[Date de mise à disposition (criblage ou pas) ]]="","",YEAR(TerreProd[[#This Row],[Date de mise à disposition (criblage ou pas) ]])) -> 2017 | F5: 100 | I5: =TerreProd[[#This Row],[Estimation du volume en m3]]-SUMPRODUCT((TerreVente[Ref lot]=TerreProd[[#This Row],[Ref lot]])*TerreVente[Estimation de la quantité livrée]) -> 75
A6: 2 | D6: 42904 | E6: =IF(TerreProd[[#This Row],[Date de mise à disposition (criblage ou pas) ]]="","",YEAR(TerreProd[[#This Row],[Date de mise à disposition (criblage ou pas) ]])) -> 2017 | F6: 60 | I6: =TerreProd[[#This Row],[Estimation du volume en m3]]-SUMPRODUCT((TerreVente[Ref lot]=TerreProd[[#This Row],[Ref lot]])*TerreVente[Estimation de la quantité livrée]) -> 60
A7: 3 | D7: 42998 | E7: =IF(TerreProd[[#This Row],[Date de mise à disposition (criblage ou pas) ]]="","",YEAR(TerreProd[[#This Row],[Date de mise à disposition (criblage ou pas) ]])) -> 2017 | F7: 80 | I7: =TerreProd[[#This Row],[Estimation du volume en m3]]-SUMPRODUCT((TerreVente[Ref lot]=TerreProd[[#This Row],[Ref lot]])*TerreVente[Estimation de la quantité livrée]) -> 80
A8: 4 | D8: 43136 | E8: =IF(TerreProd[[#This Row],[Date de mise à disposition (criblage ou pas) ]]="","",YEAR(TerreProd[[#This Row],[Date de mise à disposition (criblage ou pas) ]])) -> 2018 | F8: 85 | I8: =TerreProd[[#This Row],[Estimation du volume en m3]]-SUMPRODUCT((TerreVente[Ref lot]=TerreProd[[#This Row],[Ref lot]])*TerreVente[Estimation de la quantité livrée]) -> 85
A9: 5 | D9: 43230 | E9: =IF(TerreProd[[#This Row],[Date de mise à disposition (criblage ou pas) ]]="","",YEAR(TerreProd[[#This Row],[Date de mise à disposition (criblage ou pas) ]])) -> 2018 | F9: 90 | I9: =TerreProd[[#This Row],[Estimation du volume en m3]]-SUMPRODUCT((TerreVente[Ref lot]=TerreProd[[#This Row],[Ref lot]])*TerreVente[Estimation de la quantité livrée]) -> 90
E10: =IF(TerreProd[[#This Row],[Date de mise à disposition (criblage ou pas) ]]="","",YEAR(TerreProd[[#This Row],[Date de mise à disposition (criblage ou pas) ]])) | I10: =TerreProd[[#This Row],[Estimation du volume en m3]]-SUMPRODUCT((TerreVente[Ref lot]=TerreProd[[#This Row],[Ref lot]])*TerreVente[Estimation de la quantité livrée]) -> 0
E11: =IF(TerreProd[[#This Row],[Date de mise à disposition (criblage ou pas) ]]="","",YEAR(TerreProd[[#This Row],[Date de mise à disposition (criblage ou pas) ]])) | I11: =TerreProd[[#This Row],[Estimation du volume en m3]]-SUMPRODUCT((TerreVente[Ref lot]=TerreProd[[#This Row],[Ref lot]])*TerreVente[Estimation de la quantité livrée]) -> 0
E12: =IF(TerreProd[[#This Row],[Date de mise à disposition (criblage ou pas) ]]="","",YEAR(TerreProd[[#This Row],[Date de mise à disposition (criblage ou pas) ]])) | I12: =TerreProd[[#This Row],[Estimation du volume en m3]]-SUMPRODUCT((TerreVente[Ref lot]=TerreProd[[#This Row],[Ref lot]])*TerreVente[Estimation de la quantité livrée]) -> 0
E13: =IF(TerreProd[[#This Row],[Date de mise à disposition (criblage ou pas) ]]="","",YEAR(TerreProd[[#This Row],[Date de mise à disposition (criblage ou pas) ]])) | I13: =TerreProd[[#This Row],[Estimation du volume en m3]]-SUMPRODUCT((TerreVente[Ref lot]=TerreProd[[#This Row],[Ref lot]])*TerreVente[Estimation de la quantité livrée]) -> 0
E14: =IF(TerreProd[[#This Row],[Date de mise à disposition (criblage ou pas) ]]="","",YEAR(TerreProd[[#This Row],[Date de mise à disposition (criblage ou pas) ]])) | I14: =TerreProd[[#This Row],[Estimation du volume en m3]]-SUMPRODUCT((TerreVente[Ref lot]=TerreProd[[#This Row],[Ref lot]])*TerreVente[Estimation de la quantité livrée]) -> 0
E15: =IF(TerreProd[[#This Row],[Date de mise à disposition (criblage ou pas) ]]="","",YEAR(TerreProd[[#This Row],[Date de mise à disposition (criblage ou pas) ]])) | I15: =TerreProd[[#This Row],[Estimation du volume en m3]]-SUMPRODUCT((TerreVente[Ref lot]=TerreProd[[#This Row],[Ref lot]])*TerreVente[Estimation de la quantité livrée]) -> 0
E16: =IF(TerreProd[[#This Row],[Date de mise à disposition (criblage ou pas) ]]="","",YEAR(TerreProd[[#This Row],[Date de mise à disposition (criblage ou pas) ]])) | I16: =TerreProd[[#This Row],[Estimation du volume en m3]]-SUMPRODUCT((TerreVente[Ref lot]=TerreProd[[#This Row],[Ref lot]])*TerreVente[Estimation de la quantité livrée]) -> 0
E17: =IF(TerreProd[[#This Row],[Date de mise à disposition (criblage ou pas) ]]="","",YEAR(TerreProd[[#This Row],[Date de mise à disposition (criblage ou pas) ]])) | I17: =TerreProd[[#This Row],[Estimation du volume en m3]]-SUMPRODUCT((TerreVente[Ref lot]=TerreProd[[#This Row],[Ref lot]])*TerreVente[Estimation de la quantité livrée]) -> 0
E18: =IF(TerreProd[[#This Row],[Date de mise à disposition (criblage ou pas) ]]="","",YEAR(TerreProd[[#This Row],[Date de mise à disposition (criblage ou pas) ]])) | I18: =TerreProd[[#This Row],[Estimation du volume en m3]]-SUMPRODUCT((TerreVente[Ref lot]=TerreProd[[#This Row],[Ref lot]])*TerreVente[Estimation de la quantité livrée]) -> 0
B20: Suivi de consommation de la terre recyclée
A22: Ref lot | B22: Emplacement | C22: Date de livraison | D22: Année | E22: Estimation de la quantité livrée | F22: Utilisation | G22: Destinataire | H22: Commentaires
A23: 1 | B23: =VLOOKUP(TerreVente[[#This Row],[Ref lot]],TerreProd[],2,) -> 0 | C23: 42959 | D23: =IF(TerreVente[[#This Row],[Date de livraison]]="","",YEAR(TerreVente[[#This Row],[Date de livraison]])) -> 2017 | E23: 10
A24: 1 | B24: =VLOOKUP(TerreVente[[#This Row],[Ref lot]],TerreProd[],2,) -> 0 | D24: =IF(TerreVente[[#This Row],[Date de livraison]]="","",YEAR(TerreVente[[#This Row],[Date de livraison]])) | E24: 15
B25: =VLOOKUP(TerreVente[[#This Row],[Ref lot]],TerreProd[],2,) -> #N/A | D25: =IF(TerreVente[[#This Row],[Date de livraison]]="","",YEAR(TerreVente[[#This Row],[Date de livraison]]))
B26: =VLOOKUP(TerreVente[[#This Row],[Ref lot]],TerreProd[],2,) -> #N/A | D26: =IF(TerreVente[[#This Row],[Date de livraison]]="","",YEAR(TerreVente[[#This Row],[Date de livraison]]))
B27: =VLOOKUP(TerreVente[[#This Row],[Ref lot]],TerreProd[],2,) -> #N/A | D27: =IF(TerreVente[[#This Row],[Date de livraison]]="","",YEAR(TerreVente[[#This Row],[Date de livraison]]))
B28: =VLOOKUP(TerreVente[[#This Row],[Ref lot]],TerreProd[],2,) -> #N/A | D28: =IF(TerreVente[[#This Row],[Date de livraison]]="","",YEAR(TerreVente[[#This Row],[Date de livraison]]))
B29: =VLOOKUP(TerreVente[[#This Row],[Ref lot]],TerreProd[],2,) -> #N/A | D29: =IF(TerreVente[[#This Row],[Date de livraison]]="","",YEAR(TerreVente[[#This Row],[Date de livraison]]))
B30: =VLOOKUP(TerreVente[[#This Row],[Ref lot]],TerreProd[],2,) -> #N/A | D30: =IF(TerreVente[[#This Row],[Date de livraison]]="","",YEAR(TerreVente[[#This Row],[Date de livraison]]))
B31: =VLOOKUP(TerreVente[[#This Row],[Ref lot]],TerreProd[],2,) -> #N/A | D31: =IF(TerreVente[[#This Row],[Date de livraison]]="","",YEAR(TerreVente[[#This Row],[Date de livraison]]))
B32: =VLOOKUP(TerreVente[[#This Row],[Ref lot]],TerreProd[],2,) -> #N/A | D32: =IF(TerreVente[[#This Row],[Date de livraison]]="","",YEAR(TerreVente[[#This Row],[Date de livraison]]))
B33: =VLOOKUP(TerreVente[[#This Row],[Ref lot]],TerreProd[],2,) -> #N/A | D33: =IF(TerreVente[[#This Row],[Date de livraison]]="","",YEAR(TerreVente[[#This Row],[Date de livraison]]))
B34: =VLOOKUP(TerreVente[[#This Row],[Ref lot]],TerreProd[],2,) -> #N/A | D34: =IF(TerreVente[[#This Row],[Date de livraison]]="","",YEAR(TerreVente[[#This Row],[Date de livraison]]))
B35: =VLOOKUP(TerreVente[[#This Row],[Ref lot]],TerreProd[],2,) -> #N/A | D35: =IF(TerreVente[[#This Row],[Date de livraison]]="","",YEAR(TerreVente[[#This Row],[Date de livraison]]))
B36: =VLOOKUP(TerreVente[[#This Row],[Ref lot]],TerreProd[],2,) -> #N/A | D36: =IF(TerreVente[[#This Row],[Date de livraison]]="","",YEAR(TerreVente[[#This Row],[Date de livraison]]))
... B41: =VLOOKUP(TerreVente[[#This Row],[Ref lot]],TerreProd[],2,) -> #N/A | D41: =IF(TerreVente[[#This Row],[Date de livraison]]="","",YEAR(TerreVente[[#This Row],[Date de livraison]]))
