Workbook

Sheet Saisie
J5: EMISSION | Y5: RECEPTION
A6: FT | D6: Nom | J6: Centre | O6: Emetteur | T6: Fusible Emetteur | Y6: Centre | AD6: Recepteur | AI6: Centre | AN6: Relais de Voie | AS6: Voie
A7: FTT1 | D7: Zone 785 | J7: QE | O7: B1.G10 | T7: B1.H2 (1-5) | Y7: PQ | AD7: B1.F4 | AI7: PQ | AN7: G4.H5 | AS7: 1 | AV7: donnée pour la feuille 2
A8: FTT2 | D8: Zone 786 | J8: QB | O8: B1.H14 | T8: B1.H2(2-6) | Y8: QE | AD8: B5.J8 | AI8: QE | AN8: G5.K6 | AS8: 2 | AV8: donnée pour la feuille 3
A9: FTT3 | D9: Zone 787 | J9: QB | O9: B1.G23 | T9: C1.G2(4-8) | Y9: QV | AD9: H6.J7 | AI9: QV | AN9: H7.K9 | AS9: 1 | AV9: donnée pour la feuille 4

Sheet Base
B2: FICHE DE TRAVAIL ZONE ITE
B8: Voie:
D10: Emetteur | O10: Centre | Z10: En
D11: Fusible Emetteur | O11: Centre | Z11: En
D12: Récepteur | O12: Centre | Z12: En
D13: Relai de voie | O13: Centre | Z13: En
B16: Mise hors Service
B18: Op | D18: Travail à réaliser
B20: 1 | D20: Dans le centre | J20: =T10 -> 0 | M20: , | N20: retirer le Fusible en | V20: =AB11 -> 0
B21: 2 | D21: Dans le centre | J21: =T13 -> 0 | M21: , | N21: s'assurer de la désexcitation du RV | AA21: =D5 -> 0
E22: situé en : | I22: =AB13 -> 0
B23: 3 | D23: Débrancher les liaisons à la voie.
B26: Mise en Service
B28: Op | D28: Travail à réaliser
B30: 1 | D30: Dans le centre | J30: =T10 -> 0 | M30: , | N30: insérer le Fusible en | V30: =AB11 -> 0
B31: 2 | D31: Dans le centre | J31: =T13 -> 0 | M31: , | N31: s'assurer de l'excitation du RV | AA31: =D5 -> 0
E32: situé en : | I32: =AB13 -> 0
B33: 3 | D33: Brancher les liaisons à la voie.
B36: Essai

Sheet Zone 785
B2: FICHE DE TRAVAIL ZONE ITE | AD2: =Saisie!D7 -> Zone 785
D5: =Saisie!D7 -> Zone 785
B8: Voie: | F8: =Saisie!AS7 -> 1
D10: Emetteur | O10: Centre | T10: =Saisie!J7 -> QE | Z10: En | AB10: =Saisie!O7 -> B1.G10
D11: Fusible Emetteur | O11: Centre | Z11: En | AB11: =Saisie!T7 -> B1.H2 (1-5)
D12: Récepteur | O12: Centre | T12: =Saisie!Y7 -> PQ | Z12: En | AB12: =Saisie!AD7 -> B1.F4
D13: Relai de voie | O13: Centre | T13: =Saisie!AI7 -> PQ | Z13: En | AB13: =Saisie!AN7 -> G4.H5
B16: Mise hors Service
B18: Op | D18: Travail à réaliser
B20: 1 | D20: Dans le centre | J20: =T10 -> QE | M20: , | N20: retirer le Fusible en | V20: =AB11 -> B1.H2 (1-5)
B21: 2 | D21: Dans le centre | J21: =T13 -> PQ | M21: , | N21: s'assurer de la désexcitation du RV | AA21: =D5 -> Zone 785
E22: situé en : | I22: =AB13 -> G4.H5
B23: 3 | D23: Débrancher les liaisons à la voie.
B26: Mise en Service
B28: Op | D28: Travail à réaliser
B30: 1 | D30: Dans le centre | J30: =T10 -> QE | M30: , | N30: insérer le Fusible en | V30: =AB11 -> B1.H2 (1-5)
B31: 2 | D31: Dans le centre | J31: =T13 -> PQ | M31: , | N31: s'assurer de l'excitation du RV | AA31: =D5 -> Zone 785
E32: situé en : | I32: =AB13 -> G4.H5
B33: 3 | D33: Brancher les liaisons à la voie.
B36: Essai

Sheet Zone 786
B2: FICHE DE TRAVAIL ZONE ITE | AD2: =Saisie!A8 -> FTT2
D5: =Saisie!D8 -> Zone 786
B8: Voie: | F8: =Saisie!AS8 -> 2
D10: Emetteur | O10: Centre | T10: =Saisie!J8 -> QB | Z10: En | AB10: =Saisie!O8 -> B1.H14
D11: Fusible Emetteur | O11: Centre | Z11: En | AB11: =Saisie!T8 -> B1.H2(2-6)
D12: Récepteur | O12: Centre | T12: =Saisie!Y8 -> QE | Z12: En | AB12: =Saisie!AD8 -> B5.J8
D13: Relai de voie | O13: Centre | T13: =Saisie!AI8 -> QE | Z13: En | AB13: =Saisie!AN8 -> G5.K6
B16: Mise hors Service
B18: Op | D18: Travail à réaliser
B20: 1 | D20: Dans le centre | J20: =T10 -> QB | M20: , | N20: retirer le Fusible en | V20: =AB11 -> B1.H2(2-6)
B21: 2 | D21: Dans le centre | J21: =T13 -> QE | M21: , | N21: s'assurer de la désexcitation du RV | AA21: =D5 -> Zone 786
E22: situé en : | I22: =AB13 -> G5.K6
B23: 3 | D23: Débrancher les liaisons à la voie.
B26: Mise en Service
B28: Op | D28: Travail à réaliser
B30: 1 | D30: Dans le centre | J30: =T10 -> QB | M30: , | N30: insérer le Fusible en | V30: =AB11 -> B1.H2(2-6)
B31: 2 | D31: Dans le centre | J31: =T13 -> QE | M31: , | N31: s'assurer de l'excitation du RV | AA31: =D5 -> Zone 786
E32: situé en : | I32: =AB13 -> G5.K6
B33: 3 | D33: Brancher les liaisons à la voie.
B36: Essai

Sheet Zone 787
B2: FICHE DE TRAVAIL ZONE ITE | AD2: =Saisie!A9 -> FTT3
D5: =Saisie!D9 -> Zone 787
B8: Voie: | F8: =Saisie!AS9 -> 1
D10: Emetteur | O10: Centre | T10: =Saisie!J9 -> QB | Z10: En | AB10: =Saisie!O9 -> B1.G23
D11: Fusible Emetteur | O11: Centre | Z11: En | AB11: =Saisie!T9 -> C1.G2(4-8)
D12: Récepteur | O12: Centre | T12: =Saisie!Y9 -> QV | Z12: En | AB12: =Saisie!AD9 -> H6.J7
D13: Relai de voie | O13: Centre | T13: =Saisie!AI9 -> QV | Z13: En | AB13: =Saisie!AN9 -> H7.K9
B16: Mise hors Service
B18: Op | D18: Travail à réaliser
B20: 1 | D20: Dans le centre | J20: =T10 -> QB | M20: , | N20: retirer le Fusible en | V20: =AB11 -> C1.G2(4-8)
B21: 2 | D21: Dans le centre | J21: =T13 -> QV | M21: , | N21: s'assurer de la désexcitation du RV | AA21: =D5 -> Zone 787
E22: situé en : | I22: =AB13 -> H7.K9
B23: 3 | D23: Débrancher les liaisons à la voie.
B26: Mise en Service
B28: Op | D28: Travail à réaliser
B30: 1 | D30: Dans le centre | J30: =T10 -> QB | M30: , | N30: insérer le Fusible en | V30: =AB11 -> C1.G2(4-8)
B31: 2 | D31: Dans le centre | J31: =T13 -> QV | M31: , | N31: s'assurer de l'excitation du RV | AA31: =D5 -> Zone 787
E32: situé en : | I32: =AB13 -> H7.K9
B33: 3 | D33: Brancher les liaisons à la voie.
B36: Essai
