Workbook

Sheet Matchs
A1: GROUPE BLEU | D1: USH | F1: GROUPE BLANC | M1: GROUPE BLEU
A2: FC Rosenau | D2: OUTDOOR | F2: All. Folg/Muespach | M2: Class. | N2: Clubs | O2: 1 | P2: 2 | Q2: 3 | R2: Buts + | S2: Buts - | T2: Diff. | U2: Fair Play | V2: Points
A3: FC Sierentz II | D3: TROPHY | F3: FC Kembs Réunis II | M3: 1 | N3: =IFERROR(VLOOKUP($M3,'Classement intermédiaire'!$A$2:$K$6,COLUMN('Classement intermédiaire'!C3),FALSE),"") -> US Hésingue | O3: =IFERROR(VLOOKUP($M3,'Classement intermédiaire'!$A$2:$K$6,COLUMN('Classement intermédiaire'!D3),FALSE),"") -> 3 | P3: =IFERROR(VLOOKUP($M3,'Classement intermédiaire'!$A$2:$K$6,COLUMN('Classement intermédiaire'!E3),FALSE),"") -> 3 | Q3: =IFERROR(VLOOKUP($M3,'Classement intermédiaire'!$A$2:$K$6,COLUMN('Classement intermédiaire'!F3),FALSE),"") -> 3 | R3: =IFERROR(VLOOKUP($M3,'Classement intermédiaire'!$A$2:$K$6,COLUMN('Classement intermédiaire'!G3),FALSE),"") -> 6 | S3: =IFERROR(VLOOKUP($M3,'Classement intermédiaire'!$A$2:$K$6,COLUMN('Classement intermédiaire'!H3),FALSE),"") -> 3 | T3: =IFERROR(VLOOKUP($M3,'Classement intermédiaire'!$A$2:$K$6,COLUMN('Classement intermédiaire'!I3),FALSE),"") -> 3 | U3: =IFERROR(VLOOKUP($M3,'Classement intermédiaire'!$A$2:$K$6,COLUMN('Classement intermédiaire'!J3),FALSE),"") -> 11 | V3: =IFERROR(VLOOKUP($M3,'Classement intermédiaire'!$A$2:$K$6,COLUMN('Classement intermédiaire'!K3),FALSE),"") -> 9
A4: ASCCO Helfrantzkirch | D4: by | F4: FC Village-Neuf | M4: 2 | N4: =IFERROR(VLOOKUP($M4,'Classement intermédiaire'!$A$2:$K$6,COLUMN('Classement intermédiaire'!C4),FALSE),"") -> FC Rosenau | O4: =IFERROR(VLOOKUP($M4,'Classement intermédiaire'!$A$2:$K$6,COLUMN('Classement intermédiaire'!D4),FALSE),"") -> 3 | P4: =IFERROR(VLOOKUP($M4,'Classement intermédiaire'!$A$2:$K$6,COLUMN('Classement intermédiaire'!E4),FALSE),"") -> 3 | Q4: =IFERROR(VLOOKUP($M4,'Classement intermédiaire'!$A$2:$K$6,COLUMN('Classement intermédiaire'!F4),FALSE),"") -> 0 | R4: =IFERROR(VLOOKUP($M4,'Classement intermédiaire'!$A$2:$K$6,COLUMN('Classement intermédiaire'!G4),FALSE),"") -> 5 | S4: =IFERROR(VLOOKUP($M4,'Classement intermédiaire'!$A$2:$K$6,COLUMN('Classement intermédiaire'!H4),FALSE),"") -> 4 | T4: =IFERROR(VLOOKUP($M4,'Classement intermédiaire'!$A$2:$K$6,COLUMN('Classement intermédiaire'!I4),FALSE),"") -> 1 | U4: =IFERROR(VLOOKUP($M4,'Classement intermédiaire'!$A$2:$K$6,COLUMN('Classement intermédiaire'!J4),FALSE),"") -> 7 | V4: =IFERROR(VLOOKUP($M4,'Classement intermédiaire'!$A$2:$K$6,COLUMN('Classement intermédiaire'!K4),FALSE),"") -> 6
A5: US Hésingue | D5: GIVOVA France | F5: FC Hirtzbach | M5: 3 | N5: =IFERROR(VLOOKUP($M5,'Classement intermédiaire'!$A$2:$K$6,COLUMN('Classement intermédiaire'!C5),FALSE),"") -> FC Sierentz II | O5: =IFERROR(VLOOKUP($M5,'Classement intermédiaire'!$A$2:$K$6,COLUMN('Classement intermédiaire'!D5),FALSE),"") -> 0 | P5: =IFERROR(VLOOKUP($M5,'Classement intermédiaire'!$A$2:$K$6,COLUMN('Classement intermédiaire'!E5),FALSE),"") -> 0 | Q5: =IFERROR(VLOOKUP($M5,'Classement intermédiaire'!$A$2:$K$6,COLUMN('Classement intermédiaire'!F5),FALSE),"") -> 3 | R5: =IFERROR(VLOOKUP($M5,'Classement intermédiaire'!$A$2:$K$6,COLUMN('Classement intermédiaire'!G5),FALSE),"") -> 4 | S5: =IFERROR(VLOOKUP($M5,'Classement intermédiaire'!$A$2:$K$6,COLUMN('Classement intermédiaire'!H5),FALSE),"") -> 5 | T5: =IFERROR(VLOOKUP($M5,'Classement intermédiaire'!$A$2:$K$6,COLUMN('Classement intermédiaire'!I5),FALSE),"") -> -1 | U5: =IFERROR(VLOOKUP($M5,'Classement intermédiaire'!$A$2:$K$6,COLUMN('Classement intermédiaire'!J5),FALSE),"") -> 6 | V5: =IFERROR(VLOOKUP($M5,'Classement intermédiaire'!$A$2:$K$6,COLUMN('Classement intermédiaire'!K5),FALSE),"") -> 3
M6: 4 | N6: =IFERROR(VLOOKUP($M6,'Classement intermédiaire'!$A$2:$K$6,COLUMN('Classement intermédiaire'!C6),FALSE),"") -> ASCCO Helfrantzkirch | O6: =IFERROR(VLOOKUP($M6,'Classement intermédiaire'!$A$2:$K$6,COLUMN('Classement intermédiaire'!D6),FALSE),"") -> 0 | P6: =IFERROR(VLOOKUP($M6,'Classement intermédiaire'!$A$2:$K$6,COLUMN('Classement intermédiaire'!E6),FALSE),"") -> 0 | Q6: =IFERROR(VLOOKUP($M6,'Classement intermédiaire'!$A$2:$K$6,COLUMN('Classement intermédiaire'!F6),FALSE),"") -> 0 | R6: =IFERROR(VLOOKUP($M6,'Classement intermédiaire'!$A$2:$K$6,COLUMN('Classement intermédiaire'!G6),FALSE),"") -> 3 | S6: =IFERROR(VLOOKUP($M6,'Classement intermédiaire'!$A$2:$K$6,COLUMN('Classement intermédiaire'!H6),FALSE),"") -> 6 | T6: =IFERROR(VLOOKUP($M6,'Classement intermédiaire'!$A$2:$K$6,COLUMN('Classement intermédiaire'!I6),FALSE),"") -> -3 | U6: =IFERROR(VLOOKUP($M6,'Classement intermédiaire'!$A$2:$K$6,COLUMN('Classement intermédiaire'!J6),FALSE),"") -> 8 | V6: =IFERROR(VLOOKUP($M6,'Classement intermédiaire'!$A$2:$K$6,COLUMN('Classement intermédiaire'!K6),FALSE),"") -> 0
A7: DATE | B7: N° | C7: MATCHS | E7: SCORES | G7: TAB | I7: Fair-Play | K7: 1er Buteur
A8: 43309 | B8: 1 | C8: =A2 -> FC Rosenau | D8: =A3 -> FC Sierentz II | E8: 1 | F8: 0 | I8: 2 | J8: 3 | M8: GROUPE BLANC
A9: 43309 | B9: 2 | C9: =F2 -> All. Folg/Muespach | D9: =F3 -> FC Kembs Réunis II | E9: 1 | F9: 0 | I9: 1 | J9: 3 | M9: Class. | N9: Clubs | O9: 1 | P9: 2 | Q9: 3 | R9: Buts + | S9: Buts - | T9: Diff. | U9: Fair Play | V9: Points
A10: 43309 | B10: 3 | C10: =A4 -> ASCCO Helfrantzkirch | D10: =A5 -> US Hésingue | E10: 0 | F10: 1 | I10: 2 | J10: 3 | M10: 1 | N10: =IFERROR(VLOOKUP($M10,'Classement intermédiaire'!$A$10:$K$13,COLUMN('Classement intermédiaire'!C10),FALSE),"") -> All. Folg/Muespach | O10: =IFERROR(VLOOKUP($M10,'Classement intermédiaire'!$A$10:$K$13,COLUMN('Classement intermédiaire'!D10),FALSE),"") -> 3 | P10: =IFERROR(VLOOKUP($M10,'Classement intermédiaire'!$A$10:$K$13,COLUMN('Classement intermédiaire'!E10),FALSE),"") -> 2 | Q10: =IFERROR(VLOOKUP($M10,'Classement intermédiaire'!$A$10:$K$13,COLUMN('Classement intermédiaire'!F10),FALSE),"") -> 3 | R10: =IFERROR(VLOOKUP($M10,'Classement intermédiaire'!$A$10:$K$13,COLUMN('Classement intermédiaire'!G10),FALSE),"") -> 5 | S10: =IFERROR(VLOOKUP($M10,'Classement intermédiaire'!$A$10:$K$13,COLUMN('Classement intermédiaire'!H10),FALSE),"") -> 1 | T10: =IFERROR(VLOOKUP($M10,'Classement intermédiaire'!$A$10:$K$13,COLUMN('Classement intermédiaire'!I10),FALSE),"") -> 4 | U10: =IFERROR(VLOOKUP($M10,'Classement intermédiaire'!$A$10:$K$13,COLUMN('Classement intermédiaire'!J10),FALSE),"") -> 8 | V10: =IFERROR(VLOOKUP($M10,'Classement intermédiaire'!$A$10:$K$13,COLUMN('Classement intermédiaire'!K10),FALSE),"") -> 8
A11: 43309 | B11: 4 | C11: =F4 -> FC Village-Neuf | D11: =F5 -> FC Hirtzbach | E11: 0 | F11: 2 | I11: 3 | J11: 2 | M11: 2 | N11: =IFERROR(VLOOKUP($M11,'Classement intermédiaire'!$A$10:$K$13,COLUMN('Classement intermédiaire'!C11),FALSE),"") -> FC Village-Neuf | O11: =IFERROR(VLOOKUP($M11,'Classement intermédiaire'!$A$10:$K$13,COLUMN('Classement intermédiaire'!D11),FALSE),"") -> 0 | P11: =IFERROR(VLOOKUP($M11,'Classement intermédiaire'!$A$10:$K$13,COLUMN('Classement intermédiaire'!E11),FALSE),"") -> 1 | Q11: =IFERROR(VLOOKUP($M11,'Classement intermédiaire'!$A$10:$K$13,COLUMN('Classement intermédiaire'!F11),FALSE),"") -> 3 | R11: =IFERROR(VLOOKUP($M11,'Classement intermédiaire'!$A$10:$K$13,COLUMN('Classement intermédiaire'!G11),FALSE),"") -> 3 | S11: =IFERROR(VLOOKUP($M11,'Classement intermédiaire'!$A$10:$K$13,COLUMN('Classement intermédiaire'!H11),FALSE),"") -> 3 | T11: =IFERROR(VLOOKUP($M11,'Classement intermédiaire'!$A$10:$K$13,COLUMN('Classement intermédiaire'!I11),FALSE),"") -> 0 | U11: =IFERROR(VLOOKUP($M11,'Classement intermédiaire'!$A$10:$K$13,COLUMN('Classement intermédiaire'!J11),FALSE),"") -> 9 | V11: =IFERROR(VLOOKUP($M11,'Classement intermédiaire'!$A$10:$K$13,COLUMN('Classement intermédiaire'!K11),FALSE),"") -> 4
A12: 43312 | B12: 5 | C12: =A2 -> FC Rosenau | D12: =A4 -> ASCCO Helfrantzkirch | E12: 3 | F12: 2 | I12: 1 | J12: 3 | M12: 3 | N12: =IFERROR(VLOOKUP($M12,'Classement intermédiaire'!$A$10:$K$13,COLUMN('Classement intermédiaire'!C12),FALSE),"") -> FC Kembs Réunis II | O12: =IFERROR(VLOOKUP($M12,'Classement intermédiaire'!$A$10:$K$13,COLUMN('Classement intermédiaire'!D12),FALSE),"") -> 0 | P12: =IFERROR(VLOOKUP($M12,'Classement intermédiaire'!$A$10:$K$13,COLUMN('Classement intermédiaire'!E12),FALSE),"") -> 3 | Q12: =IFERROR(VLOOKUP($M12,'Classement intermédiaire'!$A$10:$K$13,COLUMN('Classement intermédiaire'!F12),FALSE),"") -> 0 | R12: =IFERROR(VLOOKUP($M12,'Classement intermédiaire'!$A$10:$K$13,COLUMN('Classement intermédiaire'!G12),FALSE),"") -> 1 | S12: =IFERROR(VLOOKUP($M12,'Classement intermédiaire'!$A$10:$K$13,COLUMN('Classement intermédiaire'!H12),FALSE),"") -> 3 | T12: =IFERROR(VLOOKUP($M12,'Classement intermédiaire'!$A$10:$K$13,COLUMN('Classement intermédiaire'!I12),FALSE),"") -> -2 | U12: =IFERROR(VLOOKUP($M12,'Classement intermédiaire'!$A$10:$K$13,COLUMN('Classement intermédiaire'!J12),FALSE),"") -> 5 | V12: =IFERROR(VLOOKUP($M12,'Classement intermédiaire'!$A$10:$K$13,COLUMN('Classement intermédiaire'!K12),FALSE),"") -> 3
A13: 43312 | B13: 6 | C13: =F2 -> All. Folg/Muespach | D13: =F4 -> FC Village-Neuf | E13: 1 | F13: 1 | G13: 2 | H13: 1 | I13: 4 | J13: 5 | M13: 4 | N13: =IFERROR(VLOOKUP($M13,'Classement intermédiaire'!$A$10:$K$13,COLUMN('Classement intermédiaire'!C13),FALSE),"") -> FC Hirtzbach | O13: =IFERROR(VLOOKUP($M13,'Classement intermédiaire'!$A$10:$K$13,COLUMN('Classement intermédiaire'!D13),FALSE),"") -> 3 | P13: =IFERROR(VLOOKUP($M13,'Classement intermédiaire'!$A$10:$K$13,COLUMN('Classement intermédiaire'!E13),FALSE),"") -> 0 | Q13: =IFERROR(VLOOKUP($M13,'Classement intermédiaire'!$A$10:$K$13,COLUMN('Classement intermédiaire'!F13),FALSE),"") -> 0 | R13: =IFERROR(VLOOKUP($M13,'Classement intermédiaire'!$A$10:$K$13,COLUMN('Classement intermédiaire'!G13),FALSE),"") -> 2 | S13: =IFERROR(VLOOKUP($M13,'Classement intermédiaire'!$A$10:$K$13,COLUMN('Classement intermédiaire'!H13),FALSE),"") -> 4 | T13: =IFERROR(VLOOKUP($M13,'Classement intermédiaire'!$A$10:$K$13,COLUMN('Classement intermédiaire'!I13),FALSE),"") -> -2 | U13: =IFERROR(VLOOKUP($M13,'Classement intermédiaire'!$A$10:$K$13,COLUMN('Classement intermédiaire'!J13),FALSE),"") -> 8 | V13: =IFERROR(VLOOKUP($M13,'Classement intermédiaire'!$A$10:$K$13,COLUMN('Classement intermédiaire'!K13),FALSE),"") -> 3
A14: 43313 | B14: 7 | C14: =A3 -> FC Sierentz II | D14: =A5 -> US Hésingue | E14: 2 | F14: 3 | I14: 1 | J14: 3
A15: 43313 | B15: 8 | C15: =F3 -> FC Kembs Réunis II | D15: =F5 -> FC Hirtzbach | E15: 1 | F15: 0 | I15: 1 | J15: 5 | M15: CLASSEMENT FINAL | O15: USH OUTDOOR TROPHY by GIVOVA France | R15: CLASSEMENT FAIR-PLAY
A16: 43316 | B16: 9 | C16: =F3 -> FC Kembs Réunis II | D16: =F4 -> FC Village-Neuf | E16: 0 | F16: 2 | I16: 1 | J16: 1 | M16: 1 | N16: =IF(AND(E27<>0,F27<>0),IF(E27>F27,C27,IF(E27=F27,IF(G27>H27,C27,D27),D27)),"") | R16: =SMALL('Classement intermédiaire'!$B$17:$B$24,ROW(R16)-ROW($R$15)) -> 1 | S16: =VLOOKUP(R16,'Classement intermédiaire'!$B$17:$C$24,2,FALSE) -> US Hésingue | V16: =VLOOKUP(R16,'Classement intermédiaire'!$B$17:$G$24,6,FALSE) -> 11
A17: 43316 | B17: 10 | C17: =F2 -> All. Folg/Muespach | D17: =F5 -> FC Hirtzbach | E17: 3 | F17: 0 | I17: 3 | J17: 1 | M17: 2 | N17: =IF(AND(E27<>0,F27<>0),IF(N16=C27,D27,C27),"") | R17: =SMALL('Classement intermédiaire'!$B$17:$B$24,ROW(R17)-ROW($R$15)) -> 2 | S17: =VLOOKUP(R17,'Classement intermédiaire'!$B$17:$C$24,2,FALSE) -> FC Village-Neuf | V17: =VLOOKUP(R17,'Classement intermédiaire'!$B$17:$G$24,6,FALSE) -> 9
A18: 43316 | B18: 11 | C18: =A2 -> FC Rosenau | D18: =A5 -> US Hésingue | E18: 1 | F18: 2 | I18: 4 | J18: 5 | M18: 3 | N18: =IF(AND(E26<>0,F26<>0),IF(E26>F26,C26,IF(E26=F26,IF(G26>H26,C26,D26),D26)),"") | R18: =SMALL('Classement intermédiaire'!$B$17:$B$24,ROW(R18)-ROW($R$15)) -> 3 | S18: =VLOOKUP(R18,'Classement intermédiaire'!$B$17:$C$24,2,FALSE) -> ASCCO Helfrantzkirch | V18: =VLOOKUP(R18,'Classement intermédiaire'!$B$17:$G$24,6,FALSE) -> 8
A19: 43316 | B19: 12 | C19: =A3 -> FC Sierentz II | D19: =A4 -> ASCCO Helfrantzkirch | E19: 2 | F19: 1 | I19: 2 | J19: 3 | M19: 4 | N19: =IF(AND(E26<>0,F26<>0),IF(N18=C26,D26,C26),"") | R19: =SMALL('Classement intermédiaire'!$B$17:$B$24,ROW(R19)-ROW($R$15)) -> 3 | S19: =VLOOKUP(R19,'Classement intermédiaire'!$B$17:$C$24,2,FALSE) -> All. Folg/Muespach | V19: =VLOOKUP(R19,'Classement intermédiaire'!$B$17:$G$24,6,FALSE) -> 8
A20: 43319 | B20: 13 | C20: =N3 -> US Hésingue | D20: =N11 -> FC Village-Neuf | E20: 2 | F20: 0 | M20: 5 | N20: =IF(AND(E25<>0,F25<>0),IF(E25>F25,C25,IF(E25=F25,IF(G25>H25,C25,D25),D25)),"") -> ASCCO Helfrantzkirch | R20: =SMALL('Classement intermédiaire'!$B$17:$B$24,ROW(R20)-ROW($R$15)) -> 3 | S20: =VLOOKUP(R20,'Classement intermédiaire'!$B$17:$C$24,2,FALSE) -> FC Hirtzbach | V20: =VLOOKUP(R20,'Classement intermédiaire'!$B$17:$G$24,6,FALSE) -> 8
A21: 43319 | B21: 14 | C21: =N5 -> FC Sierentz II | D21: =N13 -> FC Hirtzbach | E21: 2 | F21: 3 | M21: 6 | N21: =IF(AND(E25<>0,F25<>0),IF(N20=C25,D25,C25),"") -> FC Hirtzbach | R21: =SMALL('Classement intermédiaire'!$B$17:$B$24,ROW(R21)-ROW($R$15)) -> 6 | S21: =VLOOKUP(R21,'Classement intermédiaire'!$B$17:$C$24,2,FALSE) -> FC Rosenau | V21: =VLOOKUP(R21,'Classement intermédiaire'!$B$17:$G$24,6,FALSE) -> 7
A22: 43320 | B22: 15 | C22: =N10 -> All. Folg/Muespach | D22: =N4 -> FC Rosenau | E22: 1 | F22: 0 | M22: 7 | N22: =IF(AND(E24<>0,F24<>0),IF(E24>F24,C24,IF(E24=F24,IF(G24>H24,C24,D24),D24)),"") | R22: =SMALL('Classement intermédiaire'!$B$17:$B$24,ROW(R22)-ROW($R$15)) -> 7 | S22: =VLOOKUP(R22,'Classement intermédiaire'!$B$17:$C$24,2,FALSE) -> FC Sierentz II | V22: =VLOOKUP(R22,'Classement intermédiaire'!$B$17:$G$24,6,FALSE) -> 6
A23: 43320 | B23: 16 | C23: =N12 -> FC Kembs Réunis II | D23: =N6 -> ASCCO Helfrantzkirch | E23: 2 | F23: 3 | M23: 8 | N23: =IF(AND(E24<>0,F24<>0),IF(N22=C24,D24,C24),"") | R23: =SMALL('Classement intermédiaire'!$B$17:$B$24,ROW(R23)-ROW($R$15)) -> 8 | S23: =VLOOKUP(R23,'Classement intermédiaire'!$B$17:$C$24,2,FALSE) -> FC Kembs Réunis II | V23: =VLOOKUP(R23,'Classement intermédiaire'!$B$17:$G$24,6,FALSE) -> 5
A24: 43323 | B24: 17 | C24: =IF(AND(E21<>0,F21<>0),IF(E21<F21,C21,IF(E21=F21,IF(G21<H21,C21,D21),D21)),"") -> FC Sierentz II | D24: =IF(AND(E23<>0,F23<>0),IF(E23<F23,C23,IF(E23=F23,IF(G23<H23,C23,D23),D23)),"") -> FC Kembs Réunis II | E24: 2 | F24: 0
A25: 43323 | B25: 18 | C25: =IF(AND(E21<>0,F21<>0),IF(C21=C24,D21,C21),"") -> FC Hirtzbach | D25: =IF(AND(E23<>0,F23<>0),IF(C23=D24,D23,C23),"") -> ASCCO Helfrantzkirch | E25: 1 | F25: 2 | M25: Meilleur Buteur | S25: Club :
A26: 43323 | B26: 19 | C26: =IF(AND(E20<>0,F20<>0),IF(E20<F20,C20,IF(E20=F20,IF(G20<H20,C20,D20),D20)),"") | D26: =IF(AND(E22<>0,F22<>0),IF(E22<F22,C22,IF(E22=F22,IF(G22<H22,C22,D22),D22)),"") | M26: Meilleur gardien | N26: Meilleur Gardien | S26: Club :
A27: 43323 | B27: 20 | C27: =IF(AND(E20<>0,F20<>0),IF(C20=C26,D20,C20),"") | D27: =IF(AND(E22<>0,F22<>0),IF(C22=D26,D22,C22),"")

Sheet Meilleur buteur
B1: NOMS & Prénoms | C1: Clubs | D1: Samedi 28/07 | E1: Mardi 31/08 | F1: Mercredi 1/8 | G1: Samedi 4/8 | H1: Mardi 7/8 | I1: Mercredi 8/8 | J1: Samedi 11/8 | K1: TOTAL
A2: =RANK(K2,$K$2:$K$51,0) -> 1 | B2: A | C2: ASCCO Helfrantzkirch | D2: 2 | E2: 5 | K2: =SUM(D2:J2) -> 7
A3: =RANK(K3,$K$2:$K$51,0) -> 2 | B3: B | C3: FC Kembs Réunis II | D3: 3 | E3: 2 | F3: 1 | K3: =SUM(D3:J3) -> 6
A4: =RANK(K4,$K$2:$K$51,0) -> 4 | B4: C | C4: FC Rosenau | D4: 1 | F4: 2 | K4: =SUM(D4:J4) -> 3
A5: =RANK(K5,$K$2:$K$51,0) -> 4 | B5: D | C5: FC Rosenau | D5: 2 | E5: 1 | K5: =SUM(D5:J5) -> 3
A6: =RANK(K6,$K$2:$K$51,0) -> 3 | B6: E | C6: US Hésingue | D6: 2 | F6: 3 | K6: =SUM(D6:J6) -> 5
A7: =RANK(K7,$K$2:$K$51,0) -> 6 | K7: =SUM(D7:J7) -> 0
A8: =RANK(K8,$K$2:$K$51,0) -> 6 | K8: =SUM(D8:J8) -> 0
A9: =RANK(K9,$K$2:$K$51,0) -> 6 | K9: =SUM(D9:J9) -> 0
A10: =RANK(K10,$K$2:$K$51,0) -> 6 | K10: =SUM(D10:J10) -> 0
A11: =RANK(K11,$K$2:$K$51,0) -> 6 | K11: =SUM(D11:J11) -> 0
A12: =RANK(K12,$K$2:$K$51,0) -> 6 | K12: =SUM(D12:J12) -> 0
A13: =RANK(K13,$K$2:$K$51,0) -> 6 | K13: =SUM(D13:J13) -> 0
A14: =RANK(K14,$K$2:$K$51,0) -> 6 | K14: =SUM(D14:J14) -> 0
A15: =RANK(K15,$K$2:$K$51,0) -> 6 | K15: =SUM(D15:J15) -> 0
A16: =RANK(K16,$K$2:$K$51,0) -> 6 | K16: =SUM(D16:J16) -> 0
A17: =RANK(K17,$K$2:$K$51,0) -> 6 | K17: =SUM(D17:J17) -> 0
A18: =RANK(K18,$K$2:$K$51,0) -> 6 | K18: =SUM(D18:J18) -> 0
... A51: =RANK(K51,$K$2:$K$51,0) -> 6 | K51: =SUM(D51:J51) -> 0

Sheet Classement intermédiaire
A1: Groupe Bleu | L1: Lignes | O1: Colonnes | Y1: Feuille reference | Z1: Matchs
A2: Classement bis | B2: Classement | C2: Club | D2: 1 | E2: 2 | F2: 3 | G2: Buts + | H2: Buts - | I2: Diff. | J2: Fair Play | K2: Points | L2: 1 | M2: 2 | N2: 3 | O2: 1 | P2: 2 | Q2: 3 | R2: Ligne égalité | S2: Colonne dernière rencontre
A3: {=IF(COUNTIF($B$3:$B$6,B3)>1,IF(INDIRECT(ADDRESS(R3,S3+2,,,$Z$1))>INDIRECT(ADDRESS(R3,MIN(IF(S3=COLUMN(Matchs!$C$8),COLUMN(Matchs!$C$8)+1,COLUMN(Matchs!$C$8))+2),,,$Z$1)),B3,IF(INDIRECT(ADDRESS(R3,S3+2,,,$Z$1))<INDIRECT(ADDRESS(R3,MIN(IF(S3=COLUMN(Matchs!$C$8),COLUMN(Matchs!$C$8)+1,COLUMN(Matchs!$C$8))+2),,,$Z$1)),B3+1,IF(COUNTIFS($B$3:$B$6,B3,$I$3:$I$6,I3)>1,IF(COUNTIFS($B$3:$B$6,B3,$G$3:$G$6,G3)>1,IF(COUNTIFS($B$3:$B$6,B3,$H$3:$H$6,H3)>1,IF(COUNTIFS($B$3:$B$6,B3,$J$3:$J$6,J3)>1,"FAIT CHIER",IF(J3=MAX(IF($B$3:$B$6=B3,$J$3:$J$6,"")),B3,B3+1)),IF(H3=MAX(IF($B$3:$B$6=B3,$H$3:$H$6,"")),B3,B3+1)),IF(G3=MAX(IF($B$3:$B$6=B3,$G$3:$G$6,"")),B3,B3+1)),IF(I3=MAX(IF($B$3:$B$6=B3,$I$3:$I$6,"")),B3,B3+1)))),B3)} -> 2 | B3: =RANK(K3,$K$3:$K$6,0) -> 2 | C3: =Matchs!A2 -> FC Rosenau | D3: =IF(INDIRECT(ADDRESS(L3,O3+2,,,$Z$1))<INDIRECT(ADDRESS(L3,IF(O3=COLUMN(Matchs!$C$8),COLUMN(Matchs!$C$8)+1,COLUMN(Matchs!$C$8))+2,,,$Z$1)),0, IF(INDIRECT(ADDRESS(L3,O3+2,,,$Z$1))>INDIRECT(ADDRESS(L3,IF(O3=COLUMN(Matchs!$C$8),COLUMN(Matchs!$C$8)+1,COLUMN(Matchs!$C$8))+2,,,$Z$1)),3, IF(INDIRECT(ADDRESS(L3,O3+4,,,$Z$1))<INDIRECT(ADDRESS(L3,IF(O3=COLUMN(Matchs!$C$8),COLUMN(Matchs!$C$8)+1,COLUMN(Matchs!$C$8))+4,,,$Z$1)),1, IF(INDIRECT(ADDRESS(L3,O3+4,,,$Z$1))>INDIRECT(ADDRESS(L3,IF(O3=COLUMN(Matchs!$C$8),COLUMN(Matchs!$C$8)+1,COLUMN(Matchs!$C$8))+4,,,$Z$1)),2,0)))) -> 3 | E3: =IF(INDIRECT(ADDRESS(M3,P3+2,,,$Z$1))<INDIRECT(ADDRESS(M3,IF(P3=COLUMN(Matchs!$C$8),COLUMN(Matchs!$C$8)+1,COLUMN(Matchs!$C$8))+2,,,$Z$1)),0, IF(INDIRECT(ADDRESS(M3,P3+2,,,$Z$1))>INDIRECT(ADDRESS(M3,IF(P3=COLUMN(Matchs!$C$8),COLUMN(Matchs!$C$8)+1,COLUMN(Matchs!$C$8))+2,,,$Z$1)),3, IF(INDIRECT(ADDRESS(M3,P3+4,,,$Z$1))<INDIRECT(ADDRESS(M3,IF(P3=COLUMN(Matchs!$C$8),COLUMN(Matchs!$C$8)+1,COLUMN(Matchs!$C$8))+4,,,$Z$1)),1, IF(INDIRECT(ADDRESS(M3,P3+4,,,$Z$1))>INDIRECT(ADDRESS(M3,IF(P3=COLUMN(Matchs!$C$8),COLUMN(Matchs!$C$8)+1,COLUMN(Matchs!$C$8))+4,,,$Z$1)),2,0)))) -> 3 | F3: =IF(INDIRECT(ADDRESS(N3,Q3+2,,,$Z$1))<INDIRECT(ADDRESS(N3,IF(Q3=COLUMN(Matchs!$C$8),COLUMN(Matchs!$C$8)+1,COLUMN(Matchs!$C$8))+2,,,$Z$1)),0, IF(INDIRECT(ADDRESS(N3,Q3+2,,,$Z$1))>INDIRECT(ADDRESS(N3,IF(Q3=COLUMN(Matchs!$C$8),COLUMN(Matchs!$C$8)+1,COLUMN(Matchs!$C$8))+2,,,$Z$1)),3, IF(INDIRECT(ADDRESS(N3,Q3+4,,,$Z$1))<INDIRECT(ADDRESS(N3,IF(Q3=COLUMN(Matchs!$C$8),COLUMN(Matchs!$C$8)+1,COLUMN(Matchs!$C$8))+4,,,$Z$1)),1, IF(INDIRECT(ADDRESS(N3,Q3+4,,,$Z$1))>INDIRECT(ADDRESS(N3,IF(Q3=COLUMN(Matchs!$C$8),COLUMN(Matchs!$C$8)+1,COLUMN(Matchs!$C$8))+4,,,$Z$1)),2,0)))) -> 0 | G3: =SUMPRODUCT((Matchs!C$8:D$19=C3)*(Matchs!E$8:F$19)) -> 5 | H3: =SUMPRODUCT((Matchs!C$8:C$19=C3)*(Matchs!F$8:F$19))+SUMPRODUCT((Matchs!D$8:D$19=C3)*(Matchs!E$8:E$19)) -> 4 | I3: =G3-H3 -> 1 | J3: =SUMPRODUCT((Matchs!C$8:D$19=C3)*(Matchs!I$8:J$19)) -> 7 | K3: =SUM(D3:F3) -> 6 | L3: {=SMALL(IF((Matchs!$C$8:$C$19=$C3)+(Matchs!$D$8:$D$19=$C3),ROW(Matchs!$C$8:$C$19),""),D$2)} -> 8 | M3: {=SMALL(IF((Matchs!$C$8:$C$19=$C3)+(Matchs!$D$8:$D$19=$C3),ROW(Matchs!$C$8:$C$19),""),E$2)} -> 12 | N3: {=SMALL(IF((Matchs!$C$8:$C$19=$C3)+(Matchs!$D$8:$D$19=$C3),ROW(Matchs!$C$8:$C$19),""),F$2)} -> 18 | O3: =IF(INDIRECT(ADDRESS(L3,COLUMN(Matchs!$C$8),,,$Z$1))=$C3,COLUMN(Matchs!$C$8),COLUMN(Matchs!$C$8)+1) -> 3 | P3: =IF(INDIRECT(ADDRESS(M3,COLUMN(Matchs!$C$8),,,$Z$1))=$C3,COLUMN(Matchs!$C$8),COLUMN(Matchs!$C$8)+1) -> 3 | Q3: =IF(INDIRECT(ADDRESS(N3,COLUMN(Matchs!$C$8),,,$Z$1))=$C3,COLUMN(Matchs!$C$8),COLUMN(Matchs!$C$8)+1) -> 3 | R3: {=LARGE(IF((((Matchs!$C$8:$C$19=$C3)+(Matchs!$D$8:$D$19=$C3))*((Matchs!$C$8:$C$19=INDEX($C$3:$C$6,MATCH(B3,IF($C$3:$C$6<>C3,$B$3:$B$6,""),0),1))+(Matchs!$D$8:$D$19=INDEX($C$3:$C$6,MATCH(B3,IF($C$3:$C$6<>C3,$B$3:$B$6,""),0),1)))),ROW(Matchs!$C$8:$C$19),""),1)} -> #N/A | S3: =IF(INDIRECT(ADDRESS(R3,COLUMN(Matchs!$C$8),,,$Z$1))=$C3,COLUMN(Matchs!$C$8),COLUMN(Matchs!$C$8)+1) -> #N/A
A4: {=IF(COUNTIF($B$3:$B$6,B4)>1,IF(INDIRECT(ADDRESS(R4,S4+2,,,$Z$1))>INDIRECT(ADDRESS(R4,MIN(IF(S4=COLUMN(Matchs!$C$8),COLUMN(Matchs!$C$8)+1,COLUMN(Matchs!$C$8))+2),,,$Z$1)),B4,IF(INDIRECT(ADDRESS(R4,S4+2,,,$Z$1))<INDIRECT(ADDRESS(R4,MIN(IF(S4=COLUMN(Matchs!$C$8),COLUMN(Matchs!$C$8)+1,COLUMN(Matchs!$C$8))+2),,,$Z$1)),B4+1,IF(COUNTIFS($B$3:$B$6,B4,$I$3:$I$6,I4)>1,IF(COUNTIFS($B$3:$B$6,B4,$G$3:$G$6,G4)>1,IF(COUNTIFS($B$3:$B$6,B4,$H$3:$H$6,H4)>1,IF(COUNTIFS($B$3:$B$6,B4,$J$3:$J$6,J4)>1,"FAIT CHIER",IF(J4=MAX(IF($B$3:$B$6=B4,$J$3:$J$6,"")),B4,B4+1)),IF(H4=MAX(IF($B$3:$B$6=B4,$H$3:$H$6,"")),B4,B4+1)),IF(G4=MAX(IF($B$3:$B$6=B4,$G$3:$G$6,"")),B4,B4+1)),IF(I4=MAX(IF($B$3:$B$6=B4,$I$3:$I$6,"")),B4,B4+1)))),B4)} -> 3 | B4: =RANK(K4,$K$3:$K$6,0) -> 3 | C4: =Matchs!A3 -> FC Sierentz II | D4: =IF(INDIRECT(ADDRESS(L4,O4+2,,,$Z$1))<INDIRECT(ADDRESS(L4,IF(O4=COLUMN(Matchs!$C$8),COLUMN(Matchs!$C$8)+1,COLUMN(Matchs!$C$8))+2,,,$Z$1)),0, IF(INDIRECT(ADDRESS(L4,O4+2,,,$Z$1))>INDIRECT(ADDRESS(L4,IF(O4=COLUMN(Matchs!$C$8),COLUMN(Matchs!$C$8)+1,COLUMN(Matchs!$C$8))+2,,,$Z$1)),3, IF(INDIRECT(ADDRESS(L4,O4+4,,,$Z$1))<INDIRECT(ADDRESS(L4,IF(O4=COLUMN(Matchs!$C$8),COLUMN(Matchs!$C$8)+1,COLUMN(Matchs!$C$8))+4,,,$Z$1)),1, IF(INDIRECT(ADDRESS(L4,O4+4,,,$Z$1))>INDIRECT(ADDRESS(L4,IF(O4=COLUMN(Matchs!$C$8),COLUMN(Matchs!$C$8)+1,COLUMN(Matchs!$C$8))+4,,,$Z$1)),2,0)))) -> 0 | E4: =IF(INDIRECT(ADDRESS(M4,P4+2,,,$Z$1))<INDIRECT(ADDRESS(M4,IF(P4=COLUMN(Matchs!$C$8),COLUMN(Matchs!$C$8)+1,COLUMN(Matchs!$C$8))+2,,,$Z$1)),0, IF(INDIRECT(ADDRESS(M4,P4+2,,,$Z$1))>INDIRECT(ADDRESS(M4,IF(P4=COLUMN(Matchs!$C$8),COLUMN(Matchs!$C$8)+1,COLUMN(Matchs!$C$8))+2,,,$Z$1)),3, IF(INDIRECT(ADDRESS(M4,P4+4,,,$Z$1))<INDIRECT(ADDRESS(M4,IF(P4=COLUMN(Matchs!$C$8),COLUMN(Matchs!$C$8)+1,COLUMN(Matchs!$C$8))+4,,,$Z$1)),1, IF(INDIRECT(ADDRESS(M4,P4+4,,,$Z$1))>INDIRECT(ADDRESS(M4,IF(P4=COLUMN(Matchs!$C$8),COLUMN(Matchs!$C$8)+1,COLUMN(Matchs!$C$8))+4,,,$Z$1)),2,0)))) -> 0 | F4: =IF(INDIRECT(ADDRESS(N4,Q4+2,,,$Z$1))<INDIRECT(ADDRESS(N4,IF(Q4=COLUMN(Matchs!$C$8),COLUMN(Matchs!$C$8)+1,COLUMN(Matchs!$C$8))+2,,,$Z$1)),0, IF(INDIRECT(ADDRESS(N4,Q4+2,,,$Z$1))>INDIRECT(ADDRESS(N4,IF(Q4=COLUMN(Matchs!$C$8),COLUMN(Matchs!$C$8)+1,COLUMN(Matchs!$C$8))+2,,,$Z$1)),3, IF(INDIRECT(ADDRESS(N4,Q4+4,,,$Z$1))<INDIRECT(ADDRESS(N4,IF(Q4=COLUMN(Matchs!$C$8),COLUMN(Matchs!$C$8)+1,COLUMN(Matchs!$C$8))+4,,,$Z$1)),1, IF(INDIRECT(ADDRESS(N4,Q4+4,,,$Z$1))>INDIRECT(ADDRESS(N4,IF(Q4=COLUMN(Matchs!$C$8),COLUMN(Matchs!$C$8)+1,COLUMN(Matchs!$C$8))+4,,,$Z$1)),2,0)))) -> 3 | G4: =SUMPRODUCT((Matchs!C$8:D$19=C4)*(Matchs!E$8:F$19)) -> 4 | H4: =SUMPRODUCT((Matchs!C$8:C$19=C4)*(Matchs!F$8:F$19))+SUMPRODUCT((Matchs!D$8:D$19=C4)*(Matchs!E$8:E$19)) -> 5 | I4: =G4-H4 -> -1 | J4: =SUMPRODUCT((Matchs!C$8:D$19=C4)*(Matchs!I$8:J$19)) -> 6 | K4: =SUM(D4:F4) -> 3 | L4: {=SMALL(IF((Matchs!$C$8:$C$19=$C4)+(Matchs!$D$8:$D$19=$C4),ROW(Matchs!$C$8:$C$19),""),D$2)} -> 8 | M4: {=SMALL(IF((Matchs!$C$8:$C$19=$C4)+(Matchs!$D$8:$D$19=$C4),ROW(Matchs!$C$8:$C$19),""),E$2)} -> 14 | N4: {=SMALL(IF((Matchs!$C$8:$C$19=$C4)+(Matchs!$D$8:$D$19=$C4),ROW(Matchs!$C$8:$C$19),""),F$2)} -> 19 | O4: =IF(INDIRECT(ADDRESS(L4,COLUMN(Matchs!$C$8),,,$Z$1))=$C4,COLUMN(Matchs!$C$8),COLUMN(Matchs!$C$8)+1) -> 4 | P4: =IF(INDIRECT(ADDRESS(M4,COLUMN(Matchs!$C$8),,,$Z$1))=$C4,COLUMN(Matchs!$C$8),COLUMN(Matchs!$C$8)+1) -> 3 | Q4: =IF(INDIRECT(ADDRESS(N4,COLUMN(Matchs!$C$8),,,$Z$1))=$C4,COLUMN(Matchs!$C$8),COLUMN(Matchs!$C$8)+1) -> 3 | R4: {=LARGE(IF((((Matchs!$C$8:$C$19=$C4)+(Matchs!$D$8:$D$19=$C4))*((Matchs!$C$8:$C$19=INDEX($C$3:$C$6,MATCH(B4,IF($C$3:$C$6<>C4,$B$3:$B$6,""),0),1))+(Matchs!$D$8:$D$19=INDEX($C$3:$C$6,MATCH(B4,IF($C$3:$C$6<>C4,$B$3:$B$6,""),0),1)))),ROW(Matchs!$C$8:$C$19),""),1)} -> #N/A | S4: =IF(INDIRECT(ADDRESS(R4,COLUMN(Matchs!$C$8),,,$Z$1))=$C4,COLUMN(Matchs!$C$8),COLUMN(Matchs!$C$8)+1) -> #N/A
A5: {=IF(COUNTIF($B$3:$B$6,B5)>1,IF(INDIRECT(ADDRESS(R5,S5+2,,,$Z$1))>INDIRECT(ADDRESS(R5,MIN(IF(S5=COLUMN(Matchs!$C$8),COLUMN(Matchs!$C$8)+1,COLUMN(Matchs!$C$8))+2),,,$Z$1)),B5,IF(INDIRECT(ADDRESS(R5,S5+2,,,$Z$1))<INDIRECT(ADDRESS(R5,MIN(IF(S5=COLUMN(Matchs!$C$8),COLUMN(Matchs!$C$8)+1,COLUMN(Matchs!$C$8))+2),,,$Z$1)),B5+1,IF(COUNTIFS($B$3:$B$6,B5,$I$3:$I$6,I5)>1,IF(COUNTIFS($B$3:$B$6,B5,$G$3:$G$6,G5)>1,IF(COUNTIFS($B$3:$B$6,B5,$H$3:$H$6,H5)>1,IF(COUNTIFS($B$3:$B$6,B5,$J$3:$J$6,J5)>1,"FAIT CHIER",IF(J5=MAX(IF($B$3:$B$6=B5,$J$3:$J$6,"")),B5,B5+1)),IF(H5=MAX(IF($B$3:$B$6=B5,$H$3:$H$6,"")),B5,B5+1)),IF(G5=MAX(IF($B$3:$B$6=B5,$G$3:$G$6,"")),B5,B5+1)),IF(I5=MAX(IF($B$3:$B$6=B5,$I$3:$I$6,"")),B5,B5+1)))),B5)} -> 4 | B5: =RANK(K5,$K$3:$K$6,0) -> 4 | C5: =Matchs!A4 -> ASCCO Helfrantzkirch | D5: =IF(INDIRECT(ADDRESS(L5,O5+2,,,$Z$1))<INDIRECT(ADDRESS(L5,IF(O5=COLUMN(Matchs!$C$8),COLUMN(Matchs!$C$8)+1,COLUMN(Matchs!$C$8))+2,,,$Z$1)),0, IF(INDIRECT(ADDRESS(L5,O5+2,,,$Z$1))>INDIRECT(ADDRESS(L5,IF(O5=COLUMN(Matchs!$C$8),COLUMN(Matchs!$C$8)+1,COLUMN(Matchs!$C$8))+2,,,$Z$1)),3, IF(INDIRECT(ADDRESS(L5,O5+4,,,$Z$1))<INDIRECT(ADDRESS(L5,IF(O5=COLUMN(Matchs!$C$8),COLUMN(Matchs!$C$8)+1,COLUMN(Matchs!$C$8))+4,,,$Z$1)),1, IF(INDIRECT(ADDRESS(L5,O5+4,,,$Z$1))>INDIRECT(ADDRESS(L5,IF(O5=COLUMN(Matchs!$C$8),COLUMN(Matchs!$C$8)+1,COLUMN(Matchs!$C$8))+4,,,$Z$1)),2,0)))) -> 0 | E5: =IF(INDIRECT(ADDRESS(M5,P5+2,,,$Z$1))<INDIRECT(ADDRESS(M5,IF(P5=COLUMN(Matchs!$C$8),COLUMN(Matchs!$C$8)+1,COLUMN(Matchs!$C$8))+2,,,$Z$1)),0, IF(INDIRECT(ADDRESS(M5,P5+2,,,$Z$1))>INDIRECT(ADDRESS(M5,IF(P5=COLUMN(Matchs!$C$8),COLUMN(Matchs!$C$8)+1,COLUMN(Matchs!$C$8))+2,,,$Z$1)),3, IF(INDIRECT(ADDRESS(M5,P5+4,,,$Z$1))<INDIRECT(ADDRESS(M5,IF(P5=COLUMN(Matchs!$C$8),COLUMN(Matchs!$C$8)+1,COLUMN(Matchs!$C$8))+4,,,$Z$1)),1, IF(INDIRECT(ADDRESS(M5,P5+4,,,$Z$1))>INDIRECT(ADDRESS(M5,IF(P5=COLUMN(Matchs!$C$8),COLUMN(Matchs!$C$8)+1,COLUMN(Matchs!$C$8))+4,,,$Z$1)),2,0)))) -> 0 | F5: =IF(INDIRECT(ADDRESS(N5,Q5+2,,,$Z$1))<INDIRECT(ADDRESS(N5,IF(Q5=COLUMN(Matchs!$C$8),COLUMN(Matchs!$C$8)+1,COLUMN(Matchs!$C$8))+2,,,$Z$1)),0, IF(INDIRECT(ADDRESS(N5,Q5+2,,,$Z$1))>INDIRECT(ADDRESS(N5,IF(Q5=COLUMN(Matchs!$C$8),COLUMN(Matchs!$C$8)+1,COLUMN(Matchs!$C$8))+2,,,$Z$1)),3, IF(INDIRECT(ADDRESS(N5,Q5+4,,,$Z$1))<INDIRECT(ADDRESS(N5,IF(Q5=COLUMN(Matchs!$C$8),COLUMN(Matchs!$C$8)+1,COLUMN(Matchs!$C$8))+4,,,$Z$1)),1, IF(INDIRECT(ADDRESS(N5,Q5+4,,,$Z$1))>INDIRECT(ADDRESS(N5,IF(Q5=COLUMN(Matchs!$C$8),COLUMN(Matchs!$C$8)+1,COLUMN(Matchs!$C$8))+4,,,$Z$1)),2,0)))) -> 0 | G5: =SUMPRODUCT((Matchs!C$8:D$19=C5)*(Matchs!E$8:F$19)) -> 3 | H5: =SUMPRODUCT((Matchs!C$8:C$19=C5)*(Matchs!F$8:F$19))+SUMPRODUCT((Matchs!D$8:D$19=C5)*(Matchs!E$8:E$19)) -> 6 | I5: =G5-H5 -> -3 | J5: =SUMPRODUCT((Matchs!C$8:D$19=C5)*(Matchs!I$8:J$19)) -> 8 | K5: =SUM(D5:F5) -> 0 | L5: {=SMALL(IF((Matchs!$C$8:$C$19=$C5)+(Matchs!$D$8:$D$19=$C5),ROW(Matchs!$C$8:$C$19),""),D$2)} -> 10 | M5: {=SMALL(IF((Matchs!$C$8:$C$19=$C5)+(Matchs!$D$8:$D$19=$C5),ROW(Matchs!$C$8:$C$19),""),E$2)} -> 12 | N5: {=SMALL(IF((Matchs!$C$8:$C$19=$C5)+(Matchs!$D$8:$D$19=$C5),ROW(Matchs!$C$8:$C$19),""),F$2)} -> 19 | O5: =IF(INDIRECT(ADDRESS(L5,COLUMN(Matchs!$C$8),,,$Z$1))=$C5,COLUMN(Matchs!$C$8),COLUMN(Matchs!$C$8)+1) -> 3 | P5: =IF(INDIRECT(ADDRESS(M5,COLUMN(Matchs!$C$8),,,$Z$1))=$C5,COLUMN(Matchs!$C$8),COLUMN(Matchs!$C$8)+1) -> 4 | Q5: =IF(INDIRECT(ADDRESS(N5,COLUMN(Matchs!$C$8),,,$Z$1))=$C5,COLUMN(Matchs!$C$8),COLUMN(Matchs!$C$8)+1) -> 4 | R5: {=LARGE(IF((((Matchs!$C$8:$C$19=$C5)+(Matchs!$D$8:$D$19=$C5))*((Matchs!$C$8:$C$19=INDEX($C$3:$C$6,MATCH(B5,IF($C$3:$C$6<>C5,$B$3:$B$6,""),0),1))+(Matchs!$D$8:$D$19=INDEX($C$3:$C$6,MATCH(B5,IF($C$3:$C$6<>C5,$B$3:$B$6,""),0),1)))),ROW(Matchs!$C$8:$C$19),""),1)} -> #N/A | S5: =IF(INDIRECT(ADDRESS(R5,COLUMN(Matchs!$C$8),,,$Z$1))=$C5,COLUMN(Matchs!$C$8),COLUMN(Matchs!$C$8)+1) -> #N/A
A6: {=IF(COUNTIF($B$3:$B$6,B6)>1,IF(INDIRECT(ADDRESS(R6,S6+2,,,$Z$1))>INDIRECT(ADDRESS(R6,MIN(IF(S6=COLUMN(Matchs!$C$8),COLUMN(Matchs!$C$8)+1,COLUMN(Matchs!$C$8))+2),,,$Z$1)),B6,IF(INDIRECT(ADDRESS(R6,S6+2,,,$Z$1))<INDIRECT(ADDRESS(R6,MIN(IF(S6=COLUMN(Matchs!$C$8),COLUMN(Matchs!$C$8)+1,COLUMN(Matchs!$C$8))+2),,,$Z$1)),B6+1,IF(COUNTIFS($B$3:$B$6,B6,$I$3:$I$6,I6)>1,IF(COUNTIFS($B$3:$B$6,B6,$G$3:$G$6,G6)>1,IF(COUNTIFS($B$3:$B$6,B6,$H$3:$H$6,H6)>1,IF(COUNTIFS($B$3:$B$6,B6,$J$3:$J$6,J6)>1,"FAIT CHIER",IF(J6=MAX(IF($B$3:$B$6=B6,$J$3:$J$6,"")),B6,B6+1)),IF(H6=MAX(IF($B$3:$B$6=B6,$H$3:$H$6,"")),B6,B6+1)),IF(G6=MAX(IF($B$3:$B$6=B6,$G$3:$G$6,"")),B6,B6+1)),IF(I6=MAX(IF($B$3:$B$6=B6,$I$3:$I$6,"")),B6,B6+1)))),B6)} -> 1 | B6: =RANK(K6,$K$3:$K$6,0) -> 1 | C6: =Matchs!A5 -> US Hésingue | D6: =IF(INDIRECT(ADDRESS(L6,O6+2,,,$Z$1))<INDIRECT(ADDRESS(L6,IF(O6=COLUMN(Matchs!$C$8),COLUMN(Matchs!$C$8)+1,COLUMN(Matchs!$C$8))+2,,,$Z$1)),0, IF(INDIRECT(ADDRESS(L6,O6+2,,,$Z$1))>INDIRECT(ADDRESS(L6,IF(O6=COLUMN(Matchs!$C$8),COLUMN(Matchs!$C$8)+1,COLUMN(Matchs!$C$8))+2,,,$Z$1)),3, IF(INDIRECT(ADDRESS(L6,O6+4,,,$Z$1))<INDIRECT(ADDRESS(L6,IF(O6=COLUMN(Matchs!$C$8),COLUMN(Matchs!$C$8)+1,COLUMN(Matchs!$C$8))+4,,,$Z$1)),1, IF(INDIRECT(ADDRESS(L6,O6+4,,,$Z$1))>INDIRECT(ADDRESS(L6,IF(O6=COLUMN(Matchs!$C$8),COLUMN(Matchs!$C$8)+1,COLUMN(Matchs!$C$8))+4,,,$Z$1)),2,0)))) -> 3 | E6: =IF(INDIRECT(ADDRESS(M6,P6+2,,,$Z$1))<INDIRECT(ADDRESS(M6,IF(P6=COLUMN(Matchs!$C$8),COLUMN(Matchs!$C$8)+1,COLUMN(Matchs!$C$8))+2,,,$Z$1)),0, IF(INDIRECT(ADDRESS(M6,P6+2,,,$Z$1))>INDIRECT(ADDRESS(M6,IF(P6=COLUMN(Matchs!$C$8),COLUMN(Matchs!$C$8)+1,COLUMN(Matchs!$C$8))+2,,,$Z$1)),3, IF(INDIRECT(ADDRESS(M6,P6+4,,,$Z$1))<INDIRECT(ADDRESS(M6,IF(P6=COLUMN(Matchs!$C$8),COLUMN(Matchs!$C$8)+1,COLUMN(Matchs!$C$8))+4,,,$Z$1)),1, IF(INDIRECT(ADDRESS(M6,P6+4,,,$Z$1))>INDIRECT(ADDRESS(M6,IF(P6=COLUMN(Matchs!$C$8),COLUMN(Matchs!$C$8)+1,COLUMN(Matchs!$C$8))+4,,,$Z$1)),2,0)))) -> 3 | F6: =IF(INDIRECT(ADDRESS(N6,Q6+2,,,$Z$1))<INDIRECT(ADDRESS(N6,IF(Q6=COLUMN(Matchs!$C$8),COLUMN(Matchs!$C$8)+1,COLUMN(Matchs!$C$8))+2,,,$Z$1)),0, IF(INDIRECT(ADDRESS(N6,Q6+2,,,$Z$1))>INDIRECT(ADDRESS(N6,IF(Q6=COLUMN(Matchs!$C$8),COLUMN(Matchs!$C$8)+1,COLUMN(Matchs!$C$8))+2,,,$Z$1)),3, IF(INDIRECT(ADDRESS(N6,Q6+4,,,$Z$1))<INDIRECT(ADDRESS(N6,IF(Q6=COLUMN(Matchs!$C$8),COLUMN(Matchs!$C$8)+1,COLUMN(Matchs!$C$8))+4,,,$Z$1)),1, IF(INDIRECT(ADDRESS(N6,Q6+4,,,$Z$1))>INDIRECT(ADDRESS(N6,IF(Q6=COLUMN(Matchs!$C$8),COLUMN(Matchs!$C$8)+1,COLUMN(Matchs!$C$8))+4,,,$Z$1)),2,0)))) -> 3 | G6: =SUMPRODUCT((Matchs!C$8:D$19=C6)*(Matchs!E$8:F$19)) -> 6 | H6: =SUMPRODUCT((Matchs!C$8:C$19=C6)*(Matchs!F$8:F$19))+SUMPRODUCT((Matchs!D$8:D$19=C6)*(Matchs!E$8:E$19)) -> 3 | I6: =G6-H6 -> 3 | J6: =SUMPRODUCT((Matchs!C$8:D$19=C6)*(Matchs!I$8:J$19)) -> 11 | K6: =SUM(D6:F6) -> 9 | L6: {=SMALL(IF((Matchs!$C$8:$C$19=$C6)+(Matchs!$D$8:$D$19=$C6),ROW(Matchs!$C$8:$C$19),""),D$2)} -> 10 | M6: {=SMALL(IF((Matchs!$C$8:$C$19=$C6)+(Matchs!$D$8:$D$19=$C6),ROW(Matchs!$C$8:$C$19),""),E$2)} -> 14 | N6: {=SMALL(IF((Matchs!$C$8:$C$19=$C6)+(Matchs!$D$8:$D$19=$C6),ROW(Matchs!$C$8:$C$19),""),F$2)} -> 18 | O6: =IF(INDIRECT(ADDRESS(L6,COLUMN(Matchs!$C$8),,,$Z$1))=$C6,COLUMN(Matchs!$C$8),COLUMN(Matchs!$C$8)+1) -> 4 | P6: =IF(INDIRECT(ADDRESS(M6,COLUMN(Matchs!$C$8),,,$Z$1))=$C6,COLUMN(Matchs!$C$8),COLUMN(Matchs!$C$8)+1) -> 4 | Q6: =IF(INDIRECT(ADDRESS(N6,COLUMN(Matchs!$C$8),,,$Z$1))=$C6,COLUMN(Matchs!$C$8),COLUMN(Matchs!$C$8)+1) -> 4 | R6: {=LARGE(IF((((Matchs!$C$8:$C$19=$C6)+(Matchs!$D$8:$D$19=$C6))*((Matchs!$C$8:$C$19=INDEX($C$3:$C$6,MATCH(B6,IF($C$3:$C$6<>C6,$B$3:$B$6,""),0),1))+(Matchs!$D$8:$D$19=INDEX($C$3:$C$6,MATCH(B6,IF($C$3:$C$6<>C6,$B$3:$B$6,""),0),1)))),ROW(Matchs!$C$8:$C$19),""),1)} -> #N/A | S6: =IF(INDIRECT(ADDRESS(R6,COLUMN(Matchs!$C$8),,,$Z$1))=$C6,COLUMN(Matchs!$C$8),COLUMN(Matchs!$C$8)+1) -> #N/A
A8: Groupe Blanc | L8: Lignes | O8: Colonnes
A9: Classement bis | B9: Classement | C9: Club | D9: 1 | E9: 2 | F9: 3 | G9: Buts + | H9: Buts - | I9: Diff. | J9: Fair Play | K9: Points | L9: 1 | M9: 2 | N9: 3 | O9: 1 | P9: 2 | Q9: 3 | R9: Ligne égalité | S9: Colonne dernière rencontre
A10: {=IF(COUNTIF($B$10:$B$13,B10)>1,IF(INDIRECT(ADDRESS(R10,S10+2,,,$Z$1))>INDIRECT(ADDRESS(R10,MIN(IF(S10=COLUMN(Matchs!$C$8),COLUMN(Matchs!$C$8)+1,COLUMN(Matchs!$C$8))+2),,,$Z$1)),B10,IF(INDIRECT(ADDRESS(R10,S10+2,,,$Z$1))<INDIRECT(ADDRESS(R10,MIN(IF(S10=COLUMN(Matchs!$C$8),COLUMN(Matchs!$C$8)+1,COLUMN(Matchs!$C$8))+2),,,$Z$1)),B10+1,IF(COUNTIFS($B$10:$B$13,B10,$I$10:$I$13,I10)>1,IF(COUNTIFS($B$10:$B$13,B10,$G$10:$G$13,G10)>1,IF(COUNTIFS($B$10:$B$13,B10,$H$10:$H$13,H10)>1,IF(COUNTIFS($B$10:$B$13,B10,$J$10:$J$13,J10)>1,"FAIT CHIER",IF(J10=MAX(IF($B$10:$B$13=B10,$J$10:$J$13,"")),B10,B10+1)),IF(H10=MAX(IF($B$10:$B$13=B10,$H$10:$H$13,"")),B10,B10+1)),IF(G10=MAX(IF($B$10:$B$13=B10,$G$10:$G$13,"")),B10,B10+1)),IF(I10=MAX(IF($B$10:$B$13=B10,$I$10:$I$13,"")),B10,B10+1)))),B10)} -> 1 | B10: =RANK(K10,$K$10:$K$13,0) -> 1 | C10: =Matchs!F2 -> All. Folg/Muespach | D10: =IF(INDIRECT(ADDRESS(L10,O10+2,,,$Z$1))<INDIRECT(ADDRESS(L10,IF(O10=COLUMN(Matchs!$C$8),COLUMN(Matchs!$C$8)+1,COLUMN(Matchs!$C$8))+2,,,$Z$1)),0, IF(INDIRECT(ADDRESS(L10,O10+2,,,$Z$1))>INDIRECT(ADDRESS(L10,IF(O10=COLUMN(Matchs!$C$8),COLUMN(Matchs!$C$8)+1,COLUMN(Matchs!$C$8))+2,,,$Z$1)),3, IF(INDIRECT(ADDRESS(L10,O10+4,,,$Z$1))<INDIRECT(ADDRESS(L10,IF(O10=COLUMN(Matchs!$C$8),COLUMN(Matchs!$C$8)+1,COLUMN(Matchs!$C$8))+4,,,$Z$1)),1, IF(INDIRECT(ADDRESS(L10,O10+4,,,$Z$1))>INDIRECT(ADDRESS(L10,IF(O10=COLUMN(Matchs!$C$8),COLUMN(Matchs!$C$8)+1,COLUMN(Matchs!$C$8))+4,,,$Z$1)),2,0)))) -> 3 | E10: =IF(INDIRECT(ADDRESS(M10,P10+2,,,$Z$1))<INDIRECT(ADDRESS(M10,IF(P10=COLUMN(Matchs!$C$8),COLUMN(Matchs!$C$8)+1,COLUMN(Matchs!$C$8))+2,,,$Z$1)),0, IF(INDIRECT(ADDRESS(M10,P10+2,,,$Z$1))>INDIRECT(ADDRESS(M10,IF(P10=COLUMN(Matchs!$C$8),COLUMN(Matchs!$C$8)+1,COLUMN(Matchs!$C$8))+2,,,$Z$1)),3, IF(INDIRECT(ADDRESS(M10,P10+4,,,$Z$1))<INDIRECT(ADDRESS(M10,IF(P10=COLUMN(Matchs!$C$8),COLUMN(Matchs!$C$8)+1,COLUMN(Matchs!$C$8))+4,,,$Z$1)),1, IF(INDIRECT(ADDRESS(M10,P10+4,,,$Z$1))>INDIRECT(ADDRESS(M10,IF(P10=COLUMN(Matchs!$C$8),COLUMN(Matchs!$C$8)+1,COLUMN(Matchs!$C$8))+4,,,$Z$1)),2,0)))) -> 2 | F10: =IF(INDIRECT(ADDRESS(N10,Q10+2,,,$Z$1))<INDIRECT(ADDRESS(N10,IF(Q10=COLUMN(Matchs!$C$8),COLUMN(Matchs!$C$8)+1,COLUMN(Matchs!$C$8))+2,,,$Z$1)),0, IF(INDIRECT(ADDRESS(N10,Q10+2,,,$Z$1))>INDIRECT(ADDRESS(N10,IF(Q10=COLUMN(Matchs!$C$8),COLUMN(Matchs!$C$8)+1,COLUMN(Matchs!$C$8))+2,,,$Z$1)),3, IF(INDIRECT(ADDRESS(N10,Q10+4,,,$Z$1))<INDIRECT(ADDRESS(N10,IF(Q10=COLUMN(Matchs!$C$8),COLUMN(Matchs!$C$8)+1,COLUMN(Matchs!$C$8))+4,,,$Z$1)),1, IF(INDIRECT(ADDRESS(N10,Q10+4,,,$Z$1))>INDIRECT(ADDRESS(N10,IF(Q10=COLUMN(Matchs!$C$8),COLUMN(Matchs!$C$8)+1,COLUMN(Matchs!$C$8))+4,,,$Z$1)),2,0)))) -> 3 | G10: =SUMPRODUCT((Matchs!C$8:D$19=C10)*(Matchs!E$8:F$19)) -> 5 | H10: =SUMPRODUCT((Matchs!C$8:C$19=C10)*(Matchs!F$8:F$19))+SUMPRODUCT((Matchs!D$8:D$19=C10)*(Matchs!E$8:E$19)) -> 1 | I10: =G10-H10 -> 4 | J10: =SUMPRODUCT((Matchs!C$8:D$19=C10)*(Matchs!I$8:J$19)) -> 8 | K10: =SUM(D10:F10) -> 8 | L10: {=SMALL(IF((Matchs!$C$8:$C$19=$C10)+(Matchs!$D$8:$D$19=$C10),ROW(Matchs!$C$8:$C$19),""),D$9)} -> 9 | M10: {=SMALL(IF((Matchs!$C$8:$C$19=$C10)+(Matchs!$D$8:$D$19=$C10),ROW(Matchs!$C$8:$C$19),""),E$9)} -> 13 | N10: {=SMALL(IF((Matchs!$C$8:$C$19=$C10)+(Matchs!$D$8:$D$19=$C10),ROW(Matchs!$C$8:$C$19),""),F$9)} -> 17 | O10: =IF(INDIRECT(ADDRESS(L10,COLUMN(Matchs!$C$8),,,$Z$1))=$C10,COLUMN(Matchs!$C$8),COLUMN(Matchs!$C$8)+1) -> 3 | P10: =IF(INDIRECT(ADDRESS(M10,COLUMN(Matchs!$C$8),,,$Z$1))=$C10,COLUMN(Matchs!$C$8),COLUMN(Matchs!$C$8)+1) -> 3 | Q10: =IF(INDIRECT(ADDRESS(N10,COLUMN(Matchs!$C$8),,,$Z$1))=$C10,COLUMN(Matchs!$C$8),COLUMN(Matchs!$C$8)+1) -> 3 | R10: {=LARGE(IF((((Matchs!$C$8:$C$19=$C10)+(Matchs!$D$8:$D$19=$C10))*((Matchs!$C$8:$C$19=INDEX($C$10:$C$13,MATCH(B10,IF($C$10:$C$13<>C10,$B$10:$B$13,""),0),1))+(Matchs!$D$8:$D$19=INDEX($C$10:$C$13,MATCH(B10,IF($C$10:$C$13<>C10,$B$10:$B$13,""),0),1)))),ROW(Matchs!$C$8:$C$19),""),1)} -> #N/A | S10: =IF(INDIRECT(ADDRESS(R10,COLUMN(Matchs!$C$8),,,$Z$1))=$C10,COLUMN(Matchs!$C$8),COLUMN(Matchs!$C$8)+1) -> #N/A
A11: {=IF(COUNTIF($B$10:$B$13,B11)>1,IF(INDIRECT(ADDRESS(R11,S11+2,,,$Z$1))>INDIRECT(ADDRESS(R11,MIN(IF(S11=COLUMN(Matchs!$C$8),COLUMN(Matchs!$C$8)+1,COLUMN(Matchs!$C$8))+2),,,$Z$1)),B11,IF(INDIRECT(ADDRESS(R11,S11+2,,,$Z$1))<INDIRECT(ADDRESS(R11,MIN(IF(S11=COLUMN(Matchs!$C$8),COLUMN(Matchs!$C$8)+1,COLUMN(Matchs!$C$8))+2),,,$Z$1)),B11+1,IF(COUNTIFS($B$10:$B$13,B11,$I$10:$I$13,I11)>1,IF(COUNTIFS($B$10:$B$13,B11,$G$10:$G$13,G11)>1,IF(COUNTIFS($B$10:$B$13,B11,$H$10:$H$13,H11)>1,IF(COUNTIFS($B$10:$B$13,B11,$J$10:$J$13,J11)>1,"FAIT CHIER",IF(J11=MAX(IF($B$10:$B$13=B11,$J$10:$J$13,"")),B11,B11+1)),IF(H11=MAX(IF($B$10:$B$13=B11,$H$10:$H$13,"")),B11,B11+1)),IF(G11=MAX(IF($B$10:$B$13=B11,$G$10:$G$13,"")),B11,B11+1)),IF(I11=MAX(IF($B$10:$B$13=B11,$I$10:$I$13,"")),B11,B11+1)))),B11)} -> 3 | B11: =RANK(K11,$K$10:$K$13,0) -> 3 | C11: =Matchs!F3 -> FC Kembs Réunis II | D11: =IF(INDIRECT(ADDRESS(L11,O11+2,,,$Z$1))<INDIRECT(ADDRESS(L11,IF(O11=COLUMN(Matchs!$C$8),COLUMN(Matchs!$C$8)+1,COLUMN(Matchs!$C$8))+2,,,$Z$1)),0, IF(INDIRECT(ADDRESS(L11,O11+2,,,$Z$1))>INDIRECT(ADDRESS(L11,IF(O11=COLUMN(Matchs!$C$8),COLUMN(Matchs!$C$8)+1,COLUMN(Matchs!$C$8))+2,,,$Z$1)),3, IF(INDIRECT(ADDRESS(L11,O11+4,,,$Z$1))<INDIRECT(ADDRESS(L11,IF(O11=COLUMN(Matchs!$C$8),COLUMN(Matchs!$C$8)+1,COLUMN(Matchs!$C$8))+4,,,$Z$1)),1, IF(INDIRECT(ADDRESS(L11,O11+4,,,$Z$1))>INDIRECT(ADDRESS(L11,IF(O11=COLUMN(Matchs!$C$8),COLUMN(Matchs!$C$8)+1,COLUMN(Matchs!$C$8))+4,,,$Z$1)),2,0)))) -> 0 | E11: =IF(INDIRECT(ADDRESS(M11,P11+2,,,$Z$1))<INDIRECT(ADDRESS(M11,IF(P11=COLUMN(Matchs!$C$8),COLUMN(Matchs!$C$8)+1,COLUMN(Matchs!$C$8))+2,,,$Z$1)),0, IF(INDIRECT(ADDRESS(M11,P11+2,,,$Z$1))>INDIRECT(ADDRESS(M11,IF(P11=COLUMN(Matchs!$C$8),COLUMN(Matchs!$C$8)+1,COLUMN(Matchs!$C$8))+2,,,$Z$1)),3, IF(INDIRECT(ADDRESS(M11,P11+4,,,$Z$1))<INDIRECT(ADDRESS(M11,IF(P11=COLUMN(Matchs!$C$8),COLUMN(Matchs!$C$8)+1,COLUMN(Matchs!$C$8))+4,,,$Z$1)),1, IF(INDIRECT(ADDRESS(M11,P11+4,,,$Z$1))>INDIRECT(ADDRESS(M11,IF(P11=COLUMN(Matchs!$C$8),COLUMN(Matchs!$C$8)+1,COLUMN(Matchs!$C$8))+4,,,$Z$1)),2,0)))) -> 3 | F11: =IF(INDIRECT(ADDRESS(N11,Q11+2,,,$Z$1))<INDIRECT(ADDRESS(N11,IF(Q11=COLUMN(Matchs!$C$8),COLUMN(Matchs!$C$8)+1,COLUMN(Matchs!$C$8))+2,,,$Z$1)),0, IF(INDIRECT(ADDRESS(N11,Q11+2,,,$Z$1))>INDIRECT(ADDRESS(N11,IF(Q11=COLUMN(Matchs!$C$8),COLUMN(Matchs!$C$8)+1,COLUMN(Matchs!$C$8))+2,,,$Z$1)),3, IF(INDIRECT(ADDRESS(N11,Q11+4,,,$Z$1))<INDIRECT(ADDRESS(N11,IF(Q11=COLUMN(Matchs!$C$8),COLUMN(Matchs!$C$8)+1,COLUMN(Matchs!$C$8))+4,,,$Z$1)),1, IF(INDIRECT(ADDRESS(N11,Q11+4,,,$Z$1))>INDIRECT(ADDRESS(N11,IF(Q11=COLUMN(Matchs!$C$8),COLUMN(Matchs!$C$8)+1,COLUMN(Matchs!$C$8))+4,,,$Z$1)),2,0)))) -> 0 | G11: =SUMPRODUCT((Matchs!C$8:D$19=C11)*(Matchs!E$8:F$19)) -> 1 | H11: =SUMPRODUCT((Matchs!C$8:C$19=C11)*(Matchs!F$8:F$19))+SUMPRODUCT((Matchs!D$8:D$19=C11)*(Matchs!E$8:E$19)) -> 3 | I11: =G11-H11 -> -2 | J11: =SUMPRODUCT((Matchs!C$8:D$19=C11)*(Matchs!I$8:J$19)) -> 5 | K11: =SUM(D11:F11) -> 3 | L11: {=SMALL(IF((Matchs!$C$8:$C$19=$C11)+(Matchs!$D$8:$D$19=$C11),ROW(Matchs!$C$8:$C$19),""),D$9)} -> 9 | M11: {=SMALL(IF((Matchs!$C$8:$C$19=$C11)+(Matchs!$D$8:$D$19=$C11),ROW(Matchs!$C$8:$C$19),""),E$9)} -> 15 | N11: {=SMALL(IF((Matchs!$C$8:$C$19=$C11)+(Matchs!$D$8:$D$19=$C11),ROW(Matchs!$C$8:$C$19),""),F$9)} -> 16 | O11: =IF(INDIRECT(ADDRESS(L11,COLUMN(Matchs!$C$8),,,$Z$1))=$C11,COLUMN(Matchs!$C$8),COLUMN(Matchs!$C$8)+1) -> 4 | P11: =IF(INDIRECT(ADDRESS(M11,COLUMN(Matchs!$C$8),,,$Z$1))=$C11,COLUMN(Matchs!$C$8),COLUMN(Matchs!$C$8)+1) -> 3 | Q11: =IF(INDIRECT(ADDRESS(N11,COLUMN(Matchs!$C$8),,,$Z$1))=$C11,COLUMN(Matchs!$C$8),COLUMN(Matchs!$C$8)+1) -> 3 | R11: {=LARGE(IF((((Matchs!$C$8:$C$19=$C11)+(Matchs!$D$8:$D$19=$C11))*((Matchs!$C$8:$C$19=INDEX($C$10:$C$13,MATCH(B11,IF($C$10:$C$13<>C11,$B$10:$B$13,""),0),1))+(Matchs!$D$8:$D$19=INDEX($C$10:$C$13,MATCH(B11,IF($C$10:$C$13<>C11,$B$10:$B$13,""),0),1)))),ROW(Matchs!$C$8:$C$19),""),1)} -> 15 | S11: =IF(INDIRECT(ADDRESS(R11,COLUMN(Matchs!$C$8),,,$Z$1))=$C11,COLUMN(Matchs!$C$8),COLUMN(Matchs!$C$8)+1) -> 3
A12: {=IF(COUNTIF($B$10:$B$13,B12)>1,IF(INDIRECT(ADDRESS(R12,S12+2,,,$Z$1))>INDIRECT(ADDRESS(R12,MIN(IF(S12=COLUMN(Matchs!$C$8),COLUMN(Matchs!$C$8)+1,COLUMN(Matchs!$C$8))+2),,,$Z$1)),B12,IF(INDIRECT(ADDRESS(R12,S12+2,,,$Z$1))<INDIRECT(ADDRESS(R12,MIN(IF(S12=COLUMN(Matchs!$C$8),COLUMN(Matchs!$C$8)+1,COLUMN(Matchs!$C$8))+2),,,$Z$1)),B12+1,IF(COUNTIFS($B$10:$B$13,B12,$I$10:$I$13,I12)>1,IF(COUNTIFS($B$10:$B$13,B12,$G$10:$G$13,G12)>1,IF(COUNTIFS($B$10:$B$13,B12,$H$10:$H$13,H12)>1,IF(COUNTIFS($B$10:$B$13,B12,$J$10:$J$13,J12)>1,"FAIT CHIER",IF(J12=MAX(IF($B$10:$B$13=B12,$J$10:$J$13,"")),B12,B12+1)),IF(H12=MAX(IF($B$10:$B$13=B12,$H$10:$H$13,"")),B12,B12+1)),IF(G12=MAX(IF($B$10:$B$13=B12,$G$10:$G$13,"")),B12,B12+1)),IF(I12=MAX(IF($B$10:$B$13=B12,$I$10:$I$13,"")),B12,B12+1)))),B12)} -> 2 | B12: =RANK(K12,$K$10:$K$13,0) -> 2 | C12: =Matchs!F4 -> FC Village-Neuf | D12: =IF(INDIRECT(ADDRESS(L12,O12+2,,,$Z$1))<INDIRECT(ADDRESS(L12,IF(O12=COLUMN(Matchs!$C$8),COLUMN(Matchs!$C$8)+1,COLUMN(Matchs!$C$8))+2,,,$Z$1)),0, IF(INDIRECT(ADDRESS(L12,O12+2,,,$Z$1))>INDIRECT(ADDRESS(L12,IF(O12=COLUMN(Matchs!$C$8),COLUMN(Matchs!$C$8)+1,COLUMN(Matchs!$C$8))+2,,,$Z$1)),3, IF(INDIRECT(ADDRESS(L12,O12+4,,,$Z$1))<INDIRECT(ADDRESS(L12,IF(O12=COLUMN(Matchs!$C$8),COLUMN(Matchs!$C$8)+1,COLUMN(Matchs!$C$8))+4,,,$Z$1)),1, IF(INDIRECT(ADDRESS(L12,O12+4,,,$Z$1))>INDIRECT(ADDRESS(L12,IF(O12=COLUMN(Matchs!$C$8),COLUMN(Matchs!$C$8)+1,COLUMN(Matchs!$C$8))+4,,,$Z$1)),2,0)))) -> 0 | E12: =IF(INDIRECT(ADDRESS(M12,P12+2,,,$Z$1))<INDIRECT(ADDRESS(M12,IF(P12=COLUMN(Matchs!$C$8),COLUMN(Matchs!$C$8)+1,COLUMN(Matchs!$C$8))+2,,,$Z$1)),0, IF(INDIRECT(ADDRESS(M12,P12+2,,,$Z$1))>INDIRECT(ADDRESS(M12,IF(P12=COLUMN(Matchs!$C$8),COLUMN(Matchs!$C$8)+1,COLUMN(Matchs!$C$8))+2,,,$Z$1)),3, IF(INDIRECT(ADDRESS(M12,P12+4,,,$Z$1))<INDIRECT(ADDRESS(M12,IF(P12=COLUMN(Matchs!$C$8),COLUMN(Matchs!$C$8)+1,COLUMN(Matchs!$C$8))+4,,,$Z$1)),1, IF(INDIRECT(ADDRESS(M12,P12+4,,,$Z$1))>INDIRECT(ADDRESS(M12,IF(P12=COLUMN(Matchs!$C$8),COLUMN(Matchs!$C$8)+1,COLUMN(Matchs!$C$8))+4,,,$Z$1)),2,0)))) -> 1 | F12: =IF(INDIRECT(ADDRESS(N12,Q12+2,,,$Z$1))<INDIRECT(ADDRESS(N12,IF(Q12=COLUMN(Matchs!$C$8),COLUMN(Matchs!$C$8)+1,COLUMN(Matchs!$C$8))+2,,,$Z$1)),0, IF(INDIRECT(ADDRESS(N12,Q12+2,,,$Z$1))>INDIRECT(ADDRESS(N12,IF(Q12=COLUMN(Matchs!$C$8),COLUMN(Matchs!$C$8)+1,COLUMN(Matchs!$C$8))+2,,,$Z$1)),3, IF(INDIRECT(ADDRESS(N12,Q12+4,,,$Z$1))<INDIRECT(ADDRESS(N12,IF(Q12=COLUMN(Matchs!$C$8),COLUMN(Matchs!$C$8)+1,COLUMN(Matchs!$C$8))+4,,,$Z$1)),1, IF(INDIRECT(ADDRESS(N12,Q12+4,,,$Z$1))>INDIRECT(ADDRESS(N12,IF(Q12=COLUMN(Matchs!$C$8),COLUMN(Matchs!$C$8)+1,COLUMN(Matchs!$C$8))+4,,,$Z$1)),2,0)))) -> 3 | G12: =SUMPRODUCT((Matchs!C$8:D$19=C12)*(Matchs!E$8:F$19)) -> 3 | H12: =SUMPRODUCT((Matchs!C$8:C$19=C12)*(Matchs!F$8:F$19))+SUMPRODUCT((Matchs!D$8:D$19=C12)*(Matchs!E$8:E$19)) -> 3 | I12: =G12-H12 -> 0 | J12: =SUMPRODUCT((Matchs!C$8:D$19=C12)*(Matchs!I$8:J$19)) -> 9 | K12: =SUM(D12:F12) -> 4 | L12: {=SMALL(IF((Matchs!$C$8:$C$19=$C12)+(Matchs!$D$8:$D$19=$C12),ROW(Matchs!$C$8:$C$19),""),D$9)} -> 11 | M12: {=SMALL(IF((Matchs!$C$8:$C$19=$C12)+(Matchs!$D$8:$D$19=$C12),ROW(Matchs!$C$8:$C$19),""),E$9)} -> 13 | N12: {=SMALL(IF((Matchs!$C$8:$C$19=$C12)+(Matchs!$D$8:$D$19=$C12),ROW(Matchs!$C$8:$C$19),""),F$9)} -> 16 | O12: =IF(INDIRECT(ADDRESS(L12,COLUMN(Matchs!$C$8),,,$Z$1))=$C12,COLUMN(Matchs!$C$8),COLUMN(Matchs!$C$8)+1) -> 3 | P12: =IF(INDIRECT(ADDRESS(M12,COLUMN(Matchs!$C$8),,,$Z$1))=$C12,COLUMN(Matchs!$C$8),COLUMN(Matchs!$C$8)+1) -> 4 | Q12: =IF(INDIRECT(ADDRESS(N12,COLUMN(Matchs!$C$8),,,$Z$1))=$C12,COLUMN(Matchs!$C$8),COLUMN(Matchs!$C$8)+1) -> 4 | R12: {=LARGE(IF((((Matchs!$C$8:$C$19=$C12)+(Matchs!$D$8:$D$19=$C12))*((Matchs!$C$8:$C$19=INDEX($C$10:$C$13,MATCH(B12,IF($C$10:$C$13<>C12,$B$10:$B$13,""),0),1))+(Matchs!$D$8:$D$19=INDEX($C$10:$C$13,MATCH(B12,IF($C$10:$C$13<>C12,$B$10:$B$13,""),0),1)))),ROW(Matchs!$C$8:$C$19),""),1)} -> #N/A | S12: =IF(INDIRECT(ADDRESS(R12,COLUMN(Matchs!$C$8),,,$Z$1))=$C12,COLUMN(Matchs!$C$8),COLUMN(Matchs!$C$8)+1) -> #N/A
A13: {=IF(COUNTIF($B$10:$B$13,B13)>1,IF(INDIRECT(ADDRESS(R13,S13+2,,,$Z$1))>INDIRECT(ADDRESS(R13,MIN(IF(S13=COLUMN(Matchs!$C$8),COLUMN(Matchs!$C$8)+1,COLUMN(Matchs!$C$8))+2),,,$Z$1)),B13,IF(INDIRECT(ADDRESS(R13,S13+2,,,$Z$1))<INDIRECT(ADDRESS(R13,MIN(IF(S13=COLUMN(Matchs!$C$8),COLUMN(Matchs!$C$8)+1,COLUMN(Matchs!$C$8))+2),,,$Z$1)),B13+1,IF(COUNTIFS($B$10:$B$13,B13,$I$10:$I$13,I13)>1,IF(COUNTIFS($B$10:$B$13,B13,$G$10:$G$13,G13)>1,IF(COUNTIFS($B$10:$B$13,B13,$H$10:$H$13,H13)>1,IF(COUNTIFS($B$10:$B$13,B13,$J$10:$J$13,J13)>1,"FAIT CHIER",IF(J13=MAX(IF($B$10:$B$13=B13,$J$10:$J$13,"")),B13,B13+1)),IF(H13=MAX(IF($B$10:$B$13=B13,$H$10:$H$13,"")),B13,B13+1)),IF(G13=MAX(IF($B$10:$B$13=B13,$G$10:$G$13,"")),B13,B13+1)),IF(I13=MAX(IF($B$10:$B$13=B13,$I$10:$I$13,"")),B13,B13+1)))),B13)} -> 4 | B13: =RANK(K13,$K$10:$K$13,0) -> 3 | C13: =Matchs!F5 -> FC Hirtzbach | D13: =IF(INDIRECT(ADDRESS(L13,O13+2,,,$Z$1))<INDIRECT(ADDRESS(L13,IF(O13=COLUMN(Matchs!$C$8),COLUMN(Matchs!$C$8)+1,COLUMN(Matchs!$C$8))+2,,,$Z$1)),0, IF(INDIRECT(ADDRESS(L13,O13+2,,,$Z$1))>INDIRECT(ADDRESS(L13,IF(O13=COLUMN(Matchs!$C$8),COLUMN(Matchs!$C$8)+1,COLUMN(Matchs!$C$8))+2,,,$Z$1)),3, IF(INDIRECT(ADDRESS(L13,O13+4,,,$Z$1))<INDIRECT(ADDRESS(L13,IF(O13=COLUMN(Matchs!$C$8),COLUMN(Matchs!$C$8)+1,COLUMN(Matchs!$C$8))+4,,,$Z$1)),1, IF(INDIRECT(ADDRESS(L13,O13+4,,,$Z$1))>INDIRECT(ADDRESS(L13,IF(O13=COLUMN(Matchs!$C$8),COLUMN(Matchs!$C$8)+1,COLUMN(Matchs!$C$8))+4,,,$Z$1)),2,0)))) -> 3 | E13: =IF(INDIRECT(ADDRESS(M13,P13+2,,,$Z$1))<INDIRECT(ADDRESS(M13,IF(P13=COLUMN(Matchs!$C$8),COLUMN(Matchs!$C$8)+1,COLUMN(Matchs!$C$8))+2,,,$Z$1)),0, IF(INDIRECT(ADDRESS(M13,P13+2,,,$Z$1))>INDIRECT(ADDRESS(M13,IF(P13=COLUMN(Matchs!$C$8),COLUMN(Matchs!$C$8)+1,COLUMN(Matchs!$C$8))+2,,,$Z$1)),3, IF(INDIRECT(ADDRESS(M13,P13+4,,,$Z$1))<INDIRECT(ADDRESS(M13,IF(P13=COLUMN(Matchs!$C$8),COLUMN(Matchs!$C$8)+1,COLUMN(Matchs!$C$8))+4,,,$Z$1)),1, IF(INDIRECT(ADDRESS(M13,P13+4,,,$Z$1))>INDIRECT(ADDRESS(M13,IF(P13=COLUMN(Matchs!$C$8),COLUMN(Matchs!$C$8)+1,COLUMN(Matchs!$C$8))+4,,,$Z$1)),2,0)))) -> 0 | F13: =IF(INDIRECT(ADDRESS(N13,Q13+2,,,$Z$1))<INDIRECT(ADDRESS(N13,IF(Q13=COLUMN(Matchs!$C$8),COLUMN(Matchs!$C$8)+1,COLUMN(Matchs!$C$8))+2,,,$Z$1)),0, IF(INDIRECT(ADDRESS(N13,Q13+2,,,$Z$1))>INDIRECT(ADDRESS(N13,IF(Q13=COLUMN(Matchs!$C$8),COLUMN(Matchs!$C$8)+1,COLUMN(Matchs!$C$8))+2,,,$Z$1)),3, IF(INDIRECT(ADDRESS(N13,Q13+4,,,$Z$1))<INDIRECT(ADDRESS(N13,IF(Q13=COLUMN(Matchs!$C$8),COLUMN(Matchs!$C$8)+1,COLUMN(Matchs!$C$8))+4,,,$Z$1)),1, IF(INDIRECT(ADDRESS(N13,Q13+4,,,$Z$1))>INDIRECT(ADDRESS(N13,IF(Q13=COLUMN(Matchs!$C$8),COLUMN(Matchs!$C$8)+1,COLUMN(Matchs!$C$8))+4,,,$Z$1)),2,0)))) -> 0 | G13: =SUMPRODUCT((Matchs!C$8:D$19=C13)*(Matchs!E$8:F$19)) -> 2 | H13: =SUMPRODUCT((Matchs!C$8:C$19=C13)*(Matchs!F$8:F$19))+SUMPRODUCT((Matchs!D$8:D$19=C13)*(Matchs!E$8:E$19)) -> 4 | I13: =G13-H13 -> -2 | J13: =SUMPRODUCT((Matchs!C$8:D$19=C13)*(Matchs!I$8:J$19)) -> 8 | K13: =SUM(D13:F13) -> 3 | L13: {=SMALL(IF((Matchs!$C$8:$C$19=$C13)+(Matchs!$D$8:$D$19=$C13),ROW(Matchs!$C$8:$C$19),""),D$9)} -> 11 | M13: {=SMALL(IF((Matchs!$C$8:$C$19=$C13)+(Matchs!$D$8:$D$19=$C13),ROW(Matchs!$C$8:$C$19),""),E$9)} -> 15 | N13: {=SMALL(IF((Matchs!$C$8:$C$19=$C13)+(Matchs!$D$8:$D$19=$C13),ROW(Matchs!$C$8:$C$19),""),F$9)} -> 17 | O13: =IF(INDIRECT(ADDRESS(L13,COLUMN(Matchs!$C$8),,,$Z$1))=$C13,COLUMN(Matchs!$C$8),COLUMN(Matchs!$C$8)+1) -> 4 | P13: =IF(INDIRECT(ADDRESS(M13,COLUMN(Matchs!$C$8),,,$Z$1))=$C13,COLUMN(Matchs!$C$8),COLUMN(Matchs!$C$8)+1) -> 4 | Q13: =IF(INDIRECT(ADDRESS(N13,COLUMN(Matchs!$C$8),,,$Z$1))=$C13,COLUMN(Matchs!$C$8),COLUMN(Matchs!$C$8)+1) -> 4 | R13: {=LARGE(IF((((Matchs!$C$8:$C$19=$C13)+(Matchs!$D$8:$D$19=$C13))*((Matchs!$C$8:$C$19=INDEX($C$10:$C$13,MATCH(B13,IF($C$10:$C$13<>C13,$B$10:$B$13,""),0),1))+(Matchs!$D$8:$D$19=INDEX($C$10:$C$13,MATCH(B13,IF($C$10:$C$13<>C13,$B$10:$B$13,""),0),1)))),ROW(Matchs!$C$8:$C$19),""),1)} -> 15 | S13: =IF(INDIRECT(ADDRESS(R13,COLUMN(Matchs!$C$8),,,$Z$1))=$C13,COLUMN(Matchs!$C$8),COLUMN(Matchs!$C$8)+1) -> 4
B15: Classement Fair-play
B16: Classement | C16: Club | D16: Points | E16: Conso | F16: Chrono | G16: Total
B17: =RANK(G17,$G$17:$G$24,0)+ROW()*10^(-9) -> 6 | C17: =Matchs!A2 -> FC Rosenau | D17: =SUMPRODUCT((Matchs!C$8:D$27=C17)*(Matchs!I$8:J$27)) -> 7 | G17: =SUM(D17:F17) -> 7
B18: =RANK(G18,$G$17:$G$24,0)+ROW()*10^(-9) -> 7 | C18: =Matchs!A3 -> FC Sierentz II | D18: =SUMPRODUCT((Matchs!C$8:D$27=C18)*(Matchs!I$8:J$27)) -> 6 | G18: =SUM(D18:F18) -> 6
B19: =RANK(G19,$G$17:$G$24,0)+ROW()*10^(-9) -> 3 | C19: =Matchs!A4 -> ASCCO Helfrantzkirch | D19: =SUMPRODUCT((Matchs!C$8:D$27=C19)*(Matchs!I$8:J$27)) -> 8 | G19: =SUM(D19:F19) -> 8
B20: =RANK(G20,$G$17:$G$24,0)+ROW()*10^(-9) -> 1 | C20: =Matchs!A5 -> US Hésingue | D20: =SUMPRODUCT((Matchs!C$8:D$27=C20)*(Matchs!I$8:J$27)) -> 11 | G20: =SUM(D20:F20) -> 11
B21: =RANK(G21,$G$17:$G$24,0)+ROW()*10^(-9) -> 3 | C21: =Matchs!F2 -> All. Folg/Muespach | D21: =SUMPRODUCT((Matchs!C$8:D$27=C21)*(Matchs!I$8:J$27)) -> 8 | G21: =SUM(D21:F21) -> 8
B22: =RANK(G22,$G$17:$G$24,0)+ROW()*10^(-9) -> 8 | C22: =Matchs!F3 -> FC Kembs Réunis II | D22: =SUMPRODUCT((Matchs!C$8:D$27=C22)*(Matchs!I$8:J$27)) -> 5 | G22: =SUM(D22:F22) -> 5
B23: =RANK(G23,$G$17:$G$24,0)+ROW()*10^(-9) -> 2 | C23: =Matchs!F4 -> FC Village-Neuf | D23: =SUMPRODUCT((Matchs!C$8:D$27=C23)*(Matchs!I$8:J$27)) -> 9 | G23: =SUM(D23:F23) -> 9
B24: =RANK(G24,$G$17:$G$24,0)+ROW()*10^(-9) -> 3 | C24: =Matchs!F5 -> FC Hirtzbach | D24: =SUMPRODUCT((Matchs!C$8:D$27=C24)*(Matchs!I$8:J$27)) -> 8 | G24: =SUM(D24:F24) -> 8
A26: Liste club | C26: Phase finale | E26: Classement final
A27: All. Folg/Muespach | C27: Vainqueur M13 | E27: Vainqueur M20
A28: ASCCO Helfrantzkirch | C28: Perdant M13 | E28: Perdant M20
A29: FC Hirtzbach | C29: Vainqueur M14 | E29: Vainqueur M19
A30: FC Kembs Réunis II | C30: Perdant M14 | E30: Perdant M19
A31: FC Rosenau | C31: Vainqueur M15 | E31: Vainqueur M18
A32: FC Sierentz II | C32: Perdant M15 | E32: Perdant M18
A33: FC Village-Neuf | C33: Vainqueur M16 | E33: Vainqueur M17
A34: US Hésingue | C34: Perdant M16 | E34: Perdant M17
