Workbook

Sheet Licenciés
A3: Nom | B3: Prénom | C3: Date de naissance | D3: Âge | E3: Classement
A4: NADAL | B4: RAFAEL | C4: 31566 | D4: =(YEAR(TODAY())-YEAR(C4)) -> 32 | E4: 0
A5: THIEM | B5: DOMINIC | C5: 34627 | D5: =(YEAR(TODAY())-YEAR(C5)) -> 24 | E5: 30
A6: NOVAK | B6: DJOKOVIC | C6: 31919 | D6: =(YEAR(TODAY())-YEAR(C6)) -> 31 | E6: 30
A7: ROGER | B7: FEDERER | C7: 33963 | D7: =(YEAR(TODAY())-YEAR(C7)) -> 26 | E7: 30/5

Sheet Equipe Dame
A1: SENIOR | D1: ADO
A3: Nom | B3: Prénom | C3: Classement | D3: Nom | E3: Prénom | F3: Classement
A4: =Licenciés!A4 -> NADAL | B4: =Licenciés!B4 -> RAFAEL | C4: =Licenciés!E4 -> 0 | D4: =Licenciés!A4 -> NADAL | E4: =Licenciés!B4 -> RAFAEL | F4: =Licenciés!E4 -> 0
A5: =Licenciés!A5 -> THIEM | B5: =Licenciés!B5 -> DOMINIC | C5: =Licenciés!E5 -> 30 | D5: =Licenciés!A5 -> THIEM | E5: =Licenciés!B5 -> DOMINIC | F5: =Licenciés!E5 -> 30
A6: =Licenciés!A6 -> NOVAK | B6: =Licenciés!B6 -> DJOKOVIC | C6: =Licenciés!E6 -> 30 | D6: =Licenciés!A6 -> NOVAK | E6: =Licenciés!B6 -> DJOKOVIC | F6: =Licenciés!E6 -> 30
A7: =Licenciés!A7 -> ROGER | B7: =Licenciés!B7 -> FEDERER | C7: =Licenciés!E7 -> 30/5 | D7: =Licenciés!A7 -> ROGER | E7: =Licenciés!B7 -> FEDERER | F7: =Licenciés!E7 -> 30/5
