Workbook
Name membres: '[1]Resultats & classement'!$C$5:$C$104
Name tablepts: [1]RepartPoints!$A$2:$AG$31

Sheet DATA
B1: Date | C1: Nbres de joueurs | D1: Partie N°
B2: 43104 | C2: =COUNTA(B4:B13) -> 10 | D2: 1 | G2: Yonnel
B3: joueurs participants | C3: vainqueur | D3: vaincu / 1er | E3: Pts | F3: Classement
A4: 1 | B4: Brice | C4: Laetitia | D4: =_xlfn.IFS(B4<>C4,C4,B4=C4,B4) -> Laetitia | E4: =IF(C2=F4,0) -> 0 | F4: =IF(C2=0,"",C2) -> 10 | G4: 0.87569444
A5: 2 | B5: Nicolas | C5: Yonnel | D5: =_xlfn.IFS(B5<>C5,C5,B5=C5,B5) -> Yonnel | E5: =IF(D5="","",IF(SUMPRODUCT(C3:C4=D5,D3:D4=G2)=1,VLOOKUP(C2,tablepts,F5+1)+10,VLOOKUP(C2,tablepts,F5+1))) -> 1 | F5: =IF(B5="","",F4-1) -> 9 | G5: 0.87569444
A6: 3 | B6: Guillaume | C6: Yonnel | D6: =_xlfn.IFS(B6<>C6,C6,B6=C6,B6) -> Yonnel | E6: =IF(D6="","",IF(SUMPRODUCT(C3:C5=D6,D3:D5=G2)=1,VLOOKUP(C2,tablepts,F6+1)+10,VLOOKUP(C2,tablepts,F6+1))) -> 2 | F6: =IF(B6="","",F5-1) -> 8 | G6: 0.89722222
A7: 4 | B7: Alain | C7: Yonnel | D7: =_xlfn.IFS(B7<>C7,C7,B7=C7,B7) -> Yonnel | E7: =IF(D7="","",IF(SUMPRODUCT(C3:C6=D7,D3:D6=G2)=1,VLOOKUP(C2,tablepts,F7+1)+10,VLOOKUP(C2,tablepts,F7+1))) -> 4 | F7: =IF(B7="","",F6-1) -> 7 | G7: 0.92152778
A8: 5 | B8: Quentin | C8: Nabil | D8: =_xlfn.IFS(B8<>C8,C8,B8=C8,B8) -> Nabil | E8: =IF(D8="","",IF(SUMPRODUCT(C3:C7=D8,D3:D7=G2)=1,VLOOKUP(C2,tablepts,F8+1)+10,VLOOKUP(C2,tablepts,F8+1))) -> 7 | F8: =IF(B8="","",F7-1) -> 6 | G8: 0.92777778
A9: 6 | B9: Julien L | C9: Yonnel | D9: =_xlfn.IFS(B9<>C9,C9,B9=C9,B9) -> Yonnel | E9: =IF(D9="","",IF(SUMPRODUCT(C3:C8=D9,D3:D8=G2)=1,VLOOKUP(C2,tablepts,F9+1)+10,VLOOKUP(C2,tablepts,F9+1))) -> 10 | F9: =IF(B9="","",F8-1) -> 5 | G9: 0.92916667
A10: 7 | B10: Laetitia | C10: Laetitia | D10: =_xlfn.IFS(B10<>C10,C10,B10=C10,B10) -> Laetitia | E10: =IF(D10="","",IF(SUMPRODUCT(C3:C9=D10,D3:D9=G2)=1,VLOOKUP(C2,tablepts,F10+1)+10,VLOOKUP(C2,tablepts,F10+1))) -> 13 | F10: =IF(B10="","",F9-1) -> 4 | G10: 0.93055556
A11: 8 | B11: Yongrong | C11: Yongrong | D11: =_xlfn.IFS(B11<>C11,C11,B11=C11,B11) -> Yongrong | E11: =IF(D11="","",IF(SUMPRODUCT(C3:C10=D11,D3:D10=G2)=1,VLOOKUP(C2,tablepts,F11+1)+10,VLOOKUP(C2,tablepts,F11+1))) -> 16 | F11: =IF(B11="","",F10-1) -> 3 | G11: 0.93958333
A12: 9 | B12: Nabil | C12: Nabil | D12: =_xlfn.IFS(B12<>C12,C12,B12=C12,B12) -> Nabil | E12: =IF(D12="","",IF(SUMPRODUCT(C3:C11=D12,D3:D11=G2)=1,VLOOKUP(C2,tablepts,F12+1)+10,VLOOKUP(C2,tablepts,F12+1))) -> 19 | F12: =IF(B12="","",F11-1) -> 2 | G12: 0.94097222
A13: 10 | B13: Yonnel | C13: Yonnel | D13: =_xlfn.IFS(B13<>C13,C13,B13=C13,B13) -> Yonnel | E13: =IF(D13="","",IF(SUMPRODUCT(C3:C12=D13,D3:D12=G2)=1,VLOOKUP(C2,tablepts,F13+1)+10,VLOOKUP(C2,tablepts,F13+1))) -> 21 | F13: =IF(B13="","",F12-1) -> 1 | G13: 0.94513889
B16: Date | C16: Nbres de joueurs | D16: Partie N° | G16: =IF(C17=0,"",VLOOKUP(RANDBETWEEN(1,C17),A19:B31,2,0)) -> Yongrong
B17: 43110 | C17: =COUNTA(B19:B31) -> 13 | D17: 2 | G17: Poket
B18: joueurs participants | C18: vainqueur | D18: vaincu / 1er | E18: Pts | F18: Classement | G18: à
A19: 1 | B19: Ammar | C19: Nicolas | D19: =_xlfn.IFS(B19<>C19,C19,B19=C19,B19) -> Nicolas | E19: =IF(C17=F19,0) -> 0 | F19: =IF(C17=0,"",C17) -> 13 | G19: 0.64236111
A20: 2 | B20: Yongrong | C20: Julien P | D20: =_xlfn.IFS(B20<>C20,C20,B20=C20,B20) -> Julien P | E20: =IF(D20="","",IF(SUMPRODUCT(C18:C19=D20,D18:D19=G17)=1,VLOOKUP(C17,tablepts,F20+1)+10,VLOOKUP(C17,tablepts,F20+1))) -> 1 | F20: =IF(B20="","",F19-1) -> 12 | G20: 0.65625
A21: 3 | B21: Laetitia | C21: Brice | D21: =_xlfn.IFS(B21<>C21,C21,B21=C21,B21) -> Brice | E21: =IF(D21="","",IF(SUMPRODUCT(C18:C20=D21,D18:D20=G17)=1,VLOOKUP(C17,tablepts,F21+1)+10,VLOOKUP(C17,tablepts,F21+1))) -> 2 | F21: =IF(B21="","",F20-1) -> 11 | G21: 0.66458333
A22: 4 | B22: Quentin | C22: Guillaume S | D22: =_xlfn.IFS(B22<>C22,C22,B22=C22,B22) -> Guillaume S | E22: =IF(D22="","",IF(SUMPRODUCT(C18:C21=D22,D18:D21=G17)=1,VLOOKUP(C17,tablepts,F22+1)+10,VLOOKUP(C17,tablepts,F22+1))) -> 4 | F22: =IF(B22="","",F21-1) -> 10 | G22: 0.68055556
A23: 5 | B23: Yonnel | C23: Yonnel | D23: =_xlfn.IFS(B23<>C23,C23,B23=C23,B23) -> Yonnel | E23: =IF(D23="","",IF(SUMPRODUCT(C18:C22=D23,D18:D22=G17)=1,VLOOKUP(C17,tablepts,F23+1)+10,VLOOKUP(C17,tablepts,F23+1))) -> 7 | F23: =IF(B23="","",F22-1) -> 9 | G23: 0.69513889
A24: 6 | B24: Eric | C24: Eric | D24: =_xlfn.IFS(B24<>C24,C24,B24=C24,B24) -> Eric | E24: =IF(D24="","",IF(SUMPRODUCT(C18:C23=D24,D18:D23=G17)=1,VLOOKUP(C17,tablepts,F24+1)+10,VLOOKUP(C17,tablepts,F24+1))) -> 10 | F24: =IF(B24="","",F23-1) -> 8 | G24: 0.70694444
A25: 7 | B25: Alain | C25: Alain | D25: =_xlfn.IFS(B25<>C25,C25,B25=C25,B25) -> Alain | E25: =IF(D25="","",IF(SUMPRODUCT(C18:C24=D25,D18:D24=G17)=1,VLOOKUP(C17,tablepts,F25+1)+10,VLOOKUP(C17,tablepts,F25+1))) -> 13 | F25: =IF(B25="","",F24-1) -> 7 | G25: 0.71041667
A26: 8 | B26: Nabil | C26: Nabil | D26: =_xlfn.IFS(B26<>C26,C26,B26=C26,B26) -> Nabil | E26: =IF(D26="","",IF(SUMPRODUCT(C18:C25=D26,D18:D25=G17)=1,VLOOKUP(C17,tablepts,F26+1)+10,VLOOKUP(C17,tablepts,F26+1))) -> 16 | F26: =IF(B26="","",F25-1) -> 6 | G26: 0.72638889
A27: 9 | B27: Guillaume | C27: Guillaume | D27: =_xlfn.IFS(B27<>C27,C27,B27=C27,B27) -> Guillaume | E27: =IF(D27="","",IF(SUMPRODUCT(C18:C26=D27,D18:D26=G17)=1,VLOOKUP(C17,tablepts,F27+1)+10,VLOOKUP(C17,tablepts,F27+1))) -> 19 | F27: =IF(B27="","",F26-1) -> 5 | G27: 0.74305556
A28: 10 | B28: Brice | C28: Laetitia | D28: =_xlfn.IFS(B28<>C28,C28,B28=C28,B28) -> Laetitia | E28: =IF(D28="","",IF(SUMPRODUCT(C18:C27=D28,D18:D27=G17)=1,VLOOKUP(C17,tablepts,F28+1)+10,VLOOKUP(C17,tablepts,F28+1))) -> 21 | F28: =IF(B28="","",F27-1) -> 4 | G28: 0.74652778
A29: 11 | B29: Nicolas | C29: Nicolas | D29: =_xlfn.IFS(B29<>C29,C29,B29=C29,B29) -> Nicolas | E29: =IF(D29="","",IF(SUMPRODUCT(C18:C28=D29,D18:D28=G17)=1,VLOOKUP(C17,tablepts,F29+1)+10,VLOOKUP(C17,tablepts,F29+1))) -> 25 | F29: =IF(B29="","",F28-1) -> 3
A30: 12 | B30: Christian | C30: christian | D30: =_xlfn.IFS(B30<>C30,C30,B30=C30,B30) -> Christian | E30: =IF(D30="","",IF(SUMPRODUCT(C18:C29=D30,D18:D29=G17)=1,VLOOKUP(C17,tablepts,F30+1)+10,VLOOKUP(C17,tablepts,F30+1))) -> 29 | F30: =IF(B30="","",F29-1) -> 2
A31: 13 | B31: Julien P | C31: Julien P | D31: =_xlfn.IFS(B31<>C31,C31,B31=C31,B31) -> Julien P | E31: =IF(D31="","",IF(SUMPRODUCT(C18:C30=D31,D18:D30=G17)=1,VLOOKUP(C17,tablepts,F31+1)+10,VLOOKUP(C17,tablepts,F31+1))) -> 33 | F31: =IF(B31="","",F30-1) -> 1
B33: Date | C33: Nbres de joueurs | D33: Partie N° | G33: =IF(C34=0,"",VLOOKUP(RANDBETWEEN(1,C34),A36:B50,2,0)) -> Eric
B34: =B17+7 -> 43117 | C34: =COUNTA(B36:B50) -> 15 | D34: 3
B35: joueurs participants | C35: vainqueur | D35: vaincu / 1er | E35: Pts | F35: Classement | G35: à
A36: 1 | B36: Yonnel | C36: Brice | D36: =_xlfn.IFS(B36<>C36,C36,B36=C36,B36) -> Brice | E36: =IF(C34=F36,0) -> 0 | F36: =IF(C34=0,"",C34) -> 15
A37: 2 | B37: Ammar | C37: Brice | D37: =_xlfn.IFS(B37<>C37,C37,B37=C37,B37) -> Brice | E37: =IF(D37="","",IF(SUMPRODUCT(C35:C36=D37,D35:D36=G34)=1,VLOOKUP(C34,tablepts,F37+1)+10,VLOOKUP(C34,tablepts,F37+1))) -> 1 | F37: =IF(B37="","",F36-1) -> 14
A38: 3 | B38: Quentin | C38: Brice | D38: =_xlfn.IFS(B38<>C38,C38,B38=C38,B38) -> Brice | E38: =IF(D38="","",IF(SUMPRODUCT(C35:C37=D38,D35:D37=G34)=1,VLOOKUP(C34,tablepts,F38+1)+10,VLOOKUP(C34,tablepts,F38+1))) -> 2 | F38: =IF(B38="","",F37-1) -> 13
A39: 4 | B39: Julien P | C39: Alain | D39: =_xlfn.IFS(B39<>C39,C39,B39=C39,B39) -> Alain | E39: =IF(D39="","",IF(SUMPRODUCT(C35:C38=D39,D35:D38=G34)=1,VLOOKUP(C34,tablepts,F39+1)+10,VLOOKUP(C34,tablepts,F39+1))) -> 4 | F39: =IF(B39="","",F38-1) -> 12
A40: 5 | B40: Laetitia | C40: Alain | D40: =_xlfn.IFS(B40<>C40,C40,B40=C40,B40) -> Alain | E40: =IF(D40="","",IF(SUMPRODUCT(C35:C39=D40,D35:D39=G34)=1,VLOOKUP(C34,tablepts,F40+1)+10,VLOOKUP(C34,tablepts,F40+1))) -> 7 | F40: =IF(B40="","",F39-1) -> 11
A41: 6 | B41: Nabil | C41: Nabil | D41: =_xlfn.IFS(B41<>C41,C41,B41=C41,B41) -> Nabil | E41: =IF(D41="","",IF(SUMPRODUCT(C35:C40=D41,D35:D40=G34)=1,VLOOKUP(C34,tablepts,F41+1)+10,VLOOKUP(C34,tablepts,F41+1))) -> 10 | F41: =IF(B41="","",F40-1) -> 10
A42: 7 | B42: Yongrong | C42: Yongrong | D42: =_xlfn.IFS(B42<>C42,C42,B42=C42,B42) -> Yongrong | E42: =IF(D42="","",IF(SUMPRODUCT(C35:C41=D42,D35:D41=G34)=1,VLOOKUP(C34,tablepts,F42+1)+10,VLOOKUP(C34,tablepts,F42+1))) -> 13 | F42: =IF(B42="","",F41-1) -> 9
A43: 8 | B43: Christian | C43: Chistian | D43: =_xlfn.IFS(B43<>C43,C43,B43=C43,B43) -> Chistian | E43: =IF(D43="","",IF(SUMPRODUCT(C35:C42=D43,D35:D42=G34)=1,VLOOKUP(C34,tablepts,F43+1)+10,VLOOKUP(C34,tablepts,F43+1))) -> 16 | F43: =IF(B43="","",F42-1) -> 8
A44: 9 | B44: Eric | C44: Eric | D44: =_xlfn.IFS(B44<>C44,C44,B44=C44,B44) -> Eric | E44: =IF(D44="","",IF(SUMPRODUCT(C35:C43=D44,D35:D43=G34)=1,VLOOKUP(C34,tablepts,F44+1)+10,VLOOKUP(C34,tablepts,F44+1))) -> 19 | F44: =IF(B44="","",F43-1) -> 7
A45: 10 | B45: Alain | C45: Alain | D45: =_xlfn.IFS(B45<>C45,C45,B45=C45,B45) -> Alain | E45: =IF(D45="","",IF(SUMPRODUCT(C35:C44=D45,D35:D44=G34)=1,VLOOKUP(C34,tablepts,F45+1)+10,VLOOKUP(C34,tablepts,F45+1))) -> 21 | F45: =IF(B45="","",F44-1) -> 6
A46: 11 | B46: Nicolas | C46: Nicolas | D46: =_xlfn.IFS(B46<>C46,C46,B46=C46,B46) -> Nicolas | E46: =IF(D46="","",IF(SUMPRODUCT(C35:C45=D46,D35:D45=G34)=1,VLOOKUP(C34,tablepts,F46+1)+10,VLOOKUP(C34,tablepts,F46+1))) -> 25 | F46: =IF(B46="","",F45-1) -> 5
A47: 12 | B47: Guillaume | C47: Guillaume | D47: =_xlfn.IFS(B47<>C47,C47,B47=C47,B47) -> Guillaume | E47: =IF(D47="","",IF(SUMPRODUCT(C35:C46=D47,D35:D46=G34)=1,VLOOKUP(C34,tablepts,F47+1)+10,VLOOKUP(C34,tablepts,F47+1))) -> 29 | F47: =IF(B47="","",F46-1) -> 4
A48: 13 | B48: Romain | C48: Romain | D48: =_xlfn.IFS(B48<>C48,C48,B48=C48,B48) -> Romain | E48: =IF(D48="","",IF(SUMPRODUCT(C35:C47=D48,D35:D47=G34)=1,VLOOKUP(C34,tablepts,F48+1)+10,VLOOKUP(C34,tablepts,F48+1))) -> 33 | F48: =IF(B48="","",F47-1) -> 3
A49: 14 | B49: Julien L | C49: Julien L | D49: =_xlfn.IFS(B49<>C49,C49,B49=C49,B49) -> Julien L | E49: =IF(D49="","",IF(SUMPRODUCT(C35:C48=D49,D35:D48=G34)=1,VLOOKUP(C34,tablepts,F49+1)+10,VLOOKUP(C34,tablepts,F49+1))) -> 37 | F49: =IF(B49="","",F48-1) -> 2
A50: 15 | B50: Brice | C50: Brice | D50: =_xlfn.IFS(B50<>C50,C50,B50=C50,B50) -> Brice | E50: =IF(D50="","",IF(SUMPRODUCT(C35:C49=D50,D35:D49=G34)=1,VLOOKUP(C34,tablepts,F50+1)+10,VLOOKUP(C34,tablepts,F50+1))) -> 40 | F50: =IF(B50="","",F49-1) -> 1
B52: Date | C52: Nbres de joueurs | D52: Partie N° | G52: =IF(C53=0,"",VLOOKUP(RANDBETWEEN(1,C53),A55:B65,2,0)) -> Nabil
B53: =B34+7 -> 43124 | C53: =COUNTA(B55:B65) -> 11 | D53: 4
B54: joueurs participants | C54: vainqueur | D54: vaincu / 1er | E54: Pts | F54: Classement | G54: à
A55: 1 | B55: Christian | C55: Nicolas | D55: =_xlfn.IFS(B55<>C55,C55,B55=C55,B55) -> Nicolas | E55: =IF(C53=F55,0) -> 0 | F55: =IF(C53=0,"",C53) -> 11
A56: 2 | B56: Eric | C56: Nicolas | D56: =_xlfn.IFS(B56<>C56,C56,B56=C56,B56) -> Nicolas | E56: =IF(D56="","",IF(SUMPRODUCT(C54:C55=D56,D54:D55=G53)=1,VLOOKUP(C53,tablepts,F56+1)+10,VLOOKUP(C53,tablepts,F56+1))) -> 1 | F56: =IF(B56="","",F55-1) -> 10
A57: 3 | B57: Brice | C57: Yongrong | D57: =_xlfn.IFS(B57<>C57,C57,B57=C57,B57) -> Yongrong | E57: =IF(D57="","",IF(SUMPRODUCT(C54:C56=D57,D54:D56=G53)=1,VLOOKUP(C53,tablepts,F57+1)+10,VLOOKUP(C53,tablepts,F57+1))) -> 2 | F57: =IF(B57="","",F56-1) -> 9
A58: 4 | B58: Laetitia | C58: Nicolas | D58: =_xlfn.IFS(B58<>C58,C58,B58=C58,B58) -> Nicolas | E58: =IF(D58="","",IF(SUMPRODUCT(C54:C57=D58,D54:D57=G53)=1,VLOOKUP(C53,tablepts,F58+1)+10,VLOOKUP(C53,tablepts,F58+1))) -> 4 | F58: =IF(B58="","",F57-1) -> 8
A59: 5 | B59: Guillaume | C59: Guillaume | D59: =_xlfn.IFS(B59<>C59,C59,B59=C59,B59) -> Guillaume | E59: =IF(D59="","",IF(SUMPRODUCT(C54:C58=D59,D54:D58=G53)=1,VLOOKUP(C53,tablepts,F59+1)+10,VLOOKUP(C53,tablepts,F59+1))) -> 7 | F59: =IF(B59="","",F58-1) -> 7
A60: 6 | B60: Alain | C60: Alain | D60: =_xlfn.IFS(B60<>C60,C60,B60=C60,B60) -> Alain | E60: =IF(D60="","",IF(SUMPRODUCT(C54:C59=D60,D54:D59=G53)=1,VLOOKUP(C53,tablepts,F60+1)+10,VLOOKUP(C53,tablepts,F60+1))) -> 10 | F60: =IF(B60="","",F59-1) -> 6
A61: 7 | B61: Nabil | C61: Nabil | D61: =_xlfn.IFS(B61<>C61,C61,B61=C61,B61) -> Nabil | E61: =IF(D61="","",IF(SUMPRODUCT(C54:C60=D61,D54:D60=G53)=1,VLOOKUP(C53,tablepts,F61+1)+10,VLOOKUP(C53,tablepts,F61+1))) -> 13 | F61: =IF(B61="","",F60-1) -> 5
A62: 8 | B62: Ammar | C62: Ammar | D62: =_xlfn.IFS(B62<>C62,C62,B62=C62,B62) -> Ammar | E62: =IF(D62="","",IF(SUMPRODUCT(C54:C61=D62,D54:D61=G53)=1,VLOOKUP(C53,tablepts,F62+1)+10,VLOOKUP(C53,tablepts,F62+1))) -> 16 | F62: =IF(B62="","",F61-1) -> 4
A63: 9 | B63: Quentin | C63: Quentin | D63: =_xlfn.IFS(B63<>C63,C63,B63=C63,B63) -> Quentin | E63: =IF(D63="","",IF(SUMPRODUCT(C54:C62=D63,D54:D62=G53)=1,VLOOKUP(C53,tablepts,F63+1)+10,VLOOKUP(C53,tablepts,F63+1))) -> 19 | F63: =IF(B63="","",F62-1) -> 3
A64: 10 | B64: Yongrong | C64: Yongrong | D64: =_xlfn.IFS(B64<>C64,C64,B64=C64,B64) -> Yongrong | E64: =IF(D64="","",IF(SUMPRODUCT(C54:C63=D64,D54:D63=G53)=1,VLOOKUP(C53,tablepts,F64+1)+10,VLOOKUP(C53,tablepts,F64+1))) -> 21 | F64: =IF(B64="","",F63-1) -> 2
A65: 11 | B65: Nicolas | C65: Nicolas | D65: =_xlfn.IFS(B65<>C65,C65,B65=C65,B65) -> Nicolas | E65: =IF(D65="","",IF(SUMPRODUCT(C54:C64=D65,D54:D64=G53)=1,VLOOKUP(C53,tablepts,F65+1)+10,VLOOKUP(C53,tablepts,F65+1))) -> 25 | F65: =IF(B65="","",F64-1) -> 1
B67: Date | C67: Nbres de joueurs | D67: Partie N° | G67: =IF(C68=0,"",VLOOKUP(RANDBETWEEN(1,C68),A70:B83,2,0)) -> Julien L
B68: =B53+7 -> 43131 | C68: =COUNTA(B70:B83) -> 14 | D68: 5
B69: joueurs participants | C69: vainqueur | D69: vaincu / 1er | E69: Pts | F69: Classement | G69: à
A70: 1 | B70: Christian | C70: Nicolas | D70: =_xlfn.IFS(B70<>C70,C70,B70=C70,B70) -> Nicolas | E70: =IF(C68=F70,0) -> 0 | F70: =IF(C68=0,"",C68) -> 14
A71: 2 | B71: Yonnel | C71: Julien L | D71: =_xlfn.IFS(B71<>C71,C71,B71=C71,B71) -> Julien L | E71: =IF(D71="","",IF(SUMPRODUCT(C69:C70=D71,D69:D70=G68)=1,VLOOKUP(C68,tablepts,F71+1)+10,VLOOKUP(C68,tablepts,F71+1))) -> 1 | F71: =IF(B71="","",F70-1) -> 13
A72: 3 | B72: Guillaume | C72: Brice | D72: =_xlfn.IFS(B72<>C72,C72,B72=C72,B72) -> Brice | E72: =IF(D72="","",IF(SUMPRODUCT(C69:C71=D72,D69:D71=G68)=1,VLOOKUP(C68,tablepts,F72+1)+10,VLOOKUP(C68,tablepts,F72+1))) -> 2 | F72: =IF(B72="","",F71-1) -> 12
A73: 4 | B73: Laetitia | C73: Ammar | D73: =_xlfn.IFS(B73<>C73,C73,B73=C73,B73) -> Ammar | E73: =IF(D73="","",IF(SUMPRODUCT(C69:C72=D73,D69:D72=G68)=1,VLOOKUP(C68,tablepts,F73+1)+10,VLOOKUP(C68,tablepts,F73+1))) -> 4 | F73: =IF(B73="","",F72-1) -> 11
A74: 5 | B74: Alain | C74: Ammar | D74: =_xlfn.IFS(B74<>C74,C74,B74=C74,B74) -> Ammar | E74: =IF(D74="","",IF(SUMPRODUCT(C69:C73=D74,D69:D73=G68)=1,VLOOKUP(C68,tablepts,F74+1)+10,VLOOKUP(C68,tablepts,F74+1))) -> 7 | F74: =IF(B74="","",F73-1) -> 10
A75: 6 | B75: Quentin | C75: Julien L | D75: =_xlfn.IFS(B75<>C75,C75,B75=C75,B75) -> Julien L | E75: =IF(D75="","",IF(SUMPRODUCT(C69:C74=D75,D69:D74=G68)=1,VLOOKUP(C68,tablepts,F75+1)+10,VLOOKUP(C68,tablepts,F75+1))) -> 10 | F75: =IF(B75="","",F74-1) -> 9
A76: 7 | B76: Brice | C76: Yongrong | D76: =_xlfn.IFS(B76<>C76,C76,B76=C76,B76) -> Yongrong | E76: =IF(D76="","",IF(SUMPRODUCT(C69:C75=D76,D69:D75=G68)=1,VLOOKUP(C68,tablepts,F76+1)+10,VLOOKUP(C68,tablepts,F76+1))) -> 13 | F76: =IF(B76="","",F75-1) -> 8
A77: 8 | B77: Nabil | C77: Nabil | D77: =_xlfn.IFS(B77<>C77,C77,B77=C77,B77) -> Nabil | E77: =IF(D77="","",IF(SUMPRODUCT(C69:C76=D77,D69:D76=G68)=1,VLOOKUP(C68,tablepts,F77+1)+10,VLOOKUP(C68,tablepts,F77+1))) -> 16 | F77: =IF(B77="","",F76-1) -> 7
A78: 9 | B78: Romain | C78: Romain | D78: =_xlfn.IFS(B78<>C78,C78,B78=C78,B78) -> Romain | E78: =IF(D78="","",IF(SUMPRODUCT(C69:C77=D78,D69:D77=G68)=1,VLOOKUP(C68,tablepts,F78+1)+10,VLOOKUP(C68,tablepts,F78+1))) -> 19 | F78: =IF(B78="","",F77-1) -> 6
A79: 10 | B79: Yongrong | C79: Yongrong | D79: =_xlfn.IFS(B79<>C79,C79,B79=C79,B79) -> Yongrong | E79: =IF(D79="","",IF(SUMPRODUCT(C69:C78=D79,D69:D78=G68)=1,VLOOKUP(C68,tablepts,F79+1)+10,VLOOKUP(C68,tablepts,F79+1))) -> 21 | F79: =IF(B79="","",F78-1) -> 5
A80: 11 | B80: Nicolas | C80: Nicolas | D80: =_xlfn.IFS(B80<>C80,C80,B80=C80,B80) -> Nicolas | E80: =IF(D80="","",IF(SUMPRODUCT(C69:C79=D80,D69:D79=G68)=1,VLOOKUP(C68,tablepts,F80+1)+10,VLOOKUP(C68,tablepts,F80+1))) -> 25 | F80: =IF(B80="","",F79-1) -> 4
A81: 12 | B81: Eric | C81: Eric | D81: =_xlfn.IFS(B81<>C81,C81,B81=C81,B81) -> Eric | E81: =IF(D81="","",IF(SUMPRODUCT(C69:C80=D81,D69:D80=G68)=1,VLOOKUP(C68,tablepts,F81+1)+10,VLOOKUP(C68,tablepts,F81+1))) -> 29 | F81: =IF(B81="","",F80-1) -> 3
A82: 13 | B82: Julien L | C82: Julien L | D82: =_xlfn.IFS(B82<>C82,C82,B82=C82,B82) -> Julien L | E82: =IF(D82="","",IF(SUMPRODUCT(C69:C81=D82,D69:D81=G68)=1,VLOOKUP(C68,tablepts,F82+1)+10,VLOOKUP(C68,tablepts,F82+1))) -> 33 | F82: =IF(B82="","",F81-1) -> 2
A83: 14 | B83: Ammar | C83: Ammar | D83: =_xlfn.IFS(B83<>C83,C83,B83=C83,B83) -> Ammar | E83: =IF(D83="","",IF(SUMPRODUCT(C69:C82=D83,D69:D82=G68)=1,VLOOKUP(C68,tablepts,F83+1)+10,VLOOKUP(C68,tablepts,F83+1))) -> 37 | F83: =IF(B83="","",F82-1) -> 1
B85: Date | C85: Nbres de joueurs | D85: Partie N° | G85: =IF(C86=0,"",VLOOKUP(RANDBETWEEN(1,C86),A88:B93,2,0))
B86: =B68+7 -> 43138 | C86: =COUNTA(B88:B93) -> 0 | D86: 6
B87: joueurs participants | C87: vainqueur | D87: vaincu / 1er | E87: Pts | F87: Classement | G87: à
A88: 1 | D88: =_xlfn.IFS(B88<>C88,C88,B88=C88,B88) -> 0 | E88: =IF(C86=F88,0) -> FALSE | F88: =IF(C86=0,"",C86)
A89: 2 | D89: =_xlfn.IFS(B89<>C89,C89,B89=C89,B89) -> 0 | F89: =IF(B89="","",F88-1)
A90: 3 | D90: =_xlfn.IFS(B90<>C90,C90,B90=C90,B90) -> 0 | F90: =IF(B90="","",F89-1)
A91: 4 | D91: =_xlfn.IFS(B91<>C91,C91,B91=C91,B91) -> 0 | F91: =IF(B91="","",F90-1)
A92: 5 | D92: =_xlfn.IFS(B92<>C92,C92,B92=C92,B92) -> 0 | F92: =IF(B92="","",F91-1)
A93: 6 | D93: =_xlfn.IFS(B93<>C93,C93,B93=C93,B93) -> 0 | F93: =IF(B93="","",F92-1)
B95: Date | C95: Nbres de joueurs | D95: Partie N° | G95: =IF(C96=0,"",VLOOKUP(RANDBETWEEN(1,C96),A98:B107,2,0)) -> Laetitia
B96: =B86+7 -> 43145 | C96: =COUNTA(B98:B107) -> 10 | D96: 7
B97: joueurs participants | C97: vainqueur | D97: vaincu / 1er | E97: Pts | F97: Classement | G97: à
A98: 1 | B98: Nicolas | C98: Christian | D98: =_xlfn.IFS(B98<>C98,C98,B98=C98,B98) -> Christian | E98: =IF(C96=F98,0) -> 0 | F98: =IF(C96=0,"",C96) -> 10
A99: 2 | B99: Brice | C99: Laetitia | D99: =_xlfn.IFS(B99<>C99,C99,B99=C99,B99) -> Laetitia | E99: =IF(D99="","",IF(SUMPRODUCT(C97:C98=D99,D97:D98=G96)=1,VLOOKUP(C96,tablepts,F99+1)+10,VLOOKUP(C96,tablepts,F99+1))) -> 1 | F99: =IF(B99="","",F98-1) -> 9
A100: 3 | B100: Alain | C100: Eric | D100: =_xlfn.IFS(B100<>C100,C100,B100=C100,B100) -> Eric | E100: =IF(D100="","",IF(SUMPRODUCT(C97:C99=D100,D97:D99=G96)=1,VLOOKUP(C96,tablepts,F100+1)+10,VLOOKUP(C96,tablepts,F100+1))) -> 2 | F100: =IF(B100="","",F99-1) -> 8
A101: 4 | B101: Nabil | C101: Christian | D101: =_xlfn.IFS(B101<>C101,C101,B101=C101,B101) -> Christian | E101: =IF(D101="","",IF(SUMPRODUCT(C97:C100=D101,D97:D100=G96)=1,VLOOKUP(C96,tablepts,F101+1)+10,VLOOKUP(C96,tablepts,F101+1))) -> 4 | F101: =IF(B101="","",F100-1) -> 7
A102: 5 | B102: Ammar | C102: Ammar | D102: =_xlfn.IFS(B102<>C102,C102,B102=C102,B102) -> Ammar | E102: =IF(D102="","",IF(SUMPRODUCT(C97:C101=D102,D97:D101=G96)=1,VLOOKUP(C96,tablepts,F102+1)+10,VLOOKUP(C96,tablepts,F102+1))) -> 7 | F102: =IF(B102="","",F101-1) -> 6
A103: 6 | B103: Guillaume | C103: Guillaume | D103: =_xlfn.IFS(B103<>C103,C103,B103=C103,B103) -> Guillaume | E103: =IF(D103="","",IF(SUMPRODUCT(C97:C102=D103,D97:D102=G96)=1,VLOOKUP(C96,tablepts,F103+1)+10,VLOOKUP(C96,tablepts,F103+1))) -> 10 | F103: =IF(B103="","",F102-1) -> 5
A104: 7 | B104: Eric | C104: Eric | D104: =_xlfn.IFS(B104<>C104,C104,B104=C104,B104) -> Eric | E104: =IF(D104="","",IF(SUMPRODUCT(C97:C103=D104,D97:D103=G96)=1,VLOOKUP(C96,tablepts,F104+1)+10,VLOOKUP(C96,tablepts,F104+1))) -> 13 | F104: =IF(B104="","",F103-1) -> 4
A105: 8 | B105: Christian | C105: Christian | D105: =_xlfn.IFS(B105<>C105,C105,B105=C105,B105) -> Christian | E105: =IF(D105="","",IF(SUMPRODUCT(C97:C104=D105,D97:D104=G96)=1,VLOOKUP(C96,tablepts,F105+1)+10,VLOOKUP(C96,tablepts,F105+1))) -> 16 | F105: =IF(B105="","",F104-1) -> 3
A106: 9 | B106: Laetitia | C106: Laetitia | D106: =_xlfn.IFS(B106<>C106,C106,B106=C106,B106) -> Laetitia | E106: =IF(D106="","",IF(SUMPRODUCT(C97:C105=D106,D97:D105=G96)=1,VLOOKUP(C96,tablepts,F106+1)+10,VLOOKUP(C96,tablepts,F106+1))) -> 19 | F106: =IF(B106="","",F105-1) -> 2
A107: 10 | B107: Julien L | C107: Julien L | D107: =_xlfn.IFS(B107<>C107,C107,B107=C107,B107) -> Julien L | E107: =IF(D107="","",IF(SUMPRODUCT(C97:C106=D107,D97:D106=G96)=1,VLOOKUP(C96,tablepts,F107+1)+10,VLOOKUP(C96,tablepts,F107+1))) -> 21 | F107: =IF(B107="","",F106-1) -> 1
...

Sheet RECAP
B2: RESULT Q1
B3: Pseudo | C3: Points | D3: Nb de Game | E3: Moy 8 (High)
B4: Brice | C4: =SUMIF(DATA!B:B,B4,DATA!E:E) -> 151 | D4: =COUNTIF('[1]1T 2018'!B:B,IF(B4="",0,B4)) -> 12 | E4: =IF(D4<8,C4,"UP") -> UP
B5: Quentin | C5: =SUMIF(DATA!B:B,B5,DATA!E:E) -> 110 | D5: =COUNTIF('[1]1T 2018'!B:B,IF(B5="",0,B5)) -> 10 | E5: =IF(D5<8,C5,"UP") -> UP
B6: Yongrong | C6: =SUMIF(DATA!B:B,B6,DATA!E:E) -> 72 | D6: =COUNTIF('[1]1T 2018'!B:B,IF(B6="",0,B6)) -> 5 | E6: =IF(D6<8,C6,"UP") -> 72
B7: Ammar | C7: =SUMIF(DATA!B:B,B7,DATA!E:E) -> 137 | D7: =COUNTIF('[1]1T 2018'!B:B,IF(B7="",0,B7)) -> 11 | E7: =IF(D7<8,C7,"UP") -> UP
B8: Nicolas | C8: =SUMIF(DATA!B:B,B8,DATA!E:E) -> 156 | D8: =COUNTIF('[1]1T 2018'!B:B,IF(B8="",0,B8)) -> 11 | E8: =IF(D8<8,C8,"UP") -> UP
B9: Nabil | C9: =SUMIF(DATA!B:B,B9,DATA!E:E) -> 98 | D9: =COUNTIF('[1]1T 2018'!B:B,IF(B9="",0,B9)) -> 8 | E9: =IF(D9<8,C9,"UP") -> UP
B10: Eric | C10: =SUMIF(DATA!B:B,B10,DATA!E:E) -> 132 | D10: =COUNTIF('[1]1T 2018'!B:B,IF(B10="",0,B10)) -> 10 | E10: =IF(D10<8,C10,"UP") -> UP
B11: Alain | C11: =SUMIF(DATA!B:B,B11,DATA!E:E) -> 99 | D11: =COUNTIF('[1]1T 2018'!B:B,IF(B11="",0,B11)) -> 10 | E11: =IF(D11<8,C11,"UP") -> UP
B12: Julien L | C12: =SUMIF(DATA!B:B,B12,DATA!E:E) -> 184 | D12: =COUNTIF('[1]1T 2018'!B:B,IF(B12="",0,B12)) -> 9 | E12: =IF(D12<8,C12,"UP") -> UP
B13: Christian | C13: =SUMIF(DATA!B:B,B13,DATA!E:E) -> 65 | D13: =COUNTIF('[1]1T 2018'!B:B,IF(B13="",0,B13)) -> 10 | E13: =IF(D13<8,C13,"UP") -> UP
B14: Julien P | C14: =SUMIF(DATA!B:B,B14,DATA!E:E) -> 41 | D14: =COUNTIF('[1]1T 2018'!B:B,IF(B14="",0,B14)) -> 3 | E14: =IF(D14<8,C14,"UP") -> 41
B15: Yonnel | C15: =SUMIF(DATA!B:B,B15,DATA!E:E) -> 66 | D15: =COUNTIF('[1]1T 2018'!B:B,IF(B15="",0,B15)) -> 8 | E15: =IF(D15<8,C15,"UP") -> UP
... B18: Romain | C18: =SUMIF(DATA!B:B,B18,DATA!E:E) -> 131 | D18: =COUNTIF('[1]1T 2018'!B:B,IF(B18="",0,B18)) -> 6 | E18: =IF(D18<8,C18,"UP") -> 131
