Workbook
Name membres: '[1]Resultats & classement'!$C$5:$C$104
Name tablepts: [1]RepartPoints!$A$2:$AG$31

Sheet DATA
B1: Date | C1: Nbres de joueurs | D1: Partie N°
B2: 43104 | C2: =COUNTA(B4:B13) -> 10 | D2: 1 | G2: Yonnel
B3: joueurs participants | C3: vainqueur | D3: vaincu / 1er | E3: Pts | F3: Classement
A4: 1 | B4: Brice | C4: Laetitia | D4: =_xlfn.IFS(B4<>C4,C4,B4=C4,B4) -> Laetitia | E4: =IF(C2=F4,0) -> 0 | F4: =IF(C2=0,"",C2) -> 10 | G4: 0.87569444
A5: 2 | B5: Nicolas | C5: Yonnel | D5: =_xlfn.IFS(B5<>C5,C5,B5=C5,B5) -> Yonnel | E5: =IF(D5="","",IF(SUMPRODUCT(C3:C4=D5,D3:D4=G2)=1,VLOOKUP(C2,tablepts,F5+1)+10,VLOOKUP(C2,tablepts,F5+1))) -> 1 | F5: =IF(B5="","",F4-1) -> 9 | G5: 0.87569444
A6: 3 | B6: Guillaume | C6: Yonnel | D6: =_xlfn.IFS(B6<>C6,C6,B6=C6,B6) -> Yonnel | E6: =IF(D6="","",IF(SUMPRODUCT(C3:C5=D6,D3:D5=G2)=1,VLOOKUP(C2,tablepts,F6+1)+10,VLOOKUP(C2,tablepts,F6+1))) -> 2 | F6: =IF(B6="","",F5-1) -> 8 | G6: 0.89722222
A7: 4 | B7: Alain | C7: Yonnel | D7: =_xlfn.IFS(B7<>C7,C7,B7=C7,B7) -> Yonnel | E7: =IF(D7="","",IF(SUMPRODUCT(C3:C6=D7,D3:D6=G2)=1,VLOOKUP(C2,tablepts,F7+1)+10,VLOOKUP(C2,tablepts,F7+1))) -> 4 | F7: =IF(B7="","",F6-1) -> 7 | G7: 0.92152778
A8: 5 | B8: Quentin | C8: Nabil | D8: =_xlfn.IFS(B8<>C8,C8,B8=C8,B8) -> Nabil | E8: =IF(D8="","",IF(SUMPRODUCT(C3:C7=D8,D3:D7=G2)=1,VLOOKUP(C2,tablepts,F8+1)+10,VLOOKUP(C2,tablepts,F8+1))) -> 7 | F8: =IF(B8="","",F7-1) -> 6 | G8: 0.92777778
A9: 6 | B9: Julien L | C9: Yonnel | D9: =_xlfn.IFS(B9<>C9,C9,B9=C9,B9) -> Yonnel | E9: =IF(D9="","",IF(SUMPRODUCT(C3:C8=D9,D3:D8=G2)=1,VLOOKUP(C2,tablepts,F9+1)+10,VLOOKUP(C2,tablepts,F9+1))) -> 10 | F9: =IF(B9="","",F8-1) -> 5 | G9: 0.92916667
A10: 7 | B10: Laetitia | C10: Laetitia | D10: =_xlfn.IFS(B10<>C10,C10,B10=C10,B10) -> Laetitia | E10: =IF(D10="","",IF(SUMPRODUCT(C3:C9=D10,D3:D9=G2)=1,VLOOKUP(C2,tablepts,F10+1)+10,VLOOKUP(C2,tablepts,F10+1))) -> 13 | F10: =IF(B10="","",F9-1) -> 4 | G10: 0.93055556
A11: 8 | B11: Yongrong | C11: Yongrong | D11: =_xlfn.IFS(B11<>C11,C11,B11=C11,B11) -> Yongrong | E11: =IF(D11="","",IF(SUMPRODUCT(C3:C10=D11,D3:D10=G2)=1,VLOOKUP(C2,tablepts,F11+1)+10,VLOOKUP(C2,tablepts,F11+1))) -> 16 | F11: =IF(B11="","",F10-1) -> 3 | G11: 0.93958333
A12: 9 | B12: Nabil | C12: Nabil | D12: =_xlfn.IFS(B12<>C12,C12,B12=C12,B12) -> Nabil | E12: =IF(D12="","",IF(SUMPRODUCT(C3:C11=D12,D3:D11=G2)=1,VLOOKUP(C2,tablepts,F12+1)+10,VLOOKUP(C2,tablepts,F12+1))) -> 19 | F12: =IF(B12="","",F11-1) -> 2 | G12: 0.94097222
A13: 10 | B13: Yonnel | C13: Yonnel | D13: =_xlfn.IFS(B13<>C13,C13,B13=C13,B13) -> Yonnel | E13: =IF(D13="","",IF(SUMPRODUCT(C3:C12=D13,D3:D12=G2)=1,VLOOKUP(C2,tablepts,F13+1)+10,VLOOKUP(C2,tablepts,F13+1))) -> 21 | F13: =IF(B13="","",F12-1) -> 1 | G13: 0.94513889
B16: Date | C16: Nbres de joueurs | D16: Partie N° | G16: =IF(C17=0,"",VLOOKUP(RANDBETWEEN(1,C17),A19:B31,2,0)) -> Yongrong
B17: 43110 | C17: =COUNTA(B19:B31) -> 13 | D17: 2 | G17: Poket
B18: joueurs participants | C18: vainqueur | D18: vaincu / 1er | E18: Pts | F18: Classement | G18: à
A19: 1 | B19: Ammar | C19: Nicolas | D19: =_xlfn.IFS(B19<>C19,C19,B19=C19,B19) -> Nicolas | E19: =IF(C17=F19,0) -> 0 | F19: =IF(C17=0,"",C17) -> 13 | G19: 0.64236111
A20: 2 | B20: Yongrong | C20: Julien P | D20: =_xlfn.IFS(B20<>C20,C20,B20=C20,B20) -> Julien P | E20: =IF(D20="","",IF(SUMPRODUCT(C18:C19=D20,D18:D19=G17)=1,VLOOKUP(C17,tablepts,F20+1)+10,VLOOKUP(C17,tablepts,F20+1))) -> 1 | F20: =IF(B20="","",F19-1) -> 12 | G20: 0.65625
A21: 3 | B21: Laetitia | C21: Brice | D21: =_xlfn.IFS(B21<>C21,C21,B21=C21,B21) -> Brice | E21: =IF(D21="","",IF(SUMPRODUCT(C18:C20=D21,D18:D20=G17)=1,VLOOKUP(C17,tablepts,F21+1)+10,VLOOKUP(C17,tablepts,F21+1))) -> 2 | F21: =IF(B21="","",F20-1) -> 11 | G21: 0.66458333
A22: 4 | B22: Quentin | C22: Guillaume S | D22: =_xlfn.IFS(B22<>C22,C22,B22=C22,B22) -> Guillaume S | E22: =IF(D22="","",IF(SUMPRODUCT(C18:C21=D22,D18:D21=G17)=1,VLOOKUP(C17,tablepts,F22+1)+10,VLOOKUP(C17,tablepts,F22+1))) -> 4 | F22: =IF(B22="","",F21-1) -> 10 | G22: 0.68055556
A23: 5 | B23: Yonnel | C23: Yonnel | D23: =_xlfn.IFS(B23<>C23,C23,B23=C23,B23) -> Yonnel | E23: =IF(D23="","",IF(SUMPRODUCT(C18:C22=D23,D18:D22=G17)=1,VLOOKUP(C17,tablepts,F23+1)+10,VLOOKUP(C17,tablepts,F23+1))) -> 7 | F23: =IF(B23="","",F22-1) -> 9 | G23: 0.69513889
A24: 6 | B24: Eric | C24: Eric | D24: =_xlfn.IFS(B24<>C24,C24,B24=C24,B24) -> Eric | E24: =IF(D24="","",IF(SUMPRODUCT(C18:C23=D24,D18:D23=G17)=1,VLOOKUP(C17,tablepts,F24+1)+10,VLOOKUP(C17,tablepts,F24+1))) -> 10 | F24: =IF(B24="","",F23-1) -> 8 | G24: 0.70694444
A25: 7 | B25: Alain | C25: Alain | D25: =_xlfn.IFS(B25<>C25,C25,B25=C25,B25) -> Alain | E25: =IF(D25="","",IF(SUMPRODUCT(C18:C24=D25,D18:D24=G17)=1,VLOOKUP(C17,tablepts,F25+1)+10,VLOOKUP(C17,tablepts,F25+1))) -> 13 | F25: =IF(B25="","",F24-1) -> 7 | G25: 0.71041667
A26: 8 | B26: Nabil | C26: Nabil | D26: =_xlfn.IFS(B26<>C26,C26,B26=C26,B26) -> Nabil | E26: =IF(D26="","",IF(SUMPRODUCT(C18:C25=D26,D18:D25=G17)=1,VLOOKUP(C17,tablepts,F26+1)+10,VLOOKUP(C17,tablepts,F26+1))) -> 16 | F26: =IF(B26="","",F25-1) -> 6 | G26: 0.72638889
A27: 9 | B27: Guillaume | C27: Guillaume | D27: =_xlfn.IFS(B27<>C27,C27,B27=C27,B27) -> Guillaume | E27: =IF(D27="","",IF(SUMPRODUCT(C18:C26=D27,D18:D26=G17)=1,VLOOKUP(C17,tablepts,F27+1)+10,VLOOKUP(C17,tablepts,F27+1))) -> 19 | F27: =IF(B27="","",F26-1) -> 5 | G27: 0.74305556
A28: 10 | B28: Brice | C28: Laetitia | D28: =_xlfn.IFS(B28<>C28,C28,B28=C28,B28) -> Laetitia | E28: =IF(D28="","",IF(SUMPRODUCT(C18:C27=D28,D18:D27=G17)=1,VLOOKUP(C17,tablepts,F28+1)+10,VLOOKUP(C17,tablepts,F28+1))) -> 21 | F28: =IF(B28="","",F27-1) -> 4 | G28: 0.74652778
A29: 11 | B29: Nicolas | C29: Nicolas | D29: =_xlfn.IFS(B29<>C29,C29,B29=C29,B29) -> Nicolas | E29: =IF(D29="","",IF(SUMPRODUCT(C18:C28=D29,D18:D28=G17)=1,VLOOKUP(C17,tablepts,F29+1)+10,VLOOKUP(C17,tablepts,F29+1))) -> 25 | F29: =IF(B29="","",F28-1) -> 3
A30: 12 | B30: Christian | C30: christian | D30: =_xlfn.IFS(B30<>C30,C30,B30=C30,B30) -> Christian | E30: =IF(D30="","",IF(SUMPRODUCT(C18:C29=D30,D18:D29=G17)=1,VLOOKUP(C17,tablepts,F30+1)+10,VLOOKUP(C17,tablepts,F30+1))) -> 29 | F30: =IF(B30="","",F29-1) -> 2
A31: 13 | B31: Julien P | C31: Julien P | D31: =_xlfn.IFS(B31<>C31,C31,B31=C31,B31) -> Julien P | E31: =IF(D31="","",IF(SUMPRODUCT(C18:C30=D31,D18:D30=G17)=1,VLOOKUP(C17,tablepts,F31+1)+10,VLOOKUP(C17,tablepts,F31+1))) -> 33 | F31: =IF(B31="","",F30-1) -> 1
B33: Date | C33: Nbres de joueurs | D33: Partie N° | G33: =IF(C34=0,"",VLOOKUP(RANDBETWEEN(1,C34),A36:B50,2,0)) -> Eric
B34: =B17+7 -> 43117 | C34: =COUNTA(B36:B50) -> 15 | D34: 3
B35: joueurs participants | C35: vainqueur | D35: vaincu / 1er | E35: Pts | F35: Classement | G35: à
A36: 1 | B36: Yonnel | C36: Brice | D36: =_xlfn.IFS(B36<>C36,C36,B36=C36,B36) -> Brice | E36: =IF(C34=F36,0) -> 0 | F36: =IF(C34=0,"",C34) -> 15
A37: 2 | B37: Ammar | C37: Brice | D37: =_xlfn.IFS(B37<>C37,C37,B37=C37,B37) -> Brice | E37: =IF(D37="","",IF(SUMPRODUCT(C35:C36=D37,D35:D36=G34)=1,VLOOKUP(C34,tablepts,F37+1)+10,VLOOKUP(C34,tablepts,F37+1))) -> 1 | F37: =IF(B37="","",F36-1) -> 14
A38: 3 | B38: Quentin | C38: Brice | D38: =_xlfn.IFS(B38<>C38,C38,B38=C38,B38) -> Brice | E38: =IF(D38="","",IF(SUMPRODUCT(C35:C37=D38,D35:D37=G34)=1,VLOOKUP(C34,tablepts,F38+1)+10,VLOOKUP(C34,tablepts,F38+1))) -> 2 | F38: =IF(B38="","",F37-1) -> 13
A39: 4 | B39: Julien P | C39: Alain | D39: =_xlfn.IFS(B39<>C39,C39,B39=C39,B39) -> Alain | E39: =IF(D39="","",IF(SUMPRODUCT(C35:C38=D39,D35:D38=G34)=1,VLOOKUP(C34,tablepts,F39+1)+10,VLOOKUP(C34,tablepts,F39+1))) -> 4 | F39: =IF(B39="","",F38-1) -> 12
A40: 5 | B40: Laetitia | C40: Alain | D40: =_xlfn.IFS(B40<>C40,C40,B40=C40,B40) -> Alain | E40: =IF(D40="","",IF(SUMPRODUCT(C35:C39=D40,D35:D39=G34)=1,VLOOKUP(C34,tablepts,F40+1)+10,VLOOKUP(C34,tablepts,F40+1))) -> 7 | F40: =IF(B40="","",F39-1) -> 11
A41: 6 | B41: Nabil | C41: Nabil | D41: =_xlfn.IFS(B41<>C41,C41,B41=C41,B41) -> Nabil | E41: =IF(D41="","",IF(SUMPRODUCT(C35:C40=D41,D35:D40=G34)=1,VLOOKUP(C34,tablepts,F41+1)+10,VLOOKUP(C34,tablepts,F41+1))) -> 10 | F41: =IF(B41="","",F40-1) -> 10
A42: 7 | B42: Yongrong | C42: Yongrong | D42: =_xlfn.IFS(B42<>C42,C42,B42=C42,B42) -> Yongrong | E42: =IF(D42="","",IF(SUMPRODUCT(C35:C41=D42,D35:D41=G34)=1,VLOOKUP(C34,tablepts,F42+1)+10,VLOOKUP(C34,tablepts,F42+1))) -> 13 | F42: =IF(B42="","",F41-1) -> 9
A43: 8 | B43: Christian | C43: Chistian | D43: =_xlfn.IFS(B43<>C43,C43,B43=C43,B43) -> Chistian | E43: =IF(D43="","",IF(SUMPRODUCT(C35:C42=D43,D35:D42=G34)=1,VLOOKUP(C34,tablepts,F43+1)+10,VLOOKUP(C34,tablepts,F43+1))) -> 16 | F43: =IF(B43="","",F42-1) -> 8
...

Sheet RECAP
B2: RESULT Q1
B3: Pseudo | C3: Points | D3: Nb de Game | E3: Moy 8 (High)
B4: Brice | C4: =SUMIF(DATA!B:B,B4,DATA!E:E) -> 151 | D4: =COUNTIF('[1]1T 2018'!B:B,IF(B4="",0,B4)) -> 12 | E4: =IF(D4<8,C4,"UP") -> UP
B5: Quentin | C5: =SUMIF(DATA!B:B,B5,DATA!E:E) -> 110 | D5: =COUNTIF('[1]1T 2018'!B:B,IF(B5="",0,B5)) -> 10 | E5: =IF(D5<8,C5,"UP") -> UP
B6: Yongrong | C6: =SUMIF(DATA!B:B,B6,DATA!E:E) -> 72 | D6: =COUNTIF('[1]1T 2018'!B:B,IF(B6="",0,B6)) -> 5 | E6: =IF(D6<8,C6,"UP") -> 72
B7: Ammar | C7: =SUMIF(DATA!B:B,B7,DATA!E:E) -> 137 | D7: =COUNTIF('[1]1T 2018'!B:B,IF(B7="",0,B7)) -> 11 | E7: =IF(D7<8,C7,"UP") -> UP
B8: Nicolas | C8: =SUMIF(DATA!B:B,B8,DATA!E:E) -> 156 | D8: =COUNTIF('[1]1T 2018'!B:B,IF(B8="",0,B8)) -> 11 | E8: =IF(D8<8,C8,"UP") -> UP
B9: Nabil | C9: =SUMIF(DATA!B:B,B9,DATA!E:E) -> 98 | D9: =COUNTIF('[1]1T 2018'!B:B,IF(B9="",0,B9)) -> 8 | E9: =IF(D9<8,C9,"UP") -> UP
B10: Eric | C10: =SUMIF(DATA!B:B,B10,DATA!E:E) -> 132 | D10: =COUNTIF('[1]1T 2018'!B:B,IF(B10="",0,B10)) -> 10 | E10: =IF(D10<8,C10,"UP") -> UP
B11: Alain | C11: =SUMIF(DATA!B:B,B11,DATA!E:E) -> 99 | D11: =COUNTIF('[1]1T 2018'!B:B,IF(B11="",0,B11)) -> 10 | E11: =IF(D11<8,C11,"UP") -> UP
B12: Julien L | C12: =SUMIF(DATA!B:B,B12,DATA!E:E) -> 184 | D12: =COUNTIF('[1]1T 2018'!B:B,IF(B12="",0,B12)) -> 9 | E12: =IF(D12<8,C12,"UP") -> UP
B13: Christian | C13: =SUMIF(DATA!B:B,B13,DATA!E:E) -> 65 | D13: =COUNTIF('[1]1T 2018'!B:B,IF(B13="",0,B13)) -> 10 | E13: =IF(D13<8,C13,"UP") -> UP
B14: Julien P | C14: =SUMIF(DATA!B:B,B14,DATA!E:E) -> 41 | D14: =COUNTIF('[1]1T 2018'!B:B,IF(B14="",0,B14)) -> 3 | E14: =IF(D14<8,C14,"UP") -> 41
B15: Yonnel | C15: =SUMIF(DATA!B:B,B15,DATA!E:E) -> 66 | D15: =COUNTIF('[1]1T 2018'!B:B,IF(B15="",0,B15)) -> 8 | E15: =IF(D15<8,C15,"UP") -> UP
... B18: Romain | C18: =SUMIF(DATA!B:B,B18,DATA!E:E) -> 131 | D18: =COUNTIF('[1]1T 2018'!B:B,IF(B18="",0,B18)) -> 6 | E18: =IF(D18<8,C18,"UP") -> 131
