Workbook

Sheet Notice
A1: Notice explicative d'exploitation du Fichier "GCAD-Présences"
A3: Pour ajouter un choriste (Méthode intégrale) | C3: Cette méthode facilite la saisie des présences, car tous les noms sont dans le même ordre que les feuilles de collecte des visas. Elle présente cependant l'inconvénient d'être lourde à mettre en œuvre.
A4: Onglet "Choristes" | C4: Insérer la ligne devant recevoir le nouveau nom
C5: Mettre à jour la colonne A qui sert à compter le nombre de choristes
C6: Saisir le nom et le prénom (en B), le pupitre (en C), et l'atelier de rattachement (en C)
B7: Conséquences | C7: Le nombre de visas attendus est automatiquement mis à jour dans l'onglet "Répartitions"
A9: Onglet "Répartition" | B9: Colonnes O à Z | C9: Modifier manuellement la répartition des choristes dans l'onglet "Répartition" (Partie non encore automatisée). Attention Copier-Coller en décalant d'une case et remplacer le nom en double par le nouveau. Ne jamais Couper-Coller, qui entraîne une erreur dans les feuilles d'émargement. Procéder par Copier-Coller-effacer
B10: Colonnes D et E | C10: Vérifier le nouveau nombre total de choristes et les nombres dans chaque groupe et dans chaque pupitre
A12: Onglet "Présences, excuses" | B12: Colonnes E à J et N O | C12: Afficher les colonnes masquées
C13: Insérer la ligne devant recevoir le nouveau nom
C14: Sélectionner les formules de la ligne immédiatement supérieure et faire glisser pour mettre à jour les formules jusqu'en bas de tableau
C15: Masquer les colonnes inutiles à l'affichage E à J et N O
B16: Conséquences | C16: Le nouveau nom est apparu et tout est prêt pour recevoir les pointages de la nouvelle personne
A18: Onglet "Tx P Ind" | B18: Colonnes E à H et J K | C18: Afficher les colonnes masquées
C19: Insérer la ligne devant recevoir le nouveau nom
C20: Sélectionner les formules de la ligne immédiatement supérieure et faire glisser pour mettre à jour les formules jusqu'en bas de tableau
C21: Masquer les colonnes inutiles à l'affichage E à H et J K
B22: Conséquences | C22: Le nouveau nom est apparu et tout est prêt pour recevoir les pointages de la nouvelle personne
A24: Onglet "Tx P Ind" | B24: ATTENTION : | C24: Vérifier que les choristes déplacés n'ont pas d'erreur de calcul dans leur pourcentage de présence.
C25: Pour cela : Imprimer la colonne des derniers résultats connus sur le fichier antérieur et comparer avec la même impression sur le fichier comportant le nouveau nom
A27: Onglets "Feuilles d'émargement" | C27: Les noms des choristes étant automatisés il n'y pas de nécessité d'intervenir sur ces onglets.
A29: Pour ajouter un choriste (Méthode allégée) | C29: Cette méthode simplifie la prise en compte des nouveaux en cours d'année, en évitant les erreurs de statistiques éventuelles, en cas d'erreur de décalage des saisies précédentes (méthode intégrale). Elle présente l'inconvénient de supprimer la logique de classement par ordre alphabétique identique sur les feuilles de présence, et sur l'onglet de saisie .
A30: Onglet "Choristes" | C30: Ajouter le nouveau en cours d'année à la suite de la liste précédente (rubrique "Arrivée en cours d'année".
A31: Onglet "Répartitions" | C31: Modifier manuellement la répartition des choristes dans l'onglet "Répartition" (Partie non encore automatisée). Attention Copier-Coller en décalant d'une case et remplacer le nom en double par le nouveau. Ne jamais Couper-Coller, qui entraîne une erreur dans les feuilles d'émargement. Procéder par Copier-Coller-effacer
B32: Conséquences | C32: Tous est instantanément en place pour l'exploitation du présent fichier (saisie des excuses, des présences et calcul des taux de présence individuels et collectifs)
A34: Pour ajouter un choriste (Synthèse des deux méthodes) | C34: Utiliser éventuellement la méthode allégée jusqu'à Noël, puis intégrer tous les nouveaux avant la reprise de Janvier. Le nombre de séances restantes étant par nature insuffisant pour assurer les 75% de présence requis. Sauf exception de chanteurs qui ont déjà chanté le programme précédemment, et dont l'audition d'accueil serait favorable. Ce qui limite tout de même le nombre de cas.
A36: Pour supprimer un choriste :
A37: Onglet "Choristes" | C37: Effacer le nom, le pupitre et le lieux de répétition (cellules blanches). Ne pas décaler les autres choristes au rique de fausser les résultats des taux de présence individuels et collectifs. La suppression définitive sera faite lors de l'initialisation du fichier pour la saison suivante. Dans l'absolu, on pourrait faire l'opération inverse de l'ajout d'un choriste (avec décalage de toutes les lignes de traitement statistique de taux de présence). Mais dans ce cas, cette opération ne présente pas de nécessité impérative, ni d'intérêt particulier autre qu'un intérêt de présentation.
A38: Onglet "Répartitions" | C38: Effacer le nom dans les colonnes de répartitions, qui génèrent les feuilles de présences. Le décalage des autres choristes dans ces colonnes ne comporte aucun risque d'erreur de traitement dans les autres onglets.
B39: Conséquences | C39: Les nombres de choristes seront mis à jour automatiquement avec toutes les statistiques qui y sont associées, même si la cellule du choriste parti reste vide.
A41: Pour ajouter une date :
A42: Onglet "Date" | C42: Repérer la position de la ligne à insérer
C43: Insérer la nouvelle ligne. Saisir la date, les horaires, et le type d'atelier. Mettre à jour le numéro de ligne (colonne C) et le comptage des répètes (colonne B)
B44: Conséquences | C44: Le jour de la semaine est automatique. La couleur de l'atelier est automatique. Le nom du correspondant pour les feuilles d'émargement est automatique
C45: Le nombre de séances est automatiquement mis à jour
C46: Le nombre de visas attendus est automatiquement mis à jour dans l'onglet "Répartitions"
A48: Onglet "Présences/Excuses" | C48: Les colonnes de cet onglet sont générées par le N° de ligne de l'onglet "Dates" (colonne C). L'ajout d'une date ne nécessite donc aucune intervention sur cet onglet, sauf de décaler les absences déjà saisies.
C49: Ignorer les consignes ci-dessous. A valider à l'usage.
A50: Lignes à supprimer si OK Attention : Ces lignes restent indispensables si des saisies ont déjà été effectuées après la date ajioutée. Ce qui devrait être rare. | C50: Repérer l'emplacement de la nouvelle date. Insérer une colonne. Afficher les lignes masquées de 7 à 15 (pour mise à jour des formules de calcul qui sont cachées dans ces lignes).
B51: Lignes 2 à 15 | C51: Reproduire les formules à partir de la colonne immédiatement à gauche.
...

Sheet Dates
D2: Dates des répétitions et type d'atelier | K2: Gestion des feuilles d'émargement | O2: Organisation des feuilles vierges d'émargement
K3: Resp. feuilles | L3: Feuilles préparées | M3: Feuilles distribuées
C4: 68 | E4: Jour | F4: Date | G4: Heures | H4: Type | I4: P
A5: =B5/($C$4) -> 0.014705882 | B5: 1 | C5: 1 | D5: SEP | E5: =IF(F5<>0,IF(WEEKDAY(F5,2)=1,"Lundi",IF(WEEKDAY(F5,2)=2,"Mardi",IF(WEEKDAY(F5,2)=3,"Mercredi",IF(WEEKDAY(F5,2)=4,"Jeudi",IF(WEEKDAY(F5,2)=5,"Vendredi",IF(WEEKDAY(F5,2)=6,"Samedi",IF(WEEKDAY(F5,2)=7,"Dimanche",))))))),) -> Dimanche | F5: 42988 | G5: 09:30-12:00 | H5: TM | K5: =IF(H5<>0,IF(H5="TM","Nadine",IF(H5="AS","Nadine",IF(H5="AR","Michel",IF(H5="TH","Guy",IF(H5="TF","Nadine","Guy"))))),) -> Nadine | L5: 42983 | M5: 42957 | O5: Type | Q5: TM | R5: AS | S5: AR | T5: TH | U5: TF
A6: =B6/($C$4) -> 0.029411765 | B6: 2 | C6: 2 | E6: =IF(F6<>0,IF(WEEKDAY(F6,2)=1,"Lundi",IF(WEEKDAY(F6,2)=2,"Mardi",IF(WEEKDAY(F6,2)=3,"Mercredi",IF(WEEKDAY(F6,2)=4,"Jeudi",IF(WEEKDAY(F6,2)=5,"Vendredi",IF(WEEKDAY(F6,2)=6,"Samedi",IF(WEEKDAY(F6,2)=7,"Dimanche",))))))),) -> Dimanche | F6: 42988 | G6: 14:00-17:00 | H6: TM | K6: =IF(H6<>0,IF(H6="TM","Nadine",IF(H6="AS","Nadine",IF(H6="AR","Michel",IF(H6="TH","Guy",IF(H6="TF","Nadine","Guy"))))),) -> Nadine | L6: 42983 | M6: 42957
A7: =B7/($C$4) -> 0.044117647 | B7: 3 | C7: 3 | E7: =IF(F7<>0,IF(WEEKDAY(F7,2)=1,"Lundi",IF(WEEKDAY(F7,2)=2,"Mardi",IF(WEEKDAY(F7,2)=3,"Mercredi",IF(WEEKDAY(F7,2)=4,"Jeudi",IF(WEEKDAY(F7,2)=5,"Vendredi",IF(WEEKDAY(F7,2)=6,"Samedi",IF(WEEKDAY(F7,2)=7,"Dimanche",))))))),) -> Lundi | F7: 42996 | G7: 20:00-22:00 | H7: AR | K7: =IF(H7<>0,IF(H7="TM","Nadine",IF(H7="AS","Nadine",IF(H7="AR","Michel",IF(H7="TH","Guy",IF(H7="TF","Nadine","Guy"))))),) -> Michel | L7: 42977 | M7: 42957 | O7: 1 | P7: Sopranes (Sa+Ro) | Q7: =Répartitions!F26 -> 24 | U7: =Q7 -> 24
A8: =B8/($C$4) -> 0.058823529 | B8: 4 | C8: 4 | E8: =IF(F8<>0,IF(WEEKDAY(F8,2)=1,"Lundi",IF(WEEKDAY(F8,2)=2,"Mardi",IF(WEEKDAY(F8,2)=3,"Mercredi",IF(WEEKDAY(F8,2)=4,"Jeudi",IF(WEEKDAY(F8,2)=5,"Vendredi",IF(WEEKDAY(F8,2)=6,"Samedi",IF(WEEKDAY(F8,2)=7,"Dimanche",))))))),) -> Mardi | F8: 42997 | G8: 20:30-22:30 | H8: AS | K8: =IF(H8<>0,IF(H8="TM","Nadine",IF(H8="AS","Nadine",IF(H8="AR","Michel",IF(H8="TH","Guy",IF(H8="TF","Nadine","Guy"))))),) -> Nadine | L8: 42983 | M8: 42957 | O8: 2 | P8: Alti (Sa+Ro) | Q8: =Répartitions!F27 -> 34 | U8: =Q8 -> 34
A9: =B9/($C$4) -> 0.073529412 | B9: 5 | C9: 5 | E9: =IF(F9<>0,IF(WEEKDAY(F9,2)=1,"Lundi",IF(WEEKDAY(F9,2)=2,"Mardi",IF(WEEKDAY(F9,2)=3,"Mercredi",IF(WEEKDAY(F9,2)=4,"Jeudi",IF(WEEKDAY(F9,2)=5,"Vendredi",IF(WEEKDAY(F9,2)=6,"Samedi",IF(WEEKDAY(F9,2)=7,"Dimanche",))))))),) -> Lundi | F9: 43003 | G9: 20:00-22:00 | H9: AR | K9: =IF(H9<>0,IF(H9="TM","Nadine",IF(H9="AS","Nadine",IF(H9="AR","Michel",IF(H9="TH","Guy",IF(H9="TF","Nadine","Guy"))))),) -> Michel | L9: 42977 | M9: 42957 | O9: 3 | P9: Ténors (Sa+Ro) | Q9: =Répartitions!J30 -> 30 | T9: =Q9 -> 30
A10: =B10/($C$4) -> 0.088235294 | B10: 6 | C10: 6 | E10: =IF(F10<>0,IF(WEEKDAY(F10,2)=1,"Lundi",IF(WEEKDAY(F10,2)=2,"Mardi",IF(WEEKDAY(F10,2)=3,"Mercredi",IF(WEEKDAY(F10,2)=4,"Jeudi",IF(WEEKDAY(F10,2)=5,"Vendredi",IF(WEEKDAY(F10,2)=6,"Samedi",IF(WEEKDAY(F10,2)=7,"Dimanche",))))))),) -> Mardi | F10: 43004 | G10: 20:30-22:30 | H10: AS | K10: =IF(H10<>0,IF(H10="TM","Nadine",IF(H10="AS","Nadine",IF(H10="AR","Michel",IF(H10="TH","Guy",IF(H10="TF","Nadine","Guy"))))),) -> Nadine | L10: 42983 | M10: 42957 | P10: Basses (Sa+Ro)
A11: =B11/($C$4) -> 0.10294118 | B11: 7 | C11: 7 | E11: =IF(F11<>0,IF(WEEKDAY(F11,2)=1,"Lundi",IF(WEEKDAY(F11,2)=2,"Mardi",IF(WEEKDAY(F11,2)=3,"Mercredi",IF(WEEKDAY(F11,2)=4,"Jeudi",IF(WEEKDAY(F11,2)=5,"Vendredi",IF(WEEKDAY(F11,2)=6,"Samedi",IF(WEEKDAY(F11,2)=7,"Dimanche",))))))),) -> Samedi | F11: 43008 | G11: 20:00-22:00 | H11: TM | K11: =IF(H11<>0,IF(H11="TM","Nadine",IF(H11="AS","Nadine",IF(H11="AR","Michel",IF(H11="TH","Guy",IF(H11="TF","Nadine","Guy"))))),) -> Nadine | L11: 42983 | M11: 42957 | O11: 5 | P11: Sopranes (Sa) | R11: =Répartitions!H14 -> 17
A12: =B12/($C$4) -> 0.11764706 | B12: 8 | C12: 8 | D12: OCT | E12: =IF(F12<>0,IF(WEEKDAY(F12,2)=1,"Lundi",IF(WEEKDAY(F12,2)=2,"Mardi",IF(WEEKDAY(F12,2)=3,"Mercredi",IF(WEEKDAY(F12,2)=4,"Jeudi",IF(WEEKDAY(F12,2)=5,"Vendredi",IF(WEEKDAY(F12,2)=6,"Samedi",IF(WEEKDAY(F12,2)=7,"Dimanche",))))))),) -> Dimanche | F12: 43009 | G12: 9:30-12:00 | H12: TM | K12: =IF(H12<>0,IF(H12="TM","Nadine",IF(H12="AS","Nadine",IF(H12="AR","Michel",IF(H12="TH","Guy",IF(H12="TF","Nadine","Guy"))))),) -> Nadine | L12: 42983 | M12: 42957 | O12: 6 | P12: Alti (Sa) | R12: =Répartitions!H16 -> 24
A13: =B13/($C$4) -> 0.13235294 | B13: 9 | C13: 9 | E13: =IF(F13<>0,IF(WEEKDAY(F13,2)=1,"Lundi",IF(WEEKDAY(F13,2)=2,"Mardi",IF(WEEKDAY(F13,2)=3,"Mercredi",IF(WEEKDAY(F13,2)=4,"Jeudi",IF(WEEKDAY(F13,2)=5,"Vendredi",IF(WEEKDAY(F13,2)=6,"Samedi",IF(WEEKDAY(F13,2)=7,"Dimanche",))))))),) -> Dimanche | F13: 43009 | G13: 14:00-17:00 | H13: TM | K13: =IF(H13<>0,IF(H13="TM","Nadine",IF(H13="AS","Nadine",IF(H13="AR","Michel",IF(H13="TH","Guy",IF(H13="TF","Nadine","Guy"))))),) -> Nadine | L13: 42983 | M13: 42957 | O13: 7 | P13: Ténors (Sa) | R13: =Répartitions!H18+Répartitions!H20 -> 22
A14: =B14/($C$4) -> 0.14705882 | B14: 10 | C14: 10 | E14: =IF(F14<>0,IF(WEEKDAY(F14,2)=1,"Lundi",IF(WEEKDAY(F14,2)=2,"Mardi",IF(WEEKDAY(F14,2)=3,"Mercredi",IF(WEEKDAY(F14,2)=4,"Jeudi",IF(WEEKDAY(F14,2)=5,"Vendredi",IF(WEEKDAY(F14,2)=6,"Samedi",IF(WEEKDAY(F14,2)=7,"Dimanche",))))))),) -> Lundi | F14: 43017 | G14: 20:00-22:00 | H14: AR | K14: =IF(H14<>0,IF(H14="TM","Nadine",IF(H14="AS","Nadine",IF(H14="AR","Michel",IF(H14="TH","Guy",IF(H14="TF","Nadine","Guy"))))),) -> Michel | L14: 43038 | M14: 43008 | P14: Basses (Sa)
A15: =B15/($C$4) -> 0.16176471 | B15: 11 | C15: 11 | E15: =IF(F15<>0,IF(WEEKDAY(F15,2)=1,"Lundi",IF(WEEKDAY(F15,2)=2,"Mardi",IF(WEEKDAY(F15,2)=3,"Mercredi",IF(WEEKDAY(F15,2)=4,"Jeudi",IF(WEEKDAY(F15,2)=5,"Vendredi",IF(WEEKDAY(F15,2)=6,"Samedi",IF(WEEKDAY(F15,2)=7,"Dimanche",))))))),) -> Mardi | F15: 43018 | G15: 20:30-22:30 | H15: AS | K15: =IF(H15<>0,IF(H15="TM","Nadine",IF(H15="AS","Nadine",IF(H15="AR","Michel",IF(H15="TH","Guy",IF(H15="TF","Nadine","Guy"))))),) -> Nadine | L15: 43038 | M15: 43018 | O15: 8 | P15: Sopranes (Ro) | S15: =Répartitions!G9 -> 25
A16: =B16/($C$4) -> 0.17647059 | B16: 12 | C16: 12 | E16: =IF(F16<>0,IF(WEEKDAY(F16,2)=1,"Lundi",IF(WEEKDAY(F16,2)=2,"Mardi",IF(WEEKDAY(F16,2)=3,"Mercredi",IF(WEEKDAY(F16,2)=4,"Jeudi",IF(WEEKDAY(F16,2)=5,"Vendredi",IF(WEEKDAY(F16,2)=6,"Samedi",IF(WEEKDAY(F16,2)=7,"Dimanche",))))))),) -> Lundi | F16: 43024 | G16: 20:00-22:00 | H16: AR | K16: =IF(H16<>0,IF(H16="TM","Nadine",IF(H16="AS","Nadine",IF(H16="AR","Michel",IF(H16="TH","Guy",IF(H16="TF","Nadine","Guy"))))),) -> Michel | L16: 43038 | M16: 43008 | P16: Alti (Ro)
A17: =B17/($C$4) -> 0.19117647 | B17: 13 | C17: 13 | E17: =IF(F17<>0,IF(WEEKDAY(F17,2)=1,"Lundi",IF(WEEKDAY(F17,2)=2,"Mardi",IF(WEEKDAY(F17,2)=3,"Mercredi",IF(WEEKDAY(F17,2)=4,"Jeudi",IF(WEEKDAY(F17,2)=5,"Vendredi",IF(WEEKDAY(F17,2)=6,"Samedi",IF(WEEKDAY(F17,2)=7,"Dimanche",))))))),) -> Mardi | F17: 43025 | G17: 20:30-22:30 | H17: AS | K17: =IF(H17<>0,IF(H17="TM","Nadine",IF(H17="AS","Nadine",IF(H17="AR","Michel",IF(H17="TH","Guy",IF(H17="TF","Nadine","Guy"))))),) -> Nadine | L17: 43038 | M17: 43018 | P17: Ténors (Ro)
A18: =B18/($C$4) -> 0.20588235 | B18: 14 | C18: 14 | D18: NOV | E18: =IF(F18<>0,IF(WEEKDAY(F18,2)=1,"Lundi",IF(WEEKDAY(F18,2)=2,"Mardi",IF(WEEKDAY(F18,2)=3,"Mercredi",IF(WEEKDAY(F18,2)=4,"Jeudi",IF(WEEKDAY(F18,2)=5,"Vendredi",IF(WEEKDAY(F18,2)=6,"Samedi",IF(WEEKDAY(F18,2)=7,"Dimanche",))))))),) -> Lundi | F18: 43045 | G18: 20:00-22:00 | H18: AR | K18: =IF(H18<>0,IF(H18="TM","Nadine",IF(H18="AS","Nadine",IF(H18="AR","Michel",IF(H18="TH","Guy",IF(H18="TF","Nadine","Guy"))))),) -> Michel | L18: 43038 | M18: 43008 | P18: Basses (Ro)
A19: =B19/($C$4) -> 0.22058824 | B19: 15 | C19: 15 | E19: =IF(F19<>0,IF(WEEKDAY(F19,2)=1,"Lundi",IF(WEEKDAY(F19,2)=2,"Mardi",IF(WEEKDAY(F19,2)=3,"Mercredi",IF(WEEKDAY(F19,2)=4,"Jeudi",IF(WEEKDAY(F19,2)=5,"Vendredi",IF(WEEKDAY(F19,2)=6,"Samedi",IF(WEEKDAY(F19,2)=7,"Dimanche",))))))),) -> Mardi | F19: 43046 | G19: 20:30-22:30 | H19: AS | K19: =IF(H19<>0,IF(H19="TM","Nadine",IF(H19="AS","Nadine",IF(H19="AR","Michel",IF(H19="TH","Guy",IF(H19="TF","Nadine","Guy"))))),) -> Nadine | L19: 43038 | M19: 43018
A20: =B20/($C$4) -> 0 | C20: 16 | E20: =IF(F20<>0,IF(WEEKDAY(F20,2)=1,"Lundi",IF(WEEKDAY(F20,2)=2,"Mardi",IF(WEEKDAY(F20,2)=3,"Mercredi",IF(WEEKDAY(F20,2)=4,"Jeudi",IF(WEEKDAY(F20,2)=5,"Vendredi",IF(WEEKDAY(F20,2)=6,"Samedi",IF(WEEKDAY(F20,2)=7,"Dimanche",))))))),) -> Samedi | F20: 43050 | G20: 17:00-19:00 | H20: Nul | O20: Total Choristes | Q20: =SUM(Q7:Q18) -> 88 | R20: =SUM(R7:R18) -> 63 | S20: =SUM(S7:S18) -> 25 | T20: =SUM(T7:T18) -> 30 | U20: =SUM(U7:U18) -> 58
A21: =B21/($C$4) -> 0.23529412 | B21: 16 | C21: 17 | E21: =IF(F21<>0,IF(WEEKDAY(F21,2)=1,"Lundi",IF(WEEKDAY(F21,2)=2,"Mardi",IF(WEEKDAY(F21,2)=3,"Mercredi",IF(WEEKDAY(F21,2)=4,"Jeudi",IF(WEEKDAY(F21,2)=5,"Vendredi",IF(WEEKDAY(F21,2)=6,"Samedi",IF(WEEKDAY(F21,2)=7,"Dimanche",))))))),) -> Samedi | F21: 43050 | G21: 19:00-21:30 | H21: TM | I21: P | K21: =IF(H21<>0,IF(H21="TM","Nadine",IF(H21="AS","Nadine",IF(H21="AR","Michel",IF(H21="TH","Guy",IF(H21="TF","Nadine","Guy"))))),) -> Nadine | L21: 43021 | M21: 43025 | O21: Types à imprimer | Q21: 1-2-3 | R21: 5-6-7 | S21: 8 | T21: 3 | U21: 1-2
A22: =B22/($C$4) -> 0.25 | B22: 17 | C22: 18 | E22: =IF(F22<>0,IF(WEEKDAY(F22,2)=1,"Lundi",IF(WEEKDAY(F22,2)=2,"Mardi",IF(WEEKDAY(F22,2)=3,"Mercredi",IF(WEEKDAY(F22,2)=4,"Jeudi",IF(WEEKDAY(F22,2)=5,"Vendredi",IF(WEEKDAY(F22,2)=6,"Samedi",IF(WEEKDAY(F22,2)=7,"Dimanche",))))))),) -> Dimanche | F22: 43051 | G22: 15:00-22:00 | H22: TM | I22: P | K22: =IF(H22<>0,IF(H22="TM","Nadine",IF(H22="AS","Nadine",IF(H22="AR","Michel",IF(H22="TH","Guy",IF(H22="TF","Nadine","Guy"))))),) -> Nadine | L22: 43021 | M22: 43021 | O22: Concert Jonzac
A23: =B23/($C$4) -> 0.26470588 | B23: 18 | C23: 19 | E23: =IF(F23<>0,IF(WEEKDAY(F23,2)=1,"Lundi",IF(WEEKDAY(F23,2)=2,"Mardi",IF(WEEKDAY(F23,2)=3,"Mercredi",IF(WEEKDAY(F23,2)=4,"Jeudi",IF(WEEKDAY(F23,2)=5,"Vendredi",IF(WEEKDAY(F23,2)=6,"Samedi",IF(WEEKDAY(F23,2)=7,"Dimanche",))))))),) -> Mardi | F23: 43060 | G23: 20:30-22:30 | H23: TH | K23: =IF(H23<>0,IF(H23="TM","Nadine",IF(H23="AS","Nadine",IF(H23="AR","Michel",IF(H23="TH","Guy",IF(H23="TF","Nadine","Guy"))))),) -> Guy
A24: =B24/($C$4) -> 0.27941176 | B24: 19 | C24: 20 | E24: =IF(F24<>0,IF(WEEKDAY(F24,2)=1,"Lundi",IF(WEEKDAY(F24,2)=2,"Mardi",IF(WEEKDAY(F24,2)=3,"Mercredi",IF(WEEKDAY(F24,2)=4,"Jeudi",IF(WEEKDAY(F24,2)=5,"Vendredi",IF(WEEKDAY(F24,2)=6,"Samedi",IF(WEEKDAY(F24,2)=7,"Dimanche",))))))),) -> Lundi | F24: 43066 | G24: 20:00-22:00 | H24: AR | K24: =IF(H24<>0,IF(H24="TM","Nadine",IF(H24="AS","Nadine",IF(H24="AR","Michel",IF(H24="TH","Guy",IF(H24="TF","Nadine","Guy"))))),) -> Michel | L24: 43021 | M24: 43050
A25: =B25/($C$4) -> 0.29411765 | B25: 20 | C25: 21 | E25: =IF(F25<>0,IF(WEEKDAY(F25,2)=1,"Lundi",IF(WEEKDAY(F25,2)=2,"Mardi",IF(WEEKDAY(F25,2)=3,"Mercredi",IF(WEEKDAY(F25,2)=4,"Jeudi",IF(WEEKDAY(F25,2)=5,"Vendredi",IF(WEEKDAY(F25,2)=6,"Samedi",IF(WEEKDAY(F25,2)=7,"Dimanche",))))))),) -> Mardi | F25: 43067 | G25: 20:30-22:30 | H25: AS | K25: =IF(H25<>0,IF(H25="TM","Nadine",IF(H25="AS","Nadine",IF(H25="AR","Michel",IF(H25="TH","Guy",IF(H25="TF","Nadine","Guy"))))),) -> Nadine | L25: 43021 | M25: 43025
A26: =B26/($C$4) -> 0.30882353 | B26: 21 | C26: 22 | D26: DEC | E26: =IF(F26<>0,IF(WEEKDAY(F26,2)=1,"Lundi",IF(WEEKDAY(F26,2)=2,"Mardi",IF(WEEKDAY(F26,2)=3,"Mercredi",IF(WEEKDAY(F26,2)=4,"Jeudi",IF(WEEKDAY(F26,2)=5,"Vendredi",IF(WEEKDAY(F26,2)=6,"Samedi",IF(WEEKDAY(F26,2)=7,"Dimanche",))))))),) -> Samedi | F26: 43071 | G26: 16:00-19:00 | H26: TH | K26: =IF(H26<>0,IF(H26="TM","Nadine",IF(H26="AS","Nadine",IF(H26="AR","Michel",IF(H26="TH","Guy",IF(H26="TF","Nadine","Guy"))))),) -> Guy | L26: 43067 | M26: 43067
A27: =B27/($C$4) -> 0.32352941 | B27: 22 | C27: 23 | E27: =IF(F27<>0,IF(WEEKDAY(F27,2)=1,"Lundi",IF(WEEKDAY(F27,2)=2,"Mardi",IF(WEEKDAY(F27,2)=3,"Mercredi",IF(WEEKDAY(F27,2)=4,"Jeudi",IF(WEEKDAY(F27,2)=5,"Vendredi",IF(WEEKDAY(F27,2)=6,"Samedi",IF(WEEKDAY(F27,2)=7,"Dimanche",))))))),) -> Samedi | F27: 43071 | G27: 20:00-22:00 | H27: TM | I27: P | K27: =IF(H27<>0,IF(H27="TM","Nadine",IF(H27="AS","Nadine",IF(H27="AR","Michel",IF(H27="TH","Guy",IF(H27="TF","Nadine","Guy"))))),) -> Nadine | L27: 43067 | M27: 43067
A28: =B28/($C$4) -> 0.33823529 | B28: 23 | C28: 24 | E28: =IF(F28<>0,IF(WEEKDAY(F28,2)=1,"Lundi",IF(WEEKDAY(F28,2)=2,"Mardi",IF(WEEKDAY(F28,2)=3,"Mercredi",IF(WEEKDAY(F28,2)=4,"Jeudi",IF(WEEKDAY(F28,2)=5,"Vendredi",IF(WEEKDAY(F28,2)=6,"Samedi",IF(WEEKDAY(F28,2)=7,"Dimanche",))))))),) -> Dimanche | F28: 43072 | G28: 09:30-12:00 | H28: TM | I28: P | K28: =IF(H28<>0,IF(H28="TM","Nadine",IF(H28="AS","Nadine",IF(H28="AR","Michel",IF(H28="TH","Guy",IF(H28="TF","Nadine","Guy"))))),) -> Nadine | L28: 43067 | M28: 43067
A29: =B29/($C$4) -> 0.35294118 | B29: 24 | C29: 25 | E29: =IF(F29<>0,IF(WEEKDAY(F29,2)=1,"Lundi",IF(WEEKDAY(F29,2)=2,"Mardi",IF(WEEKDAY(F29,2)=3,"Mercredi",IF(WEEKDAY(F29,2)=4,"Jeudi",IF(WEEKDAY(F29,2)=5,"Vendredi",IF(WEEKDAY(F29,2)=6,"Samedi",IF(WEEKDAY(F29,2)=7,"Dimanche",))))))),) -> Dimanche | F29: 43072 | G29: 14:00-17:00 | H29: TM | I29: P | K29: =IF(H29<>0,IF(H29="TM","Nadine",IF(H29="AS","Nadine",IF(H29="AR","Michel",IF(H29="TH","Guy",IF(H29="TF","Nadine","Guy"))))),) -> Nadine | L29: 43067 | M29: 43067
A30: =B30/($C$4) -> 0.36764706 | B30: 25 | C30: 26 | E30: =IF(F30<>0,IF(WEEKDAY(F30,2)=1,"Lundi",IF(WEEKDAY(F30,2)=2,"Mardi",IF(WEEKDAY(F30,2)=3,"Mercredi",IF(WEEKDAY(F30,2)=4,"Jeudi",IF(WEEKDAY(F30,2)=5,"Vendredi",IF(WEEKDAY(F30,2)=6,"Samedi",IF(WEEKDAY(F30,2)=7,"Dimanche",))))))),) -> Lundi | F30: 43080 | G30: 20:00-22:00 | H30: AR | K30: =IF(H30<>0,IF(H30="TM","Nadine",IF(H30="AS","Nadine",IF(H30="AR","Michel",IF(H30="TH","Guy",IF(H30="TF","Nadine","Guy"))))),) -> Michel | L30: 43067 | M30: 43071
A31: =B31/($C$4) -> 0.38235294 | B31: 26 | C31: 27 | E31: =IF(F31<>0,IF(WEEKDAY(F31,2)=1,"Lundi",IF(WEEKDAY(F31,2)=2,"Mardi",IF(WEEKDAY(F31,2)=3,"Mercredi",IF(WEEKDAY(F31,2)=4,"Jeudi",IF(WEEKDAY(F31,2)=5,"Vendredi",IF(WEEKDAY(F31,2)=6,"Samedi",IF(WEEKDAY(F31,2)=7,"Dimanche",))))))),) -> Mardi | F31: 43081 | G31: 20:30-22:30 | H31: AS | K31: =IF(H31<>0,IF(H31="TM","Nadine",IF(H31="AS","Nadine",IF(H31="AR","Michel",IF(H31="TH","Guy",IF(H31="TF","Nadine","Guy"))))),) -> Nadine | L31: 43067 | M31: 43067
A32: =B32/($C$4) -> 0.39705882 | B32: 27 | C32: 28 | E32: =IF(F32<>0,IF(WEEKDAY(F32,2)=1,"Lundi",IF(WEEKDAY(F32,2)=2,"Mardi",IF(WEEKDAY(F32,2)=3,"Mercredi",IF(WEEKDAY(F32,2)=4,"Jeudi",IF(WEEKDAY(F32,2)=5,"Vendredi",IF(WEEKDAY(F32,2)=6,"Samedi",IF(WEEKDAY(F32,2)=7,"Dimanche",))))))),) -> Mardi | F32: 43088 | G32: 20:30-22:30 | H32: TM | K32: =IF(H32<>0,IF(H32="TM","Nadine",IF(H32="AS","Nadine",IF(H32="AR","Michel",IF(H32="TH","Guy",IF(H32="TF","Nadine","Guy"))))),) -> Nadine | L32: 43067 | M32: 43067
A33: =B33/($C$4) -> 0.41176471 | B33: 28 | C33: 29 | D33: JAN | E33: =IF(F33<>0,IF(WEEKDAY(F33,2)=1,"Lundi",IF(WEEKDAY(F33,2)=2,"Mardi",IF(WEEKDAY(F33,2)=3,"Mercredi",IF(WEEKDAY(F33,2)=4,"Jeudi",IF(WEEKDAY(F33,2)=5,"Vendredi",IF(WEEKDAY(F33,2)=6,"Samedi",IF(WEEKDAY(F33,2)=7,"Dimanche",))))))),) -> Samedi | F33: 43106 | G33: 20:00-22:00 | H33: TM | K33: =IF(H33<>0,IF(H33="TM","Nadine",IF(H33="AS","Nadine",IF(H33="AR","Michel",IF(H33="TH","Guy",IF(H33="TF","Nadine","Guy"))))),) -> Nadine | L33: 43112 | M33: 43112
A34: =B34/($C$4) -> 0.42647059 | B34: 29 | C34: 30 | E34: =IF(F34<>0,IF(WEEKDAY(F34,2)=1,"Lundi",IF(WEEKDAY(F34,2)=2,"Mardi",IF(WEEKDAY(F34,2)=3,"Mercredi",IF(WEEKDAY(F34,2)=4,"Jeudi",IF(WEEKDAY(F34,2)=5,"Vendredi",IF(WEEKDAY(F34,2)=6,"Samedi",IF(WEEKDAY(F34,2)=7,"Dimanche",))))))),) -> Dimanche | F34: 43107 | G34: 09:30-12:00 | H34: TM | K34: =IF(H34<>0,IF(H34="TM","Nadine",IF(H34="AS","Nadine",IF(H34="AR","Michel",IF(H34="TH","Guy",IF(H34="TF","Nadine","Guy"))))),) -> Nadine | L34: 43112 | M34: 43112
A35: =B35/($C$4) -> 0.44117647 | B35: 30 | C35: 31 | E35: =IF(F35<>0,IF(WEEKDAY(F35,2)=1,"Lundi",IF(WEEKDAY(F35,2)=2,"Mardi",IF(WEEKDAY(F35,2)=3,"Mercredi",IF(WEEKDAY(F35,2)=4,"Jeudi",IF(WEEKDAY(F35,2)=5,"Vendredi",IF(WEEKDAY(F35,2)=6,"Samedi",IF(WEEKDAY(F35,2)=7,"Dimanche",))))))),) -> Dimanche | F35: 43107 | G35: 14:00-17:00 | H35: TM | K35: =IF(H35<>0,IF(H35="TM","Nadine",IF(H35="AS","Nadine",IF(H35="AR","Michel",IF(H35="TH","Guy",IF(H35="TF","Nadine","Guy"))))),) -> Nadine | L35: 43112 | M35: 43112
A36: =B36/($C$4) -> 0.45588235 | B36: 31 | C36: 32 | E36: =IF(F36<>0,IF(WEEKDAY(F36,2)=1,"Lundi",IF(WEEKDAY(F36,2)=2,"Mardi",IF(WEEKDAY(F36,2)=3,"Mercredi",IF(WEEKDAY(F36,2)=4,"Jeudi",IF(WEEKDAY(F36,2)=5,"Vendredi",IF(WEEKDAY(F36,2)=6,"Samedi",IF(WEEKDAY(F36,2)=7,"Dimanche",))))))),) -> Lundi | F36: 43115 | G36: 20:00-22:00 | H36: AR | K36: =IF(H36<>0,IF(H36="TM","Nadine",IF(H36="AS","Nadine",IF(H36="AR","Michel",IF(H36="TH","Guy",IF(H36="TF","Nadine","Guy"))))),) -> Michel | L36: 43112 | M36: 43107
A37: =B37/($C$4) -> 0.47058824 | B37: 32 | C37: 33 | E37: =IF(F37<>0,IF(WEEKDAY(F37,2)=1,"Lundi",IF(WEEKDAY(F37,2)=2,"Mardi",IF(WEEKDAY(F37,2)=3,"Mercredi",IF(WEEKDAY(F37,2)=4,"Jeudi",IF(WEEKDAY(F37,2)=5,"Vendredi",IF(WEEKDAY(F37,2)=6,"Samedi",IF(WEEKDAY(F37,2)=7,"Dimanche",))))))),) -> Mardi | F37: 43116 | G37: 20:30-22:30 | H37: AS | K37: =IF(H37<>0,IF(H37="TM","Nadine",IF(H37="AS","Nadine",IF(H37="AR","Michel",IF(H37="TH","Guy",IF(H37="TF","Nadine","Guy"))))),) -> Nadine | L37: 43112 | M37: 43112
C38: 34 | E38: =IF(F38<>0,IF(WEEKDAY(F38,2)=1,"Lundi",IF(WEEKDAY(F38,2)=2,"Mardi",IF(WEEKDAY(F38,2)=3,"Mercredi",IF(WEEKDAY(F38,2)=4,"Jeudi",IF(WEEKDAY(F38,2)=5,"Vendredi",IF(WEEKDAY(F38,2)=6,"Samedi",IF(WEEKDAY(F38,2)=7,"Dimanche",))))))),) -> Mardi | F38: 43123 | G38: 20:30-22:30 | H38: S | K38: =IF(H38<>0,IF(H38="TM","Nadine",IF(H38="AS","Nadine",IF(H38="AR","Michel",IF(H38="TH","Guy",IF(H38="TF","Nadine","Guy"))))),) -> Guy | L38: 43118 | M38: Non | O38: Solstice TM
A39: =B39/($C$4) -> 0.48529412 | B39: 33 | C39: 35 | E39: =IF(F39<>0,IF(WEEKDAY(F39,2)=1,"Lundi",IF(WEEKDAY(F39,2)=2,"Mardi",IF(WEEKDAY(F39,2)=3,"Mercredi",IF(WEEKDAY(F39,2)=4,"Jeudi",IF(WEEKDAY(F39,2)=5,"Vendredi",IF(WEEKDAY(F39,2)=6,"Samedi",IF(WEEKDAY(F39,2)=7,"Dimanche",))))))),) -> Vendredi | F39: 43126 | G39: 16:00-22:00 | H39: TM | I39: P | K39: =IF(H39<>0,IF(H39="TM","Nadine",IF(H39="AS","Nadine",IF(H39="AR","Michel",IF(H39="TH","Guy",IF(H39="TF","Nadine","Guy"))))),) -> Nadine | L39: 43112 | M39: 43112 | O39: Concert Oléron
A40: =B40/($C$4) -> 0 | C40: 36 | E40: =IF(F40<>0,IF(WEEKDAY(F40,2)=1,"Lundi",IF(WEEKDAY(F40,2)=2,"Mardi",IF(WEEKDAY(F40,2)=3,"Mercredi",IF(WEEKDAY(F40,2)=4,"Jeudi",IF(WEEKDAY(F40,2)=5,"Vendredi",IF(WEEKDAY(F40,2)=6,"Samedi",IF(WEEKDAY(F40,2)=7,"Dimanche",))))))),) -> Samedi | F40: 43127 | G40: 16:00-19:00 | H40: S | I40: P | K40: =IF(H40<>0,IF(H40="TM","Nadine",IF(H40="AS","Nadine",IF(H40="AR","Michel",IF(H40="TH","Guy",IF(H40="TF","Nadine","Guy"))))),) -> Guy | L40: 43112 | M40: 43112 | O40: Solstice TM
A41: =B41/($C$4) -> 0.5 | B41: 34 | C41: 37 | E41: =IF(F41<>0,IF(WEEKDAY(F41,2)=1,"Lundi",IF(WEEKDAY(F41,2)=2,"Mardi",IF(WEEKDAY(F41,2)=3,"Mercredi",IF(WEEKDAY(F41,2)=4,"Jeudi",IF(WEEKDAY(F41,2)=5,"Vendredi",IF(WEEKDAY(F41,2)=6,"Samedi",IF(WEEKDAY(F41,2)=7,"Dimanche",))))))),) -> Samedi | F41: 43127 | G41: 20:00-22:00 | H41: TM | I41: P | K41: =IF(H41<>0,IF(H41="TM","Nadine",IF(H41="AS","Nadine",IF(H41="AR","Michel",IF(H41="TH","Guy",IF(H41="TF","Nadine","Guy"))))),) -> Nadine | L41: 43112 | M41: 43112
...

Sheet Choristes
B1: NOMS Prénoms (2017-2018) | C1: Pupitre | D1: Lieux | F1: Genre | G1: Groupe | K1: Pupitre | L1: Lieux | M1: CR1 | N1: CR2 | O1: Groupe synthèse
A2: 1 | B2: BALLOTEAU Claude | C2: A | D2: R | E2: =IF((AND(C2="S",D2="S")),"SS",IF((AND(C2="S",D2="R")),"SR",IF((AND(C2="A",D2="S")),"AS",IF((AND(C2="A",D2="R")),"AR",IF((AND(C2="T",D2="S")),"TS",IF((AND(C2="T",D2="R")),"TR",IF((AND(C2="B",D2="S")),"BS",IF((AND(C2="B",D2="R")),"BR",)))))))) -> AR | F2: =IF($C2="S","F",IF($C2="A","F",IF($C2="T","H",IF($C2="B","H",)))) -> F | G2: =IF((AND(F2="F",D2="S")),"FS",IF((AND(F2="F",D2="R")),"FR",IF((AND(F2="H",D2="S")),"HS",IF((AND(F2="H",D2="R")),"HR",)))) -> FR | K2: S | L2: S | M2: 0 | N2: 0 | O2: =CONCATENATE(K2,L2,"-",M2,N2) -> SS-00
A3: 2 | B3: BARREAUD Delphine | C3: A | D3: S | E3: =IF((AND(C3="S",D3="S")),"SS",IF((AND(C3="S",D3="R")),"SR",IF((AND(C3="A",D3="S")),"AS",IF((AND(C3="A",D3="R")),"AR",IF((AND(C3="T",D3="S")),"TS",IF((AND(C3="T",D3="R")),"TR",IF((AND(C3="B",D3="S")),"BS",IF((AND(C3="B",D3="R")),"BR",)))))))) -> AS | F3: =IF($C3="S","F",IF($C3="A","F",IF($C3="T","H",IF($C3="B","H",)))) -> F | G3: =IF((AND(F3="F",D3="S")),"FS",IF((AND(F3="F",D3="R")),"FR",IF((AND(F3="H",D3="S")),"HS",IF((AND(F3="H",D3="R")),"HR",)))) -> FS | K3: A | L3: R | M3: 1 | N3: 0 | O3: =CONCATENATE(K3,L3,"-",M3,N3) -> AR-10
A4: 3 | B4: BARTHÉLÉMY Fabricia | C4: S | D4: S | E4: =IF((AND(C4="S",D4="S")),"SS",IF((AND(C4="S",D4="R")),"SR",IF((AND(C4="A",D4="S")),"AS",IF((AND(C4="A",D4="R")),"AR",IF((AND(C4="T",D4="S")),"TS",IF((AND(C4="T",D4="R")),"TR",IF((AND(C4="B",D4="S")),"BS",IF((AND(C4="B",D4="R")),"BR",)))))))) -> SS | F4: =IF($C4="S","F",IF($C4="A","F",IF($C4="T","H",IF($C4="B","H",)))) -> F | G4: =IF((AND(F4="F",D4="S")),"FS",IF((AND(F4="F",D4="R")),"FR",IF((AND(F4="H",D4="S")),"HS",IF((AND(F4="H",D4="R")),"HR",)))) -> FS | K4: T | L4: S | M4: 0 | N4: 1 | O4: =CONCATENATE(K4,L4,"-",M4,N4) -> TS-01
A5: 4 | B5: BERNAY Béatrice | C5: S | D5: S | E5: =IF((AND(C5="S",D5="S")),"SS",IF((AND(C5="S",D5="R")),"SR",IF((AND(C5="A",D5="S")),"AS",IF((AND(C5="A",D5="R")),"AR",IF((AND(C5="T",D5="S")),"TS",IF((AND(C5="T",D5="R")),"TR",IF((AND(C5="B",D5="S")),"BS",IF((AND(C5="B",D5="R")),"BR",)))))))) -> SS | F5: =IF($C5="S","F",IF($C5="A","F",IF($C5="T","H",IF($C5="B","H",)))) -> F | G5: =IF((AND(F5="F",D5="S")),"FS",IF((AND(F5="F",D5="R")),"FR",IF((AND(F5="H",D5="S")),"HS",IF((AND(F5="H",D5="R")),"HR",)))) -> FS | K5: B | L5: R | M5: 1 | N5: 1 | O5: =CONCATENATE(K5,L5,"-",M5,N5) -> BR-11
A6: 5 | B6: BLEYNIE Chantal | C6: A | D6: S | E6: =IF((AND(C6="S",D6="S")),"SS",IF((AND(C6="S",D6="R")),"SR",IF((AND(C6="A",D6="S")),"AS",IF((AND(C6="A",D6="R")),"AR",IF((AND(C6="T",D6="S")),"TS",IF((AND(C6="T",D6="R")),"TR",IF((AND(C6="B",D6="S")),"BS",IF((AND(C6="B",D6="R")),"BR",)))))))) -> AS | F6: =IF($C6="S","F",IF($C6="A","F",IF($C6="T","H",IF($C6="B","H",)))) -> F | G6: =IF((AND(F6="F",D6="S")),"FS",IF((AND(F6="F",D6="R")),"FR",IF((AND(F6="H",D6="S")),"HS",IF((AND(F6="H",D6="R")),"HR",)))) -> FS
A7: 6 | B7: BRIDIER Michel | C7: B | D7: R | E7: =IF((AND(C7="S",D7="S")),"SS",IF((AND(C7="S",D7="R")),"SR",IF((AND(C7="A",D7="S")),"AS",IF((AND(C7="A",D7="R")),"AR",IF((AND(C7="T",D7="S")),"TS",IF((AND(C7="T",D7="R")),"TR",IF((AND(C7="B",D7="S")),"BS",IF((AND(C7="B",D7="R")),"BR",)))))))) -> BR | F7: =IF($C7="S","F",IF($C7="A","F",IF($C7="T","H",IF($C7="B","H",)))) -> H | G7: =IF((AND(F7="F",D7="S")),"FS",IF((AND(F7="F",D7="R")),"FR",IF((AND(F7="H",D7="S")),"HS",IF((AND(F7="H",D7="R")),"HR",)))) -> HR
A8: 7 | B8: CALVÈS Catherine | C8: S | D8: S | E8: =IF((AND(C8="S",D8="S")),"SS",IF((AND(C8="S",D8="R")),"SR",IF((AND(C8="A",D8="S")),"AS",IF((AND(C8="A",D8="R")),"AR",IF((AND(C8="T",D8="S")),"TS",IF((AND(C8="T",D8="R")),"TR",IF((AND(C8="B",D8="S")),"BS",IF((AND(C8="B",D8="R")),"BR",)))))))) -> SS | F8: =IF($C8="S","F",IF($C8="A","F",IF($C8="T","H",IF($C8="B","H",)))) -> F | G8: =IF((AND(F8="F",D8="S")),"FS",IF((AND(F8="F",D8="R")),"FR",IF((AND(F8="H",D8="S")),"HS",IF((AND(F8="H",D8="R")),"HR",)))) -> FS
A9: 8 | B9: CHANROND Guy | C9: B | D9: S | E9: =IF((AND(C9="S",D9="S")),"SS",IF((AND(C9="S",D9="R")),"SR",IF((AND(C9="A",D9="S")),"AS",IF((AND(C9="A",D9="R")),"AR",IF((AND(C9="T",D9="S")),"TS",IF((AND(C9="T",D9="R")),"TR",IF((AND(C9="B",D9="S")),"BS",IF((AND(C9="B",D9="R")),"BR",)))))))) -> BS | F9: =IF($C9="S","F",IF($C9="A","F",IF($C9="T","H",IF($C9="B","H",)))) -> H | G9: =IF((AND(F9="F",D9="S")),"FS",IF((AND(F9="F",D9="R")),"FR",IF((AND(F9="H",D9="S")),"HS",IF((AND(F9="H",D9="R")),"HR",)))) -> HS
A10: 9 | B10: CHARTIER Brigitte | C10: A | D10: S | E10: =IF((AND(C10="S",D10="S")),"SS",IF((AND(C10="S",D10="R")),"SR",IF((AND(C10="A",D10="S")),"AS",IF((AND(C10="A",D10="R")),"AR",IF((AND(C10="T",D10="S")),"TS",IF((AND(C10="T",D10="R")),"TR",IF((AND(C10="B",D10="S")),"BS",IF((AND(C10="B",D10="R")),"BR",)))))))) -> AS | F10: =IF($C10="S","F",IF($C10="A","F",IF($C10="T","H",IF($C10="B","H",)))) -> F | G10: =IF((AND(F10="F",D10="S")),"FS",IF((AND(F10="F",D10="R")),"FR",IF((AND(F10="H",D10="S")),"HS",IF((AND(F10="H",D10="R")),"HR",)))) -> FS
A11: 10 | B11: CHAT Nadine | C11: A | D11: S | E11: =IF((AND(C11="S",D11="S")),"SS",IF((AND(C11="S",D11="R")),"SR",IF((AND(C11="A",D11="S")),"AS",IF((AND(C11="A",D11="R")),"AR",IF((AND(C11="T",D11="S")),"TS",IF((AND(C11="T",D11="R")),"TR",IF((AND(C11="B",D11="S")),"BS",IF((AND(C11="B",D11="R")),"BR",)))))))) -> AS | F11: =IF($C11="S","F",IF($C11="A","F",IF($C11="T","H",IF($C11="B","H",)))) -> F | G11: =IF((AND(F11="F",D11="S")),"FS",IF((AND(F11="F",D11="R")),"FR",IF((AND(F11="H",D11="S")),"HS",IF((AND(F11="H",D11="R")),"HR",)))) -> FS
A12: 11 | B12: CLÉDAT (de) Hubert | C12: T | D12: S | E12: =IF((AND(C12="S",D12="S")),"SS",IF((AND(C12="S",D12="R")),"SR",IF((AND(C12="A",D12="S")),"AS",IF((AND(C12="A",D12="R")),"AR",IF((AND(C12="T",D12="S")),"TS",IF((AND(C12="T",D12="R")),"TR",IF((AND(C12="B",D12="S")),"BS",IF((AND(C12="B",D12="R")),"BR",)))))))) -> TS | F12: =IF($C12="S","F",IF($C12="A","F",IF($C12="T","H",IF($C12="B","H",)))) -> H | G12: =IF((AND(F12="F",D12="S")),"FS",IF((AND(F12="F",D12="R")),"FR",IF((AND(F12="H",D12="S")),"HS",IF((AND(F12="H",D12="R")),"HR",)))) -> HS
A13: 12 | B13: CLÉDAT (de) Renaud | C13: T | D13: S | E13: =IF((AND(C13="S",D13="S")),"SS",IF((AND(C13="S",D13="R")),"SR",IF((AND(C13="A",D13="S")),"AS",IF((AND(C13="A",D13="R")),"AR",IF((AND(C13="T",D13="S")),"TS",IF((AND(C13="T",D13="R")),"TR",IF((AND(C13="B",D13="S")),"BS",IF((AND(C13="B",D13="R")),"BR",)))))))) -> TS | F13: =IF($C13="S","F",IF($C13="A","F",IF($C13="T","H",IF($C13="B","H",)))) -> H | G13: =IF((AND(F13="F",D13="S")),"FS",IF((AND(F13="F",D13="R")),"FR",IF((AND(F13="H",D13="S")),"HS",IF((AND(F13="H",D13="R")),"HR",)))) -> HS
A14: 13 | B14: COUANON Jocelyne | C14: S | D14: R | E14: =IF((AND(C14="S",D14="S")),"SS",IF((AND(C14="S",D14="R")),"SR",IF((AND(C14="A",D14="S")),"AS",IF((AND(C14="A",D14="R")),"AR",IF((AND(C14="T",D14="S")),"TS",IF((AND(C14="T",D14="R")),"TR",IF((AND(C14="B",D14="S")),"BS",IF((AND(C14="B",D14="R")),"BR",)))))))) -> SR | F14: =IF($C14="S","F",IF($C14="A","F",IF($C14="T","H",IF($C14="B","H",)))) -> F | G14: =IF((AND(F14="F",D14="S")),"FS",IF((AND(F14="F",D14="R")),"FR",IF((AND(F14="H",D14="S")),"HS",IF((AND(F14="H",D14="R")),"HR",)))) -> FR
A15: 14 | B15: COUPRIE Gérard | C15: B | D15: S | E15: =IF((AND(C15="S",D15="S")),"SS",IF((AND(C15="S",D15="R")),"SR",IF((AND(C15="A",D15="S")),"AS",IF((AND(C15="A",D15="R")),"AR",IF((AND(C15="T",D15="S")),"TS",IF((AND(C15="T",D15="R")),"TR",IF((AND(C15="B",D15="S")),"BS",IF((AND(C15="B",D15="R")),"BR",)))))))) -> BS | F15: =IF($C15="S","F",IF($C15="A","F",IF($C15="T","H",IF($C15="B","H",)))) -> H | G15: =IF((AND(F15="F",D15="S")),"FS",IF((AND(F15="F",D15="R")),"FR",IF((AND(F15="H",D15="S")),"HS",IF((AND(F15="H",D15="R")),"HR",)))) -> HS
A16: 15 | B16: CURTAROLO Annie | C16: A | D16: S | E16: =IF((AND(C16="S",D16="S")),"SS",IF((AND(C16="S",D16="R")),"SR",IF((AND(C16="A",D16="S")),"AS",IF((AND(C16="A",D16="R")),"AR",IF((AND(C16="T",D16="S")),"TS",IF((AND(C16="T",D16="R")),"TR",IF((AND(C16="B",D16="S")),"BS",IF((AND(C16="B",D16="R")),"BR",)))))))) -> AS | F16: =IF($C16="S","F",IF($C16="A","F",IF($C16="T","H",IF($C16="B","H",)))) -> F | G16: =IF((AND(F16="F",D16="S")),"FS",IF((AND(F16="F",D16="R")),"FR",IF((AND(F16="H",D16="S")),"HS",IF((AND(F16="H",D16="R")),"HR",)))) -> FS
A17: 16 | B17: DEJENNE Gérard | C17: B | D17: S | E17: =IF((AND(C17="S",D17="S")),"SS",IF((AND(C17="S",D17="R")),"SR",IF((AND(C17="A",D17="S")),"AS",IF((AND(C17="A",D17="R")),"AR",IF((AND(C17="T",D17="S")),"TS",IF((AND(C17="T",D17="R")),"TR",IF((AND(C17="B",D17="S")),"BS",IF((AND(C17="B",D17="R")),"BR",)))))))) -> BS | F17: =IF($C17="S","F",IF($C17="A","F",IF($C17="T","H",IF($C17="B","H",)))) -> H | G17: =IF((AND(F17="F",D17="S")),"FS",IF((AND(F17="F",D17="R")),"FR",IF((AND(F17="H",D17="S")),"HS",IF((AND(F17="H",D17="R")),"HR",)))) -> HS
... A23: 22 | B23: DUFFAUD Sarah | C23: A | D23: S | E23: =IF((AND(C23="S",D23="S")),"SS",IF((AND(C23="S",D23="R")),"SR",IF((AND(C23="A",D23="S")),"AS",IF((AND(C23="A",D23="R")),"AR",IF((AND(C23="T",D23="S")),"TS",IF((AND(C23="T",D23="R")),"TR",IF((AND(C23="B",D23="S")),"BS",IF((AND(C23="B",D23="R")),"BR",)))))))) -> AS | F23: =IF($C23="S","F",IF($C23="A","F",IF($C23="T","H",IF($C23="B","H",)))) -> F | G23: =IF((AND(F23="F",D23="S")),"FS",IF((AND(F23="F",D23="R")),"FR",IF((AND(F23="H",D23="S")),"HS",IF((AND(F23="H",D23="R")),"HR",)))) -> FS
E24: =IF((AND(C24="S",D24="S")),"SS",IF((AND(C24="S",D24="R")),"SR",IF((AND(C24="A",D24="S")),"AS",IF((AND(C24="A",D24="R")),"AR",IF((AND(C24="T",D24="S")),"TS",IF((AND(C24="T",D24="R")),"TR",IF((AND(C24="B",D24="S")),"BS",IF((AND(C24="B",D24="R")),"BR",)))))))) -> 0 | F24: =IF($C24="S","F",IF($C24="A","F",IF($C24="T","H",IF($C24="B","H",)))) -> 0 | G24: =IF((AND(F24="F",D24="S")),"FS",IF((AND(F24="F",D24="R")),"FR",IF((AND(F24="H",D24="S")),"HS",IF((AND(F24="H",D24="R")),"HR",)))) -> 0 | H24: Durand Michèle : Partie février 2018
A25: 23 | B25: FALTOT Véronique | C25: S | D25: R | E25: =IF((AND(C25="S",D25="S")),"SS",IF((AND(C25="S",D25="R")),"SR",IF((AND(C25="A",D25="S")),"AS",IF((AND(C25="A",D25="R")),"AR",IF((AND(C25="T",D25="S")),"TS",IF((AND(C25="T",D25="R")),"TR",IF((AND(C25="B",D25="S")),"BS",IF((AND(C25="B",D25="R")),"BR",)))))))) -> SR | F25: =IF($C25="S","F",IF($C25="A","F",IF($C25="T","H",IF($C25="B","H",)))) -> F | G25: =IF((AND(F25="F",D25="S")),"FS",IF((AND(F25="F",D25="R")),"FR",IF((AND(F25="H",D25="S")),"HS",IF((AND(F25="H",D25="R")),"HR",)))) -> FR
A26: 24 | B26: FERRAZ Hélène | C26: A | D26: S | E26: =IF((AND(C26="S",D26="S")),"SS",IF((AND(C26="S",D26="R")),"SR",IF((AND(C26="A",D26="S")),"AS",IF((AND(C26="A",D26="R")),"AR",IF((AND(C26="T",D26="S")),"TS",IF((AND(C26="T",D26="R")),"TR",IF((AND(C26="B",D26="S")),"BS",IF((AND(C26="B",D26="R")),"BR",)))))))) -> AS | F26: =IF($C26="S","F",IF($C26="A","F",IF($C26="T","H",IF($C26="B","H",)))) -> F | G26: =IF((AND(F26="F",D26="S")),"FS",IF((AND(F26="F",D26="R")),"FR",IF((AND(F26="H",D26="S")),"HS",IF((AND(F26="H",D26="R")),"HR",)))) -> FS
A27: 25 | B27: FONGOND Danielle | C27: A | D27: S | E27: =IF((AND(C27="S",D27="S")),"SS",IF((AND(C27="S",D27="R")),"SR",IF((AND(C27="A",D27="S")),"AS",IF((AND(C27="A",D27="R")),"AR",IF((AND(C27="T",D27="S")),"TS",IF((AND(C27="T",D27="R")),"TR",IF((AND(C27="B",D27="S")),"BS",IF((AND(C27="B",D27="R")),"BR",)))))))) -> AS | F27: =IF($C27="S","F",IF($C27="A","F",IF($C27="T","H",IF($C27="B","H",)))) -> F | G27: =IF((AND(F27="F",D27="S")),"FS",IF((AND(F27="F",D27="R")),"FR",IF((AND(F27="H",D27="S")),"HS",IF((AND(F27="H",D27="R")),"HR",)))) -> FS
A28: 26 | B28: FOUCAUD Catherine | C28: S | D28: R | E28: =IF((AND(C28="S",D28="S")),"SS",IF((AND(C28="S",D28="R")),"SR",IF((AND(C28="A",D28="S")),"AS",IF((AND(C28="A",D28="R")),"AR",IF((AND(C28="T",D28="S")),"TS",IF((AND(C28="T",D28="R")),"TR",IF((AND(C28="B",D28="S")),"BS",IF((AND(C28="B",D28="R")),"BR",)))))))) -> SR | F28: =IF($C28="S","F",IF($C28="A","F",IF($C28="T","H",IF($C28="B","H",)))) -> F | G28: =IF((AND(F28="F",D28="S")),"FS",IF((AND(F28="F",D28="R")),"FR",IF((AND(F28="H",D28="S")),"HS",IF((AND(F28="H",D28="R")),"HR",)))) -> FR
A29: 27 | B29: FOUQUES Emmanuelle | C29: S | D29: R | E29: =IF((AND(C29="S",D29="S")),"SS",IF((AND(C29="S",D29="R")),"SR",IF((AND(C29="A",D29="S")),"AS",IF((AND(C29="A",D29="R")),"AR",IF((AND(C29="T",D29="S")),"TS",IF((AND(C29="T",D29="R")),"TR",IF((AND(C29="B",D29="S")),"BS",IF((AND(C29="B",D29="R")),"BR",)))))))) -> SR | F29: =IF($C29="S","F",IF($C29="A","F",IF($C29="T","H",IF($C29="B","H",)))) -> F | G29: =IF((AND(F29="F",D29="S")),"FS",IF((AND(F29="F",D29="R")),"FR",IF((AND(F29="H",D29="S")),"HS",IF((AND(F29="H",D29="R")),"HR",)))) -> FR
A30: 28 | B30: GADÉ Luc | C30: T | D30: R | E30: =IF((AND(C30="S",D30="S")),"SS",IF((AND(C30="S",D30="R")),"SR",IF((AND(C30="A",D30="S")),"AS",IF((AND(C30="A",D30="R")),"AR",IF((AND(C30="T",D30="S")),"TS",IF((AND(C30="T",D30="R")),"TR",IF((AND(C30="B",D30="S")),"BS",IF((AND(C30="B",D30="R")),"BR",)))))))) -> TR | F30: =IF($C30="S","F",IF($C30="A","F",IF($C30="T","H",IF($C30="B","H",)))) -> H | G30: =IF((AND(F30="F",D30="S")),"FS",IF((AND(F30="F",D30="R")),"FR",IF((AND(F30="H",D30="S")),"HS",IF((AND(F30="H",D30="R")),"HR",)))) -> HR
A31: 29 | B31: GALASSO Pierre | C31: B | D31: S | E31: =IF((AND(C31="S",D31="S")),"SS",IF((AND(C31="S",D31="R")),"SR",IF((AND(C31="A",D31="S")),"AS",IF((AND(C31="A",D31="R")),"AR",IF((AND(C31="T",D31="S")),"TS",IF((AND(C31="T",D31="R")),"TR",IF((AND(C31="B",D31="S")),"BS",IF((AND(C31="B",D31="R")),"BR",)))))))) -> BS | F31: =IF($C31="S","F",IF($C31="A","F",IF($C31="T","H",IF($C31="B","H",)))) -> H | G31: =IF((AND(F31="F",D31="S")),"FS",IF((AND(F31="F",D31="R")),"FR",IF((AND(F31="H",D31="S")),"HS",IF((AND(F31="H",D31="R")),"HR",)))) -> HS
A32: 30 | B32: GANDRIAU Marie-Andrée | C32: A | D32: R | E32: =IF((AND(C32="S",D32="S")),"SS",IF((AND(C32="S",D32="R")),"SR",IF((AND(C32="A",D32="S")),"AS",IF((AND(C32="A",D32="R")),"AR",IF((AND(C32="T",D32="S")),"TS",IF((AND(C32="T",D32="R")),"TR",IF((AND(C32="B",D32="S")),"BS",IF((AND(C32="B",D32="R")),"BR",)))))))) -> AR | F32: =IF($C32="S","F",IF($C32="A","F",IF($C32="T","H",IF($C32="B","H",)))) -> F | G32: =IF((AND(F32="F",D32="S")),"FS",IF((AND(F32="F",D32="R")),"FR",IF((AND(F32="H",D32="S")),"HS",IF((AND(F32="H",D32="R")),"HR",)))) -> FR
A33: 31 | B33: GAROUFALAKIS Véronique | C33: S | D33: S | E33: =IF((AND(C33="S",D33="S")),"SS",IF((AND(C33="S",D33="R")),"SR",IF((AND(C33="A",D33="S")),"AS",IF((AND(C33="A",D33="R")),"AR",IF((AND(C33="T",D33="S")),"TS",IF((AND(C33="T",D33="R")),"TR",IF((AND(C33="B",D33="S")),"BS",IF((AND(C33="B",D33="R")),"BR",)))))))) -> SS | F33: =IF($C33="S","F",IF($C33="A","F",IF($C33="T","H",IF($C33="B","H",)))) -> F | G33: =IF((AND(F33="F",D33="S")),"FS",IF((AND(F33="F",D33="R")),"FR",IF((AND(F33="H",D33="S")),"HS",IF((AND(F33="H",D33="R")),"HR",)))) -> FS
A34: 32 | B34: GASPAR Mauricette | C34: S | D34: S | E34: =IF((AND(C34="S",D34="S")),"SS",IF((AND(C34="S",D34="R")),"SR",IF((AND(C34="A",D34="S")),"AS",IF((AND(C34="A",D34="R")),"AR",IF((AND(C34="T",D34="S")),"TS",IF((AND(C34="T",D34="R")),"TR",IF((AND(C34="B",D34="S")),"BS",IF((AND(C34="B",D34="R")),"BR",)))))))) -> SS | F34: =IF($C34="S","F",IF($C34="A","F",IF($C34="T","H",IF($C34="B","H",)))) -> F | G34: =IF((AND(F34="F",D34="S")),"FS",IF((AND(F34="F",D34="R")),"FR",IF((AND(F34="H",D34="S")),"HS",IF((AND(F34="H",D34="R")),"HR",)))) -> FS
A35: 33 | B35: GAUDIOT Danièle | C35: A | D35: S | E35: =IF((AND(C35="S",D35="S")),"SS",IF((AND(C35="S",D35="R")),"SR",IF((AND(C35="A",D35="S")),"AS",IF((AND(C35="A",D35="R")),"AR",IF((AND(C35="T",D35="S")),"TS",IF((AND(C35="T",D35="R")),"TR",IF((AND(C35="B",D35="S")),"BS",IF((AND(C35="B",D35="R")),"BR",)))))))) -> AS | F35: =IF($C35="S","F",IF($C35="A","F",IF($C35="T","H",IF($C35="B","H",)))) -> F | G35: =IF((AND(F35="F",D35="S")),"FS",IF((AND(F35="F",D35="R")),"FR",IF((AND(F35="H",D35="S")),"HS",IF((AND(F35="H",D35="R")),"HR",)))) -> FS
A36: 34 | B36: GERMAIN Jean-Michel | C36: B | D36: S | E36: =IF((AND(C36="S",D36="S")),"SS",IF((AND(C36="S",D36="R")),"SR",IF((AND(C36="A",D36="S")),"AS",IF((AND(C36="A",D36="R")),"AR",IF((AND(C36="T",D36="S")),"TS",IF((AND(C36="T",D36="R")),"TR",IF((AND(C36="B",D36="S")),"BS",IF((AND(C36="B",D36="R")),"BR",)))))))) -> BS | F36: =IF($C36="S","F",IF($C36="A","F",IF($C36="T","H",IF($C36="B","H",)))) -> H | G36: =IF((AND(F36="F",D36="S")),"FS",IF((AND(F36="F",D36="R")),"FR",IF((AND(F36="H",D36="S")),"HS",IF((AND(F36="H",D36="R")),"HR",)))) -> HS
... A40: 38 | B40: GUILLOT Brigitte | C40: S | D40: S | E40: =IF((AND(C40="S",D40="S")),"SS",IF((AND(C40="S",D40="R")),"SR",IF((AND(C40="A",D40="S")),"AS",IF((AND(C40="A",D40="R")),"AR",IF((AND(C40="T",D40="S")),"TS",IF((AND(C40="T",D40="R")),"TR",IF((AND(C40="B",D40="S")),"BS",IF((AND(C40="B",D40="R")),"BR",)))))))) -> SS | F40: =IF($C40="S","F",IF($C40="A","F",IF($C40="T","H",IF($C40="B","H",)))) -> F | G40: =IF((AND(F40="F",D40="S")),"FS",IF((AND(F40="F",D40="R")),"FR",IF((AND(F40="H",D40="S")),"HS",IF((AND(F40="H",D40="R")),"HR",)))) -> FS
H41: Haton Denis : Quitte le chœur provisoirement (Santé)
A42: 39 | B42: JOINIÉ-MAURIN Philippe | C42: B | D42: S | E42: =IF((AND(C42="S",D42="S")),"SS",IF((AND(C42="S",D42="R")),"SR",IF((AND(C42="A",D42="S")),"AS",IF((AND(C42="A",D42="R")),"AR",IF((AND(C42="T",D42="S")),"TS",IF((AND(C42="T",D42="R")),"TR",IF((AND(C42="B",D42="S")),"BS",IF((AND(C42="B",D42="R")),"BR",)))))))) -> BS | F42: =IF($C42="S","F",IF($C42="A","F",IF($C42="T","H",IF($C42="B","H",)))) -> H | G42: =IF((AND(F42="F",D42="S")),"FS",IF((AND(F42="F",D42="R")),"FR",IF((AND(F42="H",D42="S")),"HS",IF((AND(F42="H",D42="R")),"HR",)))) -> HS
A43: 40 | B43: JOLLIVET-BARON Sylvie | C43: A | D43: R | E43: =IF((AND(C43="S",D43="S")),"SS",IF((AND(C43="S",D43="R")),"SR",IF((AND(C43="A",D43="S")),"AS",IF((AND(C43="A",D43="R")),"AR",IF((AND(C43="T",D43="S")),"TS",IF((AND(C43="T",D43="R")),"TR",IF((AND(C43="B",D43="S")),"BS",IF((AND(C43="B",D43="R")),"BR",)))))))) -> AR | F43: =IF($C43="S","F",IF($C43="A","F",IF($C43="T","H",IF($C43="B","H",)))) -> F | G43: =IF((AND(F43="F",D43="S")),"FS",IF((AND(F43="F",D43="R")),"FR",IF((AND(F43="H",D43="S")),"HS",IF((AND(F43="H",D43="R")),"HR",)))) -> FR
A44: 41 | B44: JOLLY Laure | C44: A | D44: S | E44: =IF((AND(C44="S",D44="S")),"SS",IF((AND(C44="S",D44="R")),"SR",IF((AND(C44="A",D44="S")),"AS",IF((AND(C44="A",D44="R")),"AR",IF((AND(C44="T",D44="S")),"TS",IF((AND(C44="T",D44="R")),"TR",IF((AND(C44="B",D44="S")),"BS",IF((AND(C44="B",D44="R")),"BR",)))))))) -> AS | F44: =IF($C44="S","F",IF($C44="A","F",IF($C44="T","H",IF($C44="B","H",)))) -> F | G44: =IF((AND(F44="F",D44="S")),"FS",IF((AND(F44="F",D44="R")),"FR",IF((AND(F44="H",D44="S")),"HS",IF((AND(F44="H",D44="R")),"HR",)))) -> FS
A45: 42 | B45: JOUBERT Ann | C45: S | D45: S | E45: =IF((AND(C45="S",D45="S")),"SS",IF((AND(C45="S",D45="R")),"SR",IF((AND(C45="A",D45="S")),"AS",IF((AND(C45="A",D45="R")),"AR",IF((AND(C45="T",D45="S")),"TS",IF((AND(C45="T",D45="R")),"TR",IF((AND(C45="B",D45="S")),"BS",IF((AND(C45="B",D45="R")),"BR",)))))))) -> SS | F45: =IF($C45="S","F",IF($C45="A","F",IF($C45="T","H",IF($C45="B","H",)))) -> F | G45: =IF((AND(F45="F",D45="S")),"FS",IF((AND(F45="F",D45="R")),"FR",IF((AND(F45="H",D45="S")),"HS",IF((AND(F45="H",D45="R")),"HR",)))) -> FS
A46: 43 | B46: LACOSTE Olivier | C46: B | D46: R | E46: =IF((AND(C46="S",D46="S")),"SS",IF((AND(C46="S",D46="R")),"SR",IF((AND(C46="A",D46="S")),"AS",IF((AND(C46="A",D46="R")),"AR",IF((AND(C46="T",D46="S")),"TS",IF((AND(C46="T",D46="R")),"TR",IF((AND(C46="B",D46="S")),"BS",IF((AND(C46="B",D46="R")),"BR",)))))))) -> BR | F46: =IF($C46="S","F",IF($C46="A","F",IF($C46="T","H",IF($C46="B","H",)))) -> H | G46: =IF((AND(F46="F",D46="S")),"FS",IF((AND(F46="F",D46="R")),"FR",IF((AND(F46="H",D46="S")),"HS",IF((AND(F46="H",D46="R")),"HR",)))) -> HR
A47: 44 | B47: LAFON Joëlle | C47: A | D47: S | E47: =IF((AND(C47="S",D47="S")),"SS",IF((AND(C47="S",D47="R")),"SR",IF((AND(C47="A",D47="S")),"AS",IF((AND(C47="A",D47="R")),"AR",IF((AND(C47="T",D47="S")),"TS",IF((AND(C47="T",D47="R")),"TR",IF((AND(C47="B",D47="S")),"BS",IF((AND(C47="B",D47="R")),"BR",)))))))) -> AS | F47: =IF($C47="S","F",IF($C47="A","F",IF($C47="T","H",IF($C47="B","H",)))) -> F | G47: =IF((AND(F47="F",D47="S")),"FS",IF((AND(F47="F",D47="R")),"FR",IF((AND(F47="H",D47="S")),"HS",IF((AND(F47="H",D47="R")),"HR",)))) -> FS
A48: 45 | B48: LASSEN Carine | C48: S | D48: S | E48: =IF((AND(C48="S",D48="S")),"SS",IF((AND(C48="S",D48="R")),"SR",IF((AND(C48="A",D48="S")),"AS",IF((AND(C48="A",D48="R")),"AR",IF((AND(C48="T",D48="S")),"TS",IF((AND(C48="T",D48="R")),"TR",IF((AND(C48="B",D48="S")),"BS",IF((AND(C48="B",D48="R")),"BR",)))))))) -> SS | F48: =IF($C48="S","F",IF($C48="A","F",IF($C48="T","H",IF($C48="B","H",)))) -> F | G48: =IF((AND(F48="F",D48="S")),"FS",IF((AND(F48="F",D48="R")),"FR",IF((AND(F48="H",D48="S")),"HS",IF((AND(F48="H",D48="R")),"HR",)))) -> FS
...

Sheet Répartitions
B1: Ce fichier prend en compte : - le retour de Fabricia Barthélémy, - le retour de Grahame Wood, - et l'intégration de Jean-Pierre Nouet dimanche 10/09/2017 - L'intégration de José Reis (T) le samedi 02/12/2017 - L'Intégration de Xavier Fabre (T) le 06/01/18 - L'intégration de Vaslin Pascal le 27/01/18 (sous réserve d'audition favorable) - Les départs de Saulnier, Pagnier, Haton, En attente d'intégration (peu probable) de : 4 choristes : Debeuf (2), Méric et Gernez Légende : TM = Tutti Mixte AR = Atelier La Rochelle AS = Atelier Saintes TF = Tutti Femmes TH = Tutti Hommes AG = Assemblée Générale
O2: =O68 -> 17 | P2: =P68 -> 7 | Q2: =Q68 -> 24 | R2: =R68 -> 10 | S2: =S68 -> 7 | T2: =T68 -> 3 | U2: =U68 -> 15 | V2: =V68 -> 5 | ... AH2: =AH68 -> 14
F3: Types de séances | O3: Sopranes Saintes | P3: Sopranes La Roch. | Q3: Alti Saintes | R3: Alti La Rochelle | S3: Ténors Saintes | T3: Ténors La Roch. | U3: Basses Saintes | V3: Basses La Rochelle | W3: Sopranes (Sa+Ro) | X3: Alti (Sa+Ro) | Y3: Ténors (Sa+Ro) | Z3: Basses (Sa+Ro) | AA3: Sopranes Solstices | AB3: Alti Solstices | AC3: Ténors Solstices | AD3: Basses Solstices | AE3: Sopranes JM | AF3: Alti JM | AG3: Ténors JM | AH3: Basses JM
F4: TM | G4: AR | H4: AS | I4: TF | J4: TH | O4: BARTHÉLÉMY Fabricia | P4: COUANON Jocelyne | Q4: BARREAUD Delphine | R4: BALLOTEAU Claude | S4: CLÉDAT (de) Hubert | T4: GADÉ Luc | U4: CHANROND Guy | V4: BRIDIER Michel | W4: BARTHÉLÉMY Fabricia | X4: BALLOTEAU Claude | Y4: CLÉDAT (de) Hubert | Z4: BRIDIER Michel | AA4: BARTHELEMY Fabricia | AB4: BALLOTEAU Claude | AC4: CLÉDAT (de) Hubert | AD4: BRIDIER Michel | AE4: BARTHELEMY Fabricia | AF4: BALLOTEAU Claude | AG4: CLÉDAT (de) Hubert | AH4: BRIDIER Michel
B5: Groupes | C5: Femmes | D5: Rochelle | E5: =COUNTIF(Choristes!$G$2:$G$127,"FR") -> 17 | F5: =$E5 -> 17 | G5: =$E5 -> 17 | I5: =$E5 -> 17 | K5: =E5+E6 -> 58 | L5: =SUM(K5:K8) -> 88 | O5: BERNAY Béatrice | P5: FALTOT Véronique | Q5: BLEYNIE Chantal | R5: DESCOLAS Pascale | S5: CLÉDAT (de) Renaud | T5: PITOIS Christian | U5: COUPRIE Gérard | V5: DEMAY Bernard | W5: BERNAY Béatrice | X5: BARREAUD Delphine | Y5: CLÉDAT (de) Renaud | Z5: CHANROND Guy | AA5: BERNAY Béatrice | AB5: BARREAUD Delphine | AC5: CLÉDAT (de) Renaud | AD5: CHANROND Guy | AE5: BERNAY Béatrice | AF5: BARREAUD Delphine | AG5: CLÉDAT (de) Renaud | AH5: CHANROND Guy
D6: Saintes | E6: =COUNTIF(Choristes!$G$2:$G$127,"FS") -> 41 | F6: =$E6 -> 41 | H6: =E6 -> 41 | I6: =$E6 -> 41 | O6: CALVÈS Catherine | P6: FOUCAUD Catherine | Q6: CHARTIER Brigitte | R6: DESPLATS Catherine | S6: DÉSIER Pascal | T6: FABRE Xavier | U6: DEJENNE Gérard | V6: LACOSTE Olivier | W6: CALVÈS Catherine | X6: BLEYNIE Chantal | Y6: DÉSIER Pascal | Z6: COUPRIE Gérard | AA6: DESIER Josée | AB6: CHARTIER Brigitte | AC6: DÉSIER Pascal | AD6: GALASSO Pierre | AE6: COUANON Jocelyne | AF6: CHARTIER Brigitte | AG6: DÉSIER Pascal | AH6: DEJENNE Gérard
C7: Hommes | D7: Rochelle | E7: =COUNTIF(Choristes!$G$2:$G$127,"HR") -> 8 | F7: =$E7 -> 8 | G7: =$E7 -> 8 | J7: =$E7 -> 8 | K7: =E7+E8 -> 30 | O7: DÉSIER Josée | P7: FOUQUES Emmanuelle | Q7: CHAT Nadine | R7: GANDRIAU Marie-Andrée | S7: OUDET Martial | U7: GALASSO Pierre | V7: MERTEN Daniel | W7: COUANON Jocelyne | X7: CHARTIER Brigitte | Y7: FABRE Xavier | Z7: DEJENNE Gérard | AA7: FOUQUES Emmanuelle | AB7: CHAT Nadine | AC7: GADÉ Luc | AD7: GILL Robert | AE7: DESIER Josée | AF7: CURTAROLO Annie | AG7: GADÉ Luc | AH7: DEMAY Bernard
D8: Saintes | E8: =COUNTIF(Choristes!$G$2:$G$127,"HS") -> 22 | F8: =$E8 -> 22 | H8: =E8 -> 22 | J8: =$E8 -> 22 | O8: GAROUFALAKIS Véronique | P8: MARCHAIS Marie-Noëlle | Q8: CURTAROLO Annie | R8: GOUST Martine | S8: REIS José | U8: GERMAIN Jean-Michel | V8: REDOIS Antoine | W8: DÉSIER Josée | X8: CHAT Nadine | Y8: GADÉ Luc | Z8: DEMAY Bernard | AA8: LHOIRY Frédérique | AB8: FERRAZ Hélène | AC8: OUDET Martial | AD8: JOINIÉ-MAURIN Philippe | AE8: FALTOT Véronique | AF8: FERRAZ Hélène | AG8: OUDET Martial | AH8: GALASSO Pierre
B9: Nbre de Choristes | E9: =SUM(E5:E8) -> 88 | F9: =SUM(F5:F8) -> 88 | G9: =SUM(G5:G8) -> 25 | H9: =SUM(H5:H8) -> 63 | I9: =SUM(I5:I8) -> 58 | J9: =SUM(J5:J8) -> 30 | O9: GASPAR Mauricette | P9: REDOIS Sylviane | Q9: DUFFAUD Sarah | R9: JOLLIVET-BARON Sylvie | S9: SULPIE Jean-Luc | U9: GILL Robert | W9: FALTOT Véronique | X9: CURTAROLO Annie | Y9: OUDET Martial | Z9: GALASSO Pierre | AA9: MAGRENON Françoise | AB9: GAUDIOT Danièle | AC9: PITOIS Christian | AD9: MATRAT Georges | AE9: FOUQUES Emmanuelle | AF9: GAUDIOT Danièle | AG9: PITOIS Christian | AH9: GILL Robert
O10: GUILLOT Brigitte | P10: SABATIER Michèle | Q10: FERRAZ Hélène | R10: ROCCHI Estelle | S10: VASLIN Pascal | U10: JOINIÉ-MAURIN Philippe | W10: FOUCAUD Catherine | X10: DESCOLAS Pascale | Y10: PITOIS Christian | Z10: GERMAIN Jean-Michel | AA10: MARCHAIS Marie-Noëlle | AB10: GOUST Martine | AC10: REIS José | AD10: NAUD François | AE10: GAROUFALAKIS Véronique | AF10: GOUST Martine | AG10: REIS José | AH10: LACOSTE Olivier
O11: JOUBERT Ann | Q11: FONGOND Danielle | R11: SITAUD Pascale | U11: LATRICHE Christian | W11: FOUQUES Emmanuelle | X11: DESPLATS Catherine | Y11: REIS José | Z11: GILL Robert | AA11: REVAULT Chantal | AB11: MATHIEU Patricia | AC11: SULPIE Jean-Luc | AD11: REDOIS Antoine | AE11: JOUBERT Ann | AF11: JOLLIVET-BARON Sylvie | AG11: SULPIE Jean-Luc | AH11: LATRICHE Christian
F12: Types de séances | O12: LASSEN Carine | Q12: GAUDIOT Danièle | R12: VERDIER Nelly | U12: LEMOINE André | W12: GAROUFALAKIS Véronique | X12: DUFFAUD Sarah | Y12: SULPIE Jean-Luc | Z12: JOINIÉ-MAURIN Philippe | AA12: SULPIE Isabelle | AB12: POITOU Sylvie | AD12: SAVALL Armand | AE12: LHOIRY Frédérique | AF12: JOLLY Laure | AG12: VASLIN Pascal | AH12: LEMOINE André
F13: TM | G13: AR | H13: AS | I13: TF | J13: TH | O13: LAUJAC-POINOT Geneviève | Q13: GUÉRIN Annick | R13: VILLALONGUE Michèle | U13: MATRAT Georges | W13: GASPAR Mauricette | X13: FERRAZ Hélène | Y13: VASLIN Pascal | Z13: LACOSTE Olivier | AB13: RIGOLLET Elisabeth | AD13: SEMON Gérard | AE13: MAGRENON Françoise | AF13: LEGER Nicole | AH13: MATRAT Georges
B14: Pupitres / Lieux | C14: S | D14: Saintes | E14: =COUNTIF(Choristes!$E$2:$E$127,"SS") -> 17 | F14: =E14 -> 17 | H14: =E14 -> 17 | I14: =E14 -> 17 | K14: =E14+E15 -> 24 | L14: =SUM(K14:K17) -> 58 | M14: =L14+L18 -> 88 | O14: LHOIRY Frédérique | Q14: JOLLY Laure | U14: NAUD François | W14: GUILLOT Brigitte | X14: FONGOND Danielle | Z14: LATRICHE Christian | AB14: TOULAT Isabelle | AE14: MARCHAIS Marie-Noëlle | AF14: LEMOINE Michèle | AH14: NAUD François
D15: Rochelle | E15: =COUNTIF(Choristes!$E$2:$E$127,"SR") -> 7 | F15: =E15 -> 7 | G15: =E15 -> 7 | I15: =E15 -> 7 | O15: MAGRENON Françoise | Q15: LAFON Joëlle | U15: NOUET Jean-Pierre | W15: JOUBERT Ann | X15: GANDRIAU Marie-Andrée | Z15: LEMOINE André | AE15: MORILLON Anne | AF15: MATHIEU Patricia | AH15: REDOIS Antoine
C16: A | D16: Saintes | E16: =COUNTIF(Choristes!$E$2:$E$127,"AS") -> 24 | F16: =E16 -> 24 | H16: =E16 -> 24 | I16: =E16 -> 24 | K16: =E16+E17 -> 34 | O16: MORILLON Anne | Q16: LÉGER Nicole | U16: SAVALL Armand | W16: LASSEN Carine | X16: GAUDIOT Danièle | Z16: MATRAT Georges | AE16: MURGUET Caroline | AF16: POITOU Sylvie | AH16: SAVALL Armand
D17: Rochelle | E17: =COUNTIF(Choristes!$E$2:$E$127,"AR") -> 10 | F17: =E17 -> 10 | G17: =E17 -> 10 | I17: =E17 -> 10 | O17: MURGUET Caroline | Q17: LEMOINE Michèle | U17: SEMON Gérard | W17: LAUJAC-POINOT Geneviève | X17: GOUST Martine | Z17: MERTEN Daniel | AE17: REVAULT Chantal | AF17: RIGOLLET Elisabeth | AH17: SEMON Gérard
C18: T | D18: Saintes | E18: =COUNTIF(Choristes!$E$2:$E$127,"TS") -> 7 | F18: =E18 -> 7 | H18: =E18 -> 7 | J18: =E18 -> 7 | K18: =E18+E19 -> 10 | L18: =SUM(K18:K21) -> 30 | O18: NELSON Christel | Q18: LHOSTE-BOUTIN Frédérique | U18: WOOD Grahame | W18: LHOIRY Frédérique | X18: GUÉRIN Annick | Z18: NAUD François | AE18: SULPIE Isabelle | AF18: TOULAT Isabelle
D19: Rochelle | E19: =COUNTIF(Choristes!$E$2:$E$127,"TR") -> 3 | F19: =E19 -> 3 | G19: =E19 -> 3 | J19: =E19 -> 3 | O19: REVAULT Chantal | Q19: MATHIEU Patricia | W19: MAGRENON Françoise | X19: JOLLIVET-BARON Sylvie | Z19: NOUET Jean-Pierre | AF19: VERDIER Nelly
C20: B | D20: Saintes | E20: =COUNTIF(Choristes!$E$2:$E$127,"BS") -> 15 | F20: =E20 -> 15 | H20: =E20 -> 15 | J20: =E20 -> 15 | K20: =E20+E21 -> 20 | O20: SULPIE Isabelle | Q20: MESSEMÈNE Rose | W20: MARCHAIS Marie-Noëlle | X20: JOLLY Laure | Z20: REDOIS Antoine
D21: Rochelle | E21: =COUNTIF(Choristes!$E$2:$E$127,"BR") -> 5 | F21: =E21 -> 5 | G21: =E21 -> 5 | J21: =E21 -> 5 | Q21: MÉTOYER Marie-Hélène | W21: MORILLON Anne | X21: LAFON Joëlle | Z21: SAVALL Armand
B22: Nbre de Choristes | E22: =SUM(E14:E21) -> 88 | F22: =SUM(F14:F21) -> 88 | G22: =SUM(G14:G21) -> 25 | H22: =SUM(H14:H21) -> 63 | I22: =SUM(I14:I21) -> 58 | J22: =SUM(J14:J21) -> 30 | Q22: OUDET Patricia | W22: MURGUET Caroline | X22: LÉGER Nicole | Z22: SEMON Gérard
Q23: PARFAIT Marie-Hélène | W23: NELSON Christel | X23: LEMOINE Michèle | Z23: WOOD Grahame
F24: Types de séances | Q24: POITOU Sylvie | W24: REDOIS Sylviane | X24: LHOSTE-BOUTIN Frédérique
E25: AG | F25: TM | G25: AR | H25: AS | I25: TF | J25: TH | Q25: RIGOLLET Elisabeth | W25: REVAULT Chantal | X25: MATHIEU Patricia
C26: Femmes | D26: S | E26: =F14+F15 -> 24 | F26: =E26 -> 24 | G26: =G15 -> 7 | H26: =H14 -> 17 | I26: =E14+E15 -> 24 | K26: =E26+E27 -> 58 | L26: =SUM(K26:K29) -> 88 | Q26: TOULAT Isabelle | W26: SABATIER Michèle | X26: MESSEMÈNE Rose
D27: A | E27: =F16+F17 -> 34 | F27: =E27 -> 34 | G27: =G17 -> 10 | H27: =H16 -> 24 | I27: =E16+E17 -> 34 | Q27: VAN CUYCK Hélène | W27: SULPIE Isabelle | X27: MÉTOYER Marie-Hélène
C28: Hommes | D28: T | E28: =F18+F19 -> 10 | F28: =E28 -> 10 | G28: =G19 -> 3 | H28: =H18 -> 7 | J28: =E18+E19 -> 10 | K28: =E28+E29 -> 30 | X28: OUDET Patricia
D29: B | E29: =F20+F21 -> 20 | F29: =E29 -> 20 | G29: =G21 -> 5 | H29: =H20 -> 15 | J29: =E20+E21 -> 20 | X29: PARFAIT Marie-Hélène
D30: Nbre de choristes | F30: =SUM(E26:E29) -> 88 | G30: =SUM(G26:G29) -> 25 | H30: =SUM(H26:H29) -> 63 | I30: =SUM(I26:I29) -> 58 | J30: =SUM(J26:J29) -> 30 | X30: POITOU Sylvie
D31: Nbre de séances | F31: =Dates!$H122 -> 36 | G31: =Dates!$H124 -> 14 | H31: =Dates!$H123 -> 14 | I31: =Dates!$H126 -> 0 | J31: =Dates!$H125 -> 3 | K31: =SUM(F31:J31) -> 67 | X31: RIGOLLET Elisabeth
D32: Nbre de visas | F32: =F30*F31 -> 3168 | G32: =G30*G31 -> 350 | H32: =H30*H31 -> 882 | I32: =I30*I31 -> 0 | J32: =J30*J31 -> 90 | X32: ROCCHI Estelle
D33: Total Visas attendus | F33: =SUM(F32:J32) -> 4490 | X33: SITAUD Pascale
X34: TOULAT Isabelle
F35: Nombre de Séances | X35: VAN CUYCK Hélène
F36: TM | G36: AR | H36: AS | I36: TF | J36: TH | X36: VERDIER Nelly
B37: Pupitres / Lieux | C37: S | D37: S | E37: =COUNTIF(Choristes!$E$2:$E$127,"SS") -> 17 | F37: =Dates!$H$122 -> 36 | H37: =Dates!$H$123 -> 14 | I37: =Dates!$H$126 -> 0 | K37: =SUM(F37:J37) -> 50 | L37: =E37*SUM(F37:J37) -> 850 | X37: VILLALONGUE Michèle
D38: R | E38: =COUNTIF(Choristes!$E$2:$E$127,"SR") -> 7 | F38: =Dates!$H$122 -> 36 | G38: =Dates!$H$124 -> 14 | I38: =Dates!$H$126 -> 0 | K38: =SUM(F38:J38) -> 50 | L38: =E38*SUM(F38:J38) -> 350
C39: A | D39: S | E39: =COUNTIF(Choristes!$E$2:$E$127,"AS") -> 24 | F39: =Dates!$H$122 -> 36 | H39: =Dates!$H$123 -> 14 | I39: =Dates!$H$126 -> 0 | K39: =SUM(F39:J39) -> 50 | L39: =E39*SUM(F39:J39) -> 1200
D40: R | E40: =COUNTIF(Choristes!$E$2:$E$127,"AR") -> 10 | F40: =Dates!$H$122 -> 36 | G40: =Dates!$H$124 -> 14 | I40: =Dates!$H$126 -> 0 | K40: =SUM(F40:J40) -> 50 | L40: =E40*SUM(F40:J40) -> 500
...

Sheet Présences, Excuses, et Tx P G
