Workbook

Sheet Notice
A1: Notice explicative d'exploitation du Fichier "GCAD-Présences"
A3: Pour ajouter un choriste (Méthode intégrale) | C3: Cette méthode facilite la saisie des présences, car tous les noms sont dans le même ordre que les feuilles de collecte des visas. Elle présente cependant l'inconvénient d'être lourde à mettre en œuvre.
A4: Onglet "Choristes" | C4: Insérer la ligne devant recevoir le nouveau nom
C5: Mettre à jour la colonne A qui sert à compter le nombre de choristes
C6: Saisir le nom et le prénom (en B), le pupitre (en C), et l'atelier de rattachement (en C)
B7: Conséquences | C7: Le nombre de visas attendus est automatiquement mis à jour dans l'onglet "Répartitions"
A9: Onglet "Répartition" | B9: Colonnes O à Z | C9: Modifier manuellement la répartition des choristes dans l'onglet "Répartition" (Partie non encore automatisée). Attention Copier-Coller en décalant d'une case et remplacer le nom en double par le nouveau. Ne jamais Couper-Coller, qui entraîne une erreur dans les feuilles d'émargement. Procéder par Copier-Coller-effacer
B10: Colonnes D et E | C10: Vérifier le nouveau nombre total de choristes et les nombres dans chaque groupe et dans chaque pupitre
A12: Onglet "Présences, excuses" | B12: Colonnes E à J et N O | C12: Afficher les colonnes masquées
C13: Insérer la ligne devant recevoir le nouveau nom
C14: Sélectionner les formules de la ligne immédiatement supérieure et faire glisser pour mettre à jour les formules jusqu'en bas de tableau
C15: Masquer les colonnes inutiles à l'affichage E à J et N O
B16: Conséquences | C16: Le nouveau nom est apparu et tout est prêt pour recevoir les pointages de la nouvelle personne
A18: Onglet "Tx P Ind" | B18: Colonnes E à H et J K | C18: Afficher les colonnes masquées
C19: Insérer la ligne devant recevoir le nouveau nom
C20: Sélectionner les formules de la ligne immédiatement supérieure et faire glisser pour mettre à jour les formules jusqu'en bas de tableau
C21: Masquer les colonnes inutiles à l'affichage E à H et J K
B22: Conséquences | C22: Le nouveau nom est apparu et tout est prêt pour recevoir les pointages de la nouvelle personne
A24: Onglet "Tx P Ind" | B24: ATTENTION : | C24: Vérifier que les choristes déplacés n'ont pas d'erreur de calcul dans leur pourcentage de présence.
C25: Pour cela : Imprimer la colonne des derniers résultats connus sur le fichier antérieur et comparer avec la même impression sur le fichier comportant le nouveau nom
A27: Onglets "Feuilles d'émargement" | C27: Les noms des choristes étant automatisés il n'y pas de nécessité d'intervenir sur ces onglets.
A29: Pour ajouter un choriste (Méthode allégée) | C29: Cette méthode simplifie la prise en compte des nouveaux en cours d'année, en évitant les erreurs de statistiques éventuelles, en cas d'erreur de décalage des saisies précédentes (méthode intégrale). Elle présente l'inconvénient de supprimer la logique de classement par ordre alphabétique identique sur les feuilles de présence, et sur l'onglet de saisie .
A30: Onglet "Choristes" | C30: Ajouter le nouveau en cours d'année à la suite de la liste précédente (rubrique "Arrivée en cours d'année".
A31: Onglet "Répartitions" | C31: Modifier manuellement la répartition des choristes dans l'onglet "Répartition" (Partie non encore automatisée). Attention Copier-Coller en décalant d'une case et remplacer le nom en double par le nouveau. Ne jamais Couper-Coller, qui entraîne une erreur dans les feuilles d'émargement. Procéder par Copier-Coller-effacer
B32: Conséquences | C32: Tous est instantanément en place pour l'exploitation du présent fichier (saisie des excuses, des présences et calcul des taux de présence individuels et collectifs)
A34: Pour ajouter un choriste (Synthèse des deux méthodes) | C34: Utiliser éventuellement la méthode allégée jusqu'à Noël, puis intégrer tous les nouveaux avant la reprise de Janvier. Le nombre de séances restantes étant par nature insuffisant pour assurer les 75% de présence requis. Sauf exception de chanteurs qui ont déjà chanté le programme précédemment, et dont l'audition d'accueil serait favorable. Ce qui limite tout de même le nombre de cas.
A36: Pour supprimer un choriste :
A37: Onglet "Choristes" | C37: Effacer le nom, le pupitre et le lieux de répétition (cellules blanches). Ne pas décaler les autres choristes au rique de fausser les résultats des taux de présence individuels et collectifs. La suppression définitive sera faite lors de l'initialisation du fichier pour la saison suivante. Dans l'absolu, on pourrait faire l'opération inverse de l'ajout d'un choriste (avec décalage de toutes les lignes de traitement statistique de taux de présence). Mais dans ce cas, cette opération ne présente pas de nécessité impérative, ni d'intérêt particulier autre qu'un intérêt de présentation.
A38: Onglet "Répartitions" | C38: Effacer le nom dans les colonnes de répartitions, qui génèrent les feuilles de présences. Le décalage des autres choristes dans ces colonnes ne comporte aucun risque d'erreur de traitement dans les autres onglets.
B39: Conséquences | C39: Les nombres de choristes seront mis à jour automatiquement avec toutes les statistiques qui y sont associées, même si la cellule du choriste parti reste vide.
A41: Pour ajouter une date :
A42: Onglet "Date" | C42: Repérer la position de la ligne à insérer
C43: Insérer la nouvelle ligne. Saisir la date, les horaires, et le type d'atelier. Mettre à jour le numéro de ligne (colonne C) et le comptage des répètes (colonne B)
B44: Conséquences | C44: Le jour de la semaine est automatique. La couleur de l'atelier est automatique. Le nom du correspondant pour les feuilles d'émargement est automatique
C45: Le nombre de séances est automatiquement mis à jour
C46: Le nombre de visas attendus est automatiquement mis à jour dans l'onglet "Répartitions"
A48: Onglet "Présences/Excuses" | C48: Les colonnes de cet onglet sont générées par le N° de ligne de l'onglet "Dates" (colonne C). L'ajout d'une date ne nécessite donc aucune intervention sur cet onglet, sauf de décaler les absences déjà saisies.
C49: Ignorer les consignes ci-dessous. A valider à l'usage.
A50: Lignes à supprimer si OK Attention : Ces lignes restent indispensables si des saisies ont déjà été effectuées après la date ajioutée. Ce qui devrait être rare. | C50: Repérer l'emplacement de la nouvelle date. Insérer une colonne. Afficher les lignes masquées de 7 à 15 (pour mise à jour des formules de calcul qui sont cachées dans ces lignes).
B51: Lignes 2 à 15 | C51: Reproduire les formules à partir de la colonne immédiatement à gauche.
B52: Ligne 1 | C52: Corriger les numéros de colonnes jusqu'à la fin du tableau
B53: Lignes 17 à fin | C53: Afficher les colonnes masquées E F G H I J. Vérifier dans les colonnes F et G, la prise en compte de l'extension de la base de données pour la fonction RECHERCHEH(…)
B54: Lignes 137 à 160 | C54: En bas de tableau : Reproduire les formules à partir de la colonne immédiatement à gauche
C55: Remasquer les lignes 7 à 15 et les colonnes E F G H I J inutiles à l'affichage.
A57: Onglet "Tx de Présence Ind" | C57: Les colonnes de cet onglet sont générées par le N° de ligne de l'onglet "Dates" (colonne C). L'ajout d'une date ne nécessite donc aucune intervention sur cet onglet
A60: Pour annuler d'une date
A61: Onglet "Date" | C61: Remplacer le type d'atelier par "Nul".
B62: Conséquences | C62: La case devient blanche.
C63: Le nombre de séances est automatiquement corrigé.
C64: Les Statistiques sont correctes, sans qu'il soit nécessaire de corriger quoi que ce soit d'autre.
A66: Pour éditer les feuilles de présence
A67: Onglet "Pointages et Résultats 1" | C67: Repérer, dans le tableau de saisie des présences (onglet "Pointages et Résultats 1" ), le numéro et le type de séance (TM, AR, AS, etc.) correspondant à la date de répétition concernée.
A68: Onglets "Feuilles de Présence" | B68: 1, 2, 3, 5, 6, 7, 8 | C68: Pour une séance TM sélectionner tous les onglets jaunes (1, 2 et 3).
C69: Dans la cellule G1 inscrire le N° de la séance (exemple 1 pour le dimanche 10 septembre 2017 matin, 2 pour l'après midi, etc)
B70: Conséquences | C70: Les dates se renseignent toutes seules dans toutes les feuilles sélectionnées.
C71: Lancer l'impression.
B72: Conséquences | C72: Toutes les feuilles s'impriment directement.
C73: Pour une séance AS sélectionner tous les onglets verts + N° de séance en G1 et lancer l'impression.
C74: Pour une séance AR sélectionner l'onglet bleu + N° de séance en G1 et lancer l'impression.
C75: Pour une séance Tutti Homme, sélectionner l'onglet jaune N° 3 + N° de séance en G1 et lancer l'impression.
C76: Pour une séance Tutti Femmes, sélectionner les onglets jaunes 1 et 2 + N° de séance en G1 et lancer l'impression
A78: Pour initialiser le fichier pour la saison suivante
A79: Principe : | C79: Créer une copie du fichier de l'année précédente et effacer tout ce qui relève de saisies manuelles, en veillant à ne jamais effacer de formules automatiques.
A80: Dans la pratique, dans les onglets : | B80: "Dates" | C80: Effacer uniquement les colonnes C, E, F, G, H, K, et L, depuis les lignes 5 à la fin. Saisir les nouvelles dates, et les présences de Michel Piquemal
B81: "Choristes" | C81: Supprimer les choristes partis, intégrer les derniers choristes arrivés l'année précédente, ajouter les nouveaux choristes en bas de liste.
B82: "Répartitions" | C82: Ne pas intervenir sur la partie de gauche qui se mettra à jour automatiquement. Mettre à jour les nouveaux à leur place dans l'ordre alphabétique (génération des feuilles de présence), dans les différentes colonnes de répartition en fonction du pupitre (S-A-T-B), du genre (H-F) et du lieux de répètition (Sa-Ro). Colonnes O à Z. Procéder par Copier-Coller-Effacer
B83: "Présences" | C83: Effacer toute la zone P17:DP136
B84: "Tx P Ind" | C84: Effacer toute la zone L157:DP159
B85: "Feuilles de présence" | C85: Sélectionner tous les onglets et effacer uniquement la cellule G1, correspondant au numéro de séance de répétition. Les noms des choristes sont générés automatiquement
B86: "Absences excusées" | C86: Effacer les colonnes B à AG depuis la ligne 4 à la fin
B87: Conséquences | C87: Le fichier est prêt pour la saison suivante.

Sheet Dates
D2: Dates des répétitions et type d'atelier | K2: Gestion des feuilles d'émargement | O2: Organisation des feuilles vierges d'émargement
K3: Resp. feuilles | L3: Feuilles préparées | M3: Feuilles distribuées
C4: 68 | E4: Jour | F4: Date | G4: Heures | H4: Type | I4: P
A5: =B5/($C$4) -> 0.014705882 | B5: 1 | C5: 1 | D5: SEP | E5: =IF(F5<>0,IF(WEEKDAY(F5,2)=1,"Lundi",IF(WEEKDAY(F5,2)=2,"Mardi",IF(WEEKDAY(F5,2)=3,"Mercredi",IF(WEEKDAY(F5,2)=4,"Jeudi",IF(WEEKDAY(F5,2)=5,"Vendredi",IF(WEEKDAY(F5,2)=6,"Samedi",IF(WEEKDAY(F5,2)=7,"Dimanche",))))))),) -> Dimanche | F5: 42988 | G5: 09:30-12:00 | H5: TM | K5: =IF(H5<>0,IF(H5="TM","Nadine",IF(H5="AS","Nadine",IF(H5="AR","Michel",IF(H5="TH","Guy",IF(H5="TF","Nadine","Guy"))))),) -> Nadine | L5: 42983 | M5: 42957 | O5: Type | Q5: TM | R5: AS | S5: AR | T5: TH | U5: TF
A6: =B6/($C$4) -> 0.029411765 | B6: 2 | C6: 2 | E6: =IF(F6<>0,IF(WEEKDAY(F6,2)=1,"Lundi",IF(WEEKDAY(F6,2)=2,"Mardi",IF(WEEKDAY(F6,2)=3,"Mercredi",IF(WEEKDAY(F6,2)=4,"Jeudi",IF(WEEKDAY(F6,2)=5,"Vendredi",IF(WEEKDAY(F6,2)=6,"Samedi",IF(WEEKDAY(F6,2)=7,"Dimanche",))))))),) -> Dimanche | F6: 42988 | G6: 14:00-17:00 | H6: TM | K6: =IF(H6<>0,IF(H6="TM","Nadine",IF(H6="AS","Nadine",IF(H6="AR","Michel",IF(H6="TH","Guy",IF(H6="TF","Nadine","Guy"))))),) -> Nadine | L6: 42983 | M6: 42957
A7: =B7/($C$4) -> 0.044117647 | B7: 3 | C7: 3 | E7: =IF(F7<>0,IF(WEEKDAY(F7,2)=1,"Lundi",IF(WEEKDAY(F7,2)=2,"Mardi",IF(WEEKDAY(F7,2)=3,"Mercredi",IF(WEEKDAY(F7,2)=4,"Jeudi",IF(WEEKDAY(F7,2)=5,"Vendredi",IF(WEEKDAY(F7,2)=6,"Samedi",IF(WEEKDAY(F7,2)=7,"Dimanche",))))))),) -> Lundi | F7: 42996 | G7: 20:00-22:00 | H7: AR | K7: =IF(H7<>0,IF(H7="TM","Nadine",IF(H7="AS","Nadine",IF(H7="AR","Michel",IF(H7="TH","Guy",IF(H7="TF","Nadine","Guy"))))),) -> Michel | L7: 42977 | M7: 42957 | O7: 1 | P7: Sopranes (Sa+Ro) | Q7: =Répartitions!F26 -> 24 | U7: =Q7 -> 24
A8: =B8/($C$4) -> 0.058823529 | B8: 4 | C8: 4 | E8: =IF(F8<>0,IF(WEEKDAY(F8,2)=1,"Lundi",IF(WEEKDAY(F8,2)=2,"Mardi",IF(WEEKDAY(F8,2)=3,"Mercredi",IF(WEEKDAY(F8,2)=4,"Jeudi",IF(WEEKDAY(F8,2)=5,"Vendredi",IF(WEEKDAY(F8,2)=6,"Samedi",IF(WEEKDAY(F8,2)=7,"Dimanche",))))))),) -> Mardi | F8: 42997 | G8: 20:30-22:30 | H8: AS | K8: =IF(H8<>0,IF(H8="TM","Nadine",IF(H8="AS","Nadine",IF(H8="AR","Michel",IF(H8="TH","Guy",IF(H8="TF","Nadine","Guy"))))),) -> Nadine | L8: 42983 | M8: 42957 | O8: 2 | P8: Alti (Sa+Ro) | Q8: =Répartitions!F27 -> 34 | U8: =Q8 -> 34
A9: =B9/($C$4) -> 0.073529412 | B9: 5 | C9: 5 | E9: =IF(F9<>0,IF(WEEKDAY(F9,2)=1,"Lundi",IF(WEEKDAY(F9,2)=2,"Mardi",IF(WEEKDAY(F9,2)=3,"Mercredi",IF(WEEKDAY(F9,2)=4,"Jeudi",IF(WEEKDAY(F9,2)=5,"Vendredi",IF(WEEKDAY(F9,2)=6,"Samedi",IF(WEEKDAY(F9,2)=7,"Dimanche",))))))),) -> Lundi | F9: 43003 | G9: 20:00-22:00 | H9: AR | K9: =IF(H9<>0,IF(H9="TM","Nadine",IF(H9="AS","Nadine",IF(H9="AR","Michel",IF(H9="TH","Guy",IF(H9="TF","Nadine","Guy"))))),) -> Michel | L9: 42977 | M9: 42957 | O9: 3 | P9: Ténors (Sa+Ro) | Q9: =Répartitions!J30 -> 30 | T9: =Q9 -> 30
A10: =B10/($C$4) -> 0.088235294 | B10: 6 | C10: 6 | E10: =IF(F10<>0,IF(WEEKDAY(F10,2)=1,"Lundi",IF(WEEKDAY(F10,2)=2,"Mardi",IF(WEEKDAY(F10,2)=3,"Mercredi",IF(WEEKDAY(F10,2)=4,"Jeudi",IF(WEEKDAY(F10,2)=5,"Vendredi",IF(WEEKDAY(F10,2)=6,"Samedi",IF(WEEKDAY(F10,2)=7,"Dimanche",))))))),) -> Mardi | F10: 43004 | G10: 20:30-22:30 | H10: AS | K10: =IF(H10<>0,IF(H10="TM","Nadine",IF(H10="AS","Nadine",IF(H10="AR","Michel",IF(H10="TH","Guy",IF(H10="TF","Nadine","Guy"))))),) -> Nadine | L10: 42983 | M10: 42957 | P10: Basses (Sa+Ro)
A11: =B11/($C$4) -> 0.10294118 | B11: 7 | C11: 7 | E11: =IF(F11<>0,IF(WEEKDAY(F11,2)=1,"Lundi",IF(WEEKDAY(F11,2)=2,"Mardi",IF(WEEKDAY(F11,2)=3,"Mercredi",IF(WEEKDAY(F11,2)=4,"Jeudi",IF(WEEKDAY(F11,2)=5,"Vendredi",IF(WEEKDAY(F11,2)=6,"Samedi",IF(WEEKDAY(F11,2)=7,"Dimanche",))))))),) -> Samedi | F11: 43008 | G11: 20:00-22:00 | H11: TM | K11: =IF(H11<>0,IF(H11="TM","Nadine",IF(H11="AS","Nadine",IF(H11="AR","Michel",IF(H11="TH","Guy",IF(H11="TF","Nadine","Guy"))))),) -> Nadine | L11: 42983 | M11: 42957 | O11: 5 | P11: Sopranes (Sa) | R11: =Répartitions!H14 -> 17
A12: =B12/($C$4) -> 0.11764706 | B12: 8 | C12: 8 | D12: OCT | E12: =IF(F12<>0,IF(WEEKDAY(F12,2)=1,"Lundi",IF(WEEKDAY(F12,2)=2,"Mardi",IF(WEEKDAY(F12,2)=3,"Mercredi",IF(WEEKDAY(F12,2)=4,"Jeudi",IF(WEEKDAY(F12,2)=5,"Vendredi",IF(WEEKDAY(F12,2)=6,"Samedi",IF(WEEKDAY(F12,2)=7,"Dimanche",))))))),) -> Dimanche | F12: 43009 | G12: 9:30-12:00 | H12: TM | K12: =IF(H12<>0,IF(H12="TM","Nadine",IF(H12="AS","Nadine",IF(H12="AR","Michel",IF(H12="TH","Guy",IF(H12="TF","Nadine","Guy"))))),) -> Nadine | L12: 42983 | M12: 42957 | O12: 6 | P12: Alti (Sa) | R12: =Répartitions!H16 -> 24
A13: =B13/($C$4) -> 0.13235294 | B13: 9 | C13: 9 | E13: =IF(F13<>0,IF(WEEKDAY(F13,2)=1,"Lundi",IF(WEEKDAY(F13,2)=2,"Mardi",IF(WEEKDAY(F13,2)=3,"Mercredi",IF(WEEKDAY(F13,2)=4,"Jeudi",IF(WEEKDAY(F13,2)=5,"Vendredi",IF(WEEKDAY(F13,2)=6,"Samedi",IF(WEEKDAY(F13,2)=7,"Dimanche",))))))),) -> Dimanche | F13: 43009 | G13: 14:00-17:00 | H13: TM | K13: =IF(H13<>0,IF(H13="TM","Nadine",IF(H13="AS","Nadine",IF(H13="AR","Michel",IF(H13="TH","Guy",IF(H13="TF","Nadine","Guy"))))),) -> Nadine | L13: 42983 | M13: 42957 | O13: 7 | P13: Ténors (Sa) | R13: =Répartitions!H18+Répartitions!H20 -> 22
A14: =B14/($C$4) -> 0.14705882 | B14: 10 | C14: 10 | E14: =IF(F14<>0,IF(WEEKDAY(F14,2)=1,"Lundi",IF(WEEKDAY(F14,2)=2,"Mardi",IF(WEEKDAY(F14,2)=3,"Mercredi",IF(WEEKDAY(F14,2)=4,"Jeudi",IF(WEEKDAY(F14,2)=5,"Vendredi",IF(WEEKDAY(F14,2)=6,"Samedi",IF(WEEKDAY(F14,2)=7,"Dimanche",))))))),) -> Lundi | F14: 43017 | G14: 20:00-22:00 | H14: AR | K14: =IF(H14<>0,IF(H14="TM","Nadine",IF(H14="AS","Nadine",IF(H14="AR","Michel",IF(H14="TH","Guy",IF(H14="TF","Nadine","Guy"))))),) -> Michel | L14: 43038 | M14: 43008 | P14: Basses (Sa)
A15: =B15/($C$4) -> 0.16176471 | B15: 11 | C15: 11 | E15: =IF(F15<>0,IF(WEEKDAY(F15,2)=1,"Lundi",IF(WEEKDAY(F15,2)=2,"Mardi",IF(WEEKDAY(F15,2)=3,"Mercredi",IF(WEEKDAY(F15,2)=4,"Jeudi",IF(WEEKDAY(F15,2)=5,"Vendredi",IF(WEEKDAY(F15,2)=6,"Samedi",IF(WEEKDAY(F15,2)=7,"Dimanche",))))))),) -> Mardi | F15: 43018 | G15: 20:30-22:30 | H15: AS | K15: =IF(H15<>0,IF(H15="TM","Nadine",IF(H15="AS","Nadine",IF(H15="AR","Michel",IF(H15="TH","Guy",IF(H15="TF","Nadine","Guy"))))),) -> Nadine | L15: 43038 | M15: 43018 | O15: 8 | P15: Sopranes (Ro) | S15: =Répartitions!G9 -> 25
A16: =B16/($C$4) -> 0.17647059 | B16: 12 | C16: 12 | E16: =IF(F16<>0,IF(WEEKDAY(F16,2)=1,"Lundi",IF(WEEKDAY(F16,2)=2,"Mardi",IF(WEEKDAY(F16,2)=3,"Mercredi",IF(WEEKDAY(F16,2)=4,"Jeudi",IF(WEEKDAY(F16,2)=5,"Vendredi",IF(WEEKDAY(F16,2)=6,"Samedi",IF(WEEKDAY(F16,2)=7,"Dimanche",))))))),) -> Lundi | F16: 43024 | G16: 20:00-22:00 | H16: AR | K16: =IF(H16<>0,IF(H16="TM","Nadine",IF(H16="AS","Nadine",IF(H16="AR","Michel",IF(H16="TH","Guy",IF(H16="TF","Nadine","Guy"))))),) -> Michel | L16: 43038 | M16: 43008 | P16: Alti (Ro)
A17: =B17/($C$4) -> 0.19117647 | B17: 13 | C17: 13 | E17: =IF(F17<>0,IF(WEEKDAY(F17,2)=1,"Lundi",IF(WEEKDAY(F17,2)=2,"Mardi",IF(WEEKDAY(F17,2)=3,"Mercredi",IF(WEEKDAY(F17,2)=4,"Jeudi",IF(WEEKDAY(F17,2)=5,"Vendredi",IF(WEEKDAY(F17,2)=6,"Samedi",IF(WEEKDAY(F17,2)=7,"Dimanche",))))))),) -> Mardi | F17: 43025 | G17: 20:30-22:30 | H17: AS | K17: =IF(H17<>0,IF(H17="TM","Nadine",IF(H17="AS","Nadine",IF(H17="AR","Michel",IF(H17="TH","Guy",IF(H17="TF","Nadine","Guy"))))),) -> Nadine | L17: 43038 | M17: 43018 | P17: Ténors (Ro)
A18: =B18/($C$4) -> 0.20588235 | B18: 14 | C18: 14 | D18: NOV | E18: =IF(F18<>0,IF(WEEKDAY(F18,2)=1,"Lundi",IF(WEEKDAY(F18,2)=2,"Mardi",IF(WEEKDAY(F18,2)=3,"Mercredi",IF(WEEKDAY(F18,2)=4,"Jeudi",IF(WEEKDAY(F18,2)=5,"Vendredi",IF(WEEKDAY(F18,2)=6,"Samedi",IF(WEEKDAY(F18,2)=7,"Dimanche",))))))),) -> Lundi | F18: 43045 | G18: 20:00-22:00 | H18: AR | K18: =IF(H18<>0,IF(H18="TM","Nadine",IF(H18="AS","Nadine",IF(H18="AR","Michel",IF(H18="TH","Guy",IF(H18="TF","Nadine","Guy"))))),) -> Michel | L18: 43038 | M18: 43008 | P18: Basses (Ro)
A19: =B19/($C$4) -> 0.22058824 | B19: 15 | C19: 15 | E19: =IF(F19<>0,IF(WEEKDAY(F19,2)=1,"Lundi",IF(WEEKDAY(F19,2)=2,"Mardi",IF(WEEKDAY(F19,2)=3,"Mercredi",IF(WEEKDAY(F19,2)=4,"Jeudi",IF(WEEKDAY(F19,2)=5,"Vendredi",IF(WEEKDAY(F19,2)=6,"Samedi",IF(WEEKDAY(F19,2)=7,"Dimanche",))))))),) -> Mardi | F19: 43046 | G19: 20:30-22:30 | H19: AS | K19: =IF(H19<>0,IF(H19="TM","Nadine",IF(H19="AS","Nadine",IF(H19="AR","Michel",IF(H19="TH","Guy",IF(H19="TF","Nadine","Guy"))))),) -> Nadine | L19: 43038 | M19: 43018
A20: =B20/($C$4) -> 0 | C20: 16 | E20: =IF(F20<>0,IF(WEEKDAY(F20,2)=1,"Lundi",IF(WEEKDAY(F20,2)=2,"Mardi",IF(WEEKDAY(F20,2)=3,"Mercredi",IF(WEEKDAY(F20,2)=4,"Jeudi",IF(WEEKDAY(F20,2)=5,"Vendredi",IF(WEEKDAY(F20,2)=6,"Samedi",IF(WEEKDAY(F20,2)=7,"Dimanche",))))))),) -> Samedi | F20: 43050 | G20: 17:00-19:00 | H20: Nul | O20: Total Choristes | Q20: =SUM(Q7:Q18) -> 88 | R20: =SUM(R7:R18) -> 63 | S20: =SUM(S7:S18) -> 25 | T20: =SUM(T7:T18) -> 30 | U20: =SUM(U7:U18) -> 58
A21: =B21/($C$4) -> 0.23529412 | B21: 16 | C21: 17 | E21: =IF(F21<>0,IF(WEEKDAY(F21,2)=1,"Lundi",IF(WEEKDAY(F21,2)=2,"Mardi",IF(WEEKDAY(F21,2)=3,"Mercredi",IF(WEEKDAY(F21,2)=4,"Jeudi",IF(WEEKDAY(F21,2)=5,"Vendredi",IF(WEEKDAY(F21,2)=6,"Samedi",IF(WEEKDAY(F21,2)=7,"Dimanche",))))))),) -> Samedi | F21: 43050 | G21: 19:00-21:30 | H21: TM | I21: P | K21: =IF(H21<>0,IF(H21="TM","Nadine",IF(H21="AS","Nadine",IF(H21="AR","Michel",IF(H21="TH","Guy",IF(H21="TF","Nadine","Guy"))))),) -> Nadine | L21: 43021 | M21: 43025 | O21: Types à imprimer | Q21: 1-2-3 | R21: 5-6-7 | S21: 8 | T21: 3 | U21: 1-2
A22: =B22/($C$4) -> 0.25 | B22: 17 | C22: 18 | E22: =IF(F22<>0,IF(WEEKDAY(F22,2)=1,"Lundi",IF(WEEKDAY(F22,2)=2,"Mardi",IF(WEEKDAY(F22,2)=3,"Mercredi",IF(WEEKDAY(F22,2)=4,"Jeudi",IF(WEEKDAY(F22,2)=5,"Vendredi",IF(WEEKDAY(F22,2)=6,"Samedi",IF(WEEKDAY(F22,2)=7,"Dimanche",))))))),) -> Dimanche | F22: 43051 | G22: 15:00-22:00 | H22: TM | I22: P | K22: =IF(H22<>0,IF(H22="TM","Nadine",IF(H22="AS","Nadine",IF(H22="AR","Michel",IF(H22="TH","Guy",IF(H22="TF","Nadine","Guy"))))),) -> Nadine | L22: 43021 | M22: 43021 | O22: Concert Jonzac
A23: =B23/($C$4) -> 0.26470588 | B23: 18 | C23: 19 | E23: =IF(F23<>0,IF(WEEKDAY(F23,2)=1,"Lundi",IF(WEEKDAY(F23,2)=2,"Mardi",IF(WEEKDAY(F23,2)=3,"Mercredi",IF(WEEKDAY(F23,2)=4,"Jeudi",IF(WEEKDAY(F23,2)=5,"Vendredi",IF(WEEKDAY(F23,2)=6,"Samedi",IF(WEEKDAY(F23,2)=7,"Dimanche",))))))),) -> Mardi | F23: 43060 | G23: 20:30-22:30 | H23: TH | K23: =IF(H23<>0,IF(H23="TM","Nadine",IF(H23="AS","Nadine",IF(H23="AR","Michel",IF(H23="TH","Guy",IF(H23="TF","Nadine","Guy"))))),) -> Guy
A24: =B24/($C$4) -> 0.27941176 | B24: 19 | C24: 20 | E24: =IF(F24<>0,IF(WEEKDAY(F24,2)=1,"Lundi",IF(WEEKDAY(F24,2)=2,"Mardi",IF(WEEKDAY(F24,2)=3,"Mercredi",IF(WEEKDAY(F24,2)=4,"Jeudi",IF(WEEKDAY(F24,2)=5,"Vendredi",IF(WEEKDAY(F24,2)=6,"Samedi",IF(WEEKDAY(F24,2)=7,"Dimanche",))))))),) -> Lundi | F24: 43066 | G24: 20:00-22:00 | H24: AR | K24: =IF(H24<>0,IF(H24="TM","Nadine",IF(H24="AS","Nadine",IF(H24="AR","Michel",IF(H24="TH","Guy",IF(H24="TF","Nadine","Guy"))))),) -> Michel | L24: 43021 | M24: 43050
A25: =B25/($C$4) -> 0.29411765 | B25: 20 | C25: 21 | E25: =IF(F25<>0,IF(WEEKDAY(F25,2)=1,"Lundi",IF(WEEKDAY(F25,2)=2,"Mardi",IF(WEEKDAY(F25,2)=3,"Mercredi",IF(WEEKDAY(F25,2)=4,"Jeudi",IF(WEEKDAY(F25,2)=5,"Vendredi",IF(WEEKDAY(F25,2)=6,"Samedi",IF(WEEKDAY(F25,2)=7,"Dimanche",))))))),) -> Mardi | F25: 43067 | G25: 20:30-22:30 | H25: AS | K25: =IF(H25<>0,IF(H25="TM","Nadine",IF(H25="AS","Nadine",IF(H25="AR","Michel",IF(H25="TH","Guy",IF(H25="TF","Nadine","Guy"))))),) -> Nadine | L25: 43021 | M25: 43025
A26: =B26/($C$4) -> 0.30882353 | B26: 21 | C26: 22 | D26: DEC | E26: =IF(F26<>0,IF(WEEKDAY(F26,2)=1,"Lundi",IF(WEEKDAY(F26,2)=2,"Mardi",IF(WEEKDAY(F26,2)=3,"Mercredi",IF(WEEKDAY(F26,2)=4,"Jeudi",IF(WEEKDAY(F26,2)=5,"Vendredi",IF(WEEKDAY(F26,2)=6,"Samedi",IF(WEEKDAY(F26,2)=7,"Dimanche",))))))),) -> Samedi | F26: 43071 | G26: 16:00-19:00 | H26: TH | K26: =IF(H26<>0,IF(H26="TM","Nadine",IF(H26="AS","Nadine",IF(H26="AR","Michel",IF(H26="TH","Guy",IF(H26="TF","Nadine","Guy"))))),) -> Guy | L26: 43067 | M26: 43067
A27: =B27/($C$4) -> 0.32352941 | B27: 22 | C27: 23 | E27: =IF(F27<>0,IF(WEEKDAY(F27,2)=1,"Lundi",IF(WEEKDAY(F27,2)=2,"Mardi",IF(WEEKDAY(F27,2)=3,"Mercredi",IF(WEEKDAY(F27,2)=4,"Jeudi",IF(WEEKDAY(F27,2)=5,"Vendredi",IF(WEEKDAY(F27,2)=6,"Samedi",IF(WEEKDAY(F27,2)=7,"Dimanche",))))))),) -> Samedi | F27: 43071 | G27: 20:00-22:00 | H27: TM | I27: P | K27: =IF(H27<>0,IF(H27="TM","Nadine",IF(H27="AS","Nadine",IF(H27="AR","Michel",IF(H27="TH","Guy",IF(H27="TF","Nadine","Guy"))))),) -> Nadine | L27: 43067 | M27: 43067
A28: =B28/($C$4) -> 0.33823529 | B28: 23 | C28: 24 | E28: =IF(F28<>0,IF(WEEKDAY(F28,2)=1,"Lundi",IF(WEEKDAY(F28,2)=2,"Mardi",IF(WEEKDAY(F28,2)=3,"Mercredi",IF(WEEKDAY(F28,2)=4,"Jeudi",IF(WEEKDAY(F28,2)=5,"Vendredi",IF(WEEKDAY(F28,2)=6,"Samedi",IF(WEEKDAY(F28,2)=7,"Dimanche",))))))),) -> Dimanche | F28: 43072 | G28: 09:30-12:00 | H28: TM | I28: P | K28: =IF(H28<>0,IF(H28="TM","Nadine",IF(H28="AS","Nadine",IF(H28="AR","Michel",IF(H28="TH","Guy",IF(H28="TF","Nadine","Guy"))))),) -> Nadine | L28: 43067 | M28: 43067
A29: =B29/($C$4) -> 0.35294118 | B29: 24 | C29: 25 | E29: =IF(F29<>0,IF(WEEKDAY(F29,2)=1,"Lundi",IF(WEEKDAY(F29,2)=2,"Mardi",IF(WEEKDAY(F29,2)=3,"Mercredi",IF(WEEKDAY(F29,2)=4,"Jeudi",IF(WEEKDAY(F29,2)=5,"Vendredi",IF(WEEKDAY(F29,2)=6,"Samedi",IF(WEEKDAY(F29,2)=7,"Dimanche",))))))),) -> Dimanche | F29: 43072 | G29: 14:00-17:00 | H29: TM | I29: P | K29: =IF(H29<>0,IF(H29="TM","Nadine",IF(H29="AS","Nadine",IF(H29="AR","Michel",IF(H29="TH","Guy",IF(H29="TF","Nadine","Guy"))))),) -> Nadine | L29: 43067 | M29: 43067
A30: =B30/($C$4) -> 0.36764706 | B30: 25 | C30: 26 | E30: =IF(F30<>0,IF(WEEKDAY(F30,2)=1,"Lundi",IF(WEEKDAY(F30,2)=2,"Mardi",IF(WEEKDAY(F30,2)=3,"Mercredi",IF(WEEKDAY(F30,2)=4,"Jeudi",IF(WEEKDAY(F30,2)=5,"Vendredi",IF(WEEKDAY(F30,2)=6,"Samedi",IF(WEEKDAY(F30,2)=7,"Dimanche",))))))),) -> Lundi | F30: 43080 | G30: 20:00-22:00 | H30: AR | K30: =IF(H30<>0,IF(H30="TM","Nadine",IF(H30="AS","Nadine",IF(H30="AR","Michel",IF(H30="TH","Guy",IF(H30="TF","Nadine","Guy"))))),) -> Michel | L30: 43067 | M30: 43071
A31: =B31/($C$4) -> 0.38235294 | B31: 26 | C31: 27 | E31: =IF(F31<>0,IF(WEEKDAY(F31,2)=1,"Lundi",IF(WEEKDAY(F31,2)=2,"Mardi",IF(WEEKDAY(F31,2)=3,"Mercredi",IF(WEEKDAY(F31,2)=4,"Jeudi",IF(WEEKDAY(F31,2)=5,"Vendredi",IF(WEEKDAY(F31,2)=6,"Samedi",IF(WEEKDAY(F31,2)=7,"Dimanche",))))))),) -> Mardi | F31: 43081 | G31: 20:30-22:30 | H31: AS | K31: =IF(H31<>0,IF(H31="TM","Nadine",IF(H31="AS","Nadine",IF(H31="AR","Michel",IF(H31="TH","Guy",IF(H31="TF","Nadine","Guy"))))),) -> Nadine | L31: 43067 | M31: 43067
A32: =B32/($C$4) -> 0.39705882 | B32: 27 | C32: 28 | E32: =IF(F32<>0,IF(WEEKDAY(F32,2)=1,"Lundi",IF(WEEKDAY(F32,2)=2,"Mardi",IF(WEEKDAY(F32,2)=3,"Mercredi",IF(WEEKDAY(F32,2)=4,"Jeudi",IF(WEEKDAY(F32,2)=5,"Vendredi",IF(WEEKDAY(F32,2)=6,"Samedi",IF(WEEKDAY(F32,2)=7,"Dimanche",))))))),) -> Mardi | F32: 43088 | G32: 20:30-22:30 | H32: TM | K32: =IF(H32<>0,IF(H32="TM","Nadine",IF(H32="AS","Nadine",IF(H32="AR","Michel",IF(H32="TH","Guy",IF(H32="TF","Nadine","Guy"))))),) -> Nadine | L32: 43067 | M32: 43067
A33: =B33/($C$4) -> 0.41176471 | B33: 28 | C33: 29 | D33: JAN | E33: =IF(F33<>0,IF(WEEKDAY(F33,2)=1,"Lundi",IF(WEEKDAY(F33,2)=2,"Mardi",IF(WEEKDAY(F33,2)=3,"Mercredi",IF(WEEKDAY(F33,2)=4,"Jeudi",IF(WEEKDAY(F33,2)=5,"Vendredi",IF(WEEKDAY(F33,2)=6,"Samedi",IF(WEEKDAY(F33,2)=7,"Dimanche",))))))),) -> Samedi | F33: 43106 | G33: 20:00-22:00 | H33: TM | K33: =IF(H33<>0,IF(H33="TM","Nadine",IF(H33="AS","Nadine",IF(H33="AR","Michel",IF(H33="TH","Guy",IF(H33="TF","Nadine","Guy"))))),) -> Nadine | L33: 43112 | M33: 43112
A34: =B34/($C$4) -> 0.42647059 | B34: 29 | C34: 30 | E34: =IF(F34<>0,IF(WEEKDAY(F34,2)=1,"Lundi",IF(WEEKDAY(F34,2)=2,"Mardi",IF(WEEKDAY(F34,2)=3,"Mercredi",IF(WEEKDAY(F34,2)=4,"Jeudi",IF(WEEKDAY(F34,2)=5,"Vendredi",IF(WEEKDAY(F34,2)=6,"Samedi",IF(WEEKDAY(F34,2)=7,"Dimanche",))))))),) -> Dimanche | F34: 43107 | G34: 09:30-12:00 | H34: TM | K34: =IF(H34<>0,IF(H34="TM","Nadine",IF(H34="AS","Nadine",IF(H34="AR","Michel",IF(H34="TH","Guy",IF(H34="TF","Nadine","Guy"))))),) -> Nadine | L34: 43112 | M34: 43112
A35: =B35/($C$4) -> 0.44117647 | B35: 30 | C35: 31 | E35: =IF(F35<>0,IF(WEEKDAY(F35,2)=1,"Lundi",IF(WEEKDAY(F35,2)=2,"Mardi",IF(WEEKDAY(F35,2)=3,"Mercredi",IF(WEEKDAY(F35,2)=4,"Jeudi",IF(WEEKDAY(F35,2)=5,"Vendredi",IF(WEEKDAY(F35,2)=6,"Samedi",IF(WEEKDAY(F35,2)=7,"Dimanche",))))))),) -> Dimanche | F35: 43107 | G35: 14:00-17:00 | H35: TM | K35: =IF(H35<>0,IF(H35="TM","Nadine",IF(H35="AS","Nadine",IF(H35="AR","Michel",IF(H35="TH","Guy",IF(H35="TF","Nadine","Guy"))))),) -> Nadine | L35: 43112 | M35: 43112
A36: =B36/($C$4) -> 0.45588235 | B36: 31 | C36: 32 | E36: =IF(F36<>0,IF(WEEKDAY(F36,2)=1,"Lundi",IF(WEEKDAY(F36,2)=2,"Mardi",IF(WEEKDAY(F36,2)=3,"Mercredi",IF(WEEKDAY(F36,2)=4,"Jeudi",IF(WEEKDAY(F36,2)=5,"Vendredi",IF(WEEKDAY(F36,2)=6,"Samedi",IF(WEEKDAY(F36,2)=7,"Dimanche",))))))),) -> Lundi | F36: 43115 | G36: 20:00-22:00 | H36: AR | K36: =IF(H36<>0,IF(H36="TM","Nadine",IF(H36="AS","Nadine",IF(H36="AR","Michel",IF(H36="TH","Guy",IF(H36="TF","Nadine","Guy"))))),) -> Michel | L36: 43112 | M36: 43107
A37: =B37/($C$4) -> 0.47058824 | B37: 32 | C37: 33 | E37: =IF(F37<>0,IF(WEEKDAY(F37,2)=1,"Lundi",IF(WEEKDAY(F37,2)=2,"Mardi",IF(WEEKDAY(F37,2)=3,"Mercredi",IF(WEEKDAY(F37,2)=4,"Jeudi",IF(WEEKDAY(F37,2)=5,"Vendredi",IF(WEEKDAY(F37,2)=6,"Samedi",IF(WEEKDAY(F37,2)=7,"Dimanche",))))))),) -> Mardi | F37: 43116 | G37: 20:30-22:30 | H37: AS | K37: =IF(H37<>0,IF(H37="TM","Nadine",IF(H37="AS","Nadine",IF(H37="AR","Michel",IF(H37="TH","Guy",IF(H37="TF","Nadine","Guy"))))),) -> Nadine | L37: 43112 | M37: 43112
C38: 34 | E38: =IF(F38<>0,IF(WEEKDAY(F38,2)=1,"Lundi",IF(WEEKDAY(F38,2)=2,"Mardi",IF(WEEKDAY(F38,2)=3,"Mercredi",IF(WEEKDAY(F38,2)=4,"Jeudi",IF(WEEKDAY(F38,2)=5,"Vendredi",IF(WEEKDAY(F38,2)=6,"Samedi",IF(WEEKDAY(F38,2)=7,"Dimanche",))))))),) -> Mardi | F38: 43123 | G38: 20:30-22:30 | H38: S | K38: =IF(H38<>0,IF(H38="TM","Nadine",IF(H38="AS","Nadine",IF(H38="AR","Michel",IF(H38="TH","Guy",IF(H38="TF","Nadine","Guy"))))),) -> Guy | L38: 43118 | M38: Non | O38: Solstice TM
A39: =B39/($C$4) -> 0.48529412 | B39: 33 | C39: 35 | E39: =IF(F39<>0,IF(WEEKDAY(F39,2)=1,"Lundi",IF(WEEKDAY(F39,2)=2,"Mardi",IF(WEEKDAY(F39,2)=3,"Mercredi",IF(WEEKDAY(F39,2)=4,"Jeudi",IF(WEEKDAY(F39,2)=5,"Vendredi",IF(WEEKDAY(F39,2)=6,"Samedi",IF(WEEKDAY(F39,2)=7,"Dimanche",))))))),) -> Vendredi | F39: 43126 | G39: 16:00-22:00 | H39: TM | I39: P | K39: =IF(H39<>0,IF(H39="TM","Nadine",IF(H39="AS","Nadine",IF(H39="AR","Michel",IF(H39="TH","Guy",IF(H39="TF","Nadine","Guy"))))),) -> Nadine | L39: 43112 | M39: 43112 | O39: Concert Oléron
A40: =B40/($C$4) -> 0 | C40: 36 | E40: =IF(F40<>0,IF(WEEKDAY(F40,2)=1,"Lundi",IF(WEEKDAY(F40,2)=2,"Mardi",IF(WEEKDAY(F40,2)=3,"Mercredi",IF(WEEKDAY(F40,2)=4,"Jeudi",IF(WEEKDAY(F40,2)=5,"Vendredi",IF(WEEKDAY(F40,2)=6,"Samedi",IF(WEEKDAY(F40,2)=7,"Dimanche",))))))),) -> Samedi | F40: 43127 | G40: 16:00-19:00 | H40: S | I40: P | K40: =IF(H40<>0,IF(H40="TM","Nadine",IF(H40="AS","Nadine",IF(H40="AR","Michel",IF(H40="TH","Guy",IF(H40="TF","Nadine","Guy"))))),) -> Guy | L40: 43112 | M40: 43112 | O40: Solstice TM
A41: =B41/($C$4) -> 0.5 | B41: 34 | C41: 37 | E41: =IF(F41<>0,IF(WEEKDAY(F41,2)=1,"Lundi",IF(WEEKDAY(F41,2)=2,"Mardi",IF(WEEKDAY(F41,2)=3,"Mercredi",IF(WEEKDAY(F41,2)=4,"Jeudi",IF(WEEKDAY(F41,2)=5,"Vendredi",IF(WEEKDAY(F41,2)=6,"Samedi",IF(WEEKDAY(F41,2)=7,"Dimanche",))))))),) -> Samedi | F41: 43127 | G41: 20:00-22:00 | H41: TM | I41: P | K41: =IF(H41<>0,IF(H41="TM","Nadine",IF(H41="AS","Nadine",IF(H41="AR","Michel",IF(H41="TH","Guy",IF(H41="TF","Nadine","Guy"))))),) -> Nadine | L41: 43112 | M41: 43112
A42: =B42/($C$4) -> 0.51470588 | B42: 35 | C42: 38 | E42: =IF(F42<>0,IF(WEEKDAY(F42,2)=1,"Lundi",IF(WEEKDAY(F42,2)=2,"Mardi",IF(WEEKDAY(F42,2)=3,"Mercredi",IF(WEEKDAY(F42,2)=4,"Jeudi",IF(WEEKDAY(F42,2)=5,"Vendredi",IF(WEEKDAY(F42,2)=6,"Samedi",IF(WEEKDAY(F42,2)=7,"Dimanche",))))))),) -> Dimanche | F42: 43128 | G42: 15:00-22:00 | H42: C | I42: P | K42: =IF(H42<>0,IF(H42="TM","Nadine",IF(H42="AS","Nadine",IF(H42="AR","Michel",IF(H42="TH","Guy",IF(H42="TF","Nadine","Guy"))))),) -> Guy | L42: 43112 | M42: 43112 | O42: Concert Pons (occulté des pointages non renseignés par les choristes)
A43: =B43/($C$4) -> 0.52941176 | B43: 36 | C43: 39 | D43: FEV | E43: =IF(F43<>0,IF(WEEKDAY(F43,2)=1,"Lundi",IF(WEEKDAY(F43,2)=2,"Mardi",IF(WEEKDAY(F43,2)=3,"Mercredi",IF(WEEKDAY(F43,2)=4,"Jeudi",IF(WEEKDAY(F43,2)=5,"Vendredi",IF(WEEKDAY(F43,2)=6,"Samedi",IF(WEEKDAY(F43,2)=7,"Dimanche",))))))),) -> Lundi | F43: 43136 | G43: 20:00-22:00 | H43: AR | K43: =IF(H43<>0,IF(H43="TM","Nadine",IF(H43="AS","Nadine",IF(H43="AR","Michel",IF(H43="TH","Guy",IF(H43="TF","Nadine","Guy"))))),) -> Michel
A44: =B44/($C$4) -> 0.54411765 | B44: 37 | C44: 40 | E44: =IF(F44<>0,IF(WEEKDAY(F44,2)=1,"Lundi",IF(WEEKDAY(F44,2)=2,"Mardi",IF(WEEKDAY(F44,2)=3,"Mercredi",IF(WEEKDAY(F44,2)=4,"Jeudi",IF(WEEKDAY(F44,2)=5,"Vendredi",IF(WEEKDAY(F44,2)=6,"Samedi",IF(WEEKDAY(F44,2)=7,"Dimanche",))))))),) -> Mardi | F44: 43137 | G44: 20:30-22:00 | H44: AS | K44: =IF(H44<>0,IF(H44="TM","Nadine",IF(H44="AS","Nadine",IF(H44="AR","Michel",IF(H44="TH","Guy",IF(H44="TF","Nadine","Guy"))))),) -> Nadine
A45: =B45/($C$4) -> 0.55882353 | B45: 38 | C45: 41 | E45: =IF(F45<>0,IF(WEEKDAY(F45,2)=1,"Lundi",IF(WEEKDAY(F45,2)=2,"Mardi",IF(WEEKDAY(F45,2)=3,"Mercredi",IF(WEEKDAY(F45,2)=4,"Jeudi",IF(WEEKDAY(F45,2)=5,"Vendredi",IF(WEEKDAY(F45,2)=6,"Samedi",IF(WEEKDAY(F45,2)=7,"Dimanche",))))))),) -> Lundi | F45: 43157 | G45: 20:00-22:00 | H45: AR | K45: =IF(H45<>0,IF(H45="TM","Nadine",IF(H45="AS","Nadine",IF(H45="AR","Michel",IF(H45="TH","Guy",IF(H45="TF","Nadine","Guy"))))),) -> Michel
A46: =B46/($C$4) -> 0.57352941 | B46: 39 | C46: 42 | E46: =IF(F46<>0,IF(WEEKDAY(F46,2)=1,"Lundi",IF(WEEKDAY(F46,2)=2,"Mardi",IF(WEEKDAY(F46,2)=3,"Mercredi",IF(WEEKDAY(F46,2)=4,"Jeudi",IF(WEEKDAY(F46,2)=5,"Vendredi",IF(WEEKDAY(F46,2)=6,"Samedi",IF(WEEKDAY(F46,2)=7,"Dimanche",))))))),) -> Mardi | F46: 43158 | G46: 20:30-22:30 | H46: AS | K46: =IF(H46<>0,IF(H46="TM","Nadine",IF(H46="AS","Nadine",IF(H46="AR","Michel",IF(H46="TH","Guy",IF(H46="TF","Nadine","Guy"))))),) -> Nadine
A47: =B47/($C$4) -> 0.58823529 | B47: 40 | C47: 43 | D47: MAR | E47: =IF(F47<>0,IF(WEEKDAY(F47,2)=1,"Lundi",IF(WEEKDAY(F47,2)=2,"Mardi",IF(WEEKDAY(F47,2)=3,"Mercredi",IF(WEEKDAY(F47,2)=4,"Jeudi",IF(WEEKDAY(F47,2)=5,"Vendredi",IF(WEEKDAY(F47,2)=6,"Samedi",IF(WEEKDAY(F47,2)=7,"Dimanche",))))))),) -> Samedi | F47: 43162 | G47: 17:00-19:00 | H47: TM | I47: p | K47: =IF(H47<>0,IF(H47="TM","Nadine",IF(H47="AS","Nadine",IF(H47="AR","Michel",IF(H47="TH","Guy",IF(H47="TF","Nadine","Guy"))))),) -> Nadine | O47: AG + Répète
A48: =B48/($C$4) -> 0.60294118 | B48: 41 | C48: 44 | E48: =IF(F48<>0,IF(WEEKDAY(F48,2)=1,"Lundi",IF(WEEKDAY(F48,2)=2,"Mardi",IF(WEEKDAY(F48,2)=3,"Mercredi",IF(WEEKDAY(F48,2)=4,"Jeudi",IF(WEEKDAY(F48,2)=5,"Vendredi",IF(WEEKDAY(F48,2)=6,"Samedi",IF(WEEKDAY(F48,2)=7,"Dimanche",))))))),) -> Samedi | F48: 43162 | G48: 20:30-22:30 | H48: TM | I48: P | K48: =IF(H48<>0,IF(H48="TM","Nadine",IF(H48="AS","Nadine",IF(H48="AR","Michel",IF(H48="TH","Guy",IF(H48="TF","Nadine","Guy"))))),) -> Nadine
A49: =B49/($C$4) -> 0.61764706 | B49: 42 | C49: 45 | E49: =IF(F49<>0,IF(WEEKDAY(F49,2)=1,"Lundi",IF(WEEKDAY(F49,2)=2,"Mardi",IF(WEEKDAY(F49,2)=3,"Mercredi",IF(WEEKDAY(F49,2)=4,"Jeudi",IF(WEEKDAY(F49,2)=5,"Vendredi",IF(WEEKDAY(F49,2)=6,"Samedi",IF(WEEKDAY(F49,2)=7,"Dimanche",))))))),) -> Dimanche | F49: 43163 | G49: 09:30-12:00 | H49: TM | I49: P | K49: =IF(H49<>0,IF(H49="TM","Nadine",IF(H49="AS","Nadine",IF(H49="AR","Michel",IF(H49="TH","Guy",IF(H49="TF","Nadine","Guy"))))),) -> Nadine
A50: =B50/($C$4) -> 0.63235294 | B50: 43 | C50: 46 | E50: =IF(F50<>0,IF(WEEKDAY(F50,2)=1,"Lundi",IF(WEEKDAY(F50,2)=2,"Mardi",IF(WEEKDAY(F50,2)=3,"Mercredi",IF(WEEKDAY(F50,2)=4,"Jeudi",IF(WEEKDAY(F50,2)=5,"Vendredi",IF(WEEKDAY(F50,2)=6,"Samedi",IF(WEEKDAY(F50,2)=7,"Dimanche",))))))),) -> Dimanche | F50: 43163 | G50: 14:00-17:00 | H50: TM | I50: P | K50: =IF(H50<>0,IF(H50="TM","Nadine",IF(H50="AS","Nadine",IF(H50="AR","Michel",IF(H50="TH","Guy",IF(H50="TF","Nadine","Guy"))))),) -> Nadine
C51: 47 | E51: =IF(F51<>0,IF(WEEKDAY(F51,2)=1,"Lundi",IF(WEEKDAY(F51,2)=2,"Mardi",IF(WEEKDAY(F51,2)=3,"Mercredi",IF(WEEKDAY(F51,2)=4,"Jeudi",IF(WEEKDAY(F51,2)=5,"Vendredi",IF(WEEKDAY(F51,2)=6,"Samedi",IF(WEEKDAY(F51,2)=7,"Dimanche",))))))),) -> Mardi | F51: 43165 | G51: 20:30-22:00 | H51: S | K51: =IF(H51<>0,IF(H51="TM","Nadine",IF(H51="AS","Nadine",IF(H51="AR","Michel",IF(H51="TH","Guy",IF(H51="TF","Nadine","Guy"))))),) -> Guy | O51: Solstice TM
A52: =B52/($C$4) -> 0.64705882 | B52: 44 | C52: 48 | E52: =IF(F52<>0,IF(WEEKDAY(F52,2)=1,"Lundi",IF(WEEKDAY(F52,2)=2,"Mardi",IF(WEEKDAY(F52,2)=3,"Mercredi",IF(WEEKDAY(F52,2)=4,"Jeudi",IF(WEEKDAY(F52,2)=5,"Vendredi",IF(WEEKDAY(F52,2)=6,"Samedi",IF(WEEKDAY(F52,2)=7,"Dimanche",))))))),) -> Lundi | F52: 43171 | G52: 20:00-22:00 | H52: AR | K52: =IF(H52<>0,IF(H52="TM","Nadine",IF(H52="AS","Nadine",IF(H52="AR","Michel",IF(H52="TH","Guy",IF(H52="TF","Nadine","Guy"))))),) -> Michel
A53: =B53/($C$4) -> 0.66176471 | B53: 45 | C53: 49 | E53: =IF(F53<>0,IF(WEEKDAY(F53,2)=1,"Lundi",IF(WEEKDAY(F53,2)=2,"Mardi",IF(WEEKDAY(F53,2)=3,"Mercredi",IF(WEEKDAY(F53,2)=4,"Jeudi",IF(WEEKDAY(F53,2)=5,"Vendredi",IF(WEEKDAY(F53,2)=6,"Samedi",IF(WEEKDAY(F53,2)=7,"Dimanche",))))))),) -> Mardi | F53: 43172 | G53: 20:30-22:30 | H53: AS | K53: =IF(H53<>0,IF(H53="TM","Nadine",IF(H53="AS","Nadine",IF(H53="AR","Michel",IF(H53="TH","Guy",IF(H53="TF","Nadine","Guy"))))),) -> Nadine
A54: =B54/($C$4) -> 0.67647059 | B54: 46 | C54: 50 | E54: =IF(F54<>0,IF(WEEKDAY(F54,2)=1,"Lundi",IF(WEEKDAY(F54,2)=2,"Mardi",IF(WEEKDAY(F54,2)=3,"Mercredi",IF(WEEKDAY(F54,2)=4,"Jeudi",IF(WEEKDAY(F54,2)=5,"Vendredi",IF(WEEKDAY(F54,2)=6,"Samedi",IF(WEEKDAY(F54,2)=7,"Dimanche",))))))),) -> Mardi | F54: 43179 | G54: 20:30-22:30 | H54: TM | K54: =IF(H54<>0,IF(H54="TM","Nadine",IF(H54="AS","Nadine",IF(H54="AR","Michel",IF(H54="TH","Guy",IF(H54="TF","Nadine","Guy"))))),) -> Nadine
A55: =B55/($C$4) -> 0.69117647 | B55: 47 | C55: 51 | E55: =IF(F55<>0,IF(WEEKDAY(F55,2)=1,"Lundi",IF(WEEKDAY(F55,2)=2,"Mardi",IF(WEEKDAY(F55,2)=3,"Mercredi",IF(WEEKDAY(F55,2)=4,"Jeudi",IF(WEEKDAY(F55,2)=5,"Vendredi",IF(WEEKDAY(F55,2)=6,"Samedi",IF(WEEKDAY(F55,2)=7,"Dimanche",))))))),) -> Lundi | F55: 43185 | G55: 20:00-22:00 | H55: AR | K55: =IF(H55<>0,IF(H55="TM","Nadine",IF(H55="AS","Nadine",IF(H55="AR","Michel",IF(H55="TH","Guy",IF(H55="TF","Nadine","Guy"))))),) -> Michel
A56: =B56/($C$4) -> 0.70588235 | B56: 48 | C56: 52 | E56: =IF(F56<>0,IF(WEEKDAY(F56,2)=1,"Lundi",IF(WEEKDAY(F56,2)=2,"Mardi",IF(WEEKDAY(F56,2)=3,"Mercredi",IF(WEEKDAY(F56,2)=4,"Jeudi",IF(WEEKDAY(F56,2)=5,"Vendredi",IF(WEEKDAY(F56,2)=6,"Samedi",IF(WEEKDAY(F56,2)=7,"Dimanche",))))))),) -> Mardi | F56: 43186 | G56: 20:30-22:30 | H56: AS | K56: =IF(H56<>0,IF(H56="TM","Nadine",IF(H56="AS","Nadine",IF(H56="AR","Michel",IF(H56="TH","Guy",IF(H56="TF","Nadine","Guy"))))),) -> Nadine
A57: =B57/($C$4) -> 0 | C57: 53 | D57: AVR | E57: =IF(F57<>0,IF(WEEKDAY(F57,2)=1,"Lundi",IF(WEEKDAY(F57,2)=2,"Mardi",IF(WEEKDAY(F57,2)=3,"Mercredi",IF(WEEKDAY(F57,2)=4,"Jeudi",IF(WEEKDAY(F57,2)=5,"Vendredi",IF(WEEKDAY(F57,2)=6,"Samedi",IF(WEEKDAY(F57,2)=7,"Dimanche",))))))),) -> Mardi | F57: 43193 | G57: 20:30-22:30 | H57: S | K57: =IF(H57<>0,IF(H57="TM","Nadine",IF(H57="AS","Nadine",IF(H57="AR","Michel",IF(H57="TH","Guy",IF(H57="TF","Nadine","Guy"))))),) -> Guy | L57: 43180 | O57: Solstice TM
A58: =B58/($C$4) -> 0 | C58: 54 | E58: =IF(F58<>0,IF(WEEKDAY(F58,2)=1,"Lundi",IF(WEEKDAY(F58,2)=2,"Mardi",IF(WEEKDAY(F58,2)=3,"Mercredi",IF(WEEKDAY(F58,2)=4,"Jeudi",IF(WEEKDAY(F58,2)=5,"Vendredi",IF(WEEKDAY(F58,2)=6,"Samedi",IF(WEEKDAY(F58,2)=7,"Dimanche",))))))),) -> Samedi | F58: 43197 | G58: 16:00-19:00 | H58: S | I58: P | K58: =IF(H58<>0,IF(H58="TM","Nadine",IF(H58="AS","Nadine",IF(H58="AR","Michel",IF(H58="TH","Guy",IF(H58="TF","Nadine","Guy"))))),) -> Guy | L58: 43180 | O58: Solstice TM
A59: =B59/($C$4) -> 0.72058824 | B59: 49 | C59: 55 | E59: =IF(F59<>0,IF(WEEKDAY(F59,2)=1,"Lundi",IF(WEEKDAY(F59,2)=2,"Mardi",IF(WEEKDAY(F59,2)=3,"Mercredi",IF(WEEKDAY(F59,2)=4,"Jeudi",IF(WEEKDAY(F59,2)=5,"Vendredi",IF(WEEKDAY(F59,2)=6,"Samedi",IF(WEEKDAY(F59,2)=7,"Dimanche",))))))),) -> Samedi | F59: 43197 | G59: 20:00-22:00 | H59: TM | I59: P | K59: =IF(H59<>0,IF(H59="TM","Nadine",IF(H59="AS","Nadine",IF(H59="AR","Michel",IF(H59="TH","Guy",IF(H59="TF","Nadine","Guy"))))),) -> Nadine | L59: 43180
A60: =B60/($C$4) -> 0.73529412 | B60: 50 | C60: 56 | E60: =IF(F60<>0,IF(WEEKDAY(F60,2)=1,"Lundi",IF(WEEKDAY(F60,2)=2,"Mardi",IF(WEEKDAY(F60,2)=3,"Mercredi",IF(WEEKDAY(F60,2)=4,"Jeudi",IF(WEEKDAY(F60,2)=5,"Vendredi",IF(WEEKDAY(F60,2)=6,"Samedi",IF(WEEKDAY(F60,2)=7,"Dimanche",))))))),) -> Dimanche | F60: 43198 | G60: 09:30-12:00 | H60: TM | I60: P | K60: =IF(H60<>0,IF(H60="TM","Nadine",IF(H60="AS","Nadine",IF(H60="AR","Michel",IF(H60="TH","Guy",IF(H60="TF","Nadine","Guy"))))),) -> Nadine | L60: 43180
A61: =B61/($C$4) -> 0.75 | B61: 51 | C61: 57 | E61: =IF(F61<>0,IF(WEEKDAY(F61,2)=1,"Lundi",IF(WEEKDAY(F61,2)=2,"Mardi",IF(WEEKDAY(F61,2)=3,"Mercredi",IF(WEEKDAY(F61,2)=4,"Jeudi",IF(WEEKDAY(F61,2)=5,"Vendredi",IF(WEEKDAY(F61,2)=6,"Samedi",IF(WEEKDAY(F61,2)=7,"Dimanche",))))))),) -> Dimanche | F61: 43198 | G61: 14:00-17:00 | H61: TM | I61: P | K61: =IF(H61<>0,IF(H61="TM","Nadine",IF(H61="AS","Nadine",IF(H61="AR","Michel",IF(H61="TH","Guy",IF(H61="TF","Nadine","Guy"))))),) -> Nadine | L61: 43180
A62: =B62/($C$4) -> 0.76470588 | B62: 52 | C62: 58 | E62: =IF(F62<>0,IF(WEEKDAY(F62,2)=1,"Lundi",IF(WEEKDAY(F62,2)=2,"Mardi",IF(WEEKDAY(F62,2)=3,"Mercredi",IF(WEEKDAY(F62,2)=4,"Jeudi",IF(WEEKDAY(F62,2)=5,"Vendredi",IF(WEEKDAY(F62,2)=6,"Samedi",IF(WEEKDAY(F62,2)=7,"Dimanche",))))))),) -> Lundi | F62: 43213 | G62: 20:00-22:00 | H62: AR | K62: =IF(H62<>0,IF(H62="TM","Nadine",IF(H62="AS","Nadine",IF(H62="AR","Michel",IF(H62="TH","Guy",IF(H62="TF","Nadine","Guy"))))),) -> Michel | L62: 43180
A63: =B63/($C$4) -> 0.77941176 | B63: 53 | C63: 59 | E63: =IF(F63<>0,IF(WEEKDAY(F63,2)=1,"Lundi",IF(WEEKDAY(F63,2)=2,"Mardi",IF(WEEKDAY(F63,2)=3,"Mercredi",IF(WEEKDAY(F63,2)=4,"Jeudi",IF(WEEKDAY(F63,2)=5,"Vendredi",IF(WEEKDAY(F63,2)=6,"Samedi",IF(WEEKDAY(F63,2)=7,"Dimanche",))))))),) -> Mardi | F63: 43214 | G63: 20:30-22:30 | H63: AS | K63: =IF(H63<>0,IF(H63="TM","Nadine",IF(H63="AS","Nadine",IF(H63="AR","Michel",IF(H63="TH","Guy",IF(H63="TF","Nadine","Guy"))))),) -> Nadine | L63: 43180
C64: 60 | D64: MAI | E64: =IF(F64<>0,IF(WEEKDAY(F64,2)=1,"Lundi",IF(WEEKDAY(F64,2)=2,"Mardi",IF(WEEKDAY(F64,2)=3,"Mercredi",IF(WEEKDAY(F64,2)=4,"Jeudi",IF(WEEKDAY(F64,2)=5,"Vendredi",IF(WEEKDAY(F64,2)=6,"Samedi",IF(WEEKDAY(F64,2)=7,"Dimanche",))))))),) -> Mardi | F64: 43221 | G64: 20:00-22:00 | H64: S | I64: P | K64: =IF(H64<>0,IF(H64="TM","Nadine",IF(H64="AS","Nadine",IF(H64="AR","Michel",IF(H64="TH","Guy",IF(H64="TF","Nadine","Guy"))))),) -> Guy | O64: Solstice TM
A65: =B65/($C$4) -> 0 | C65: 61 | E65: =IF(F65<>0,IF(WEEKDAY(F65,2)=1,"Lundi",IF(WEEKDAY(F65,2)=2,"Mardi",IF(WEEKDAY(F65,2)=3,"Mercredi",IF(WEEKDAY(F65,2)=4,"Jeudi",IF(WEEKDAY(F65,2)=5,"Vendredi",IF(WEEKDAY(F65,2)=6,"Samedi",IF(WEEKDAY(F65,2)=7,"Dimanche",))))))),) -> Samedi | F65: 43225 | G65: 16:00-19:00 | H65: S | I65: P | K65: =IF(H65<>0,IF(H65="TM","Nadine",IF(H65="AS","Nadine",IF(H65="AR","Michel",IF(H65="TH","Guy",IF(H65="TF","Nadine","Guy"))))),) -> Guy | O65: Solstice TM
A66: =B66/($C$4) -> 0.79411765 | B66: 54 | C66: 62 | E66: =IF(F66<>0,IF(WEEKDAY(F66,2)=1,"Lundi",IF(WEEKDAY(F66,2)=2,"Mardi",IF(WEEKDAY(F66,2)=3,"Mercredi",IF(WEEKDAY(F66,2)=4,"Jeudi",IF(WEEKDAY(F66,2)=5,"Vendredi",IF(WEEKDAY(F66,2)=6,"Samedi",IF(WEEKDAY(F66,2)=7,"Dimanche",))))))),) -> Samedi | F66: 43225 | G66: 20:00-22:00 | H66: TM | I66: P | K66: =IF(H66<>0,IF(H66="TM","Nadine",IF(H66="AS","Nadine",IF(H66="AR","Michel",IF(H66="TH","Guy",IF(H66="TF","Nadine","Guy"))))),) -> Nadine
A67: =B67/($C$4) -> 0.80882353 | B67: 55 | C67: 63 | E67: =IF(F67<>0,IF(WEEKDAY(F67,2)=1,"Lundi",IF(WEEKDAY(F67,2)=2,"Mardi",IF(WEEKDAY(F67,2)=3,"Mercredi",IF(WEEKDAY(F67,2)=4,"Jeudi",IF(WEEKDAY(F67,2)=5,"Vendredi",IF(WEEKDAY(F67,2)=6,"Samedi",IF(WEEKDAY(F67,2)=7,"Dimanche",))))))),) -> Dimanche | F67: 43226 | G67: 09:30-12:00 | H67: TM | I67: P | K67: =IF(H67<>0,IF(H67="TM","Nadine",IF(H67="AS","Nadine",IF(H67="AR","Michel",IF(H67="TH","Guy",IF(H67="TF","Nadine","Guy"))))),) -> Nadine
A68: =B68/($C$4) -> 0.82352941 | B68: 56 | C68: 64 | E68: =IF(F68<>0,IF(WEEKDAY(F68,2)=1,"Lundi",IF(WEEKDAY(F68,2)=2,"Mardi",IF(WEEKDAY(F68,2)=3,"Mercredi",IF(WEEKDAY(F68,2)=4,"Jeudi",IF(WEEKDAY(F68,2)=5,"Vendredi",IF(WEEKDAY(F68,2)=6,"Samedi",IF(WEEKDAY(F68,2)=7,"Dimanche",))))))),) -> Dimanche | F68: 43226 | G68: 14:00-17:00 | H68: TM | I68: P | K68: =IF(H68<>0,IF(H68="TM","Nadine",IF(H68="AS","Nadine",IF(H68="AR","Michel",IF(H68="TH","Guy",IF(H68="TF","Nadine","Guy"))))),) -> Nadine
A69: =B69/($C$4) -> 0.83823529 | B69: 57 | C69: 65 | E69: =IF(F69<>0,IF(WEEKDAY(F69,2)=1,"Lundi",IF(WEEKDAY(F69,2)=2,"Mardi",IF(WEEKDAY(F69,2)=3,"Mercredi",IF(WEEKDAY(F69,2)=4,"Jeudi",IF(WEEKDAY(F69,2)=5,"Vendredi",IF(WEEKDAY(F69,2)=6,"Samedi",IF(WEEKDAY(F69,2)=7,"Dimanche",))))))),) -> Lundi | F69: 43234 | G69: 20:00-22:00 | H69: AR | K69: =IF(H69<>0,IF(H69="TM","Nadine",IF(H69="AS","Nadine",IF(H69="AR","Michel",IF(H69="TH","Guy",IF(H69="TF","Nadine","Guy"))))),) -> Michel
A70: =B70/($C$4) -> 0.85294118 | B70: 58 | C70: 66 | E70: =IF(F70<>0,IF(WEEKDAY(F70,2)=1,"Lundi",IF(WEEKDAY(F70,2)=2,"Mardi",IF(WEEKDAY(F70,2)=3,"Mercredi",IF(WEEKDAY(F70,2)=4,"Jeudi",IF(WEEKDAY(F70,2)=5,"Vendredi",IF(WEEKDAY(F70,2)=6,"Samedi",IF(WEEKDAY(F70,2)=7,"Dimanche",))))))),) -> Mardi | F70: 43235 | G70: 20:30-22:30 | H70: AS | K70: =IF(H70<>0,IF(H70="TM","Nadine",IF(H70="AS","Nadine",IF(H70="AR","Michel",IF(H70="TH","Guy",IF(H70="TF","Nadine","Guy"))))),) -> Nadine
A71: =B71/($C$4) -> 0.86764706 | B71: 59 | C71: 67 | E71: =IF(F71<>0,IF(WEEKDAY(F71,2)=1,"Lundi",IF(WEEKDAY(F71,2)=2,"Mardi",IF(WEEKDAY(F71,2)=3,"Mercredi",IF(WEEKDAY(F71,2)=4,"Jeudi",IF(WEEKDAY(F71,2)=5,"Vendredi",IF(WEEKDAY(F71,2)=6,"Samedi",IF(WEEKDAY(F71,2)=7,"Dimanche",))))))),) -> Mardi | F71: 43242 | G71: 20:30-22:30 | H71: TM | K71: =IF(H71<>0,IF(H71="TM","Nadine",IF(H71="AS","Nadine",IF(H71="AR","Michel",IF(H71="TH","Guy",IF(H71="TF","Nadine","Guy"))))),) -> Nadine
A72: =B72/($C$4) -> 0.88235294 | B72: 60 | C72: 68 | E72: =IF(F72<>0,IF(WEEKDAY(F72,2)=1,"Lundi",IF(WEEKDAY(F72,2)=2,"Mardi",IF(WEEKDAY(F72,2)=3,"Mercredi",IF(WEEKDAY(F72,2)=4,"Jeudi",IF(WEEKDAY(F72,2)=5,"Vendredi",IF(WEEKDAY(F72,2)=6,"Samedi",IF(WEEKDAY(F72,2)=7,"Dimanche",))))))),) -> Mercredi | F72: 43243 | G72: 20:30-22:30 | H72: TM | I72: P | K72: =IF(H72<>0,IF(H72="TM","Nadine",IF(H72="AS","Nadine",IF(H72="AR","Michel",IF(H72="TH","Guy",IF(H72="TF","Nadine","Guy"))))),) -> Nadine | O72: Générale
A73: =B73/($C$4) -> 0.89705882 | B73: 61 | C73: 69 | E73: =IF(F73<>0,IF(WEEKDAY(F73,2)=1,"Lundi",IF(WEEKDAY(F73,2)=2,"Mardi",IF(WEEKDAY(F73,2)=3,"Mercredi",IF(WEEKDAY(F73,2)=4,"Jeudi",IF(WEEKDAY(F73,2)=5,"Vendredi",IF(WEEKDAY(F73,2)=6,"Samedi",IF(WEEKDAY(F73,2)=7,"Dimanche",))))))),) -> Jeudi | F73: 43244 | H73: TM | I73: P | K73: =IF(H73<>0,IF(H73="TM","Nadine",IF(H73="AS","Nadine",IF(H73="AR","Michel",IF(H73="TH","Guy",IF(H73="TF","Nadine","Guy"))))),) -> Nadine | O73: La Rochelle
A74: =B74/($C$4) -> 0.91176471 | B74: 62 | C74: 70 | E74: =IF(F74<>0,IF(WEEKDAY(F74,2)=1,"Lundi",IF(WEEKDAY(F74,2)=2,"Mardi",IF(WEEKDAY(F74,2)=3,"Mercredi",IF(WEEKDAY(F74,2)=4,"Jeudi",IF(WEEKDAY(F74,2)=5,"Vendredi",IF(WEEKDAY(F74,2)=6,"Samedi",IF(WEEKDAY(F74,2)=7,"Dimanche",))))))),) -> Vendredi | F74: 43245 | H74: TM | I74: P | K74: =IF(H74<>0,IF(H74="TM","Nadine",IF(H74="AS","Nadine",IF(H74="AR","Michel",IF(H74="TH","Guy",IF(H74="TF","Nadine","Guy"))))),) -> Nadine | O74: Saintes
A75: =B75/($C$4) -> 0 | C75: 71 | E75: =IF(F75<>0,IF(WEEKDAY(F75,2)=1,"Lundi",IF(WEEKDAY(F75,2)=2,"Mardi",IF(WEEKDAY(F75,2)=3,"Mercredi",IF(WEEKDAY(F75,2)=4,"Jeudi",IF(WEEKDAY(F75,2)=5,"Vendredi",IF(WEEKDAY(F75,2)=6,"Samedi",IF(WEEKDAY(F75,2)=7,"Dimanche",))))))),) -> Mardi | F75: 43249 | G75: 20:30-22:30 | H75: MSTG | K75: =IF(H75<>0,IF(H75="TM","Nadine",IF(H75="AS","Nadine",IF(H75="AR","Michel",IF(H75="TH","Guy",IF(H75="TF","Nadine","Guy"))))),) -> Guy | O75: Misatango | P75: Date ajoutée mars 2018
A76: =B76/($C$4) -> 0.92647059 | B76: 63 | C76: 72 | D76: JUIN | E76: =IF(F76<>0,IF(WEEKDAY(F76,2)=1,"Lundi",IF(WEEKDAY(F76,2)=2,"Mardi",IF(WEEKDAY(F76,2)=3,"Mercredi",IF(WEEKDAY(F76,2)=4,"Jeudi",IF(WEEKDAY(F76,2)=5,"Vendredi",IF(WEEKDAY(F76,2)=6,"Samedi",IF(WEEKDAY(F76,2)=7,"Dimanche",))))))),) -> Samedi | F76: 43253 | G76: 16:00-19:00 | H76: TH | K76: =IF(H76<>0,IF(H76="TM","Nadine",IF(H76="AS","Nadine",IF(H76="AR","Michel",IF(H76="TH","Guy",IF(H76="TF","Nadine","Guy"))))),) -> Guy | O76: Carmina | P76: Date ajoutée mars 2018
A77: =B77/($C$4) -> 0.94117647 | B77: 64 | C77: 73 | E77: =IF(F77<>0,IF(WEEKDAY(F77,2)=1,"Lundi",IF(WEEKDAY(F77,2)=2,"Mardi",IF(WEEKDAY(F77,2)=3,"Mercredi",IF(WEEKDAY(F77,2)=4,"Jeudi",IF(WEEKDAY(F77,2)=5,"Vendredi",IF(WEEKDAY(F77,2)=6,"Samedi",IF(WEEKDAY(F77,2)=7,"Dimanche",))))))),) -> Samedi | F77: 43253 | G77: 20:00-22:00 | H77: TM | K77: =IF(H77<>0,IF(H77="TM","Nadine",IF(H77="AS","Nadine",IF(H77="AR","Michel",IF(H77="TH","Guy",IF(H77="TF","Nadine","Guy"))))),) -> Nadine | O77: Carmina | P77: Date ajoutée mars 2018
A78: =B78/($C$4) -> 0.95588235 | B78: 65 | C78: 74 | E78: =IF(F78<>0,IF(WEEKDAY(F78,2)=1,"Lundi",IF(WEEKDAY(F78,2)=2,"Mardi",IF(WEEKDAY(F78,2)=3,"Mercredi",IF(WEEKDAY(F78,2)=4,"Jeudi",IF(WEEKDAY(F78,2)=5,"Vendredi",IF(WEEKDAY(F78,2)=6,"Samedi",IF(WEEKDAY(F78,2)=7,"Dimanche",))))))),) -> Mardi | F78: 43256 | G78: 20:30-22:30 | H78: TM | K78: =IF(H78<>0,IF(H78="TM","Nadine",IF(H78="AS","Nadine",IF(H78="AR","Michel",IF(H78="TH","Guy",IF(H78="TF","Nadine","Guy"))))),) -> Nadine | O78: Carmina | P78: Date ajoutée mars 2018
A79: =B79/($C$4) -> 0 | C79: 75 | E79: =IF(F79<>0,IF(WEEKDAY(F79,2)=1,"Lundi",IF(WEEKDAY(F79,2)=2,"Mardi",IF(WEEKDAY(F79,2)=3,"Mercredi",IF(WEEKDAY(F79,2)=4,"Jeudi",IF(WEEKDAY(F79,2)=5,"Vendredi",IF(WEEKDAY(F79,2)=6,"Samedi",IF(WEEKDAY(F79,2)=7,"Dimanche",))))))),) -> Mardi | F79: 43263 | G79: 20:30-22:00 | H79: MSTG | K79: =IF(H79<>0,IF(H79="TM","Nadine",IF(H79="AS","Nadine",IF(H79="AR","Michel",IF(H79="TH","Guy",IF(H79="TF","Nadine","Guy"))))),) -> Guy | O79: Misatango
A80: =B80/($C$4) -> 0 | C80: 76 | E80: =IF(F80<>0,IF(WEEKDAY(F80,2)=1,"Lundi",IF(WEEKDAY(F80,2)=2,"Mardi",IF(WEEKDAY(F80,2)=3,"Mercredi",IF(WEEKDAY(F80,2)=4,"Jeudi",IF(WEEKDAY(F80,2)=5,"Vendredi",IF(WEEKDAY(F80,2)=6,"Samedi",IF(WEEKDAY(F80,2)=7,"Dimanche",))))))),) -> Mardi | F80: 43270 | G80: 20:30-22:30 | H80: MSTG | K80: =IF(H80<>0,IF(H80="TM","Nadine",IF(H80="AS","Nadine",IF(H80="AR","Michel",IF(H80="TH","Guy",IF(H80="TF","Nadine","Guy"))))),) -> Guy | O80: Misatango
A81: =B81/($C$4) -> 0.97058824 | B81: 66 | C81: 77 | E81: =IF(F81<>0,IF(WEEKDAY(F81,2)=1,"Lundi",IF(WEEKDAY(F81,2)=2,"Mardi",IF(WEEKDAY(F81,2)=3,"Mercredi",IF(WEEKDAY(F81,2)=4,"Jeudi",IF(WEEKDAY(F81,2)=5,"Vendredi",IF(WEEKDAY(F81,2)=6,"Samedi",IF(WEEKDAY(F81,2)=7,"Dimanche",))))))),) -> Dimanche | F81: 43275 | G81: 09:30-12:00 | H81: TM | K81: =IF(H81<>0,IF(H81="TM","Nadine",IF(H81="AS","Nadine",IF(H81="AR","Michel",IF(H81="TH","Guy",IF(H81="TF","Nadine","Guy"))))),) -> Nadine | O81: Carmina | P81: Date ajoutée en mai 2018
A82: =B82/($C$4) -> 0.98529412 | B82: 67 | C82: 78 | E82: =IF(F82<>0,IF(WEEKDAY(F82,2)=1,"Lundi",IF(WEEKDAY(F82,2)=2,"Mardi",IF(WEEKDAY(F82,2)=3,"Mercredi",IF(WEEKDAY(F82,2)=4,"Jeudi",IF(WEEKDAY(F82,2)=5,"Vendredi",IF(WEEKDAY(F82,2)=6,"Samedi",IF(WEEKDAY(F82,2)=7,"Dimanche",))))))),) -> Mardi | F82: 43277 | G82: 20:30-22:30 | H82: TM | K82: =IF(H82<>0,IF(H82="TM","Nadine",IF(H82="AS","Nadine",IF(H82="AR","Michel",IF(H82="TH","Guy",IF(H82="TF","Nadine","Guy"))))),) -> Nadine | O82: Carmina
A83: =B83/($C$4) -> 1 | B83: 68 | C83: 79 | E83: =IF(F83<>0,IF(WEEKDAY(F83,2)=1,"Lundi",IF(WEEKDAY(F83,2)=2,"Mardi",IF(WEEKDAY(F83,2)=3,"Mercredi",IF(WEEKDAY(F83,2)=4,"Jeudi",IF(WEEKDAY(F83,2)=5,"Vendredi",IF(WEEKDAY(F83,2)=6,"Samedi",IF(WEEKDAY(F83,2)=7,"Dimanche",))))))),) -> Samedi | F83: 43281 | H83: TM | K83: =IF(H83<>0,IF(H83="TM","Nadine",IF(H83="AS","Nadine",IF(H83="AR","Michel",IF(H83="TH","Guy",IF(H83="TF","Nadine","Guy"))))),) -> Nadine | O83: Arènes de Saintes
A84: =B84/($C$4) -> 0 | C84: 80 | D84: JUIL | E84: =IF(F84<>0,IF(WEEKDAY(F84,2)=1,"Lundi",IF(WEEKDAY(F84,2)=2,"Mardi",IF(WEEKDAY(F84,2)=3,"Mercredi",IF(WEEKDAY(F84,2)=4,"Jeudi",IF(WEEKDAY(F84,2)=5,"Vendredi",IF(WEEKDAY(F84,2)=6,"Samedi",IF(WEEKDAY(F84,2)=7,"Dimanche",))))))),) -> Mardi | F84: 43284 | G84: 20:30-22:30 | H84: JM | K84: =IF(H84<>0,IF(H84="TM","Nadine",IF(H84="AS","Nadine",IF(H84="AR","Michel",IF(H84="TH","Guy",IF(H84="TF","Nadine","Guy"))))),) -> Guy | O84: Misatango/Chilcott
A85: =B85/($C$4) -> 0 | C85: 81 | E85: =IF(F85<>0,IF(WEEKDAY(F85,2)=1,"Lundi",IF(WEEKDAY(F85,2)=2,"Mardi",IF(WEEKDAY(F85,2)=3,"Mercredi",IF(WEEKDAY(F85,2)=4,"Jeudi",IF(WEEKDAY(F85,2)=5,"Vendredi",IF(WEEKDAY(F85,2)=6,"Samedi",IF(WEEKDAY(F85,2)=7,"Dimanche",))))))),) -> Jeudi | F85: 43286 | G85: 15:00-18:00 | H85: JM | K85: =IF(H85<>0,IF(H85="TM","Nadine",IF(H85="AS","Nadine",IF(H85="AR","Michel",IF(H85="TH","Guy",IF(H85="TF","Nadine","Guy"))))),) -> Guy | O85: Jeudis Musicaux
A86: =B86/($C$4) -> 0 | C86: 82 | E86: =IF(F86<>0,IF(WEEKDAY(F86,2)=1,"Lundi",IF(WEEKDAY(F86,2)=2,"Mardi",IF(WEEKDAY(F86,2)=3,"Mercredi",IF(WEEKDAY(F86,2)=4,"Jeudi",IF(WEEKDAY(F86,2)=5,"Vendredi",IF(WEEKDAY(F86,2)=6,"Samedi",IF(WEEKDAY(F86,2)=7,"Dimanche",))))))),) -> Vendredi | F86: 43287 | G86: 16:00-22:00 | H86: JM | K86: =IF(H86<>0,IF(H86="TM","Nadine",IF(H86="AS","Nadine",IF(H86="AR","Michel",IF(H86="TH","Guy",IF(H86="TF","Nadine","Guy"))))),) -> Guy | O86: Générale + Concert JM
C87: 83 | E87: =IF(F87<>0,IF(WEEKDAY(F87,2)=1,"Lundi",IF(WEEKDAY(F87,2)=2,"Mardi",IF(WEEKDAY(F87,2)=3,"Mercredi",IF(WEEKDAY(F87,2)=4,"Jeudi",IF(WEEKDAY(F87,2)=5,"Vendredi",IF(WEEKDAY(F87,2)=6,"Samedi",IF(WEEKDAY(F87,2)=7,"Dimanche",))))))),) -> 0 | K87: =IF(H87<>0,IF(H87="TM","Nadine",IF(H87="AS","Nadine",IF(H87="AR","Michel",IF(H87="TH","Guy",IF(H87="TF","Nadine","Guy"))))),) -> 0
C88: 84 | E88: =IF(F88<>0,IF(WEEKDAY(F88,2)=1,"Lundi",IF(WEEKDAY(F88,2)=2,"Mardi",IF(WEEKDAY(F88,2)=3,"Mercredi",IF(WEEKDAY(F88,2)=4,"Jeudi",IF(WEEKDAY(F88,2)=5,"Vendredi",IF(WEEKDAY(F88,2)=6,"Samedi",IF(WEEKDAY(F88,2)=7,"Dimanche",))))))),) -> 0 | K88: =IF(H88<>0,IF(H88="TM","Nadine",IF(H88="AS","Nadine",IF(H88="AR","Michel",IF(H88="TH","Guy",IF(H88="TF","Nadine","Guy"))))),) -> 0
C89: 85 | E89: =IF(F89<>0,IF(WEEKDAY(F89,2)=1,"Lundi",IF(WEEKDAY(F89,2)=2,"Mardi",IF(WEEKDAY(F89,2)=3,"Mercredi",IF(WEEKDAY(F89,2)=4,"Jeudi",IF(WEEKDAY(F89,2)=5,"Vendredi",IF(WEEKDAY(F89,2)=6,"Samedi",IF(WEEKDAY(F89,2)=7,"Dimanche",))))))),) -> 0 | K89: =IF(H89<>0,IF(H89="TM","Nadine",IF(H89="AS","Nadine",IF(H89="AR","Michel",IF(H89="TH","Guy",IF(H89="TF","Nadine","Guy"))))),) -> 0
C90: 86 | E90: =IF(F90<>0,IF(WEEKDAY(F90,2)=1,"Lundi",IF(WEEKDAY(F90,2)=2,"Mardi",IF(WEEKDAY(F90,2)=3,"Mercredi",IF(WEEKDAY(F90,2)=4,"Jeudi",IF(WEEKDAY(F90,2)=5,"Vendredi",IF(WEEKDAY(F90,2)=6,"Samedi",IF(WEEKDAY(F90,2)=7,"Dimanche",))))))),) -> 0 | K90: =IF(H90<>0,IF(H90="TM","Nadine",IF(H90="AS","Nadine",IF(H90="AR","Michel",IF(H90="TH","Guy",IF(H90="TF","Nadine","Guy"))))),) -> 0
C91: 87 | E91: =IF(F91<>0,IF(WEEKDAY(F91,2)=1,"Lundi",IF(WEEKDAY(F91,2)=2,"Mardi",IF(WEEKDAY(F91,2)=3,"Mercredi",IF(WEEKDAY(F91,2)=4,"Jeudi",IF(WEEKDAY(F91,2)=5,"Vendredi",IF(WEEKDAY(F91,2)=6,"Samedi",IF(WEEKDAY(F91,2)=7,"Dimanche",))))))),) -> 0 | K91: =IF(H91<>0,IF(H91="TM","Nadine",IF(H91="AS","Nadine",IF(H91="AR","Michel",IF(H91="TH","Guy",IF(H91="TF","Nadine","Guy"))))),) -> 0
C92: 88 | E92: =IF(F92<>0,IF(WEEKDAY(F92,2)=1,"Lundi",IF(WEEKDAY(F92,2)=2,"Mardi",IF(WEEKDAY(F92,2)=3,"Mercredi",IF(WEEKDAY(F92,2)=4,"Jeudi",IF(WEEKDAY(F92,2)=5,"Vendredi",IF(WEEKDAY(F92,2)=6,"Samedi",IF(WEEKDAY(F92,2)=7,"Dimanche",))))))),) -> 0 | K92: =IF(H92<>0,IF(H92="TM","Nadine",IF(H92="AS","Nadine",IF(H92="AR","Michel",IF(H92="TH","Guy",IF(H92="TF","Nadine","Guy"))))),) -> 0
C93: 89 | E93: =IF(F93<>0,IF(WEEKDAY(F93,2)=1,"Lundi",IF(WEEKDAY(F93,2)=2,"Mardi",IF(WEEKDAY(F93,2)=3,"Mercredi",IF(WEEKDAY(F93,2)=4,"Jeudi",IF(WEEKDAY(F93,2)=5,"Vendredi",IF(WEEKDAY(F93,2)=6,"Samedi",IF(WEEKDAY(F93,2)=7,"Dimanche",))))))),) -> 0 | K93: =IF(H93<>0,IF(H93="TM","Nadine",IF(H93="AS","Nadine",IF(H93="AR","Michel",IF(H93="TH","Guy",IF(H93="TF","Nadine","Guy"))))),) -> 0
C94: 90 | E94: =IF(F94<>0,IF(WEEKDAY(F94,2)=1,"Lundi",IF(WEEKDAY(F94,2)=2,"Mardi",IF(WEEKDAY(F94,2)=3,"Mercredi",IF(WEEKDAY(F94,2)=4,"Jeudi",IF(WEEKDAY(F94,2)=5,"Vendredi",IF(WEEKDAY(F94,2)=6,"Samedi",IF(WEEKDAY(F94,2)=7,"Dimanche",))))))),) -> 0 | K94: =IF(H94<>0,IF(H94="TM","Nadine",IF(H94="AS","Nadine",IF(H94="AR","Michel",IF(H94="TH","Guy",IF(H94="TF","Nadine","Guy"))))),) -> 0
C95: 91 | E95: =IF(F95<>0,IF(WEEKDAY(F95,2)=1,"Lundi",IF(WEEKDAY(F95,2)=2,"Mardi",IF(WEEKDAY(F95,2)=3,"Mercredi",IF(WEEKDAY(F95,2)=4,"Jeudi",IF(WEEKDAY(F95,2)=5,"Vendredi",IF(WEEKDAY(F95,2)=6,"Samedi",IF(WEEKDAY(F95,2)=7,"Dimanche",))))))),) -> 0 | K95: =IF(H95<>0,IF(H95="TM","Nadine",IF(H95="AS","Nadine",IF(H95="AR","Michel",IF(H95="TH","Guy",IF(H95="TF","Nadine","Guy"))))),) -> 0
C96: 92 | E96: =IF(F96<>0,IF(WEEKDAY(F96,2)=1,"Lundi",IF(WEEKDAY(F96,2)=2,"Mardi",IF(WEEKDAY(F96,2)=3,"Mercredi",IF(WEEKDAY(F96,2)=4,"Jeudi",IF(WEEKDAY(F96,2)=5,"Vendredi",IF(WEEKDAY(F96,2)=6,"Samedi",IF(WEEKDAY(F96,2)=7,"Dimanche",))))))),) -> 0 | K96: =IF(H96<>0,IF(H96="TM","Nadine",IF(H96="AS","Nadine",IF(H96="AR","Michel",IF(H96="TH","Guy",IF(H96="TF","Nadine","Guy"))))),) -> 0
C97: 93 | E97: =IF(F97<>0,IF(WEEKDAY(F97,2)=1,"Lundi",IF(WEEKDAY(F97,2)=2,"Mardi",IF(WEEKDAY(F97,2)=3,"Mercredi",IF(WEEKDAY(F97,2)=4,"Jeudi",IF(WEEKDAY(F97,2)=5,"Vendredi",IF(WEEKDAY(F97,2)=6,"Samedi",IF(WEEKDAY(F97,2)=7,"Dimanche",))))))),) -> 0 | K97: =IF(H97<>0,IF(H97="TM","Nadine",IF(H97="AS","Nadine",IF(H97="AR","Michel",IF(H97="TH","Guy",IF(H97="TF","Nadine","Guy"))))),) -> 0
C98: 94 | E98: =IF(F98<>0,IF(WEEKDAY(F98,2)=1,"Lundi",IF(WEEKDAY(F98,2)=2,"Mardi",IF(WEEKDAY(F98,2)=3,"Mercredi",IF(WEEKDAY(F98,2)=4,"Jeudi",IF(WEEKDAY(F98,2)=5,"Vendredi",IF(WEEKDAY(F98,2)=6,"Samedi",IF(WEEKDAY(F98,2)=7,"Dimanche",))))))),) -> 0 | K98: =IF(H98<>0,IF(H98="TM","Nadine",IF(H98="AS","Nadine",IF(H98="AR","Michel",IF(H98="TH","Guy",IF(H98="TF","Nadine","Guy"))))),) -> 0
... C120: 116 | E120: =IF(F120<>0,IF(WEEKDAY(F120,2)=1,"Lundi",IF(WEEKDAY(F120,2)=2,"Mardi",IF(WEEKDAY(F120,2)=3,"Mercredi",IF(WEEKDAY(F120,2)=4,"Jeudi",IF(WEEKDAY(F120,2)=5,"Vendredi",IF(WEEKDAY(F120,2)=6,"Samedi",IF(WEEKDAY(F120,2)=7,"Dimanche",))))))),) -> 0 | K120: =IF(H120<>0,IF(H120="TM","Nadine",IF(H120="AS","Nadine",IF(H120="AR","Michel",IF(H120="TH","Guy",IF(H120="TF","Nadine","Guy"))))),) -> 0
G122: TM | H122: =COUNTIF($H$5:$H$120,G122) -> 36
G123: AS | H123: =COUNTIF($H$5:$H$120,G123) -> 14
...

Sheet Choristes
B1: NOMS Prénoms (2017-2018) | C1: Pupitre | D1: Lieux | F1: Genre | G1: Groupe | K1: Pupitre | L1: Lieux | M1: CR1 | N1: CR2 | O1: Groupe synthèse
A2: 1 | B2: BALLOTEAU Claude | C2: A | D2: R | E2: =IF((AND(C2="S",D2="S")),"SS",IF((AND(C2="S",D2="R")),"SR",IF((AND(C2="A",D2="S")),"AS",IF((AND(C2="A",D2="R")),"AR",IF((AND(C2="T",D2="S")),"TS",IF((AND(C2="T",D2="R")),"TR",IF((AND(C2="B",D2="S")),"BS",IF((AND(C2="B",D2="R")),"BR",)))))))) -> AR | F2: =IF($C2="S","F",IF($C2="A","F",IF($C2="T","H",IF($C2="B","H",)))) -> F | G2: =IF((AND(F2="F",D2="S")),"FS",IF((AND(F2="F",D2="R")),"FR",IF((AND(F2="H",D2="S")),"HS",IF((AND(F2="H",D2="R")),"HR",)))) -> FR | K2: S | L2: S | M2: 0 | N2: 0 | O2: =CONCATENATE(K2,L2,"-",M2,N2) -> SS-00
A3: 2 | B3: BARREAUD Delphine | C3: A | D3: S | E3: =IF((AND(C3="S",D3="S")),"SS",IF((AND(C3="S",D3="R")),"SR",IF((AND(C3="A",D3="S")),"AS",IF((AND(C3="A",D3="R")),"AR",IF((AND(C3="T",D3="S")),"TS",IF((AND(C3="T",D3="R")),"TR",IF((AND(C3="B",D3="S")),"BS",IF((AND(C3="B",D3="R")),"BR",)))))))) -> AS | F3: =IF($C3="S","F",IF($C3="A","F",IF($C3="T","H",IF($C3="B","H",)))) -> F | G3: =IF((AND(F3="F",D3="S")),"FS",IF((AND(F3="F",D3="R")),"FR",IF((AND(F3="H",D3="S")),"HS",IF((AND(F3="H",D3="R")),"HR",)))) -> FS | K3: A | L3: R | M3: 1 | N3: 0 | O3: =CONCATENATE(K3,L3,"-",M3,N3) -> AR-10
A4: 3 | B4: BARTHÉLÉMY Fabricia | C4: S | D4: S | E4: =IF((AND(C4="S",D4="S")),"SS",IF((AND(C4="S",D4="R")),"SR",IF((AND(C4="A",D4="S")),"AS",IF((AND(C4="A",D4="R")),"AR",IF((AND(C4="T",D4="S")),"TS",IF((AND(C4="T",D4="R")),"TR",IF((AND(C4="B",D4="S")),"BS",IF((AND(C4="B",D4="R")),"BR",)))))))) -> SS | F4: =IF($C4="S","F",IF($C4="A","F",IF($C4="T","H",IF($C4="B","H",)))) -> F | G4: =IF((AND(F4="F",D4="S")),"FS",IF((AND(F4="F",D4="R")),"FR",IF((AND(F4="H",D4="S")),"HS",IF((AND(F4="H",D4="R")),"HR",)))) -> FS | K4: T | L4: S | M4: 0 | N4: 1 | O4: =CONCATENATE(K4,L4,"-",M4,N4) -> TS-01
A5: 4 | B5: BERNAY Béatrice | C5: S | D5: S | E5: =IF((AND(C5="S",D5="S")),"SS",IF((AND(C5="S",D5="R")),"SR",IF((AND(C5="A",D5="S")),"AS",IF((AND(C5="A",D5="R")),"AR",IF((AND(C5="T",D5="S")),"TS",IF((AND(C5="T",D5="R")),"TR",IF((AND(C5="B",D5="S")),"BS",IF((AND(C5="B",D5="R")),"BR",)))))))) -> SS | F5: =IF($C5="S","F",IF($C5="A","F",IF($C5="T","H",IF($C5="B","H",)))) -> F | G5: =IF((AND(F5="F",D5="S")),"FS",IF((AND(F5="F",D5="R")),"FR",IF((AND(F5="H",D5="S")),"HS",IF((AND(F5="H",D5="R")),"HR",)))) -> FS | K5: B | L5: R | M5: 1 | N5: 1 | O5: =CONCATENATE(K5,L5,"-",M5,N5) -> BR-11
A6: 5 | B6: BLEYNIE Chantal | C6: A | D6: S | E6: =IF((AND(C6="S",D6="S")),"SS",IF((AND(C6="S",D6="R")),"SR",IF((AND(C6="A",D6="S")),"AS",IF((AND(C6="A",D6="R")),"AR",IF((AND(C6="T",D6="S")),"TS",IF((AND(C6="T",D6="R")),"TR",IF((AND(C6="B",D6="S")),"BS",IF((AND(C6="B",D6="R")),"BR",)))))))) -> AS | F6: =IF($C6="S","F",IF($C6="A","F",IF($C6="T","H",IF($C6="B","H",)))) -> F | G6: =IF((AND(F6="F",D6="S")),"FS",IF((AND(F6="F",D6="R")),"FR",IF((AND(F6="H",D6="S")),"HS",IF((AND(F6="H",D6="R")),"HR",)))) -> FS
A7: 6 | B7: BRIDIER Michel | C7: B | D7: R | E7: =IF((AND(C7="S",D7="S")),"SS",IF((AND(C7="S",D7="R")),"SR",IF((AND(C7="A",D7="S")),"AS",IF((AND(C7="A",D7="R")),"AR",IF((AND(C7="T",D7="S")),"TS",IF((AND(C7="T",D7="R")),"TR",IF((AND(C7="B",D7="S")),"BS",IF((AND(C7="B",D7="R")),"BR",)))))))) -> BR | F7: =IF($C7="S","F",IF($C7="A","F",IF($C7="T","H",IF($C7="B","H",)))) -> H | G7: =IF((AND(F7="F",D7="S")),"FS",IF((AND(F7="F",D7="R")),"FR",IF((AND(F7="H",D7="S")),"HS",IF((AND(F7="H",D7="R")),"HR",)))) -> HR
A8: 7 | B8: CALVÈS Catherine | C8: S | D8: S | E8: =IF((AND(C8="S",D8="S")),"SS",IF((AND(C8="S",D8="R")),"SR",IF((AND(C8="A",D8="S")),"AS",IF((AND(C8="A",D8="R")),"AR",IF((AND(C8="T",D8="S")),"TS",IF((AND(C8="T",D8="R")),"TR",IF((AND(C8="B",D8="S")),"BS",IF((AND(C8="B",D8="R")),"BR",)))))))) -> SS | F8: =IF($C8="S","F",IF($C8="A","F",IF($C8="T","H",IF($C8="B","H",)))) -> F | G8: =IF((AND(F8="F",D8="S")),"FS",IF((AND(F8="F",D8="R")),"FR",IF((AND(F8="H",D8="S")),"HS",IF((AND(F8="H",D8="R")),"HR",)))) -> FS
A9: 8 | B9: CHANROND Guy | C9: B | D9: S | E9: =IF((AND(C9="S",D9="S")),"SS",IF((AND(C9="S",D9="R")),"SR",IF((AND(C9="A",D9="S")),"AS",IF((AND(C9="A",D9="R")),"AR",IF((AND(C9="T",D9="S")),"TS",IF((AND(C9="T",D9="R")),"TR",IF((AND(C9="B",D9="S")),"BS",IF((AND(C9="B",D9="R")),"BR",)))))))) -> BS | F9: =IF($C9="S","F",IF($C9="A","F",IF($C9="T","H",IF($C9="B","H",)))) -> H | G9: =IF((AND(F9="F",D9="S")),"FS",IF((AND(F9="F",D9="R")),"FR",IF((AND(F9="H",D9="S")),"HS",IF((AND(F9="H",D9="R")),"HR",)))) -> HS
A10: 9 | B10: CHARTIER Brigitte | C10: A | D10: S | E10: =IF((AND(C10="S",D10="S")),"SS",IF((AND(C10="S",D10="R")),"SR",IF((AND(C10="A",D10="S")),"AS",IF((AND(C10="A",D10="R")),"AR",IF((AND(C10="T",D10="S")),"TS",IF((AND(C10="T",D10="R")),"TR",IF((AND(C10="B",D10="S")),"BS",IF((AND(C10="B",D10="R")),"BR",)))))))) -> AS | F10: =IF($C10="S","F",IF($C10="A","F",IF($C10="T","H",IF($C10="B","H",)))) -> F | G10: =IF((AND(F10="F",D10="S")),"FS",IF((AND(F10="F",D10="R")),"FR",IF((AND(F10="H",D10="S")),"HS",IF((AND(F10="H",D10="R")),"HR",)))) -> FS
A11: 10 | B11: CHAT Nadine | C11: A | D11: S | E11: =IF((AND(C11="S",D11="S")),"SS",IF((AND(C11="S",D11="R")),"SR",IF((AND(C11="A",D11="S")),"AS",IF((AND(C11="A",D11="R")),"AR",IF((AND(C11="T",D11="S")),"TS",IF((AND(C11="T",D11="R")),"TR",IF((AND(C11="B",D11="S")),"BS",IF((AND(C11="B",D11="R")),"BR",)))))))) -> AS | F11: =IF($C11="S","F",IF($C11="A","F",IF($C11="T","H",IF($C11="B","H",)))) -> F | G11: =IF((AND(F11="F",D11="S")),"FS",IF((AND(F11="F",D11="R")),"FR",IF((AND(F11="H",D11="S")),"HS",IF((AND(F11="H",D11="R")),"HR",)))) -> FS
A12: 11 | B12: CLÉDAT (de) Hubert | C12: T | D12: S | E12: =IF((AND(C12="S",D12="S")),"SS",IF((AND(C12="S",D12="R")),"SR",IF((AND(C12="A",D12="S")),"AS",IF((AND(C12="A",D12="R")),"AR",IF((AND(C12="T",D12="S")),"TS",IF((AND(C12="T",D12="R")),"TR",IF((AND(C12="B",D12="S")),"BS",IF((AND(C12="B",D12="R")),"BR",)))))))) -> TS | F12: =IF($C12="S","F",IF($C12="A","F",IF($C12="T","H",IF($C12="B","H",)))) -> H | G12: =IF((AND(F12="F",D12="S")),"FS",IF((AND(F12="F",D12="R")),"FR",IF((AND(F12="H",D12="S")),"HS",IF((AND(F12="H",D12="R")),"HR",)))) -> HS
A13: 12 | B13: CLÉDAT (de) Renaud | C13: T | D13: S | E13: =IF((AND(C13="S",D13="S")),"SS",IF((AND(C13="S",D13="R")),"SR",IF((AND(C13="A",D13="S")),"AS",IF((AND(C13="A",D13="R")),"AR",IF((AND(C13="T",D13="S")),"TS",IF((AND(C13="T",D13="R")),"TR",IF((AND(C13="B",D13="S")),"BS",IF((AND(C13="B",D13="R")),"BR",)))))))) -> TS | F13: =IF($C13="S","F",IF($C13="A","F",IF($C13="T","H",IF($C13="B","H",)))) -> H | G13: =IF((AND(F13="F",D13="S")),"FS",IF((AND(F13="F",D13="R")),"FR",IF((AND(F13="H",D13="S")),"HS",IF((AND(F13="H",D13="R")),"HR",)))) -> HS
A14: 13 | B14: COUANON Jocelyne | C14: S | D14: R | E14: =IF((AND(C14="S",D14="S")),"SS",IF((AND(C14="S",D14="R")),"SR",IF((AND(C14="A",D14="S")),"AS",IF((AND(C14="A",D14="R")),"AR",IF((AND(C14="T",D14="S")),"TS",IF((AND(C14="T",D14="R")),"TR",IF((AND(C14="B",D14="S")),"BS",IF((AND(C14="B",D14="R")),"BR",)))))))) -> SR | F14: =IF($C14="S","F",IF($C14="A","F",IF($C14="T","H",IF($C14="B","H",)))) -> F | G14: =IF((AND(F14="F",D14="S")),"FS",IF((AND(F14="F",D14="R")),"FR",IF((AND(F14="H",D14="S")),"HS",IF((AND(F14="H",D14="R")),"HR",)))) -> FR
A15: 14 | B15: COUPRIE Gérard | C15: B | D15: S | E15: =IF((AND(C15="S",D15="S")),"SS",IF((AND(C15="S",D15="R")),"SR",IF((AND(C15="A",D15="S")),"AS",IF((AND(C15="A",D15="R")),"AR",IF((AND(C15="T",D15="S")),"TS",IF((AND(C15="T",D15="R")),"TR",IF((AND(C15="B",D15="S")),"BS",IF((AND(C15="B",D15="R")),"BR",)))))))) -> BS | F15: =IF($C15="S","F",IF($C15="A","F",IF($C15="T","H",IF($C15="B","H",)))) -> H | G15: =IF((AND(F15="F",D15="S")),"FS",IF((AND(F15="F",D15="R")),"FR",IF((AND(F15="H",D15="S")),"HS",IF((AND(F15="H",D15="R")),"HR",)))) -> HS
A16: 15 | B16: CURTAROLO Annie | C16: A | D16: S | E16: =IF((AND(C16="S",D16="S")),"SS",IF((AND(C16="S",D16="R")),"SR",IF((AND(C16="A",D16="S")),"AS",IF((AND(C16="A",D16="R")),"AR",IF((AND(C16="T",D16="S")),"TS",IF((AND(C16="T",D16="R")),"TR",IF((AND(C16="B",D16="S")),"BS",IF((AND(C16="B",D16="R")),"BR",)))))))) -> AS | F16: =IF($C16="S","F",IF($C16="A","F",IF($C16="T","H",IF($C16="B","H",)))) -> F | G16: =IF((AND(F16="F",D16="S")),"FS",IF((AND(F16="F",D16="R")),"FR",IF((AND(F16="H",D16="S")),"HS",IF((AND(F16="H",D16="R")),"HR",)))) -> FS
A17: 16 | B17: DEJENNE Gérard | C17: B | D17: S | E17: =IF((AND(C17="S",D17="S")),"SS",IF((AND(C17="S",D17="R")),"SR",IF((AND(C17="A",D17="S")),"AS",IF((AND(C17="A",D17="R")),"AR",IF((AND(C17="T",D17="S")),"TS",IF((AND(C17="T",D17="R")),"TR",IF((AND(C17="B",D17="S")),"BS",IF((AND(C17="B",D17="R")),"BR",)))))))) -> BS | F17: =IF($C17="S","F",IF($C17="A","F",IF($C17="T","H",IF($C17="B","H",)))) -> H | G17: =IF((AND(F17="F",D17="S")),"FS",IF((AND(F17="F",D17="R")),"FR",IF((AND(F17="H",D17="S")),"HS",IF((AND(F17="H",D17="R")),"HR",)))) -> HS
... A23: 22 | B23: DUFFAUD Sarah | C23: A | D23: S | E23: =IF((AND(C23="S",D23="S")),"SS",IF((AND(C23="S",D23="R")),"SR",IF((AND(C23="A",D23="S")),"AS",IF((AND(C23="A",D23="R")),"AR",IF((AND(C23="T",D23="S")),"TS",IF((AND(C23="T",D23="R")),"TR",IF((AND(C23="B",D23="S")),"BS",IF((AND(C23="B",D23="R")),"BR",)))))))) -> AS | F23: =IF($C23="S","F",IF($C23="A","F",IF($C23="T","H",IF($C23="B","H",)))) -> F | G23: =IF((AND(F23="F",D23="S")),"FS",IF((AND(F23="F",D23="R")),"FR",IF((AND(F23="H",D23="S")),"HS",IF((AND(F23="H",D23="R")),"HR",)))) -> FS
E24: =IF((AND(C24="S",D24="S")),"SS",IF((AND(C24="S",D24="R")),"SR",IF((AND(C24="A",D24="S")),"AS",IF((AND(C24="A",D24="R")),"AR",IF((AND(C24="T",D24="S")),"TS",IF((AND(C24="T",D24="R")),"TR",IF((AND(C24="B",D24="S")),"BS",IF((AND(C24="B",D24="R")),"BR",)))))))) -> 0 | F24: =IF($C24="S","F",IF($C24="A","F",IF($C24="T","H",IF($C24="B","H",)))) -> 0 | G24: =IF((AND(F24="F",D24="S")),"FS",IF((AND(F24="F",D24="R")),"FR",IF((AND(F24="H",D24="S")),"HS",IF((AND(F24="H",D24="R")),"HR",)))) -> 0 | H24: Durand Michèle : Partie février 2018
A25: 23 | B25: FALTOT Véronique | C25: S | D25: R | E25: =IF((AND(C25="S",D25="S")),"SS",IF((AND(C25="S",D25="R")),"SR",IF((AND(C25="A",D25="S")),"AS",IF((AND(C25="A",D25="R")),"AR",IF((AND(C25="T",D25="S")),"TS",IF((AND(C25="T",D25="R")),"TR",IF((AND(C25="B",D25="S")),"BS",IF((AND(C25="B",D25="R")),"BR",)))))))) -> SR | F25: =IF($C25="S","F",IF($C25="A","F",IF($C25="T","H",IF($C25="B","H",)))) -> F | G25: =IF((AND(F25="F",D25="S")),"FS",IF((AND(F25="F",D25="R")),"FR",IF((AND(F25="H",D25="S")),"HS",IF((AND(F25="H",D25="R")),"HR",)))) -> FR
A26: 24 | B26: FERRAZ Hélène | C26: A | D26: S | E26: =IF((AND(C26="S",D26="S")),"SS",IF((AND(C26="S",D26="R")),"SR",IF((AND(C26="A",D26="S")),"AS",IF((AND(C26="A",D26="R")),"AR",IF((AND(C26="T",D26="S")),"TS",IF((AND(C26="T",D26="R")),"TR",IF((AND(C26="B",D26="S")),"BS",IF((AND(C26="B",D26="R")),"BR",)))))))) -> AS | F26: =IF($C26="S","F",IF($C26="A","F",IF($C26="T","H",IF($C26="B","H",)))) -> F | G26: =IF((AND(F26="F",D26="S")),"FS",IF((AND(F26="F",D26="R")),"FR",IF((AND(F26="H",D26="S")),"HS",IF((AND(F26="H",D26="R")),"HR",)))) -> FS
A27: 25 | B27: FONGOND Danielle | C27: A | D27: S | E27: =IF((AND(C27="S",D27="S")),"SS",IF((AND(C27="S",D27="R")),"SR",IF((AND(C27="A",D27="S")),"AS",IF((AND(C27="A",D27="R")),"AR",IF((AND(C27="T",D27="S")),"TS",IF((AND(C27="T",D27="R")),"TR",IF((AND(C27="B",D27="S")),"BS",IF((AND(C27="B",D27="R")),"BR",)))))))) -> AS | F27: =IF($C27="S","F",IF($C27="A","F",IF($C27="T","H",IF($C27="B","H",)))) -> F | G27: =IF((AND(F27="F",D27="S")),"FS",IF((AND(F27="F",D27="R")),"FR",IF((AND(F27="H",D27="S")),"HS",IF((AND(F27="H",D27="R")),"HR",)))) -> FS
A28: 26 | B28: FOUCAUD Catherine | C28: S | D28: R | E28: =IF((AND(C28="S",D28="S")),"SS",IF((AND(C28="S",D28="R")),"SR",IF((AND(C28="A",D28="S")),"AS",IF((AND(C28="A",D28="R")),"AR",IF((AND(C28="T",D28="S")),"TS",IF((AND(C28="T",D28="R")),"TR",IF((AND(C28="B",D28="S")),"BS",IF((AND(C28="B",D28="R")),"BR",)))))))) -> SR | F28: =IF($C28="S","F",IF($C28="A","F",IF($C28="T","H",IF($C28="B","H",)))) -> F | G28: =IF((AND(F28="F",D28="S")),"FS",IF((AND(F28="F",D28="R")),"FR",IF((AND(F28="H",D28="S")),"HS",IF((AND(F28="H",D28="R")),"HR",)))) -> FR
A29: 27 | B29: FOUQUES Emmanuelle | C29: S | D29: R | E29: =IF((AND(C29="S",D29="S")),"SS",IF((AND(C29="S",D29="R")),"SR",IF((AND(C29="A",D29="S")),"AS",IF((AND(C29="A",D29="R")),"AR",IF((AND(C29="T",D29="S")),"TS",IF((AND(C29="T",D29="R")),"TR",IF((AND(C29="B",D29="S")),"BS",IF((AND(C29="B",D29="R")),"BR",)))))))) -> SR | F29: =IF($C29="S","F",IF($C29="A","F",IF($C29="T","H",IF($C29="B","H",)))) -> F | G29: =IF((AND(F29="F",D29="S")),"FS",IF((AND(F29="F",D29="R")),"FR",IF((AND(F29="H",D29="S")),"HS",IF((AND(F29="H",D29="R")),"HR",)))) -> FR
A30: 28 | B30: GADÉ Luc | C30: T | D30: R | E30: =IF((AND(C30="S",D30="S")),"SS",IF((AND(C30="S",D30="R")),"SR",IF((AND(C30="A",D30="S")),"AS",IF((AND(C30="A",D30="R")),"AR",IF((AND(C30="T",D30="S")),"TS",IF((AND(C30="T",D30="R")),"TR",IF((AND(C30="B",D30="S")),"BS",IF((AND(C30="B",D30="R")),"BR",)))))))) -> TR | F30: =IF($C30="S","F",IF($C30="A","F",IF($C30="T","H",IF($C30="B","H",)))) -> H | G30: =IF((AND(F30="F",D30="S")),"FS",IF((AND(F30="F",D30="R")),"FR",IF((AND(F30="H",D30="S")),"HS",IF((AND(F30="H",D30="R")),"HR",)))) -> HR
A31: 29 | B31: GALASSO Pierre | C31: B | D31: S | E31: =IF((AND(C31="S",D31="S")),"SS",IF((AND(C31="S",D31="R")),"SR",IF((AND(C31="A",D31="S")),"AS",IF((AND(C31="A",D31="R")),"AR",IF((AND(C31="T",D31="S")),"TS",IF((AND(C31="T",D31="R")),"TR",IF((AND(C31="B",D31="S")),"BS",IF((AND(C31="B",D31="R")),"BR",)))))))) -> BS | F31: =IF($C31="S","F",IF($C31="A","F",IF($C31="T","H",IF($C31="B","H",)))) -> H | G31: =IF((AND(F31="F",D31="S")),"FS",IF((AND(F31="F",D31="R")),"FR",IF((AND(F31="H",D31="S")),"HS",IF((AND(F31="H",D31="R")),"HR",)))) -> HS
A32: 30 | B32: GANDRIAU Marie-Andrée | C32: A | D32: R | E32: =IF((AND(C32="S",D32="S")),"SS",IF((AND(C32="S",D32="R")),"SR",IF((AND(C32="A",D32="S")),"AS",IF((AND(C32="A",D32="R")),"AR",IF((AND(C32="T",D32="S")),"TS",IF((AND(C32="T",D32="R")),"TR",IF((AND(C32="B",D32="S")),"BS",IF((AND(C32="B",D32="R")),"BR",)))))))) -> AR | F32: =IF($C32="S","F",IF($C32="A","F",IF($C32="T","H",IF($C32="B","H",)))) -> F | G32: =IF((AND(F32="F",D32="S")),"FS",IF((AND(F32="F",D32="R")),"FR",IF((AND(F32="H",D32="S")),"HS",IF((AND(F32="H",D32="R")),"HR",)))) -> FR
A33: 31 | B33: GAROUFALAKIS Véronique | C33: S | D33: S | E33: =IF((AND(C33="S",D33="S")),"SS",IF((AND(C33="S",D33="R")),"SR",IF((AND(C33="A",D33="S")),"AS",IF((AND(C33="A",D33="R")),"AR",IF((AND(C33="T",D33="S")),"TS",IF((AND(C33="T",D33="R")),"TR",IF((AND(C33="B",D33="S")),"BS",IF((AND(C33="B",D33="R")),"BR",)))))))) -> SS | F33: =IF($C33="S","F",IF($C33="A","F",IF($C33="T","H",IF($C33="B","H",)))) -> F | G33: =IF((AND(F33="F",D33="S")),"FS",IF((AND(F33="F",D33="R")),"FR",IF((AND(F33="H",D33="S")),"HS",IF((AND(F33="H",D33="R")),"HR",)))) -> FS
A34: 32 | B34: GASPAR Mauricette | C34: S | D34: S | E34: =IF((AND(C34="S",D34="S")),"SS",IF((AND(C34="S",D34="R")),"SR",IF((AND(C34="A",D34="S")),"AS",IF((AND(C34="A",D34="R")),"AR",IF((AND(C34="T",D34="S")),"TS",IF((AND(C34="T",D34="R")),"TR",IF((AND(C34="B",D34="S")),"BS",IF((AND(C34="B",D34="R")),"BR",)))))))) -> SS | F34: =IF($C34="S","F",IF($C34="A","F",IF($C34="T","H",IF($C34="B","H",)))) -> F | G34: =IF((AND(F34="F",D34="S")),"FS",IF((AND(F34="F",D34="R")),"FR",IF((AND(F34="H",D34="S")),"HS",IF((AND(F34="H",D34="R")),"HR",)))) -> FS
A35: 33 | B35: GAUDIOT Danièle | C35: A | D35: S | E35: =IF((AND(C35="S",D35="S")),"SS",IF((AND(C35="S",D35="R")),"SR",IF((AND(C35="A",D35="S")),"AS",IF((AND(C35="A",D35="R")),"AR",IF((AND(C35="T",D35="S")),"TS",IF((AND(C35="T",D35="R")),"TR",IF((AND(C35="B",D35="S")),"BS",IF((AND(C35="B",D35="R")),"BR",)))))))) -> AS | F35: =IF($C35="S","F",IF($C35="A","F",IF($C35="T","H",IF($C35="B","H",)))) -> F | G35: =IF((AND(F35="F",D35="S")),"FS",IF((AND(F35="F",D35="R")),"FR",IF((AND(F35="H",D35="S")),"HS",IF((AND(F35="H",D35="R")),"HR",)))) -> FS
A36: 34 | B36: GERMAIN Jean-Michel | C36: B | D36: S | E36: =IF((AND(C36="S",D36="S")),"SS",IF((AND(C36="S",D36="R")),"SR",IF((AND(C36="A",D36="S")),"AS",IF((AND(C36="A",D36="R")),"AR",IF((AND(C36="T",D36="S")),"TS",IF((AND(C36="T",D36="R")),"TR",IF((AND(C36="B",D36="S")),"BS",IF((AND(C36="B",D36="R")),"BR",)))))))) -> BS | F36: =IF($C36="S","F",IF($C36="A","F",IF($C36="T","H",IF($C36="B","H",)))) -> H | G36: =IF((AND(F36="F",D36="S")),"FS",IF((AND(F36="F",D36="R")),"FR",IF((AND(F36="H",D36="S")),"HS",IF((AND(F36="H",D36="R")),"HR",)))) -> HS
... A40: 38 | B40: GUILLOT Brigitte | C40: S | D40: S | E40: =IF((AND(C40="S",D40="S")),"SS",IF((AND(C40="S",D40="R")),"SR",IF((AND(C40="A",D40="S")),"AS",IF((AND(C40="A",D40="R")),"AR",IF((AND(C40="T",D40="S")),"TS",IF((AND(C40="T",D40="R")),"TR",IF((AND(C40="B",D40="S")),"BS",IF((AND(C40="B",D40="R")),"BR",)))))))) -> SS | F40: =IF($C40="S","F",IF($C40="A","F",IF($C40="T","H",IF($C40="B","H",)))) -> F | G40: =IF((AND(F40="F",D40="S")),"FS",IF((AND(F40="F",D40="R")),"FR",IF((AND(F40="H",D40="S")),"HS",IF((AND(F40="H",D40="R")),"HR",)))) -> FS
H41: Haton Denis : Quitte le chœur provisoirement (Santé)
A42: 39 | B42: JOINIÉ-MAURIN Philippe | C42: B | D42: S | E42: =IF((AND(C42="S",D42="S")),"SS",IF((AND(C42="S",D42="R")),"SR",IF((AND(C42="A",D42="S")),"AS",IF((AND(C42="A",D42="R")),"AR",IF((AND(C42="T",D42="S")),"TS",IF((AND(C42="T",D42="R")),"TR",IF((AND(C42="B",D42="S")),"BS",IF((AND(C42="B",D42="R")),"BR",)))))))) -> BS | F42: =IF($C42="S","F",IF($C42="A","F",IF($C42="T","H",IF($C42="B","H",)))) -> H | G42: =IF((AND(F42="F",D42="S")),"FS",IF((AND(F42="F",D42="R")),"FR",IF((AND(F42="H",D42="S")),"HS",IF((AND(F42="H",D42="R")),"HR",)))) -> HS
A43: 40 | B43: JOLLIVET-BARON Sylvie | C43: A | D43: R | E43: =IF((AND(C43="S",D43="S")),"SS",IF((AND(C43="S",D43="R")),"SR",IF((AND(C43="A",D43="S")),"AS",IF((AND(C43="A",D43="R")),"AR",IF((AND(C43="T",D43="S")),"TS",IF((AND(C43="T",D43="R")),"TR",IF((AND(C43="B",D43="S")),"BS",IF((AND(C43="B",D43="R")),"BR",)))))))) -> AR | F43: =IF($C43="S","F",IF($C43="A","F",IF($C43="T","H",IF($C43="B","H",)))) -> F | G43: =IF((AND(F43="F",D43="S")),"FS",IF((AND(F43="F",D43="R")),"FR",IF((AND(F43="H",D43="S")),"HS",IF((AND(F43="H",D43="R")),"HR",)))) -> FR
A44: 41 | B44: JOLLY Laure | C44: A | D44: S | E44: =IF((AND(C44="S",D44="S")),"SS",IF((AND(C44="S",D44="R")),"SR",IF((AND(C44="A",D44="S")),"AS",IF((AND(C44="A",D44="R")),"AR",IF((AND(C44="T",D44="S")),"TS",IF((AND(C44="T",D44="R")),"TR",IF((AND(C44="B",D44="S")),"BS",IF((AND(C44="B",D44="R")),"BR",)))))))) -> AS | F44: =IF($C44="S","F",IF($C44="A","F",IF($C44="T","H",IF($C44="B","H",)))) -> F | G44: =IF((AND(F44="F",D44="S")),"FS",IF((AND(F44="F",D44="R")),"FR",IF((AND(F44="H",D44="S")),"HS",IF((AND(F44="H",D44="R")),"HR",)))) -> FS
A45: 42 | B45: JOUBERT Ann | C45: S | D45: S | E45: =IF((AND(C45="S",D45="S")),"SS",IF((AND(C45="S",D45="R")),"SR",IF((AND(C45="A",D45="S")),"AS",IF((AND(C45="A",D45="R")),"AR",IF((AND(C45="T",D45="S")),"TS",IF((AND(C45="T",D45="R")),"TR",IF((AND(C45="B",D45="S")),"BS",IF((AND(C45="B",D45="R")),"BR",)))))))) -> SS | F45: =IF($C45="S","F",IF($C45="A","F",IF($C45="T","H",IF($C45="B","H",)))) -> F | G45: =IF((AND(F45="F",D45="S")),"FS",IF((AND(F45="F",D45="R")),"FR",IF((AND(F45="H",D45="S")),"HS",IF((AND(F45="H",D45="R")),"HR",)))) -> FS
A46: 43 | B46: LACOSTE Olivier | C46: B | D46: R | E46: =IF((AND(C46="S",D46="S")),"SS",IF((AND(C46="S",D46="R")),"SR",IF((AND(C46="A",D46="S")),"AS",IF((AND(C46="A",D46="R")),"AR",IF((AND(C46="T",D46="S")),"TS",IF((AND(C46="T",D46="R")),"TR",IF((AND(C46="B",D46="S")),"BS",IF((AND(C46="B",D46="R")),"BR",)))))))) -> BR | F46: =IF($C46="S","F",IF($C46="A","F",IF($C46="T","H",IF($C46="B","H",)))) -> H | G46: =IF((AND(F46="F",D46="S")),"FS",IF((AND(F46="F",D46="R")),"FR",IF((AND(F46="H",D46="S")),"HS",IF((AND(F46="H",D46="R")),"HR",)))) -> HR
A47: 44 | B47: LAFON Joëlle | C47: A | D47: S | E47: =IF((AND(C47="S",D47="S")),"SS",IF((AND(C47="S",D47="R")),"SR",IF((AND(C47="A",D47="S")),"AS",IF((AND(C47="A",D47="R")),"AR",IF((AND(C47="T",D47="S")),"TS",IF((AND(C47="T",D47="R")),"TR",IF((AND(C47="B",D47="S")),"BS",IF((AND(C47="B",D47="R")),"BR",)))))))) -> AS | F47: =IF($C47="S","F",IF($C47="A","F",IF($C47="T","H",IF($C47="B","H",)))) -> F | G47: =IF((AND(F47="F",D47="S")),"FS",IF((AND(F47="F",D47="R")),"FR",IF((AND(F47="H",D47="S")),"HS",IF((AND(F47="H",D47="R")),"HR",)))) -> FS
A48: 45 | B48: LASSEN Carine | C48: S | D48: S | E48: =IF((AND(C48="S",D48="S")),"SS",IF((AND(C48="S",D48="R")),"SR",IF((AND(C48="A",D48="S")),"AS",IF((AND(C48="A",D48="R")),"AR",IF((AND(C48="T",D48="S")),"TS",IF((AND(C48="T",D48="R")),"TR",IF((AND(C48="B",D48="S")),"BS",IF((AND(C48="B",D48="R")),"BR",)))))))) -> SS | F48: =IF($C48="S","F",IF($C48="A","F",IF($C48="T","H",IF($C48="B","H",)))) -> F | G48: =IF((AND(F48="F",D48="S")),"FS",IF((AND(F48="F",D48="R")),"FR",IF((AND(F48="H",D48="S")),"HS",IF((AND(F48="H",D48="R")),"HR",)))) -> FS
A49: 46 | B49: LATRICHE Christian | C49: B | D49: S | E49: =IF((AND(C49="S",D49="S")),"SS",IF((AND(C49="S",D49="R")),"SR",IF((AND(C49="A",D49="S")),"AS",IF((AND(C49="A",D49="R")),"AR",IF((AND(C49="T",D49="S")),"TS",IF((AND(C49="T",D49="R")),"TR",IF((AND(C49="B",D49="S")),"BS",IF((AND(C49="B",D49="R")),"BR",)))))))) -> BS | F49: =IF($C49="S","F",IF($C49="A","F",IF($C49="T","H",IF($C49="B","H",)))) -> H | G49: =IF((AND(F49="F",D49="S")),"FS",IF((AND(F49="F",D49="R")),"FR",IF((AND(F49="H",D49="S")),"HS",IF((AND(F49="H",D49="R")),"HR",)))) -> HS
A50: 47 | B50: LAUJAC-POINOT Geneviève | C50: S | D50: S | E50: =IF((AND(C50="S",D50="S")),"SS",IF((AND(C50="S",D50="R")),"SR",IF((AND(C50="A",D50="S")),"AS",IF((AND(C50="A",D50="R")),"AR",IF((AND(C50="T",D50="S")),"TS",IF((AND(C50="T",D50="R")),"TR",IF((AND(C50="B",D50="S")),"BS",IF((AND(C50="B",D50="R")),"BR",)))))))) -> SS | F50: =IF($C50="S","F",IF($C50="A","F",IF($C50="T","H",IF($C50="B","H",)))) -> F | G50: =IF((AND(F50="F",D50="S")),"FS",IF((AND(F50="F",D50="R")),"FR",IF((AND(F50="H",D50="S")),"HS",IF((AND(F50="H",D50="R")),"HR",)))) -> FS
A51: 48 | B51: LÉGER Nicole | C51: A | D51: S | E51: =IF((AND(C51="S",D51="S")),"SS",IF((AND(C51="S",D51="R")),"SR",IF((AND(C51="A",D51="S")),"AS",IF((AND(C51="A",D51="R")),"AR",IF((AND(C51="T",D51="S")),"TS",IF((AND(C51="T",D51="R")),"TR",IF((AND(C51="B",D51="S")),"BS",IF((AND(C51="B",D51="R")),"BR",)))))))) -> AS | F51: =IF($C51="S","F",IF($C51="A","F",IF($C51="T","H",IF($C51="B","H",)))) -> F | G51: =IF((AND(F51="F",D51="S")),"FS",IF((AND(F51="F",D51="R")),"FR",IF((AND(F51="H",D51="S")),"HS",IF((AND(F51="H",D51="R")),"HR",)))) -> FS
A52: 49 | B52: LEMOINE André | C52: B | D52: S | E52: =IF((AND(C52="S",D52="S")),"SS",IF((AND(C52="S",D52="R")),"SR",IF((AND(C52="A",D52="S")),"AS",IF((AND(C52="A",D52="R")),"AR",IF((AND(C52="T",D52="S")),"TS",IF((AND(C52="T",D52="R")),"TR",IF((AND(C52="B",D52="S")),"BS",IF((AND(C52="B",D52="R")),"BR",)))))))) -> BS | F52: =IF($C52="S","F",IF($C52="A","F",IF($C52="T","H",IF($C52="B","H",)))) -> H | G52: =IF((AND(F52="F",D52="S")),"FS",IF((AND(F52="F",D52="R")),"FR",IF((AND(F52="H",D52="S")),"HS",IF((AND(F52="H",D52="R")),"HR",)))) -> HS
A53: 50 | B53: LEMOINE Michèle | C53: A | D53: S | E53: =IF((AND(C53="S",D53="S")),"SS",IF((AND(C53="S",D53="R")),"SR",IF((AND(C53="A",D53="S")),"AS",IF((AND(C53="A",D53="R")),"AR",IF((AND(C53="T",D53="S")),"TS",IF((AND(C53="T",D53="R")),"TR",IF((AND(C53="B",D53="S")),"BS",IF((AND(C53="B",D53="R")),"BR",)))))))) -> AS | F53: =IF($C53="S","F",IF($C53="A","F",IF($C53="T","H",IF($C53="B","H",)))) -> F | G53: =IF((AND(F53="F",D53="S")),"FS",IF((AND(F53="F",D53="R")),"FR",IF((AND(F53="H",D53="S")),"HS",IF((AND(F53="H",D53="R")),"HR",)))) -> FS
... A69: 66 | B69: OUDET Patricia | C69: A | D69: S | E69: =IF((AND(C69="S",D69="S")),"SS",IF((AND(C69="S",D69="R")),"SR",IF((AND(C69="A",D69="S")),"AS",IF((AND(C69="A",D69="R")),"AR",IF((AND(C69="T",D69="S")),"TS",IF((AND(C69="T",D69="R")),"TR",IF((AND(C69="B",D69="S")),"BS",IF((AND(C69="B",D69="R")),"BR",)))))))) -> AS | F69: =IF($C69="S","F",IF($C69="A","F",IF($C69="T","H",IF($C69="B","H",)))) -> F | G69: =IF((AND(F69="F",D69="S")),"FS",IF((AND(F69="F",D69="R")),"FR",IF((AND(F69="H",D69="S")),"HS",IF((AND(F69="H",D69="R")),"HR",)))) -> FS
E70: =IF((AND(C70="S",D70="S")),"SS",IF((AND(C70="S",D70="R")),"SR",IF((AND(C70="A",D70="S")),"AS",IF((AND(C70="A",D70="R")),"AR",IF((AND(C70="T",D70="S")),"TS",IF((AND(C70="T",D70="R")),"TR",IF((AND(C70="B",D70="S")),"BS",IF((AND(C70="B",D70="R")),"BR",)))))))) -> 0 | F70: =IF($C70="S","F",IF($C70="A","F",IF($C70="T","H",IF($C70="B","H",)))) -> 0 | G70: =IF((AND(F70="F",D70="S")),"FS",IF((AND(F70="F",D70="R")),"FR",IF((AND(F70="H",D70="S")),"HS",IF((AND(F70="H",D70="R")),"HR",)))) -> 0 | H70: Pagnier Pierric : Quitte le Grand Chœur ?
A71: 67 | B71: PARFAIT Marie-Hélène | C71: A | D71: S | E71: =IF((AND(C71="S",D71="S")),"SS",IF((AND(C71="S",D71="R")),"SR",IF((AND(C71="A",D71="S")),"AS",IF((AND(C71="A",D71="R")),"AR",IF((AND(C71="T",D71="S")),"TS",IF((AND(C71="T",D71="R")),"TR",IF((AND(C71="B",D71="S")),"BS",IF((AND(C71="B",D71="R")),"BR",)))))))) -> AS | F71: =IF($C71="S","F",IF($C71="A","F",IF($C71="T","H",IF($C71="B","H",)))) -> F | G71: =IF((AND(F71="F",D71="S")),"FS",IF((AND(F71="F",D71="R")),"FR",IF((AND(F71="H",D71="S")),"HS",IF((AND(F71="H",D71="R")),"HR",)))) -> FS
A72: 68 | B72: PITOIS Christian | C72: T | D72: R | E72: =IF((AND(C72="S",D72="S")),"SS",IF((AND(C72="S",D72="R")),"SR",IF((AND(C72="A",D72="S")),"AS",IF((AND(C72="A",D72="R")),"AR",IF((AND(C72="T",D72="S")),"TS",IF((AND(C72="T",D72="R")),"TR",IF((AND(C72="B",D72="S")),"BS",IF((AND(C72="B",D72="R")),"BR",)))))))) -> TR | F72: =IF($C72="S","F",IF($C72="A","F",IF($C72="T","H",IF($C72="B","H",)))) -> H | G72: =IF((AND(F72="F",D72="S")),"FS",IF((AND(F72="F",D72="R")),"FR",IF((AND(F72="H",D72="S")),"HS",IF((AND(F72="H",D72="R")),"HR",)))) -> HR
A73: 69 | B73: POITOU Sylvie | C73: A | D73: S | E73: =IF((AND(C73="S",D73="S")),"SS",IF((AND(C73="S",D73="R")),"SR",IF((AND(C73="A",D73="S")),"AS",IF((AND(C73="A",D73="R")),"AR",IF((AND(C73="T",D73="S")),"TS",IF((AND(C73="T",D73="R")),"TR",IF((AND(C73="B",D73="S")),"BS",IF((AND(C73="B",D73="R")),"BR",)))))))) -> AS | F73: =IF($C73="S","F",IF($C73="A","F",IF($C73="T","H",IF($C73="B","H",)))) -> F | G73: =IF((AND(F73="F",D73="S")),"FS",IF((AND(F73="F",D73="R")),"FR",IF((AND(F73="H",D73="S")),"HS",IF((AND(F73="H",D73="R")),"HR",)))) -> FS
A74: 70 | B74: REDOIS Antoine | C74: B | D74: R | E74: =IF((AND(C74="S",D74="S")),"SS",IF((AND(C74="S",D74="R")),"SR",IF((AND(C74="A",D74="S")),"AS",IF((AND(C74="A",D74="R")),"AR",IF((AND(C74="T",D74="S")),"TS",IF((AND(C74="T",D74="R")),"TR",IF((AND(C74="B",D74="S")),"BS",IF((AND(C74="B",D74="R")),"BR",)))))))) -> BR | F74: =IF($C74="S","F",IF($C74="A","F",IF($C74="T","H",IF($C74="B","H",)))) -> H | G74: =IF((AND(F74="F",D74="S")),"FS",IF((AND(F74="F",D74="R")),"FR",IF((AND(F74="H",D74="S")),"HS",IF((AND(F74="H",D74="R")),"HR",)))) -> HR
A75: 71 | B75: REDOIS Sylviane | C75: S | D75: R | E75: =IF((AND(C75="S",D75="S")),"SS",IF((AND(C75="S",D75="R")),"SR",IF((AND(C75="A",D75="S")),"AS",IF((AND(C75="A",D75="R")),"AR",IF((AND(C75="T",D75="S")),"TS",IF((AND(C75="T",D75="R")),"TR",IF((AND(C75="B",D75="S")),"BS",IF((AND(C75="B",D75="R")),"BR",)))))))) -> SR | F75: =IF($C75="S","F",IF($C75="A","F",IF($C75="T","H",IF($C75="B","H",)))) -> F | G75: =IF((AND(F75="F",D75="S")),"FS",IF((AND(F75="F",D75="R")),"FR",IF((AND(F75="H",D75="S")),"HS",IF((AND(F75="H",D75="R")),"HR",)))) -> FR
A76: 72 | B76: REVAULT Chantal | C76: S | D76: S | E76: =IF((AND(C76="S",D76="S")),"SS",IF((AND(C76="S",D76="R")),"SR",IF((AND(C76="A",D76="S")),"AS",IF((AND(C76="A",D76="R")),"AR",IF((AND(C76="T",D76="S")),"TS",IF((AND(C76="T",D76="R")),"TR",IF((AND(C76="B",D76="S")),"BS",IF((AND(C76="B",D76="R")),"BR",)))))))) -> SS | F76: =IF($C76="S","F",IF($C76="A","F",IF($C76="T","H",IF($C76="B","H",)))) -> F | G76: =IF((AND(F76="F",D76="S")),"FS",IF((AND(F76="F",D76="R")),"FR",IF((AND(F76="H",D76="S")),"HS",IF((AND(F76="H",D76="R")),"HR",)))) -> FS
A77: 73 | B77: RIGOLLET Elisabeth | C77: A | D77: S | E77: =IF((AND(C77="S",D77="S")),"SS",IF((AND(C77="S",D77="R")),"SR",IF((AND(C77="A",D77="S")),"AS",IF((AND(C77="A",D77="R")),"AR",IF((AND(C77="T",D77="S")),"TS",IF((AND(C77="T",D77="R")),"TR",IF((AND(C77="B",D77="S")),"BS",IF((AND(C77="B",D77="R")),"BR",)))))))) -> AS | F77: =IF($C77="S","F",IF($C77="A","F",IF($C77="T","H",IF($C77="B","H",)))) -> F | G77: =IF((AND(F77="F",D77="S")),"FS",IF((AND(F77="F",D77="R")),"FR",IF((AND(F77="H",D77="S")),"HS",IF((AND(F77="H",D77="R")),"HR",)))) -> FS
A78: 74 | B78: ROCCHI Estelle | C78: A | D78: R | E78: =IF((AND(C78="S",D78="S")),"SS",IF((AND(C78="S",D78="R")),"SR",IF((AND(C78="A",D78="S")),"AS",IF((AND(C78="A",D78="R")),"AR",IF((AND(C78="T",D78="S")),"TS",IF((AND(C78="T",D78="R")),"TR",IF((AND(C78="B",D78="S")),"BS",IF((AND(C78="B",D78="R")),"BR",)))))))) -> AR | F78: =IF($C78="S","F",IF($C78="A","F",IF($C78="T","H",IF($C78="B","H",)))) -> F | G78: =IF((AND(F78="F",D78="S")),"FS",IF((AND(F78="F",D78="R")),"FR",IF((AND(F78="H",D78="S")),"HS",IF((AND(F78="H",D78="R")),"HR",)))) -> FR
A79: 75 | B79: SABATIER Michèle | C79: S | D79: R | E79: =IF((AND(C79="S",D79="S")),"SS",IF((AND(C79="S",D79="R")),"SR",IF((AND(C79="A",D79="S")),"AS",IF((AND(C79="A",D79="R")),"AR",IF((AND(C79="T",D79="S")),"TS",IF((AND(C79="T",D79="R")),"TR",IF((AND(C79="B",D79="S")),"BS",IF((AND(C79="B",D79="R")),"BR",)))))))) -> SR | F79: =IF($C79="S","F",IF($C79="A","F",IF($C79="T","H",IF($C79="B","H",)))) -> F | G79: =IF((AND(F79="F",D79="S")),"FS",IF((AND(F79="F",D79="R")),"FR",IF((AND(F79="H",D79="S")),"HS",IF((AND(F79="H",D79="R")),"HR",)))) -> FR
H80: Saunier Marie : Quitte le Grand Chœur
A81: 76 | B81: SAVALL Armand | C81: B | D81: S | E81: =IF((AND(C81="S",D81="S")),"SS",IF((AND(C81="S",D81="R")),"SR",IF((AND(C81="A",D81="S")),"AS",IF((AND(C81="A",D81="R")),"AR",IF((AND(C81="T",D81="S")),"TS",IF((AND(C81="T",D81="R")),"TR",IF((AND(C81="B",D81="S")),"BS",IF((AND(C81="B",D81="R")),"BR",)))))))) -> BS | F81: =IF($C81="S","F",IF($C81="A","F",IF($C81="T","H",IF($C81="B","H",)))) -> H | G81: =IF((AND(F81="F",D81="S")),"FS",IF((AND(F81="F",D81="R")),"FR",IF((AND(F81="H",D81="S")),"HS",IF((AND(F81="H",D81="R")),"HR",)))) -> HS
A82: 77 | B82: SEMON Gérard | C82: B | D82: S | E82: =IF((AND(C82="S",D82="S")),"SS",IF((AND(C82="S",D82="R")),"SR",IF((AND(C82="A",D82="S")),"AS",IF((AND(C82="A",D82="R")),"AR",IF((AND(C82="T",D82="S")),"TS",IF((AND(C82="T",D82="R")),"TR",IF((AND(C82="B",D82="S")),"BS",IF((AND(C82="B",D82="R")),"BR",)))))))) -> BS | F82: =IF($C82="S","F",IF($C82="A","F",IF($C82="T","H",IF($C82="B","H",)))) -> H | G82: =IF((AND(F82="F",D82="S")),"FS",IF((AND(F82="F",D82="R")),"FR",IF((AND(F82="H",D82="S")),"HS",IF((AND(F82="H",D82="R")),"HR",)))) -> HS
A83: 78 | B83: SITAUD Pascale | C83: A | D83: R | E83: =IF((AND(C83="S",D83="S")),"SS",IF((AND(C83="S",D83="R")),"SR",IF((AND(C83="A",D83="S")),"AS",IF((AND(C83="A",D83="R")),"AR",IF((AND(C83="T",D83="S")),"TS",IF((AND(C83="T",D83="R")),"TR",IF((AND(C83="B",D83="S")),"BS",IF((AND(C83="B",D83="R")),"BR",)))))))) -> AR | F83: =IF($C83="S","F",IF($C83="A","F",IF($C83="T","H",IF($C83="B","H",)))) -> F | G83: =IF((AND(F83="F",D83="S")),"FS",IF((AND(F83="F",D83="R")),"FR",IF((AND(F83="H",D83="S")),"HS",IF((AND(F83="H",D83="R")),"HR",)))) -> FR
A84: 79 | B84: SULPIE Isabelle | C84: S | D84: S | E84: =IF((AND(C84="S",D84="S")),"SS",IF((AND(C84="S",D84="R")),"SR",IF((AND(C84="A",D84="S")),"AS",IF((AND(C84="A",D84="R")),"AR",IF((AND(C84="T",D84="S")),"TS",IF((AND(C84="T",D84="R")),"TR",IF((AND(C84="B",D84="S")),"BS",IF((AND(C84="B",D84="R")),"BR",)))))))) -> SS | F84: =IF($C84="S","F",IF($C84="A","F",IF($C84="T","H",IF($C84="B","H",)))) -> F | G84: =IF((AND(F84="F",D84="S")),"FS",IF((AND(F84="F",D84="R")),"FR",IF((AND(F84="H",D84="S")),"HS",IF((AND(F84="H",D84="R")),"HR",)))) -> FS
A85: 80 | B85: SULPIE Jean-Luc | C85: T | D85: S | E85: =IF((AND(C85="S",D85="S")),"SS",IF((AND(C85="S",D85="R")),"SR",IF((AND(C85="A",D85="S")),"AS",IF((AND(C85="A",D85="R")),"AR",IF((AND(C85="T",D85="S")),"TS",IF((AND(C85="T",D85="R")),"TR",IF((AND(C85="B",D85="S")),"BS",IF((AND(C85="B",D85="R")),"BR",)))))))) -> TS | F85: =IF($C85="S","F",IF($C85="A","F",IF($C85="T","H",IF($C85="B","H",)))) -> H | G85: =IF((AND(F85="F",D85="S")),"FS",IF((AND(F85="F",D85="R")),"FR",IF((AND(F85="H",D85="S")),"HS",IF((AND(F85="H",D85="R")),"HR",)))) -> HS
E86: =IF((AND(C86="S",D86="S")),"SS",IF((AND(C86="S",D86="R")),"SR",IF((AND(C86="A",D86="S")),"AS",IF((AND(C86="A",D86="R")),"AR",IF((AND(C86="T",D86="S")),"TS",IF((AND(C86="T",D86="R")),"TR",IF((AND(C86="B",D86="S")),"BS",IF((AND(C86="B",D86="R")),"BR",)))))))) -> 0 | F86: =IF($C86="S","F",IF($C86="A","F",IF($C86="T","H",IF($C86="B","H",)))) -> 0 | G86: =IF((AND(F86="F",D86="S")),"FS",IF((AND(F86="F",D86="R")),"FR",IF((AND(F86="H",D86="S")),"HS",IF((AND(F86="H",D86="R")),"HR",)))) -> 0 | H86: Tornier Pierre-Alain : Quitte le chœur
A87: 81 | B87: TOULAT Isabelle | C87: A | D87: S | E87: =IF((AND(C87="S",D87="S")),"SS",IF((AND(C87="S",D87="R")),"SR",IF((AND(C87="A",D87="S")),"AS",IF((AND(C87="A",D87="R")),"AR",IF((AND(C87="T",D87="S")),"TS",IF((AND(C87="T",D87="R")),"TR",IF((AND(C87="B",D87="S")),"BS",IF((AND(C87="B",D87="R")),"BR",)))))))) -> AS | F87: =IF($C87="S","F",IF($C87="A","F",IF($C87="T","H",IF($C87="B","H",)))) -> F | G87: =IF((AND(F87="F",D87="S")),"FS",IF((AND(F87="F",D87="R")),"FR",IF((AND(F87="H",D87="S")),"HS",IF((AND(F87="H",D87="R")),"HR",)))) -> FS
A88: 82 | B88: VAN CUYCK Hélène | C88: A | D88: S | E88: =IF((AND(C88="S",D88="S")),"SS",IF((AND(C88="S",D88="R")),"SR",IF((AND(C88="A",D88="S")),"AS",IF((AND(C88="A",D88="R")),"AR",IF((AND(C88="T",D88="S")),"TS",IF((AND(C88="T",D88="R")),"TR",IF((AND(C88="B",D88="S")),"BS",IF((AND(C88="B",D88="R")),"BR",)))))))) -> AS | F88: =IF($C88="S","F",IF($C88="A","F",IF($C88="T","H",IF($C88="B","H",)))) -> F | G88: =IF((AND(F88="F",D88="S")),"FS",IF((AND(F88="F",D88="R")),"FR",IF((AND(F88="H",D88="S")),"HS",IF((AND(F88="H",D88="R")),"HR",)))) -> FS
A89: 83 | B89: VERDIER Nelly | C89: A | D89: R | E89: =IF((AND(C89="S",D89="S")),"SS",IF((AND(C89="S",D89="R")),"SR",IF((AND(C89="A",D89="S")),"AS",IF((AND(C89="A",D89="R")),"AR",IF((AND(C89="T",D89="S")),"TS",IF((AND(C89="T",D89="R")),"TR",IF((AND(C89="B",D89="S")),"BS",IF((AND(C89="B",D89="R")),"BR",)))))))) -> AR | F89: =IF($C89="S","F",IF($C89="A","F",IF($C89="T","H",IF($C89="B","H",)))) -> F | G89: =IF((AND(F89="F",D89="S")),"FS",IF((AND(F89="F",D89="R")),"FR",IF((AND(F89="H",D89="S")),"HS",IF((AND(F89="H",D89="R")),"HR",)))) -> FR
A90: 84 | B90: VILLALONGUE Michèle | C90: A | D90: R | E90: =IF((AND(C90="S",D90="S")),"SS",IF((AND(C90="S",D90="R")),"SR",IF((AND(C90="A",D90="S")),"AS",IF((AND(C90="A",D90="R")),"AR",IF((AND(C90="T",D90="S")),"TS",IF((AND(C90="T",D90="R")),"TR",IF((AND(C90="B",D90="S")),"BS",IF((AND(C90="B",D90="R")),"BR",)))))))) -> AR | F90: =IF($C90="S","F",IF($C90="A","F",IF($C90="T","H",IF($C90="B","H",)))) -> F | G90: =IF((AND(F90="F",D90="S")),"FS",IF((AND(F90="F",D90="R")),"FR",IF((AND(F90="H",D90="S")),"HS",IF((AND(F90="H",D90="R")),"HR",)))) -> FR
A91: 85 | B91: WOOD Grahame | C91: B | D91: S | E91: =IF((AND(C91="S",D91="S")),"SS",IF((AND(C91="S",D91="R")),"SR",IF((AND(C91="A",D91="S")),"AS",IF((AND(C91="A",D91="R")),"AR",IF((AND(C91="T",D91="S")),"TS",IF((AND(C91="T",D91="R")),"TR",IF((AND(C91="B",D91="S")),"BS",IF((AND(C91="B",D91="R")),"BR",)))))))) -> BS | F91: =IF($C91="S","F",IF($C91="A","F",IF($C91="T","H",IF($C91="B","H",)))) -> H | G91: =IF((AND(F91="F",D91="S")),"FS",IF((AND(F91="F",D91="R")),"FR",IF((AND(F91="H",D91="S")),"HS",IF((AND(F91="H",D91="R")),"HR",)))) -> HS
B92: Arrivés en cours de saison : | E92: =IF((AND(C92="S",D92="S")),"SS",IF((AND(C92="S",D92="R")),"SR",IF((AND(C92="A",D92="S")),"AS",IF((AND(C92="A",D92="R")),"AR",IF((AND(C92="T",D92="S")),"TS",IF((AND(C92="T",D92="R")),"TR",IF((AND(C92="B",D92="S")),"BS",IF((AND(C92="B",D92="R")),"BR",)))))))) -> 0 | F92: =IF($C92="S","F",IF($C92="A","F",IF($C92="T","H",IF($C92="B","H",)))) -> 0 | G92: =IF((AND(F92="F",D92="S")),"FS",IF((AND(F92="F",D92="R")),"FR",IF((AND(F92="H",D92="S")),"HS",IF((AND(F92="H",D92="R")),"HR",)))) -> 0 | H92: En attente d'intégration
A93: 86 | B93: REIS José | C93: T | D93: S | E93: =IF((AND(C93="S",D93="S")),"SS",IF((AND(C93="S",D93="R")),"SR",IF((AND(C93="A",D93="S")),"AS",IF((AND(C93="A",D93="R")),"AR",IF((AND(C93="T",D93="S")),"TS",IF((AND(C93="T",D93="R")),"TR",IF((AND(C93="B",D93="S")),"BS",IF((AND(C93="B",D93="R")),"BR",)))))))) -> TS | F93: =IF($C93="S","F",IF($C93="A","F",IF($C93="T","H",IF($C93="B","H",)))) -> H | G93: =IF((AND(F93="F",D93="S")),"FS",IF((AND(F93="F",D93="R")),"FR",IF((AND(F93="H",D93="S")),"HS",IF((AND(F93="H",D93="R")),"HR",)))) -> HS
A94: 87 | B94: FABRE Xavier | C94: T | D94: R | E94: =IF((AND(C94="S",D94="S")),"SS",IF((AND(C94="S",D94="R")),"SR",IF((AND(C94="A",D94="S")),"AS",IF((AND(C94="A",D94="R")),"AR",IF((AND(C94="T",D94="S")),"TS",IF((AND(C94="T",D94="R")),"TR",IF((AND(C94="B",D94="S")),"BS",IF((AND(C94="B",D94="R")),"BR",)))))))) -> TR | F94: =IF($C94="S","F",IF($C94="A","F",IF($C94="T","H",IF($C94="B","H",)))) -> H | G94: =IF((AND(F94="F",D94="S")),"FS",IF((AND(F94="F",D94="R")),"FR",IF((AND(F94="H",D94="S")),"HS",IF((AND(F94="H",D94="R")),"HR",)))) -> HR
A95: 88 | B95: VASLIN Pascal | C95: T | D95: S | E95: =IF((AND(C95="S",D95="S")),"SS",IF((AND(C95="S",D95="R")),"SR",IF((AND(C95="A",D95="S")),"AS",IF((AND(C95="A",D95="R")),"AR",IF((AND(C95="T",D95="S")),"TS",IF((AND(C95="T",D95="R")),"TR",IF((AND(C95="B",D95="S")),"BS",IF((AND(C95="B",D95="R")),"BR",)))))))) -> TS | F95: =IF($C95="S","F",IF($C95="A","F",IF($C95="T","H",IF($C95="B","H",)))) -> H | G95: =IF((AND(F95="F",D95="S")),"FS",IF((AND(F95="F",D95="R")),"FR",IF((AND(F95="H",D95="S")),"HS",IF((AND(F95="H",D95="R")),"HR",)))) -> HS
E96: =IF((AND(C96="S",D96="S")),"SS",IF((AND(C96="S",D96="R")),"SR",IF((AND(C96="A",D96="S")),"AS",IF((AND(C96="A",D96="R")),"AR",IF((AND(C96="T",D96="S")),"TS",IF((AND(C96="T",D96="R")),"TR",IF((AND(C96="B",D96="S")),"BS",IF((AND(C96="B",D96="R")),"BR",)))))))) -> 0 | F96: =IF($C96="S","F",IF($C96="A","F",IF($C96="T","H",IF($C96="B","H",)))) -> 0 | G96: =IF((AND(F96="F",D96="S")),"FS",IF((AND(F96="F",D96="R")),"FR",IF((AND(F96="H",D96="S")),"HS",IF((AND(F96="H",D96="R")),"HR",)))) -> 0
E97: =IF((AND(C97="S",D97="S")),"SS",IF((AND(C97="S",D97="R")),"SR",IF((AND(C97="A",D97="S")),"AS",IF((AND(C97="A",D97="R")),"AR",IF((AND(C97="T",D97="S")),"TS",IF((AND(C97="T",D97="R")),"TR",IF((AND(C97="B",D97="S")),"BS",IF((AND(C97="B",D97="R")),"BR",)))))))) -> 0 | F97: =IF($C97="S","F",IF($C97="A","F",IF($C97="T","H",IF($C97="B","H",)))) -> 0 | G97: =IF((AND(F97="F",D97="S")),"FS",IF((AND(F97="F",D97="R")),"FR",IF((AND(F97="H",D97="S")),"HS",IF((AND(F97="H",D97="R")),"HR",)))) -> 0 | H97: GERNEZ Marie-Agnès | I97: S | J97: S | K97: Ne sera pas relancée par Claude, cause âge 70
E98: =IF((AND(C98="S",D98="S")),"SS",IF((AND(C98="S",D98="R")),"SR",IF((AND(C98="A",D98="S")),"AS",IF((AND(C98="A",D98="R")),"AR",IF((AND(C98="T",D98="S")),"TS",IF((AND(C98="T",D98="R")),"TR",IF((AND(C98="B",D98="S")),"BS",IF((AND(C98="B",D98="R")),"BR",)))))))) -> 0 | F98: =IF($C98="S","F",IF($C98="A","F",IF($C98="T","H",IF($C98="B","H",)))) -> 0 | G98: =IF((AND(F98="F",D98="S")),"FS",IF((AND(F98="F",D98="R")),"FR",IF((AND(F98="H",D98="S")),"HS",IF((AND(F98="H",D98="R")),"HR",)))) -> 0 | H98: CABY Benoît | I98: T | J98: S | K98: Sera disponible plutôt saison prochaine (2018/2019).
E99: =IF((AND(C99="S",D99="S")),"SS",IF((AND(C99="S",D99="R")),"SR",IF((AND(C99="A",D99="S")),"AS",IF((AND(C99="A",D99="R")),"AR",IF((AND(C99="T",D99="S")),"TS",IF((AND(C99="T",D99="R")),"TR",IF((AND(C99="B",D99="S")),"BS",IF((AND(C99="B",D99="R")),"BR",)))))))) -> 0 | F99: =IF($C99="S","F",IF($C99="A","F",IF($C99="T","H",IF($C99="B","H",)))) -> 0 | G99: =IF((AND(F99="F",D99="S")),"FS",IF((AND(F99="F",D99="R")),"FR",IF((AND(F99="H",D99="S")),"HS",IF((AND(F99="H",D99="R")),"HR",)))) -> 0
E100: =IF((AND(C100="S",D100="S")),"SS",IF((AND(C100="S",D100="R")),"SR",IF((AND(C100="A",D100="S")),"AS",IF((AND(C100="A",D100="R")),"AR",IF((AND(C100="T",D100="S")),"TS",IF((AND(C100="T",D100="R")),"TR",IF((AND(C100="B",D100="S")),"BS",IF((AND(C100="B",D100="R")),"BR",)))))))) -> 0 | F100: =IF($C100="S","F",IF($C100="A","F",IF($C100="T","H",IF($C100="B","H",)))) -> 0 | G100: =IF((AND(F100="F",D100="S")),"FS",IF((AND(F100="F",D100="R")),"FR",IF((AND(F100="H",D100="S")),"HS",IF((AND(F100="H",D100="R")),"HR",)))) -> 0
E101: =IF((AND(C101="S",D101="S")),"SS",IF((AND(C101="S",D101="R")),"SR",IF((AND(C101="A",D101="S")),"AS",IF((AND(C101="A",D101="R")),"AR",IF((AND(C101="T",D101="S")),"TS",IF((AND(C101="T",D101="R")),"TR",IF((AND(C101="B",D101="S")),"BS",IF((AND(C101="B",D101="R")),"BR",)))))))) -> 0 | F101: =IF($C101="S","F",IF($C101="A","F",IF($C101="T","H",IF($C101="B","H",)))) -> 0 | G101: =IF((AND(F101="F",D101="S")),"FS",IF((AND(F101="F",D101="R")),"FR",IF((AND(F101="H",D101="S")),"HS",IF((AND(F101="H",D101="R")),"HR",)))) -> 0
E102: =IF((AND(C102="S",D102="S")),"SS",IF((AND(C102="S",D102="R")),"SR",IF((AND(C102="A",D102="S")),"AS",IF((AND(C102="A",D102="R")),"AR",IF((AND(C102="T",D102="S")),"TS",IF((AND(C102="T",D102="R")),"TR",IF((AND(C102="B",D102="S")),"BS",IF((AND(C102="B",D102="R")),"BR",)))))))) -> 0 | F102: =IF($C102="S","F",IF($C102="A","F",IF($C102="T","H",IF($C102="B","H",)))) -> 0 | G102: =IF((AND(F102="F",D102="S")),"FS",IF((AND(F102="F",D102="R")),"FR",IF((AND(F102="H",D102="S")),"HS",IF((AND(F102="H",D102="R")),"HR",)))) -> 0
E103: =IF((AND(C103="S",D103="S")),"SS",IF((AND(C103="S",D103="R")),"SR",IF((AND(C103="A",D103="S")),"AS",IF((AND(C103="A",D103="R")),"AR",IF((AND(C103="T",D103="S")),"TS",IF((AND(C103="T",D103="R")),"TR",IF((AND(C103="B",D103="S")),"BS",IF((AND(C103="B",D103="R")),"BR",)))))))) -> 0 | F103: =IF($C103="S","F",IF($C103="A","F",IF($C103="T","H",IF($C103="B","H",)))) -> 0 | G103: =IF((AND(F103="F",D103="S")),"FS",IF((AND(F103="F",D103="R")),"FR",IF((AND(F103="H",D103="S")),"HS",IF((AND(F103="H",D103="R")),"HR",)))) -> 0
E104: =IF((AND(C104="S",D104="S")),"SS",IF((AND(C104="S",D104="R")),"SR",IF((AND(C104="A",D104="S")),"AS",IF((AND(C104="A",D104="R")),"AR",IF((AND(C104="T",D104="S")),"TS",IF((AND(C104="T",D104="R")),"TR",IF((AND(C104="B",D104="S")),"BS",IF((AND(C104="B",D104="R")),"BR",)))))))) -> 0 | F104: =IF($C104="S","F",IF($C104="A","F",IF($C104="T","H",IF($C104="B","H",)))) -> 0 | G104: =IF((AND(F104="F",D104="S")),"FS",IF((AND(F104="F",D104="R")),"FR",IF((AND(F104="H",D104="S")),"HS",IF((AND(F104="H",D104="R")),"HR",)))) -> 0 | H104: Partis en cours de saison : | K104: =IF((AND(I104="S",J104="S")),"SS",IF((AND(I104="S",J104="R")),"SR",IF((AND(I104="A",J104="S")),"AS",IF((AND(I104="A",J104="R")),"AR",IF((AND(I104="T",J104="S")),"TS",IF((AND(I104="T",J104="R")),"TR",IF((AND(I104="B",J104="S")),"BS",IF((AND(I104="B",J104="R")),"BR",)))))))) -> 0 | L104: =IF($I104="S","F",IF($I104="A","F",IF($I104="T","H",IF($I104="B","H",)))) -> 0 | M104: =IF((AND(L104="F",J104="S")),"FS",IF((AND(L104="F",J104="R")),"FR",IF((AND(L104="H",J104="S")),"HS",IF((AND(L104="H",J104="R")),"HR",)))) -> 0
E105: =IF((AND(C105="S",D105="S")),"SS",IF((AND(C105="S",D105="R")),"SR",IF((AND(C105="A",D105="S")),"AS",IF((AND(C105="A",D105="R")),"AR",IF((AND(C105="T",D105="S")),"TS",IF((AND(C105="T",D105="R")),"TR",IF((AND(C105="B",D105="S")),"BS",IF((AND(C105="B",D105="R")),"BR",)))))))) -> 0 | F105: =IF($C105="S","F",IF($C105="A","F",IF($C105="T","H",IF($C105="B","H",)))) -> 0 | G105: =IF((AND(F105="F",D105="S")),"FS",IF((AND(F105="F",D105="R")),"FR",IF((AND(F105="H",D105="S")),"HS",IF((AND(F105="H",D105="R")),"HR",)))) -> 0 | H105: SAUNIER Marie | I105: S | J105: S | K105: =IF((AND(I105="S",J105="S")),"SS",IF((AND(I105="S",J105="R")),"SR",IF((AND(I105="A",J105="S")),"AS",IF((AND(I105="A",J105="R")),"AR",IF((AND(I105="T",J105="S")),"TS",IF((AND(I105="T",J105="R")),"TR",IF((AND(I105="B",J105="S")),"BS",IF((AND(I105="B",J105="R")),"BR",)))))))) -> SS | L105: =IF($I105="S","F",IF($I105="A","F",IF($I105="T","H",IF($I105="B","H",)))) -> F | M105: =IF((AND(L105="F",J105="S")),"FS",IF((AND(L105="F",J105="R")),"FR",IF((AND(L105="H",J105="S")),"HS",IF((AND(L105="H",J105="R")),"HR",)))) -> FS
E106: =IF((AND(C106="S",D106="S")),"SS",IF((AND(C106="S",D106="R")),"SR",IF((AND(C106="A",D106="S")),"AS",IF((AND(C106="A",D106="R")),"AR",IF((AND(C106="T",D106="S")),"TS",IF((AND(C106="T",D106="R")),"TR",IF((AND(C106="B",D106="S")),"BS",IF((AND(C106="B",D106="R")),"BR",)))))))) -> 0 | F106: =IF($C106="S","F",IF($C106="A","F",IF($C106="T","H",IF($C106="B","H",)))) -> 0 | G106: =IF((AND(F106="F",D106="S")),"FS",IF((AND(F106="F",D106="R")),"FR",IF((AND(F106="H",D106="S")),"HS",IF((AND(F106="H",D106="R")),"HR",)))) -> 0 | H106: HATON Denis | I106: B | J106: S | K106: =IF((AND(I106="S",J106="S")),"SS",IF((AND(I106="S",J106="R")),"SR",IF((AND(I106="A",J106="S")),"AS",IF((AND(I106="A",J106="R")),"AR",IF((AND(I106="T",J106="S")),"TS",IF((AND(I106="T",J106="R")),"TR",IF((AND(I106="B",J106="S")),"BS",IF((AND(I106="B",J106="R")),"BR",)))))))) -> BS | L106: =IF($I106="S","F",IF($I106="A","F",IF($I106="T","H",IF($I106="B","H",)))) -> H | M106: =IF((AND(L106="F",J106="S")),"FS",IF((AND(L106="F",J106="R")),"FR",IF((AND(L106="H",J106="S")),"HS",IF((AND(L106="H",J106="R")),"HR",)))) -> HS
E107: =IF((AND(C107="S",D107="S")),"SS",IF((AND(C107="S",D107="R")),"SR",IF((AND(C107="A",D107="S")),"AS",IF((AND(C107="A",D107="R")),"AR",IF((AND(C107="T",D107="S")),"TS",IF((AND(C107="T",D107="R")),"TR",IF((AND(C107="B",D107="S")),"BS",IF((AND(C107="B",D107="R")),"BR",)))))))) -> 0 | F107: =IF($C107="S","F",IF($C107="A","F",IF($C107="T","H",IF($C107="B","H",)))) -> 0 | G107: =IF((AND(F107="F",D107="S")),"FS",IF((AND(F107="F",D107="R")),"FR",IF((AND(F107="H",D107="S")),"HS",IF((AND(F107="H",D107="R")),"HR",)))) -> 0 | H107: PAGNIER Pierric | I107: T | J107: S | K107: =IF((AND(I107="S",J107="S")),"SS",IF((AND(I107="S",J107="R")),"SR",IF((AND(I107="A",J107="S")),"AS",IF((AND(I107="A",J107="R")),"AR",IF((AND(I107="T",J107="S")),"TS",IF((AND(I107="T",J107="R")),"TR",IF((AND(I107="B",J107="S")),"BS",IF((AND(I107="B",J107="R")),"BR",)))))))) -> TS | L107: =IF($I107="S","F",IF($I107="A","F",IF($I107="T","H",IF($I107="B","H",)))) -> H | M107: =IF((AND(L107="F",J107="S")),"FS",IF((AND(L107="F",J107="R")),"FR",IF((AND(L107="H",J107="S")),"HS",IF((AND(L107="H",J107="R")),"HR",)))) -> HS
E108: =IF((AND(C108="S",D108="S")),"SS",IF((AND(C108="S",D108="R")),"SR",IF((AND(C108="A",D108="S")),"AS",IF((AND(C108="A",D108="R")),"AR",IF((AND(C108="T",D108="S")),"TS",IF((AND(C108="T",D108="R")),"TR",IF((AND(C108="B",D108="S")),"BS",IF((AND(C108="B",D108="R")),"BR",)))))))) -> 0 | F108: =IF($C108="S","F",IF($C108="A","F",IF($C108="T","H",IF($C108="B","H",)))) -> 0 | G108: =IF((AND(F108="F",D108="S")),"FS",IF((AND(F108="F",D108="R")),"FR",IF((AND(F108="H",D108="S")),"HS",IF((AND(F108="H",D108="R")),"HR",)))) -> 0 | H108: TORNIER | I108: B | J108: S | K108: =IF((AND(I108="S",J108="S")),"SS",IF((AND(I108="S",J108="R")),"SR",IF((AND(I108="A",J108="S")),"AS",IF((AND(I108="A",J108="R")),"AR",IF((AND(I108="T",J108="S")),"TS",IF((AND(I108="T",J108="R")),"TR",IF((AND(I108="B",J108="S")),"BS",IF((AND(I108="B",J108="R")),"BR",)))))))) -> BS | L108: =IF($I108="S","F",IF($I108="A","F",IF($I108="T","H",IF($I108="B","H",)))) -> H | M108: =IF((AND(L108="F",J108="S")),"FS",IF((AND(L108="F",J108="R")),"FR",IF((AND(L108="H",J108="S")),"HS",IF((AND(L108="H",J108="R")),"HR",)))) -> HS
H109: DURAND Michèle | I109: A | J109: R | K109: =IF((AND(I109="S",J109="S")),"SS",IF((AND(I109="S",J109="R")),"SR",IF((AND(I109="A",J109="S")),"AS",IF((AND(I109="A",J109="R")),"AR",IF((AND(I109="T",J109="S")),"TS",IF((AND(I109="T",J109="R")),"TR",IF((AND(I109="B",J109="S")),"BS",IF((AND(I109="B",J109="R")),"BR",)))))))) -> AR | L109: =IF($I109="S","F",IF($I109="A","F",IF($I109="T","H",IF($I109="B","H",)))) -> F | M109: =IF((AND(L109="F",J109="S")),"FS",IF((AND(L109="F",J109="R")),"FR",IF((AND(L109="H",J109="S")),"HS",IF((AND(L109="H",J109="R")),"HR",)))) -> FR
E127: =IF((AND(C127="S",D127="S")),"SS",IF((AND(C127="S",D127="R")),"SR",IF((AND(C127="A",D127="S")),"AS",IF((AND(C127="A",D127="R")),"AR",IF((AND(C127="T",D127="S")),"TS",IF((AND(C127="T",D127="R")),"TR",IF((AND(C127="B",D127="S")),"BS",IF((AND(C127="B",D127="R")),"BR",)))))))) -> 0 | F127: =IF($C127="S","F",IF($C127="A","F",IF($C127="T","H",IF($C127="B","H",)))) -> 0 | G127: =IF((AND(F127="F",D127="S")),"FS",IF((AND(F127="F",D127="R")),"FR",IF((AND(F127="H",D127="S")),"HS",IF((AND(F127="H",D127="R")),"HR",)))) -> 0 | K127: =IF((AND(I127="S",J127="S")),"SS",IF((AND(I127="S",J127="R")),"SR",IF((AND(I127="A",J127="S")),"AS",IF((AND(I127="A",J127="R")),"AR",IF((AND(I127="T",J127="S")),"TS",IF((AND(I127="T",J127="R")),"TR",IF((AND(I127="B",J127="S")),"BS",IF((AND(I127="B",J127="R")),"BR",)))))))) -> 0 | L127: =IF($I127="S","F",IF($I127="A","F",IF($I127="T","H",IF($I127="B","H",)))) -> 0 | M127: =IF((AND(L127="F",J127="S")),"FS",IF((AND(L127="F",J127="R")),"FR",IF((AND(L127="H",J127="S")),"HS",IF((AND(L127="H",J127="R")),"HR",)))) -> 0
B128: Nombre total de Choristes : | C128: =COUNTA(C2:C98)-COUNTA(C104:C127) -> 88

Sheet Répartitions
B1: Ce fichier prend en compte : - le retour de Fabricia Barthélémy, - le retour de Grahame Wood, - et l'intégration de Jean-Pierre Nouet dimanche 10/09/2017 - L'intégration de José Reis (T) le samedi 02/12/2017 - L'Intégration de Xavier Fabre (T) le 06/01/18 - L'intégration de Vaslin Pascal le 27/01/18 (sous réserve d'audition favorable) - Les départs de Saulnier, Pagnier, Haton, En attente d'intégration (peu probable) de : 4 choristes : Debeuf (2), Méric et Gernez Légende : TM = Tutti Mixte AR = Atelier La Rochelle AS = Atelier Saintes TF = Tutti Femmes TH = Tutti Hommes AG = Assemblée Générale
O2: =O68 -> 17 | P2: =P68 -> 7 | Q2: =Q68 -> 24 | R2: =R68 -> 10 | S2: =S68 -> 7 | T2: =T68 -> 3 | U2: =U68 -> 15 | V2: =V68 -> 5 | ... AH2: =AH68 -> 14
F3: Types de séances | O3: Sopranes Saintes | P3: Sopranes La Roch. | Q3: Alti Saintes | R3: Alti La Rochelle | S3: Ténors Saintes | T3: Ténors La Roch. | U3: Basses Saintes | V3: Basses La Rochelle | W3: Sopranes (Sa+Ro) | X3: Alti (Sa+Ro) | Y3: Ténors (Sa+Ro) | Z3: Basses (Sa+Ro) | AA3: Sopranes Solstices | AB3: Alti Solstices | AC3: Ténors Solstices | AD3: Basses Solstices | AE3: Sopranes JM | AF3: Alti JM | AG3: Ténors JM | AH3: Basses JM
F4: TM | G4: AR | H4: AS | I4: TF | J4: TH | O4: BARTHÉLÉMY Fabricia | P4: COUANON Jocelyne | Q4: BARREAUD Delphine | R4: BALLOTEAU Claude | S4: CLÉDAT (de) Hubert | T4: GADÉ Luc | U4: CHANROND Guy | V4: BRIDIER Michel | W4: BARTHÉLÉMY Fabricia | X4: BALLOTEAU Claude | Y4: CLÉDAT (de) Hubert | Z4: BRIDIER Michel | AA4: BARTHELEMY Fabricia | AB4: BALLOTEAU Claude | AC4: CLÉDAT (de) Hubert | AD4: BRIDIER Michel | AE4: BARTHELEMY Fabricia | AF4: BALLOTEAU Claude | AG4: CLÉDAT (de) Hubert | AH4: BRIDIER Michel
B5: Groupes | C5: Femmes | D5: Rochelle | E5: =COUNTIF(Choristes!$G$2:$G$127,"FR") -> 17 | F5: =$E5 -> 17 | G5: =$E5 -> 17 | I5: =$E5 -> 17 | K5: =E5+E6 -> 58 | L5: =SUM(K5:K8) -> 88 | O5: BERNAY Béatrice | P5: FALTOT Véronique | Q5: BLEYNIE Chantal | R5: DESCOLAS Pascale | S5: CLÉDAT (de) Renaud | T5: PITOIS Christian | U5: COUPRIE Gérard | V5: DEMAY Bernard | W5: BERNAY Béatrice | X5: BARREAUD Delphine | Y5: CLÉDAT (de) Renaud | Z5: CHANROND Guy | AA5: BERNAY Béatrice | AB5: BARREAUD Delphine | AC5: CLÉDAT (de) Renaud | AD5: CHANROND Guy | AE5: BERNAY Béatrice | AF5: BARREAUD Delphine | AG5: CLÉDAT (de) Renaud | AH5: CHANROND Guy
D6: Saintes | E6: =COUNTIF(Choristes!$G$2:$G$127,"FS") -> 41 | F6: =$E6 -> 41 | H6: =E6 -> 41 | I6: =$E6 -> 41 | O6: CALVÈS Catherine | P6: FOUCAUD Catherine | Q6: CHARTIER Brigitte | R6: DESPLATS Catherine | S6: DÉSIER Pascal | T6: FABRE Xavier | U6: DEJENNE Gérard | V6: LACOSTE Olivier | W6: CALVÈS Catherine | X6: BLEYNIE Chantal | Y6: DÉSIER Pascal | Z6: COUPRIE Gérard | AA6: DESIER Josée | AB6: CHARTIER Brigitte | AC6: DÉSIER Pascal | AD6: GALASSO Pierre | AE6: COUANON Jocelyne | AF6: CHARTIER Brigitte | AG6: DÉSIER Pascal | AH6: DEJENNE Gérard
C7: Hommes | D7: Rochelle | E7: =COUNTIF(Choristes!$G$2:$G$127,"HR") -> 8 | F7: =$E7 -> 8 | G7: =$E7 -> 8 | J7: =$E7 -> 8 | K7: =E7+E8 -> 30 | O7: DÉSIER Josée | P7: FOUQUES Emmanuelle | Q7: CHAT Nadine | R7: GANDRIAU Marie-Andrée | S7: OUDET Martial | U7: GALASSO Pierre | V7: MERTEN Daniel | W7: COUANON Jocelyne | X7: CHARTIER Brigitte | Y7: FABRE Xavier | Z7: DEJENNE Gérard | AA7: FOUQUES Emmanuelle | AB7: CHAT Nadine | AC7: GADÉ Luc | AD7: GILL Robert | AE7: DESIER Josée | AF7: CURTAROLO Annie | AG7: GADÉ Luc | AH7: DEMAY Bernard
D8: Saintes | E8: =COUNTIF(Choristes!$G$2:$G$127,"HS") -> 22 | F8: =$E8 -> 22 | H8: =E8 -> 22 | J8: =$E8 -> 22 | O8: GAROUFALAKIS Véronique | P8: MARCHAIS Marie-Noëlle | Q8: CURTAROLO Annie | R8: GOUST Martine | S8: REIS José | U8: GERMAIN Jean-Michel | V8: REDOIS Antoine | W8: DÉSIER Josée | X8: CHAT Nadine | Y8: GADÉ Luc | Z8: DEMAY Bernard | AA8: LHOIRY Frédérique | AB8: FERRAZ Hélène | AC8: OUDET Martial | AD8: JOINIÉ-MAURIN Philippe | AE8: FALTOT Véronique | AF8: FERRAZ Hélène | AG8: OUDET Martial | AH8: GALASSO Pierre
B9: Nbre de Choristes | E9: =SUM(E5:E8) -> 88 | F9: =SUM(F5:F8) -> 88 | G9: =SUM(G5:G8) -> 25 | H9: =SUM(H5:H8) -> 63 | I9: =SUM(I5:I8) -> 58 | J9: =SUM(J5:J8) -> 30 | O9: GASPAR Mauricette | P9: REDOIS Sylviane | Q9: DUFFAUD Sarah | R9: JOLLIVET-BARON Sylvie | S9: SULPIE Jean-Luc | U9: GILL Robert | W9: FALTOT Véronique | X9: CURTAROLO Annie | Y9: OUDET Martial | Z9: GALASSO Pierre | AA9: MAGRENON Françoise | AB9: GAUDIOT Danièle | AC9: PITOIS Christian | AD9: MATRAT Georges | AE9: FOUQUES Emmanuelle | AF9: GAUDIOT Danièle | AG9: PITOIS Christian | AH9: GILL Robert
O10: GUILLOT Brigitte | P10: SABATIER Michèle | Q10: FERRAZ Hélène | R10: ROCCHI Estelle | S10: VASLIN Pascal | U10: JOINIÉ-MAURIN Philippe | W10: FOUCAUD Catherine | X10: DESCOLAS Pascale | Y10: PITOIS Christian | Z10: GERMAIN Jean-Michel | AA10: MARCHAIS Marie-Noëlle | AB10: GOUST Martine | AC10: REIS José | AD10: NAUD François | AE10: GAROUFALAKIS Véronique | AF10: GOUST Martine | AG10: REIS José | AH10: LACOSTE Olivier
O11: JOUBERT Ann | Q11: FONGOND Danielle | R11: SITAUD Pascale | U11: LATRICHE Christian | W11: FOUQUES Emmanuelle | X11: DESPLATS Catherine | Y11: REIS José | Z11: GILL Robert | AA11: REVAULT Chantal | AB11: MATHIEU Patricia | AC11: SULPIE Jean-Luc | AD11: REDOIS Antoine | AE11: JOUBERT Ann | AF11: JOLLIVET-BARON Sylvie | AG11: SULPIE Jean-Luc | AH11: LATRICHE Christian
F12: Types de séances | O12: LASSEN Carine | Q12: GAUDIOT Danièle | R12: VERDIER Nelly | U12: LEMOINE André | W12: GAROUFALAKIS Véronique | X12: DUFFAUD Sarah | Y12: SULPIE Jean-Luc | Z12: JOINIÉ-MAURIN Philippe | AA12: SULPIE Isabelle | AB12: POITOU Sylvie | AD12: SAVALL Armand | AE12: LHOIRY Frédérique | AF12: JOLLY Laure | AG12: VASLIN Pascal | AH12: LEMOINE André
F13: TM | G13: AR | H13: AS | I13: TF | J13: TH | O13: LAUJAC-POINOT Geneviève | Q13: GUÉRIN Annick | R13: VILLALONGUE Michèle | U13: MATRAT Georges | W13: GASPAR Mauricette | X13: FERRAZ Hélène | Y13: VASLIN Pascal | Z13: LACOSTE Olivier | AB13: RIGOLLET Elisabeth | AD13: SEMON Gérard | AE13: MAGRENON Françoise | AF13: LEGER Nicole | AH13: MATRAT Georges
B14: Pupitres / Lieux | C14: S | D14: Saintes | E14: =COUNTIF(Choristes!$E$2:$E$127,"SS") -> 17 | F14: =E14 -> 17 | H14: =E14 -> 17 | I14: =E14 -> 17 | K14: =E14+E15 -> 24 | L14: =SUM(K14:K17) -> 58 | M14: =L14+L18 -> 88 | O14: LHOIRY Frédérique | Q14: JOLLY Laure | U14: NAUD François | W14: GUILLOT Brigitte | X14: FONGOND Danielle | Z14: LATRICHE Christian | AB14: TOULAT Isabelle | AE14: MARCHAIS Marie-Noëlle | AF14: LEMOINE Michèle | AH14: NAUD François
D15: Rochelle | E15: =COUNTIF(Choristes!$E$2:$E$127,"SR") -> 7 | F15: =E15 -> 7 | G15: =E15 -> 7 | I15: =E15 -> 7 | O15: MAGRENON Françoise | Q15: LAFON Joëlle | U15: NOUET Jean-Pierre | W15: JOUBERT Ann | X15: GANDRIAU Marie-Andrée | Z15: LEMOINE André | AE15: MORILLON Anne | AF15: MATHIEU Patricia | AH15: REDOIS Antoine
C16: A | D16: Saintes | E16: =COUNTIF(Choristes!$E$2:$E$127,"AS") -> 24 | F16: =E16 -> 24 | H16: =E16 -> 24 | I16: =E16 -> 24 | K16: =E16+E17 -> 34 | O16: MORILLON Anne | Q16: LÉGER Nicole | U16: SAVALL Armand | W16: LASSEN Carine | X16: GAUDIOT Danièle | Z16: MATRAT Georges | AE16: MURGUET Caroline | AF16: POITOU Sylvie | AH16: SAVALL Armand
D17: Rochelle | E17: =COUNTIF(Choristes!$E$2:$E$127,"AR") -> 10 | F17: =E17 -> 10 | G17: =E17 -> 10 | I17: =E17 -> 10 | O17: MURGUET Caroline | Q17: LEMOINE Michèle | U17: SEMON Gérard | W17: LAUJAC-POINOT Geneviève | X17: GOUST Martine | Z17: MERTEN Daniel | AE17: REVAULT Chantal | AF17: RIGOLLET Elisabeth | AH17: SEMON Gérard
C18: T | D18: Saintes | E18: =COUNTIF(Choristes!$E$2:$E$127,"TS") -> 7 | F18: =E18 -> 7 | H18: =E18 -> 7 | J18: =E18 -> 7 | K18: =E18+E19 -> 10 | L18: =SUM(K18:K21) -> 30 | O18: NELSON Christel | Q18: LHOSTE-BOUTIN Frédérique | U18: WOOD Grahame | W18: LHOIRY Frédérique | X18: GUÉRIN Annick | Z18: NAUD François | AE18: SULPIE Isabelle | AF18: TOULAT Isabelle
D19: Rochelle | E19: =COUNTIF(Choristes!$E$2:$E$127,"TR") -> 3 | F19: =E19 -> 3 | G19: =E19 -> 3 | J19: =E19 -> 3 | O19: REVAULT Chantal | Q19: MATHIEU Patricia | W19: MAGRENON Françoise | X19: JOLLIVET-BARON Sylvie | Z19: NOUET Jean-Pierre | AF19: VERDIER Nelly
C20: B | D20: Saintes | E20: =COUNTIF(Choristes!$E$2:$E$127,"BS") -> 15 | F20: =E20 -> 15 | H20: =E20 -> 15 | J20: =E20 -> 15 | K20: =E20+E21 -> 20 | O20: SULPIE Isabelle | Q20: MESSEMÈNE Rose | W20: MARCHAIS Marie-Noëlle | X20: JOLLY Laure | Z20: REDOIS Antoine
D21: Rochelle | E21: =COUNTIF(Choristes!$E$2:$E$127,"BR") -> 5 | F21: =E21 -> 5 | G21: =E21 -> 5 | J21: =E21 -> 5 | Q21: MÉTOYER Marie-Hélène | W21: MORILLON Anne | X21: LAFON Joëlle | Z21: SAVALL Armand
B22: Nbre de Choristes | E22: =SUM(E14:E21) -> 88 | F22: =SUM(F14:F21) -> 88 | G22: =SUM(G14:G21) -> 25 | H22: =SUM(H14:H21) -> 63 | I22: =SUM(I14:I21) -> 58 | J22: =SUM(J14:J21) -> 30 | Q22: OUDET Patricia | W22: MURGUET Caroline | X22: LÉGER Nicole | Z22: SEMON Gérard
Q23: PARFAIT Marie-Hélène | W23: NELSON Christel | X23: LEMOINE Michèle | Z23: WOOD Grahame
F24: Types de séances | Q24: POITOU Sylvie | W24: REDOIS Sylviane | X24: LHOSTE-BOUTIN Frédérique
E25: AG | F25: TM | G25: AR | H25: AS | I25: TF | J25: TH | Q25: RIGOLLET Elisabeth | W25: REVAULT Chantal | X25: MATHIEU Patricia
C26: Femmes | D26: S | E26: =F14+F15 -> 24 | F26: =E26 -> 24 | G26: =G15 -> 7 | H26: =H14 -> 17 | I26: =E14+E15 -> 24 | K26: =E26+E27 -> 58 | L26: =SUM(K26:K29) -> 88 | Q26: TOULAT Isabelle | W26: SABATIER Michèle | X26: MESSEMÈNE Rose
D27: A | E27: =F16+F17 -> 34 | F27: =E27 -> 34 | G27: =G17 -> 10 | H27: =H16 -> 24 | I27: =E16+E17 -> 34 | Q27: VAN CUYCK Hélène | W27: SULPIE Isabelle | X27: MÉTOYER Marie-Hélène
C28: Hommes | D28: T | E28: =F18+F19 -> 10 | F28: =E28 -> 10 | G28: =G19 -> 3 | H28: =H18 -> 7 | J28: =E18+E19 -> 10 | K28: =E28+E29 -> 30 | X28: OUDET Patricia
D29: B | E29: =F20+F21 -> 20 | F29: =E29 -> 20 | G29: =G21 -> 5 | H29: =H20 -> 15 | J29: =E20+E21 -> 20 | X29: PARFAIT Marie-Hélène
D30: Nbre de choristes | F30: =SUM(E26:E29) -> 88 | G30: =SUM(G26:G29) -> 25 | H30: =SUM(H26:H29) -> 63 | I30: =SUM(I26:I29) -> 58 | J30: =SUM(J26:J29) -> 30 | X30: POITOU Sylvie
D31: Nbre de séances | F31: =Dates!$H122 -> 36 | G31: =Dates!$H124 -> 14 | H31: =Dates!$H123 -> 14 | I31: =Dates!$H126 -> 0 | J31: =Dates!$H125 -> 3 | K31: =SUM(F31:J31) -> 67 | X31: RIGOLLET Elisabeth
D32: Nbre de visas | F32: =F30*F31 -> 3168 | G32: =G30*G31 -> 350 | H32: =H30*H31 -> 882 | I32: =I30*I31 -> 0 | J32: =J30*J31 -> 90 | X32: ROCCHI Estelle
D33: Total Visas attendus | F33: =SUM(F32:J32) -> 4490 | X33: SITAUD Pascale
X34: TOULAT Isabelle
F35: Nombre de Séances | X35: VAN CUYCK Hélène
F36: TM | G36: AR | H36: AS | I36: TF | J36: TH | X36: VERDIER Nelly
B37: Pupitres / Lieux | C37: S | D37: S | E37: =COUNTIF(Choristes!$E$2:$E$127,"SS") -> 17 | F37: =Dates!$H$122 -> 36 | H37: =Dates!$H$123 -> 14 | I37: =Dates!$H$126 -> 0 | K37: =SUM(F37:J37) -> 50 | L37: =E37*SUM(F37:J37) -> 850 | X37: VILLALONGUE Michèle
D38: R | E38: =COUNTIF(Choristes!$E$2:$E$127,"SR") -> 7 | F38: =Dates!$H$122 -> 36 | G38: =Dates!$H$124 -> 14 | I38: =Dates!$H$126 -> 0 | K38: =SUM(F38:J38) -> 50 | L38: =E38*SUM(F38:J38) -> 350
C39: A | D39: S | E39: =COUNTIF(Choristes!$E$2:$E$127,"AS") -> 24 | F39: =Dates!$H$122 -> 36 | H39: =Dates!$H$123 -> 14 | I39: =Dates!$H$126 -> 0 | K39: =SUM(F39:J39) -> 50 | L39: =E39*SUM(F39:J39) -> 1200
D40: R | E40: =COUNTIF(Choristes!$E$2:$E$127,"AR") -> 10 | F40: =Dates!$H$122 -> 36 | G40: =Dates!$H$124 -> 14 | I40: =Dates!$H$126 -> 0 | K40: =SUM(F40:J40) -> 50 | L40: =E40*SUM(F40:J40) -> 500
C41: T | D41: S | E41: =COUNTIF(Choristes!$E$2:$E$127,"TS") -> 7 | F41: =Dates!$H$122 -> 36 | H41: =Dates!$H$123 -> 14 | J41: =Dates!$H$125 -> 3 | K41: =SUM(F41:J41) -> 53 | L41: =E41*SUM(F41:J41) -> 371
D42: R | E42: =COUNTIF(Choristes!$E$2:$E$127,"TR") -> 3 | F42: =Dates!$H$122 -> 36 | G42: =Dates!$H$124 -> 14 | J42: =Dates!$H$125 -> 3 | K42: =SUM(F42:J42) -> 53 | L42: =E42*SUM(F42:J42) -> 159
C43: B | D43: S | E43: =COUNTIF(Choristes!$E$2:$E$127,"BS") -> 15 | F43: =Dates!$H$122 -> 36 | H43: =Dates!$H$123 -> 14 | J43: =Dates!$H$125 -> 3 | K43: =SUM(F43:J43) -> 53 | L43: =E43*SUM(F43:J43) -> 795
D44: R | E44: =COUNTIF(Choristes!$E$2:$E$127,"BR") -> 5 | F44: =Dates!$H$122 -> 36 | G44: =Dates!$H$124 -> 14 | J44: =Dates!$H$125 -> 3 | K44: =SUM(F44:J44) -> 53 | L44: =E44*SUM(F44:J44) -> 265
E45: =SUM(E37:E44) -> 88 | H45: Nombre maximun de visas attendus : | L45: =SUM(L37:L44) -> 4490
G50: Enregist. | H50: A acheter | I50: En urgence
D51: Pupitres / Lieux | E51: S | F51: S | H51: 1 | I51: x
F52: R | H52: 2
E53: A | F53: S | G53: Patricia M. | H53: App perso
F54: R | H54: 3
E55: T | F55: S | H55: 4 | I55: x
F56: R | H56: 5
E57: B | F57: S | G57: Guy C.
F58: R | G58: Michel B. | H58: App perso
E62: Enregistreurs
E63: LR | F63: H + F | G63: Michel B. | H63: App perso
E65: AS | F65: H | G65: Guy | H65: App perso
F66: F | G66: Patricia | H66: App perso
O68: =COUNTA(O4:O67) -> 17 | P68: =COUNTA(P4:P67) -> 7 | Q68: =COUNTA(Q4:Q67) -> 24 | R68: =COUNTA(R4:R67) -> 10 | S68: =COUNTA(S4:S67) -> 7 | T68: =COUNTA(T4:T67) -> 3 | U68: =COUNTA(U4:U67) -> 15 | V68: =COUNTA(V4:V67) -> 5 | ... AH68: =COUNTA(AH4:AH67) -> 14
O69: =SUM(O68:V68) -> 88 | W69: =SUM(W68:Z68) -> 88
O71: GERNEZ Marie-Agnès | W71: GERNEZ Marie-Agnès

Sheet Présences, Excuses, et Tx P G
B1: Enregistrement des présences et des absences excusées | C1: N° Séance et Pupitres | D1: Groupe de Choristes | E1: Calcul Index de recherche | F1: Nbre de séances passées | G1: Statut du Jour (selon C6) | H1: Cumul Présences | I1: Cumul Absences Excusées | J1: Cumul Abs. non excusées | K1: Taux de présence cumulé au jour sélectionné en C6 | L1: Taux d'abs excusée cumulé au jour sélectionné en C6 | M1: Taux d'Abs. Non-Excusée cumulé au jour sélect C6 | O1: 1 | P1: 1 | Q1: 2 | R1: 3 | S1: 4 | T1: 5 | U1: 6 | V1: 7 | W1: 8 | X1: 9 | Y1: 10 | Z1: 11 | AA1: 12 | AB1: 13 | AC1: 14 | AD1: 15 | AE1: 16 | AF1: 17 | AG1: 18 | AH1: 19 | AI1: 20 | AJ1: 21 | AK1: 22 | AL1: 23 | AM1: 24 | AN1: 25 | AO1: 26 | AP1: 27 | AQ1: 28 | AR1: 29 | AS1: 30 | AT1: 31 | AU1: 32 | AV1: 33 | AW1: 34 | AX1: 35 | AY1: 36 | AZ1: 37 | BA1: 38 | BB1: 39 | BC1: 40 | BD1: 41 | BE1: 42 | BF1: 43 | BG1: 44 | BH1: 45 | BI1: 46 | BJ1: 47 | BK1: 48 | BL1: 49 | BM1: 50 | BN1: 51 | BO1: 52 | BP1: 53 | BQ1: 54 | BR1: 55 | BS1: 56 | BT1: 57 | BU1: 58 | BV1: 59 | BW1: 60 | BX1: 61 | BY1: 62 | BZ1: 63 | CA1: 64 | CB1: 65 | CC1: 66 | CD1: 67 | CE1: 68 | CF1: 69 | CG1: 70 | CH1: 71 | CI1: 72 | CJ1: 73 | CK1: 74 | CL1: 75 | CM1: 76 | CN1: 77 | CO1: 78 | CP1: 79 | CQ1: 80 | CR1: 81 | CS1: 82 | CT1: 83 | CU1: 84 | CV1: 85 | CW1: 86 | CX1: 87 | CY1: 88 | CZ1: 89 | DA1: 90 | DB1: 91 | DC1: 92 | DD1: 93 | DE1: 94 | DF1: 95 | DG1: 96 | DH1: 97 | DI1: 98 | DJ1: 99 | DK1: 100 | DL1: 101 | DM1: 102 | DN1: 103 | DO1: 104 | DP1: 105 | DQ1: 106 | DR1: 107 | DS1: 108 | DT1: 109 | DU1: 110 | DV1: 111 | DX1: En cas de pourcentage anormal (ex : 106%), vérifier la date en C6. Celle-ci doit être au moins égale à la dernière date des présences saisies. | DZ1: Taux de présence cumulé au jour sélectionné en C6 | EA1: Taux d'abs excusée cumulé au jour sélectionné en C6 | EB1: Taux d'Abs. Non-Excusée cumulé au jour sélectionné en C6
O2: 2 | P2: =VLOOKUP(P1,Dates!$C$5:$I$120,5,FALSE) -> 09:30-12:00 | Q2: =VLOOKUP(Q1,Dates!$C$5:$I$120,5,FALSE) -> 14:00-17:00 | R2: =VLOOKUP(R1,Dates!$C$5:$I$120,5,FALSE) -> 20:00-22:00 | S2: =VLOOKUP(S1,Dates!$C$5:$I$120,5,FALSE) -> 20:30-22:30 | T2: =VLOOKUP(T1,Dates!$C$5:$I$120,5,FALSE) -> 20:00-22:00 | U2: =VLOOKUP(U1,Dates!$C$5:$I$120,5,FALSE) -> 20:30-22:30 | V2: =VLOOKUP(V1,Dates!$C$5:$I$120,5,FALSE) -> 20:00-22:00 | W2: =VLOOKUP(W1,Dates!$C$5:$I$120,5,FALSE) -> 9:30-12:00 | ... DV2: =VLOOKUP(DV1,Dates!$C$5:$I$120,5,FALSE) -> 0
O3: 3 | P3: =VLOOKUP(P1,Dates!$C$5:$I$120,4,FALSE) -> 42988 | Q3: =VLOOKUP(Q1,Dates!$C$5:$I$120,4,FALSE) -> 42988 | R3: =VLOOKUP(R1,Dates!$C$5:$I$120,4,FALSE) -> 42996 | S3: =VLOOKUP(S1,Dates!$C$5:$I$120,4,FALSE) -> 42997 | T3: =VLOOKUP(T1,Dates!$C$5:$I$120,4,FALSE) -> 43003 | U3: =VLOOKUP(U1,Dates!$C$5:$I$120,4,FALSE) -> 43004 | V3: =VLOOKUP(V1,Dates!$C$5:$I$120,4,FALSE) -> 43008 | W3: =VLOOKUP(W1,Dates!$C$5:$I$120,4,FALSE) -> 43009 | ... DV3: =VLOOKUP(DV1,Dates!$C$5:$I$120,4,FALSE) -> 0
B4: =IF(C6<>0,HLOOKUP(C6,$P$1:$DV$3,3,FALSE),) -> 43253 | C4: Date | O4: 4 | P4: =VLOOKUP(P1,Dates!$C$5:$I$120,6,FALSE) -> TM | Q4: =VLOOKUP(Q1,Dates!$C$5:$I$120,6,FALSE) -> TM | R4: =VLOOKUP(R1,Dates!$C$5:$I$120,6,FALSE) -> AR | S4: =VLOOKUP(S1,Dates!$C$5:$I$120,6,FALSE) -> AS | T4: =VLOOKUP(T1,Dates!$C$5:$I$120,6,FALSE) -> AR | U4: =VLOOKUP(U1,Dates!$C$5:$I$120,6,FALSE) -> AS | V4: =VLOOKUP(V1,Dates!$C$5:$I$120,6,FALSE) -> TM | W4: =VLOOKUP(W1,Dates!$C$5:$I$120,6,FALSE) -> TM | ... DV4: =VLOOKUP(DV1,Dates!$C$5:$I$120,6,FALSE) -> 0 | DX4: Taux de présence individuels après la séance
B5: =IF(C6<>0,IF(HLOOKUP(C6,$P$1:$DV$4,4,FALSE)="TM","Tutti Mixte",IF(HLOOKUP(C6,$P$1:$DV$4,4,FALSE)="AS","Atelier Saintes",IF(HLOOKUP(C6,$P$1:$DV$4,4,FALSE)="AR","Atelier La Rochelle",IF(HLOOKUP(C6,$P$1:$DV$4,4,FALSE)="TH","Tutti Hommes",IF(HLOOKUP(C6,$P$1:$DV$4,4,FALSE)="TF","Tutti Femmes",IF(HLOOKUP(C6,$P$1:$DV$4,4,FALSE)="Nul","Séance Annulée")))))),) -> Tutti Hommes | C5: N° | N5: (Piq) | O5: 5 | P5: =VLOOKUP(P1,Dates!$C$5:$I$120,7,FALSE) -> 0 | Q5: =VLOOKUP(Q1,Dates!$C$5:$I$120,7,FALSE) -> 0 | R5: =VLOOKUP(R1,Dates!$C$5:$I$120,7,FALSE) -> 0 | S5: =VLOOKUP(S1,Dates!$C$5:$I$120,7,FALSE) -> 0 | T5: =VLOOKUP(T1,Dates!$C$5:$I$120,7,FALSE) -> 0 | U5: =VLOOKUP(U1,Dates!$C$5:$I$120,7,FALSE) -> 0 | V5: =VLOOKUP(V1,Dates!$C$5:$I$120,7,FALSE) -> 0 | W5: =VLOOKUP(W1,Dates!$C$5:$I$120,7,FALSE) -> 0 | ... DV5: =VLOOKUP(DV1,Dates!$C$5:$I$120,7,FALSE) -> 0 | DX5: =CONCATENATE("dont le n° est affiché en C4 (=",C6,")") -> dont le n° est affiché en C4 (=72)
B6: =IF(C6<>0,HLOOKUP(C6,$P$1:$DV$3,2,FALSE),) -> 16:00-19:00 | C6: 72 | N6: TxPG | O6: 6 | P6: =P156 -> 0.78409091 | Q6: =Q156 -> 0.76136364 | R6: =R156 -> 0.72 | S6: =S156 -> 0.76190476 | T6: =T156 -> 0.92 | U6: =U156 -> 0.74603175 | V6: =V156 -> 0.63636364 | W6: =W156 -> 0.68181818 | ... DV6: =DV156 -> 0 | DX6: =IF(C6<>0,HLOOKUP(C6,$P$1:$DV$3,3,FALSE),) -> 43253
N7: Chor | O7: 7 | P7: =IF(OR(P4="TM",P4="AS",P4="AR",P4="TH",P4="TF"),HLOOKUP(P$4,Répartitions!$E$4:$J$9,6,FALSE),) -> 88 | Q7: =IF(OR(Q4="TM",Q4="AS",Q4="AR",Q4="TH",Q4="TF"),HLOOKUP(Q$4,Répartitions!$E$4:$J$9,6,FALSE),) -> 88 | R7: =IF(OR(R4="TM",R4="AS",R4="AR",R4="TH",R4="TF"),HLOOKUP(R$4,Répartitions!$E$4:$J$9,6,FALSE),) -> 25 | S7: =IF(OR(S4="TM",S4="AS",S4="AR",S4="TH",S4="TF"),HLOOKUP(S$4,Répartitions!$E$4:$J$9,6,FALSE),) -> 63 | T7: =IF(OR(T4="TM",T4="AS",T4="AR",T4="TH",T4="TF"),HLOOKUP(T$4,Répartitions!$E$4:$J$9,6,FALSE),) -> 25 | U7: =IF(OR(U4="TM",U4="AS",U4="AR",U4="TH",U4="TF"),HLOOKUP(U$4,Répartitions!$E$4:$J$9,6,FALSE),) -> 63 | V7: =IF(OR(V4="TM",V4="AS",V4="AR",V4="TH",V4="TF"),HLOOKUP(V$4,Répartitions!$E$4:$J$9,6,FALSE),) -> 88 | W7: =IF(OR(W4="TM",W4="AS",W4="AR",W4="TH",W4="TF"),HLOOKUP(W$4,Répartitions!$E$4:$J$9,6,FALSE),) -> 88 | ... DV7: =IF(OR(DV4="TM",DV4="AS",DV4="AR",DV4="TH",DV4="TF"),HLOOKUP(DV$4,Répartitions!$E$4:$J$9,6,FALSE),) -> 0
B8: Distribution des Répétitions - Hommes/Femmes - Saintes/La Rochelle | O8: 8 | P8: =IF(P4<>0,IF(OR(P4="TM",P4="AS",P4="TF"),1,),) -> 1 | Q8: =IF(Q4<>0,IF(OR(Q4="TM",Q4="AS",Q4="TF"),1,),) -> 1 | R8: =IF(R4<>0,IF(OR(R4="TM",R4="AS",R4="TF"),1,),) -> 0 | S8: =IF(S4<>0,IF(OR(S4="TM",S4="AS",S4="TF"),1,),) -> 1 | T8: =IF(T4<>0,IF(OR(T4="TM",T4="AS",T4="TF"),1,),) -> 0 | U8: =IF(U4<>0,IF(OR(U4="TM",U4="AS",U4="TF"),1,),) -> 1 | V8: =IF(V4<>0,IF(OR(V4="TM",V4="AS",V4="TF"),1,),) -> 1 | W8: =IF(W4<>0,IF(OR(W4="TM",W4="AS",W4="TF"),1,),) -> 1 | ... DV8: =IF(DV4<>0,IF(OR(DV4="TM",DV4="AS",DV4="TF"),1,),) -> 0
N9: FS | O9: 9 | P9: =IF(P4<>0,SUM($P$8:P8),) -> 1 | Q9: =IF(Q4<>0,SUM($P$8:Q8),) -> 2 | R9: =IF(R4<>0,SUM($P$8:R8),) -> 2 | S9: =IF(S4<>0,SUM($P$8:S8),) -> 3 | T9: =IF(T4<>0,SUM($P$8:T8),) -> 3 | U9: =IF(U4<>0,SUM($P$8:U8),) -> 4 | V9: =IF(V4<>0,SUM($P$8:V8),) -> 5 | W9: =IF(W4<>0,SUM($P$8:W8),) -> 6 | ... DV9: =IF(DV4<>0,SUM($P$8:DV8),) -> 0
O10: 10 | P10: =IF(P4<>0,IF(OR(P4="TM",P4="AR",P4="TF"),1,),) -> 1 | Q10: =IF(Q4<>0,IF(OR(Q4="TM",Q4="AR",Q4="TF"),1,),) -> 1 | R10: =IF(R4<>0,IF(OR(R4="TM",R4="AR",R4="TF"),1,),) -> 1 | S10: =IF(S4<>0,IF(OR(S4="TM",S4="AR",S4="TF"),1,),) -> 0 | T10: =IF(T4<>0,IF(OR(T4="TM",T4="AR",T4="TF"),1,),) -> 1 | U10: =IF(U4<>0,IF(OR(U4="TM",U4="AR",U4="TF"),1,),) -> 0 | V10: =IF(V4<>0,IF(OR(V4="TM",V4="AR",V4="TF"),1,),) -> 1 | W10: =IF(W4<>0,IF(OR(W4="TM",W4="AR",W4="TF"),1,),) -> 1 | ... DV10: =IF(DV4<>0,IF(OR(DV4="TM",DV4="AR",DV4="TF"),1,),) -> 0
N11: FR | O11: 11 | P11: =IF(P4<>0,SUM($P$10:P10),) -> 1 | Q11: =IF(Q4<>0,SUM($P$10:Q10),) -> 2 | R11: =IF(R4<>0,SUM($P$10:R10),) -> 3 | S11: =IF(S4<>0,SUM($P$10:S10),) -> 3 | T11: =IF(T4<>0,SUM($P$10:T10),) -> 4 | U11: =IF(U4<>0,SUM($P$10:U10),) -> 4 | V11: =IF(V4<>0,SUM($P$10:V10),) -> 5 | W11: =IF(W4<>0,SUM($P$10:W10),) -> 6 | ... DV11: =IF(DV4<>0,SUM($P$10:DV10),) -> 0
O12: 12 | P12: =IF(P4<>0,IF(OR(P4="TM",P4="AS",P4="TH"),1,),) -> 1 | Q12: =IF(Q4<>0,IF(OR(Q4="TM",Q4="AS",Q4="TH"),1,),) -> 1 | R12: =IF(R4<>0,IF(OR(R4="TM",R4="AS",R4="TH"),1,),) -> 0 | S12: =IF(S4<>0,IF(OR(S4="TM",S4="AS",S4="TH"),1,),) -> 1 | T12: =IF(T4<>0,IF(OR(T4="TM",T4="AS",T4="TH"),1,),) -> 0 | U12: =IF(U4<>0,IF(OR(U4="TM",U4="AS",U4="TH"),1,),) -> 1 | V12: =IF(V4<>0,IF(OR(V4="TM",V4="AS",V4="TH"),1,),) -> 1 | W12: =IF(W4<>0,IF(OR(W4="TM",W4="AS",W4="TH"),1,),) -> 1 | ... DV12: =IF(DV4<>0,IF(OR(DV4="TM",DV4="AS",DV4="TH"),1,),) -> 0
N13: HS | O13: 13 | P13: =IF(P4<>0,SUM($P$12:P12),) -> 1 | Q13: =IF(Q4<>0,SUM($P$12:Q12),) -> 2 | R13: =IF(R4<>0,SUM($P$12:R12),) -> 2 | S13: =IF(S4<>0,SUM($P$12:S12),) -> 3 | T13: =IF(T4<>0,SUM($P$12:T12),) -> 3 | U13: =IF(U4<>0,SUM($P$12:U12),) -> 4 | V13: =IF(V4<>0,SUM($P$12:V12),) -> 5 | W13: =IF(W4<>0,SUM($P$12:W12),) -> 6 | ... DV13: =IF(DV4<>0,SUM($P$12:DV12),) -> 0
O14: 14 | P14: =IF(P4<>0,IF(OR(P4="TM",P4="AR",P4="TH"),1,),) -> 1 | Q14: =IF(Q4<>0,IF(OR(Q4="TM",Q4="AR",Q4="TH"),1,),) -> 1 | R14: =IF(R4<>0,IF(OR(R4="TM",R4="AR",R4="TH"),1,),) -> 1 | S14: =IF(S4<>0,IF(OR(S4="TM",S4="AR",S4="TH"),1,),) -> 0 | T14: =IF(T4<>0,IF(OR(T4="TM",T4="AR",T4="TH"),1,),) -> 1 | U14: =IF(U4<>0,IF(OR(U4="TM",U4="AR",U4="TH"),1,),) -> 0 | V14: =IF(V4<>0,IF(OR(V4="TM",V4="AR",V4="TH"),1,),) -> 1 | W14: =IF(W4<>0,IF(OR(W4="TM",W4="AR",W4="TH"),1,),) -> 1 | ... DV14: =IF(DV4<>0,IF(OR(DV4="TM",DV4="AR",DV4="TH"),1,),) -> 0
N15: HR | O15: 15 | P15: =IF(P4<>0,SUM($P$14:P14),) -> 1 | Q15: =IF(Q4<>0,SUM($P$14:Q14),) -> 2 | R15: =IF(R4<>0,SUM($P$14:R14),) -> 3 | S15: =IF(S4<>0,SUM($P$14:S14),) -> 3 | T15: =IF(T4<>0,SUM($P$14:T14),) -> 4 | U15: =IF(U4<>0,SUM($P$14:U14),) -> 4 | V15: =IF(V4<>0,SUM($P$14:V14),) -> 5 | W15: =IF(W4<>0,SUM($P$14:W14),) -> 6 | ... DV15: =IF(DV4<>0,SUM($P$14:DV14),) -> 0 | DX15: Taux de présence individuels au
B16: Absent(e)s excusé(e)s | C16: Pup
A17: 1 | B17: =Choristes!B2 -> BALLOTEAU Claude | C17: =Choristes!C2 -> A | D17: =Choristes!G2 -> FR | E17: =IF(D17<>0,VLOOKUP(D17,$N$1:$O$15,2,FALSE),) -> 11 | F17: =IF(D17<>0,HLOOKUP($C$6,$P$1:$DV$15,E17,FALSE),) -> 45 | G17: =IF(F17<>0,HLOOKUP($C$6,$P$1:$DV$136,(A17+16),FALSE),) -> 0 | H17: =COUNTIF($P17:$DV17,"S")+COUNTIF($P17:$DV17,"A")+COUNTIF($P17:$DV17,"T")+COUNTIF($P17:$DV17,"B") -> 38 | I17: =COUNTIF($P17:$DV17,"E") -> 4 | J17: =COUNTIF($P17:$DV17,"X") -> 0 | K17: =IF(F17<>0,H17/F17,) -> 0.84444444 | L17: =IF(F17-H17<>0,I17/(F17-H17),) -> 0.57142857 | M17: =IF(F17-H17<>0,J17/(F17-H17),) -> 0 | P17: A | Q17: A | R17: A | T17: A | V17: A | W17: A | X17: A | Y17: A | AA17: A | AC17: A | AF17: A | AG17: A | AI17: A | AL17: A | AM17: A | AN17: A | AO17: E | AQ17: A | AR17: A | AS17: A | AT17: A | AU17: A | AX17: A | AZ17: A | BB17: A | BD17: A | BF17: A | BG17: A | BH17: A | BI17: A | BK17: E | BM17: A | BN17: A | BR17: A | BS17: A | BT17: A | BU17: A | BY17: A | BZ17: A | CA17: A | CB17: E | CD17: E | DX17: =B17 -> BALLOTEAU Claude | DY17: =C17 -> A | DZ17: =K17 -> 0.84444444 | EA17: =L17 -> 0.57142857 | EB17: =M17 -> 0
A18: 2 | B18: =Choristes!B3 -> BARREAUD Delphine | C18: =Choristes!C3 -> A | D18: =Choristes!G3 -> FS | E18: =IF(D18<>0,VLOOKUP(D18,$N$1:$O$15,2,FALSE),) -> 9 | F18: =IF(D18<>0,HLOOKUP($C$6,$P$1:$DV$15,E18,FALSE),) -> 45 | G18: =IF(F18<>0,HLOOKUP($C$6,$P$1:$DV$136,(A18+16),FALSE),) -> 0 | H18: =COUNTIF($P18:$DV18,"S")+COUNTIF($P18:$DV18,"A")+COUNTIF($P18:$DV18,"T")+COUNTIF($P18:$DV18,"B") -> 31 | I18: =COUNTIF($P18:$DV18,"E") -> 5 | J18: =COUNTIF($P18:$DV18,"X") -> 6 | K18: =IF(F18<>0,H18/F18,) -> 0.68888889 | L18: =IF(F18-H18<>0,I18/(F18-H18),) -> 0.35714286 | M18: =IF(F18-H18<>0,J18/(F18-H18),) -> 0.42857143 | P18: A | Q18: A | S18: A | U18: A | V18: A | W18: A | X18: A | Z18: A | AB18: A | AD18: E | AF18: E | AG18: E | AJ18: A | AL18: A | AM18: A | AN18: A | AP18: A | AQ18: A | AR18: A | AS18: A | AT18: A | AV18: E | AX18: E | AZ18: X | BC18: X | BE18: X | BF18: A | BG18: A | BH18: A | BI18: A | BL18: A | BM18: X | BO18: A | BR18: A | BS18: A | BT18: A | BV18: A | BY18: X | BZ18: A | CA18: A | CC18: X | CD18: A | CJ18: D | DX18: =B18 -> BARREAUD Delphine | DY18: =C18 -> A | DZ18: =K18 -> 0.68888889 | EA18: =L18 -> 0.35714286 | EB18: =M18 -> 0.42857143
A19: 3 | B19: =Choristes!B4 -> BARTHÉLÉMY Fabricia | C19: =Choristes!C4 -> S | D19: =Choristes!G4 -> FS | E19: =IF(D19<>0,VLOOKUP(D19,$N$1:$O$15,2,FALSE),) -> 9 | F19: =IF(D19<>0,HLOOKUP($C$6,$P$1:$DV$15,E19,FALSE),) -> 45 | G19: =IF(F19<>0,HLOOKUP($C$6,$P$1:$DV$136,(A19+16),FALSE),) -> 0 | H19: =COUNTIF($P19:$DV19,"S")+COUNTIF($P19:$DV19,"A")+COUNTIF($P19:$DV19,"T")+COUNTIF($P19:$DV19,"B") -> 25 | I19: =COUNTIF($P19:$DV19,"E") -> 5 | J19: =COUNTIF($P19:$DV19,"X") -> 12 | K19: =IF(F19<>0,H19/F19,) -> 0.55555556 | L19: =IF(F19-H19<>0,I19/(F19-H19),) -> 0.25 | M19: =IF(F19-H19<>0,J19/(F19-H19),) -> 0.6 | P19: X | Q19: X | S19: S | U19: S | V19: S | W19: X | X19: X | Z19: S | AB19: E | AD19: S | AF19: X | AG19: S | AJ19: S | AL19: X | AM19: S | AN19: S | AP19: X | AQ19: E | AR19: S | AS19: S | AT19: S | AV19: X | AX19: X | AZ19: E | BC19: S | BE19: X | BF19: X | BG19: S | BH19: S | BI19: S | BL19: S | BM19: S | BO19: X | BR19: S | BS19: S | BT19: S | BV19: E | BY19: S | BZ19: S | CA19: S | CC19: E | CD19: S | DX19: =B19 -> BARTHÉLÉMY Fabricia | DY19: =C19 -> S | DZ19: =K19 -> 0.55555556 | EA19: =L19 -> 0.25 | EB19: =M19 -> 0.6
A20: 4 | B20: =Choristes!B5 -> BERNAY Béatrice | C20: =Choristes!C5 -> S | D20: =Choristes!G5 -> FS | E20: =IF(D20<>0,VLOOKUP(D20,$N$1:$O$15,2,FALSE),) -> 9 | F20: =IF(D20<>0,HLOOKUP($C$6,$P$1:$DV$15,E20,FALSE),) -> 45 | G20: =IF(F20<>0,HLOOKUP($C$6,$P$1:$DV$136,(A20+16),FALSE),) -> 0 | H20: =COUNTIF($P20:$DV20,"S")+COUNTIF($P20:$DV20,"A")+COUNTIF($P20:$DV20,"T")+COUNTIF($P20:$DV20,"B") -> 33 | I20: =COUNTIF($P20:$DV20,"E") -> 5 | J20: =COUNTIF($P20:$DV20,"X") -> 4 | K20: =IF(F20<>0,H20/F20,) -> 0.73333333 | L20: =IF(F20-H20<>0,I20/(F20-H20),) -> 0.41666667 | M20: =IF(F20-H20<>0,J20/(F20-H20),) -> 0.33333333 | P20: S | Q20: X | S20: S | U20: S | V20: S | W20: S | X20: S | Z20: S | AB20: S | AD20: S | AF20: S | AG20: S | AJ20: X | AL20: S | AM20: S | AN20: X | AP20: S | AQ20: S | AR20: S | AS20: S | AT20: S | AV20: S | AX20: X | AZ20: S | BC20: S | BE20: S | BF20: S | BG20: S | BH20: S | BI20: S | BL20: S | BM20: E | BO20: S | BQ20: D | BR20: E | BS20: E | BT20: E | BV20: S | BY20: S | BZ20: S | CA20: E | CC20: S | CD20: S | CE20: D | CG20: R | DX20: =B20 -> BERNAY Béatrice | DY20: =C20 -> S | DZ20: =K20 -> 0.73333333 | EA20: =L20 -> 0.41666667 | EB20: =M20 -> 0.33333333
A21: 5 | B21: =Choristes!B6 -> BLEYNIE Chantal | C21: =Choristes!C6 -> A | D21: =Choristes!G6 -> FS | E21: =IF(D21<>0,VLOOKUP(D21,$N$1:$O$15,2,FALSE),) -> 9 | F21: =IF(D21<>0,HLOOKUP($C$6,$P$1:$DV$15,E21,FALSE),) -> 45 | G21: =IF(F21<>0,HLOOKUP($C$6,$P$1:$DV$136,(A21+16),FALSE),) -> 0 | H21: =COUNTIF($P21:$DV21,"S")+COUNTIF($P21:$DV21,"A")+COUNTIF($P21:$DV21,"T")+COUNTIF($P21:$DV21,"B") -> 34 | I21: =COUNTIF($P21:$DV21,"E") -> 8 | J21: =COUNTIF($P21:$DV21,"X") -> 0 | K21: =IF(F21<>0,H21/F21,) -> 0.75555556 | L21: =IF(F21-H21<>0,I21/(F21-H21),) -> 0.72727273 | M21: =IF(F21-H21<>0,J21/(F21-H21),) -> 0 | P21: A | Q21: A | S21: A | U21: A | V21: E | W21: E | X21: E | Z21: E | AB21: A | AD21: A | AF21: A | AG21: A | AJ21: A | AL21: A | AM21: A | AN21: A | AP21: A | AQ21: A | AR21: E | AS21: E | AT21: E | AV21: A | AX21: A | AZ21: A | BC21: A | BE21: A | BF21: A | BG21: A | BH21: A | BI21: A | BL21: A | BM21: A | BO21: A | BR21: A | BS21: A | BT21: A | BV21: E | BY21: A | BZ21: A | CA21: A | CC21: A | CD21: A | DX21: =B21 -> BLEYNIE Chantal | DY21: =C21 -> A | DZ21: =K21 -> 0.75555556 | EA21: =L21 -> 0.72727273 | EB21: =M21 -> 0
A22: 6 | B22: =Choristes!B7 -> BRIDIER Michel | C22: =Choristes!C7 -> B | D22: =Choristes!G7 -> HR | E22: =IF(D22<>0,VLOOKUP(D22,$N$1:$O$15,2,FALSE),) -> 15 | F22: =IF(D22<>0,HLOOKUP($C$6,$P$1:$DV$15,E22,FALSE),) -> 48 | G22: =IF(F22<>0,HLOOKUP($C$6,$P$1:$DV$136,(A22+16),FALSE),) -> 0 | H22: =COUNTIF($P22:$DV22,"S")+COUNTIF($P22:$DV22,"A")+COUNTIF($P22:$DV22,"T")+COUNTIF($P22:$DV22,"B") -> 40 | I22: =COUNTIF($P22:$DV22,"E") -> 4 | J22: =COUNTIF($P22:$DV22,"X") -> 0 | K22: =IF(F22<>0,H22/F22,) -> 0.83333333 | L22: =IF(F22-H22<>0,I22/(F22-H22),) -> 0.5 | M22: =IF(F22-H22<>0,J22/(F22-H22),) -> 0 | P22: B | Q22: B | R22: B | T22: B | V22: B | W22: E | X22: B | Y22: B | AA22: B | AC22: B | AF22: B | AG22: B | AH22: E | AI22: E | AK22: B | AL22: B | AM22: B | AN22: B | AO22: B | AQ22: E | AR22: B | AS22: B | AT22: B | AU22: B | AX22: B | AZ22: B | BB22: B | BD22: B | BF22: B | BG22: B | BH22: B | BI22: B | BK22: B | BM22: B | BN22: B | BR22: B | BS22: B | BT22: B | BU22: B | BY22: B | BZ22: B | CA22: B | CB22: B | CD22: B | DX22: =B22 -> BRIDIER Michel | DY22: =C22 -> B | DZ22: =K22 -> 0.83333333 | EA22: =L22 -> 0.5 | EB22: =M22 -> 0
A23: 7 | B23: =Choristes!B8 -> CALVÈS Catherine | C23: =Choristes!C8 -> S | D23: =Choristes!G8 -> FS | E23: =IF(D23<>0,VLOOKUP(D23,$N$1:$O$15,2,FALSE),) -> 9 | F23: =IF(D23<>0,HLOOKUP($C$6,$P$1:$DV$15,E23,FALSE),) -> 45 | G23: =IF(F23<>0,HLOOKUP($C$6,$P$1:$DV$136,(A23+16),FALSE),) -> 0 | H23: =COUNTIF($P23:$DV23,"S")+COUNTIF($P23:$DV23,"A")+COUNTIF($P23:$DV23,"T")+COUNTIF($P23:$DV23,"B") -> 38 | I23: =COUNTIF($P23:$DV23,"E") -> 4 | J23: =COUNTIF($P23:$DV23,"X") -> 0 | K23: =IF(F23<>0,H23/F23,) -> 0.84444444 | L23: =IF(F23-H23<>0,I23/(F23-H23),) -> 0.57142857 | M23: =IF(F23-H23<>0,J23/(F23-H23),) -> 0 | P23: S | Q23: S | S23: S | U23: E | V23: S | W23: S | X23: S | Z23: S | AB23: E | AD23: S | AF23: S | AG23: S | AJ23: S | AL23: S | AM23: S | AN23: S | AP23: S | AQ23: S | AR23: S | AS23: S | AT23: S | AV23: S | AX23: S | AZ23: S | BC23: E | BE23: S | BF23: E | BG23: S | BH23: S | BI23: S | BL23: S | BM23: S | BO23: S | BR23: S | BS23: S | BT23: S | BV23: S | BY23: S | BZ23: S | CA23: S | CC23: S | CD23: S | DX23: =B23 -> CALVÈS Catherine | DY23: =C23 -> S | DZ23: =K23 -> 0.84444444 | EA23: =L23 -> 0.57142857 | EB23: =M23 -> 0
A24: 8 | B24: =Choristes!B9 -> CHANROND Guy | C24: =Choristes!C9 -> B | D24: =Choristes!G9 -> HS | E24: =IF(D24<>0,VLOOKUP(D24,$N$1:$O$15,2,FALSE),) -> 13 | F24: =IF(D24<>0,HLOOKUP($C$6,$P$1:$DV$15,E24,FALSE),) -> 48 | G24: =IF(F24<>0,HLOOKUP($C$6,$P$1:$DV$136,(A24+16),FALSE),) -> 0 | H24: =COUNTIF($P24:$DV24,"S")+COUNTIF($P24:$DV24,"A")+COUNTIF($P24:$DV24,"T")+COUNTIF($P24:$DV24,"B") -> 44 | I24: =COUNTIF($P24:$DV24,"E") -> 0 | J24: =COUNTIF($P24:$DV24,"X") -> 0 | K24: =IF(F24<>0,H24/F24,) -> 0.91666667 | L24: =IF(F24-H24<>0,I24/(F24-H24),) -> 0 | M24: =IF(F24-H24<>0,J24/(F24-H24),) -> 0 | P24: B | Q24: B | S24: B | U24: B | V24: B | W24: B | X24: B | Z24: B | AB24: B | AD24: B | AF24: B | AG24: B | AH24: B | AJ24: B | AK24: B | AL24: B | AM24: B | AN24: B | AP24: B | AQ24: B | AR24: B | AS24: B | AT24: B | AV24: B | AX24: B | AZ24: B | BC24: B | BE24: B | BF24: B | BG24: B | BH24: B | BI24: B | BL24: B | BM24: B | BO24: B | BR24: B | BS24: B | BT24: B | BV24: B | BY24: B | BZ24: B | CA24: B | CC24: B | CD24: B | DX24: =B24 -> CHANROND Guy | DY24: =C24 -> B | DZ24: =K24 -> 0.91666667 | EA24: =L24 -> 0 | EB24: =M24 -> 0
A25: 9 | B25: =Choristes!B10 -> CHARTIER Brigitte | C25: =Choristes!C10 -> A | D25: =Choristes!G10 -> FS | E25: =IF(D25<>0,VLOOKUP(D25,$N$1:$O$15,2,FALSE),) -> 9 | F25: =IF(D25<>0,HLOOKUP($C$6,$P$1:$DV$15,E25,FALSE),) -> 45 | G25: =IF(F25<>0,HLOOKUP($C$6,$P$1:$DV$136,(A25+16),FALSE),) -> 0 | H25: =COUNTIF($P25:$DV25,"S")+COUNTIF($P25:$DV25,"A")+COUNTIF($P25:$DV25,"T")+COUNTIF($P25:$DV25,"B") -> 38 | I25: =COUNTIF($P25:$DV25,"E") -> 4 | J25: =COUNTIF($P25:$DV25,"X") -> 0 | K25: =IF(F25<>0,H25/F25,) -> 0.84444444 | L25: =IF(F25-H25<>0,I25/(F25-H25),) -> 0.57142857 | M25: =IF(F25-H25<>0,J25/(F25-H25),) -> 0 | P25: A | Q25: A | S25: A | U25: A | V25: A | W25: A | X25: A | Z25: A | AB25: A | AD25: A | AF25: A | AG25: A | AJ25: A | AL25: A | AM25: A | AN25: A | AP25: A | AQ25: A | AR25: A | AS25: A | AT25: A | AV25: A | AX25: A | AZ25: A | BC25: E | BE25: E | BF25: A | BG25: A | BH25: A | BI25: A | BJ25: D | BL25: A | BM25: A | BO25: A | BR25: A | BS25: A | BT25: A | BV25: A | BY25: A | BZ25: A | CA25: A | CC25: E | CD25: E | DX25: =B25 -> CHARTIER Brigitte | DY25: =C25 -> A | DZ25: =K25 -> 0.84444444 | EA25: =L25 -> 0.57142857 | EB25: =M25 -> 0
A26: 10 | B26: =Choristes!B11 -> CHAT Nadine | C26: =Choristes!C11 -> A | D26: =Choristes!G11 -> FS | E26: =IF(D26<>0,VLOOKUP(D26,$N$1:$O$15,2,FALSE),) -> 9 | F26: =IF(D26<>0,HLOOKUP($C$6,$P$1:$DV$15,E26,FALSE),) -> 45 | G26: =IF(F26<>0,HLOOKUP($C$6,$P$1:$DV$136,(A26+16),FALSE),) -> 0 | H26: =COUNTIF($P26:$DV26,"S")+COUNTIF($P26:$DV26,"A")+COUNTIF($P26:$DV26,"T")+COUNTIF($P26:$DV26,"B") -> 38 | I26: =COUNTIF($P26:$DV26,"E") -> 1 | J26: =COUNTIF($P26:$DV26,"X") -> 3 | K26: =IF(F26<>0,H26/F26,) -> 0.84444444 | L26: =IF(F26-H26<>0,I26/(F26-H26),) -> 0.14285714 | M26: =IF(F26-H26<>0,J26/(F26-H26),) -> 0.42857143 | P26: A | Q26: A | S26: A | U26: A | V26: A | W26: A | X26: A | Z26: A | AB26: A | AD26: A | AF26: A | AG26: A | AJ26: A | AL26: A | AM26: A | AN26: A | AP26: A | AQ26: A | AR26: A | AS26: A | AT26: A | AV26: A | AX26: A | AZ26: A | BC26: E | BE26: A | BF26: A | BG26: A | BH26: A | BI26: A | BL26: X | BM26: A | BO26: A | BR26: A | BS26: A | BT26: A | BV26: X | BY26: A | BZ26: A | CA26: A | CC26: X | CD26: A | DX26: =B26 -> CHAT Nadine | DY26: =C26 -> A | DZ26: =K26 -> 0.84444444 | EA26: =L26 -> 0.14285714 | EB26: =M26 -> 0.42857143
A27: 11 | B27: =Choristes!B12 -> CLÉDAT (de) Hubert | C27: =Choristes!C12 -> T | D27: =Choristes!G12 -> HS | E27: =IF(D27<>0,VLOOKUP(D27,$N$1:$O$15,2,FALSE),) -> 13 | F27: =IF(D27<>0,HLOOKUP($C$6,$P$1:$DV$15,E27,FALSE),) -> 48 | G27: =IF(F27<>0,HLOOKUP($C$6,$P$1:$DV$136,(A27+16),FALSE),) -> 0 | H27: =COUNTIF($P27:$DV27,"S")+COUNTIF($P27:$DV27,"A")+COUNTIF($P27:$DV27,"T")+COUNTIF($P27:$DV27,"B") -> 36 | I27: =COUNTIF($P27:$DV27,"E") -> 5 | J27: =COUNTIF($P27:$DV27,"X") -> 2 | K27: =IF(F27<>0,H27/F27,) -> 0.75 | L27: =IF(F27-H27<>0,I27/(F27-H27),) -> 0.41666667 | M27: =IF(F27-H27<>0,J27/(F27-H27),) -> 0.16666667 | P27: T | Q27: T | S27: E | U27: T | V27: E | W27: E | X27: E | Z27: E | AB27: T | AD27: T | AF27: T | AG27: X | AH27: T | AJ27: T | AK27: T | AL27: T | AM27: T | AN27: T | AP27: T | AQ27: T | AR27: T | AS27: T | AT27: T | AV27: T | AX27: T | AZ27: T | BC27: T | BE27: T | BF27: T | BG27: T | BH27: T | BI27: T | BM27: T | BO27: T | BR27: X | BS27: T | BT27: T | BV27: T | BW27: D | BY27: T | BZ27: T | CA27: T | CC27: T | CD27: T | CH27: D | DX27: =B27 -> CLÉDAT (de) Hubert | DY27: =C27 -> T | DZ27: =K27 -> 0.75 | EA27: =L27 -> 0.41666667 | EB27: =M27 -> 0.16666667
A28: 12 | B28: =Choristes!B13 -> CLÉDAT (de) Renaud | C28: =Choristes!C13 -> T | D28: =Choristes!G13 -> HS | E28: =IF(D28<>0,VLOOKUP(D28,$N$1:$O$15,2,FALSE),) -> 13 | F28: =IF(D28<>0,HLOOKUP($C$6,$P$1:$DV$15,E28,FALSE),) -> 48 | G28: =IF(F28<>0,HLOOKUP($C$6,$P$1:$DV$136,(A28+16),FALSE),) -> 0 | H28: =COUNTIF($P28:$DV28,"S")+COUNTIF($P28:$DV28,"A")+COUNTIF($P28:$DV28,"T")+COUNTIF($P28:$DV28,"B") -> 38 | I28: =COUNTIF($P28:$DV28,"E") -> 6 | J28: =COUNTIF($P28:$DV28,"X") -> 0 | K28: =IF(F28<>0,H28/F28,) -> 0.79166667 | L28: =IF(F28-H28<>0,I28/(F28-H28),) -> 0.6 | M28: =IF(F28-H28<>0,J28/(F28-H28),) -> 0 | P28: T | Q28: T | S28: T | U28: T | V28: T | W28: T | X28: T | Z28: T | AB28: T | AD28: T | AF28: T | AG28: T | AH28: T | AJ28: T | AK28: T | AL28: T | AM28: T | AN28: T | AP28: E | AQ28: E | AR28: E | AS28: E | AT28: E | AV28: E | AX28: T | AZ28: T | BC28: T | BE28: T | BF28: T | BG28: T | BH28: T | BI28: T | BL28: T | BM28: T | BO28: T | BR28: T | BS28: T | BT28: T | BV28: T | BY28: T | BZ28: T | CA28: T | CC28: T | CD28: T | CH28: D | DX28: =B28 -> CLÉDAT (de) Renaud | DY28: =C28 -> T | DZ28: =K28 -> 0.79166667 | EA28: =L28 -> 0.6 | EB28: =M28 -> 0
A29: 13 | B29: =Choristes!B14 -> COUANON Jocelyne | C29: =Choristes!C14 -> S | D29: =Choristes!G14 -> FR | E29: =IF(D29<>0,VLOOKUP(D29,$N$1:$O$15,2,FALSE),) -> 11 | F29: =IF(D29<>0,HLOOKUP($C$6,$P$1:$DV$15,E29,FALSE),) -> 45 | G29: =IF(F29<>0,HLOOKUP($C$6,$P$1:$DV$136,(A29+16),FALSE),) -> 0 | H29: =COUNTIF($P29:$DV29,"S")+COUNTIF($P29:$DV29,"A")+COUNTIF($P29:$DV29,"T")+COUNTIF($P29:$DV29,"B") -> 32 | I29: =COUNTIF($P29:$DV29,"E") -> 8 | J29: =COUNTIF($P29:$DV29,"X") -> 2 | K29: =IF(F29<>0,H29/F29,) -> 0.71111111 | L29: =IF(F29-H29<>0,I29/(F29-H29),) -> 0.61538462 | M29: =IF(F29-H29<>0,J29/(F29-H29),) -> 0.15384615 | P29: S | Q29: S | R29: S | T29: S | V29: E | W29: E | X29: E | Y29: E | AA29: E | AC29: S | AF29: E | AG29: E | AI29: S | AL29: S | AM29: S | AN29: S | AO29: S | AQ29: E | AR29: S | AS29: S | AT29: S | AU29: S | AX29: S | AZ29: S | BB29: X | BD29: S | BF29: S | BG29: S | BH29: S | BI29: X | BK29: S | BM29: S | BN29: S | BR29: S | BS29: S | BT29: S | BU29: S | BY29: S | BZ29: S | CA29: S | CB29: S | CD29: S | CH29: D | DX29: =B29 -> COUANON Jocelyne | DY29: =C29 -> S | DZ29: =K29 -> 0.71111111 | EA29: =L29 -> 0.61538462 | EB29: =M29 -> 0.15384615
A30: 14 | B30: =Choristes!B15 -> COUPRIE Gérard | C30: =Choristes!C15 -> B | D30: =Choristes!G15 -> HS | E30: =IF(D30<>0,VLOOKUP(D30,$N$1:$O$15,2,FALSE),) -> 13 | F30: =IF(D30<>0,HLOOKUP($C$6,$P$1:$DV$15,E30,FALSE),) -> 48 | G30: =IF(F30<>0,HLOOKUP($C$6,$P$1:$DV$136,(A30+16),FALSE),) -> 0 | H30: =COUNTIF($P30:$DV30,"S")+COUNTIF($P30:$DV30,"A")+COUNTIF($P30:$DV30,"T")+COUNTIF($P30:$DV30,"B") -> 37 | I30: =COUNTIF($P30:$DV30,"E") -> 7 | J30: =COUNTIF($P30:$DV30,"X") -> 0 | K30: =IF(F30<>0,H30/F30,) -> 0.77083333 | L30: =IF(F30-H30<>0,I30/(F30-H30),) -> 0.63636364 | M30: =IF(F30-H30<>0,J30/(F30-H30),) -> 0 | P30: E | Q30: E | S30: B | U30: B | V30: B | W30: B | X30: B | Z30: B | AB30: B | AD30: B | AF30: B | AG30: B | AH30: B | AJ30: B | AK30: E | AL30: E | AM30: B | AN30: B | AP30: B | AQ30: B | AR30: B | AS30: B | AT30: B | AV30: B | AX30: B | AZ30: E | BC30: B | BE30: B | BF30: B | BG30: B | BH30: B | BI30: B | BL30: B | BM30: B | BO30: E | BR30: E | BS30: B | BT30: B | BV30: B | BY30: B | BZ30: B | CA30: B | CC30: B | CD30: B | DX30: =B30 -> COUPRIE Gérard | DY30: =C30 -> B | DZ30: =K30 -> 0.77083333 | EA30: =L30 -> 0.63636364 | EB30: =M30 -> 0
A31: 15 | B31: =Choristes!B16 -> CURTAROLO Annie | C31: =Choristes!C16 -> A | D31: =Choristes!G16 -> FS | E31: =IF(D31<>0,VLOOKUP(D31,$N$1:$O$15,2,FALSE),) -> 9 | F31: =IF(D31<>0,HLOOKUP($C$6,$P$1:$DV$15,E31,FALSE),) -> 45 | G31: =IF(F31<>0,HLOOKUP($C$6,$P$1:$DV$136,(A31+16),FALSE),) -> 0 | H31: =COUNTIF($P31:$DV31,"S")+COUNTIF($P31:$DV31,"A")+COUNTIF($P31:$DV31,"T")+COUNTIF($P31:$DV31,"B") -> 34 | I31: =COUNTIF($P31:$DV31,"E") -> 4 | J31: =COUNTIF($P31:$DV31,"X") -> 4 | K31: =IF(F31<>0,H31/F31,) -> 0.75555556 | L31: =IF(F31-H31<>0,I31/(F31-H31),) -> 0.36363636 | M31: =IF(F31-H31<>0,J31/(F31-H31),) -> 0.36363636 | P31: A | Q31: A | S31: A | U31: A | V31: E | W31: A | X31: A | Z31: A | AB31: A | AD31: A | AF31: A | AG31: A | AJ31: X | AL31: E | AM31: E | AN31: E | AP31: X | AQ31: A | AR31: A | AS31: A | AT31: A | AV31: A | AX31: A | AZ31: A | BC31: A | BE31: A | BF31: A | BG31: X | BH31: A | BI31: X | BL31: A | BM31: A | BO31: A | BR31: A | BS31: A | BT31: A | BV31: A | BY31: A | BZ31: A | CA31: A | CC31: A | CD31: A | DX31: =B31 -> CURTAROLO Annie | DY31: =C31 -> A | DZ31: =K31 -> 0.75555556 | EA31: =L31 -> 0.36363636 | EB31: =M31 -> 0.36363636
A32: 16 | B32: =Choristes!B17 -> DEJENNE Gérard | C32: =Choristes!C17 -> B | D32: =Choristes!G17 -> HS | E32: =IF(D32<>0,VLOOKUP(D32,$N$1:$O$15,2,FALSE),) -> 13 | F32: =IF(D32<>0,HLOOKUP($C$6,$P$1:$DV$15,E32,FALSE),) -> 48 | G32: =IF(F32<>0,HLOOKUP($C$6,$P$1:$DV$136,(A32+16),FALSE),) -> 0 | H32: =COUNTIF($P32:$DV32,"S")+COUNTIF($P32:$DV32,"A")+COUNTIF($P32:$DV32,"T")+COUNTIF($P32:$DV32,"B") -> 13 | I32: =COUNTIF($P32:$DV32,"E") -> 5 | J32: =COUNTIF($P32:$DV32,"X") -> 26 | K32: =IF(F32<>0,H32/F32,) -> 0.27083333 | L32: =IF(F32-H32<>0,I32/(F32-H32),) -> 0.14285714 | M32: =IF(F32-H32<>0,J32/(F32-H32),) -> 0.74285714 | P32: B | Q32: B | S32: X | U32: X | V32: X | W32: X | X32: X | Z32: X | AB32: X | AD32: X | AF32: E | AG32: E | AH32: X | AJ32: X | AK32: B | AL32: B | AM32: B | AN32: B | AP32: X | AQ32: X | AR32: X | AS32: X | AT32: X | AV32: E | AX32: E | AZ32: E | BC32: X | BE32: X | BF32: X | BG32: B | BH32: X | BI32: X | BL32: X | BM32: X | BO32: X | BR32: X | BS32: B | BT32: B | BV32: X | BY32: B | BZ32: B | CA32: B | CC32: X | CD32: B | DX32: =B32 -> DEJENNE Gérard | DY32: =C32 -> B | DZ32: =K32 -> 0.27083333 | EA32: =L32 -> 0.14285714 | EB32: =M32 -> 0.74285714
A33: 17 | B33: =Choristes!B18 -> DEMAY Bernard | C33: =Choristes!C18 -> B | D33: =Choristes!G18 -> HR | E33: =IF(D33<>0,VLOOKUP(D33,$N$1:$O$15,2,FALSE),) -> 15 | F33: =IF(D33<>0,HLOOKUP($C$6,$P$1:$DV$15,E33,FALSE),) -> 48 | G33: =IF(F33<>0,HLOOKUP($C$6,$P$1:$DV$136,(A33+16),FALSE),) -> 0 | H33: =COUNTIF($P33:$DV33,"S")+COUNTIF($P33:$DV33,"A")+COUNTIF($P33:$DV33,"T")+COUNTIF($P33:$DV33,"B") -> 39 | I33: =COUNTIF($P33:$DV33,"E") -> 2 | J33: =COUNTIF($P33:$DV33,"X") -> 3 | K33: =IF(F33<>0,H33/F33,) -> 0.8125 | L33: =IF(F33-H33<>0,I33/(F33-H33),) -> 0.22222222 | M33: =IF(F33-H33<>0,J33/(F33-H33),) -> 0.33333333 | P33: B | Q33: B | R33: E | T33: B | V33: X | W33: B | X33: B | Y33: B | AA33: B | AC33: B | AF33: B | AG33: B | AH33: B | AI33: B | AK33: B | AL33: B | AM33: B | AN33: B | AO33: B | AQ33: B | AR33: B | AS33: B | AT33: B | AU33: B | AX33: B | AZ33: X | BB33: X | BD33: B | BF33: B | BG33: B | BH33: B | BI33: B | BK33: B | BM33: B | BN33: B | BR33: B | BS33: B | BT33: B | BU33: B | BY33: E | BZ33: B | CA33: B | CB33: B | CD33: B | DX33: =B33 -> DEMAY Bernard | DY33: =C33 -> B | DZ33: =K33 -> 0.8125 | EA33: =L33 -> 0.22222222 | EB33: =M33 -> 0.33333333
A34: 18 | B34: =Choristes!B19 -> DESCOLAS Pascale | C34: =Choristes!C19 -> A | D34: =Choristes!G19 -> FR | E34: =IF(D34<>0,VLOOKUP(D34,$N$1:$O$15,2,FALSE),) -> 11 | F34: =IF(D34<>0,HLOOKUP($C$6,$P$1:$DV$15,E34,FALSE),) -> 45 | G34: =IF(F34<>0,HLOOKUP($C$6,$P$1:$DV$136,(A34+16),FALSE),) -> 0 | H34: =COUNTIF($P34:$DV34,"S")+COUNTIF($P34:$DV34,"A")+COUNTIF($P34:$DV34,"T")+COUNTIF($P34:$DV34,"B") -> 40 | I34: =COUNTIF($P34:$DV34,"E") -> 2 | J34: =COUNTIF($P34:$DV34,"X") -> 0 | K34: =IF(F34<>0,H34/F34,) -> 0.88888889 | L34: =IF(F34-H34<>0,I34/(F34-H34),) -> 0.4 | M34: =IF(F34-H34<>0,J34/(F34-H34),) -> 0 | P34: A | Q34: A | R34: A | T34: A | V34: A | W34: A | X34: A | Y34: A | AA34: A | AC34: A | AF34: A | AG34: A | AI34: A | AL34: A | AM34: A | AN34: A | AO34: A | AQ34: A | AR34: A | AS34: A | AT34: A | AU34: A | AX34: A | AZ34: E | BB34: A | BD34: A | BF34: A | BG34: A | BH34: A | BI34: A | BK34: A | BM34: A | BN34: A | BR34: A | BS34: A | BT34: A | BU34: A | BY34: A | BZ34: A | CA34: A | CB34: A | CD34: E | DX34: =B34 -> DESCOLAS Pascale | DY34: =C34 -> A | DZ34: =K34 -> 0.88888889 | EA34: =L34 -> 0.4 | EB34: =M34 -> 0
A35: 19 | B35: =Choristes!B20 -> DÉSIER Josée | C35: =Choristes!C20 -> S | D35: =Choristes!G20 -> FS | E35: =IF(D35<>0,VLOOKUP(D35,$N$1:$O$15,2,FALSE),) -> 9 | F35: =IF(D35<>0,HLOOKUP($C$6,$P$1:$DV$15,E35,FALSE),) -> 45 | G35: =IF(F35<>0,HLOOKUP($C$6,$P$1:$DV$136,(A35+16),FALSE),) -> 0 | H35: =COUNTIF($P35:$DV35,"S")+COUNTIF($P35:$DV35,"A")+COUNTIF($P35:$DV35,"T")+COUNTIF($P35:$DV35,"B") -> 38 | I35: =COUNTIF($P35:$DV35,"E") -> 4 | J35: =COUNTIF($P35:$DV35,"X") -> 0 | K35: =IF(F35<>0,H35/F35,) -> 0.84444444 | L35: =IF(F35-H35<>0,I35/(F35-H35),) -> 0.57142857 | M35: =IF(F35-H35<>0,J35/(F35-H35),) -> 0 | P35: S | Q35: S | S35: S | U35: S | V35: S | W35: S | X35: S | Z35: S | AB35: S | AD35: S | AF35: S | AG35: S | AJ35: S | AL35: S | AM35: S | AN35: S | AP35: S | AQ35: S | AR35: E | AS35: E | AT35: E | AV35: S | AX35: S | AZ35: S | BC35: S | BE35: S | BF35: S | BG35: S | BH35: S | BI35: S | BL35: S | BM35: S | BO35: S | BR35: S | BS35: S | BT35: S | BV35: E | BY35: S | BZ35: S | CA35: S | CC35: S | CD35: S | DX35: =B35 -> DÉSIER Josée | DY35: =C35 -> S | DZ35: =K35 -> 0.84444444 | EA35: =L35 -> 0.57142857 | EB35: =M35 -> 0
A36: 20 | B36: =Choristes!B21 -> DÉSIER Pascal | C36: =Choristes!C21 -> T | D36: =Choristes!G21 -> HS | E36: =IF(D36<>0,VLOOKUP(D36,$N$1:$O$15,2,FALSE),) -> 13 | F36: =IF(D36<>0,HLOOKUP($C$6,$P$1:$DV$15,E36,FALSE),) -> 48 | G36: =IF(F36<>0,HLOOKUP($C$6,$P$1:$DV$136,(A36+16),FALSE),) -> 0 | H36: =COUNTIF($P36:$DV36,"S")+COUNTIF($P36:$DV36,"A")+COUNTIF($P36:$DV36,"T")+COUNTIF($P36:$DV36,"B") -> 38 | I36: =COUNTIF($P36:$DV36,"E") -> 5 | J36: =COUNTIF($P36:$DV36,"X") -> 1 | K36: =IF(F36<>0,H36/F36,) -> 0.79166667 | L36: =IF(F36-H36<>0,I36/(F36-H36),) -> 0.5 | M36: =IF(F36-H36<>0,J36/(F36-H36),) -> 0.1 | P36: X | Q36: T | S36: T | U36: T | V36: T | W36: T | X36: T | Z36: T | AB36: T | AD36: T | AF36: T | AG36: T | AH36: T | AJ36: T | AK36: E | AL36: T | AM36: T | AN36: T | AP36: T | AQ36: T | AR36: E | AS36: E | AT36: E | AV36: T | AX36: T | AZ36: T | BC36: T | BE36: T | BF36: T | BG36: T | BH36: T | BI36: T | BL36: T | BM36: T | BO36: T | BR36: T | BS36: T | BT36: T | BV36: E | BY36: T | BZ36: T | CA36: T | CC36: T | CD36: T | DX36: =B36 -> DÉSIER Pascal | DY36: =C36 -> T | DZ36: =K36 -> 0.79166667 | EA36: =L36 -> 0.5 | EB36: =M36 -> 0.1
A37: 21 | B37: =Choristes!B22 -> DESPLATS Catherine | C37: =Choristes!C22 -> A | D37: =Choristes!G22 -> FR | E37: =IF(D37<>0,VLOOKUP(D37,$N$1:$O$15,2,FALSE),) -> 11 | F37: =IF(D37<>0,HLOOKUP($C$6,$P$1:$DV$15,E37,FALSE),) -> 45 | G37: =IF(F37<>0,HLOOKUP($C$6,$P$1:$DV$136,(A37+16),FALSE),) -> 0 | H37: =COUNTIF($P37:$DV37,"S")+COUNTIF($P37:$DV37,"A")+COUNTIF($P37:$DV37,"T")+COUNTIF($P37:$DV37,"B") -> 36 | I37: =COUNTIF($P37:$DV37,"E") -> 6 | J37: =COUNTIF($P37:$DV37,"X") -> 0 | K37: =IF(F37<>0,H37/F37,) -> 0.8 | L37: =IF(F37-H37<>0,I37/(F37-H37),) -> 0.66666667 | M37: =IF(F37-H37<>0,J37/(F37-H37),) -> 0 | P37: E | Q37: E | R37: A | T37: A | V37: A | W37: A | X37: A | Y37: A | AA37: A | AC37: A | AF37: A | AG37: A | AI37: A | AL37: A | AM37: A | AN37: A | AO37: A | AQ37: A | AR37: A | AS37: A | AT37: A | AU37: A | AX37: A | AZ37: A | BB37: A | BD37: E | BF37: A | BG37: A | BH37: E | BI37: E | BK37: A | BM37: A | BN37: A | BR37: A | BS37: A | BT37: A | BU37: A | BY37: A | BZ37: A | CA37: A | CB37: A | CD37: E | CE37: D | CF37: D | CG37: D | DX37: =B37 -> DESPLATS Catherine | DY37: =C37 -> A | DZ37: =K37 -> 0.8 | EA37: =L37 -> 0.66666667 | EB37: =M37 -> 0
A38: 22 | B38: =Choristes!B23 -> DUFFAUD Sarah | C38: =Choristes!C23 -> A | D38: =Choristes!G23 -> FS | E38: =IF(D38<>0,VLOOKUP(D38,$N$1:$O$15,2,FALSE),) -> 9 | F38: =IF(D38<>0,HLOOKUP($C$6,$P$1:$DV$15,E38,FALSE),) -> 45 | G38: =IF(F38<>0,HLOOKUP($C$6,$P$1:$DV$136,(A38+16),FALSE),) -> 0 | H38: =COUNTIF($P38:$DV38,"S")+COUNTIF($P38:$DV38,"A")+COUNTIF($P38:$DV38,"T")+COUNTIF($P38:$DV38,"B") -> 30 | I38: =COUNTIF($P38:$DV38,"E") -> 4 | J38: =COUNTIF($P38:$DV38,"X") -> 7 | K38: =IF(F38<>0,H38/F38,) -> 0.66666667 | L38: =IF(F38-H38<>0,I38/(F38-H38),) -> 0.26666667 | M38: =IF(F38-H38<>0,J38/(F38-H38),) -> 0.46666667 | P38: A | Q38: A | S38: A | U38: X | V38: X | W38: X | X38: X | Z38: A | AB38: A | AD38: A | AF38: A | AG38: A | AJ38: A | AL38: X | AM38: X | AN38: A | AP38: A | AQ38: A | AR38: A | AS38: A | AT38: A | AV38: A | AX38: E | AZ38: A | BC38: E | BE38: A | BF38: A | BG38: A | BH38: A | BI38: A | BL38: A | BM38: A | BO38: A | BR38: A | BS38: A | BT38: X | BV38: A | BY38: D | BZ38: E | CA38: E | CC38: A | CD38: A | CE38: D | CF38: D | CG38: D | CJ38: D | CK38: D | CL38: D | CM38: D | CO38: D | CP38: D | DX38: =B38 -> DUFFAUD Sarah | DY38: =C38 -> A | DZ38: =K38 -> 0.66666667 | EA38: =L38 -> 0.26666667 | EB38: =M38 -> 0.46666667
A40: 24 | B40: =Choristes!B25 -> FALTOT Véronique | C40: =Choristes!C25 -> S | D40: =Choristes!G25 -> FR | E40: =IF(D40<>0,VLOOKUP(D40,$N$1:$O$15,2,FALSE),) -> 11 | F40: =IF(D40<>0,HLOOKUP($C$6,$P$1:$DV$15,E40,FALSE),) -> 45 | G40: =IF(F40<>0,HLOOKUP($C$6,$P$1:$DV$136,(A40+16),FALSE),) -> 0 | H40: =COUNTIF($P40:$DV40,"S")+COUNTIF($P40:$DV40,"A")+COUNTIF($P40:$DV40,"T")+COUNTIF($P40:$DV40,"B") -> 40 | I40: =COUNTIF($P40:$DV40,"E") -> 2 | J40: =COUNTIF($P40:$DV40,"X") -> 0 | K40: =IF(F40<>0,H40/F40,) -> 0.88888889 | L40: =IF(F40-H40<>0,I40/(F40-H40),) -> 0.4 | M40: =IF(F40-H40<>0,J40/(F40-H40),) -> 0 | P40: S | Q40: S | R40: S | T40: S | V40: S | W40: S | X40: S | Y40: S | AA40: S | AC40: S | AF40: S | AG40: S | AI40: S | AL40: S | AM40: S | AN40: S | AO40: S | AQ40: E | AR40: S | AS40: S | AT40: S | AU40: S | AX40: S | AZ40: S | BB40: S | BD40: S | BF40: S | BG40: S | BH40: S | BI40: S | BK40: S | BM40: S | BN40: S | BR40: S | BS40: S | BT40: S | BU40: S | BY40: S | BZ40: S | CA40: S | CB40: S | CD40: E | DX40: =B40 -> FALTOT Véronique | DY40: =C40 -> S | DZ40: =K40 -> 0.88888889 | EA40: =L40 -> 0.4 | EB40: =M40 -> 0
A41: 25 | B41: =Choristes!B26 -> FERRAZ Hélène | C41: =Choristes!C26 -> A | D41: =Choristes!G26 -> FS | E41: =IF(D41<>0,VLOOKUP(D41,$N$1:$O$15,2,FALSE),) -> 9 | F41: =IF(D41<>0,HLOOKUP($C$6,$P$1:$DV$15,E41,FALSE),) -> 45 | G41: =IF(F41<>0,HLOOKUP($C$6,$P$1:$DV$136,(A41+16),FALSE),) -> 0 | H41: =COUNTIF($P41:$DV41,"S")+COUNTIF($P41:$DV41,"A")+COUNTIF($P41:$DV41,"T")+COUNTIF($P41:$DV41,"B") -> 41 | I41: =COUNTIF($P41:$DV41,"E") -> 0 | J41: =COUNTIF($P41:$DV41,"X") -> 1 | K41: =IF(F41<>0,H41/F41,) -> 0.91111111 | L41: =IF(F41-H41<>0,I41/(F41-H41),) -> 0 | M41: =IF(F41-H41<>0,J41/(F41-H41),) -> 0.25 | P41: A | Q41: A | S41: A | U41: A | V41: A | W41: A | X41: A | Z41: A | AB41: A | AD41: A | AF41: A | AG41: A | AJ41: A | AL41: A | AM41: A | AN41: A | AP41: A | AQ41: A | AR41: A | AS41: A | AT41: A | AV41: A | AX41: A | AZ41: A | BC41: A | BE41: A | BF41: A | BG41: X | BH41: A | BI41: A | BL41: A | BM41: A | BO41: A | BR41: A | BS41: A | BT41: A | BV41: A | BY41: A | BZ41: A | CA41: A | CC41: A | CD41: A | DX41: =B41 -> FERRAZ Hélène | DY41: =C41 -> A | DZ41: =K41 -> 0.91111111 | EA41: =L41 -> 0 | EB41: =M41 -> 0.25
A42: 26 | B42: =Choristes!B27 -> FONGOND Danielle | C42: =Choristes!C27 -> A | D42: =Choristes!G27 -> FS | E42: =IF(D42<>0,VLOOKUP(D42,$N$1:$O$15,2,FALSE),) -> 9 | F42: =IF(D42<>0,HLOOKUP($C$6,$P$1:$DV$15,E42,FALSE),) -> 45 | G42: =IF(F42<>0,HLOOKUP($C$6,$P$1:$DV$136,(A42+16),FALSE),) -> 0 | H42: =COUNTIF($P42:$DV42,"S")+COUNTIF($P42:$DV42,"A")+COUNTIF($P42:$DV42,"T")+COUNTIF($P42:$DV42,"B") -> 37 | I42: =COUNTIF($P42:$DV42,"E") -> 1 | J42: =COUNTIF($P42:$DV42,"X") -> 4 | K42: =IF(F42<>0,H42/F42,) -> 0.82222222 | L42: =IF(F42-H42<>0,I42/(F42-H42),) -> 0.125 | M42: =IF(F42-H42<>0,J42/(F42-H42),) -> 0.5 | P42: A | Q42: X | S42: A | U42: A | V42: A | W42: A | X42: A | Z42: A | AB42: A | AD42: A | AF42: X | AG42: X | AJ42: A | AL42: A | AM42: A | AN42: A | AP42: A | AQ42: E | AR42: A | AS42: A | AT42: A | AV42: A | AX42: A | AZ42: A | BC42: A | BE42: A | BF42: A | BG42: A | BH42: A | BI42: A | BL42: A | BM42: A | BO42: A | BR42: A | BS42: A | BT42: X | BV42: A | BY42: A | BZ42: A | CA42: A | CC42: A | CD42: A | DX42: =B42 -> FONGOND Danielle | DY42: =C42 -> A | DZ42: =K42 -> 0.82222222 | EA42: =L42 -> 0.125 | EB42: =M42 -> 0.5
A43: 27 | B43: =Choristes!B28 -> FOUCAUD Catherine | C43: =Choristes!C28 -> S | D43: =Choristes!G28 -> FR | E43: =IF(D43<>0,VLOOKUP(D43,$N$1:$O$15,2,FALSE),) -> 11 | F43: =IF(D43<>0,HLOOKUP($C$6,$P$1:$DV$15,E43,FALSE),) -> 45 | G43: =IF(F43<>0,HLOOKUP($C$6,$P$1:$DV$136,(A43+16),FALSE),) -> 0 | H43: =COUNTIF($P43:$DV43,"S")+COUNTIF($P43:$DV43,"A")+COUNTIF($P43:$DV43,"T")+COUNTIF($P43:$DV43,"B") -> 35 | I43: =COUNTIF($P43:$DV43,"E") -> 7 | J43: =COUNTIF($P43:$DV43,"X") -> 0 | K43: =IF(F43<>0,H43/F43,) -> 0.77777778 | L43: =IF(F43-H43<>0,I43/(F43-H43),) -> 0.7 | M43: =IF(F43-H43<>0,J43/(F43-H43),) -> 0 | P43: S | Q43: S | R43: S | T43: S | V43: S | W43: S | X43: S | Y43: E | AA43: S | AC43: S | AF43: S | AG43: S | AI43: S | AL43: S | AM43: S | AN43: S | AO43: S | AQ43: E | AR43: S | AS43: S | AT43: S | AU43: S | AX43: S | AZ43: S | BB43: E | BD43: S | BF43: S | BG43: S | BH43: S | BI43: E | BK43: S | BM43: E | BN43: E | BR43: S | BS43: S | BT43: S | BU43: S | BY43: S | BZ43: S | CA43: S | CB43: S | CD43: E | DX43: =B43 -> FOUCAUD Catherine | DY43: =C43 -> S | DZ43: =K43 -> 0.77777778 | EA43: =L43 -> 0.7 | EB43: =M43 -> 0
A44: 28 | B44: =Choristes!B29 -> FOUQUES Emmanuelle | C44: =Choristes!C29 -> S | D44: =Choristes!G29 -> FR | E44: =IF(D44<>0,VLOOKUP(D44,$N$1:$O$15,2,FALSE),) -> 11 | F44: =IF(D44<>0,HLOOKUP($C$6,$P$1:$DV$15,E44,FALSE),) -> 45 | G44: =IF(F44<>0,HLOOKUP($C$6,$P$1:$DV$136,(A44+16),FALSE),) -> 0 | H44: =COUNTIF($P44:$DV44,"S")+COUNTIF($P44:$DV44,"A")+COUNTIF($P44:$DV44,"T")+COUNTIF($P44:$DV44,"B") -> 28 | I44: =COUNTIF($P44:$DV44,"E") -> 5 | J44: =COUNTIF($P44:$DV44,"X") -> 9 | K44: =IF(F44<>0,H44/F44,) -> 0.62222222 | L44: =IF(F44-H44<>0,I44/(F44-H44),) -> 0.29411765 | M44: =IF(F44-H44<>0,J44/(F44-H44),) -> 0.52941176 | P44: E | Q44: E | R44: S | T44: S | V44: E | W44: E | X44: E | Y44: S | AA44: S | AC44: X | AF44: S | AG44: S | AI44: S | AL44: S | AM44: S | AN44: X | AO44: S | AQ44: X | AR44: X | AS44: X | AT44: X | AU44: S | AV44: D | AX44: S | AZ44: S | BB44: S | BD44: S | BF44: S | BG44: X | BH44: S | BI44: S | BK44: S | BM44: X | BN44: S | BP44: D | BR44: S | BS44: S | BT44: S | BU44: S | BY44: S | BZ44: S | CA44: S | CB44: X | CD44: S | CJ44: D | DX44: =B44 -> FOUQUES Emmanuelle | DY44: =C44 -> S | DZ44: =K44 -> 0.62222222 | EA44: =L44 -> 0.29411765 | EB44: =M44 -> 0.52941176
A45: 29 | B45: =Choristes!B30 -> GADÉ Luc | C45: =Choristes!C30 -> T | D45: =Choristes!G30 -> HR | E45: =IF(D45<>0,VLOOKUP(D45,$N$1:$O$15,2,FALSE),) -> 15 | F45: =IF(D45<>0,HLOOKUP($C$6,$P$1:$DV$15,E45,FALSE),) -> 48 | G45: =IF(F45<>0,HLOOKUP($C$6,$P$1:$DV$136,(A45+16),FALSE),) -> 0 | H45: =COUNTIF($P45:$DV45,"S")+COUNTIF($P45:$DV45,"A")+COUNTIF($P45:$DV45,"T")+COUNTIF($P45:$DV45,"B") -> 40 | I45: =COUNTIF($P45:$DV45,"E") -> 1 | J45: =COUNTIF($P45:$DV45,"X") -> 3 | K45: =IF(F45<>0,H45/F45,) -> 0.83333333 | L45: =IF(F45-H45<>0,I45/(F45-H45),) -> 0.125 | M45: =IF(F45-H45<>0,J45/(F45-H45),) -> 0.375 | P45: T | Q45: T | R45: T | T45: T | V45: T | W45: T | X45: T | Y45: T | AA45: T | AC45: T | AF45: T | AG45: T | AH45: T | AI45: T | AK45: T | AL45: T | AM45: X | AN45: X | AO45: T | AQ45: T | AR45: T | AS45: T | AT45: T | AU45: T | AX45: T | AZ45: T | BB45: T | BD45: T | BF45: T | BG45: T | BH45: T | BI45: T | BK45: T | BM45: X | BN45: T | BR45: T | BS45: T | BT45: T | BU45: T | BY45: T | BZ45: T | CA45: T | CB45: E | CD45: T | CH45: D | CL45: D | CM45: D | DX45: =B45 -> GADÉ Luc | DY45: =C45 -> T | DZ45: =K45 -> 0.83333333 | EA45: =L45 -> 0.125 | EB45: =M45 -> 0.375
A46: 30 | B46: =Choristes!B31 -> GALASSO Pierre | C46: =Choristes!C31 -> B | D46: =Choristes!G31 -> HS | E46: =IF(D46<>0,VLOOKUP(D46,$N$1:$O$15,2,FALSE),) -> 13 | F46: =IF(D46<>0,HLOOKUP($C$6,$P$1:$DV$15,E46,FALSE),) -> 48 | G46: =IF(F46<>0,HLOOKUP($C$6,$P$1:$DV$136,(A46+16),FALSE),) -> 0 | H46: =COUNTIF($P46:$DV46,"S")+COUNTIF($P46:$DV46,"A")+COUNTIF($P46:$DV46,"T")+COUNTIF($P46:$DV46,"B") -> 41 | I46: =COUNTIF($P46:$DV46,"E") -> 1 | J46: =COUNTIF($P46:$DV46,"X") -> 2 | K46: =IF(F46<>0,H46/F46,) -> 0.85416667 | L46: =IF(F46-H46<>0,I46/(F46-H46),) -> 0.14285714 | M46: =IF(F46-H46<>0,J46/(F46-H46),) -> 0.28571429 | P46: B | Q46: B | S46: B | U46: B | V46: X | W46: B | X46: B | Z46: B | AB46: B | AD46: B | AF46: B | AG46: B | AH46: B | AJ46: B | AK46: X | AL46: B | AM46: B | AN46: B | AP46: B | AQ46: B | AR46: B | AS46: B | AT46: B | AV46: B | AX46: E | AZ46: B | BC46: B | BE46: B | BF46: B | BG46: B | BH46: B | BI46: B | BL46: B | BM46: B | BO46: B | BR46: B | BS46: B | BT46: B | BV46: B | BY46: B | BZ46: B | CA46: B | CC46: B | CD46: B | DX46: =B46 -> GALASSO Pierre | DY46: =C46 -> B | DZ46: =K46 -> 0.85416667 | EA46: =L46 -> 0.14285714 | EB46: =M46 -> 0.28571429
A47: 31 | B47: =Choristes!B32 -> GANDRIAU Marie-Andrée | C47: =Choristes!C32 -> A | D47: =Choristes!G32 -> FR | E47: =IF(D47<>0,VLOOKUP(D47,$N$1:$O$15,2,FALSE),) -> 11 | F47: =IF(D47<>0,HLOOKUP($C$6,$P$1:$DV$15,E47,FALSE),) -> 45 | G47: =IF(F47<>0,HLOOKUP($C$6,$P$1:$DV$136,(A47+16),FALSE),) -> 0 | H47: =COUNTIF($P47:$DV47,"S")+COUNTIF($P47:$DV47,"A")+COUNTIF($P47:$DV47,"T")+COUNTIF($P47:$DV47,"B") -> 35 | I47: =COUNTIF($P47:$DV47,"E") -> 7 | J47: =COUNTIF($P47:$DV47,"X") -> 0 | K47: =IF(F47<>0,H47/F47,) -> 0.77777778 | L47: =IF(F47-H47<>0,I47/(F47-H47),) -> 0.7 | M47: =IF(F47-H47<>0,J47/(F47-H47),) -> 0 | P47: E | Q47: E | R47: E | T47: A | V47: E | W47: E | X47: E | Y47: A | AA47: A | AC47: A | AF47: A | AG47: A | AI47: E | AL47: A | AM47: A | AN47: A | AO47: A | AQ47: A | AR47: A | AS47: A | AT47: A | AU47: A | AX47: A | AZ47: A | BB47: A | BD47: A | BF47: A | BG47: A | BH47: A | BI47: A | BK47: A | BM47: A | BN47: A | BR47: A | BS47: A | BT47: A | BU47: A | BY47: A | BZ47: A | CA47: A | CB47: A | CD47: A | CG47: D | DX47: =B47 -> GANDRIAU Marie-Andrée | DY47: =C47 -> A | DZ47: =K47 -> 0.77777778 | EA47: =L47 -> 0.7 | EB47: =M47 -> 0
A48: 32 | B48: =Choristes!B33 -> GAROUFALAKIS Véronique | C48: =Choristes!C33 -> S | D48: =Choristes!G33 -> FS | E48: =IF(D48<>0,VLOOKUP(D48,$N$1:$O$15,2,FALSE),) -> 9 | F48: =IF(D48<>0,HLOOKUP($C$6,$P$1:$DV$15,E48,FALSE),) -> 45 | G48: =IF(F48<>0,HLOOKUP($C$6,$P$1:$DV$136,(A48+16),FALSE),) -> 0 | H48: =COUNTIF($P48:$DV48,"S")+COUNTIF($P48:$DV48,"A")+COUNTIF($P48:$DV48,"T")+COUNTIF($P48:$DV48,"B") -> 35 | I48: =COUNTIF($P48:$DV48,"E") -> 7 | J48: =COUNTIF($P48:$DV48,"X") -> 0 | K48: =IF(F48<>0,H48/F48,) -> 0.77777778 | L48: =IF(F48-H48<>0,I48/(F48-H48),) -> 0.7 | M48: =IF(F48-H48<>0,J48/(F48-H48),) -> 0 | P48: E | Q48: E | S48: S | U48: S | V48: E | W48: E | X48: E | Z48: E | AB48: S | AD48: S | AF48: S | AG48: S | AJ48: S | AL48: S | AM48: S | AN48: S | AP48: S | AQ48: S | AR48: S | AS48: S | AT48: S | AV48: S | AX48: S | AZ48: S | BC48: S | BE48: S | BF48: S | BG48: S | BH48: S | BI48: S | BL48: E | BM48: S | BO48: S | BR48: S | BS48: S | BT48: S | BV48: S | BY48: S | BZ48: S | CA48: S | CC48: S | CD48: S | DX48: =B48 -> GAROUFALAKIS Véronique | DY48: =C48 -> S | DZ48: =K48 -> 0.77777778 | EA48: =L48 -> 0.7 | EB48: =M48 -> 0
A49: 33 | B49: =Choristes!B34 -> GASPAR Mauricette | C49: =Choristes!C34 -> S | D49: =Choristes!G34 -> FS | E49: =IF(D49<>0,VLOOKUP(D49,$N$1:$O$15,2,FALSE),) -> 9 | F49: =IF(D49<>0,HLOOKUP($C$6,$P$1:$DV$15,E49,FALSE),) -> 45 | G49: =IF(F49<>0,HLOOKUP($C$6,$P$1:$DV$136,(A49+16),FALSE),) -> 0 | H49: =COUNTIF($P49:$DV49,"S")+COUNTIF($P49:$DV49,"A")+COUNTIF($P49:$DV49,"T")+COUNTIF($P49:$DV49,"B") -> 38 | I49: =COUNTIF($P49:$DV49,"E") -> 4 | J49: =COUNTIF($P49:$DV49,"X") -> 0 | K49: =IF(F49<>0,H49/F49,) -> 0.84444444 | L49: =IF(F49-H49<>0,I49/(F49-H49),) -> 0.57142857 | M49: =IF(F49-H49<>0,J49/(F49-H49),) -> 0 | P49: S | Q49: E | S49: S | U49: S | V49: S | W49: S | X49: S | Z49: S | AB49: S | AD49: S | AF49: S | AG49: S | AJ49: S | AL49: S | AM49: S | AN49: S | AP49: S | AQ49: E | AR49: E | AS49: S | AT49: S | AV49: S | AX49: S | AZ49: S | BC49: S | BE49: S | BF49: S | BG49: S | BH49: S | BI49: S | BL49: S | BM49: S | BO49: S | BR49: E | BS49: S | BT49: S | BV49: S | BY49: S | BZ49: S | CA49: S | CC49: S | CD49: S | DX49: =B49 -> GASPAR Mauricette | DY49: =C49 -> S | DZ49: =K49 -> 0.84444444 | EA49: =L49 -> 0.57142857 | EB49: =M49 -> 0
A50: 34 | B50: =Choristes!B35 -> GAUDIOT Danièle | C50: =Choristes!C35 -> A | D50: =Choristes!G35 -> FS | E50: =IF(D50<>0,VLOOKUP(D50,$N$1:$O$15,2,FALSE),) -> 9 | F50: =IF(D50<>0,HLOOKUP($C$6,$P$1:$DV$15,E50,FALSE),) -> 45 | G50: =IF(F50<>0,HLOOKUP($C$6,$P$1:$DV$136,(A50+16),FALSE),) -> 0 | H50: =COUNTIF($P50:$DV50,"S")+COUNTIF($P50:$DV50,"A")+COUNTIF($P50:$DV50,"T")+COUNTIF($P50:$DV50,"B") -> 41 | I50: =COUNTIF($P50:$DV50,"E") -> 1 | J50: =COUNTIF($P50:$DV50,"X") -> 0 | K50: =IF(F50<>0,H50/F50,) -> 0.91111111 | L50: =IF(F50-H50<>0,I50/(F50-H50),) -> 0.25 | M50: =IF(F50-H50<>0,J50/(F50-H50),) -> 0 | P50: A | Q50: A | S50: A | U50: A | V50: A | W50: A | X50: A | Z50: A | AB50: A | AD50: A | AF50: A | AG50: A | AJ50: A | AL50: A | AM50: A | AN50: A | AP50: A | AQ50: E | AR50: A | AS50: A | AT50: A | AV50: A | AX50: A | AZ50: A | BC50: A | BE50: A | BF50: A | BG50: A | BH50: A | BI50: A | BL50: A | BM50: A | BO50: A | BR50: A | BS50: A | BT50: A | BV50: A | BY50: A | BZ50: A | CA50: A | CC50: A | CD50: A | DX50: =B50 -> GAUDIOT Danièle | DY50: =C50 -> A | DZ50: =K50 -> 0.91111111 | EA50: =L50 -> 0.25 | EB50: =M50 -> 0
A51: 35 | B51: =Choristes!B36 -> GERMAIN Jean-Michel | C51: =Choristes!C36 -> B | D51: =Choristes!G36 -> HS | E51: =IF(D51<>0,VLOOKUP(D51,$N$1:$O$15,2,FALSE),) -> 13 | F51: =IF(D51<>0,HLOOKUP($C$6,$P$1:$DV$15,E51,FALSE),) -> 48 | G51: =IF(F51<>0,HLOOKUP($C$6,$P$1:$DV$136,(A51+16),FALSE),) -> 0 | H51: =COUNTIF($P51:$DV51,"S")+COUNTIF($P51:$DV51,"A")+COUNTIF($P51:$DV51,"T")+COUNTIF($P51:$DV51,"B") -> 37 | I51: =COUNTIF($P51:$DV51,"E") -> 2 | J51: =COUNTIF($P51:$DV51,"X") -> 5 | K51: =IF(F51<>0,H51/F51,) -> 0.77083333 | L51: =IF(F51-H51<>0,I51/(F51-H51),) -> 0.18181818 | M51: =IF(F51-H51<>0,J51/(F51-H51),) -> 0.45454545 | P51: B | Q51: B | S51: B | U51: E | V51: X | W51: B | X51: B | Z51: B | AB51: B | AD51: B | AF51: B | AG51: B | AH51: B | AJ51: B | AK51: B | AL51: B | AM51: B | AN51: B | AP51: B | AQ51: B | AR51: B | AS51: B | AT51: B | AV51: B | AX51: E | AZ51: B | BC51: X | BE51: B | BF51: B | BG51: B | BH51: B | BI51: B | BL51: X | BM51: X | BO51: B | BR51: B | BS51: B | BT51: B | BV51: X | BY51: B | BZ51: B | CA51: B | CC51: B | CD51: B | DX51: =B51 -> GERMAIN Jean-Michel | DY51: =C51 -> B | DZ51: =K51 -> 0.77083333 | EA51: =L51 -> 0.18181818 | EB51: =M51 -> 0.45454545
A52: 36 | B52: =Choristes!B37 -> GILL Robert | C52: =Choristes!C37 -> B | D52: =Choristes!G37 -> HS | E52: =IF(D52<>0,VLOOKUP(D52,$N$1:$O$15,2,FALSE),) -> 13 | F52: =IF(D52<>0,HLOOKUP($C$6,$P$1:$DV$15,E52,FALSE),) -> 48 | G52: =IF(F52<>0,HLOOKUP($C$6,$P$1:$DV$136,(A52+16),FALSE),) -> 0 | H52: =COUNTIF($P52:$DV52,"S")+COUNTIF($P52:$DV52,"A")+COUNTIF($P52:$DV52,"T")+COUNTIF($P52:$DV52,"B") -> 27 | I52: =COUNTIF($P52:$DV52,"E") -> 15 | J52: =COUNTIF($P52:$DV52,"X") -> 2 | K52: =IF(F52<>0,H52/F52,) -> 0.5625 | L52: =IF(F52-H52<>0,I52/(F52-H52),) -> 0.71428571 | M52: =IF(F52-H52<>0,J52/(F52-H52),) -> 0.095238095 | P52: B | Q52: B | S52: E | U52: E | V52: E | W52: E | X52: E | Z52: E | AB52: E | AD52: B | AF52: B | AG52: E | AH52: B | AJ52: B | AK52: X | AL52: B | AM52: B | AN52: B | AP52: B | AQ52: B | AR52: B | AS52: B | AT52: B | AV52: B | AX52: B | AZ52: B | BC52: X | BE52: E | BF52: E | BG52: E | BH52: E | BI52: E | BL52: B | BM52: B | BO52: B | BR52: B | BS52: B | BT52: B | BV52: B | BW52: D | BY52: B | BZ52: E | CA52: E | CC52: B | CD52: B | DX52: =B52 -> GILL Robert | DY52: =C52 -> B | DZ52: =K52 -> 0.5625 | EA52: =L52 -> 0.71428571 | EB52: =M52 -> 0.095238095
A53: 37 | B53: =Choristes!B38 -> GOUST Martine | C53: =Choristes!C38 -> A | D53: =Choristes!G38 -> FR | E53: =IF(D53<>0,VLOOKUP(D53,$N$1:$O$15,2,FALSE),) -> 11 | F53: =IF(D53<>0,HLOOKUP($C$6,$P$1:$DV$15,E53,FALSE),) -> 45 | G53: =IF(F53<>0,HLOOKUP($C$6,$P$1:$DV$136,(A53+16),FALSE),) -> 0 | H53: =COUNTIF($P53:$DV53,"S")+COUNTIF($P53:$DV53,"A")+COUNTIF($P53:$DV53,"T")+COUNTIF($P53:$DV53,"B") -> 38 | I53: =COUNTIF($P53:$DV53,"E") -> 4 | J53: =COUNTIF($P53:$DV53,"X") -> 0 | K53: =IF(F53<>0,H53/F53,) -> 0.84444444 | L53: =IF(F53-H53<>0,I53/(F53-H53),) -> 0.57142857 | M53: =IF(F53-H53<>0,J53/(F53-H53),) -> 0 | P53: E | Q53: E | R53: E | T53: A | V53: A | W53: A | X53: A | Y53: A | AA53: A | AC53: A | AF53: A | AG53: A | AI53: A | AL53: A | AM53: A | AN53: A | AO53: A | AQ53: A | AR53: A | AS53: A | AT53: A | AU53: A | AX53: A | AZ53: A | BB53: A | BD53: A | BF53: A | BG53: A | BH53: A | BI53: A | BK53: E | BM53: A | BN53: A | BP53: D | BR53: A | BS53: A | BT53: A | BU53: A | BY53: A | BZ53: A | CA53: A | CB53: A | CD53: A | CH53: D | DX53: =B53 -> GOUST Martine | DY53: =C53 -> A | DZ53: =K53 -> 0.84444444 | EA53: =L53 -> 0.57142857 | EB53: =M53 -> 0
A54: 38 | B54: =Choristes!B39 -> GUÉRIN Annick | C54: =Choristes!C39 -> A | D54: =Choristes!G39 -> FS | E54: =IF(D54<>0,VLOOKUP(D54,$N$1:$O$15,2,FALSE),) -> 9 | F54: =IF(D54<>0,HLOOKUP($C$6,$P$1:$DV$15,E54,FALSE),) -> 45 | G54: =IF(F54<>0,HLOOKUP($C$6,$P$1:$DV$136,(A54+16),FALSE),) -> 0 | H54: =COUNTIF($P54:$DV54,"S")+COUNTIF($P54:$DV54,"A")+COUNTIF($P54:$DV54,"T")+COUNTIF($P54:$DV54,"B") -> 40 | I54: =COUNTIF($P54:$DV54,"E") -> 2 | J54: =COUNTIF($P54:$DV54,"X") -> 0 | K54: =IF(F54<>0,H54/F54,) -> 0.88888889 | L54: =IF(F54-H54<>0,I54/(F54-H54),) -> 0.4 | M54: =IF(F54-H54<>0,J54/(F54-H54),) -> 0 | P54: A | Q54: A | S54: A | U54: A | V54: A | W54: A | X54: A | Z54: A | AB54: A | AD54: A | AF54: A | AG54: A | AJ54: A | AL54: A | AM54: A | AN54: A | AP54: A | AQ54: A | AR54: A | AS54: A | AT54: A | AV54: A | AX54: E | AZ54: A | BC54: A | BE54: A | BF54: A | BG54: A | BH54: A | BI54: A | BL54: A | BM54: A | BO54: A | BR54: A | BS54: A | BT54: A | BV54: A | BY54: A | BZ54: A | CA54: A | CC54: E | CD54: A | DX54: =B54 -> GUÉRIN Annick | DY54: =C54 -> A | DZ54: =K54 -> 0.88888889 | EA54: =L54 -> 0.4 | EB54: =M54 -> 0
A55: 39 | B55: =Choristes!B40 -> GUILLOT Brigitte | C55: =Choristes!C40 -> S | D55: =Choristes!G40 -> FS | E55: =IF(D55<>0,VLOOKUP(D55,$N$1:$O$15,2,FALSE),) -> 9 | F55: =IF(D55<>0,HLOOKUP($C$6,$P$1:$DV$15,E55,FALSE),) -> 45 | G55: =IF(F55<>0,HLOOKUP($C$6,$P$1:$DV$136,(A55+16),FALSE),) -> 0 | H55: =COUNTIF($P55:$DV55,"S")+COUNTIF($P55:$DV55,"A")+COUNTIF($P55:$DV55,"T")+COUNTIF($P55:$DV55,"B") -> 42 | I55: =COUNTIF($P55:$DV55,"E") -> 0 | J55: =COUNTIF($P55:$DV55,"X") -> 0 | K55: =IF(F55<>0,H55/F55,) -> 0.93333333 | L55: =IF(F55-H55<>0,I55/(F55-H55),) -> 0 | M55: =IF(F55-H55<>0,J55/(F55-H55),) -> 0 | P55: S | Q55: S | S55: S | U55: S | V55: S | W55: S | X55: S | Z55: S | AB55: S | AD55: S | AF55: S | AG55: S | AJ55: S | AL55: S | AM55: S | AN55: S | AP55: S | AQ55: S | AR55: S | AS55: S | AT55: S | AV55: S | AX55: S | AZ55: S | BC55: S | BE55: S | BF55: S | BG55: S | BH55: S | BI55: S | BL55: S | BM55: S | BO55: S | BR55: S | BS55: S | BT55: S | BV55: S | BY55: S | BZ55: S | CA55: S | CC55: S | CD55: S | DX55: =B55 -> GUILLOT Brigitte | DY55: =C55 -> S | DZ55: =K55 -> 0.93333333 | EA55: =L55 -> 0 | EB55: =M55 -> 0
A57: 41 | B57: =Choristes!B42 -> JOINIÉ-MAURIN Philippe | C57: =Choristes!C42 -> B | D57: =Choristes!G42 -> HS | E57: =IF(D57<>0,VLOOKUP(D57,$N$1:$O$15,2,FALSE),) -> 13 | F57: =IF(D57<>0,HLOOKUP($C$6,$P$1:$DV$15,E57,FALSE),) -> 48 | G57: =IF(F57<>0,HLOOKUP($C$6,$P$1:$DV$136,(A57+16),FALSE),) -> 0 | H57: =COUNTIF($P57:$DV57,"S")+COUNTIF($P57:$DV57,"A")+COUNTIF($P57:$DV57,"T")+COUNTIF($P57:$DV57,"B") -> 30 | I57: =COUNTIF($P57:$DV57,"E") -> 10 | J57: =COUNTIF($P57:$DV57,"X") -> 4 | K57: =IF(F57<>0,H57/F57,) -> 0.625 | L57: =IF(F57-H57<>0,I57/(F57-H57),) -> 0.55555556 | M57: =IF(F57-H57<>0,J57/(F57-H57),) -> 0.22222222 | P57: B | Q57: B | S57: B | U57: B | V57: E | W57: E | X57: E | Z57: B | AB57: B | AD57: B | AF57: B | AG57: B | AH57: B | AJ57: E | AK57: B | AL57: X | AM57: B | AN57: B | AP57: E | AQ57: B | AR57: X | AS57: X | AT57: X | AV57: B | AX57: B | AZ57: B | BC57: B | BE57: E | BF57: B | BG57: B | BH57: B | BI57: B | BL57: B | BM57: B | BO57: B | BP57: D | BQ57: D | BR57: E | BS57: E | BT57: E | BV57: B | BY57: B | BZ57: B | CA57: E | CC57: B | CD57: B | DX57: =B57 -> JOINIÉ-MAURIN Philippe | DY57: =C57 -> B | DZ57: =K57 -> 0.625 | EA57: =L57 -> 0.55555556 | EB57: =M57 -> 0.22222222
A58: 42 | B58: =Choristes!B43 -> JOLLIVET-BARON Sylvie | C58: =Choristes!C43 -> A | D58: =Choristes!G43 -> FR | E58: =IF(D58<>0,VLOOKUP(D58,$N$1:$O$15,2,FALSE),) -> 11 | F58: =IF(D58<>0,HLOOKUP($C$6,$P$1:$DV$15,E58,FALSE),) -> 45 | G58: =IF(F58<>0,HLOOKUP($C$6,$P$1:$DV$136,(A58+16),FALSE),) -> 0 | H58: =COUNTIF($P58:$DV58,"S")+COUNTIF($P58:$DV58,"A")+COUNTIF($P58:$DV58,"T")+COUNTIF($P58:$DV58,"B") -> 21 | I58: =COUNTIF($P58:$DV58,"E") -> 2 | J58: =COUNTIF($P58:$DV58,"X") -> 19 | K58: =IF(F58<>0,H58/F58,) -> 0.46666667 | L58: =IF(F58-H58<>0,I58/(F58-H58),) -> 0.083333333 | M58: =IF(F58-H58<>0,J58/(F58-H58),) -> 0.79166667 | P58: E | Q58: E | R58: A | T58: A | V58: A | W58: A | X58: A | Y58: A | AA58: A | AC58: A | AF58: X | AG58: X | AI58: A | AL58: X | AM58: X | AN58: X | AO58: A | AQ58: X | AR58: X | AS58: X | AT58: X | AU58: X | AX58: X | AZ58: X | BB58: X | BD58: A | BF58: X | BG58: X | BH58: A | BI58: A | BK58: A | BM58: X | BN58: X | BR58: A | BS58: A | BT58: A | BU58: A | BY58: A | BZ58: A | CA58: A | CB58: X | CD58: X | DX58: =B58 -> JOLLIVET-BARON Sylvie | DY58: =C58 -> A | DZ58: =K58 -> 0.46666667 | EA58: =L58 -> 0.083333333 | EB58: =M58 -> 0.79166667
A59: 43 | B59: =Choristes!B44 -> JOLLY Laure | C59: =Choristes!C44 -> A | D59: =Choristes!G44 -> FS | E59: =IF(D59<>0,VLOOKUP(D59,$N$1:$O$15,2,FALSE),) -> 9 | F59: =IF(D59<>0,HLOOKUP($C$6,$P$1:$DV$15,E59,FALSE),) -> 45 | G59: =IF(F59<>0,HLOOKUP($C$6,$P$1:$DV$136,(A59+16),FALSE),) -> 0 | H59: =COUNTIF($P59:$DV59,"S")+COUNTIF($P59:$DV59,"A")+COUNTIF($P59:$DV59,"T")+COUNTIF($P59:$DV59,"B") -> 31 | I59: =COUNTIF($P59:$DV59,"E") -> 6 | J59: =COUNTIF($P59:$DV59,"X") -> 5 | K59: =IF(F59<>0,H59/F59,) -> 0.68888889 | L59: =IF(F59-H59<>0,I59/(F59-H59),) -> 0.42857143 | M59: =IF(F59-H59<>0,J59/(F59-H59),) -> 0.35714286 | P59: A | Q59: A | S59: E | U59: A | V59: A | W59: A | X59: A | Z59: A | AB59: A | AD59: A | AF59: E | AG59: E | AJ59: A | AL59: A | AM59: A | AN59: A | AP59: X | AQ59: X | AR59: E | AS59: A | AT59: A | AV59: E | AX59: E | AZ59: X | BC59: A | BE59: A | BF59: A | BG59: A | BH59: A | BI59: X | BL59: A | BM59: X | BO59: A | BR59: A | BS59: A | BT59: A | BV59: A | BY59: A | BZ59: A | CA59: A | CC59: A | CD59: A | DX59: =B59 -> JOLLY Laure | DY59: =C59 -> A | DZ59: =K59 -> 0.68888889 | EA59: =L59 -> 0.42857143 | EB59: =M59 -> 0.35714286
A60: 44 | B60: =Choristes!B45 -> JOUBERT Ann | C60: =Choristes!C45 -> S | D60: =Choristes!G45 -> FS | E60: =IF(D60<>0,VLOOKUP(D60,$N$1:$O$15,2,FALSE),) -> 9 | F60: =IF(D60<>0,HLOOKUP($C$6,$P$1:$DV$15,E60,FALSE),) -> 45 | G60: =IF(F60<>0,HLOOKUP($C$6,$P$1:$DV$136,(A60+16),FALSE),) -> 0 | H60: =COUNTIF($P60:$DV60,"S")+COUNTIF($P60:$DV60,"A")+COUNTIF($P60:$DV60,"T")+COUNTIF($P60:$DV60,"B") -> 31 | I60: =COUNTIF($P60:$DV60,"E") -> 11 | J60: =COUNTIF($P60:$DV60,"X") -> 0 | K60: =IF(F60<>0,H60/F60,) -> 0.68888889 | L60: =IF(F60-H60<>0,I60/(F60-H60),) -> 0.78571429 | M60: =IF(F60-H60<>0,J60/(F60-H60),) -> 0 | P60: S | Q60: S | S60: E | U60: E | V60: E | W60: E | X60: E | Z60: S | AB60: S | AD60: S | AF60: S | AG60: S | AJ60: S | AL60: E | AM60: E | AN60: E | AP60: S | AQ60: S | AR60: S | AS60: S | AT60: S | AV60: S | AX60: S | AZ60: S | BC60: E | BE60: S | BF60: S | BG60: S | BH60: S | BI60: S | BL60: S | BM60: S | BO60: S | BR60: E | BS60: S | BT60: S | BV60: S | BY60: S | BZ60: S | CA60: S | CC60: E | CD60: S | DX60: =B60 -> JOUBERT Ann | DY60: =C60 -> S | DZ60: =K60 -> 0.68888889 | EA60: =L60 -> 0.78571429 | EB60: =M60 -> 0
A61: 45 | B61: =Choristes!B46 -> LACOSTE Olivier | C61: =Choristes!C46 -> B | D61: =Choristes!G46 -> HR | E61: =IF(D61<>0,VLOOKUP(D61,$N$1:$O$15,2,FALSE),) -> 15 | F61: =IF(D61<>0,HLOOKUP($C$6,$P$1:$DV$15,E61,FALSE),) -> 48 | G61: =IF(F61<>0,HLOOKUP($C$6,$P$1:$DV$136,(A61+16),FALSE),) -> 0 | H61: =COUNTIF($P61:$DV61,"S")+COUNTIF($P61:$DV61,"A")+COUNTIF($P61:$DV61,"T")+COUNTIF($P61:$DV61,"B") -> 33 | I61: =COUNTIF($P61:$DV61,"E") -> 1 | J61: =COUNTIF($P61:$DV61,"X") -> 10 | K61: =IF(F61<>0,H61/F61,) -> 0.6875 | L61: =IF(F61-H61<>0,I61/(F61-H61),) -> 0.066666667 | M61: =IF(F61-H61<>0,J61/(F61-H61),) -> 0.66666667 | P61: B | Q61: B | R61: B | T61: B | V61: B | W61: B | X61: B | Y61: B | AA61: B | AC61: B | AF61: B | AG61: B | AH61: X | AI61: B | AK61: B | AL61: B | AM61: X | AN61: X | AO61: B | AQ61: X | AR61: X | AS61: X | AT61: X | AU61: B | AX61: X | AZ61: E | BB61: B | BD61: B | BF61: B | BG61: B | BH61: B | BI61: B | BK61: B | BM61: X | BN61: B | BR61: B | BS61: B | BT61: B | BU61: B | BY61: B | BZ61: B | CA61: B | CB61: B | CD61: X | DX61: =B61 -> LACOSTE Olivier | DY61: =C61 -> B | DZ61: =K61 -> 0.6875 | EA61: =L61 -> 0.066666667 | EB61: =M61 -> 0.66666667
A62: 46 | B62: =Choristes!B47 -> LAFON Joëlle | C62: =Choristes!C47 -> A | D62: =Choristes!G47 -> FS | E62: =IF(D62<>0,VLOOKUP(D62,$N$1:$O$15,2,FALSE),) -> 9 | F62: =IF(D62<>0,HLOOKUP($C$6,$P$1:$DV$15,E62,FALSE),) -> 45 | G62: =IF(F62<>0,HLOOKUP($C$6,$P$1:$DV$136,(A62+16),FALSE),) -> 0 | H62: =COUNTIF($P62:$DV62,"S")+COUNTIF($P62:$DV62,"A")+COUNTIF($P62:$DV62,"T")+COUNTIF($P62:$DV62,"B") -> 34 | I62: =COUNTIF($P62:$DV62,"E") -> 7 | J62: =COUNTIF($P62:$DV62,"X") -> 1 | K62: =IF(F62<>0,H62/F62,) -> 0.75555556 | L62: =IF(F62-H62<>0,I62/(F62-H62),) -> 0.63636364 | M62: =IF(F62-H62<>0,J62/(F62-H62),) -> 0.090909091 | P62: A | Q62: A | S62: A | U62: A | V62: E | W62: A | X62: A | Z62: A | AB62: E | AD62: E | AF62: A | AG62: A | AJ62: A | AL62: A | AM62: A | AN62: A | AP62: A | AQ62: A | AR62: E | AS62: A | AT62: A | AV62: E | AX62: A | AZ62: A | BC62: A | BE62: A | BF62: X | BG62: A | BH62: A | BI62: A | BL62: E | BM62: A | BO62: A | BR62: A | BS62: A | BT62: A | BV62: A | BY62: A | BZ62: A | CA62: A | CC62: E | CD62: A | DX62: =B62 -> LAFON Joëlle | DY62: =C62 -> A | DZ62: =K62 -> 0.75555556 | EA62: =L62 -> 0.63636364 | EB62: =M62 -> 0.090909091
A63: 47 | B63: =Choristes!B48 -> LASSEN Carine | C63: =Choristes!C48 -> S | D63: =Choristes!G48 -> FS | E63: =IF(D63<>0,VLOOKUP(D63,$N$1:$O$15,2,FALSE),) -> 9 | F63: =IF(D63<>0,HLOOKUP($C$6,$P$1:$DV$15,E63,FALSE),) -> 45 | G63: =IF(F63<>0,HLOOKUP($C$6,$P$1:$DV$136,(A63+16),FALSE),) -> 0 | H63: =COUNTIF($P63:$DV63,"S")+COUNTIF($P63:$DV63,"A")+COUNTIF($P63:$DV63,"T")+COUNTIF($P63:$DV63,"B") -> 27 | I63: =COUNTIF($P63:$DV63,"E") -> 11 | J63: =COUNTIF($P63:$DV63,"X") -> 4 | K63: =IF(F63<>0,H63/F63,) -> 0.6 | L63: =IF(F63-H63<>0,I63/(F63-H63),) -> 0.61111111 | M63: =IF(F63-H63<>0,J63/(F63-H63),) -> 0.22222222 | P63: S | Q63: S | S63: S | U63: E | V63: E | W63: E | X63: E | Z63: S | AB63: S | AD63: S | AF63: E | AG63: E | AJ63: S | AL63: S | AM63: S | AN63: E | AP63: S | AQ63: S | AR63: E | AS63: E | AT63: E | AV63: S | AX63: S | AZ63: S | BC63: S | BE63: S | BF63: X | BG63: X | BH63: X | BI63: X | BL63: S | BM63: S | BO63: S | BR63: E | BS63: S | BT63: S | BV63: S | BY63: S | BZ63: S | CA63: S | CC63: S | CD63: S | CE63: D | CG63: R | DX63: =B63 -> LASSEN Carine | DY63: =C63 -> S | DZ63: =K63 -> 0.6 | EA63: =L63 -> 0.61111111 | EB63: =M63 -> 0.22222222
A64: 48 | B64: =Choristes!B49 -> LATRICHE Christian | C64: =Choristes!C49 -> B | D64: =Choristes!G49 -> HS | E64: =IF(D64<>0,VLOOKUP(D64,$N$1:$O$15,2,FALSE),) -> 13 | F64: =IF(D64<>0,HLOOKUP($C$6,$P$1:$DV$15,E64,FALSE),) -> 48 | G64: =IF(F64<>0,HLOOKUP($C$6,$P$1:$DV$136,(A64+16),FALSE),) -> D | H64: =COUNTIF($P64:$DV64,"S")+COUNTIF($P64:$DV64,"A")+COUNTIF($P64:$DV64,"T")+COUNTIF($P64:$DV64,"B") -> 36 | I64: =COUNTIF($P64:$DV64,"E") -> 7 | J64: =COUNTIF($P64:$DV64,"X") -> 1 | K64: =IF(F64<>0,H64/F64,) -> 0.75 | L64: =IF(F64-H64<>0,I64/(F64-H64),) -> 0.58333333 | M64: =IF(F64-H64<>0,J64/(F64-H64),) -> 0.083333333 | P64: B | Q64: B | S64: B | U64: B | V64: B | W64: B | X64: E | Z64: B | AB64: E | AD64: X | AF64: B | AG64: B | AH64: B | AJ64: B | AK64: E | AL64: B | AM64: B | AN64: B | AP64: B | AQ64: E | AR64: B | AS64: B | AT64: B | AV64: E | AX64: B | AZ64: B | BC64: B | BE64: B | BF64: B | BG64: B | BH64: B | BI64: B | BL64: B | BM64: E | BO64: B | BR64: B | BS64: B | BT64: B | BV64: B | BY64: B | BZ64: B | CA64: B | CC64: B | CD64: E | CI64: D | DX64: =B64 -> LATRICHE Christian | DY64: =C64 -> B | DZ64: =K64 -> 0.75 | EA64: =L64 -> 0.58333333 | EB64: =M64 -> 0.083333333
A65: 49 | B65: =Choristes!B50 -> LAUJAC-POINOT Geneviève | C65: =Choristes!C50 -> S | D65: =Choristes!G50 -> FS | E65: =IF(D65<>0,VLOOKUP(D65,$N$1:$O$15,2,FALSE),) -> 9 | F65: =IF(D65<>0,HLOOKUP($C$6,$P$1:$DV$15,E65,FALSE),) -> 45 | G65: =IF(F65<>0,HLOOKUP($C$6,$P$1:$DV$136,(A65+16),FALSE),) -> 0 | H65: =COUNTIF($P65:$DV65,"S")+COUNTIF($P65:$DV65,"A")+COUNTIF($P65:$DV65,"T")+COUNTIF($P65:$DV65,"B") -> 42 | I65: =COUNTIF($P65:$DV65,"E") -> 0 | J65: =COUNTIF($P65:$DV65,"X") -> 0 | K65: =IF(F65<>0,H65/F65,) -> 0.93333333 | L65: =IF(F65-H65<>0,I65/(F65-H65),) -> 0 | M65: =IF(F65-H65<>0,J65/(F65-H65),) -> 0 | P65: S | Q65: S | S65: S | U65: S | V65: S | W65: S | X65: S | Z65: S | AB65: S | AD65: S | AF65: S | AG65: S | AJ65: S | AL65: S | AM65: S | AN65: S | AP65: S | AQ65: S | AR65: S | AS65: S | AT65: S | AV65: S | AX65: S | AZ65: S | BC65: S | BE65: S | BF65: S | BG65: S | BH65: S | BI65: S | BL65: S | BM65: S | BO65: S | BR65: S | BS65: S | BT65: S | BV65: S | BY65: S | BZ65: S | CA65: S | CC65: S | CD65: S | DX65: =B65 -> LAUJAC-POINOT Geneviève | DY65: =C65 -> S | DZ65: =K65 -> 0.93333333 | EA65: =L65 -> 0 | EB65: =M65 -> 0
A66: 50 | B66: =Choristes!B51 -> LÉGER Nicole | C66: =Choristes!C51 -> A | D66: =Choristes!G51 -> FS | E66: =IF(D66<>0,VLOOKUP(D66,$N$1:$O$15,2,FALSE),) -> 9 | F66: =IF(D66<>0,HLOOKUP($C$6,$P$1:$DV$15,E66,FALSE),) -> 45 | G66: =IF(F66<>0,HLOOKUP($C$6,$P$1:$DV$136,(A66+16),FALSE),) -> 0 | H66: =COUNTIF($P66:$DV66,"S")+COUNTIF($P66:$DV66,"A")+COUNTIF($P66:$DV66,"T")+COUNTIF($P66:$DV66,"B") -> 37 | I66: =COUNTIF($P66:$DV66,"E") -> 4 | J66: =COUNTIF($P66:$DV66,"X") -> 1 | K66: =IF(F66<>0,H66/F66,) -> 0.82222222 | L66: =IF(F66-H66<>0,I66/(F66-H66),) -> 0.5 | M66: =IF(F66-H66<>0,J66/(F66-H66),) -> 0.125 | P66: A | Q66: A | S66: A | U66: A | V66: A | W66: A | X66: A | Z66: A | AB66: A | AD66: A | AF66: A | AG66: X | AJ66: A | AL66: A | AM66: A | AN66: A | AP66: A | AQ66: A | AR66: A | AS66: A | AT66: A | AV66: A | AX66: A | AZ66: A | BC66: A | BE66: A | BF66: A | BG66: A | BH66: A | BI66: A | BL66: E | BM66: A | BO66: A | BR66: E | BS66: E | BT66: E | BV66: A | BY66: A | BZ66: A | CA66: A | CC66: A | CD66: A | CJ66: D | CK66: D | CN66: D | CO66: D | CP66: D | DX66: =B66 -> LÉGER Nicole | DY66: =C66 -> A | DZ66: =K66 -> 0.82222222 | EA66: =L66 -> 0.5 | EB66: =M66 -> 0.125
A67: 51 | B67: =Choristes!B52 -> LEMOINE André | C67: =Choristes!C52 -> B | D67: =Choristes!G52 -> HS | E67: =IF(D67<>0,VLOOKUP(D67,$N$1:$O$15,2,FALSE),) -> 13 | F67: =IF(D67<>0,HLOOKUP($C$6,$P$1:$DV$15,E67,FALSE),) -> 48 | G67: =IF(F67<>0,HLOOKUP($C$6,$P$1:$DV$136,(A67+16),FALSE),) -> 0 | H67: =COUNTIF($P67:$DV67,"S")+COUNTIF($P67:$DV67,"A")+COUNTIF($P67:$DV67,"T")+COUNTIF($P67:$DV67,"B") -> 26 | I67: =COUNTIF($P67:$DV67,"E") -> 3 | J67: =COUNTIF($P67:$DV67,"X") -> 15 | K67: =IF(F67<>0,H67/F67,) -> 0.54166667 | L67: =IF(F67-H67<>0,I67/(F67-H67),) -> 0.13636364 | M67: =IF(F67-H67<>0,J67/(F67-H67),) -> 0.68181818 | P67: B | Q67: B | S67: X | U67: X | V67: E | W67: E | X67: E | Z67: X | AB67: X | AD67: X | AF67: B | AG67: B | AH67: B | AJ67: X | AK67: B | AL67: B | AM67: B | AN67: B | AP67: X | AQ67: X | AR67: B | AS67: B | AT67: B | AV67: X | AX67: B | AZ67: B | BC67: X | BE67: X | BF67: B | BG67: B | BH67: B | BI67: B | BL67: X | BM67: B | BO67: X | BR67: B | BS67: B | BT67: B | BV67: X | BY67: B | BZ67: B | CA67: B | CC67: X | CD67: B | DX67: =B67 -> LEMOINE André | DY67: =C67 -> B | DZ67: =K67 -> 0.54166667 | EA67: =L67 -> 0.13636364 | EB67: =M67 -> 0.68181818
A68: 52 | B68: =Choristes!B53 -> LEMOINE Michèle | C68: =Choristes!C53 -> A | D68: =Choristes!G53 -> FS | E68: =IF(D68<>0,VLOOKUP(D68,$N$1:$O$15,2,FALSE),) -> 9 | F68: =IF(D68<>0,HLOOKUP($C$6,$P$1:$DV$15,E68,FALSE),) -> 45 | G68: =IF(F68<>0,HLOOKUP($C$6,$P$1:$DV$136,(A68+16),FALSE),) -> 0 | H68: =COUNTIF($P68:$DV68,"S")+COUNTIF($P68:$DV68,"A")+COUNTIF($P68:$DV68,"T")+COUNTIF($P68:$DV68,"B") -> 24 | I68: =COUNTIF($P68:$DV68,"E") -> 3 | J68: =COUNTIF($P68:$DV68,"X") -> 15 | K68: =IF(F68<>0,H68/F68,) -> 0.53333333 | L68: =IF(F68-H68<>0,I68/(F68-H68),) -> 0.14285714 | M68: =IF(F68-H68<>0,J68/(F68-H68),) -> 0.71428571 | P68: A | Q68: A | S68: X | U68: X | V68: E | W68: E | X68: E | Z68: X | AB68: X | AD68: X | AF68: A | AG68: A | AJ68: X | AL68: A | AM68: A | AN68: A | AP68: X | AQ68: X | AR68: A | AS68: A | AT68: A | AV68: X | AX68: A | AZ68: A | BC68: X | BE68: X | BF68: A | BG68: A | BH68: A | BI68: A | BL68: X | BM68: A | BO68: X | BR68: A | BS68: A | BT68: A | BV68: X | BY68: A | BZ68: A | CA68: A | CC68: X | CD68: A | DX68: =B68 -> LEMOINE Michèle | DY68: =C68 -> A | DZ68: =K68 -> 0.53333333 | EA68: =L68 -> 0.14285714 | EB68: =M68 -> 0.71428571
A69: 53 | B69: =Choristes!B54 -> LHOIRY Frédérique | C69: =Choristes!C54 -> S | D69: =Choristes!G54 -> FS | E69: =IF(D69<>0,VLOOKUP(D69,$N$1:$O$15,2,FALSE),) -> 9 | F69: =IF(D69<>0,HLOOKUP($C$6,$P$1:$DV$15,E69,FALSE),) -> 45 | G69: =IF(F69<>0,HLOOKUP($C$6,$P$1:$DV$136,(A69+16),FALSE),) -> 0 | H69: =COUNTIF($P69:$DV69,"S")+COUNTIF($P69:$DV69,"A")+COUNTIF($P69:$DV69,"T")+COUNTIF($P69:$DV69,"B") -> 29 | I69: =COUNTIF($P69:$DV69,"E") -> 8 | J69: =COUNTIF($P69:$DV69,"X") -> 5 | K69: =IF(F69<>0,H69/F69,) -> 0.64444444 | L69: =IF(F69-H69<>0,I69/(F69-H69),) -> 0.5 | M69: =IF(F69-H69<>0,J69/(F69-H69),) -> 0.3125 | P69: E | Q69: E | S69: S | U69: S | V69: X | W69: X | X69: X | Z69: S | AB69: S | AD69: S | AF69: S | AG69: S | AJ69: X | AL69: S | AM69: S | AN69: S | AP69: E | AQ69: E | AR69: S | AS69: S | AT69: X | AV69: S | AX69: S | AZ69: S | BC69: S | BE69: E | BF69: S | BG69: S | BH69: S | BI69: S | BL69: S | BM69: S | BO69: S | BR69: S | BS69: S | BT69: S | BV69: E | BY69: S | BZ69: S | CA69: S | CC69: E | CD69: E | DX69: =B69 -> LHOIRY Frédérique | DY69: =C69 -> S | DZ69: =K69 -> 0.64444444 | EA69: =L69 -> 0.5 | EB69: =M69 -> 0.3125
A70: 54 | B70: =Choristes!B55 -> LHOSTE-BOUTIN Frédérique | C70: =Choristes!C55 -> A | D70: =Choristes!G55 -> FS | E70: =IF(D70<>0,VLOOKUP(D70,$N$1:$O$15,2,FALSE),) -> 9 | F70: =IF(D70<>0,HLOOKUP($C$6,$P$1:$DV$15,E70,FALSE),) -> 45 | G70: =IF(F70<>0,HLOOKUP($C$6,$P$1:$DV$136,(A70+16),FALSE),) -> D | H70: =COUNTIF($P70:$DV70,"S")+COUNTIF($P70:$DV70,"A")+COUNTIF($P70:$DV70,"T")+COUNTIF($P70:$DV70,"B") -> 37 | I70: =COUNTIF($P70:$DV70,"E") -> 0 | J70: =COUNTIF($P70:$DV70,"X") -> 4 | K70: =IF(F70<>0,H70/F70,) -> 0.82222222 | L70: =IF(F70-H70<>0,I70/(F70-H70),) -> 0 | M70: =IF(F70-H70<>0,J70/(F70-H70),) -> 0.5 | P70: A | Q70: A | S70: A | U70: A | V70: A | W70: A | X70: A | Z70: A | AB70: A | AD70: A | AF70: A | AG70: A | AJ70: A | AL70: A | AM70: A | AN70: A | AP70: A | AQ70: X | AR70: A | AS70: A | AT70: A | AV70: X | AX70: A | AZ70: A | BC70: X | BE70: A | BF70: A | BG70: A | BH70: A | BI70: A | BL70: X | BM70: A | BO70: D | BR70: A | BS70: A | BT70: A | BV70: A | BY70: A | BZ70: A | CA70: A | CC70: A | CD70: A | CI70: D | DX70: =B70 -> LHOSTE-BOUTIN Frédérique | DY70: =C70 -> A | DZ70: =K70 -> 0.82222222 | EA70: =L70 -> 0 | EB70: =M70 -> 0.5
A71: 55 | B71: =Choristes!B56 -> MAGRENON Françoise | C71: =Choristes!C56 -> S | D71: =Choristes!G56 -> FS | E71: =IF(D71<>0,VLOOKUP(D71,$N$1:$O$15,2,FALSE),) -> 9 | F71: =IF(D71<>0,HLOOKUP($C$6,$P$1:$DV$15,E71,FALSE),) -> 45 | G71: =IF(F71<>0,HLOOKUP($C$6,$P$1:$DV$136,(A71+16),FALSE),) -> 0 | H71: =COUNTIF($P71:$DV71,"S")+COUNTIF($P71:$DV71,"A")+COUNTIF($P71:$DV71,"T")+COUNTIF($P71:$DV71,"B") -> 32 | I71: =COUNTIF($P71:$DV71,"E") -> 5 | J71: =COUNTIF($P71:$DV71,"X") -> 5 | K71: =IF(F71<>0,H71/F71,) -> 0.71111111 | L71: =IF(F71-H71<>0,I71/(F71-H71),) -> 0.38461538 | M71: =IF(F71-H71<>0,J71/(F71-H71),) -> 0.38461538 | P71: E | Q71: E | S71: S | U71: S | V71: S | W71: S | X71: X | Z71: S | AB71: S | AD71: S | AF71: S | AG71: S | AJ71: E | AL71: X | AM71: X | AN71: X | AP71: S | AQ71: S | AR71: S | AS71: S | AT71: S | AV71: S | AX71: X | AZ71: S | BC71: E | BE71: S | BF71: S | BG71: S | BH71: S | BI71: S | BL71: S | BM71: S | BO71: S | BR71: S | BS71: S | BT71: S | BV71: S | BY71: S | BZ71: S | CA71: S | CC71: E | CD71: S | DX71: =B71 -> MAGRENON Françoise | DY71: =C71 -> S | DZ71: =K71 -> 0.71111111 | EA71: =L71 -> 0.38461538 | EB71: =M71 -> 0.38461538
A72: 56 | B72: =Choristes!B57 -> MARCHAIS Marie-Noëlle | C72: =Choristes!C57 -> S | D72: =Choristes!G57 -> FR | E72: =IF(D72<>0,VLOOKUP(D72,$N$1:$O$15,2,FALSE),) -> 11 | F72: =IF(D72<>0,HLOOKUP($C$6,$P$1:$DV$15,E72,FALSE),) -> 45 | G72: =IF(F72<>0,HLOOKUP($C$6,$P$1:$DV$136,(A72+16),FALSE),) -> 0 | H72: =COUNTIF($P72:$DV72,"S")+COUNTIF($P72:$DV72,"A")+COUNTIF($P72:$DV72,"T")+COUNTIF($P72:$DV72,"B") -> 39 | I72: =COUNTIF($P72:$DV72,"E") -> 2 | J72: =COUNTIF($P72:$DV72,"X") -> 1 | K72: =IF(F72<>0,H72/F72,) -> 0.86666667 | L72: =IF(F72-H72<>0,I72/(F72-H72),) -> 0.33333333 | M72: =IF(F72-H72<>0,J72/(F72-H72),) -> 0.16666667 | P72: S | Q72: S | R72: S | T72: S | V72: S | W72: S | X72: S | Y72: E | AA72: E | AC72: S | AF72: S | AG72: S | AI72: S | AL72: S | AM72: S | AN72: S | AO72: S | AQ72: S | AR72: S | AS72: S | AT72: S | AU72: S | AX72: S | AZ72: S | BB72: S | BD72: S | BF72: S | BG72: X | BH72: S | BI72: S | BK72: S | BM72: S | BN72: S | BR72: S | BS72: S | BT72: S | BU72: S | BY72: S | BZ72: S | CA72: S | CB72: S | CD72: S | CH72: D | DX72: =B72 -> MARCHAIS Marie-Noëlle | DY72: =C72 -> S | DZ72: =K72 -> 0.86666667 | EA72: =L72 -> 0.33333333 | EB72: =M72 -> 0.16666667
A73: 57 | B73: =Choristes!B58 -> MATHIEU Patricia | C73: =Choristes!C58 -> A | D73: =Choristes!G58 -> FS | E73: =IF(D73<>0,VLOOKUP(D73,$N$1:$O$15,2,FALSE),) -> 9 | F73: =IF(D73<>0,HLOOKUP($C$6,$P$1:$DV$15,E73,FALSE),) -> 45 | G73: =IF(F73<>0,HLOOKUP($C$6,$P$1:$DV$136,(A73+16),FALSE),) -> 0 | H73: =COUNTIF($P73:$DV73,"S")+COUNTIF($P73:$DV73,"A")+COUNTIF($P73:$DV73,"T")+COUNTIF($P73:$DV73,"B") -> 40 | I73: =COUNTIF($P73:$DV73,"E") -> 2 | J73: =COUNTIF($P73:$DV73,"X") -> 0 | K73: =IF(F73<>0,H73/F73,) -> 0.88888889 | L73: =IF(F73-H73<>0,I73/(F73-H73),) -> 0.4 | M73: =IF(F73-H73<>0,J73/(F73-H73),) -> 0 | P73: A | Q73: A | S73: E | U73: A | V73: A | W73: A | X73: A | Z73: A | AB73: A | AD73: A | AF73: A | AG73: A | AJ73: A | AL73: A | AM73: A | AN73: A | AP73: A | AQ73: A | AR73: A | AS73: A | AT73: A | AV73: A | AX73: A | AZ73: A | BC73: A | BE73: A | BF73: A | BG73: A | BH73: A | BI73: A | BJ73: D | BL73: A | BM73: A | BO73: A | BR73: E | BS73: A | BT73: A | BV73: A | BY73: A | BZ73: A | CA73: A | CC73: A | CD73: A | DX73: =B73 -> MATHIEU Patricia | DY73: =C73 -> A | DZ73: =K73 -> 0.88888889 | EA73: =L73 -> 0.4 | EB73: =M73 -> 0
A74: 58 | B74: =Choristes!B59 -> MATRAT Georges | C74: =Choristes!C59 -> B | D74: =Choristes!G59 -> HS | E74: =IF(D74<>0,VLOOKUP(D74,$N$1:$O$15,2,FALSE),) -> 13 | F74: =IF(D74<>0,HLOOKUP($C$6,$P$1:$DV$15,E74,FALSE),) -> 48 | G74: =IF(F74<>0,HLOOKUP($C$6,$P$1:$DV$136,(A74+16),FALSE),) -> 0 | H74: =COUNTIF($P74:$DV74,"S")+COUNTIF($P74:$DV74,"A")+COUNTIF($P74:$DV74,"T")+COUNTIF($P74:$DV74,"B") -> 40 | I74: =COUNTIF($P74:$DV74,"E") -> 4 | J74: =COUNTIF($P74:$DV74,"X") -> 0 | K74: =IF(F74<>0,H74/F74,) -> 0.83333333 | L74: =IF(F74-H74<>0,I74/(F74-H74),) -> 0.5 | M74: =IF(F74-H74<>0,J74/(F74-H74),) -> 0 | P74: B | Q74: B | S74: B | U74: B | V74: B | W74: B | X74: B | Z74: B | AB74: B | AD74: B | AF74: B | AG74: B | AH74: E | AJ74: B | AK74: E | AL74: B | AM74: B | AN74: B | AP74: B | AQ74: E | AR74: B | AS74: B | AT74: B | AV74: B | AX74: B | AZ74: B | BC74: B | BE74: B | BF74: B | BG74: B | BH74: B | BI74: B | BL74: E | BM74: B | BO74: B | BR74: B | BS74: B | BT74: B | BV74: B | BW74: D | BY74: B | BZ74: B | CA74: B | CC74: B | CD74: B | DX74: =B74 -> MATRAT Georges | DY74: =C74 -> B | DZ74: =K74 -> 0.83333333 | EA74: =L74 -> 0.5 | EB74: =M74 -> 0
A75: 59 | B75: =Choristes!B60 -> MERTEN Daniel | C75: =Choristes!C60 -> B | D75: =Choristes!G60 -> HR | E75: =IF(D75<>0,VLOOKUP(D75,$N$1:$O$15,2,FALSE),) -> 15 | F75: =IF(D75<>0,HLOOKUP($C$6,$P$1:$DV$15,E75,FALSE),) -> 48 | G75: =IF(F75<>0,HLOOKUP($C$6,$P$1:$DV$136,(A75+16),FALSE),) -> 0 | H75: =COUNTIF($P75:$DV75,"S")+COUNTIF($P75:$DV75,"A")+COUNTIF($P75:$DV75,"T")+COUNTIF($P75:$DV75,"B") -> 38 | I75: =COUNTIF($P75:$DV75,"E") -> 6 | J75: =COUNTIF($P75:$DV75,"X") -> 0 | K75: =IF(F75<>0,H75/F75,) -> 0.79166667 | L75: =IF(F75-H75<>0,I75/(F75-H75),) -> 0.6 | M75: =IF(F75-H75<>0,J75/(F75-H75),) -> 0 | P75: B | Q75: B | R75: E | T75: B | V75: B | W75: B | X75: B | Y75: B | AA75: B | AC75: B | AF75: B | AG75: B | AH75: B | AI75: E | AK75: B | AL75: B | AM75: B | AN75: B | AO75: E | AQ75: E | AR75: B | AS75: B | AT75: B | AU75: B | AX75: B | AZ75: B | BB75: B | BD75: B | BF75: B | BG75: B | BH75: B | BI75: B | BK75: B | BM75: B | BN75: E | BR75: B | BS75: B | BT75: B | BU75: B | BY75: B | BZ75: B | CA75: B | CB75: E | CD75: B | DX75: =B75 -> MERTEN Daniel | DY75: =C75 -> B | DZ75: =K75 -> 0.79166667 | EA75: =L75 -> 0.6 | EB75: =M75 -> 0
A76: 60 | B76: =Choristes!B61 -> MESSEMÈNE Rose | C76: =Choristes!C61 -> A | D76: =Choristes!G61 -> FS | E76: =IF(D76<>0,VLOOKUP(D76,$N$1:$O$15,2,FALSE),) -> 9 | F76: =IF(D76<>0,HLOOKUP($C$6,$P$1:$DV$15,E76,FALSE),) -> 45 | G76: =IF(F76<>0,HLOOKUP($C$6,$P$1:$DV$136,(A76+16),FALSE),) -> 0 | H76: =COUNTIF($P76:$DV76,"S")+COUNTIF($P76:$DV76,"A")+COUNTIF($P76:$DV76,"T")+COUNTIF($P76:$DV76,"B") -> 39 | I76: =COUNTIF($P76:$DV76,"E") -> 2 | J76: =COUNTIF($P76:$DV76,"X") -> 1 | K76: =IF(F76<>0,H76/F76,) -> 0.86666667 | L76: =IF(F76-H76<>0,I76/(F76-H76),) -> 0.33333333 | M76: =IF(F76-H76<>0,J76/(F76-H76),) -> 0.16666667 | P76: A | Q76: A | S76: A | U76: A | V76: A | W76: A | X76: A | Z76: A | AB76: A | AD76: A | AF76: A | AG76: A | AJ76: A | AL76: A | AM76: A | AN76: A | AP76: E | AQ76: A | AR76: A | AS76: A | AT76: A | AV76: A | AX76: A | AZ76: A | BC76: E | BE76: A | BF76: A | BG76: A | BH76: A | BI76: X | BL76: A | BM76: A | BO76: A | BR76: A | BS76: A | BT76: A | BV76: A | BY76: A | BZ76: A | CA76: A | CC76: A | CD76: A | DX76: =B76 -> MESSEMÈNE Rose | DY76: =C76 -> A | DZ76: =K76 -> 0.86666667 | EA76: =L76 -> 0.33333333 | EB76: =M76 -> 0.16666667
A77: 61 | B77: =Choristes!B62 -> MÉTOYER Marie-Hélène | C77: =Choristes!C62 -> A | D77: =Choristes!G62 -> FS | E77: =IF(D77<>0,VLOOKUP(D77,$N$1:$O$15,2,FALSE),) -> 9 | F77: =IF(D77<>0,HLOOKUP($C$6,$P$1:$DV$15,E77,FALSE),) -> 45 | G77: =IF(F77<>0,HLOOKUP($C$6,$P$1:$DV$136,(A77+16),FALSE),) -> 0 | H77: =COUNTIF($P77:$DV77,"S")+COUNTIF($P77:$DV77,"A")+COUNTIF($P77:$DV77,"T")+COUNTIF($P77:$DV77,"B") -> 22 | I77: =COUNTIF($P77:$DV77,"E") -> 8 | J77: =COUNTIF($P77:$DV77,"X") -> 12 | K77: =IF(F77<>0,H77/F77,) -> 0.48888889 | L77: =IF(F77-H77<>0,I77/(F77-H77),) -> 0.34782609 | M77: =IF(F77-H77<>0,J77/(F77-H77),) -> 0.52173913 | P77: E | Q77: E | S77: A | U77: A | V77: A | W77: A | X77: A | Z77: A | AB77: A | AD77: A | AF77: A | AG77: A | AJ77: A | AL77: A | AM77: A | AN77: A | AP77: E | AQ77: X | AR77: A | AS77: A | AT77: X | AV77: X | AX77: X | AZ77: X | BC77: A | BE77: X | BF77: X | BG77: X | BH77: X | BI77: X | BL77: A | BM77: A | BO77: X | BR77: A | BS77: A | BT77: A | BV77: X | BY77: E | BZ77: E | CA77: E | CC77: E | CD77: E | CE77: D | CF77: D | CG77: D | CJ77: D | CK77: D | CO77: D | CP77: D | DX77: =B77 -> MÉTOYER Marie-Hélène | DY77: =C77 -> A | DZ77: =K77 -> 0.48888889 | EA77: =L77 -> 0.34782609 | EB77: =M77 -> 0.52173913
A78: 62 | B78: =Choristes!B63 -> MORILLON Anne | C78: =Choristes!C63 -> S | D78: =Choristes!G63 -> FS | E78: =IF(D78<>0,VLOOKUP(D78,$N$1:$O$15,2,FALSE),) -> 9 | F78: =IF(D78<>0,HLOOKUP($C$6,$P$1:$DV$15,E78,FALSE),) -> 45 | G78: =IF(F78<>0,HLOOKUP($C$6,$P$1:$DV$136,(A78+16),FALSE),) -> 0 | H78: =COUNTIF($P78:$DV78,"S")+COUNTIF($P78:$DV78,"A")+COUNTIF($P78:$DV78,"T")+COUNTIF($P78:$DV78,"B") -> 35 | I78: =COUNTIF($P78:$DV78,"E") -> 5 | J78: =COUNTIF($P78:$DV78,"X") -> 2 | K78: =IF(F78<>0,H78/F78,) -> 0.77777778 | L78: =IF(F78-H78<>0,I78/(F78-H78),) -> 0.5 | M78: =IF(F78-H78<>0,J78/(F78-H78),) -> 0.2 | P78: S | Q78: S | S78: E | U78: S | V78: E | W78: E | X78: X | Z78: S | AB78: S | AD78: S | AF78: S | AG78: S | AJ78: S | AL78: S | AM78: S | AN78: S | AP78: E | AQ78: S | AR78: S | AS78: S | AT78: S | AV78: S | AX78: S | AZ78: S | BC78: X | BE78: S | BF78: S | BG78: S | BH78: S | BI78: S | BL78: S | BM78: S | BO78: S | BR78: S | BS78: S | BT78: S | BV78: S | BY78: S | BZ78: S | CA78: S | CC78: E | CD78: S | CK78: D | CN78: D | DX78: =B78 -> MORILLON Anne | DY78: =C78 -> S | DZ78: =K78 -> 0.77777778 | EA78: =L78 -> 0.5 | EB78: =M78 -> 0.2
