Workbook
Name CLIENTS: BDD!#REF!
Name CTN: BDD!#REF!
Name CW_1: BDD!#REF!
Name distance: OFFSET(BDD!$Q$5,,,COUNTA(BDD!$L:$L)-1,COUNTA(BDD!$4:$4)-1)
Name DISTANCES: BDD!$Q$5:$R$42
Name FLUX: BDD!$A$12:$A$13
Name FLUX2: BDD!#REF!
Name Fourni: BDD!#REF!
Name Fournisseurs: BDD!$A$17:$A$24
Name Kilometre: OFFSET(#REF!,,,COUNTA(#REF!),COUNTA(#REF!)-1)
Name Poids: OFFSET(#REF!,,,COUNTA(#REF!),COUNTA(#REF!)-1)
Name POL: BDD!#REF!
Name Ports: BDD!$Q$4:$R$4
Name temps: OFFSET(#REF!,,,COUNTA(#REF!)-1,COUNTA(#REF!)-1)
Name Type_Container: BDD!$A$3:$A$11
Name Val: BDD!#REF!
Name VILLES1: BDD!$L$5:$L$42
Name volume: OFFSET(#REF!,,,COUNTA(#REF!),COUNTA(#REF!)-1)

Sheet Recherche
H1: Classement Fournisseurs
C3: =VLOOKUP(D3,BDD!$L$5:$O$42,2,0) -> 25530 | D3: VERCEL VILLEDIEU LE CAMP | H3: 1er | I3: =VLOOKUP(I4,BDD!$H$17:$I$24,2,0) -> H&S LOGISTICS | K3: Validité | L3: Surcharge Gaz | M3: =IF($C$9="RTM","Taxe RTM","Taxe ANR") -> Taxe ANR
I4: =SMALL(BDD!H17:H24,COUNTIF(BDD!H17:H24,0)+1) -> 1080 | K4: =VLOOKUP(I3,BDD!A17:B24,2,0) -> 43830 | L4: =VLOOKUP(I3,BDD!$A$17:$G$24,6,0) -> 0 | M4: =IF($C$9="ANR",VLOOKUP(I3,BDD!$A$17:$D$24,3,0),VLOOKUP(I3,BDD!$A$17:$D$24,4,0)) -> 0
C6: IMPORT | D6: Départ | F6: Arrivée | H6: 2ème | I6: =VLOOKUP(I7,BDD!$H$17:$I$24,2,0) -> SEATRUCK | K6: Validité | L6: Surcharge Gaz | M6: =IF($C$9="RTM","Taxe RTM","Taxe ANR") -> Taxe ANR
D7: =IF(C6="IMPORT",C9,D3) -> ANR | F7: =IF(C6="IMPORT",D3,C9) -> VERCEL VILLEDIEU LE CAMP | I7: =SMALL(BDD!H17:H24,COUNTIF(BDD!H17:H24,0)+2) -> 1109.65 | K7: =VLOOKUP(I6,BDD!$A$17:$B$24,2,0) -> 43830 | L7: =VLOOKUP(I6,BDD!$A$17:$G$24,6,0) -> 0.07 | M7: =IF($C$9="ANR",VLOOKUP(I6,BDD!$A$17:$D$24,3,0),VLOOKUP(I6,BDD!$A$17:$D$24,4,0)) -> 45
C9: ANR | D9: =INDEX(DISTANCES,MATCH(D3,VILLES1,0),MATCH(C9,Ports,0)) -> 586 | E9: Km | H9: 3ème | I9: =VLOOKUP(I10,BDD!$H$17:$I$24,2,0) -> GTS | K9: Validité | L9: Surcharge Gaz | M9: =IF($C$9="RTM","Taxe RTM","Taxe ANR") -> Taxe ANR
D10: =INDEX(BDD!T5:U42,MATCH(D3,VILLES1,0),MATCH(C9,Ports,0)) -> 0.32555556 | E10: Heure | I10: =SMALL(BDD!H17:H24,COUNTIF(BDD!H17:H24,0)+3) -> 1157 | K10: =VLOOKUP(I9,BDD!$A$17:$B$24,2,0) -> 43830 | L10: =VLOOKUP(I9,BDD!$A$17:$G$24,6,0) -> 0.1 | M10: =IF($C$9="ANR",VLOOKUP(I9,BDD!$A$17:$D$24,3,0),VLOOKUP(I9,BDD!$A$17:$D$24,4,0)) -> 35
C12: 40f | D12: =VLOOKUP(C12,BDD!A3:E11,2,0) -> General Purpose Container | H12: 4ème | I12: =VLOOKUP(I13,BDD!$H$17:$I$24,2,0) -> NAVILAND | K12: Validité | L12: Surcharge Gaz | M12: =IF($C$9="RTM","Taxe RTM","Taxe ANR") -> Taxe ANR
D13: =VLOOKUP(C12,BDD!A3:E11,3,0) -> 11,90 x 2,30 x 2,35 | E13: =VLOOKUP(C12,BDD!A3:E11,4,0) -> 64 m3 | F13: =VLOOKUP(C12,BDD!A3:E11,5,0) -> 28700 Kg | I13: =SMALL(BDD!H17:H24,COUNTIF(BDD!H17:H24,0)+4) -> 1264.553 | K13: =VLOOKUP(I12,BDD!$A$17:$B$24,2,0) -> 43646 | L13: =VLOOKUP(I12,BDD!$A$17:$G$24,6,0) -> 0.0509 | M13: =IF($C$9="ANR",VLOOKUP(I12,BDD!$A$17:$D$24,3,0),VLOOKUP(I12,BDD!$A$17:$D$24,4,0)) -> 35
C15: =VLOOKUP(D3,BDD!L5:N42,3,0) -> OTTMARSHEIM | D15: =VLOOKUP(C15,BDD!N5:O42,2,1) -> CONTAROTM - CONTARGO OTTMARSHEIM | H15: 5ème | I15: =VLOOKUP(I16,BDD!$H$17:$I$24,2,0) -> #NUM! | K15: Validité | L15: Surcharge Gaz | M15: =IF($C$9="RTM","Taxe RTM","Taxe ANR") -> Taxe ANR
I16: =SMALL(BDD!H17:H24,COUNTIF(BDD!H17:H24,0)+5) -> #NUM! | K16: =VLOOKUP(I15,BDD!$A$17:$B$24,2,0) -> #NUM! | L16: =VLOOKUP(I15,BDD!$A$17:$G$24,6,0) -> #NUM! | M16: =IF($C$9="ANR",VLOOKUP(I15,BDD!$A$17:$D$24,3,0),VLOOKUP(I15,BDD!$A$17:$D$24,4,0)) -> #NUM!

Sheet Analyse
A1: Fournisseur : | C1: GTS | E1: Validité | G1: Taxe BE | H1: Taxe NL | I1: Surcharge Gazoil | M1: ECART MOYEN
M2: EXP | O2: IMP
A3: Contact : | E3: =VLOOKUP(C1,BDD!A17:F24,2,0) -> 43830 | G3: =VLOOKUP(C1,BDD!A17:F24,3,0) -> 35 | H3: =VLOOKUP(C1,BDD!A17:F24,4,0) -> 37 | I3: =VLOOKUP(C1,BDD!A17:F24,6,0) -> 0.1 | M3: ANR | N3: RTM | O3: ANR | P3: RTM
M4: =1-(M5/M6) -> 1 | N4: =1-(N5/N6) -> #DIV/0! | O4: =1-(O5/O6) -> #DIV/0! | P4: =1-(P5/P6) -> #DIV/0!
M5: =SUM(E10:E36) -> 0 | N5: =SUM(H10:H36) -> 0 | O5: =SUM(K10:K36) -> 0 | P5: =SUM(N10:N36) -> 0
M6: =SUM(F10:F36) -> 1540 | N6: =SUM(I10:I36) -> 0 | O6: =SUM(L10:L36) -> 0 | P6: =SUM(O10:O36) -> 0
A7: ORGANISATIONS | E7: EXPORT | K7: IMPORT | R7: EXP | T7: IMP
A8: N° | B8: CODE POSTE | C8: VILLE | D8: MAD | F8: ANR | H8: =+E8 -> 0 | I8: RTM | K8: =+E8 -> 0 | L8: ANR | N8: =+E8 -> 0 | O8: RTM
F9: € | G9: % | I9: € | J9: % | L9: € | M9: % | O9: € | P9: % | R9: ANR | S9: RTM | T9: ANR | U9: RTM
A10: 1 | B10: =BDD!M5 -> 25075 | C10: =BDD!L5 -> BESANCON | D10: =BDD!N5 -> OTTMARSHEIM | F10: =INDEX(BDD!$W$5:$CH$42,MATCH(C10,VILLES1,0),MATCH(C1,BDD!1:1,0)) -> 1540 | G10: =(F10-E10)/E10 -> #DIV/0! | J10: =(I10-H10)/H10 -> #DIV/0! | M10: =(L10-K10)/K10 -> #DIV/0! | P10: =(O10-N10)/N10 -> #DIV/0! | R10: =G10 -> #DIV/0! | S10: =J10 -> #DIV/0! | T10: =M10 -> #DIV/0! | U10: =P10 -> #DIV/0!
A11: 2 | B11: =BDD!M6 -> 25530 | C11: =BDD!L6 -> VERCEL VILLEDIEU LE CAMP | D11: =BDD!N6 -> OTTMARSHEIM | G11: =(F11-E11)/E11 -> #DIV/0! | J11: =(I11-H11)/H11 -> #DIV/0! | M11: =(L11-K11)/K11 -> #DIV/0! | P11: =(O11-N11)/N11 -> #DIV/0! | R11: =G11 -> #DIV/0! | S11: =J11 -> #DIV/0! | T11: =M11 -> #DIV/0! | U11: =P11 -> #DIV/0!
A12: 3 | B12: =BDD!M7 -> 52140 | C12: =BDD!L7 -> MONTIGNY LE ROI | D12: =BDD!N7 -> STRASBOURG | G12: =(F12-E12)/E12 -> #DIV/0! | J12: =(I12-H12)/H12 -> #DIV/0! | M12: =(L12-K12)/K12 -> #DIV/0! | P12: =(O12-N12)/N12 -> #DIV/0! | R12: =G12 -> #DIV/0! | S12: =J12 -> #DIV/0! | T12: =M12 -> #DIV/0! | U12: =P12 -> #DIV/0!
A13: 4 | B13: =BDD!M8 -> 54112 | C13: =BDD!L8 -> AZERAILLES | D13: =BDD!N8 -> STRASBOURG | G13: =(F13-E13)/E13 -> #DIV/0! | J13: =(I13-H13)/H13 -> #DIV/0! | M13: =(L13-K13)/K13 -> #DIV/0! | P13: =(O13-N13)/N13 -> #DIV/0! | R13: =G13 -> #DIV/0! | S13: =J13 -> #DIV/0! | T13: =M13 -> #DIV/0! | U13: =P13 -> #DIV/0!
A14: 5 | B14: =BDD!M9 -> 54410 | C14: =BDD!L9 -> LANEUVILLE DEVANT NANCY | D14: =BDD!N9 -> STRASBOURG | G14: =(F14-E14)/E14 -> #DIV/0! | J14: =(I14-H14)/H14 -> #DIV/0! | M14: =(L14-K14)/K14 -> #DIV/0! | P14: =(O14-N14)/N14 -> #DIV/0! | R14: =G14 -> #DIV/0! | S14: =J14 -> #DIV/0! | T14: =M14 -> #DIV/0! | U14: =P14 -> #DIV/0!
A15: 6 | B15: =BDD!M10 -> 54530 | C15: =BDD!L10 -> PAGNY SUR MOSELLE | D15: =BDD!N10 -> STRASBOURG | G15: =(F15-E15)/E15 -> #DIV/0! | J15: =(I15-H15)/H15 -> #DIV/0! | M15: =(L15-K15)/K15 -> #DIV/0! | P15: =(O15-N15)/N15 -> #DIV/0! | R15: =G15 -> #DIV/0! | S15: =J15 -> #DIV/0! | T15: =M15 -> #DIV/0! | U15: =P15 -> #DIV/0!
A16: 7 | B16: =BDD!M11 -> 57130 | C16: =BDD!L11 -> JOUY AUX ARCHES | D16: =BDD!N11 -> STRASBOURG | G16: =(F16-E16)/E16 -> #DIV/0! | J16: =(I16-H16)/H16 -> #DIV/0! | M16: =(L16-K16)/K16 -> #DIV/0! | P16: =(O16-N16)/N16 -> #DIV/0! | R16: =G16 -> #DIV/0! | S16: =J16 -> #DIV/0! | T16: =M16 -> #DIV/0! | U16: =P16 -> #DIV/0!
A17: 8 | B17: =BDD!M12 -> 57190 | C17: =BDD!L12 -> FLORANGE | D17: =BDD!N12 -> STRASBOURG | G17: =(F17-E17)/E17 -> #DIV/0! | J17: =(I17-H17)/H17 -> #DIV/0! | M17: =(L17-K17)/K17 -> #DIV/0! | P17: =(O17-N17)/N17 -> #DIV/0! | R17: =G17 -> #DIV/0! | S17: =J17 -> #DIV/0! | T17: =M17 -> #DIV/0! | U17: =P17 -> #DIV/0!
A18: 9 | B18: =BDD!M13 -> 57400 | C18: =BDD!L13 -> REDING | D18: =BDD!N13 -> STRASBOURG | G18: =(F18-E18)/E18 -> #DIV/0! | J18: =(I18-H18)/H18 -> #DIV/0! | M18: =(L18-K18)/K18 -> #DIV/0! | P18: =(O18-N18)/N18 -> #DIV/0! | R18: =G18 -> #DIV/0! | S18: =J18 -> #DIV/0! | T18: =M18 -> #DIV/0! | U18: =P18 -> #DIV/0!
A19: 10 | B19: =BDD!M14 -> 67000 | C19: =BDD!L14 -> STRASBOURG | D19: =BDD!N14 -> STRASBOURG | G19: =(F19-E19)/E19 -> #DIV/0! | J19: =(I19-H19)/H19 -> #DIV/0! | M19: =(L19-K19)/K19 -> #DIV/0! | P19: =(O19-N19)/N19 -> #DIV/0! | R19: =G19 -> #DIV/0! | S19: =J19 -> #DIV/0! | T19: =M19 -> #DIV/0! | U19: =P19 -> #DIV/0!
A20: 11 | B20: =BDD!M15 -> 67089 | C20: =BDD!L15 -> STRASBOURG | D20: =BDD!N15 -> STRASBOURG | G20: =(F20-E20)/E20 -> #DIV/0! | J20: =(I20-H20)/H20 -> #DIV/0! | M20: =(L20-K20)/K20 -> #DIV/0! | P20: =(O20-N20)/N20 -> #DIV/0! | R20: =G20 -> #DIV/0! | S20: =J20 -> #DIV/0! | T20: =M20 -> #DIV/0! | U20: =P20 -> #DIV/0!
A21: 12 | B21: =BDD!M16 -> 67133 | C21: =BDD!L16 -> BAREMBACH | D21: =BDD!N16 -> STRASBOURG | G21: =(F21-E21)/E21 -> #DIV/0! | J21: =(I21-H21)/H21 -> #DIV/0! | M21: =(L21-K21)/K21 -> #DIV/0! | P21: =(O21-N21)/N21 -> #DIV/0! | R21: =G21 -> #DIV/0! | S21: =J21 -> #DIV/0! | T21: =M21 -> #DIV/0! | U21: =P21 -> #DIV/0!
A22: 13 | B22: =BDD!M17 -> 67152 | C22: =BDD!L17 -> ERSTEIN | D22: =BDD!N17 -> STRASBOURG | G22: =(F22-E22)/E22 -> #DIV/0! | J22: =(I22-H22)/H22 -> #DIV/0! | M22: =(L22-K22)/K22 -> #DIV/0! | P22: =(O22-N22)/N22 -> #DIV/0! | R22: =G22 -> #DIV/0! | S22: =J22 -> #DIV/0! | T22: =M22 -> #DIV/0! | U22: =P22 -> #DIV/0!
... A37: 28 | B37: =BDD!M32 -> 0 | C37: =BDD!L32 -> 0 | D37: =BDD!N32 -> 0 | G37: =(F37-E37)/E37 -> #DIV/0! | J37: =(I37-H37)/H37 -> #DIV/0! | M37: =(L37-K37)/K37 -> #DIV/0! | P37: =(O37-N37)/N37 -> #DIV/0! | R37: =G37 -> #DIV/0! | S37: =J37 -> #DIV/0! | T37: =M37 -> #DIV/0! | U37: =P37 -> #DIV/0!
A38: 29 | B38: =BDD!M33 -> 0 | C38: =BDD!L33 -> 0 | D38: =BDD!N33 -> 0 | G38: =(F38-E38)/E38 -> #DIV/0! | J38: =(I38-H38)/H38 -> #DIV/0! | M38: =(L38-K38)/K38 -> #DIV/0! | P38: =(O38-N38)/N38 -> #DIV/0! | Q38: Navitrucking | R38: =G38 -> #DIV/0! | S38: =J38 -> #DIV/0! | T38: =M38 -> #DIV/0! | U38: =P38 -> #DIV/0!
A39: 30 | B39: =BDD!M34 -> 0 | C39: =BDD!L34 -> 0 | D39: =BDD!N34 -> 0 | G39: =(F39-E39)/E39 -> #DIV/0! | J39: =(I39-H39)/H39 -> #DIV/0! | M39: =(L39-K39)/K39 -> #DIV/0! | P39: =(O39-N39)/N39 -> #DIV/0! | R39: =G39 -> #DIV/0! | S39: =J39 -> #DIV/0! | T39: =M39 -> #DIV/0! | U39: =P39 -> #DIV/0!
A40: 31 | B40: =BDD!M35 -> 0 | C40: =BDD!L35 -> 0 | D40: =BDD!N35 -> 0 | G40: =(F40-E40)/E40 -> #DIV/0! | J40: =(I40-H40)/H40 -> #DIV/0! | M40: =(L40-K40)/K40 -> #DIV/0! | P40: =(O40-N40)/N40 -> #DIV/0! | Q40: Ecarts Moyen | R40: =G40 -> #DIV/0! | S40: =J40 -> #DIV/0! | T40: =M40 -> #DIV/0! | U40: =P40 -> #DIV/0!
A41: 32 | B41: =BDD!M36 -> 0 | C41: =BDD!L36 -> 0 | D41: =BDD!N36 -> 0 | G41: =(F41-E41)/E41 -> #DIV/0! | J41: =(I41-H41)/H41 -> #DIV/0! | M41: =(L41-K41)/K41 -> #DIV/0! | P41: =(O41-N41)/N41 -> #DIV/0! | R41: =G41 -> #DIV/0! | S41: =J41 -> #DIV/0! | T41: =M41 -> #DIV/0! | U41: =P41 -> #DIV/0!
A42: 33 | B42: =BDD!M37 -> 0 | C42: =BDD!L37 -> 0 | D42: =BDD!N37 -> 0 | G42: =(F42-E42)/E42 -> #DIV/0! | J42: =(I42-H42)/H42 -> #DIV/0! | M42: =(L42-K42)/K42 -> #DIV/0! | P42: =(O42-N42)/N42 -> #DIV/0! | R42: =G42 -> #DIV/0! | S42: =J42 -> #DIV/0! | T42: =M42 -> #DIV/0! | U42: =P42 -> #DIV/0!
A43: 34 | B43: =BDD!M38 -> 0 | C43: =BDD!L38 -> 0 | D43: =BDD!N38 -> 0 | G43: =(F43-E43)/E43 -> #DIV/0! | J43: =(I43-H43)/H43 -> #DIV/0! | M43: =(L43-K43)/K43 -> #DIV/0! | P43: =(O43-N43)/N43 -> #DIV/0! | R43: =G43 -> #DIV/0! | S43: =J43 -> #DIV/0! | T43: =M43 -> #DIV/0! | U43: =P43 -> #DIV/0!
A44: 35 | B44: =BDD!M39 -> 0 | C44: =BDD!L39 -> 0 | D44: =BDD!N39 -> 0 | G44: =(F44-E44)/E44 -> #DIV/0! | J44: =(I44-H44)/H44 -> #DIV/0! | M44: =(L44-K44)/K44 -> #DIV/0! | P44: =(O44-N44)/N44 -> #DIV/0! | R44: =G44 -> #DIV/0! | S44: =J44 -> #DIV/0! | T44: =M44 -> #DIV/0! | U44: =P44 -> #DIV/0!
A45: 36 | B45: =BDD!M40 -> 0 | C45: =BDD!L40 -> 0 | D45: =BDD!N40 -> 0 | G45: =(F45-E45)/E45 -> #DIV/0! | J45: =(I45-H45)/H45 -> #DIV/0! | M45: =(L45-K45)/K45 -> #DIV/0! | P45: =(O45-N45)/N45 -> #DIV/0! | R45: =G45 -> #DIV/0! | S45: =J45 -> #DIV/0! | T45: =M45 -> #DIV/0! | U45: =P45 -> #DIV/0!
A46: 37 | B46: =BDD!M41 -> 0 | C46: =BDD!L41 -> 0 | D46: =BDD!N41 -> 0 | G46: =(F46-E46)/E46 -> #DIV/0! | J46: =(I46-H46)/H46 -> #DIV/0! | M46: =(L46-K46)/K46 -> #DIV/0! | P46: =(O46-N46)/N46 -> #DIV/0! | R46: =G46 -> #DIV/0! | S46: =J46 -> #DIV/0! | T46: =M46 -> #DIV/0! | U46: =P46 -> #DIV/0!
A47: 38 | B47: =BDD!M42 -> 0 | C47: =BDD!L42 -> 0 | D47: =BDD!N42 -> 0 | G47: =(F47-E47)/E47 -> #DIV/0! | J47: =(I47-H47)/H47 -> #DIV/0! | M47: =(L47-K47)/K47 -> #DIV/0! | P47: =(O47-N47)/N47 -> #DIV/0!

Sheet BDD
W1: SEATRUCK | AE1: STRAL | AM1: GTS | AU1: NAVILAND | BC1: H&S LOGISTICS | BK1: NOUVEAU FOURNISSEUR 1 | BS1: NOUVEAU FOURNISSEUR 2 | CA1: NOUVEAU FOURNISSEUR 3
A2: Types | B2: Description | C2: Dim Interne | D2: Volume | E2: Charge Utile | I2: =Recherche!D3 -> VERCEL VILLEDIEU LE CAMP | Q2: DISTANCES | T2: TEMPS | W2: EXPORT | AA2: IMPORT | AE2: EXPORT | AI2: IMPORT | AM2: EXPORT | AQ2: IMPORT | AU2: EXPORT | AY2: IMPORT | BC2: EXPORT | BG2: IMPORT | BK2: EXPORT | BO2: IMPORT | BS2: EXPORT | BW2: IMPORT | CA2: EXPORT | CE2: IMPORT
A3: 20f | B3: General Purpose Container | C3: 5,90 x 2,30 x 2,35 | D3: 32 m3 | E3: 28300 Kg | I3: =Recherche!C6 -> IMPORT | T3: Vitesse Moyenne | U3: 75 | W3: ANR | Y3: RTM | AA3: ANR | AC3: RTM | AE3: ANR | AG3: RTM | AI3: ANR | AK3: RTM | AM3: ANR | AO3: RTM | AQ3: ANR | AS3: RTM | AU3: ANR | AW3: RTM | AY3: ANR | BA3: RTM | BC3: ANR | BE3: RTM | BG3: ANR | BI3: RTM | BK3: ANR | BM3: RTM | BO3: ANR | BQ3: RTM | BS3: ANR | BU3: RTM | BW3: ANR | BY3: RTM | CA3: ANR | CC3: RTM | CE3: ANR | CG3: RTM
A4: 40f | B4: General Purpose Container | C4: 11,90 x 2,30 x 2,35 | D4: 64 m3 | E4: 28700 Kg | I4: =Recherche!C9 -> ANR | L4: Villes | M4: CP | N4: MAD | Q4: ANR | R4: RTM | T4: =Q4 -> ANR | U4: =R4 -> RTM | W4: 20f | X4: 40f | Y4: 20f | Z4: 40f | AA4: 20f | AB4: 40f | AC4: 20f | AD4: 40f | AE4: 20f | AF4: 40f | AG4: 20f | AH4: 40f | AI4: 20f | AJ4: 40f | AK4: 20f | AL4: 40f | AM4: 20f | AN4: 40f | AO4: 20f | AP4: 40f | AQ4: 20f | AR4: 40f | AS4: 20f | AT4: 40f | AU4: 20f | AV4: 40f | AW4: 20f | AX4: 40f | AY4: 20f | AZ4: 40f | BA4: 20f | BB4: 40f | BC4: 20f | BD4: 40f | BE4: 20f | BF4: 40f | BG4: 20f | BH4: 40f | BI4: 20f | BJ4: 40f | BK4: 20f | BL4: 40f | BM4: 20f | BN4: 40f | BO4: 20f | BP4: 40f | BQ4: 20f | BR4: 40f | BS4: 20f | BT4: 40f | BU4: 20f | BV4: 40f | BW4: 20f | BX4: 40f | BY4: 20f | BZ4: 40f | CA4: 20f | CB4: 40f | CC4: 20f | CD4: 40f | CE4: 20f | CF4: 40f | CG4: 20f | CH4: 40f
A5: 40f HC | B5: General Purpose Container | C5: 12 x 2,30 x 2,35 | D5: 74 m3 | E5: 28560 Kg | I5: =Recherche!C12 -> 40f | L5: BESANCON | M5: 25075 | N5: OTTMARSHEIM | O5: CONTAROTM - CONTARGO OTTMARSHEIM | Q5: 581 | R5: 697 | T5: =(Q5/$U$3)/24 -> 0.32277778 | U5: =(R5/$U$3)/24 -> 0.38722222 | W5: 995 | X5: 995 | Y5: 1140 | Z5: 1140 | AA5: 995 | AB5: 995 | AC5: 1140 | AD5: 1140 | AM5: 990 | AN5: 990 | AO5: 1155 | AP5: 1155 | AQ5: 990 | AR5: 990 | AS5: 1150 | AT5: 1150 | AU5: 1140 | AV5: 1140 | AW5: 1340 | AX5: 1340 | AY5: 1190 | AZ5: 1190 | BA5: 1390 | BB5: 1390 | BC5: 1280 | BD5: 1280 | BE5: 1490 | BF5: 1490 | BG5: 1320 | BH5: 1320 | BI5: 1540 | BJ5: 1540
A6: 20f Flat Rack | B6: Heavy goods & extra wide loads | C6: 5,90 x 2,30 x 2,25 | D6: 30 m3 | E6: 28100 Kg | L6: VERCEL VILLEDIEU LE CAMP | M6: 25530 | N6: OTTMARSHEIM | O6: CONTAROTM - CONTARGO OTTMARSHEIM | Q6: 586 | R6: 687 | T6: =(Q6/$U$3)/24 -> 0.32555556 | U6: =(R6/$U$3)/24 -> 0.38166667 | W6: 995 | X6: 995 | Y6: 1140 | Z6: 1140 | AA6: 995 | AB6: 995 | AC6: 1140 | AD6: 1140 | AM6: 1020 | AN6: 1020 | AO6: 1185 | AP6: 1185 | AQ6: 1020 | AR6: 1020 | AS6: 1180 | AT6: 1180 | AU6: 1170 | AV6: 1170 | AW6: 1370 | AX6: 1370 | AY6: 1220 | AZ6: 1220 | BA6: 1420 | BB6: 1420 | BC6: 1080 | BD6: 1080 | BE6: 1280 | BF6: 1280 | BG6: 1155 | BH6: 1155 | BI6: 1361 | BJ6: 1361
A7: 40f Flat Rack | B7: Heavy goods & extra wide loads | C7: 12 x 2,40 x 2,25 | D7: 65 m3 | E7: 40500 Kg | L7: MONTIGNY LE ROI | M7: 52140 | N7: STRASBOURG | O7: DEPCOLSXB - DEPOT COLIS LOURD STRASBOURG | Q7: 482 | R7: 599 | T7: =(Q7/$U$3)/24 -> 0.26777778 | U7: =(R7/$U$3)/24 -> 0.33277778 | W7: 900 | X7: 900 | Y7: 1100 | Z7: 1100 | AA7: 900 | AB7: 900 | AC7: 1100 | AD7: 1100 | AE7: 938 | AF7: 975 | AI7: 938 | AJ7: 975 | AM7: 955 | AN7: 955 | AO7: 1120 | AP7: 1120 | AQ7: 955 | AR7: 955 | AS7: 1115 | AT7: 1115 | AU7: 970 | AV7: 970 | AW7: 1160 | AX7: 1160 | AY7: 1010 | AZ7: 1010 | BA7: 1200 | BB7: 1200 | BC7: 1035 | BD7: 1035 | BE7: 1235 | BF7: 1235 | BG7: 1110 | BH7: 1110 | BI7: 1320 | BJ7: 1320
A8: 20f Open top | B8: Extra high load & loading from above | C8: 5,90 x 2,30 x 2,25 | D8: 30 m3 | E8: 28100 Kg | L8: AZERAILLES | M8: 54112 | N8: STRASBOURG | O8: DEPCOLSXB - DEPOT COLIS LOURD STRASBOURG | Q8: 429 | R8: 545 | T8: =(Q8/$U$3)/24 -> 0.23833333 | U8: =(R8/$U$3)/24 -> 0.30277778 | W8: 735 | X8: 735 | Y8: 850 | Z8: 850 | AA8: 735 | AB8: 735 | AC8: 850 | AD8: 850 | AE8: 715 | AF8: 743 | AI8: 715 | AJ8: 743 | AM8: 720 | AN8: 720 | AO8: 880 | AP8: 880 | AQ8: 715 | AR8: 715 | AS8: 875 | AT8: 875 | AU8: 730 | AV8: 730 | AW8: 900 | AX8: 900 | AY8: 760 | AZ8: 760 | BA8: 940 | BB8: 940 | BC8: 815 | BD8: 815 | BE8: 1015 | BF8: 1015 | BG8: 845 | BH8: 845 | BI8: 1050 | BJ8: 1050
A9: 40f Open top | B9: Extra high load & loading from above | C9: 11,90 x 2,30 x 2,25 | D9: 61 m3 | E9: 26300 Kg | L9: LANEUVILLE DEVANT NANCY | M9: 54410 | N9: STRASBOURG | O9: DEPCOLSXB - DEPOT COLIS LOURD STRASBOURG | Q9: 382 | R9: 498 | T9: =(Q9/$U$3)/24 -> 0.21222222 | U9: =(R9/$U$3)/24 -> 0.27666667 | W9: 750 | X9: 750 | Y9: 760 | Z9: 760 | AA9: 750 | AB9: 750 | AC9: 760 | AD9: 760 | AE9: 715 | AF9: 743 | AI9: 715 | AJ9: 743 | AM9: 690 | AN9: 690 | AO9: 850 | AP9: 850 | AQ9: 690 | AR9: 690 | AS9: 850 | AT9: 850 | AU9: 700 | AV9: 700 | AW9: 880 | AX9: 880 | AY9: 730 | AZ9: 730 | BA9: 915 | BB9: 915 | BC9: 765 | BD9: 765 | BE9: 955 | BF9: 955 | BG9: 820 | BH9: 820 | BI9: 1020 | BJ9: 1020
A10: 20f Reefer | B10: Reefer container | C10: 5,50 x 2,30 x 2,30 | D10: 28 m3 | E10: 27300 Kg | L10: PAGNY SUR MOSELLE | M10: 54530 | N10: STRASBOURG | O10: DEPCOLSXB - DEPOT COLIS LOURD STRASBOURG | Q10: 340 | R10: 456 | T10: =(Q10/$U$3)/24 -> 0.18888889 | U10: =(R10/$U$3)/24 -> 0.25333333 | W10: 715 | X10: 715 | Y10: 830 | Z10: 830 | AA10: 715 | AB10: 715 | AC10: 830 | AD10: 830 | AE10: 695 | AF10: 722 | AI10: 695 | AJ10: 722 | AM10: 685 | AN10: 685 | AO10: 845 | AP10: 845 | AQ10: 685 | AR10: 685 | AS10: 845 | AT10: 845 | AU10: 700 | AV10: 700 | AW10: 870 | AX10: 870 | AY10: 720 | AZ10: 720 | BA10: 910 | BB10: 910 | BC10: 755 | BD10: 755 | BE10: 945 | BF10: 945 | BG10: 810 | BH10: 810 | BI10: 1010 | BJ10: 1010
A11: 40f HCR | B11: High cube reefer container | C11: 11,70 x 2,30 x 2,50 | D11: 67 m3 | E11: 29300 Kg | L11: JOUY AUX ARCHES | M11: 57130 | N11: STRASBOURG | O11: DEPCOLSXB - DEPOT COLIS LOURD STRASBOURG | Q11: 329 | R11: 445 | T11: =(Q11/$U$3)/24 -> 0.18277778 | U11: =(R11/$U$3)/24 -> 0.24722222 | W11: 675 | X11: 675 | Y11: 820 | Z11: 820 | AA11: 675 | AB11: 675 | AC11: 820 | AD11: 820 | AE11: 668 | AF11: 696 | AI11: 668 | AJ11: 696 | AM11: 660 | AN11: 660 | AO11: 815 | AP11: 815 | AQ11: 655 | AR11: 655 | AS11: 815 | AT11: 815 | AU11: 670 | AV11: 670 | AW11: 850 | AX11: 850 | AY11: 695 | AZ11: 695 | BA11: 880 | BB11: 880 | BC11: 735 | BD11: 735 | BE11: 920 | BF11: 920 | BG11: 785 | BH11: 785 | BI11: 980 | BJ11: 980
A12: IMPORT | L12: FLORANGE | M12: 57190 | N12: STRASBOURG | O12: DEPCOLSXB - DEPOT COLIS LOURD STRASBOURG | Q12: 291 | R12: 408 | T12: =(Q12/$U$3)/24 -> 0.16166667 | U12: =(R12/$U$3)/24 -> 0.22666667 | W12: 675 | X12: 675 | Y12: 820 | Z12: 820 | AA12: 675 | AB12: 675 | AC12: 820 | AD12: 820 | AE12: 668 | AF12: 696 | AI12: 668 | AJ12: 696 | AM12: 630 | AN12: 630 | AO12: 795 | AP12: 795 | AQ12: 630 | AR12: 630 | AS12: 785 | AT12: 785 | AU12: 640 | AV12: 640 | AW12: 815 | AX12: 815 | AY12: 665 | AZ12: 665 | BA12: 845 | BB12: 845 | BC12: 685 | BD12: 685 | BE12: 875 | BF12: 875 | BG12: 735 | BH12: 735 | BI12: 935 | BJ12: 935
A13: EXPORT | L13: REDING | M13: 57400 | N13: STRASBOURG | O13: DEPCOLSXB - DEPOT COLIS LOURD STRASBOURG | Q13: 433 | R13: 549 | T13: =(Q13/$U$3)/24 -> 0.24055556 | U13: =(R13/$U$3)/24 -> 0.305 | W13: 675 | X13: 675 | Y13: 820 | Z13: 820 | AA13: 675 | AB13: 675 | AC13: 820 | AD13: 820 | AE13: 668 | AF13: 696 | AI13: 668 | AJ13: 696 | AM13: 655 | AN13: 655 | AO13: 815 | AP13: 815 | AQ13: 655 | AR13: 655 | AS13: 815 | AT13: 815 | AU13: 670 | AV13: 670 | AW13: 850 | AX13: 850 | AY13: 695 | AZ13: 695 | BA13: 880 | BB13: 880 | BC13: 745 | BD13: 745 | BE13: 945 | BF13: 945 | BG13: 770 | BH13: 770 | BI13: 980 | BJ13: 980
L14: STRASBOURG | M14: 67000 | N14: STRASBOURG | O14: DEPCOLSXB - DEPOT COLIS LOURD STRASBOURG | Q14: 479 | R14: 595 | T14: =(Q14/$U$3)/24 -> 0.26611111 | U14: =(R14/$U$3)/24 -> 0.33055556 | W14: 675 | X14: 675 | Y14: 820 | Z14: 820 | AA14: 675 | AB14: 675 | AC14: 820 | AD14: 820 | AE14: 643 | AF14: 668 | AI14: 643 | AJ14: 668 | AM14: 625 | AN14: 625 | AO14: 785 | AP14: 785 | AQ14: 630 | AR14: 630 | AS14: 785 | AT14: 785 | AU14: 640 | AV14: 640 | AW14: 815 | AX14: 815 | AY14: 660 | AZ14: 660 | BA14: 845 | BB14: 845 | BC14: 710 | BD14: 710 | BE14: 910 | BF14: 91 | BG14: 735 | BH14: 735 | BI14: 940 | BJ14: 940
A15: FOURNISSEURS | B15: Date Validité | C15: BE | D15: NL | E15: TAXE BE | F15: Surcharge Gazoile | G15: Offre | H15: Prix Global | I15: FOURNISSEURS | L15: STRASBOURG | M15: 67089 | N15: STRASBOURG | O15: DEPCOLSXB - DEPOT COLIS LOURD STRASBOURG | Q15: 479 | R15: 595 | T15: =(Q15/$U$3)/24 -> 0.26611111 | U15: =(R15/$U$3)/24 -> 0.33055556 | W15: 675 | X15: 675 | Y15: 820 | Z15: 820 | AA15: 675 | AB15: 675 | AC15: 820 | AD15: 820 | AE15: 643 | AF15: 668 | AI15: 643 | AJ15: 668 | AM15: 625 | AN15: 625 | AO15: 785 | AP15: 785 | AQ15: 630 | AR15: 630 | AS15: 785 | AT15: 785 | AU15: 640 | AV15: 640 | AW15: 815 | AX15: 815 | AY15: 660 | AZ15: 660 | BA15: 845 | BB15: 845 | BC15: 710 | BD15: 710 | BE15: 910 | BF15: 910 | BG15: 735 | BH15: 735 | BI15: 940 | BJ15: 940
L16: BAREMBACH | M16: 67133 | N16: STRASBOURG | O16: DEPCOLSXB - DEPOT COLIS LOURD STRASBOURG | Q16: 448 | R16: 565 | T16: =(Q16/$U$3)/24 -> 0.24888889 | U16: =(R16/$U$3)/24 -> 0.31388889 | W16: 745 | X16: 745 | Y16: 890 | Z16: 890 | AA16: 745 | AB16: 745 | AC16: 890 | AD16: 890 | AE16: 715 | AF16: 743 | AI16: 715 | AJ16: 743 | AM16: 745 | AN16: 745 | AO16: 910 | AP16: 910 | AQ16: 710 | AR16: 710 | AS16: 870 | AT16: 870 | AU16: 720 | AV16: 720 | AW16: 900 | AX16: 900 | AY16: 750 | AZ16: 750 | BA16: 935 | BB16: 935 | BC16: 785 | BD16: 785 | BE16: 985 | BF16: 985 | BG16: 815 | BH16: 815 | BI16: 1015 | BJ16: 1015
A17: =W1 -> SEATRUCK | B17: 43830 | C17: 45 | D17: 45 | E17: =IF($I$4="ANR",C17,D17) -> 45 | F17: 0.07 | G17: =INDIRECT("BDD!"&ADDRESS(MATCH(I$2,$L$1:$L$41,0),SUM(MATCH(A17,$1:$1,0),IF(I$4="ANR",0,4),IF(I$5="20f",0,1)),4,1),1) -> 995 | H17: =IF(F17="Inclus",G17+((G17*0)+E17),G17+((G17*F17)+E17)) -> 1109.65 | I17: =A17 -> SEATRUCK | L17: ERSTEIN | M17: 67152 | N17: STRASBOURG | O17: DEPCOLSXB - DEPOT COLIS LOURD STRASBOURG | Q17: 496 | R17: 613 | T17: =(Q17/$U$3)/24 -> 0.27555556 | U17: =(R17/$U$3)/24 -> 0.34055556 | W17: 675 | X17: 675 | Y17: 820 | Z17: 820 | AA17: 675 | AB17: 675 | AC17: 820 | AD17: 820 | AE17: 715 | AF17: 743 | AI17: 715 | AJ17: 743 | AM17: 695 | AN17: 695 | AO17: 855 | AP17: 855 | AQ17: 695 | AR17: 695 | AS17: 855 | AT17: 855 | AU17: 710 | AV17: 710 | AW17: 890 | AX17: 890 | AY17: 735 | AZ17: 735 | BA17: 920 | BB17: 920 | BC17: 770 | BD17: 770 | BE17: 965 | BF17: 965 | BG17: 815 | BH17: 815 | BI17: 1000 | BJ17: 1000
A18: =AE1 -> STRAL | B18: 43830 | C18: 0 | D18: 0 | E18: =IF($I$4="ANR",C18,D18) -> 0 | F18: 0 | G18: =INDIRECT("BDD!"&ADDRESS(MATCH(I$2,$L$1:$L$41,0),SUM(MATCH(A18,$1:$1,0),IF(I$4="ANR",0,4),IF(I$5="20f",0,1)),4,1),1) -> 0 | H18: =IF(F18="Inclus",G18+((G18*0)+E18),G18+((G18*F18)+E18)) -> 0 | I18: =A18 -> STRAL | L18: WOLFISHEIM | M18: 67202 | N18: STRASBOURG | O18: DEPCOLSXB - DEPOT COLIS LOURD STRASBOURG | Q18: 481 | R18: 597 | T18: =(Q18/$U$3)/24 -> 0.26722222 | U18: =(R18/$U$3)/24 -> 0.33166667 | W18: 675 | X18: 675 | Y18: 820 | Z18: 820 | AA18: 675 | AB18: 675 | AC18: 820 | AD18: 820 | AE18: 643 | AF18: 668 | AI18: 643 | AJ18: 668 | AM18: 640 | AN18: 640 | AO18: 805 | AP18: 805 | AQ18: 640 | AR18: 640 | AS18: 800 | AT18: 800 | AU18: 650 | AV18: 650 | AW18: 830 | AX18: 830 | AY18: 680 | AZ18: 680 | BA18: 860 | BB18: 860 | BC18: 715 | BD18: 715 | BE18: 915 | BF18: 915 | BG18: 735 | BH18: 735 | BI18: 945 | BJ18: 945
A19: =AM1 -> GTS | B19: 43830 | C19: 35 | D19: 37 | E19: =IF($I$4="ANR",C19,D19) -> 35 | F19: 0.1 | G19: =INDIRECT("BDD!"&ADDRESS(MATCH(I$2,$L$1:$L$41,0),SUM(MATCH(A19,$1:$1,0),IF(I$4="ANR",0,4),IF(I$5="20f",0,1)),4,1),1) -> 1020 | H19: =IF(F19="Inclus",G19+((G19*0)+E19),G19+((G19*F19)+E19)) -> 1157 | I19: =A19 -> GTS | L19: OBERNAI | M19: 67212 | N19: STRASBOURG | O19: DEPCOLSXB - DEPOT COLIS LOURD STRASBOURG | Q19: 476 | R19: 592 | T19: =(Q19/$U$3)/24 -> 0.26444444 | U19: =(R19/$U$3)/24 -> 0.32888889 | W19: 675 | X19: 675 | Y19: 820 | Z19: 820 | AA19: 675 | AB19: 675 | AC19: 820 | AD19: 820 | AE19: 668 | AF19: 696 | AI19: 668 | AJ19: 696 | AM19: 700 | AN19: 700 | AO19: 860 | AP19: 860 | AQ19: 700 | AR19: 700 | AS19: 860 | AT19: 860 | AU19: 710 | AV19: 710 | AW19: 890 | AX19: 890 | AY19: 740 | AZ19: 740 | BA19: 920 | BB19: 920 | BC19: 750 | BD19: 750 | BE19: 950 | BF19: 950 | BG19: 775 | BH19: 775 | BI19: 985 | BJ19: 985
A20: =AU1 -> NAVILAND | B20: 43646 | C20: 35 | D20: 40 | E20: =IF($I$4="ANR",C20,D20) -> 35 | F20: 0.0509 | G20: =INDIRECT("BDD!"&ADDRESS(MATCH(I$2,$L$1:$L$41,0),SUM(MATCH(A20,$1:$1,0),IF(I$4="ANR",0,4),IF(I$5="20f",0,1)),4,1),1) -> 1170 | H20: =IF(F20="Inclus",G20+((G20*0)+E20),G20+((G20*F20)+E20)) -> 1264.553 | I20: =A20 -> NAVILAND | L20: MARCKOLSHEIM | M20: 67390 | N20: STRASBOURG | O20: DEPCOLSXB - DEPOT COLIS LOURD STRASBOURG | Q20: 541 | R20: 658 | T20: =(Q20/$U$3)/24 -> 0.30055556 | U20: =(R20/$U$3)/24 -> 0.36555556 | W20: 770 | X20: 770 | Y20: 880 | Z20: 880 | AA20: 770 | AB20: 770 | AC20: 880 | AD20: 880 | AE20: 806 | AF20: 837 | AI20: 806 | AJ20: 837 | AM20: 795 | AN20: 795 | AO20: 960 | AP20: 960 | AQ20: 800 | AR20: 800 | AS20: 960 | AT20: 960 | AU20: 810 | AV20: 810 | AW20: 990 | AX20: 990 | AY20: 840 | AZ20: 840 | BA20: 1030 | BB20: 1030 | BC20: 895 | BD20: 895 | BE20: 1105 | BF20: 1105 | BG20: 925 | BH20: 925 | BI20: 1140 | BJ20: 1140
A21: =BC1 -> H&S LOGISTICS | B21: 43830 | C21: 0 | D21: 0 | E21: =IF($I$4="ANR",C21,D21) -> 0 | F21: 0 | G21: =INDIRECT("BDD!"&ADDRESS(MATCH(I$2,$L$1:$L$41,0),SUM(MATCH(A21,$1:$1,0),IF(I$4="ANR",0,4),IF(I$5="20f",0,1)),4,1),1) -> 1080 | H21: =IF(F21="Inclus",G21+((G21*0)+E21),G21+((G21*F21)+E21)) -> 1080 | I21: =A21 -> H&S LOGISTICS | L21: REUTENBOURG | M21: 67440 | N21: STRASBOURG | O21: DEPCOLSXB - DEPOT COLIS LOURD STRASBOURG | Q21: 444 | R21: 561 | T21: =(Q21/$U$3)/24 -> 0.24666667 | U21: =(R21/$U$3)/24 -> 0.31166667 | W21: 785 | X21: 785 | Y21: 930 | Z21: 930 | AA21: 785 | AB21: 785 | AC21: 930 | AD21: 930 | AE21: 643 | AF21: 668 | AI21: 643 | AJ21: 668 | AM21: 630 | AN21: 630 | AO21: 790 | AP21: 790 | AQ21: 630 | AR21: 630 | AS21: 790 | AT21: 790 | AU21: 640 | AV21: 640 | AW21: 820 | AX21: 820 | AY21: 670 | AZ21: 670 | BA21: 850 | BB21: 850 | BC21: 715 | BD21: 715 | BE21: 915 | BF21: 915 | BG21: 735 | BH21: 735 | BI21: 945 | BJ21: 945
A22: =BK1 -> NOUVEAU FOURNISSEUR 1 | C22: 0 | D22: 0 | E22: =IF($I$4="ANR",C22,D22) -> 0 | F22: 0 | G22: =INDIRECT("BDD!"&ADDRESS(MATCH(I$2,$L$1:$L$41,0),SUM(MATCH(A22,$1:$1,0),IF(I$4="ANR",0,4),IF(I$5="20f",0,1)),4,1),1) -> 0 | H22: =IF(F22="Inclus",G22+((G22*0)+E22),G22+((G22*F22)+E22)) -> 0 | I22: =A22 -> NOUVEAU FOURNISSEUR 1 | L22: HAGUENAU | M22: 67500 | N22: STRASBOURG | O22: DEPCOLSXB - DEPOT COLIS LOURD STRASBOURG | Q22: 466 | R22: 583 | T22: =(Q22/$U$3)/24 -> 0.25888889 | U22: =(R22/$U$3)/24 -> 0.32388889 | W22: 700 | X22: 700 | Y22: 845 | Z22: 845 | AA22: 700 | AB22: 700 | AC22: 845 | AD22: 845 | AE22: 668 | AF22: 696 | AI22: 668 | AJ22: 696 | AM22: 655 | AN22: 655 | AO22: 815 | AP22: 815 | AQ22: 655 | AR22: 655 | AS22: 815 | AT22: 815 | AU22: 670 | AV22: 670 | AW22: 845 | AX22: 845 | AY22: 690 | AZ22: 690 | BA22: 875 | BB22: 875 | BC22: 740 | BD22: 740 | BE22: 940 | BF22: 940 | BG22: 770 | BH22: 770 | BI22: 975 | BJ22: 975
A23: =BS1 -> NOUVEAU FOURNISSEUR 2 | C23: 0 | D23: 0 | E23: =IF($I$4="ANR",C23,D23) -> 0 | F23: 0 | G23: =INDIRECT("BDD!"&ADDRESS(MATCH(I$2,$L$1:$L$41,0),SUM(MATCH(A23,$1:$1,0),IF(I$4="ANR",0,4),IF(I$5="20f",0,1)),4,1),1) -> 0 | H23: =IF(F23="Inclus",G23+((G23*0)+E23),G23+((G23*F23)+E23)) -> 0 | I23: =A23 -> NOUVEAU FOURNISSEUR 2 | L23: SAVERNE | M23: 67700 | N23: STRASBOURG | O23: DEPCOLSXB - DEPOT COLIS LOURD STRASBOURG | Q23: 438 | R23: 555 | T23: =(Q23/$U$3)/24 -> 0.24333333 | U23: =(R23/$U$3)/24 -> 0.30833333 | W23: 680 | X23: 680 | Y23: 840 | Z23: 840 | AA23: 680 | AB23: 680 | AC23: 840 | AD23: 840 | AE23: 668 | AF23: 696 | AI23: 668 | AJ23: 696 | AM23: 640 | AN23: 640 | AO23: 800 | AP23: 800 | AQ23: 640 | AR23: 640 | AS23: 800 | AT23: 800 | AU23: 650 | AV23: 650 | AW23: 83 | AX23: 83 | AY23: 680 | AZ23: 680 | BA23: 860 | BB23: 860 | BC23: 730 | BD23: 730 | BE23: 930 | BF23: 930 | BG23: 755 | BH23: 755 | BI23: 960 | BJ23: 960
A24: =CA1 -> NOUVEAU FOURNISSEUR 3 | C24: 0 | D24: 0 | E24: =IF($I$4="ANR",C24,D24) -> 0 | F24: 0 | G24: =INDIRECT("BDD!"&ADDRESS(MATCH(I$2,$L$1:$L$41,0),SUM(MATCH(A24,$1:$1,0),IF(I$4="ANR",0,4),IF(I$5="20f",0,1)),4,1),1) -> 0 | H24: =IF(F24="Inclus",G24+((G24*0)+E24),G24+((G24*F24)+E24)) -> 0 | I24: =A24 -> NOUVEAU FOURNISSEUR 3 | L24: LANDERSHEIM | M24: 67700 | N24: STRASBOURG | O24: DEPCOLSXB - DEPOT COLIS LOURD STRASBOURG | Q24: 447 | R24: 564 | T24: =(Q24/$U$3)/24 -> 0.24833333 | U24: =(R24/$U$3)/24 -> 0.31333333 | W24: 675 | X24: 675 | Y24: 820 | Z24: 820 | AA24: 675 | AB24: 675 | AC24: 820 | AD24: 820 | AE24: 643 | AF24: 668 | AI24: 643 | AJ24: 668 | AM24: 630 | AN24: 630 | AO24: 790 | AP24: 790 | AQ24: 630 | AR24: 630 | AS24: 790 | AT24: 790 | AU24: 640 | AV24: 640 | AW24: 820 | AX24: 820 | AY24: 670 | AZ24: 670 | BA24: 850 | BB24: 850 | BC24: 710 | BD24: 710 | BE24: 910 | BF24: 910 | BG24: 735 | BH24: 735 | BI24: 940 | BJ24: 940
L25: COLMAR | M25: 68025 | N25: OTTMARSHEIM | O25: CONTAROTM - CONTARGO OTTMARSHEIM | Q25: 548 | R25: 664 | T25: =(Q25/$U$3)/24 -> 0.30444444 | U25: =(R25/$U$3)/24 -> 0.36888889 | W25: 825 | X25: 825 | Y25: 970 | Z25: 970 | AA25: 825 | AB25: 825 | AC25: 970 | AD25: 970 | AM25: 785 | AN25: 785 | AO25: 950 | AP25: 950 | AQ25: 790 | AR25: 790 | AS25: 950 | AT25: 950 | AU25: 945 | AV25: 945 | AW25: 1130 | AX25: 1130 | AY25: 980 | AZ25: 980 | BA25: 1175 | BB25: 1175 | BC25: 880 | BD25: 880 | BE25: 1085 | BF25: 1085 | BG25: 970 | BH25: 970 | BI25: 1180 | BJ25: 1180
L26: SAINTE CROIX EN PLAINE | M26: 68127 | N26: OTTMARSHEIM | O26: CONTAROTM - CONTARGO OTTMARSHEIM | Q26: 556 | R26: 673 | T26: =(Q26/$U$3)/24 -> 0.30888889 | U26: =(R26/$U$3)/24 -> 0.37388889 | W26: 825 | X26: 825 | Y26: 970 | Z26: 970 | AA26: 825 | AB26: 825 | AC26: 970 | AD26: 970 | AM26: 785 | AN26: 785 | AO26: 950 | AP26: 950 | AQ26: 790 | AR26: 790 | AS26: 950 | AT26: 950 | AU26: 950 | AV26: 950 | AW26: 1135 | AX26: 1135 | AY26: 980 | AZ26: 980 | BA26: 1175 | BB26: 1175 | BC26: 865 | BD26: 865 | BE26: 1055 | BF26: 1055 | BG26: 920 | BH26: 920 | BI26: 1125 | BJ26: 1125
L27: GRAY | M27: 70100 | N27: OTTMARSHEIM | O27: CONTAROTM - CONTARGO OTTMARSHEIM | Q27: 574 | R27: 691 | T27: =(Q27/$U$3)/24 -> 0.31888889 | U27: =(R27/$U$3)/24 -> 0.38388889 | W27: 970 | X27: 970 | Y27: 1115 | Z27: 1115 | AA27: 970 | AB27: 970 | AC27: 1115 | AD27: 1115 | AM27: 1015 | AN27: 1015 | AO27: 1180 | AP27: 1180 | AQ27: 1015 | AR27: 1015 | AS27: 1175 | AT27: 1175 | AU27: 1170 | AV27: 1170 | AW27: 1365 | AX27: 1365 | AY27: 1210 | AZ27: 1210 | BA27: 1415 | BB27: 1415 | BC27: 1135 | BD27: 1135 | BE27: 1335 | BF27: 1335 | BG27: 1210 | BH27: 1210 | BI27: 1425 | BJ27: 1425
L28: PORT SUR SAONE | M28: 70170 | N28: OTTMARSHEIM | O28: CONTAROTM - CONTARGO OTTMARSHEIM | Q28: 525 | R28: 657 | T28: =(Q28/$U$3)/24 -> 0.29166667 | U28: =(R28/$U$3)/24 -> 0.365 | W28: 875 | X28: 875 | Y28: 1020 | Z28: 1020 | AA28: 875 | AB28: 875 | AC28: 1020 | AD28: 1020 | AM28: 900 | AN28: 900 | AO28: 1060 | AP28: 1060 | AQ28: 895 | AR28: 895 | AS28: 1055 | AT28: 1055 | AU28: 1050 | AV28: 1050 | AW28: 1240 | AX28: 1240 | AY28: 1090 | AZ28: 1090 | BA28: 1290 | BB28: 1290 | BC28: 1185 | BD28: 1185 | BE28: 1400 | BF28: 1400 | BG28: 1225 | BH28: 1225 | BI28: 1445 | BJ28: 1445
L29: LUXEUIL LES BAINS | M29: 70300 | N29: OTTMARSHEIM | O29: CONTAROTM - CONTARGO OTTMARSHEIM | Q29: 500 | R29: 616 | T29: =(Q29/$U$3)/24 -> 0.27777778 | U29: =(R29/$U$3)/24 -> 0.34222222 | W29: 850 | X29: 850 | Y29: 995 | Z29: 995 | AA29: 850 | AB29: 850 | AC29: 995 | AD29: 995 | AM29: 815 | AN29: 815 | AO29: 980 | AP29: 980 | AQ29: 815 | AR29: 815 | AS29: 975 | AT29: 975 | AU29: 970 | AV29: 970 | AW29: 1160 | AX29: 1160 | AY29: 1005 | AZ29: 1005 | BA29: 1200 | BB29: 1200 | BC29: 865 | BD29: 865 | BE29: 1030 | BF29: 1030 | BG29: 920 | BH29: 920 | BI29: 1095 | BJ29: 1095
L30: CHARCENNE | M30: 70700 | N30: OTTMARSHEIM | O30: CONTAROTM - CONTARGO OTTMARSHEIM | Q30: 577 | R30: 693 | T30: =(Q30/$U$3)/24 -> 0.32055556 | U30: =(R30/$U$3)/24 -> 0.385 | W30: 970 | X30: 970 | Y30: 1115 | Z30: 1115 | AA30: 970 | AB30: 970 | AC30: 1115 | AD30: 1115 | AM30: 1025 | AN30: 1025 | AO30: 1190 | AP30: 1190 | AQ30: 1025 | AR30: 1025 | AS30: 1185 | AT30: 1185 | AU30: 1180 | AV30: 1180 | AW30: 1375 | AX30: 1375 | AY30: 1220 | AZ30: 1220 | BA30: 1425 | BB30: 1425 | BC30: 1140 | BD30: 1140 | BE30: 1340 | BF30: 1340 | BG30: 1215 | BH30: 1215 | BI30: 1430 | BJ30: 1430
L31: DANJOUTIN | M31: 90400 | N31: OTTMARSHEIM | O31: CONTAROTM - CONTARGO OTTMARSHEIM | Q31: 555 | R31: 671 | T31: =(Q31/$U$3)/24 -> 0.30833333 | U31: =(R31/$U$3)/24 -> 0.37277778 | W31: 855 | X31: 855 | Y31: 995 | Z31: 995 | AA31: 855 | AB31: 855 | AC31: 995 | AD31: 995 | AM31: 820 | AN31: 820 | AO31: 985 | AP31: 985 | AQ31: 820 | AR31: 820 | AS31: 980 | AT31: 980 | AU31: 970 | AV31: 970 | AW31: 1160 | AX31: 1160 | AY31: 1010 | AZ31: 1010 | BA31: 1205 | BB31: 1205 | BC31: 1050 | BD31: 1050 | BE31: 1250 | BF31: 1250 | BG31: 1085 | BH31: 1085 | BI31: 1290 | BJ31: 1290
T32: =(Q32/$U$3)/24 -> 0 | U32: =(R32/$U$3)/24 -> 0
T33: =(Q33/$U$3)/24 -> 0 | U33: =(R33/$U$3)/24 -> 0
T34: =(Q34/$U$3)/24 -> 0 | U34: =(R34/$U$3)/24 -> 0
T35: =(Q35/$U$3)/24 -> 0 | U35: =(R35/$U$3)/24 -> 0
T36: =(Q36/$U$3)/24 -> 0 | U36: =(R36/$U$3)/24 -> 0
T37: =(Q37/$U$3)/24 -> 0 | U37: =(R37/$U$3)/24 -> 0
T38: =(Q38/$U$3)/24 -> 0 | U38: =(R38/$U$3)/24 -> 0
T39: =(Q39/$U$3)/24 -> 0 | U39: =(R39/$U$3)/24 -> 0
T40: =(Q40/$U$3)/24 -> 0 | U40: =(R40/$U$3)/24 -> 0
...
