Workbook

Sheet Synthèse
A3: Étiquettes de lignes | B3: Catégorie | C3: Nombre de TITRE
A4: 1 | B4: CUISINE | C4: 2
B5: NATURE | C5: 2
B6: SPORT | C6: 1
A7: Total 1 | C7: 5
A8: 2 | B8: CUISINE | C8: 1
B9: NATURE | C9: 1
A10: Total 2 | C10: 2
A11: 3 | B11: NATURE | C11: 1
A12: Total 3 | C12: 1
A13: 4 | B13: CUISINE | C13: 1
B14: SPORT | C14: 1
A15: Total 4 | C15: 2
A16: Total général | C16: 10

Sheet Données
A1: Ligne | B1: TITRE | C1: Catégorie
A2: 1 | B2: Cuisine méditérranénne (La) | C2: =VLOOKUP(B2,base!$A$1:$B$5,2,FALSE) -> CUISINE
A3: 1 | B3: Tour de France (Le) | C3: =VLOOKUP(B3,base!$A$1:$B$5,2,FALSE) -> SPORT
A4: 1 | B4: Félins d'asie | C4: =VLOOKUP(B4,base!$A$1:$B$5,2,FALSE) -> NATURE
A5: 1 | B5: Frelons (Les) | C5: =VLOOKUP(B5,base!$A$1:$B$5,2,FALSE) -> NATURE
A6: 1 | B6: Cuisine d'asie (La) | C6: =VLOOKUP(B6,base!$A$1:$B$5,2,FALSE) -> CUISINE
A7: 2 | B7: Félins d'asie | C7: =VLOOKUP(B7,base!$A$1:$B$5,2,FALSE) -> NATURE
A8: 2 | B8: Cuisine d'asie (La) | C8: =VLOOKUP(B8,base!$A$1:$B$5,2,FALSE) -> CUISINE
A9: 3 | B9: Frelons (Les) | C9: =VLOOKUP(B9,base!$A$1:$B$5,2,FALSE) -> NATURE
A10: 4 | B10: Tour de France (Le) | C10: =VLOOKUP(B10,base!$A$1:$B$5,2,FALSE) -> SPORT
A11: 4 | B11: Cuisine méditérranénne (La) | C11: =VLOOKUP(B11,base!$A$1:$B$5,2,FALSE) -> CUISINE

Sheet Feuil1
A1: CUISINE | B1: SPORT | C1: NATURE | D1: TITRE 1 | E1: TITRE 2 | F1: TITRE 3 | G1: TITRE 4 | H1: TITRE 5
A2: =COUNTIF(base!$D2:$H2,A$1) -> 2 | B2: =COUNTIF(base!$D2:$H2,B$1) -> 1 | C2: =COUNTIF(base!$D2:$H2,C$1) -> 2 | D2: Cuisine méditérranénne (La) | E2: Tour de France (Le) | F2: Félins d'asie | G2: Frelons (Les) | H2: Cuisine d'asie (La)
A3: =COUNTIF(base!$D3:$H3,A$1) -> 1 | B3: =COUNTIF(base!$D3:$H3,B$1) -> 0 | C3: =COUNTIF(base!$D3:$H3,C$1) -> 1 | D3: Félins d'asie | E3: Cuisine d'asie (La)
A4: =COUNTIF(base!$D4:$H4,A$1) -> 0 | B4: =COUNTIF(base!$D4:$H4,B$1) -> 0 | C4: =COUNTIF(base!$D4:$H4,C$1) -> 1 | D4: Frelons (Les)
A5: =COUNTIF(base!$D5:$H5,A$1) -> 1 | B5: =COUNTIF(base!$D5:$H5,B$1) -> 1 | C5: =COUNTIF(base!$D5:$H5,C$1) -> 0 | D5: Tour de France (Le) | E5: Cuisine méditérranénne (La)
B7: Le but : placer les titres présents en D, E, F, G et H dans les 3 catégories (en A, B, C) sous la forme d'un comptage.
B8: Exemple : pour "CUISINE" (en A), je souhaiterais voir le nombre "2" car il y a deux livres sur la cuisine.
B9: Pour ce faire, il existe dans l'onglet "base" la liste des titres avec leurs bonnes catégorie
B10: Merci à ceux qui peuvent m'aider !

Sheet base
A1: Cuisine méditérranénne (La) | B1: CUISINE | D1: CAT 1 | E1: CAT 2 | F1: CAT 3 | G1: CAT 4 | H1: CAT 5
A2: Tour de France (Le) | B2: SPORT | D2: =IFERROR(VLOOKUP(Feuil1!D2,base!$A$1:$B$5,2,FALSE),"") -> CUISINE | E2: =IFERROR(VLOOKUP(Feuil1!E2,base!$A$1:$B$5,2,FALSE),"") -> SPORT | F2: =IFERROR(VLOOKUP(Feuil1!F2,base!$A$1:$B$5,2,FALSE),"") -> NATURE | G2: =IFERROR(VLOOKUP(Feuil1!G2,base!$A$1:$B$5,2,FALSE),"") -> NATURE | H2: =IFERROR(VLOOKUP(Feuil1!H2,base!$A$1:$B$5,2,FALSE),"") -> CUISINE
A3: Félins d'asie | B3: NATURE | D3: =IFERROR(VLOOKUP(Feuil1!D3,base!$A$1:$B$5,2,FALSE),"") -> NATURE | E3: =IFERROR(VLOOKUP(Feuil1!E3,base!$A$1:$B$5,2,FALSE),"") -> CUISINE | F3: =IFERROR(VLOOKUP(Feuil1!F3,base!$A$1:$B$5,2,FALSE),"") | G3: =IFERROR(VLOOKUP(Feuil1!G3,base!$A$1:$B$5,2,FALSE),"") | H3: =IFERROR(VLOOKUP(Feuil1!H3,base!$A$1:$B$5,2,FALSE),"")
A4: Frelons (Les) | B4: NATURE | D4: =IFERROR(VLOOKUP(Feuil1!D4,base!$A$1:$B$5,2,FALSE),"") -> NATURE | E4: =IFERROR(VLOOKUP(Feuil1!E4,base!$A$1:$B$5,2,FALSE),"") | F4: =IFERROR(VLOOKUP(Feuil1!F4,base!$A$1:$B$5,2,FALSE),"") | G4: =IFERROR(VLOOKUP(Feuil1!G4,base!$A$1:$B$5,2,FALSE),"") | H4: =IFERROR(VLOOKUP(Feuil1!H4,base!$A$1:$B$5,2,FALSE),"")
A5: Cuisine d'asie (La) | B5: CUISINE | D5: =IFERROR(VLOOKUP(Feuil1!D5,base!$A$1:$B$5,2,FALSE),"") -> SPORT | E5: =IFERROR(VLOOKUP(Feuil1!E5,base!$A$1:$B$5,2,FALSE),"") -> CUISINE | F5: =IFERROR(VLOOKUP(Feuil1!F5,base!$A$1:$B$5,2,FALSE),"") | G5: =IFERROR(VLOOKUP(Feuil1!G5,base!$A$1:$B$5,2,FALSE),"") | H5: =IFERROR(VLOOKUP(Feuil1!H5,base!$A$1:$B$5,2,FALSE),"")
