Workbook

Sheet SEM36
S1: Calcul Temps de Travail Hebdo Théorique | Z1: Calcul du nombre de TR par jou par personne | AH1: Décompte Congés Jours | AP1: Décompte Congés Heures
A2: Nom Jour | B2: Lundi | D2: Mardi | F2: Mercredi | H2: Jeudi | J2: Vendredi | L2: Samedi | N2: Total Théorique | O2: Signature Réception | P2: Réel | Q2: Signature Validation | S2: Lundi | T2: Mardi | U2: Mercredi | V2: Jeudi | W2: Vendredi | X2: Samedi | Z2: Lundi | AA2: Mardi | AB2: Mercredi | AC2: Jeudi | AD2: Vendredi | AE2: Samedi | AF2: TR Hebdo | AH2: Lundi | AI2: Mardi | AJ2: Mercredi | AK2: Jeudi | AL2: Vendredi | AM2: Samedi | AN2: Total Hebdo | AP2: Lundi | AQ2: Mardi | AR2: Mercredi | AS2: Jeudi | AT2: Vendredi | AU2: Samedi | AV2: Total Hebdo
B3: 43710 | D3: =+B3+1 -> 43711 | F3: =+D3+1 -> 43712 | H3: =+F3+1 -> 43713 | J3: =+H3+1 -> 43714 | L3: =+J3+1 -> 43715
A4: =BDD!B2 -> Salarié1 | B4: 0 | C4: 0.54166667 | D4: 0.41666667 | E4: 0.5 | F4: 0.41666667 | G4: 0.5 | H4: 0.41666667 | I4: 0.5 | J4: 0.41666667 | K4: 0.5 | L4: 0.41666667 | M4: 0.5 | N4: =SUM(S4:X5) -> 1.4583333 | S4: =+C5-B5+C4-B4 -> 0.54166667 | T4: =SUM(E4-D4)+SUM(E5-D5) -> 0.16666667 | U4: =SUM(G4-F4) + SUM(G5-F5) -> 0.125 | V4: =SUM(I4-H4) + SUM(I5-H5) -> 0.16666667 | W4: =SUM(K4-J4) + SUM(K5-J5) -> 0.16666667 | X4: =SUM(M4-L4) + SUM(M5-L5) -> 0.29166667 | Z4: =IF(B4<>0, IF(B5<>0,1,0),0) -> 0 | AA4: =IF(D4<>0, IF(D5<>0,1,0),0) -> 1 | AB4: =IF(F4<>0, IF(F5<>0,1,0),0) -> 1 | AC4: =IF(H4<>0, IF(H5<>0,1,0),0) -> 1 | AD4: =IF(J4<>0, IF(J5<>0,1,0),0) -> 1 | AE4: =IF(L4<>0, IF(L5<>0,1,0),0) -> 1 | AF4: =SUM(Z4:AE5) -> 5 | AH4: 0 | AI4: 0 | AJ4: 0 | AK4: 0 | AL4: 0 | AM4: 0 | AN4: =SUM(AH4:AM5) -> 0 | AP4: 0 | AQ4: 0 | AR4: 0 | AS4: 0 | AT4: 0 | AU4: 0 | AV4: =SUM(AP4:AU5) -> 0
D5: 0.70833333 | E5: 0.79166667 | F5: 0.75 | G5: 0.79166667 | H5: 0.70833333 | I5: 0.79166667 | J5: 0.70833333 | K5: 0.79166667 | L5: 0.58333333 | M5: 0.79166667
A6: =BDD!B3 -> Salarié2 | B6: 0.39583333 | C6: 0.5 | D6: 0.39583333 | E6: 0.5 | F6: 0.39583333 | G6: 0.5 | H6: 0.39583333 | I6: 0.5 | L6: 0.39583333 | M6: 0.5 | N6: =SUM(S6:X7) -> 1.4583333 | S6: =+C7-B7+C6-B6 -> 0.29166667 | T6: =SUM(E6-D6)+SUM(E7-D7) -> 0.3125 | U6: =SUM(G6-F6) + SUM(G7-F7) -> 0.3125 | V6: =SUM(I6-H6) + SUM(I7-H7) -> 0.27083333 | W6: =SUM(K6-J6) + SUM(K7-J7) -> 0 | X6: =SUM(M6-L6) + SUM(M7-L7) -> 0.27083333 | Z6: =IF(B6<>0, IF(B7<>0,1,0),0) -> 1 | AA6: =IF(D6<>0, IF(D7<>0,1,0),0) -> 1 | AB6: =IF(F6<>0, IF(F7<>0,1,0),0) -> 1 | AC6: =IF(H6<>0, IF(H7<>0,1,0),0) -> 1 | AD6: =IF(J6<>0, IF(J7<>0,1,0),0) -> 0 | AE6: =IF(L6<>0, IF(L7<>0,1,0),0) -> 1 | AF6: =SUM(Z6:AE7) -> 5 | AH6: 0 | AI6: 0 | AJ6: 0 | AK6: 0 | AL6: 0 | AM6: 0 | AN6: =SUM(AH6:AM7) -> 0 | AP6: 0 | AQ6: 0 | AR6: 0 | AS6: 0 | AT6: 0 | AU6: 0 | AV6: =SUM(AP6:AU7) -> 0
B7: 0.60416667 | C7: 0.79166667 | D7: 0.58333333 | E7: 0.79166667 | F7: 0.58333333 | G7: 0.79166667 | H7: 0.58333333 | I7: 0.75 | L7: 0.58333333 | M7: 0.75
A8: =BDD!B5 -> Salarié4 | N8: =SUM(S8:X9) -> 0 | S8: =+C9-B9+C8-B8 -> 0 | T8: =SUM(E8-D8)+SUM(E9-D9) -> 0 | U8: =SUM(G8-F8) + SUM(G9-F9) -> 0 | V8: =SUM(I8-H8) + SUM(I9-H9) -> 0 | W8: =SUM(K8-J8) + SUM(K9-J9) -> 0 | X8: =SUM(M8-L8) + SUM(M9-L9) -> 0 | Z8: =IF(B8<>0, IF(B9<>0,1,0),0) -> 0 | AA8: =IF(D8<>0, IF(D9<>0,1,0),0) -> 0 | AB8: =IF(F8<>0, IF(F9<>0,1,0),0) -> 0 | AC8: =IF(H8<>0, IF(H9<>0,1,0),0) -> 0 | AD8: =IF(J8<>0, IF(J9<>0,1,0),0) -> 0 | AE8: =IF(L8<>0, IF(L9<>0,1,0),0) -> 0 | AF8: =SUM(Z8:AE9) -> 0 | AH8: 0 | AI8: 0 | AJ8: 0 | AK8: 0 | AL8: 0 | AM8: 0 | AN8: =SUM(AH8:AM9) -> 0 | AP8: 0 | AQ8: 0 | AR8: 0 | AS8: 0 | AT8: 0 | AU8: 0 | AV8: =SUM(AP8:AU9) -> 0
A10: =BDD!B4 -> Salarié3 | D10: 0.375 | E10: 0.5 | F10: 0.375 | G10: 0.5 | H10: 0.375 | I10: 0.5 | J10: 0.375 | K10: 0.5 | L10: 0.375 | M10: 0.5 | N10: =SUM(S10:X11) -> 1.4583333 | S10: =+C11-B11+C10-B10 -> 0 | T10: =SUM(E10-D10)+SUM(E11-D11) -> 0.33333333 | U10: =SUM(G10-F10) + SUM(G11-F11) -> 0.25 | V10: =SUM(I10-H10) + SUM(I11-H11) -> 0.29166667 | W10: =SUM(K10-J10) + SUM(K11-J11) -> 0.33333333 | X10: =SUM(M10-L10) + SUM(M11-L11) -> 0.25 | Z10: =IF(B10<>0, IF(B11<>0,1,0),0) -> 0 | AA10: =IF(D10<>0, IF(D11<>0,1,0),0) -> 1 | AB10: =IF(F10<>0, IF(F11<>0,1,0),0) -> 1 | AC10: =IF(H10<>0, IF(H11<>0,1,0),0) -> 1 | AD10: =IF(J10<>0, IF(J11<>0,1,0),0) -> 1 | AE10: =IF(L10<>0, IF(L11<>0,1,0),0) -> 1 | AF10: =SUM(Z10:AE11) -> 5 | AH10: 1 | AI10: 1 | AJ10: 0 | AK10: 0 | AL10: 0 | AM10: 0 | AN10: =SUM(AH10:AM11) -> 2 | AP10: 0 | AQ10: 0 | AR10: 0 | AS10: 0 | AT10: 0 | AU10: 0 | AV10: =SUM(AP10:AU11) -> 0
D11: 0.54166667 | E11: 0.75 | F11: 0.58333333 | G11: 0.70833333 | H11: 0.54166667 | I11: 0.70833333 | J11: 0.54166667 | K11: 0.75 | L11: 0.58333333 | M11: 0.70833333
A12: =BDD!B9 -> Salarié8 | B12: 0.375 | C12: 0.5 | H12: 0.42708333 | I12: 0.54166667 | J12: 0.41666667 | K12: 0.5 | L12: 0.41666667 | M12: 0.55208333 | N12: =SUM(S12:X13) -> 1.4583333 | S12: =+C13-B13+C12-B12 -> 0.33333333 | T12: =SUM(E12-D12)+SUM(E13-D13) -> 0 | U12: =SUM(G12-F12) + SUM(G13-F13) -> 0.21875 | V12: =SUM(I12-H12) + SUM(I13-H13) -> 0.29166667 | W12: =SUM(K12-J12) + SUM(K13-J13) -> 0.30208333 | X12: =SUM(M12-L12) + SUM(M13-L13) -> 0.3125 | Z12: =IF(B12<>0, IF(B13<>0,1,0),0) -> 1 | AA12: =IF(D12<>0, IF(D13<>0,1,0),0) -> 0 | AB12: =IF(F12<>0, IF(F13<>0,1,0),0) -> 0 | AC12: =IF(H12<>0, IF(H13<>0,1,0),0) -> 1 | AD12: =IF(J12<>0, IF(J13<>0,1,0),0) -> 1 | AE12: =IF(L12<>0, IF(L13<>0,1,0),0) -> 1 | AF12: =SUM(Z12:AE13) -> 4 | AH12: 0 | AI12: 0 | AJ12: 0 | AK12: 0 | AL12: 0 | AM12: 0 | AN12: =SUM(AH12:AM13) -> 0 | AP12: 0 | AQ12: 0 | AR12: 0 | AS12: 0 | AT12: 0 | AU12: 0 | AV12: =SUM(AP12:AU13) -> 0
B13: 0.54166667 | C13: 0.75 | F13: 0.58333333 | G13: 0.80208333 | H13: 0.625 | I13: 0.80208333 | J13: 0.58333333 | K13: 0.80208333 | L13: 0.59375 | M13: 0.77083333
A14: =BDD!B6 -> Salarié5 | B14: 0.41666667 | C14: 0.54166667 | D14: 0.39583333 | E14: 0.5 | F14: 0.41666667 | G14: 0.5 | H14: 0.39583333 | I14: 0.5 | N14: =SUM(S14:X15) -> 1.4583333 | S14: =+C15-B15+C14-B14 -> 0.34375 | T14: =SUM(E14-D14)+SUM(E15-D15) -> 0.32291667 | U14: =SUM(G14-F14) + SUM(G15-F15) -> 0.30208333 | V14: =SUM(I14-H14) + SUM(I15-H15) -> 0.27083333 | W14: =SUM(K14-J14) + SUM(K15-J15) -> 0 | X14: =SUM(M14-L14) + SUM(M15-L15) -> 0.21875 | Z14: =IF(B14<>0, IF(B15<>0,1,0),0) -> 1 | AA14: =IF(D14<>0, IF(D15<>0,1,0),0) -> 1 | AB14: =IF(F14<>0, IF(F15<>0,1,0),0) -> 1 | AC14: =IF(H14<>0, IF(H15<>0,1,0),0) -> 1 | AD14: =IF(J14<>0, IF(J15<>0,1,0),0) -> 0 | AE14: =IF(L14<>0, IF(L15<>0,1,0),0) -> 0 | AF14: =SUM(Z14:AE15) -> 4 | AH14: 0 | AI14: 0 | AJ14: 0 | AK14: 0 | AL14: 0 | AM14: 0 | AN14: =SUM(AH14:AM15) -> 0 | AP14: 0 | AQ14: 0 | AR14: 0 | AS14: 0 | AT14: 0 | AU14: 0 | AV14: =SUM(AP14:AU15) -> 0
B15: 0.58333333 | C15: 0.80208333 | D15: 0.58333333 | E15: 0.80208333 | F15: 0.54166667 | G15: 0.76041667 | H15: 0.58333333 | I15: 0.75 | L15: 0.58333333 | M15: 0.80208333
A16: =BDD!B8 -> Salarié7 | B16: 0.375 | C16: 0.52083333 | D16: 0.375 | E16: 0.52083333 | H16: 0.41666667 | I16: 0.51041667 | J16: 0.39583333 | K16: 0.51041667 | L16: 0.39583333 | M16: 0.5 | N16: =SUM(S16:X17) -> 1.6041667 | S16: =+C17-B17+C16-B16 -> 0.29166667 | T16: =SUM(E16-D16)+SUM(E17-D17) -> 0.29166667 | U16: =SUM(G16-F16) + SUM(G17-F17) -> 0 | V16: =SUM(I16-H16) + SUM(I17-H17) -> 0.33333333 | W16: =SUM(K16-J16) + SUM(K17-J17) -> 0.35416667 | X16: =SUM(M16-L16) + SUM(M17-L17) -> 0.33333333 | Z16: =IF(B16<>0, IF(B17<>0,1,0),0) -> 1 | AA16: =IF(D16<>0, IF(D17<>0,1,0),0) -> 1 | AB16: =IF(F16<>0, IF(F17<>0,1,0),0) -> 0 | AC16: =IF(H16<>0, IF(H17<>0,1,0),0) -> 1 | AD16: =IF(J16<>0, IF(J17<>0,1,0),0) -> 1 | AE16: =IF(L16<>0, IF(L17<>0,1,0),0) -> 1 | AF16: =SUM(Z16:AE17) -> 5 | AH16: 0 | AI16: 0 | AJ16: 0 | AK16: 0 | AL16: 0 | AM16: 0 | AN16: =SUM(AH16:AM17) -> 0 | AP16: 0 | AQ16: 0 | AR16: 0 | AS16: 0 | AT16: 0 | AU16: 0 | AV16: =SUM(AP16:AU17) -> 0
B17: 0.5625 | C17: 0.70833333 | D17: 0.5625 | E17: 0.70833333 | H17: 0.55208333 | I17: 0.79166667 | J17: 0.55208333 | K17: 0.79166667 | L17: 0.54166667 | M17: 0.77083333
A18: =BDD!B9 -> Salarié8 | B18: 0.41666667 | C18: 0.51041667 | D18: 0.41666667 | E18: 0.54166667 | F18: 0.39583333 | G18: 0.54166667 | L18: 0.39583333 | M18: 0.51041667 | N18: =SUM(S18:X19) -> 1.4583333 | S18: =+C19-B19+C18-B18 -> 0.33333333 | T18: =SUM(E18-D18)+SUM(E19-D19) -> 0.29166667 | U18: =SUM(G18-F18) + SUM(G19-F19) -> 0.3125 | V18: =SUM(I18-H18) + SUM(I19-H19) -> 0 | W18: =SUM(K18-J18) + SUM(K19-J19) -> 0.16666667 | X18: =SUM(M18-L18) + SUM(M19-L19) -> 0.35416667 | Z18: =IF(B18<>0, IF(B19<>0,1,0),0) -> 1 | AA18: =IF(D18<>0, IF(D19<>0,1,0),0) -> 1 | AB18: =IF(F18<>0, IF(F19<>0,1,0),0) -> 1 | AC18: =IF(H18<>0, IF(H19<>0,1,0),0) -> 0 | AD18: =IF(J18<>0, IF(J19<>0,1,0),0) -> 0 | AE18: =IF(L18<>0, IF(L19<>0,1,0),0) -> 1 | AF18: =SUM(Z18:AE19) -> 4 | AH18: 0 | AI18: 0 | AJ18: 0 | AK18: 0 | AL18: 0 | AM18: 0 | AN18: =SUM(AH18:AM19) -> 0 | AP18: 0 | AQ18: 0 | AR18: 0 | AS18: 0 | AT18: 0 | AU18: 0 | AV18: =SUM(AP18:AU19) -> 0
B19: 0.55208333 | C19: 0.79166667 | D19: 0.58333333 | E19: 0.75 | F19: 0.625 | G19: 0.79166667 | J19: 0.58333333 | K19: 0.75 | L19: 0.55208333 | M19: 0.79166667
S20: =+#REF!-#REF!+#REF!-#REF! -> #REF! | T20: =SUM(#REF!-#REF!)+SUM(#REF!-#REF!) -> #REF! | U20: =SUM(#REF!-#REF!) + SUM(#REF!-#REF!) -> #REF! | V20: =SUM(#REF!-#REF!) + SUM(#REF!-#REF!) -> #REF! | W20: =SUM(#REF!-#REF!) + SUM(#REF!-#REF!) -> #REF! | X20: =SUM(#REF!-#REF!) + SUM(#REF!-#REF!) -> #REF! | Z20: =IF(#REF!<>0, IF(#REF!<>0,1,0),0) -> #REF! | AA20: =IF(#REF!<>0, IF(#REF!<>0,1,0),0) -> #REF! | AB20: =IF(#REF!<>0, IF(#REF!<>0,1,0),0) -> #REF! | AC20: =IF(#REF!<>0, IF(#REF!<>0,1,0),0) -> #REF! | AD20: =IF(#REF!<>0, IF(#REF!<>0,1,0),0) -> #REF! | AE20: =IF(#REF!<>0, IF(#REF!<>0,1,0),0) -> #REF! | AF20: =SUM(Z20:AE21) -> #REF! | AH20: 0 | AI20: 0 | AJ20: 0 | AK20: 0 | AL20: 0 | AM20: 0 | AN20: =SUM(AH20:AM21) -> 0 | AP20: 0 | AQ20: 0 | AR20: 0 | AS20: 0 | AT20: 0 | AU20: 0 | AV20: =SUM(AP20:AU21) -> 0
A21: Légende : | C21: CP n-1 (Congés Payés) Jours | H21: Déplacement | K21: Maladie | O21: Autres absences (à préciser)
C22: RC (Repos Compensateur Heures) | H22: Formation | K22: Férié non travaillé | O22: Repos | S22: =+#REF!-#REF!+#REF!-#REF! -> #REF! | T22: =SUM(#REF!-#REF!)+SUM(#REF!-#REF!) -> #REF! | U22: =SUM(#REF!-#REF!) + SUM(#REF!-#REF!) -> #REF! | V22: =SUM(#REF!-#REF!) + SUM(#REF!-#REF!) -> #REF! | W22: =SUM(#REF!-#REF!) + SUM(#REF!-#REF!) -> #REF! | X22: =SUM(#REF!-#REF!) + SUM(#REF!-#REF!) -> #REF! | Z22: =IF(#REF!<>0, IF(#REF!<>0,1,0),0) -> #REF! | AA22: =IF(#REF!<>0, IF(#REF!<>0,1,0),0) -> #REF! | AB22: =IF(#REF!<>0, IF(#REF!<>0,1,0),0) -> #REF! | AC22: =IF(#REF!<>0, IF(#REF!<>0,1,0),0) -> #REF! | AD22: =IF(#REF!<>0, IF(#REF!<>0,1,0),0) -> #REF! | AE22: =IF(#REF!<>0, IF(#REF!<>0,1,0),0) -> #REF! | AF22: =SUM(Z22:AE23) -> #REF! | AH22: 0 | AI22: 0 | AJ22: 0 | AK22: 0 | AL22: 0 | AM22: 0 | AN22: =SUM(AH22:AM23) -> 0 | AP22: 0 | AQ22: 0 | AR22: 0 | AS22: 0 | AT22: 0 | AU22: 0 | AV22: =SUM(AP22:AU23) -> 0
C23: CFA ou Professionnalisation | H23: Multisite | K23: Férié travaillé | O23: Repos avec RDV salarié (ex. médecin)
S24: =+#REF!-#REF!+#REF!-#REF! -> #REF! | T24: =SUM(#REF!-#REF!)+SUM(#REF!-#REF!) -> #REF! | U24: =SUM(#REF!-#REF!) + SUM(#REF!-#REF!) -> #REF! | V24: =SUM(#REF!-#REF!) + SUM(#REF!-#REF!) -> #REF! | W24: =SUM(#REF!-#REF!) + SUM(#REF!-#REF!) -> #REF! | X24: =SUM(#REF!-#REF!) + SUM(#REF!-#REF!) -> #REF! | Z24: =IF(#REF!<>0, IF(#REF!<>0,1,0),0) -> #REF! | AA24: =IF(#REF!<>0, IF(#REF!<>0,1,0),0) -> #REF! | AB24: =IF(#REF!<>0, IF(#REF!<>0,1,0),0) -> #REF! | AC24: =IF(#REF!<>0, IF(#REF!<>0,1,0),0) -> #REF! | AD24: =IF(#REF!<>0, IF(#REF!<>0,1,0),0) -> #REF! | AE24: =IF(#REF!<>0, IF(#REF!<>0,1,0),0) -> #REF! | AF24: =SUM(Z24:AE25) -> #REF! | AH24: 0 | AI24: 0 | AJ24: 0 | AK24: 0 | AL24: 0 | AM24: 0 | AN24: =SUM(AH24:AM25) -> 0 | AP24: 0 | AQ24: 0 | AR24: 0 | AS24: 0 | AT24: 0 | AU24: 0 | AV24: =SUM(AP24:AU25) -> 0
A25: Nom Jour | B25: Lundi | D25: Mardi | F25: Mercredi | H25: Jeudi | J25: Vendredi | L25: Samedi | N25: H + | O25: H - | P25: Réel | Q25: Validation Responsable
S26: =+#REF!-#REF!+#REF!-#REF! -> #REF! | T26: =SUM(#REF!-#REF!)+SUM(#REF!-#REF!) -> #REF! | U26: =SUM(#REF!-#REF!) + SUM(#REF!-#REF!) -> #REF! | V26: =SUM(#REF!-#REF!) + SUM(#REF!-#REF!) -> #REF! | W26: =SUM(#REF!-#REF!) + SUM(#REF!-#REF!) -> #REF! | X26: =SUM(#REF!-#REF!) + SUM(#REF!-#REF!) -> #REF! | Z26: =IF(#REF!<>0, IF(#REF!<>0,1,0),0) -> #REF! | AA26: =IF(#REF!<>0, IF(#REF!<>0,1,0),0) -> #REF! | AB26: =IF(#REF!<>0, IF(#REF!<>0,1,0),0) -> #REF! | AC26: =IF(#REF!<>0, IF(#REF!<>0,1,0),0) -> #REF! | AD26: =IF(#REF!<>0, IF(#REF!<>0,1,0),0) -> #REF! | AE26: =IF(#REF!<>0, IF(#REF!<>0,1,0),0) -> #REF! | AF26: =SUM(Z26:AE27) -> #REF! | AH26: 0 | AI26: 0 | AJ26: 0 | AK26: 0 | AL26: 0 | AM26: 0 | AN26: =SUM(AH26:AM27) -> 0 | AP26: 0 | AQ26: 0 | AR26: 0 | AS26: 0 | AT26: 0 | AU26: 0 | AV26: =SUM(AP26:AU27) -> 0
S28: =+#REF!-#REF!+#REF!-#REF! -> #REF! | T28: =SUM(#REF!-#REF!)+SUM(#REF!-#REF!) -> #REF! | U28: =SUM(#REF!-#REF!) + SUM(#REF!-#REF!) -> #REF! | V28: =SUM(#REF!-#REF!) + SUM(#REF!-#REF!) -> #REF! | W28: =SUM(#REF!-#REF!) + SUM(#REF!-#REF!) -> #REF! | X28: =SUM(#REF!-#REF!) + SUM(#REF!-#REF!) -> #REF! | Z28: =IF(#REF!<>0, IF(#REF!<>0,1,0),0) -> #REF! | AA28: =IF(#REF!<>0, IF(#REF!<>0,1,0),0) -> #REF! | AB28: =IF(#REF!<>0, IF(#REF!<>0,1,0),0) -> #REF! | AC28: =IF(#REF!<>0, IF(#REF!<>0,1,0),0) -> #REF! | AD28: =IF(#REF!<>0, IF(#REF!<>0,1,0),0) -> #REF! | AE28: =IF(#REF!<>0, IF(#REF!<>0,1,0),0) -> #REF! | AF28: =SUM(Z28:AE29) -> #REF! | AH28: 0 | AI28: 0 | AJ28: 0 | AK28: 0 | AL28: 0 | AM28: 0 | AN28: =SUM(AH28:AM29) -> 0 | AP28: 0 | AQ28: 0 | AR28: 0 | AS28: 0 | AT28: 0 | AU28: 0 | AV28: =SUM(AP28:AU29) -> 0

Sheet Présence
A1: Nom | B1: 0.33333333 | C1: 0.34375 | D1: 0.35416667 | E1: 0.36458333 | F1: 0.375 | G1: 0.38541667 | H1: 0.39583333 | I1: 0.40625 | J1: 0.41666667 | K1: 0.42708333 | L1: 0.4375 | M1: 0.44791667 | N1: 0.45833333 | O1: 0.46875 | P1: 0.47916667 | Q1: 0.48958333 | R1: 0.5 | S1: 0.51041667 | T1: 0.52083333 | U1: 0.53125 | V1: 0.54166667 | W1: 0.55208333 | X1: 0.5625 | Y1: 0.57291667 | Z1: 0.58333333 | AA1: 0.59375 | AB1: 0.60416667 | AC1: 0.61458333 | AD1: 0.625 | AE1: 0.63541667 | AF1: 0.64583333 | AG1: 0.65625 | AH1: 0.66666667 | AI1: 0.67708333 | AJ1: 0.6875 | AK1: 0.69791667 | AL1: 0.70833333 | AM1: 0.71875 | AN1: 0.72916667 | AO1: 0.73958333 | AP1: 0.75 | AQ1: 0.76041667 | AR1: 0.77083333 | AS1: 0.78125 | AT1: 0.79166667 | AU1: 0.80208333 | AV1: 0.8125 | AW1: 0.82291667 | AX1: 0.83333333
A2: =BDD!B2 -> Salarié1 | B2: =IF(OR(AND(B$1>=OFFSET('SEM36'!$B$4,2*(ROW(B2)-ROW($A$2)),0),B$1<=OFFSET('SEM36'!$C$4,2*(ROW(B2)-ROW($A$2)),0)),AND(B$1>=OFFSET('SEM36'!$B$5,2*(ROW(B2)-ROW($A$2)),0),B$1<=OFFSET('SEM36'!$C$5,2*(ROW(B2)-ROW($A$2)),0))),1,0) -> 1 | C2: =IF(OR(AND(C$1>=OFFSET('SEM36'!$B$4,2*(ROW(C2)-ROW($A$2)),0),C$1<=OFFSET('SEM36'!$C$4,2*(ROW(C2)-ROW($A$2)),0)),AND(C$1>=OFFSET('SEM36'!$B$5,2*(ROW(C2)-ROW($A$2)),0),C$1<=OFFSET('SEM36'!$C$5,2*(ROW(C2)-ROW($A$2)),0))),1,0) -> 1 | D2: =IF(OR(AND(D$1>=OFFSET('SEM36'!$B$4,2*(ROW(D2)-ROW($A$2)),0),D$1<=OFFSET('SEM36'!$C$4,2*(ROW(D2)-ROW($A$2)),0)),AND(D$1>=OFFSET('SEM36'!$B$5,2*(ROW(D2)-ROW($A$2)),0),D$1<=OFFSET('SEM36'!$C$5,2*(ROW(D2)-ROW($A$2)),0))),1,0) -> 1 | E2: =IF(OR(AND(E$1>=OFFSET('SEM36'!$B$4,2*(ROW(E2)-ROW($A$2)),0),E$1<=OFFSET('SEM36'!$C$4,2*(ROW(E2)-ROW($A$2)),0)),AND(E$1>=OFFSET('SEM36'!$B$5,2*(ROW(E2)-ROW($A$2)),0),E$1<=OFFSET('SEM36'!$C$5,2*(ROW(E2)-ROW($A$2)),0))),1,0) -> 1 | F2: =IF(OR(AND(F$1>=OFFSET('SEM36'!$B$4,2*(ROW(F2)-ROW($A$2)),0),F$1<=OFFSET('SEM36'!$C$4,2*(ROW(F2)-ROW($A$2)),0)),AND(F$1>=OFFSET('SEM36'!$B$5,2*(ROW(F2)-ROW($A$2)),0),F$1<=OFFSET('SEM36'!$C$5,2*(ROW(F2)-ROW($A$2)),0))),1,0) -> 1 | G2: =IF(OR(AND(G$1>=OFFSET('SEM36'!$B$4,2*(ROW(G2)-ROW($A$2)),0),G$1<=OFFSET('SEM36'!$C$4,2*(ROW(G2)-ROW($A$2)),0)),AND(G$1>=OFFSET('SEM36'!$B$5,2*(ROW(G2)-ROW($A$2)),0),G$1<=OFFSET('SEM36'!$C$5,2*(ROW(G2)-ROW($A$2)),0))),1,0) -> 1 | H2: =IF(OR(AND(H$1>=OFFSET('SEM36'!$B$4,2*(ROW(H2)-ROW($A$2)),0),H$1<=OFFSET('SEM36'!$C$4,2*(ROW(H2)-ROW($A$2)),0)),AND(H$1>=OFFSET('SEM36'!$B$5,2*(ROW(H2)-ROW($A$2)),0),H$1<=OFFSET('SEM36'!$C$5,2*(ROW(H2)-ROW($A$2)),0))),1,0) -> 1 | I2: =IF(OR(AND(I$1>=OFFSET('SEM36'!$B$4,2*(ROW(I2)-ROW($A$2)),0),I$1<=OFFSET('SEM36'!$C$4,2*(ROW(I2)-ROW($A$2)),0)),AND(I$1>=OFFSET('SEM36'!$B$5,2*(ROW(I2)-ROW($A$2)),0),I$1<=OFFSET('SEM36'!$C$5,2*(ROW(I2)-ROW($A$2)),0))),1,0) -> 1 | ... AX2: =IF(OR(AND(AX$1>=OFFSET('SEM36'!$B$4,2*(ROW(AX2)-ROW($A$2)),0),AX$1<=OFFSET('SEM36'!$C$4,2*(ROW(AX2)-ROW($A$2)),0)),AND(AX$1>=OFFSET('SEM36'!$B$5,2*(ROW(AX2)-ROW($A$2)),0),AX$1<=OFFSET('SEM36'!$C$5,2*(ROW(AX2)-ROW($A$2)),0))),1,0) -> 0
A3: =BDD!B3 -> Salarié2 | B3: =IF(OR(AND(B$1>=OFFSET('SEM36'!$B$4,2*(ROW(B3)-ROW($A$2)),0),B$1<=OFFSET('SEM36'!$C$4,2*(ROW(B3)-ROW($A$2)),0)),AND(B$1>=OFFSET('SEM36'!$B$5,2*(ROW(B3)-ROW($A$2)),0),B$1<=OFFSET('SEM36'!$C$5,2*(ROW(B3)-ROW($A$2)),0))),1,0) -> 0 | C3: =IF(OR(AND(C$1>=OFFSET('SEM36'!$B$4,2*(ROW(C3)-ROW($A$2)),0),C$1<=OFFSET('SEM36'!$C$4,2*(ROW(C3)-ROW($A$2)),0)),AND(C$1>=OFFSET('SEM36'!$B$5,2*(ROW(C3)-ROW($A$2)),0),C$1<=OFFSET('SEM36'!$C$5,2*(ROW(C3)-ROW($A$2)),0))),1,0) -> 0 | D3: =IF(OR(AND(D$1>=OFFSET('SEM36'!$B$4,2*(ROW(D3)-ROW($A$2)),0),D$1<=OFFSET('SEM36'!$C$4,2*(ROW(D3)-ROW($A$2)),0)),AND(D$1>=OFFSET('SEM36'!$B$5,2*(ROW(D3)-ROW($A$2)),0),D$1<=OFFSET('SEM36'!$C$5,2*(ROW(D3)-ROW($A$2)),0))),1,0) -> 0 | E3: =IF(OR(AND(E$1>=OFFSET('SEM36'!$B$4,2*(ROW(E3)-ROW($A$2)),0),E$1<=OFFSET('SEM36'!$C$4,2*(ROW(E3)-ROW($A$2)),0)),AND(E$1>=OFFSET('SEM36'!$B$5,2*(ROW(E3)-ROW($A$2)),0),E$1<=OFFSET('SEM36'!$C$5,2*(ROW(E3)-ROW($A$2)),0))),1,0) -> 0 | F3: =IF(OR(AND(F$1>=OFFSET('SEM36'!$B$4,2*(ROW(F3)-ROW($A$2)),0),F$1<=OFFSET('SEM36'!$C$4,2*(ROW(F3)-ROW($A$2)),0)),AND(F$1>=OFFSET('SEM36'!$B$5,2*(ROW(F3)-ROW($A$2)),0),F$1<=OFFSET('SEM36'!$C$5,2*(ROW(F3)-ROW($A$2)),0))),1,0) -> 0 | G3: =IF(OR(AND(G$1>=OFFSET('SEM36'!$B$4,2*(ROW(G3)-ROW($A$2)),0),G$1<=OFFSET('SEM36'!$C$4,2*(ROW(G3)-ROW($A$2)),0)),AND(G$1>=OFFSET('SEM36'!$B$5,2*(ROW(G3)-ROW($A$2)),0),G$1<=OFFSET('SEM36'!$C$5,2*(ROW(G3)-ROW($A$2)),0))),1,0) -> 0 | H3: =IF(OR(AND(H$1>=OFFSET('SEM36'!$B$4,2*(ROW(H3)-ROW($A$2)),0),H$1<=OFFSET('SEM36'!$C$4,2*(ROW(H3)-ROW($A$2)),0)),AND(H$1>=OFFSET('SEM36'!$B$5,2*(ROW(H3)-ROW($A$2)),0),H$1<=OFFSET('SEM36'!$C$5,2*(ROW(H3)-ROW($A$2)),0))),1,0) -> 1 | I3: =IF(OR(AND(I$1>=OFFSET('SEM36'!$B$4,2*(ROW(I3)-ROW($A$2)),0),I$1<=OFFSET('SEM36'!$C$4,2*(ROW(I3)-ROW($A$2)),0)),AND(I$1>=OFFSET('SEM36'!$B$5,2*(ROW(I3)-ROW($A$2)),0),I$1<=OFFSET('SEM36'!$C$5,2*(ROW(I3)-ROW($A$2)),0))),1,0) -> 1 | ... AX3: =IF(OR(AND(AX$1>=OFFSET('SEM36'!$B$4,2*(ROW(AX3)-ROW($A$2)),0),AX$1<=OFFSET('SEM36'!$C$4,2*(ROW(AX3)-ROW($A$2)),0)),AND(AX$1>=OFFSET('SEM36'!$B$5,2*(ROW(AX3)-ROW($A$2)),0),AX$1<=OFFSET('SEM36'!$C$5,2*(ROW(AX3)-ROW($A$2)),0))),1,0) -> 0
A4: =BDD!B4 -> Salarié3 | B4: =IF(OR(AND(B$1>=OFFSET('SEM36'!$B$4,2*(ROW(B4)-ROW($A$2)),0),B$1<=OFFSET('SEM36'!$C$4,2*(ROW(B4)-ROW($A$2)),0)),AND(B$1>=OFFSET('SEM36'!$B$5,2*(ROW(B4)-ROW($A$2)),0),B$1<=OFFSET('SEM36'!$C$5,2*(ROW(B4)-ROW($A$2)),0))),1,0) -> 0 | C4: =IF(OR(AND(C$1>=OFFSET('SEM36'!$B$4,2*(ROW(C4)-ROW($A$2)),0),C$1<=OFFSET('SEM36'!$C$4,2*(ROW(C4)-ROW($A$2)),0)),AND(C$1>=OFFSET('SEM36'!$B$5,2*(ROW(C4)-ROW($A$2)),0),C$1<=OFFSET('SEM36'!$C$5,2*(ROW(C4)-ROW($A$2)),0))),1,0) -> 0 | D4: =IF(OR(AND(D$1>=OFFSET('SEM36'!$B$4,2*(ROW(D4)-ROW($A$2)),0),D$1<=OFFSET('SEM36'!$C$4,2*(ROW(D4)-ROW($A$2)),0)),AND(D$1>=OFFSET('SEM36'!$B$5,2*(ROW(D4)-ROW($A$2)),0),D$1<=OFFSET('SEM36'!$C$5,2*(ROW(D4)-ROW($A$2)),0))),1,0) -> 0 | E4: =IF(OR(AND(E$1>=OFFSET('SEM36'!$B$4,2*(ROW(E4)-ROW($A$2)),0),E$1<=OFFSET('SEM36'!$C$4,2*(ROW(E4)-ROW($A$2)),0)),AND(E$1>=OFFSET('SEM36'!$B$5,2*(ROW(E4)-ROW($A$2)),0),E$1<=OFFSET('SEM36'!$C$5,2*(ROW(E4)-ROW($A$2)),0))),1,0) -> 0 | F4: =IF(OR(AND(F$1>=OFFSET('SEM36'!$B$4,2*(ROW(F4)-ROW($A$2)),0),F$1<=OFFSET('SEM36'!$C$4,2*(ROW(F4)-ROW($A$2)),0)),AND(F$1>=OFFSET('SEM36'!$B$5,2*(ROW(F4)-ROW($A$2)),0),F$1<=OFFSET('SEM36'!$C$5,2*(ROW(F4)-ROW($A$2)),0))),1,0) -> 0 | G4: =IF(OR(AND(G$1>=OFFSET('SEM36'!$B$4,2*(ROW(G4)-ROW($A$2)),0),G$1<=OFFSET('SEM36'!$C$4,2*(ROW(G4)-ROW($A$2)),0)),AND(G$1>=OFFSET('SEM36'!$B$5,2*(ROW(G4)-ROW($A$2)),0),G$1<=OFFSET('SEM36'!$C$5,2*(ROW(G4)-ROW($A$2)),0))),1,0) -> 0 | H4: =IF(OR(AND(H$1>=OFFSET('SEM36'!$B$4,2*(ROW(H4)-ROW($A$2)),0),H$1<=OFFSET('SEM36'!$C$4,2*(ROW(H4)-ROW($A$2)),0)),AND(H$1>=OFFSET('SEM36'!$B$5,2*(ROW(H4)-ROW($A$2)),0),H$1<=OFFSET('SEM36'!$C$5,2*(ROW(H4)-ROW($A$2)),0))),1,0) -> 0 | I4: =IF(OR(AND(I$1>=OFFSET('SEM36'!$B$4,2*(ROW(I4)-ROW($A$2)),0),I$1<=OFFSET('SEM36'!$C$4,2*(ROW(I4)-ROW($A$2)),0)),AND(I$1>=OFFSET('SEM36'!$B$5,2*(ROW(I4)-ROW($A$2)),0),I$1<=OFFSET('SEM36'!$C$5,2*(ROW(I4)-ROW($A$2)),0))),1,0) -> 0 | ... AX4: =IF(OR(AND(AX$1>=OFFSET('SEM36'!$B$4,2*(ROW(AX4)-ROW($A$2)),0),AX$1<=OFFSET('SEM36'!$C$4,2*(ROW(AX4)-ROW($A$2)),0)),AND(AX$1>=OFFSET('SEM36'!$B$5,2*(ROW(AX4)-ROW($A$2)),0),AX$1<=OFFSET('SEM36'!$C$5,2*(ROW(AX4)-ROW($A$2)),0))),1,0) -> 0
A5: =BDD!B5 -> Salarié4 | B5: =IF(OR(AND(B$1>=OFFSET('SEM36'!$B$4,2*(ROW(B5)-ROW($A$2)),0),B$1<=OFFSET('SEM36'!$C$4,2*(ROW(B5)-ROW($A$2)),0)),AND(B$1>=OFFSET('SEM36'!$B$5,2*(ROW(B5)-ROW($A$2)),0),B$1<=OFFSET('SEM36'!$C$5,2*(ROW(B5)-ROW($A$2)),0))),1,0) -> 0 | C5: =IF(OR(AND(C$1>=OFFSET('SEM36'!$B$4,2*(ROW(C5)-ROW($A$2)),0),C$1<=OFFSET('SEM36'!$C$4,2*(ROW(C5)-ROW($A$2)),0)),AND(C$1>=OFFSET('SEM36'!$B$5,2*(ROW(C5)-ROW($A$2)),0),C$1<=OFFSET('SEM36'!$C$5,2*(ROW(C5)-ROW($A$2)),0))),1,0) -> 0 | D5: =IF(OR(AND(D$1>=OFFSET('SEM36'!$B$4,2*(ROW(D5)-ROW($A$2)),0),D$1<=OFFSET('SEM36'!$C$4,2*(ROW(D5)-ROW($A$2)),0)),AND(D$1>=OFFSET('SEM36'!$B$5,2*(ROW(D5)-ROW($A$2)),0),D$1<=OFFSET('SEM36'!$C$5,2*(ROW(D5)-ROW($A$2)),0))),1,0) -> 0 | E5: =IF(OR(AND(E$1>=OFFSET('SEM36'!$B$4,2*(ROW(E5)-ROW($A$2)),0),E$1<=OFFSET('SEM36'!$C$4,2*(ROW(E5)-ROW($A$2)),0)),AND(E$1>=OFFSET('SEM36'!$B$5,2*(ROW(E5)-ROW($A$2)),0),E$1<=OFFSET('SEM36'!$C$5,2*(ROW(E5)-ROW($A$2)),0))),1,0) -> 0 | F5: =IF(OR(AND(F$1>=OFFSET('SEM36'!$B$4,2*(ROW(F5)-ROW($A$2)),0),F$1<=OFFSET('SEM36'!$C$4,2*(ROW(F5)-ROW($A$2)),0)),AND(F$1>=OFFSET('SEM36'!$B$5,2*(ROW(F5)-ROW($A$2)),0),F$1<=OFFSET('SEM36'!$C$5,2*(ROW(F5)-ROW($A$2)),0))),1,0) -> 0 | G5: =IF(OR(AND(G$1>=OFFSET('SEM36'!$B$4,2*(ROW(G5)-ROW($A$2)),0),G$1<=OFFSET('SEM36'!$C$4,2*(ROW(G5)-ROW($A$2)),0)),AND(G$1>=OFFSET('SEM36'!$B$5,2*(ROW(G5)-ROW($A$2)),0),G$1<=OFFSET('SEM36'!$C$5,2*(ROW(G5)-ROW($A$2)),0))),1,0) -> 0 | H5: =IF(OR(AND(H$1>=OFFSET('SEM36'!$B$4,2*(ROW(H5)-ROW($A$2)),0),H$1<=OFFSET('SEM36'!$C$4,2*(ROW(H5)-ROW($A$2)),0)),AND(H$1>=OFFSET('SEM36'!$B$5,2*(ROW(H5)-ROW($A$2)),0),H$1<=OFFSET('SEM36'!$C$5,2*(ROW(H5)-ROW($A$2)),0))),1,0) -> 0 | I5: =IF(OR(AND(I$1>=OFFSET('SEM36'!$B$4,2*(ROW(I5)-ROW($A$2)),0),I$1<=OFFSET('SEM36'!$C$4,2*(ROW(I5)-ROW($A$2)),0)),AND(I$1>=OFFSET('SEM36'!$B$5,2*(ROW(I5)-ROW($A$2)),0),I$1<=OFFSET('SEM36'!$C$5,2*(ROW(I5)-ROW($A$2)),0))),1,0) -> 0 | ... AX5: =IF(OR(AND(AX$1>=OFFSET('SEM36'!$B$4,2*(ROW(AX5)-ROW($A$2)),0),AX$1<=OFFSET('SEM36'!$C$4,2*(ROW(AX5)-ROW($A$2)),0)),AND(AX$1>=OFFSET('SEM36'!$B$5,2*(ROW(AX5)-ROW($A$2)),0),AX$1<=OFFSET('SEM36'!$C$5,2*(ROW(AX5)-ROW($A$2)),0))),1,0) -> 0
A6: =BDD!B6 -> Salarié5 | B6: =IF(OR(AND(B$1>=OFFSET('SEM36'!$B$4,2*(ROW(B6)-ROW($A$2)),0),B$1<=OFFSET('SEM36'!$C$4,2*(ROW(B6)-ROW($A$2)),0)),AND(B$1>=OFFSET('SEM36'!$B$5,2*(ROW(B6)-ROW($A$2)),0),B$1<=OFFSET('SEM36'!$C$5,2*(ROW(B6)-ROW($A$2)),0))),1,0) -> 0 | C6: =IF(OR(AND(C$1>=OFFSET('SEM36'!$B$4,2*(ROW(C6)-ROW($A$2)),0),C$1<=OFFSET('SEM36'!$C$4,2*(ROW(C6)-ROW($A$2)),0)),AND(C$1>=OFFSET('SEM36'!$B$5,2*(ROW(C6)-ROW($A$2)),0),C$1<=OFFSET('SEM36'!$C$5,2*(ROW(C6)-ROW($A$2)),0))),1,0) -> 0 | D6: =IF(OR(AND(D$1>=OFFSET('SEM36'!$B$4,2*(ROW(D6)-ROW($A$2)),0),D$1<=OFFSET('SEM36'!$C$4,2*(ROW(D6)-ROW($A$2)),0)),AND(D$1>=OFFSET('SEM36'!$B$5,2*(ROW(D6)-ROW($A$2)),0),D$1<=OFFSET('SEM36'!$C$5,2*(ROW(D6)-ROW($A$2)),0))),1,0) -> 0 | E6: =IF(OR(AND(E$1>=OFFSET('SEM36'!$B$4,2*(ROW(E6)-ROW($A$2)),0),E$1<=OFFSET('SEM36'!$C$4,2*(ROW(E6)-ROW($A$2)),0)),AND(E$1>=OFFSET('SEM36'!$B$5,2*(ROW(E6)-ROW($A$2)),0),E$1<=OFFSET('SEM36'!$C$5,2*(ROW(E6)-ROW($A$2)),0))),1,0) -> 0 | F6: =IF(OR(AND(F$1>=OFFSET('SEM36'!$B$4,2*(ROW(F6)-ROW($A$2)),0),F$1<=OFFSET('SEM36'!$C$4,2*(ROW(F6)-ROW($A$2)),0)),AND(F$1>=OFFSET('SEM36'!$B$5,2*(ROW(F6)-ROW($A$2)),0),F$1<=OFFSET('SEM36'!$C$5,2*(ROW(F6)-ROW($A$2)),0))),1,0) -> 1 | G6: =IF(OR(AND(G$1>=OFFSET('SEM36'!$B$4,2*(ROW(G6)-ROW($A$2)),0),G$1<=OFFSET('SEM36'!$C$4,2*(ROW(G6)-ROW($A$2)),0)),AND(G$1>=OFFSET('SEM36'!$B$5,2*(ROW(G6)-ROW($A$2)),0),G$1<=OFFSET('SEM36'!$C$5,2*(ROW(G6)-ROW($A$2)),0))),1,0) -> 1 | H6: =IF(OR(AND(H$1>=OFFSET('SEM36'!$B$4,2*(ROW(H6)-ROW($A$2)),0),H$1<=OFFSET('SEM36'!$C$4,2*(ROW(H6)-ROW($A$2)),0)),AND(H$1>=OFFSET('SEM36'!$B$5,2*(ROW(H6)-ROW($A$2)),0),H$1<=OFFSET('SEM36'!$C$5,2*(ROW(H6)-ROW($A$2)),0))),1,0) -> 1 | I6: =IF(OR(AND(I$1>=OFFSET('SEM36'!$B$4,2*(ROW(I6)-ROW($A$2)),0),I$1<=OFFSET('SEM36'!$C$4,2*(ROW(I6)-ROW($A$2)),0)),AND(I$1>=OFFSET('SEM36'!$B$5,2*(ROW(I6)-ROW($A$2)),0),I$1<=OFFSET('SEM36'!$C$5,2*(ROW(I6)-ROW($A$2)),0))),1,0) -> 1 | ... AX6: =IF(OR(AND(AX$1>=OFFSET('SEM36'!$B$4,2*(ROW(AX6)-ROW($A$2)),0),AX$1<=OFFSET('SEM36'!$C$4,2*(ROW(AX6)-ROW($A$2)),0)),AND(AX$1>=OFFSET('SEM36'!$B$5,2*(ROW(AX6)-ROW($A$2)),0),AX$1<=OFFSET('SEM36'!$C$5,2*(ROW(AX6)-ROW($A$2)),0))),1,0) -> 0
A7: =BDD!B7 -> Salarié6 | B7: =IF(OR(AND(B$1>=OFFSET('SEM36'!$B$4,2*(ROW(B7)-ROW($A$2)),0),B$1<=OFFSET('SEM36'!$C$4,2*(ROW(B7)-ROW($A$2)),0)),AND(B$1>=OFFSET('SEM36'!$B$5,2*(ROW(B7)-ROW($A$2)),0),B$1<=OFFSET('SEM36'!$C$5,2*(ROW(B7)-ROW($A$2)),0))),1,0) -> 0 | C7: =IF(OR(AND(C$1>=OFFSET('SEM36'!$B$4,2*(ROW(C7)-ROW($A$2)),0),C$1<=OFFSET('SEM36'!$C$4,2*(ROW(C7)-ROW($A$2)),0)),AND(C$1>=OFFSET('SEM36'!$B$5,2*(ROW(C7)-ROW($A$2)),0),C$1<=OFFSET('SEM36'!$C$5,2*(ROW(C7)-ROW($A$2)),0))),1,0) -> 0 | D7: =IF(OR(AND(D$1>=OFFSET('SEM36'!$B$4,2*(ROW(D7)-ROW($A$2)),0),D$1<=OFFSET('SEM36'!$C$4,2*(ROW(D7)-ROW($A$2)),0)),AND(D$1>=OFFSET('SEM36'!$B$5,2*(ROW(D7)-ROW($A$2)),0),D$1<=OFFSET('SEM36'!$C$5,2*(ROW(D7)-ROW($A$2)),0))),1,0) -> 0 | E7: =IF(OR(AND(E$1>=OFFSET('SEM36'!$B$4,2*(ROW(E7)-ROW($A$2)),0),E$1<=OFFSET('SEM36'!$C$4,2*(ROW(E7)-ROW($A$2)),0)),AND(E$1>=OFFSET('SEM36'!$B$5,2*(ROW(E7)-ROW($A$2)),0),E$1<=OFFSET('SEM36'!$C$5,2*(ROW(E7)-ROW($A$2)),0))),1,0) -> 0 | F7: =IF(OR(AND(F$1>=OFFSET('SEM36'!$B$4,2*(ROW(F7)-ROW($A$2)),0),F$1<=OFFSET('SEM36'!$C$4,2*(ROW(F7)-ROW($A$2)),0)),AND(F$1>=OFFSET('SEM36'!$B$5,2*(ROW(F7)-ROW($A$2)),0),F$1<=OFFSET('SEM36'!$C$5,2*(ROW(F7)-ROW($A$2)),0))),1,0) -> 0 | G7: =IF(OR(AND(G$1>=OFFSET('SEM36'!$B$4,2*(ROW(G7)-ROW($A$2)),0),G$1<=OFFSET('SEM36'!$C$4,2*(ROW(G7)-ROW($A$2)),0)),AND(G$1>=OFFSET('SEM36'!$B$5,2*(ROW(G7)-ROW($A$2)),0),G$1<=OFFSET('SEM36'!$C$5,2*(ROW(G7)-ROW($A$2)),0))),1,0) -> 0 | H7: =IF(OR(AND(H$1>=OFFSET('SEM36'!$B$4,2*(ROW(H7)-ROW($A$2)),0),H$1<=OFFSET('SEM36'!$C$4,2*(ROW(H7)-ROW($A$2)),0)),AND(H$1>=OFFSET('SEM36'!$B$5,2*(ROW(H7)-ROW($A$2)),0),H$1<=OFFSET('SEM36'!$C$5,2*(ROW(H7)-ROW($A$2)),0))),1,0) -> 0 | I7: =IF(OR(AND(I$1>=OFFSET('SEM36'!$B$4,2*(ROW(I7)-ROW($A$2)),0),I$1<=OFFSET('SEM36'!$C$4,2*(ROW(I7)-ROW($A$2)),0)),AND(I$1>=OFFSET('SEM36'!$B$5,2*(ROW(I7)-ROW($A$2)),0),I$1<=OFFSET('SEM36'!$C$5,2*(ROW(I7)-ROW($A$2)),0))),1,0) -> 0 | ... AX7: =IF(OR(AND(AX$1>=OFFSET('SEM36'!$B$4,2*(ROW(AX7)-ROW($A$2)),0),AX$1<=OFFSET('SEM36'!$C$4,2*(ROW(AX7)-ROW($A$2)),0)),AND(AX$1>=OFFSET('SEM36'!$B$5,2*(ROW(AX7)-ROW($A$2)),0),AX$1<=OFFSET('SEM36'!$C$5,2*(ROW(AX7)-ROW($A$2)),0))),1,0) -> 0
A8: =BDD!B8 -> Salarié7 | B8: =IF(OR(AND(B$1>=OFFSET('SEM36'!$B$4,2*(ROW(B8)-ROW($A$2)),0),B$1<=OFFSET('SEM36'!$C$4,2*(ROW(B8)-ROW($A$2)),0)),AND(B$1>=OFFSET('SEM36'!$B$5,2*(ROW(B8)-ROW($A$2)),0),B$1<=OFFSET('SEM36'!$C$5,2*(ROW(B8)-ROW($A$2)),0))),1,0) -> 0 | C8: =IF(OR(AND(C$1>=OFFSET('SEM36'!$B$4,2*(ROW(C8)-ROW($A$2)),0),C$1<=OFFSET('SEM36'!$C$4,2*(ROW(C8)-ROW($A$2)),0)),AND(C$1>=OFFSET('SEM36'!$B$5,2*(ROW(C8)-ROW($A$2)),0),C$1<=OFFSET('SEM36'!$C$5,2*(ROW(C8)-ROW($A$2)),0))),1,0) -> 0 | D8: =IF(OR(AND(D$1>=OFFSET('SEM36'!$B$4,2*(ROW(D8)-ROW($A$2)),0),D$1<=OFFSET('SEM36'!$C$4,2*(ROW(D8)-ROW($A$2)),0)),AND(D$1>=OFFSET('SEM36'!$B$5,2*(ROW(D8)-ROW($A$2)),0),D$1<=OFFSET('SEM36'!$C$5,2*(ROW(D8)-ROW($A$2)),0))),1,0) -> 0 | E8: =IF(OR(AND(E$1>=OFFSET('SEM36'!$B$4,2*(ROW(E8)-ROW($A$2)),0),E$1<=OFFSET('SEM36'!$C$4,2*(ROW(E8)-ROW($A$2)),0)),AND(E$1>=OFFSET('SEM36'!$B$5,2*(ROW(E8)-ROW($A$2)),0),E$1<=OFFSET('SEM36'!$C$5,2*(ROW(E8)-ROW($A$2)),0))),1,0) -> 0 | F8: =IF(OR(AND(F$1>=OFFSET('SEM36'!$B$4,2*(ROW(F8)-ROW($A$2)),0),F$1<=OFFSET('SEM36'!$C$4,2*(ROW(F8)-ROW($A$2)),0)),AND(F$1>=OFFSET('SEM36'!$B$5,2*(ROW(F8)-ROW($A$2)),0),F$1<=OFFSET('SEM36'!$C$5,2*(ROW(F8)-ROW($A$2)),0))),1,0) -> 1 | G8: =IF(OR(AND(G$1>=OFFSET('SEM36'!$B$4,2*(ROW(G8)-ROW($A$2)),0),G$1<=OFFSET('SEM36'!$C$4,2*(ROW(G8)-ROW($A$2)),0)),AND(G$1>=OFFSET('SEM36'!$B$5,2*(ROW(G8)-ROW($A$2)),0),G$1<=OFFSET('SEM36'!$C$5,2*(ROW(G8)-ROW($A$2)),0))),1,0) -> 1 | H8: =IF(OR(AND(H$1>=OFFSET('SEM36'!$B$4,2*(ROW(H8)-ROW($A$2)),0),H$1<=OFFSET('SEM36'!$C$4,2*(ROW(H8)-ROW($A$2)),0)),AND(H$1>=OFFSET('SEM36'!$B$5,2*(ROW(H8)-ROW($A$2)),0),H$1<=OFFSET('SEM36'!$C$5,2*(ROW(H8)-ROW($A$2)),0))),1,0) -> 1 | I8: =IF(OR(AND(I$1>=OFFSET('SEM36'!$B$4,2*(ROW(I8)-ROW($A$2)),0),I$1<=OFFSET('SEM36'!$C$4,2*(ROW(I8)-ROW($A$2)),0)),AND(I$1>=OFFSET('SEM36'!$B$5,2*(ROW(I8)-ROW($A$2)),0),I$1<=OFFSET('SEM36'!$C$5,2*(ROW(I8)-ROW($A$2)),0))),1,0) -> 1 | ... AX8: =IF(OR(AND(AX$1>=OFFSET('SEM36'!$B$4,2*(ROW(AX8)-ROW($A$2)),0),AX$1<=OFFSET('SEM36'!$C$4,2*(ROW(AX8)-ROW($A$2)),0)),AND(AX$1>=OFFSET('SEM36'!$B$5,2*(ROW(AX8)-ROW($A$2)),0),AX$1<=OFFSET('SEM36'!$C$5,2*(ROW(AX8)-ROW($A$2)),0))),1,0) -> 0
A9: =BDD!B9 -> Salarié8 | B9: =IF(OR(AND(B$1>=OFFSET('SEM36'!$B$4,2*(ROW(B9)-ROW($A$2)),0),B$1<=OFFSET('SEM36'!$C$4,2*(ROW(B9)-ROW($A$2)),0)),AND(B$1>=OFFSET('SEM36'!$B$5,2*(ROW(B9)-ROW($A$2)),0),B$1<=OFFSET('SEM36'!$C$5,2*(ROW(B9)-ROW($A$2)),0))),1,0) -> 0 | C9: =IF(OR(AND(C$1>=OFFSET('SEM36'!$B$4,2*(ROW(C9)-ROW($A$2)),0),C$1<=OFFSET('SEM36'!$C$4,2*(ROW(C9)-ROW($A$2)),0)),AND(C$1>=OFFSET('SEM36'!$B$5,2*(ROW(C9)-ROW($A$2)),0),C$1<=OFFSET('SEM36'!$C$5,2*(ROW(C9)-ROW($A$2)),0))),1,0) -> 0 | D9: =IF(OR(AND(D$1>=OFFSET('SEM36'!$B$4,2*(ROW(D9)-ROW($A$2)),0),D$1<=OFFSET('SEM36'!$C$4,2*(ROW(D9)-ROW($A$2)),0)),AND(D$1>=OFFSET('SEM36'!$B$5,2*(ROW(D9)-ROW($A$2)),0),D$1<=OFFSET('SEM36'!$C$5,2*(ROW(D9)-ROW($A$2)),0))),1,0) -> 0 | E9: =IF(OR(AND(E$1>=OFFSET('SEM36'!$B$4,2*(ROW(E9)-ROW($A$2)),0),E$1<=OFFSET('SEM36'!$C$4,2*(ROW(E9)-ROW($A$2)),0)),AND(E$1>=OFFSET('SEM36'!$B$5,2*(ROW(E9)-ROW($A$2)),0),E$1<=OFFSET('SEM36'!$C$5,2*(ROW(E9)-ROW($A$2)),0))),1,0) -> 0 | F9: =IF(OR(AND(F$1>=OFFSET('SEM36'!$B$4,2*(ROW(F9)-ROW($A$2)),0),F$1<=OFFSET('SEM36'!$C$4,2*(ROW(F9)-ROW($A$2)),0)),AND(F$1>=OFFSET('SEM36'!$B$5,2*(ROW(F9)-ROW($A$2)),0),F$1<=OFFSET('SEM36'!$C$5,2*(ROW(F9)-ROW($A$2)),0))),1,0) -> 0 | G9: =IF(OR(AND(G$1>=OFFSET('SEM36'!$B$4,2*(ROW(G9)-ROW($A$2)),0),G$1<=OFFSET('SEM36'!$C$4,2*(ROW(G9)-ROW($A$2)),0)),AND(G$1>=OFFSET('SEM36'!$B$5,2*(ROW(G9)-ROW($A$2)),0),G$1<=OFFSET('SEM36'!$C$5,2*(ROW(G9)-ROW($A$2)),0))),1,0) -> 0 | H9: =IF(OR(AND(H$1>=OFFSET('SEM36'!$B$4,2*(ROW(H9)-ROW($A$2)),0),H$1<=OFFSET('SEM36'!$C$4,2*(ROW(H9)-ROW($A$2)),0)),AND(H$1>=OFFSET('SEM36'!$B$5,2*(ROW(H9)-ROW($A$2)),0),H$1<=OFFSET('SEM36'!$C$5,2*(ROW(H9)-ROW($A$2)),0))),1,0) -> 0 | I9: =IF(OR(AND(I$1>=OFFSET('SEM36'!$B$4,2*(ROW(I9)-ROW($A$2)),0),I$1<=OFFSET('SEM36'!$C$4,2*(ROW(I9)-ROW($A$2)),0)),AND(I$1>=OFFSET('SEM36'!$B$5,2*(ROW(I9)-ROW($A$2)),0),I$1<=OFFSET('SEM36'!$C$5,2*(ROW(I9)-ROW($A$2)),0))),1,0) -> 0 | ... AX9: =IF(OR(AND(AX$1>=OFFSET('SEM36'!$B$4,2*(ROW(AX9)-ROW($A$2)),0),AX$1<=OFFSET('SEM36'!$C$4,2*(ROW(AX9)-ROW($A$2)),0)),AND(AX$1>=OFFSET('SEM36'!$B$5,2*(ROW(AX9)-ROW($A$2)),0),AX$1<=OFFSET('SEM36'!$C$5,2*(ROW(AX9)-ROW($A$2)),0))),1,0) -> 0

Sheet BDD
B1: Salarié | C1: Contrat
B2: Salarié1 | C2: 35
B3: Salarié2 | C3: 35
B4: Salarié3 | C4: 35
B5: Salarié4 | C5: 35
B6: Salarié5 | C6: 35
B7: Salarié6 | C7: 35
B8: Salarié7 | C8: 35
B9: Salarié8 | C9: 35
