Workbook

Sheet base AFFAIRE
A1: vendeur | B1: code vendeur | C1: nom client | D1: siren client | E1: date d'ouverture affaire | F1: code produit | G1: code affaire
A2: LUCIE | B2: 983 | C2: EDF | D2: 64333E | E2: 42025 | F2: PL98 | G2: 3353
A3: ISSA | B3: 1009 | C3: SACIRI | D3: 9000F | E3: 42055 | F3: PL97 | G3: 3345
A4: THOMAS | B4: 398 | C4: SCLOE | D4: 2994Y | E4: 42122 | F4: PL34 | G4: 2937
A5: ISMAEL | B5: 2038 | C5: BETA | D5: 3004J | E5: 42154 | F5: PL63 | G5: 1088
A6: ISSA | B6: 1009 | C6: SACIRI | D6: 9000F | E6: 42056 | F6: PL97 | G6: 3345
A7: THOMAS | B7: 398 | C7: SCLOE | D7: 2994Y | E7: 42088 | F7: PL34 | G7: 2937
A8: ISMAEL | B8: 2038 | C8: BETA | D8: 3004J | E8: 42098 | F8: PL63 | G8: 1088

Sheet base LIVRAISON
A1: vendeur | B1: code vendeur | C1: nom client | D1: siren client | E1: date livraison commande | F1: code produit | G1: code cde | H1: statut | I1: code statut | J1: statut pertinent
A2: ISSA | B2: 1009 | C2: SACIRI | D2: 9000F | E2: 42180 | F2: PL97 | G2: 534 | H2: en cours | I2: =VLOOKUP(H2,pertinence!$B$1:$C$4,2,FALSE) -> 1 | J2: {=VLOOKUP(MIN(IF($G$2:$G$8=G2,$I$2:$I$8,"")),pertinence!$A$1:$B$4,2,FALSE)} -> en cours
A3: ISMAEL | B3: 2038 | C3: BETA | D3: 3004J | E3: 42182 | F3: PL63 | G3: 1094 | H3: en cours | I3: =VLOOKUP(H3,pertinence!$B$1:$C$4,2,FALSE) -> 1 | J3: {=VLOOKUP(MIN(IF($G$2:$G$8=G3,$I$2:$I$8,"")),pertinence!$A$1:$B$4,2,FALSE)} -> en cours
A4: ISSA | B4: 1009 | C4: SACIRI | D4: 9000F | E4: 42114 | F4: PL97 | G4: 534 | H4: annulé | I4: =VLOOKUP(H4,pertinence!$B$1:$C$4,2,FALSE) -> 3 | J4: {=VLOOKUP(MIN(IF($G$2:$G$8=G4,$I$2:$I$8,"")),pertinence!$A$1:$B$4,2,FALSE)} -> en cours
A5: ISMAEL | B5: 2038 | C5: BETA | D5: 3004J | E5: 42185 | F5: PL63 | G5: 1094 | H5: annulé | I5: =VLOOKUP(H5,pertinence!$B$1:$C$4,2,FALSE) -> 3 | J5: {=VLOOKUP(MIN(IF($G$2:$G$8=G5,$I$2:$I$8,"")),pertinence!$A$1:$B$4,2,FALSE)} -> en cours
A6: THOMAS | B6: 398 | C6: SCLOE | D6: 2994Y | E6: 42181 | F6: PL34 | G6: 985 | H6: annulé | I6: =VLOOKUP(H6,pertinence!$B$1:$C$4,2,FALSE) -> 3 | J6: {=VLOOKUP(MIN(IF($G$2:$G$8=G6,$I$2:$I$8,"")),pertinence!$A$1:$B$4,2,FALSE)} -> annulé
A7: LUCIE | B7: 983 | C7: EDF | D7: 64333E | E7: 42127 | F7: PL98 | G7: 342 | H7: cloturé | I7: =VLOOKUP(H7,pertinence!$B$1:$C$4,2,FALSE) -> 4 | J7: {=VLOOKUP(MIN(IF($G$2:$G$8=G7,$I$2:$I$8,"")),pertinence!$A$1:$B$4,2,FALSE)} -> cloturé
A8: THOMAS | B8: 398 | C8: SCLOE | D8: 2994Y | E8: 42154 | F8: PL34 | G8: 985 | H8: cloturé | I8: =VLOOKUP(H8,pertinence!$B$1:$C$4,2,FALSE) -> 4 | J8: {=VLOOKUP(MIN(IF($G$2:$G$8=G8,$I$2:$I$8,"")),pertinence!$A$1:$B$4,2,FALSE)} -> annulé
A12: Résultat après suppression des doublons par code cde uniquement en triant par code statut du plus petit au plus grand :
A14: vendeur | B14: code vendeur | C14: nom client | D14: siren client | E14: date livraison commande | F14: code produit | G14: code cde | H14: statut | I14: code statut | J14: statut pertinent
A15: ISSA | B15: 1009 | C15: SACIRI | D15: 9000F | E15: 42180 | F15: PL97 | G15: 534 | H15: en cours | I15: =VLOOKUP(H15,pertinence!$B$1:$C$4,2,FALSE) -> 1 | J15: {=VLOOKUP(MIN(IF($G$2:$G$8=G15,$I$2:$I$8,"")),pertinence!$A$1:$B$4,2,FALSE)} -> en cours
A16: ISMAEL | B16: 2038 | C16: BETA | D16: 3004J | E16: 42182 | F16: PL63 | G16: 1094 | H16: en cours | I16: =VLOOKUP(H16,pertinence!$B$1:$C$4,2,FALSE) -> 1 | J16: {=VLOOKUP(MIN(IF($G$2:$G$8=G16,$I$2:$I$8,"")),pertinence!$A$1:$B$4,2,FALSE)} -> en cours
A17: THOMAS | B17: 398 | C17: SCLOE | D17: 2994Y | E17: 42181 | F17: PL34 | G17: 985 | H17: annulé | I17: =VLOOKUP(H17,pertinence!$B$1:$C$4,2,FALSE) -> 3 | J17: {=VLOOKUP(MIN(IF($G$2:$G$8=G17,$I$2:$I$8,"")),pertinence!$A$1:$B$4,2,FALSE)} -> annulé
A18: LUCIE | B18: 983 | C18: EDF | D18: 64333E | E18: 42127 | F18: PL98 | G18: 342 | H18: cloturé | I18: =VLOOKUP(H18,pertinence!$B$1:$C$4,2,FALSE) -> 4 | J18: {=VLOOKUP(MIN(IF($G$2:$G$8=G18,$I$2:$I$8,"")),pertinence!$A$1:$B$4,2,FALSE)} -> cloturé
A22: Lignes supprimées par ces actions
A24: vendeur | B24: code vendeur | C24: nom client | D24: siren client | E24: date livraison commande | F24: code produit | G24: code cde | H24: statut | I24: code statut | J24: statut pertinent
A25: ISSA | B25: 1009 | C25: SACIRI | D25: 9000F | E25: 42180 | F25: PL97 | G25: 534 | H25: en cours | I25: =VLOOKUP(H25,pertinence!$B$1:$C$4,2,FALSE) -> 1 | J25: {=VLOOKUP(MIN(IF($G$2:$G$8=G25,$I$2:$I$8,"")),pertinence!$A$1:$B$4,2,FALSE)} -> en cours
A26: ISMAEL | B26: 2038 | C26: BETA | D26: 3004J | E26: 42182 | F26: PL63 | G26: 1094 | H26: en cours | I26: =VLOOKUP(H26,pertinence!$B$1:$C$4,2,FALSE) -> 1 | J26: {=VLOOKUP(MIN(IF($G$2:$G$8=G26,$I$2:$I$8,"")),pertinence!$A$1:$B$4,2,FALSE)} -> en cours
A27: ISSA | B27: 1009 | C27: SACIRI | D27: 9000F | E27: 42114 | F27: PL97 | G27: 534 | H27: annulé | I27: =VLOOKUP(H27,pertinence!$B$1:$C$4,2,FALSE) -> 3 | J27: {=VLOOKUP(MIN(IF($G$2:$G$8=G27,$I$2:$I$8,"")),pertinence!$A$1:$B$4,2,FALSE)} -> en cours
A28: ISMAEL | B28: 2038 | C28: BETA | D28: 3004J | E28: 42185 | F28: PL63 | G28: 1094 | H28: annulé | I28: =VLOOKUP(H28,pertinence!$B$1:$C$4,2,FALSE) -> 3 | J28: {=VLOOKUP(MIN(IF($G$2:$G$8=G28,$I$2:$I$8,"")),pertinence!$A$1:$B$4,2,FALSE)} -> en cours
A29: THOMAS | B29: 398 | C29: SCLOE | D29: 2994Y | E29: 42181 | F29: PL34 | G29: 985 | H29: annulé | I29: =VLOOKUP(H29,pertinence!$B$1:$C$4,2,FALSE) -> 3 | J29: {=VLOOKUP(MIN(IF($G$2:$G$8=G29,$I$2:$I$8,"")),pertinence!$A$1:$B$4,2,FALSE)} -> annulé
A30: LUCIE | B30: 983 | C30: EDF | D30: 64333E | E30: 42127 | F30: PL98 | G30: 342 | H30: cloturé | I30: =VLOOKUP(H30,pertinence!$B$1:$C$4,2,FALSE) -> 4 | J30: {=VLOOKUP(MIN(IF($G$2:$G$8=G30,$I$2:$I$8,"")),pertinence!$A$1:$B$4,2,FALSE)} -> cloturé
A31: THOMAS | B31: 398 | C31: SCLOE | D31: 2994Y | E31: 42154 | F31: PL34 | G31: 985 | H31: cloturé | I31: =VLOOKUP(H31,pertinence!$B$1:$C$4,2,FALSE) -> 4 | J31: {=VLOOKUP(MIN(IF($G$2:$G$8=G31,$I$2:$I$8,"")),pertinence!$A$1:$B$4,2,FALSE)} -> annulé

Sheet pertinence
A1: 1 | B1: en cours | C1: 1
A2: 2 | B2: en service | C2: 2
A3: 3 | B3: annulé | C3: 3
A4: 4 | B4: cloturé | C4: 4
