Workbook
Name A: A!$A$1:$E$22
Name B: B!$A$1:$E$22

Sheet A
A1: Produit | B1: Mil | C1: Arachide | D1: Sésame | E1: Riz
A2: Batha | B2: 71985.765 | C2: 39416.802 | D2: 49.875 | E2: 4.9665
A3: Barh El Ghazal | B3: 15107.909 | C3: 94.26375 | D3: 1049.716 | E3: 0
A4: Chari Baguirmi | B4: 116317.78 | C4: 140707.14 | D4: 47001.88 | E4: 12393.279
A5: Guera | B5: 37974.845 | C5: 113160.11 | D5: 1912.789 | E5: 334.4976
A6: Hadjer Lamis | B6: 39534.434 | C6: 60384.751 | D6: 22151.133 | E6: 7224.8304
A7: Kanem | B7: 7343.1147 | C7: 0 | D7: 1074.45 | E7: 0
A8: Lac | B8: 56115.964 | C8: 348.41684 | D8: 98040.66 | E8: 1888.92
A9: Ouaddaï | B9: 149679.41 | C9: 92820.679 | D9: 742.41965 | E9: 0
A10: Salamat | B10: 5723.9466 | C10: 27829.466 | D10: 47862.087 | E10: 23468.505
A11: Sila | B11: 89338.76 | C11: 161433.52 | D11: 84635.922 | E11: 319.77
A12: Wadi Fira | B12: 74587.325 | C12: 30770.158 | D12: 0 | E12: 0
A13: Total Zone Sahel | B13: 663709.25 | C13: 666965.3 | D13: 304520.93 | E13: 45634.769
... A22: Total Tchad | B22: 774498.21 | C22: 1013485.9 | D22: 436215.63 | E22: 266949.56

Sheet B
A1: Produit | B1: Mil | C1: Sorgho | D1: Maïs | E1: Riz
A2: Batha | B2: 152823.04 | C2: 53486.4 | D2: 95 | E2: 6
A3: Barh El Ghazal | B3: 39545.1 | C3: 132.3 | D3: 1436
A4: Chari Baguirmi | B4: 167445.63 | C4: 164747 | D4: 43480 | E4: 8319
A5: Guera | B5: 69644.75 | C5: 107977.2 | D5: 3041 | E5: 320.4
A6: Hadjer Lamis | B6: 88713.03 | C6: 80771.47 | D6: 32642.4 | E6: 3446.55
A7: Kanem | B7: 19854.72 | D7: 1131
A8: Lac | B8: 74260.79 | C8: 205.897 | D8: 40647.04 | E8: 472.23
A9: Ouaddaï | B9: 207168.73 | C9: 121334.22 | D9: 913.41
A10: Salamat | B10: 7501.896 | C10: 23268.784 | D10: 34359 | E10: 6724.5
A11: Sila | B11: 115045.73 | C11: 149475.48 | D11: 62266.176 | E11: 266.475
A12: Wadi Fira | B12: 119264.49 | C12: 30692.2
A13: Total Zone Sahel | B13: 1061267.9 | C13: 732090.95 | D13: 220011.03 | E13: 19555.155
A14: Mandoul | B14: 44758.5 | C14: 70191.938 | D14: 10911.6 | E14: 15564.42
A15: Mayo-Kebbi Est | B15: 26404 | C15: 72355.8 | D15: 12883.9 | E15: 39273.4
A16: Mayo-Kebbi Ouest | B16: 6497.4 | C16: 59412.12 | D16: 38257.14 | E16: 6155
A17: Moyen Chari. | B17: 18979 | C17: 41880 | D17: 11847 | E17: 4349
A18: Logone Occident | B18: 23346.525 | C18: 58058.55 | D18: 15516.9 | E18: 15183.54
A19: Logone Oriental | B19: 23533.073 | C19: 62394.64 | D19: 20007.9 | E19: 22110.883
A20: Tandjilé | B20: 27890 | C20: 39641.4 | D20: 7873.6 | E20: 58203.65
A21: Total Zone Soud | B21: 171408.5 | C21: 403934.45 | D21: 117298.04 | E21: 160839.89
A22: Total Tchad | B22: 1232676.4 | C22: 1136025.4 | D22: 337309.07 | E22: 180395.05

Sheet Consolidation
A1: Produit | B1: Mil | C1: Sorgho | D1: Maïs | E1: Riz
A2: Batha | B2: =IFERROR(INDEX(B,MATCH($A2,B!$A$1:$A$22,0),MATCH(B$1,B!$A$1:$E$1,0))/INDEX(A,MATCH($A2,A!$A$1:$A$22,0),MATCH(B$1,A!$A$1:$E$1,0)),"") -> 2.122962 | C2: =IFERROR(INDEX(B,MATCH($A2,B!$A$1:$A$22,0),MATCH(C$1,B!$A$1:$E$1,0))/INDEX(A,MATCH($A2,A!$A$1:$A$22,0),MATCH(C$1,A!$A$1:$E$1,0)),"") | D2: =IFERROR(INDEX(B,MATCH($A2,B!$A$1:$A$22,0),MATCH(D$1,B!$A$1:$E$1,0))/INDEX(A,MATCH($A2,A!$A$1:$A$22,0),MATCH(D$1,A!$A$1:$E$1,0)),"") | E2: =IFERROR(INDEX(B,MATCH($A2,B!$A$1:$A$22,0),MATCH(E$1,B!$A$1:$E$1,0))/INDEX(A,MATCH($A2,A!$A$1:$A$22,0),MATCH(E$1,A!$A$1:$E$1,0)),"") -> 1.2080942
A3: Barh El Ghazal | B3: =IFERROR(INDEX(B,MATCH($A3,B!$A$1:$A$22,0),MATCH(B$1,B!$A$1:$E$1,0))/INDEX(A,MATCH($A3,A!$A$1:$A$22,0),MATCH(B$1,A!$A$1:$E$1,0)),"") -> 2.6175098 | C3: =IFERROR(INDEX(B,MATCH($A3,B!$A$1:$A$22,0),MATCH(C$1,B!$A$1:$E$1,0))/INDEX(A,MATCH($A3,A!$A$1:$A$22,0),MATCH(C$1,A!$A$1:$E$1,0)),"") | D3: =IFERROR(INDEX(B,MATCH($A3,B!$A$1:$A$22,0),MATCH(D$1,B!$A$1:$E$1,0))/INDEX(A,MATCH($A3,A!$A$1:$A$22,0),MATCH(D$1,A!$A$1:$E$1,0)),"") | E3: =IFERROR(INDEX(B,MATCH($A3,B!$A$1:$A$22,0),MATCH(E$1,B!$A$1:$E$1,0))/INDEX(A,MATCH($A3,A!$A$1:$A$22,0),MATCH(E$1,A!$A$1:$E$1,0)),"")
A4: Chari Baguirmi | B4: =IFERROR(INDEX(B,MATCH($A4,B!$A$1:$A$22,0),MATCH(B$1,B!$A$1:$E$1,0))/INDEX(A,MATCH($A4,A!$A$1:$A$22,0),MATCH(B$1,A!$A$1:$E$1,0)),"") -> 1.4395532 | C4: =IFERROR(INDEX(B,MATCH($A4,B!$A$1:$A$22,0),MATCH(C$1,B!$A$1:$E$1,0))/INDEX(A,MATCH($A4,A!$A$1:$A$22,0),MATCH(C$1,A!$A$1:$E$1,0)),"") | D4: =IFERROR(INDEX(B,MATCH($A4,B!$A$1:$A$22,0),MATCH(D$1,B!$A$1:$E$1,0))/INDEX(A,MATCH($A4,A!$A$1:$A$22,0),MATCH(D$1,A!$A$1:$E$1,0)),"") | E4: =IFERROR(INDEX(B,MATCH($A4,B!$A$1:$A$22,0),MATCH(E$1,B!$A$1:$E$1,0))/INDEX(A,MATCH($A4,A!$A$1:$A$22,0),MATCH(E$1,A!$A$1:$E$1,0)),"") -> 0.67125091
A5: Guera | B5: =IFERROR(INDEX(B,MATCH($A5,B!$A$1:$A$22,0),MATCH(B$1,B!$A$1:$E$1,0))/INDEX(A,MATCH($A5,A!$A$1:$A$22,0),MATCH(B$1,A!$A$1:$E$1,0)),"") -> 1.8339706 | C5: =IFERROR(INDEX(B,MATCH($A5,B!$A$1:$A$22,0),MATCH(C$1,B!$A$1:$E$1,0))/INDEX(A,MATCH($A5,A!$A$1:$A$22,0),MATCH(C$1,A!$A$1:$E$1,0)),"") | D5: =IFERROR(INDEX(B,MATCH($A5,B!$A$1:$A$22,0),MATCH(D$1,B!$A$1:$E$1,0))/INDEX(A,MATCH($A5,A!$A$1:$A$22,0),MATCH(D$1,A!$A$1:$E$1,0)),"") | E5: =IFERROR(INDEX(B,MATCH($A5,B!$A$1:$A$22,0),MATCH(E$1,B!$A$1:$E$1,0))/INDEX(A,MATCH($A5,A!$A$1:$A$22,0),MATCH(E$1,A!$A$1:$E$1,0)),"") -> 0.95785441
A6: Hadjer Lamis | B6: =IFERROR(INDEX(B,MATCH($A6,B!$A$1:$A$22,0),MATCH(B$1,B!$A$1:$E$1,0))/INDEX(A,MATCH($A6,A!$A$1:$A$22,0),MATCH(B$1,A!$A$1:$E$1,0)),"") -> 2.2439434 | C6: =IFERROR(INDEX(B,MATCH($A6,B!$A$1:$A$22,0),MATCH(C$1,B!$A$1:$E$1,0))/INDEX(A,MATCH($A6,A!$A$1:$A$22,0),MATCH(C$1,A!$A$1:$E$1,0)),"") | D6: =IFERROR(INDEX(B,MATCH($A6,B!$A$1:$A$22,0),MATCH(D$1,B!$A$1:$E$1,0))/INDEX(A,MATCH($A6,A!$A$1:$A$22,0),MATCH(D$1,A!$A$1:$E$1,0)),"") | E6: =IFERROR(INDEX(B,MATCH($A6,B!$A$1:$A$22,0),MATCH(E$1,B!$A$1:$E$1,0))/INDEX(A,MATCH($A6,A!$A$1:$A$22,0),MATCH(E$1,A!$A$1:$E$1,0)),"") -> 0.47704234
A7: Kanem | B7: =IFERROR(INDEX(B,MATCH($A7,B!$A$1:$A$22,0),MATCH(B$1,B!$A$1:$E$1,0))/INDEX(A,MATCH($A7,A!$A$1:$A$22,0),MATCH(B$1,A!$A$1:$E$1,0)),"") -> 2.7038553 | C7: =IFERROR(INDEX(B,MATCH($A7,B!$A$1:$A$22,0),MATCH(C$1,B!$A$1:$E$1,0))/INDEX(A,MATCH($A7,A!$A$1:$A$22,0),MATCH(C$1,A!$A$1:$E$1,0)),"") | D7: =IFERROR(INDEX(B,MATCH($A7,B!$A$1:$A$22,0),MATCH(D$1,B!$A$1:$E$1,0))/INDEX(A,MATCH($A7,A!$A$1:$A$22,0),MATCH(D$1,A!$A$1:$E$1,0)),"") | E7: =IFERROR(INDEX(B,MATCH($A7,B!$A$1:$A$22,0),MATCH(E$1,B!$A$1:$E$1,0))/INDEX(A,MATCH($A7,A!$A$1:$A$22,0),MATCH(E$1,A!$A$1:$E$1,0)),"")
A8: Lac | B8: =IFERROR(INDEX(B,MATCH($A8,B!$A$1:$A$22,0),MATCH(B$1,B!$A$1:$E$1,0))/INDEX(A,MATCH($A8,A!$A$1:$A$22,0),MATCH(B$1,A!$A$1:$E$1,0)),"") -> 1.3233452 | C8: =IFERROR(INDEX(B,MATCH($A8,B!$A$1:$A$22,0),MATCH(C$1,B!$A$1:$E$1,0))/INDEX(A,MATCH($A8,A!$A$1:$A$22,0),MATCH(C$1,A!$A$1:$E$1,0)),"") | D8: =IFERROR(INDEX(B,MATCH($A8,B!$A$1:$A$22,0),MATCH(D$1,B!$A$1:$E$1,0))/INDEX(A,MATCH($A8,A!$A$1:$A$22,0),MATCH(D$1,A!$A$1:$E$1,0)),"") | E8: =IFERROR(INDEX(B,MATCH($A8,B!$A$1:$A$22,0),MATCH(E$1,B!$A$1:$E$1,0))/INDEX(A,MATCH($A8,A!$A$1:$A$22,0),MATCH(E$1,A!$A$1:$E$1,0)),"") -> 0.25
A9: Ouaddaï | B9: =IFERROR(INDEX(B,MATCH($A9,B!$A$1:$A$22,0),MATCH(B$1,B!$A$1:$E$1,0))/INDEX(A,MATCH($A9,A!$A$1:$A$22,0),MATCH(B$1,A!$A$1:$E$1,0)),"") -> 1.384083 | C9: =IFERROR(INDEX(B,MATCH($A9,B!$A$1:$A$22,0),MATCH(C$1,B!$A$1:$E$1,0))/INDEX(A,MATCH($A9,A!$A$1:$A$22,0),MATCH(C$1,A!$A$1:$E$1,0)),"") | D9: =IFERROR(INDEX(B,MATCH($A9,B!$A$1:$A$22,0),MATCH(D$1,B!$A$1:$E$1,0))/INDEX(A,MATCH($A9,A!$A$1:$A$22,0),MATCH(D$1,A!$A$1:$E$1,0)),"") | E9: =IFERROR(INDEX(B,MATCH($A9,B!$A$1:$A$22,0),MATCH(E$1,B!$A$1:$E$1,0))/INDEX(A,MATCH($A9,A!$A$1:$A$22,0),MATCH(E$1,A!$A$1:$E$1,0)),"")
A10: Salamat | B10: =IFERROR(INDEX(B,MATCH($A10,B!$A$1:$A$22,0),MATCH(B$1,B!$A$1:$E$1,0))/INDEX(A,MATCH($A10,A!$A$1:$A$22,0),MATCH(B$1,A!$A$1:$E$1,0)),"") -> 1.310616 | C10: =IFERROR(INDEX(B,MATCH($A10,B!$A$1:$A$22,0),MATCH(C$1,B!$A$1:$E$1,0))/INDEX(A,MATCH($A10,A!$A$1:$A$22,0),MATCH(C$1,A!$A$1:$E$1,0)),"") | D10: =IFERROR(INDEX(B,MATCH($A10,B!$A$1:$A$22,0),MATCH(D$1,B!$A$1:$E$1,0))/INDEX(A,MATCH($A10,A!$A$1:$A$22,0),MATCH(D$1,A!$A$1:$E$1,0)),"") | E10: =IFERROR(INDEX(B,MATCH($A10,B!$A$1:$A$22,0),MATCH(E$1,B!$A$1:$E$1,0))/INDEX(A,MATCH($A10,A!$A$1:$A$22,0),MATCH(E$1,A!$A$1:$E$1,0)),"") -> 0.28653295
A11: Sila | B11: =IFERROR(INDEX(B,MATCH($A11,B!$A$1:$A$22,0),MATCH(B$1,B!$A$1:$E$1,0))/INDEX(A,MATCH($A11,A!$A$1:$A$22,0),MATCH(B$1,A!$A$1:$E$1,0)),"") -> 1.2877471 | C11: =IFERROR(INDEX(B,MATCH($A11,B!$A$1:$A$22,0),MATCH(C$1,B!$A$1:$E$1,0))/INDEX(A,MATCH($A11,A!$A$1:$A$22,0),MATCH(C$1,A!$A$1:$E$1,0)),"") | D11: =IFERROR(INDEX(B,MATCH($A11,B!$A$1:$A$22,0),MATCH(D$1,B!$A$1:$E$1,0))/INDEX(A,MATCH($A11,A!$A$1:$A$22,0),MATCH(D$1,A!$A$1:$E$1,0)),"") | E11: =IFERROR(INDEX(B,MATCH($A11,B!$A$1:$A$22,0),MATCH(E$1,B!$A$1:$E$1,0))/INDEX(A,MATCH($A11,A!$A$1:$A$22,0),MATCH(E$1,A!$A$1:$E$1,0)),"") -> 0.83333333
A12: Wadi Fira | B12: =IFERROR(INDEX(B,MATCH($A12,B!$A$1:$A$22,0),MATCH(B$1,B!$A$1:$E$1,0))/INDEX(A,MATCH($A12,A!$A$1:$A$22,0),MATCH(B$1,A!$A$1:$E$1,0)),"") -> 1.5989914 | C12: =IFERROR(INDEX(B,MATCH($A12,B!$A$1:$A$22,0),MATCH(C$1,B!$A$1:$E$1,0))/INDEX(A,MATCH($A12,A!$A$1:$A$22,0),MATCH(C$1,A!$A$1:$E$1,0)),"") | D12: =IFERROR(INDEX(B,MATCH($A12,B!$A$1:$A$22,0),MATCH(D$1,B!$A$1:$E$1,0))/INDEX(A,MATCH($A12,A!$A$1:$A$22,0),MATCH(D$1,A!$A$1:$E$1,0)),"") | E12: =IFERROR(INDEX(B,MATCH($A12,B!$A$1:$A$22,0),MATCH(E$1,B!$A$1:$E$1,0))/INDEX(A,MATCH($A12,A!$A$1:$A$22,0),MATCH(E$1,A!$A$1:$E$1,0)),"")
A13: Total Zone Sahel | B13: =IFERROR(INDEX(B,MATCH($A13,B!$A$1:$A$22,0),MATCH(B$1,B!$A$1:$E$1,0))/INDEX(A,MATCH($A13,A!$A$1:$A$22,0),MATCH(B$1,A!$A$1:$E$1,0)),"") -> 1.5989952 | C13: =IFERROR(INDEX(B,MATCH($A13,B!$A$1:$A$22,0),MATCH(C$1,B!$A$1:$E$1,0))/INDEX(A,MATCH($A13,A!$A$1:$A$22,0),MATCH(C$1,A!$A$1:$E$1,0)),"") | D13: =IFERROR(INDEX(B,MATCH($A13,B!$A$1:$A$22,0),MATCH(D$1,B!$A$1:$E$1,0))/INDEX(A,MATCH($A13,A!$A$1:$A$22,0),MATCH(D$1,A!$A$1:$E$1,0)),"") | E13: =IFERROR(INDEX(B,MATCH($A13,B!$A$1:$A$22,0),MATCH(E$1,B!$A$1:$E$1,0))/INDEX(A,MATCH($A13,A!$A$1:$A$22,0),MATCH(E$1,A!$A$1:$E$1,0)),"") -> 0.42851439
... A22: Total Tchad | B22: =IFERROR(INDEX(B,MATCH($A22,B!$A$1:$A$22,0),MATCH(B$1,B!$A$1:$E$1,0))/INDEX(A,MATCH($A22,A!$A$1:$A$22,0),MATCH(B$1,A!$A$1:$E$1,0)),"") -> 1.5915807 | C22: =IFERROR(INDEX(B,MATCH($A22,B!$A$1:$A$22,0),MATCH(C$1,B!$A$1:$E$1,0))/INDEX(A,MATCH($A22,A!$A$1:$A$22,0),MATCH(C$1,A!$A$1:$E$1,0)),"") | D22: =IFERROR(INDEX(B,MATCH($A22,B!$A$1:$A$22,0),MATCH(D$1,B!$A$1:$E$1,0))/INDEX(A,MATCH($A22,A!$A$1:$A$22,0),MATCH(D$1,A!$A$1:$E$1,0)),"") | E22: =IFERROR(INDEX(B,MATCH($A22,B!$A$1:$A$22,0),MATCH(E$1,B!$A$1:$E$1,0))/INDEX(A,MATCH($A22,A!$A$1:$A$22,0),MATCH(E$1,A!$A$1:$E$1,0)),"") -> 0.67576456
