Workbook

Sheet Feuil1
B2: Statut | C2: numéro | D2: Nom | E2: Prix | F2: Unité | G2: Commentaire
B3: ok | C3: 1 | D3: Pomme | E3: 2 | F3: KG | G3: Rouge
B4: ok | C4: 2 | D4: Courgette | E4: 4 | F4: KG | G4: -
B5: pas dispo | C5: 3 | D5: Yaourt | E5: 3 | F5: PACK | G5: Fraise
B6: pas enregistré | C6: 4 | D6: Veau | E6: 10 | F6: KG | G6: Filet
B7: ok | C7: 5 | D7: Shampoing | E7: 3 | F7: BTL | G7: -
B8: pas dispo | C8: 6 | D8: Chocolat noir | E8: 2 | F8: PCE | G8: -
B9: remplacement | C9: 7 | D9: Chocolat au lait | E9: 2.5 | F9: PCE | G9: -
B10: ok | C10: 8 | D10: Jus d'orange | E10: 1.5 | F10: BTL | G10: -
B11: pas enregistré | C11: 9 | D11: Curry | E11: 1.5 | F11: CAN | G11: -

Sheet Feuil2
A2: ligne | B2: Prix | C2: Unité | D2: Commentaire
A3: {=MIN(IF((Feuil1!$B$3:$B$11="ok")+(Feuil1!$B$3:$B$11="remplacement"),ROW(Feuil1!$B$3:$B$11),""))} -> 3 | B3: =INDEX(Feuil1!$E$3:$G$11,Feuil2!$A3-2,COLUMN(Feuil2!B3)-1) -> 2 | C3: =INDEX(Feuil1!$E$3:$G$11,Feuil2!$A3-2,COLUMN(Feuil2!C3)-1) -> KG | D3: =INDEX(Feuil1!$E$3:$G$11,Feuil2!$A3-2,COLUMN(Feuil2!D3)-1) -> Rouge
A4: {=MIN(IF(((Feuil1!$B$3:$B$11="ok")+(Feuil1!$B$3:$B$11="remplacement"))*(ROW(Feuil1!$B$3:$B$11)>A3),ROW(Feuil1!$B$3:$B$11),""))} -> 4 | B4: =INDEX(Feuil1!$E$3:$G$11,Feuil2!$A4-2,COLUMN(Feuil2!B4)-1) -> 4 | C4: =INDEX(Feuil1!$E$3:$G$11,Feuil2!$A4-2,COLUMN(Feuil2!C4)-1) -> KG | D4: =INDEX(Feuil1!$E$3:$G$11,Feuil2!$A4-2,COLUMN(Feuil2!D4)-1) -> -
A5: {=MIN(IF(((Feuil1!$B$3:$B$11="ok")+(Feuil1!$B$3:$B$11="remplacement"))*(ROW(Feuil1!$B$3:$B$11)>A4),ROW(Feuil1!$B$3:$B$11),""))} -> 7 | B5: =INDEX(Feuil1!$E$3:$G$11,Feuil2!$A5-2,COLUMN(Feuil2!B5)-1) -> 3 | C5: =INDEX(Feuil1!$E$3:$G$11,Feuil2!$A5-2,COLUMN(Feuil2!C5)-1) -> BTL | D5: =INDEX(Feuil1!$E$3:$G$11,Feuil2!$A5-2,COLUMN(Feuil2!D5)-1) -> -
A6: {=MIN(IF(((Feuil1!$B$3:$B$11="ok")+(Feuil1!$B$3:$B$11="remplacement"))*(ROW(Feuil1!$B$3:$B$11)>A5),ROW(Feuil1!$B$3:$B$11),""))} -> 9 | B6: =INDEX(Feuil1!$E$3:$G$11,Feuil2!$A6-2,COLUMN(Feuil2!B6)-1) -> 2.5 | C6: =INDEX(Feuil1!$E$3:$G$11,Feuil2!$A6-2,COLUMN(Feuil2!C6)-1) -> PCE | D6: =INDEX(Feuil1!$E$3:$G$11,Feuil2!$A6-2,COLUMN(Feuil2!D6)-1) -> -
A7: {=MIN(IF(((Feuil1!$B$3:$B$11="ok")+(Feuil1!$B$3:$B$11="remplacement"))*(ROW(Feuil1!$B$3:$B$11)>A6),ROW(Feuil1!$B$3:$B$11),""))} -> 10 | B7: =INDEX(Feuil1!$E$3:$G$11,Feuil2!$A7-2,COLUMN(Feuil2!B7)-1) -> 1.5 | C7: =INDEX(Feuil1!$E$3:$G$11,Feuil2!$A7-2,COLUMN(Feuil2!C7)-1) -> BTL | D7: =INDEX(Feuil1!$E$3:$G$11,Feuil2!$A7-2,COLUMN(Feuil2!D7)-1) -> -
A8: {=MIN(IF(((Feuil1!$B$3:$B$11="ok")+(Feuil1!$B$3:$B$11="remplacement"))*(ROW(Feuil1!$B$3:$B$11)>A7),ROW(Feuil1!$B$3:$B$11),""))} -> 0 | B8: =INDEX(Feuil1!$E$3:$G$11,Feuil2!$A8-2,COLUMN(Feuil2!B8)-1) -> #VALUE! | C8: =INDEX(Feuil1!$E$3:$G$11,Feuil2!$A8-2,COLUMN(Feuil2!C8)-1) -> #VALUE! | D8: =INDEX(Feuil1!$E$3:$G$11,Feuil2!$A8-2,COLUMN(Feuil2!D8)-1) -> #VALUE!
B11: =IF(OR(Feuil1!$B11="ok",Feuil1!$B11="remplacement"),Feuil1!E11,"") | C11: =IF(OR(Feuil1!$B11="ok",Feuil1!$B11="remplacement"),Feuil1!F11,"") | D11: =IF(OR(Feuil1!$B11="ok",Feuil1!$B11="remplacement"),Feuil1!G11,"")
