Workbook

Sheet articles
A1: Code article | B1: Description | C1: Description2 | D1: Type Lign | E1: IFLA | F1: Empl. | G1: Autre | H1: Qte | I1: Coût unitaire | J1: Coût total | K1: Qte JDE | L1: Réservé | M1: UM | N1: Ecart | O1: Conso 1 AN | P1: Dernière conso | Q1: Autre | R1: à jeter | S1: jeté
A2: 0229914 | B2: =VLOOKUP($A2,'E&O'!$G$1:$K$9999,4,FALSE) -> EMBOUT FEMELLE D54 | C2: =VLOOKUP($A2,'E&O'!$G$1:$K$9999,5,FALSE) -> POLYETHYLENE | D2: =VLOOKUP($A2,'E&O'!$G$1:$CJ$9999,12,FALSE) -> WC | E2: =VLOOKUP($A2,'E&O'!$G$1:$CJ$9999,34,FALSE) -> VA | I2: =VLOOKUP($A2,'E&O'!$G$1:$CJ$9999,15,FALSE) -> 0.061 | J2: =H2*I2 -> 0 | K2: 61 | L2: 0 | M2: =VLOOKUP($A2,'E&O'!$G$1:$CJ$9999,17,FALSE) -> EA | N2: =H2-K2 -> -61 | O2: =VLOOKUP($A2,'E&O'!$G$1:$CJ$9999,57,FALSE) -> -6 | P2: =VLOOKUP($A2,'E&O'!$G$1:$CJ$9999,59,FALSE) -> 43493 | R2: à voir
A3: 0229909 | B3: =VLOOKUP($A3,'E&O'!$G$1:$K$9999,4,FALSE) -> EMBOUT FEMELLE D41,5 | C3: =VLOOKUP($A3,'E&O'!$G$1:$K$9999,5,FALSE) -> POLYETHYLENE | D3: =VLOOKUP($A3,'E&O'!$G$1:$CJ$9999,12,FALSE) -> WC | E3: =VLOOKUP($A3,'E&O'!$G$1:$CJ$9999,34,FALSE) -> VA | I3: =VLOOKUP($A3,'E&O'!$G$1:$CJ$9999,15,FALSE) -> 0.073 | J3: =H3*I3 -> 0 | K3: 1431 | L3: 0 | M3: =VLOOKUP($A3,'E&O'!$G$1:$CJ$9999,17,FALSE) -> EA | N3: =H3-K3 -> -1431 | O3: =VLOOKUP($A3,'E&O'!$G$1:$CJ$9999,57,FALSE) -> -59 | P3: =VLOOKUP($A3,'E&O'!$G$1:$CJ$9999,59,FALSE) -> 43622 | R3: non
A4: 0229094 | B4: CAPE CONIQUE D13,5/15,4 H12 | C4: POLYETHYLENE | D4: OB | E4: AN | I4: 0.0142 | J4: =H4*I4 -> 0 | K4: 0 | L4: 0 | M4: EA | N4: =H4-K4 -> 0 | O4: =VLOOKUP($A4,'E&O'!$G$1:$CJ$9999,57,FALSE) -> #N/A | P4: =VLOOKUP($A4,'E&O'!$G$1:$CJ$9999,59,FALSE) -> #N/A | R4: oui
A5: 7074061 | B5: BOUCHON DROIT EP270-39.5 1¨1/4 | C5: POLYETHYLENE BD NATUREL | D5: OB | E5: AN | I5: 0.035 | J5: =H5*I5 -> 0 | K5: 0 | L5: 0 | M5: EA | N5: =H5-K5 -> 0 | O5: =VLOOKUP($A5,'E&O'!$G$1:$CJ$9999,57,FALSE) -> #N/A | P5: =VLOOKUP($A5,'E&O'!$G$1:$CJ$9999,59,FALSE) -> #N/A | R5: oui
A6: 3421344 | B6: COLLECTEUR COUDEE 7,94 WA | C6: COLLECTEUR COUDEE 7,94 WA | D6: OB | E6: AN | I6: 1.0897 | J6: =H6*I6 -> 0 | K6: 0 | L6: 0 | M6: EA | N6: =H6-K6 -> 0 | O6: =VLOOKUP($A6,'E&O'!$G$1:$CJ$9999,57,FALSE) -> #N/A | P6: =VLOOKUP($A6,'E&O'!$G$1:$CJ$9999,59,FALSE) -> #N/A | R6: oui
A7: 3421268 | B7: COLLECTEUR COUDEE 7,94 WA | C7: CU | D7: OB | E7: AN | I7: 1.2095 | J7: =H7*I7 -> 0 | K7: 0 | L7: 0 | M7: EA | N7: =H7-K7 -> 0 | O7: =VLOOKUP($A7,'E&O'!$G$1:$CJ$9999,57,FALSE) -> #N/A | P7: =VLOOKUP($A7,'E&O'!$G$1:$CJ$9999,59,FALSE) -> #N/A | R7: oui
A8: 7061338 | B8: =VLOOKUP($A8,'E&O'!$G$1:$K$9999,4,FALSE) -> EMBOUT CU 12X0.685 L56 | C8: =VLOOKUP($A8,'E&O'!$G$1:$K$9999,5,FALSE) -> RETREINT | D8: =VLOOKUP($A8,'E&O'!$G$1:$CJ$9999,12,FALSE) -> W | E8: =VLOOKUP($A8,'E&O'!$G$1:$CJ$9999,34,FALSE) -> VA | I8: =VLOOKUP($A8,'E&O'!$G$1:$CJ$9999,15,FALSE) -> 0.3204 | J8: =H8*I8 -> 0 | K8: 2297 | L8: 8 | M8: =VLOOKUP($A8,'E&O'!$G$1:$CJ$9999,17,FALSE) -> EA | N8: =H8-K8 -> -2297 | O8: =VLOOKUP($A8,'E&O'!$G$1:$CJ$9999,57,FALSE) -> -118 | P8: =VLOOKUP($A8,'E&O'!$G$1:$CJ$9999,59,FALSE) -> 43643 | R8: non
A9: 7171288 | B9: FLANC AR 4R 32T 813X105 G15 | C9: MAG2 CW18-30-35-61&70 | D9: WC | E9: VA | I9: 6.9612 | J9: =H9*I9 -> 0 | K9: 0 | L9: 0 | M9: EA | N9: =H9-K9 -> 0 | O9: =VLOOKUP($A9,'E&O'!$G$1:$CJ$9999,57,FALSE) -> #N/A | P9: =VLOOKUP($A9,'E&O'!$G$1:$CJ$9999,59,FALSE) -> #N/A | Q9: E&O Fin Juin stock vidé JDE | R9: oui
A10: 5456489 | B10: =VLOOKUP($A10,'E&O'!$G$1:$K$9999,4,FALSE) -> COUDE CU 40° 07X0,5 A15 B15 | C10: =VLOOKUP($A10,'E&O'!$G$1:$K$9999,5,FALSE) -> R12 | D10: =VLOOKUP($A10,'E&O'!$G$1:$CJ$9999,12,FALSE) -> S | E10: =VLOOKUP($A10,'E&O'!$G$1:$CJ$9999,34,FALSE) -> VA | I10: =VLOOKUP($A10,'E&O'!$G$1:$CJ$9999,15,FALSE) -> 0.1327 | J10: =H10*I10 -> 0 | K10: 491 | L10: 4 | M10: =VLOOKUP($A10,'E&O'!$G$1:$CJ$9999,17,FALSE) -> EA | N10: =H10-K10 -> -491 | O10: =VLOOKUP($A10,'E&O'!$G$1:$CJ$9999,57,FALSE) -> -67 | P10: =VLOOKUP($A10,'E&O'!$G$1:$CJ$9999,59,FALSE) -> 43538 | R10: non
A11: 7061320 | B11: =VLOOKUP($A11,'E&O'!$G$1:$K$9999,4,FALSE) -> COUDE CU 24° 12X0,685 A15 B57 | C11: =VLOOKUP($A11,'E&O'!$G$1:$K$9999,5,FALSE) -> 0 | D11: =VLOOKUP($A11,'E&O'!$G$1:$CJ$9999,12,FALSE) -> W | E11: =VLOOKUP($A11,'E&O'!$G$1:$CJ$9999,34,FALSE) -> VA | I11: =VLOOKUP($A11,'E&O'!$G$1:$CJ$9999,15,FALSE) -> 0.2984 | J11: =H11*I11 -> 0 | K11: 719 | L11: 4 | M11: =VLOOKUP($A11,'E&O'!$G$1:$CJ$9999,17,FALSE) -> EA | N11: =H11-K11 -> -719 | O11: =VLOOKUP($A11,'E&O'!$G$1:$CJ$9999,57,FALSE) -> -60 | P11: =VLOOKUP($A11,'E&O'!$G$1:$CJ$9999,59,FALSE) -> 43643 | R11: non
A12: 7193293 | B12: =VLOOKUP($A12,'E&O'!$G$1:$K$9999,4,FALSE) -> COUDE CU 40° D7,94 A9 B21 | C12: =VLOOKUP($A12,'E&O'!$G$1:$K$9999,5,FALSE) -> 0 | D12: =VLOOKUP($A12,'E&O'!$G$1:$CJ$9999,12,FALSE) -> W | E12: =VLOOKUP($A12,'E&O'!$G$1:$CJ$9999,34,FALSE) -> VA | I12: =VLOOKUP($A12,'E&O'!$G$1:$CJ$9999,15,FALSE) -> 0.7997 | J12: =H12*I12 -> 0 | K12: 677 | L12: 0 | M12: =VLOOKUP($A12,'E&O'!$G$1:$CJ$9999,17,FALSE) -> EA | N12: =H12-K12 -> -677 | O12: =VLOOKUP($A12,'E&O'!$G$1:$CJ$9999,57,FALSE) -> 0 | P12: =VLOOKUP($A12,'E&O'!$G$1:$CJ$9999,59,FALSE) -> 41948 | R12: oui
A13: 7061532 | B13: =VLOOKUP($A13,'E&O'!$G$1:$K$9999,4,FALSE) -> EMBOUT CU 12X0.685 L70 | C13: =VLOOKUP($A13,'E&O'!$G$1:$K$9999,5,FALSE) -> LISSE | D13: =VLOOKUP($A13,'E&O'!$G$1:$CJ$9999,12,FALSE) -> OB | E13: =VLOOKUP($A13,'E&O'!$G$1:$CJ$9999,34,FALSE) -> VA | I13: =VLOOKUP($A13,'E&O'!$G$1:$CJ$9999,15,FALSE) -> 0.3837 | J13: =H13*I13 -> 0 | K13: 1361 | L13: 0 | M13: =VLOOKUP($A13,'E&O'!$G$1:$CJ$9999,17,FALSE) -> EA | N13: =H13-K13 -> -1361 | O13: =VLOOKUP($A13,'E&O'!$G$1:$CJ$9999,57,FALSE) -> -16 | P13: =VLOOKUP($A13,'E&O'!$G$1:$CJ$9999,59,FALSE) -> 43523 | R13: à voir
A14: 7368636 | B14: COUDE CU 25° 15,87X0,69 A30B53 | D14: OB | E14: SP | I14: 0.4876 | J14: =H14*I14 -> 0 | K14: 0 | L14: 0 | M14: EA | N14: =H14-K14 -> 0 | O14: -16 | P14: 43393 | R14: oui
A15: 7367277 | B15: COUDE CU 50° 15,87X0,69 A30B54 | C15: RECUIT OS27 (D5/8¨) | D15: OB | E15: SP | I15: 0.6236 | J15: =H15*I15 -> 0 | K15: 0 | L15: 0 | M15: EA | N15: =H15-K15 -> 0 | O15: 0 | P15: 42080 | R15: oui
A16: 7367280 | B16: =VLOOKUP($A16,'E&O'!$G$1:$K$9999,4,FALSE) -> COUDE CU 65° 15,87X0,69 A36B66 | C16: =VLOOKUP($A16,'E&O'!$G$1:$K$9999,5,FALSE) -> RECUIT OS27 (D5/8¨) | D16: =VLOOKUP($A16,'E&O'!$G$1:$CJ$9999,12,FALSE) -> OB | E16: =VLOOKUP($A16,'E&O'!$G$1:$CJ$9999,34,FALSE) -> SP | I16: =VLOOKUP($A16,'E&O'!$G$1:$CJ$9999,15,FALSE) -> 1.2194 | J16: =H16*I16 -> 0 | K16: 800 | L16: 0 | M16: =VLOOKUP($A16,'E&O'!$G$1:$CJ$9999,17,FALSE) -> EA | N16: =H16-K16 -> -800 | O16: =VLOOKUP($A16,'E&O'!$G$1:$CJ$9999,57,FALSE) -> 0 | P16: =VLOOKUP($A16,'E&O'!$G$1:$CJ$9999,59,FALSE) -> 43130 | R16: oui
A17: 7367279 | B17: =VLOOKUP($A17,'E&O'!$G$1:$K$9999,4,FALSE) -> COUDE CU 45° 15,87X0,69 A24B50 | C17: =VLOOKUP($A17,'E&O'!$G$1:$K$9999,5,FALSE) -> RECUIT OS27 (D5/8¨) | D17: =VLOOKUP($A17,'E&O'!$G$1:$CJ$9999,12,FALSE) -> OB | E17: =VLOOKUP($A17,'E&O'!$G$1:$CJ$9999,34,FALSE) -> SP | I17: =VLOOKUP($A17,'E&O'!$G$1:$CJ$9999,15,FALSE) -> 1.0371 | J17: =H17*I17 -> 0 | K17: 800 | L17: 0 | M17: =VLOOKUP($A17,'E&O'!$G$1:$CJ$9999,17,FALSE) -> EA | N17: =H17-K17 -> -800 | O17: =VLOOKUP($A17,'E&O'!$G$1:$CJ$9999,57,FALSE) -> 0 | P17: =VLOOKUP($A17,'E&O'!$G$1:$CJ$9999,59,FALSE) -> 43130 | R17: oui
A18: 5441839 | B18: PANNEAU INF BAT 3N M2C 430 V-H | D18: OB | E18: AN | I18: 4.5339 | J18: =H18*I18 -> 0 | K18: 0 | L18: 0 | M18: EA | N18: =H18-K18 -> 0 | O18: =VLOOKUP($A18,'E&O'!$G$1:$CJ$9999,57,FALSE) -> #N/A | P18: =VLOOKUP($A18,'E&O'!$G$1:$CJ$9999,59,FALSE) -> #N/A | R18: oui
A19: 3421274 | B19: COLLECTEUR COUDEE 7,94 WA | C19: CU | D19: OB | E19: VA | I19: 1.3011 | J19: =H19*I19 -> 0 | K19: 0 | L19: 0 | M19: EA | N19: =H19-K19 -> 0 | O19: =VLOOKUP($A19,'E&O'!$G$1:$CJ$9999,57,FALSE) -> #N/A | P19: =VLOOKUP($A19,'E&O'!$G$1:$CJ$9999,59,FALSE) -> #N/A | Q19: E&O Fin Juin stock vidé JDE | R19: oui
A20: 5705508 | B20: COLLECTEUR SC 2C 12.7-7.94 SE | C20: M2C 432 434/435 V-H | D20: OB | E20: AN | I20: 3.1037 | J20: =H20*I20 -> 0 | K20: 0 | L20: 0 | M20: EA | N20: =H20-K20 -> 0 | O20: =VLOOKUP($A20,'E&O'!$G$1:$CJ$9999,57,FALSE) -> #N/A | P20: =VLOOKUP($A20,'E&O'!$G$1:$CJ$9999,59,FALSE) -> #N/A | R20: oui
A21: 7088730 | B21: COUDE CU 90° 09X0,5 A11 B90 | C21: COUDE CU 90° 09X0,5 A11 B90 | D21: W | E21: VA | I21: 0.8983 | J21: =H21*I21 -> 0 | K21: 0 | L21: 0 | M21: EA | N21: =H21-K21 -> 0 | O21: -7 | P21: 43285 | R21: oui
A22: 5456480 | B22: COLLECTEUR CU 1T/1C 12.7-7.94 | C22: M2C 426 428 430 V-H | D22: OB | E22: AN | I22: 0.8769 | J22: =H22*I22 -> 0 | K22: 0 | L22: 0 | M22: EA | N22: =H22-K22 -> 0 | O22: =VLOOKUP($A22,'E&O'!$G$1:$CJ$9999,57,FALSE) -> #N/A | P22: =VLOOKUP($A22,'E&O'!$G$1:$CJ$9999,59,FALSE) -> #N/A | R22: oui
A23: 5453421 | B23: =VLOOKUP($A23,'E&O'!$G$1:$K$9999,4,FALSE) -> #N/A | C23: =VLOOKUP($A23,'E&O'!$G$1:$K$9999,5,FALSE) -> #N/A | D23: =VLOOKUP($A23,'E&O'!$G$1:$CJ$9999,12,FALSE) -> #N/A | E23: =VLOOKUP($A23,'E&O'!$G$1:$CJ$9999,34,FALSE) -> #N/A | I23: =VLOOKUP($A23,'E&O'!$G$1:$CJ$9999,15,FALSE) -> #N/A | J23: =H23*I23 -> #N/A | M23: =VLOOKUP($A23,'E&O'!$G$1:$CJ$9999,17,FALSE) -> #N/A | N23: =H23-K23 -> 0 | O23: =VLOOKUP($A23,'E&O'!$G$1:$CJ$9999,57,FALSE) -> #N/A | P23: =VLOOKUP($A23,'E&O'!$G$1:$CJ$9999,59,FALSE) -> #N/A | R23: oui
A24: 5453261 | B24: =VLOOKUP($A24,'E&O'!$G$1:$K$9999,4,FALSE) -> #N/A | C24: =VLOOKUP($A24,'E&O'!$G$1:$K$9999,5,FALSE) -> #N/A | D24: =VLOOKUP($A24,'E&O'!$G$1:$CJ$9999,12,FALSE) -> #N/A | E24: =VLOOKUP($A24,'E&O'!$G$1:$CJ$9999,34,FALSE) -> #N/A | I24: =VLOOKUP($A24,'E&O'!$G$1:$CJ$9999,15,FALSE) -> #N/A | J24: =H24*I24 -> #N/A | M24: =VLOOKUP($A24,'E&O'!$G$1:$CJ$9999,17,FALSE) -> #N/A | N24: =H24-K24 -> 0 | O24: =VLOOKUP($A24,'E&O'!$G$1:$CJ$9999,57,FALSE) -> #N/A | P24: =VLOOKUP($A24,'E&O'!$G$1:$CJ$9999,59,FALSE) -> #N/A | R24: oui
A25: 3421300 | B25: COLLECTEUR COUDEE 7,94 WA | C25: CU | D25: OB | E25: AN | I25: 1.1895 | J25: =H25*I25 -> 0 | K25: 0 | L25: 0 | M25: EA | N25: =H25-K25 -> 0 | O25: =VLOOKUP($A25,'E&O'!$G$1:$CJ$9999,57,FALSE) -> #N/A | P25: =VLOOKUP($A25,'E&O'!$G$1:$CJ$9999,59,FALSE) -> #N/A | R25: oui
A26: 3421265 | B26: COLLECTEUR COUDEE 7,94 WA | C26: CU | D26: OB | E26: VA | I26: 1.067 | J26: =H26*I26 -> 0 | K26: 0 | L26: 0 | M26: EA | N26: =H26-K26 -> 0 | O26: =VLOOKUP($A26,'E&O'!$G$1:$CJ$9999,57,FALSE) -> #N/A | P26: =VLOOKUP($A26,'E&O'!$G$1:$CJ$9999,59,FALSE) -> #N/A | Q26: E&O Fin Juin stock vidé JDE | R26: oui
A27: 3421348 | B27: COLLECTEUR COUDEE 7,94 WA | C27: CU | D27: OB | E27: AN | I27: 1.1328 | J27: =H27*I27 -> 0 | K27: 0 | L27: 0 | M27: EA | N27: =H27-K27 -> 0 | O27: =VLOOKUP($A27,'E&O'!$G$1:$CJ$9999,57,FALSE) -> #N/A | P27: =VLOOKUP($A27,'E&O'!$G$1:$CJ$9999,59,FALSE) -> #N/A | R27: oui
A28: 3420872 | B28: =VLOOKUP($A28,'E&O'!$G$1:$K$9999,4,FALSE) -> COURBE CU 07X0,4 E32 | C28: =VLOOKUP($A28,'E&O'!$G$1:$K$9999,5,FALSE) -> WA | D28: =VLOOKUP($A28,'E&O'!$G$1:$CJ$9999,12,FALSE) -> OB | E28: =VLOOKUP($A28,'E&O'!$G$1:$CJ$9999,34,FALSE) -> VA | I28: =VLOOKUP($A28,'E&O'!$G$1:$CJ$9999,15,FALSE) -> 0.2523 | J28: =H28*I28 -> 0 | K28: 309 | L28: 0 | M28: =VLOOKUP($A28,'E&O'!$G$1:$CJ$9999,17,FALSE) -> EA | N28: =H28-K28 -> -309 | O28: =VLOOKUP($A28,'E&O'!$G$1:$CJ$9999,57,FALSE) -> -16 | P28: =VLOOKUP($A28,'E&O'!$G$1:$CJ$9999,59,FALSE) -> 43606 | R28: à voir
A29: 7066582 | B29: EMBOUT CU 12X0,685 L94 | C29: RETREINT + PIQUAGE | D29: OB | E29: VA | I29: 0.5629 | J29: =H29*I29 -> 0 | K29: 0 | L29: 0 | M29: EA | N29: =H29-K29 -> 0 | O29: -32 | P29: 43523 | R29: oui
A30: 5456931 | B30: =VLOOKUP($A30,'E&O'!$G$1:$K$9999,4,FALSE) -> #N/A | C30: =VLOOKUP($A30,'E&O'!$G$1:$K$9999,5,FALSE) -> #N/A | D30: =VLOOKUP($A30,'E&O'!$G$1:$CJ$9999,12,FALSE) -> #N/A | E30: =VLOOKUP($A30,'E&O'!$G$1:$CJ$9999,34,FALSE) -> #N/A | I30: =VLOOKUP($A30,'E&O'!$G$1:$CJ$9999,15,FALSE) -> #N/A | J30: =H30*I30 -> #N/A | M30: =VLOOKUP($A30,'E&O'!$G$1:$CJ$9999,17,FALSE) -> #N/A | N30: =H30-K30 -> 0 | O30: =VLOOKUP($A30,'E&O'!$G$1:$CJ$9999,57,FALSE) -> #N/A | P30: =VLOOKUP($A30,'E&O'!$G$1:$CJ$9999,59,FALSE) -> #N/A | R30: oui
A31: 3421275 | B31: COLLECTEUR COUDEE 7,94 WA | C31: CU | D31: OB | E31: VA | I31: 1.3278 | J31: =H31*I31 -> 0 | K31: 0 | L31: 0 | M31: EA | N31: =H31-K31 -> 0 | O31: =VLOOKUP($A31,'E&O'!$G$1:$CJ$9999,57,FALSE) -> #N/A | P31: =VLOOKUP($A31,'E&O'!$G$1:$CJ$9999,59,FALSE) -> #N/A | Q31: E&O Fin Juin stock vidé JDE | R31: oui
A32: 7309133 | B32: ENS COLLECTEUR FROID 2C | C32: UTA 295/03 | D32: OB | E32: AN | I32: 41.2192 | J32: =H32*I32 -> 0 | K32: 0 | L32: 0 | M32: EA | N32: =H32-K32 -> 0 | O32: =VLOOKUP($A32,'E&O'!$G$1:$CJ$9999,57,FALSE) -> #N/A | P32: =VLOOKUP($A32,'E&O'!$G$1:$CJ$9999,59,FALSE) -> #N/A | R32: oui
A33: 7063783 | B33: COLLECTEUR F 2C D12.7-9.52 SE | C33: COADIS | D33: W | E33: AN | I33: 38.8632 | J33: =H33*I33 -> 0 | K33: 0 | L33: 1 | M33: =VLOOKUP($A33,'E&O'!$G$1:$CJ$9999,17,FALSE) -> #N/A | N33: =H33-K33 -> 0 | O33: =VLOOKUP($A33,'E&O'!$G$1:$CJ$9999,57,FALSE) -> #N/A | P33: =VLOOKUP($A33,'E&O'!$G$1:$CJ$9999,59,FALSE) -> #N/A | R33: oui sauf 1 pièce
A34: 7063784 | B34: =VLOOKUP($A34,'E&O'!$G$1:$K$9999,4,FALSE) -> COLLECTEUR F 1C D12.7-9.52 SE | C34: =VLOOKUP($A34,'E&O'!$G$1:$K$9999,5,FALSE) -> COADIS | D34: =VLOOKUP($A34,'E&O'!$G$1:$CJ$9999,12,FALSE) -> W | E34: =VLOOKUP($A34,'E&O'!$G$1:$CJ$9999,34,FALSE) -> AN | I34: =VLOOKUP($A34,'E&O'!$G$1:$CJ$9999,15,FALSE) -> 21.9507 | J34: =H34*I34 -> 0 | K34: 3 | L34: 3 | M34: =VLOOKUP($A34,'E&O'!$G$1:$CJ$9999,17,FALSE) -> EA | N34: =H34-K34 -> -3 | O34: =VLOOKUP($A34,'E&O'!$G$1:$CJ$9999,57,FALSE) -> -3 | P34: =VLOOKUP($A34,'E&O'!$G$1:$CJ$9999,59,FALSE) -> 43559 | R34: non
A35: 7063282 | B35: S-ENS COLLECTEUR CHAUD | C35: UTA295 | D35: OB | E35: VA | I35: 27.4021 | J35: =H35*I35 -> 0 | K35: 0 | L35: 0 | M35: =VLOOKUP($A35,'E&O'!$G$1:$CJ$9999,17,FALSE) -> #N/A | N35: =H35-K35 -> 0 | O35: 4 | P35: 43602 | R35: à voir
A36: 7063715 | B36: =VLOOKUP($A36,'E&O'!$G$1:$K$9999,4,FALSE) -> COLLECTEUR C 1C 12.7-9.52 SE | C36: =VLOOKUP($A36,'E&O'!$G$1:$K$9999,5,FALSE) -> COADIS | D36: =VLOOKUP($A36,'E&O'!$G$1:$CJ$9999,12,FALSE) -> OB | E36: =VLOOKUP($A36,'E&O'!$G$1:$CJ$9999,34,FALSE) -> AN | I36: =VLOOKUP($A36,'E&O'!$G$1:$CJ$9999,15,FALSE) -> 36.4702 | J36: =H36*I36 -> 0 | M36: =VLOOKUP($A36,'E&O'!$G$1:$CJ$9999,17,FALSE) -> EA | N36: =H36-K36 -> 0 | O36: =VLOOKUP($A36,'E&O'!$G$1:$CJ$9999,57,FALSE) -> -48 | P36: =VLOOKUP($A36,'E&O'!$G$1:$CJ$9999,59,FALSE) -> 43612 | R36: oui
A37: 7156922 | B37: =VLOOKUP($A37,'E&O'!$G$1:$K$9999,4,FALSE) -> COLL. ENS CHD MAJ2NCH426/430 | C37: =VLOOKUP($A37,'E&O'!$G$1:$K$9999,5,FALSE) -> COLLECTEURS MANCHON DOUBLE | D37: =VLOOKUP($A37,'E&O'!$G$1:$CJ$9999,12,FALSE) -> OB | E37: =VLOOKUP($A37,'E&O'!$G$1:$CJ$9999,34,FALSE) -> VA | I37: =VLOOKUP($A37,'E&O'!$G$1:$CJ$9999,15,FALSE) -> 13.8703 | J37: =H37*I37 -> 0 | K37: 27 | L37: 0 | M37: =VLOOKUP($A37,'E&O'!$G$1:$CJ$9999,17,FALSE) -> EA | N37: =H37-K37 -> -27 | O37: =VLOOKUP($A37,'E&O'!$G$1:$CJ$9999,57,FALSE) -> -1 | P37: =VLOOKUP($A37,'E&O'!$G$1:$CJ$9999,59,FALSE) -> 43538 | R37: à voir
A38: 5202246 | B38: =VLOOKUP($A38,'E&O'!$G$1:$K$9999,4,FALSE) -> MANCHON DOUBLE 90° D15,87-G3/8 | C38: =VLOOKUP($A38,'E&O'!$G$1:$K$9999,5,FALSE) -> BAT MJ2 NCH | D38: =VLOOKUP($A38,'E&O'!$G$1:$CJ$9999,12,FALSE) -> WC | E38: =VLOOKUP($A38,'E&O'!$G$1:$CJ$9999,34,FALSE) -> VA | I38: =VLOOKUP($A38,'E&O'!$G$1:$CJ$9999,15,FALSE) -> 2.7897 | J38: =H38*I38 -> 0 | K38: 42 | L38: 2 | M38: =VLOOKUP($A38,'E&O'!$G$1:$CJ$9999,17,FALSE) -> EA | N38: =H38-K38 -> -42 | O38: =VLOOKUP($A38,'E&O'!$G$1:$CJ$9999,57,FALSE) -> -151 | P38: =VLOOKUP($A38,'E&O'!$G$1:$CJ$9999,59,FALSE) -> 43640 | R38: non
A39: 5456490 | B39: =VLOOKUP($A39,'E&O'!$G$1:$K$9999,4,FALSE) -> #N/A | C39: =VLOOKUP($A39,'E&O'!$G$1:$K$9999,5,FALSE) -> #N/A | D39: =VLOOKUP($A39,'E&O'!$G$1:$CJ$9999,12,FALSE) -> #N/A | E39: =VLOOKUP($A39,'E&O'!$G$1:$CJ$9999,34,FALSE) -> #N/A | I39: =VLOOKUP($A39,'E&O'!$G$1:$CJ$9999,15,FALSE) -> #N/A | J39: =H39*I39 -> #N/A | K39: 0 | L39: 0 | M39: =VLOOKUP($A39,'E&O'!$G$1:$CJ$9999,17,FALSE) -> #N/A | N39: =H39-K39 -> 0 | O39: =VLOOKUP($A39,'E&O'!$G$1:$CJ$9999,57,FALSE) -> #N/A | P39: =VLOOKUP($A39,'E&O'!$G$1:$CJ$9999,59,FALSE) -> #N/A | R39: oui
A40: 7061049 | B40: =VLOOKUP($A40,'E&O'!$G$1:$K$9999,4,FALSE) -> EMBOUT CU 12X0.685 L56 | C40: =VLOOKUP($A40,'E&O'!$G$1:$K$9999,5,FALSE) -> RETREINT + PIQUAGE | D40: =VLOOKUP($A40,'E&O'!$G$1:$CJ$9999,12,FALSE) -> W | E40: =VLOOKUP($A40,'E&O'!$G$1:$CJ$9999,34,FALSE) -> VA | I40: =VLOOKUP($A40,'E&O'!$G$1:$CJ$9999,15,FALSE) -> 0.318 | J40: =H40*I40 -> 0 | K40: 800 | L40: 0 | M40: =VLOOKUP($A40,'E&O'!$G$1:$CJ$9999,17,FALSE) -> EA | N40: =H40-K40 -> -800 | O40: =VLOOKUP($A40,'E&O'!$G$1:$CJ$9999,57,FALSE) -> -98 | P40: =VLOOKUP($A40,'E&O'!$G$1:$CJ$9999,59,FALSE) -> 43614 | R40: à voir
A41: 7171494 | B41: FLANC AR 5R 32T 813X105 G15 | C41: MAG2 CW24A35 61-70 | D41: OB | E41: AN | K41: 0 | L41: 0 | M41: EA | N41: =H41-K41 -> 0 | R41: oui

Sheet E&O
A1: clé | B1: CO | C1: RP21 | D1: MCUS | E1: MCU | F1: ITM | G1: LITM | H1: AITM | I1: CLEV | J1: DSC1 | K1: DSC2 | L1: STKT | M1: GLPT | N1: SRP1 | O1: SRP4 | P1: SRP9 | Q1: STKT_FAM | R1: LNTY | S1: LOCN | T1: LOTN | U1: UNCS | V1: PQOH | W1: UOM1 | X1: VB | Y1: CPTE_STK | Z1: CPTE_EXP | AA1: NATURE | AB1: CLASSE | AC1: RCTO | AD1: RORN | AE1: LNID | AF1: SOURCE | AG1: UPMJ | AH1: IND_UPDATE | AI1: SRP2 | AJ1: SRP3 | AK1: DESC_MOD | AL1: VEND_FAM | AM1: DESC_VEND | AN1: IFLA | AO1: ITC | AP1: ANPL | AQ1: DESC_ANPL | AR1: BUYR | AS1: DESC_BURY | AT1: RQMN | AU1: MULT | AV1: SAFE | AW1: IMSRP8 | AX1: EMP_PRINC | AY1: QTTR | AZ1: QTIN | BA1: PCOM | BB1: HCOM | BC1: QOWO | BD1: QWBO | BE1: E&O | BF1: QTE_OPEN_PO | BG1: Qté E&O retenue | BH1: Valeur E&O | BI1: E | BJ1: O | BK1: Conso 1 AN | BL1: CONSO 2AN | BM1: DERN_SORTIE | BN1: DERN_ENTREE | BO1: PREM_ENTREE | BP1: Doublons | BQ1: E ratio | BR1: O ratio | BS1: STK + OP -Résa | BT1: Taux d'excess | BU1: Délai niveau (13) | BV1: Montant OP (14) | BW1: Stock moyen (17) | BX1: Couverture moyenne (18) | BY1: Commentaires Planificateurs | BZ1: Date dernière action | CA1: Commentaire, Qui ? | CB1: Réponses reprise ERCD | CC1: Réponses HA et/ou FRN | CD1: Questions/Réponses BE pour épuiser | CE1: Questions/Réponses Product Manager | CF1: Décision finale | CG1: Décision Qui | CH1: Cloture | CI1: RQ Equipe CTA | CJ1: RQ Sur SO
A2: 10U7061532 | B2: 00010 | C2: PRD | D2: 10U | E2: ECH | F2: ECH7061532 | G2: 7061532 | H2: 7061532 | I2: 2 | J2: EMBOUT CU 12X0.685 L70 | K2: LISSE | L2: M | M2: L | N2: 051 | O2: 400 | Q2: U | R2: OB | U2: 0.3837 | V2: 1361 | W2: EA | X2: 522.2157 | Y2: 351000 | Z2: 713510 | AA2: PSO | AB2: 3 | AF2: VALO_STOCK | AG2: 43644 | AI2: A83 | AJ2: 115 | AK2: UTA COMPACT H U Y I | AL2: 304 | AM2: UTC (ECH) | AN2: VA | AO2: I | AP2: 2569 | AQ2: HERITIER ISABELLE | AR2: 0 | AT2: 0 | AU2: 0 | AV2: 0 | AW2: 304 | AX2: 104472 | AY2: 0 | AZ2: 0 | BA2: 0 | BB2: 0 | BC2: 0 | BD2: 0 | BE2: Oui | BF2: 0 | BG2: 1361 | BH2: 522.2157 | BI2: 522.2157 | BJ2: 0 | BK2: -16 | BL2: -28 | BM2: 43523 | BN2: 0 | BO2: 0 | BQ2: 522.2157 | BR2: 0 | BS2: 1361 | BT2: 1 | BY2: COLLECTEUR UTA 295 | BZ2: 42736 | CI2: 0 | CJ2: 0
A3: 10U7367280 | B3: 00010 | C3: PRD | D3: 10U | E3: ECH | F3: ECH7367280 | G3: 7367280 | H3: 7367280 | I3: 2 | J3: COUDE CU 65° 15,87X0,69 A36B66 | K3: RECUIT OS27 (D5/8¨) | L3: P | M3: E | N3: 043 | O3: 400 | Q3: U | R3: OB | U3: 1.2194 | V3: 800 | W3: EA | X3: 975.52 | Y3: 317500 | Z3: 603175 | AA3: MATIERES | AB3: 3 | AF3: VALO_STOCK | AG3: 43644 | AI3: B33 | AJ3: 178 | AK3: OTHERS BATTERIES | AL3: 34012 | AM3: CFI SRL | AN3: SP | AO3: I | AP3: 2569 | AQ3: HERITIER ISABELLE | AR3: 186191 | AS3: ALBUQUERQUE VICTOR | AT3: 0 | AU3: 0 | AV3: 0 | AW3: 304 | AX3: 470 | AY3: 0 | AZ3: 0 | BA3: 0 | BB3: 0 | BC3: 0 | BD3: 0 | BE3: Oui | BF3: 0 | BG3: 800 | BH3: 975.52 | BI3: 0 | BJ3: 975.52 | BK3: 0 | BL3: -768 | BM3: 43130 | BN3: 43131 | BO3: 42788 | BQ3: 0 | BR3: 975.52 | BS3: 800 | BT3: 1 | BY3: Mél d'ISA KO sur DRY | BZ3: 43446 | CA3: ISA | CB3: 0 | CC3: 0 | CD3: 0 | CE3: #N/A | CF3: #N/A | CG3: 0 | CH3: 0 | CI3: 0 | CJ3: 0
A4: 10U7156922 | B4: 00010 | C4: PRD | D4: 10U | E4: ECH | F4: ECH7156922 | G4: 7156922 | H4: 7156922 | I4: 2 | J4: COLL. ENS CHD MAJ2NCH426/430 | K4: COLLECTEURS MANCHON DOUBLE | L4: A | M4: L | N4: 051 | O4: 400 | P4: FABPDR | Q4: U | R4: OB | U4: 13.8703 | V4: 27 | W4: EA | X4: 374.4981 | Y4: 351000 | Z4: 713510 | AA4: PSO | AB4: 3 | AF4: VALO_STOCK | AG4: 43644 | AI4: A84 | AJ4: 118 | AK4: MAJOR 2 NCH I Y | AL4: 304 | AM4: UTC (ECH) | AN4: VA | AO4: I | AP4: 2569 | AQ4: HERITIER ISABELLE | AR4: 0 | AT4: 0 | AU4: 0 | AV4: 0 | AW4: 304 | AX4: 104472 | AY4: 0 | AZ4: 0 | BA4: 0 | BB4: 0 | BC4: 0 | BD4: 0 | BE4: Oui | BF4: 0 | BG4: 27 | BH4: 374.4981 | BI4: 374.4981 | BJ4: 0 | BK4: -1 | BL4: -7 | BM4: 43538 | BN4: 0 | BO4: 0 | BQ4: 374.4981 | BR4: 0 | BS4: 27 | BT4: 1 | BY4: COLL MJ2 NCH - SAV | BZ4: 42736 | CI4: 0 | CJ4: 0
A5: 10U5202246 | B5: 00010 | C5: PRD | D5: 10U | E5: ECH | F5: ECH5202246 | G5: 5202246 | H5: 5202246 | I5: 2 | J5: MANCHON DOUBLE 90° D15,87-G3/8 | K5: BAT MJ2 NCH | L5: P | M5: E | N5: 043 | O5: 400 | P5: FABPDR | Q5: P | R5: WC | U5: 2.7897 | V5: 43 | W5: EA | X5: 119.9571 | Y5: 317500 | Z5: 603175 | AA5: MATIERES | AB5: 3 | AF5: VALO_STOCK | AG5: 43644 | AI5: B33 | AJ5: 178 | AK5: OTHERS BATTERIES | AL5: 49974 | AM5: RUBINETTERIE RITMONIO SRL | AN5: VA | AO5: I | AP5: 2569 | AQ5: HERITIER ISABELLE | AR5: 186191 | AS5: ALBUQUERQUE VICTOR | AT5: 0 | AU5: 0 | AV5: 0 | AW5: 304 | AX5: 470 | AY5: 0 | AZ5: 0 | BA5: 0 | BB5: 0 | BC5: 2 | BD5: 0 | BE5: Oui | BF5: 0 | BG5: 41 | BH5: 114.3777 | BI5: 114.3777 | BJ5: 0 | BK5: -151 | BL5: -169 | BM5: 43640 | BN5: 42781 | BO5: 42781 | BQ5: 114.3777 | BR5: 0 | BS5: 41 | BT5: 0.95348837 | BY5: MJ2NCH | CI5: 0 | CJ5: 0
A6: 10U5456489 | B6: 00010 | C6: PRD | D6: 10U | E6: ECH | F6: ECH5456489 | G6: 5456489 | H6: 5456489 | I6: 2 | J6: COUDE CU 40° 07X0,5 A15 B15 | K6: R12 | L6: P | M6: E | N6: 043 | O6: 400 | P6: ECOUL | Q6: P | R6: S | U6: 0.1327 | V6: 494 | W6: EA | X6: 65.5538 | Y6: 317500 | Z6: 603175 | AA6: MATIERES | AB6: 3 | AF6: VALO_STOCK | AG6: 43644 | AI6: B33 | AJ6: 178 | AK6: OTHERS BATTERIES | AL6: 34012 | AM6: CFI SRL | AN6: VA | AO6: I | AP6: 2569 | AQ6: HERITIER ISABELLE | AR6: 186191 | AS6: ALBUQUERQUE VICTOR | AT6: 0 | AU6: 0 | AV6: 0 | AW6: 304 | AX6: 470 | AY6: 0 | AZ6: 0 | BA6: 0 | BB6: 0 | BC6: 4 | BD6: 0 | BE6: Oui | BF6: 0 | BG6: 490 | BH6: 65.023 | BI6: 65.023 | BJ6: 0 | BK6: -67 | BL6: -90 | BM6: 43538 | BN6: 0 | BO6: 0 | BQ6: 65.023 | BR6: 0 | BS6: 490 | BT6: 0.99190283 | CI6: 0 | CJ6: 0
A7: 10U7061320 | B7: 00010 | C7: PRD | D7: 10U | E7: ECH | F7: ECH7061320 | G7: 7061320 | H7: 7061320 | I7: 2 | J7: COUDE CU 24° 12X0,685 A15 B57 | L7: M | M7: L | N7: 499 | O7: 400 | Q7: M | R7: W | U7: 0.2984 | V7: 719 | W7: EA | X7: 214.5496 | Y7: 351000 | Z7: 713510 | AA7: PSO | AB7: 3 | AF7: VALO_STOCK | AG7: 43644 | AI7: 499 | AJ7: 499 | AK7: DIVERS MULTITUBULAIRES | AL7: 304 | AM7: UTC (ECH) | AN7: VA | AO7: I | AP7: 2569 | AQ7: HERITIER ISABELLE | AR7: 0 | AT7: 2000 | AU7: 0 | AV7: 0 | AW7: 304 | AX7: 104472 | AY7: 0 | AZ7: 0 | BA7: 0 | BB7: 0 | BC7: 0 | BD7: 0 | BE7: Oui | BF7: 0 | BG7: 719 | BH7: 214.5496 | BI7: 214.5496 | BJ7: 0 | BK7: -60 | BL7: -181 | BM7: 43643 | BN7: 41968 | BO7: 0 | BQ7: 214.5496 | BR7: 0 | BS7: 719 | BT7: 1 | CI7: 0 | CJ7: 0
A8: 10U7063715 | B8: 00010 | C8: PRD | D8: 10U | E8: ECH | F8: ECH7063715 | G8: 7063715 | H8: 7063715 | I8: 2 | J8: COLLECTEUR C 1C 12.7-9.52 SE | K8: COADIS | L8: A | M8: L | N8: 052 | O8: 400 | P8: ECOUL | Q8: U | R8: OB | U8: 36.4702 | V8: 1 | W8: EA | X8: 36.4702 | Y8: 351000 | Z8: 713510 | AA8: PSO | AB8: 3 | AF8: VALO_STOCK | AG8: 43644 | AI8: A30 | AJ8: 412 | AK8: COADIS2 CASSETTE CLA | AL8: 304 | AM8: UTC (ECH) | AN8: AN | AO8: I | AP8: 2569 | AQ8: HERITIER ISABELLE | AR8: 0 | AT8: 0 | AU8: 0 | AV8: 0 | AW8: 304 | AX8: 104472 | AY8: 0 | AZ8: 0 | BA8: 0 | BB8: 0 | BC8: 1 | BD8: 0 | BE8: Oui | BF8: 0 | BG8: 0 | BH8: 0 | BI8: 0 | BJ8: 0 | BK8: -48 | BL8: -59 | BM8: 43612 | BN8: 43642 | BO8: 42249 | BQ8: 0 | BR8: 0 | BS8: 0 | BT8: 0 | CI8: #N/A | CJ8: #N/A
A9: 10U7063784 | B9: 00010 | C9: PRD | D9: 10U | E9: ECH | F9: ECH7063784 | G9: 7063784 | H9: 7063784 | I9: 2 | J9: COLLECTEUR F 1C D12.7-9.52 SE | K9: COADIS | L9: A | M9: L | N9: 052 | O9: 400 | Q9: A | R9: W | U9: 21.9507 | V9: 3 | W9: EA | X9: 65.8521 | Y9: 351000 | Z9: 713510 | AA9: PSO | AB9: 3 | AF9: VALO_STOCK | AG9: 43644 | AI9: A30 | AJ9: 412 | AK9: COADIS2 CASSETTE CLA | AL9: 304 | AM9: UTC (ECH) | AN9: AN | AO9: I | AP9: 2569 | AQ9: HERITIER ISABELLE | AR9: 0 | AT9: 0 | AU9: 0 | AV9: 0 | AW9: 304 | AX9: 104472 | AY9: 0 | AZ9: 0 | BA9: 0 | BB9: 0 | BC9: 1 | BD9: 0 | BE9: Oui | BF9: 0 | BG9: 2 | BH9: 43.9014 | BI9: 43.9014 | BJ9: 0 | BK9: -3 | BL9: -4 | BM9: 43559 | BN9: 0 | BO9: 0 | BQ9: 43.9014 | BR9: 0 | BS9: 2 | BT9: 0.66666667 | CI9: 0 | CJ9: 0
A10: 10U0229909 | B10: 00010 | C10: PRD | D10: 10U | E10: ECH | F10: ECH0229909 | G10: 0229909 | H10: 0229909 | I10: 2 | J10: EMBOUT FEMELLE D41,5 | K10: POLYETHYLENE | L10: P | M10: E | N10: 043 | O10: 400 | Q10: P | R10: WC | U10: 0.073 | V10: 1433 | W10: EA | X10: 104.609 | Y10: 317500 | Z10: 603175 | AA10: MATIERES | AB10: 3 | AF10: VALO_STOCK | AG10: 43644 | AI10: B33 | AJ10: 178 | AK10: OTHERS BATTERIES | AL10: 90350 | AM10: PROTEC THE CAP COMPANY | AN10: VA | AO10: U | AP10: 2569 | AQ10: HERITIER ISABELLE | AR10: 199199 | AS10: LENG JIN KE WEN | AT10: 1500 | AU10: 0 | AV10: 20 | AW10: 304 | AX10: 470 | AY10: 0 | AZ10: 0 | BA10: 0 | BB10: 0 | BC10: 2 | BD10: 0 | BE10: Oui | BF10: 0 | BG10: 1431 | BH10: 104.463 | BI10: 104.463 | BJ10: 0 | BK10: -59 | BL10: -166 | BM10: 43622 | BN10: 42249 | BO10: 42249 | BQ10: 104.463 | BR10: 0 | BS10: 1431 | BT10: 0.99860433 | CI10: 0 | CJ10: 0
A11: 10U7367279 | B11: 00010 | C11: PRD | D11: 10U | E11: ECH | F11: ECH7367279 | G11: 7367279 | H11: 7367279 | I11: 2 | J11: COUDE CU 45° 15,87X0,69 A24B50 | K11: RECUIT OS27 (D5/8¨) | L11: P | M11: E | N11: 043 | O11: 400 | Q11: U | R11: OB | U11: 1.0371 | V11: 800 | W11: EA | X11: 829.68 | Y11: 317500 | Z11: 603175 | AA11: MATIERES | AB11: 3 | AF11: VALO_STOCK | AG11: 43644 | AI11: B33 | AJ11: 178 | AK11: OTHERS BATTERIES | AL11: 34012 | AM11: CFI SRL | AN11: SP | AO11: I | AP11: 2569 | AQ11: HERITIER ISABELLE | AR11: 186191 | AS11: ALBUQUERQUE VICTOR | AT11: 0 | AU11: 0 | AV11: 0 | AW11: 304 | AX11: 470 | AY11: 0 | AZ11: 0 | BA11: 0 | BB11: 0 | BC11: 0 | BD11: 0 | BE11: Oui | BF11: 0 | BG11: 800 | BH11: 829.68 | BI11: 0 | BJ11: 829.68 | BK11: 0 | BL11: -768 | BM11: 43130 | BN11: 43131 | BO11: 42788 | BQ11: 0 | BR11: 829.68 | BS11: 800 | BT11: 1 | CI11: 0 | CJ11: 0
A12: 10U7193293 | B12: 00010 | C12: PRD | D12: 10U | E12: ECH | F12: ECH7193293 | G12: 7193293 | H12: 7193293 | I12: 2 | J12: COUDE CU 40° D7,94 A9 B21 | L12: M | M12: L | N12: 499 | O12: 400 | Q12: M | R12: W | U12: 0.7997 | V12: 677 | W12: EA | X12: 541.3969 | Y12: 351000 | Z12: 713510 | AA12: PSO | AB12: 3 | AF12: VALO_STOCK | AG12: 43644 | AI12: 499 | AJ12: 499 | AK12: DIVERS MULTITUBULAIRES | AL12: 304 | AM12: UTC (ECH) | AN12: VA | AO12: I | AP12: 2569 | AQ12: HERITIER ISABELLE | AR12: 0 | AT12: 0 | AU12: 0 | AV12: 0 | AW12: 304 | AX12: 104472 | AY12: 0 | AZ12: 0 | BA12: 0 | BB12: 0 | BC12: 0 | BD12: 0 | BE12: Oui | BF12: 0 | BG12: 677 | BH12: 541.3969 | BI12: 0 | BJ12: 541.3969 | BK12: 0 | BL12: 0 | BM12: 41948 | BN12: 0 | BO12: 0 | BQ12: 0 | BR12: 541.3969 | BS12: 677 | BT12: 1 | CI12: 0 | CJ12: 0
A13: 10U3420872 | B13: 00010 | C13: PRD | D13: 10U | E13: ECH | F13: ECH3420872 | G13: 3420872 | H13: 3420872 | I13: 2 | J13: COURBE CU 07X0,4 E32 | K13: WA | L13: M | M13: L | N13: 399 | O13: 400 | P13: CAFUTE | Q13: U | R13: OB | U13: 0.2523 | V13: 309 | W13: EA | X13: 77.9607 | Y13: 351000 | Z13: 713510 | AA13: PSO | AB13: 3 | AF13: VALO_STOCK | AG13: 43644 | AI13: 399 | AJ13: 399 | AK13: DIVERS REFRIGERATION | AL13: 304 | AM13: UTC (ECH) | AN13: VA | AO13: I | AP13: 2569 | AQ13: HERITIER ISABELLE | AR13: 0 | AT13: 0 | AU13: 0 | AV13: 0 | AW13: 304 | AX13: 104472 | AY13: 0 | AZ13: 0 | BA13: 0 | BB13: 0 | BC13: 0 | BD13: 0 | BE13: Oui | BF13: 0 | BG13: 309 | BH13: 77.9607 | BI13: 77.9607 | BJ13: 0 | BK13: -16 | BL13: -16 | BM13: 43606 | BN13: 0 | BO13: 0 | BQ13: 77.9607 | BR13: 0 | BS13: 309 | BT13: 1 | BY13: VOIR ATELIER - EN ATTENTE REPONSE | BZ13: 42736 | CI13: 0 | CJ13: 0
A14: 10U0229914 | B14: 00010 | C14: PRD | D14: 10U | E14: ECH | F14: ECH0229914 | G14: 0229914 | H14: 0229914 | I14: 2 | J14: EMBOUT FEMELLE D54 | K14: POLYETHYLENE | L14: P | M14: E | N14: 043 | O14: 400 | Q14: P | R14: WC | U14: 0.061 | V14: 61 | W14: EA | X14: 3.721 | Y14: 317500 | Z14: 603175 | AA14: MATIERES | AB14: 3 | AF14: VALO_STOCK | AG14: 43644 | AI14: B33 | AJ14: 178 | AK14: OTHERS BATTERIES | AL14: 90350 | AM14: PROTEC THE CAP COMPANY | AN14: VA | AO14: U | AP14: 2569 | AQ14: HERITIER ISABELLE | AR14: 199199 | AS14: LENG JIN KE WEN | AT14: 650 | AU14: 0 | AV14: 20 | AW14: 304 | AX14: 470 | AY14: 0 | AZ14: 0 | BA14: 0 | BB14: 0 | BC14: 0 | BD14: 0 | BE14: Non | BF14: 0 | BG14: 0 | BH14: 0 | BI14: 0 | BJ14: 0 | BK14: -6 | BL14: -135 | BM14: 43493 | BN14: 43431 | BO14: 43431 | BQ14: 0 | BR14: 0 | BS14: 61 | BT14: 0 | BU14: 28 | BV14: 3.66 | BW14: 3.4924025 | BX14: 3482.8604 | CI14: 0 | CJ14: 0
A15: 10U7061338 | B15: 00010 | C15: PRD | D15: 10U | E15: ECH | F15: ECH7061338 | G15: 7061338 | H15: 7061338 | I15: 2 | J15: EMBOUT CU 12X0.685 L56 | K15: RETREINT | L15: M | M15: L | N15: 499 | O15: 400 | P15: CAFUTE | Q15: M | R15: W | U15: 0.3204 | V15: 2297 | W15: EA | X15: 735.9588 | Y15: 351000 | Z15: 713510 | AA15: PSO | AB15: 3 | AF15: VALO_STOCK | AG15: 43644 | AI15: 499 | AJ15: 499 | AK15: DIVERS MULTITUBULAIRES | AL15: 304 | AM15: UTC (ECH) | AN15: VA | AO15: I | AP15: 2569 | AQ15: HERITIER ISABELLE | AR15: 0 | AT15: 0 | AU15: 0 | AV15: 0 | AW15: 304 | AX15: 104472 | AY15: 0 | AZ15: 0 | BA15: 0 | BB15: 0 | BC15: 0 | BD15: 0 | BE15: Oui | BF15: 0 | BG15: 2297 | BH15: 735.9588 | BI15: 735.9588 | BJ15: 0 | BK15: -118 | BL15: -193 | BM15: 43643 | BN15: 0 | BO15: 0 | BQ15: 735.9588 | BR15: 0 | BS15: 2297 | BT15: 1 | BY15: On jette - ok on jette - 21/04 | BZ15: 42736 | CI15: 0 | CJ15: 0
A16: 10U7061049 | B16: 00010 | C16: PRD | D16: 10U | E16: ECH | F16: ECH7061049 | G16: 7061049 | H16: 7061049 | I16: 2 | J16: EMBOUT CU 12X0.685 L56 | K16: RETREINT + PIQUAGE | L16: M | M16: L | N16: 051 | O16: 400 | Q16: M | R16: W | U16: 0.318 | V16: 800 | W16: EA | X16: 254.4 | Y16: 351000 | Z16: 713510 | AA16: PSO | AB16: 3 | AF16: VALO_STOCK | AG16: 43644 | AI16: A85 | AJ16: 114 | AK16: UTA STANDARD | AL16: 304 | AM16: UTC (ECH) | AN16: VA | AO16: I | AP16: 2569 | AQ16: HERITIER ISABELLE | AR16: 0 | AT16: 0 | AU16: 0 | AV16: 0 | AW16: 304 | AX16: 104472 | AY16: 0 | AZ16: 0 | BA16: 0 | BB16: 0 | BC16: 0 | BD16: 0 | BE16: Oui | BF16: 0 | BG16: 800 | BH16: 254.4 | BI16: 254.4 | BJ16: 0 | BK16: -98 | BL16: -214 | BM16: 43614 | BN16: 0 | BO16: 0 | BQ16: 254.4 | BR16: 0 | BS16: 800 | BT16: 1 | CI16: 0 | CJ16: 0

Sheet Feuil4
A1: LITM
A2: 7171494
