Workbook

Sheet Feuil1
C2: commun | D2: olivier | E2: laura
A3: =B4 -> 43675 | B3: LUNDI | C3: {=IFERROR(INDEX(Feuil3!$A$1:$D$23,SMALL(IF(Feuil3!$A$2:$A$23=$A3,ROW(Feuil3!$A$2:$A$23),""),COUNTIF($A$3:$A3,$A3)),COLUMN()-1),"")} | D3: {=IFERROR(INDEX(Feuil3!$A$1:$D$23,SMALL(IF(Feuil3!$A$2:$A$23=$A3,ROW(Feuil3!$A$2:$A$23),""),COUNTIF($A$3:$A3,$A3)),COLUMN()-1),"")} | E3: {=IFERROR(INDEX(Feuil3!$A$1:$D$23,SMALL(IF(Feuil3!$A$2:$A$23=$A3,ROW(Feuil3!$A$2:$A$23),""),COUNTIF($A$3:$A3,$A3)),COLUMN()-1),"")}
A4: =B4 -> 43675 | B4: 43675 | C4: {=IFERROR(INDEX(Feuil3!$A$1:$D$23,SMALL(IF(Feuil3!$A$2:$A$23=$A4,ROW(Feuil3!$A$2:$A$23),""),COUNTIF($A$3:$A4,$A4)),COLUMN()-1),"")} | D4: {=IFERROR(INDEX(Feuil3!$A$1:$D$23,SMALL(IF(Feuil3!$A$2:$A$23=$A4,ROW(Feuil3!$A$2:$A$23),""),COUNTIF($A$3:$A4,$A4)),COLUMN()-1),"")} | E4: {=IFERROR(INDEX(Feuil3!$A$1:$D$23,SMALL(IF(Feuil3!$A$2:$A$23=$A4,ROW(Feuil3!$A$2:$A$23),""),COUNTIF($A$3:$A4,$A4)),COLUMN()-1),"")}
A5: =B4 -> 43675 | C5: {=IFERROR(INDEX(Feuil3!$A$1:$D$23,SMALL(IF(Feuil3!$A$2:$A$23=$A5,ROW(Feuil3!$A$2:$A$23),""),COUNTIF($A$3:$A5,$A5)),COLUMN()-1),"")} | D5: {=IFERROR(INDEX(Feuil3!$A$1:$D$23,SMALL(IF(Feuil3!$A$2:$A$23=$A5,ROW(Feuil3!$A$2:$A$23),""),COUNTIF($A$3:$A5,$A5)),COLUMN()-1),"")} | E5: {=IFERROR(INDEX(Feuil3!$A$1:$D$23,SMALL(IF(Feuil3!$A$2:$A$23=$A5,ROW(Feuil3!$A$2:$A$23),""),COUNTIF($A$3:$A5,$A5)),COLUMN()-1),"")}
A6: =B4 -> 43675 | C6: {=IFERROR(INDEX(Feuil3!$A$1:$D$23,SMALL(IF(Feuil3!$A$2:$A$23=$A6,ROW(Feuil3!$A$2:$A$23),""),COUNTIF($A$3:$A6,$A6)),COLUMN()-1),"")} | D6: {=IFERROR(INDEX(Feuil3!$A$1:$D$23,SMALL(IF(Feuil3!$A$2:$A$23=$A6,ROW(Feuil3!$A$2:$A$23),""),COUNTIF($A$3:$A6,$A6)),COLUMN()-1),"")} | E6: {=IFERROR(INDEX(Feuil3!$A$1:$D$23,SMALL(IF(Feuil3!$A$2:$A$23=$A6,ROW(Feuil3!$A$2:$A$23),""),COUNTIF($A$3:$A6,$A6)),COLUMN()-1),"")}
A7: =B4 -> 43675 | C7: {=IFERROR(INDEX(Feuil3!$A$1:$D$23,SMALL(IF(Feuil3!$A$2:$A$23=$A7,ROW(Feuil3!$A$2:$A$23),""),COUNTIF($A$3:$A7,$A7)),COLUMN()-1),"")} | D7: {=IFERROR(INDEX(Feuil3!$A$1:$D$23,SMALL(IF(Feuil3!$A$2:$A$23=$A7,ROW(Feuil3!$A$2:$A$23),""),COUNTIF($A$3:$A7,$A7)),COLUMN()-1),"")} | E7: {=IFERROR(INDEX(Feuil3!$A$1:$D$23,SMALL(IF(Feuil3!$A$2:$A$23=$A7,ROW(Feuil3!$A$2:$A$23),""),COUNTIF($A$3:$A7,$A7)),COLUMN()-1),"")}
A8: =B4 -> 43675 | C8: {=IFERROR(INDEX(Feuil3!$A$1:$D$23,SMALL(IF(Feuil3!$A$2:$A$23=$A8,ROW(Feuil3!$A$2:$A$23),""),COUNTIF($A$3:$A8,$A8)),COLUMN()-1),"")} | D8: {=IFERROR(INDEX(Feuil3!$A$1:$D$23,SMALL(IF(Feuil3!$A$2:$A$23=$A8,ROW(Feuil3!$A$2:$A$23),""),COUNTIF($A$3:$A8,$A8)),COLUMN()-1),"")} | E8: {=IFERROR(INDEX(Feuil3!$A$1:$D$23,SMALL(IF(Feuil3!$A$2:$A$23=$A8,ROW(Feuil3!$A$2:$A$23),""),COUNTIF($A$3:$A8,$A8)),COLUMN()-1),"")}
A9: =B10 -> 43676 | B9: MARDI | C9: {=IFERROR(INDEX(Feuil3!$A$1:$D$23,SMALL(IF(Feuil3!$A$2:$A$23=$A9,ROW(Feuil3!$A$2:$A$23),""),COUNTIF($A$3:$A9,$A9)),COLUMN()-1),"")} | D9: {=IFERROR(INDEX(Feuil3!$A$1:$D$23,SMALL(IF(Feuil3!$A$2:$A$23=$A9,ROW(Feuil3!$A$2:$A$23),""),COUNTIF($A$3:$A9,$A9)),COLUMN()-1),"")} | E9: {=IFERROR(INDEX(Feuil3!$A$1:$D$23,SMALL(IF(Feuil3!$A$2:$A$23=$A9,ROW(Feuil3!$A$2:$A$23),""),COUNTIF($A$3:$A9,$A9)),COLUMN()-1),"")}
A10: =B10 -> 43676 | B10: 43676 | C10: {=IFERROR(INDEX(Feuil3!$A$1:$D$23,SMALL(IF(Feuil3!$A$2:$A$23=$A10,ROW(Feuil3!$A$2:$A$23),""),COUNTIF($A$3:$A10,$A10)),COLUMN()-1),"")} | D10: {=IFERROR(INDEX(Feuil3!$A$1:$D$23,SMALL(IF(Feuil3!$A$2:$A$23=$A10,ROW(Feuil3!$A$2:$A$23),""),COUNTIF($A$3:$A10,$A10)),COLUMN()-1),"")} | E10: {=IFERROR(INDEX(Feuil3!$A$1:$D$23,SMALL(IF(Feuil3!$A$2:$A$23=$A10,ROW(Feuil3!$A$2:$A$23),""),COUNTIF($A$3:$A10,$A10)),COLUMN()-1),"")}
A11: =B10 -> 43676 | C11: {=IFERROR(INDEX(Feuil3!$A$1:$D$23,SMALL(IF(Feuil3!$A$2:$A$23=$A11,ROW(Feuil3!$A$2:$A$23),""),COUNTIF($A$3:$A11,$A11)),COLUMN()-1),"")} | D11: {=IFERROR(INDEX(Feuil3!$A$1:$D$23,SMALL(IF(Feuil3!$A$2:$A$23=$A11,ROW(Feuil3!$A$2:$A$23),""),COUNTIF($A$3:$A11,$A11)),COLUMN()-1),"")} | E11: {=IFERROR(INDEX(Feuil3!$A$1:$D$23,SMALL(IF(Feuil3!$A$2:$A$23=$A11,ROW(Feuil3!$A$2:$A$23),""),COUNTIF($A$3:$A11,$A11)),COLUMN()-1),"")}
A12: =B10 -> 43676 | C12: {=IFERROR(INDEX(Feuil3!$A$1:$D$23,SMALL(IF(Feuil3!$A$2:$A$23=$A12,ROW(Feuil3!$A$2:$A$23),""),COUNTIF($A$3:$A12,$A12)),COLUMN()-1),"")} | D12: {=IFERROR(INDEX(Feuil3!$A$1:$D$23,SMALL(IF(Feuil3!$A$2:$A$23=$A12,ROW(Feuil3!$A$2:$A$23),""),COUNTIF($A$3:$A12,$A12)),COLUMN()-1),"")} | E12: {=IFERROR(INDEX(Feuil3!$A$1:$D$23,SMALL(IF(Feuil3!$A$2:$A$23=$A12,ROW(Feuil3!$A$2:$A$23),""),COUNTIF($A$3:$A12,$A12)),COLUMN()-1),"")}
A13: =B10 -> 43676 | C13: {=IFERROR(INDEX(Feuil3!$A$1:$D$23,SMALL(IF(Feuil3!$A$2:$A$23=$A13,ROW(Feuil3!$A$2:$A$23),""),COUNTIF($A$3:$A13,$A13)),COLUMN()-1),"")} | D13: {=IFERROR(INDEX(Feuil3!$A$1:$D$23,SMALL(IF(Feuil3!$A$2:$A$23=$A13,ROW(Feuil3!$A$2:$A$23),""),COUNTIF($A$3:$A13,$A13)),COLUMN()-1),"")} | E13: {=IFERROR(INDEX(Feuil3!$A$1:$D$23,SMALL(IF(Feuil3!$A$2:$A$23=$A13,ROW(Feuil3!$A$2:$A$23),""),COUNTIF($A$3:$A13,$A13)),COLUMN()-1),"")}
A14: =B10 -> 43676 | C14: {=IFERROR(INDEX(Feuil3!$A$1:$D$23,SMALL(IF(Feuil3!$A$2:$A$23=$A14,ROW(Feuil3!$A$2:$A$23),""),COUNTIF($A$3:$A14,$A14)),COLUMN()-1),"")} | D14: {=IFERROR(INDEX(Feuil3!$A$1:$D$23,SMALL(IF(Feuil3!$A$2:$A$23=$A14,ROW(Feuil3!$A$2:$A$23),""),COUNTIF($A$3:$A14,$A14)),COLUMN()-1),"")} | E14: {=IFERROR(INDEX(Feuil3!$A$1:$D$23,SMALL(IF(Feuil3!$A$2:$A$23=$A14,ROW(Feuil3!$A$2:$A$23),""),COUNTIF($A$3:$A14,$A14)),COLUMN()-1),"")}
A15: =B16 -> 43677 | B15: MERCREDI | C15: {=IFERROR(INDEX(Feuil3!$A$1:$D$23,SMALL(IF(Feuil3!$A$2:$A$23=$A15,ROW(Feuil3!$A$2:$A$23),""),COUNTIF($A$3:$A15,$A15)),COLUMN()-1),"")} -> tondre pelouse | D15: {=IFERROR(INDEX(Feuil3!$A$1:$D$23,SMALL(IF(Feuil3!$A$2:$A$23=$A15,ROW(Feuil3!$A$2:$A$23),""),COUNTIF($A$3:$A15,$A15)),COLUMN()-1),"")} -> 0 | E15: {=IFERROR(INDEX(Feuil3!$A$1:$D$23,SMALL(IF(Feuil3!$A$2:$A$23=$A15,ROW(Feuil3!$A$2:$A$23),""),COUNTIF($A$3:$A15,$A15)),COLUMN()-1),"")} -> 0 | G15: =IFERROR(INDEX(Feuil3!$A$1:$D$23,SMALL(IF(Feuil3!$A$2:$A$23=$A15,ROW(Feuil3!$A$2:$A$23),""),COUNTIF($A$3:$A15,$A15)),2),"")
A16: =B16 -> 43677 | B16: 43677 | C16: {=IFERROR(INDEX(Feuil3!$A$1:$D$23,SMALL(IF(Feuil3!$A$2:$A$23=$A16,ROW(Feuil3!$A$2:$A$23),""),COUNTIF($A$3:$A16,$A16)),COLUMN()-1),"")} | D16: {=IFERROR(INDEX(Feuil3!$A$1:$D$23,SMALL(IF(Feuil3!$A$2:$A$23=$A16,ROW(Feuil3!$A$2:$A$23),""),COUNTIF($A$3:$A16,$A16)),COLUMN()-1),"")} | E16: {=IFERROR(INDEX(Feuil3!$A$1:$D$23,SMALL(IF(Feuil3!$A$2:$A$23=$A16,ROW(Feuil3!$A$2:$A$23),""),COUNTIF($A$3:$A16,$A16)),COLUMN()-1),"")}
A17: =B16 -> 43677 | C17: {=IFERROR(INDEX(Feuil3!$A$1:$D$23,SMALL(IF(Feuil3!$A$2:$A$23=$A17,ROW(Feuil3!$A$2:$A$23),""),COUNTIF($A$3:$A17,$A17)),COLUMN()-1),"")} | D17: {=IFERROR(INDEX(Feuil3!$A$1:$D$23,SMALL(IF(Feuil3!$A$2:$A$23=$A17,ROW(Feuil3!$A$2:$A$23),""),COUNTIF($A$3:$A17,$A17)),COLUMN()-1),"")} | E17: {=IFERROR(INDEX(Feuil3!$A$1:$D$23,SMALL(IF(Feuil3!$A$2:$A$23=$A17,ROW(Feuil3!$A$2:$A$23),""),COUNTIF($A$3:$A17,$A17)),COLUMN()-1),"")}
A18: =B16 -> 43677 | C18: {=IFERROR(INDEX(Feuil3!$A$1:$D$23,SMALL(IF(Feuil3!$A$2:$A$23=$A18,ROW(Feuil3!$A$2:$A$23),""),COUNTIF($A$3:$A18,$A18)),COLUMN()-1),"")} | D18: {=IFERROR(INDEX(Feuil3!$A$1:$D$23,SMALL(IF(Feuil3!$A$2:$A$23=$A18,ROW(Feuil3!$A$2:$A$23),""),COUNTIF($A$3:$A18,$A18)),COLUMN()-1),"")} | E18: {=IFERROR(INDEX(Feuil3!$A$1:$D$23,SMALL(IF(Feuil3!$A$2:$A$23=$A18,ROW(Feuil3!$A$2:$A$23),""),COUNTIF($A$3:$A18,$A18)),COLUMN()-1),"")}
A19: =B16 -> 43677 | C19: {=IFERROR(INDEX(Feuil3!$A$1:$D$23,SMALL(IF(Feuil3!$A$2:$A$23=$A19,ROW(Feuil3!$A$2:$A$23),""),COUNTIF($A$3:$A19,$A19)),COLUMN()-1),"")} | D19: {=IFERROR(INDEX(Feuil3!$A$1:$D$23,SMALL(IF(Feuil3!$A$2:$A$23=$A19,ROW(Feuil3!$A$2:$A$23),""),COUNTIF($A$3:$A19,$A19)),COLUMN()-1),"")} | E19: {=IFERROR(INDEX(Feuil3!$A$1:$D$23,SMALL(IF(Feuil3!$A$2:$A$23=$A19,ROW(Feuil3!$A$2:$A$23),""),COUNTIF($A$3:$A19,$A19)),COLUMN()-1),"")}
A20: =B16 -> 43677 | C20: {=IFERROR(INDEX(Feuil3!$A$1:$D$23,SMALL(IF(Feuil3!$A$2:$A$23=$A20,ROW(Feuil3!$A$2:$A$23),""),COUNTIF($A$3:$A20,$A20)),COLUMN()-1),"")} | D20: {=IFERROR(INDEX(Feuil3!$A$1:$D$23,SMALL(IF(Feuil3!$A$2:$A$23=$A20,ROW(Feuil3!$A$2:$A$23),""),COUNTIF($A$3:$A20,$A20)),COLUMN()-1),"")} | E20: {=IFERROR(INDEX(Feuil3!$A$1:$D$23,SMALL(IF(Feuil3!$A$2:$A$23=$A20,ROW(Feuil3!$A$2:$A$23),""),COUNTIF($A$3:$A20,$A20)),COLUMN()-1),"")}
A21: =B22 -> 43678 | B21: JEUDI | C21: {=IFERROR(INDEX(Feuil3!$A$1:$D$23,SMALL(IF(Feuil3!$A$2:$A$23=$A21,ROW(Feuil3!$A$2:$A$23),""),COUNTIF($A$3:$A21,$A21)),COLUMN()-1),"")} | D21: {=IFERROR(INDEX(Feuil3!$A$1:$D$23,SMALL(IF(Feuil3!$A$2:$A$23=$A21,ROW(Feuil3!$A$2:$A$23),""),COUNTIF($A$3:$A21,$A21)),COLUMN()-1),"")} | E21: {=IFERROR(INDEX(Feuil3!$A$1:$D$23,SMALL(IF(Feuil3!$A$2:$A$23=$A21,ROW(Feuil3!$A$2:$A$23),""),COUNTIF($A$3:$A21,$A21)),COLUMN()-1),"")}
A22: =B22 -> 43678 | B22: 43678 | C22: {=IFERROR(INDEX(Feuil3!$A$1:$D$23,SMALL(IF(Feuil3!$A$2:$A$23=$A22,ROW(Feuil3!$A$2:$A$23),""),COUNTIF($A$3:$A22,$A22)),COLUMN()-1),"")} | D22: {=IFERROR(INDEX(Feuil3!$A$1:$D$23,SMALL(IF(Feuil3!$A$2:$A$23=$A22,ROW(Feuil3!$A$2:$A$23),""),COUNTIF($A$3:$A22,$A22)),COLUMN()-1),"")} | E22: {=IFERROR(INDEX(Feuil3!$A$1:$D$23,SMALL(IF(Feuil3!$A$2:$A$23=$A22,ROW(Feuil3!$A$2:$A$23),""),COUNTIF($A$3:$A22,$A22)),COLUMN()-1),"")}
A23: =B22 -> 43678 | C23: {=IFERROR(INDEX(Feuil3!$A$1:$D$23,SMALL(IF(Feuil3!$A$2:$A$23=$A23,ROW(Feuil3!$A$2:$A$23),""),COUNTIF($A$3:$A23,$A23)),COLUMN()-1),"")} | D23: {=IFERROR(INDEX(Feuil3!$A$1:$D$23,SMALL(IF(Feuil3!$A$2:$A$23=$A23,ROW(Feuil3!$A$2:$A$23),""),COUNTIF($A$3:$A23,$A23)),COLUMN()-1),"")} | E23: {=IFERROR(INDEX(Feuil3!$A$1:$D$23,SMALL(IF(Feuil3!$A$2:$A$23=$A23,ROW(Feuil3!$A$2:$A$23),""),COUNTIF($A$3:$A23,$A23)),COLUMN()-1),"")}
A24: =B22 -> 43678 | C24: {=IFERROR(INDEX(Feuil3!$A$1:$D$23,SMALL(IF(Feuil3!$A$2:$A$23=$A24,ROW(Feuil3!$A$2:$A$23),""),COUNTIF($A$3:$A24,$A24)),COLUMN()-1),"")} | D24: {=IFERROR(INDEX(Feuil3!$A$1:$D$23,SMALL(IF(Feuil3!$A$2:$A$23=$A24,ROW(Feuil3!$A$2:$A$23),""),COUNTIF($A$3:$A24,$A24)),COLUMN()-1),"")} | E24: {=IFERROR(INDEX(Feuil3!$A$1:$D$23,SMALL(IF(Feuil3!$A$2:$A$23=$A24,ROW(Feuil3!$A$2:$A$23),""),COUNTIF($A$3:$A24,$A24)),COLUMN()-1),"")}
A25: =B22 -> 43678 | C25: {=IFERROR(INDEX(Feuil3!$A$1:$D$23,SMALL(IF(Feuil3!$A$2:$A$23=$A25,ROW(Feuil3!$A$2:$A$23),""),COUNTIF($A$3:$A25,$A25)),COLUMN()-1),"")} | D25: {=IFERROR(INDEX(Feuil3!$A$1:$D$23,SMALL(IF(Feuil3!$A$2:$A$23=$A25,ROW(Feuil3!$A$2:$A$23),""),COUNTIF($A$3:$A25,$A25)),COLUMN()-1),"")} | E25: {=IFERROR(INDEX(Feuil3!$A$1:$D$23,SMALL(IF(Feuil3!$A$2:$A$23=$A25,ROW(Feuil3!$A$2:$A$23),""),COUNTIF($A$3:$A25,$A25)),COLUMN()-1),"")}
A26: =B22 -> 43678 | C26: {=IFERROR(INDEX(Feuil3!$A$1:$D$23,SMALL(IF(Feuil3!$A$2:$A$23=$A26,ROW(Feuil3!$A$2:$A$23),""),COUNTIF($A$3:$A26,$A26)),COLUMN()-1),"")} | D26: {=IFERROR(INDEX(Feuil3!$A$1:$D$23,SMALL(IF(Feuil3!$A$2:$A$23=$A26,ROW(Feuil3!$A$2:$A$23),""),COUNTIF($A$3:$A26,$A26)),COLUMN()-1),"")} | E26: {=IFERROR(INDEX(Feuil3!$A$1:$D$23,SMALL(IF(Feuil3!$A$2:$A$23=$A26,ROW(Feuil3!$A$2:$A$23),""),COUNTIF($A$3:$A26,$A26)),COLUMN()-1),"")}
A27: =B28 -> 43679 | B27: VENDREDI | C27: {=IFERROR(INDEX(Feuil3!$A$1:$D$23,SMALL(IF(Feuil3!$A$2:$A$23=$A27,ROW(Feuil3!$A$2:$A$23),""),COUNTIF($A$3:$A27,$A27)),COLUMN()-1),"")} | D27: {=IFERROR(INDEX(Feuil3!$A$1:$D$23,SMALL(IF(Feuil3!$A$2:$A$23=$A27,ROW(Feuil3!$A$2:$A$23),""),COUNTIF($A$3:$A27,$A27)),COLUMN()-1),"")} | E27: {=IFERROR(INDEX(Feuil3!$A$1:$D$23,SMALL(IF(Feuil3!$A$2:$A$23=$A27,ROW(Feuil3!$A$2:$A$23),""),COUNTIF($A$3:$A27,$A27)),COLUMN()-1),"")}
A28: =B28 -> 43679 | B28: 43679 | C28: {=IFERROR(INDEX(Feuil3!$A$1:$D$23,SMALL(IF(Feuil3!$A$2:$A$23=$A28,ROW(Feuil3!$A$2:$A$23),""),COUNTIF($A$3:$A28,$A28)),COLUMN()-1),"")} | D28: {=IFERROR(INDEX(Feuil3!$A$1:$D$23,SMALL(IF(Feuil3!$A$2:$A$23=$A28,ROW(Feuil3!$A$2:$A$23),""),COUNTIF($A$3:$A28,$A28)),COLUMN()-1),"")} | E28: {=IFERROR(INDEX(Feuil3!$A$1:$D$23,SMALL(IF(Feuil3!$A$2:$A$23=$A28,ROW(Feuil3!$A$2:$A$23),""),COUNTIF($A$3:$A28,$A28)),COLUMN()-1),"")}
A29: =B28 -> 43679 | C29: {=IFERROR(INDEX(Feuil3!$A$1:$D$23,SMALL(IF(Feuil3!$A$2:$A$23=$A29,ROW(Feuil3!$A$2:$A$23),""),COUNTIF($A$3:$A29,$A29)),COLUMN()-1),"")} | D29: {=IFERROR(INDEX(Feuil3!$A$1:$D$23,SMALL(IF(Feuil3!$A$2:$A$23=$A29,ROW(Feuil3!$A$2:$A$23),""),COUNTIF($A$3:$A29,$A29)),COLUMN()-1),"")} | E29: {=IFERROR(INDEX(Feuil3!$A$1:$D$23,SMALL(IF(Feuil3!$A$2:$A$23=$A29,ROW(Feuil3!$A$2:$A$23),""),COUNTIF($A$3:$A29,$A29)),COLUMN()-1),"")}
A30: =B28 -> 43679 | C30: {=IFERROR(INDEX(Feuil3!$A$1:$D$23,SMALL(IF(Feuil3!$A$2:$A$23=$A30,ROW(Feuil3!$A$2:$A$23),""),COUNTIF($A$3:$A30,$A30)),COLUMN()-1),"")} | D30: {=IFERROR(INDEX(Feuil3!$A$1:$D$23,SMALL(IF(Feuil3!$A$2:$A$23=$A30,ROW(Feuil3!$A$2:$A$23),""),COUNTIF($A$3:$A30,$A30)),COLUMN()-1),"")} | E30: {=IFERROR(INDEX(Feuil3!$A$1:$D$23,SMALL(IF(Feuil3!$A$2:$A$23=$A30,ROW(Feuil3!$A$2:$A$23),""),COUNTIF($A$3:$A30,$A30)),COLUMN()-1),"")}
A31: =B28 -> 43679 | C31: {=IFERROR(INDEX(Feuil3!$A$1:$D$23,SMALL(IF(Feuil3!$A$2:$A$23=$A31,ROW(Feuil3!$A$2:$A$23),""),COUNTIF($A$3:$A31,$A31)),COLUMN()-1),"")} | D31: {=IFERROR(INDEX(Feuil3!$A$1:$D$23,SMALL(IF(Feuil3!$A$2:$A$23=$A31,ROW(Feuil3!$A$2:$A$23),""),COUNTIF($A$3:$A31,$A31)),COLUMN()-1),"")} | E31: {=IFERROR(INDEX(Feuil3!$A$1:$D$23,SMALL(IF(Feuil3!$A$2:$A$23=$A31,ROW(Feuil3!$A$2:$A$23),""),COUNTIF($A$3:$A31,$A31)),COLUMN()-1),"")}
A32: =B28 -> 43679 | C32: {=IFERROR(INDEX(Feuil3!$A$1:$D$23,SMALL(IF(Feuil3!$A$2:$A$23=$A32,ROW(Feuil3!$A$2:$A$23),""),COUNTIF($A$3:$A32,$A32)),COLUMN()-1),"")} | D32: {=IFERROR(INDEX(Feuil3!$A$1:$D$23,SMALL(IF(Feuil3!$A$2:$A$23=$A32,ROW(Feuil3!$A$2:$A$23),""),COUNTIF($A$3:$A32,$A32)),COLUMN()-1),"")} | E32: {=IFERROR(INDEX(Feuil3!$A$1:$D$23,SMALL(IF(Feuil3!$A$2:$A$23=$A32,ROW(Feuil3!$A$2:$A$23),""),COUNTIF($A$3:$A32,$A32)),COLUMN()-1),"")}

Sheet Feuil3
A1: date | B1: commun | C1: oliver | D1: laura
A2: 43610 | B2: ranger chambre
A3: 43677 | B3: tondre pelouse
A4: 01/09/20149 | B4: rentrée des classes
