Workbook

Sheet Matchs
A1: Groupe Bleu | D1: Groupe Blanc | K1: Groupe Bleu
A2: FC Rosenau | D2: All. Folg/Muespach | K2: Classement | L2: Club | M2: 1 | N2: 2 | O2: 3 | P2: Buts + | Q2: Buts - | R2: Diff. | S2: Fair Play | T2: Points
A3: FC Sierentz II | D3: FC Kembs Réunis II | K3: 1 | L3: =IFERROR(VLOOKUP($K3,'Classement intermédiaire'!$A$2:$K$6,COLUMN('Classement intermédiaire'!C3),FALSE),"") -> US Hésingue | M3: =IFERROR(VLOOKUP($K3,'Classement intermédiaire'!$A$2:$K$6,COLUMN('Classement intermédiaire'!D3),FALSE),"") -> 2 | N3: =IFERROR(VLOOKUP($K3,'Classement intermédiaire'!$A$2:$K$6,COLUMN('Classement intermédiaire'!E3),FALSE),"") -> 3 | O3: =IFERROR(VLOOKUP($K3,'Classement intermédiaire'!$A$2:$K$6,COLUMN('Classement intermédiaire'!F3),FALSE),"") -> 2 | P3: =IFERROR(VLOOKUP($K3,'Classement intermédiaire'!$A$2:$K$6,COLUMN('Classement intermédiaire'!G3),FALSE),"") -> 9 | Q3: =IFERROR(VLOOKUP($K3,'Classement intermédiaire'!$A$2:$K$6,COLUMN('Classement intermédiaire'!H3),FALSE),"") -> 6 | R3: =IFERROR(VLOOKUP($K3,'Classement intermédiaire'!$A$2:$K$6,COLUMN('Classement intermédiaire'!I3),FALSE),"") -> 3 | S3: =IFERROR(VLOOKUP($K3,'Classement intermédiaire'!$A$2:$K$6,COLUMN('Classement intermédiaire'!J3),FALSE),"") -> 6 | T3: =IFERROR(VLOOKUP($K3,'Classement intermédiaire'!$A$2:$K$6,COLUMN('Classement intermédiaire'!K3),FALSE),"") -> 7
A4: ASCCO Helfrantzkirch | D4: FC Village-Neuf | K4: 2 | L4: =IFERROR(VLOOKUP($K4,'Classement intermédiaire'!$A$2:$K$6,COLUMN('Classement intermédiaire'!C4),FALSE),"") -> FC Rosenau | M4: =IFERROR(VLOOKUP($K4,'Classement intermédiaire'!$A$2:$K$6,COLUMN('Classement intermédiaire'!D4),FALSE),"") -> 3 | N4: =IFERROR(VLOOKUP($K4,'Classement intermédiaire'!$A$2:$K$6,COLUMN('Classement intermédiaire'!E4),FALSE),"") -> 1 | O4: =IFERROR(VLOOKUP($K4,'Classement intermédiaire'!$A$2:$K$6,COLUMN('Classement intermédiaire'!F4),FALSE),"") -> 1 | P4: =IFERROR(VLOOKUP($K4,'Classement intermédiaire'!$A$2:$K$6,COLUMN('Classement intermédiaire'!G4),FALSE),"") -> 8 | Q4: =IFERROR(VLOOKUP($K4,'Classement intermédiaire'!$A$2:$K$6,COLUMN('Classement intermédiaire'!H4),FALSE),"") -> 6 | R4: =IFERROR(VLOOKUP($K4,'Classement intermédiaire'!$A$2:$K$6,COLUMN('Classement intermédiaire'!I4),FALSE),"") -> 2 | S4: =IFERROR(VLOOKUP($K4,'Classement intermédiaire'!$A$2:$K$6,COLUMN('Classement intermédiaire'!J4),FALSE),"") -> 8 | T4: =IFERROR(VLOOKUP($K4,'Classement intermédiaire'!$A$2:$K$6,COLUMN('Classement intermédiaire'!K4),FALSE),"") -> 5
A5: US Hésingue | D5: FC Hirtzbach | K5: 3 | L5: =IFERROR(VLOOKUP($K5,'Classement intermédiaire'!$A$2:$K$6,COLUMN('Classement intermédiaire'!C5),FALSE),"") -> FC Sierentz II | M5: =IFERROR(VLOOKUP($K5,'Classement intermédiaire'!$A$2:$K$6,COLUMN('Classement intermédiaire'!D5),FALSE),"") -> 0 | N5: =IFERROR(VLOOKUP($K5,'Classement intermédiaire'!$A$2:$K$6,COLUMN('Classement intermédiaire'!E5),FALSE),"") -> 0 | O5: =IFERROR(VLOOKUP($K5,'Classement intermédiaire'!$A$2:$K$6,COLUMN('Classement intermédiaire'!F5),FALSE),"") -> 3 | P5: =IFERROR(VLOOKUP($K5,'Classement intermédiaire'!$A$2:$K$6,COLUMN('Classement intermédiaire'!G5),FALSE),"") -> 8 | Q5: =IFERROR(VLOOKUP($K5,'Classement intermédiaire'!$A$2:$K$6,COLUMN('Classement intermédiaire'!H5),FALSE),"") -> 8 | R5: =IFERROR(VLOOKUP($K5,'Classement intermédiaire'!$A$2:$K$6,COLUMN('Classement intermédiaire'!I5),FALSE),"") -> 0 | S5: =IFERROR(VLOOKUP($K5,'Classement intermédiaire'!$A$2:$K$6,COLUMN('Classement intermédiaire'!J5),FALSE),"") -> 7 | T5: =IFERROR(VLOOKUP($K5,'Classement intermédiaire'!$A$2:$K$6,COLUMN('Classement intermédiaire'!K5),FALSE),"") -> 3
K6: 4 | L6: =IFERROR(VLOOKUP($K6,'Classement intermédiaire'!$A$2:$K$6,COLUMN('Classement intermédiaire'!C6),FALSE),"") -> ASCCO Helfrantzkirch | M6: =IFERROR(VLOOKUP($K6,'Classement intermédiaire'!$A$2:$K$6,COLUMN('Classement intermédiaire'!D6),FALSE),"") -> 1 | N6: =IFERROR(VLOOKUP($K6,'Classement intermédiaire'!$A$2:$K$6,COLUMN('Classement intermédiaire'!E6),FALSE),"") -> 2 | O6: =IFERROR(VLOOKUP($K6,'Classement intermédiaire'!$A$2:$K$6,COLUMN('Classement intermédiaire'!F6),FALSE),"") -> 0 | P6: =IFERROR(VLOOKUP($K6,'Classement intermédiaire'!$A$2:$K$6,COLUMN('Classement intermédiaire'!G6),FALSE),"") -> 5 | Q6: =IFERROR(VLOOKUP($K6,'Classement intermédiaire'!$A$2:$K$6,COLUMN('Classement intermédiaire'!H6),FALSE),"") -> 10 | R6: =IFERROR(VLOOKUP($K6,'Classement intermédiaire'!$A$2:$K$6,COLUMN('Classement intermédiaire'!I6),FALSE),"") -> -5 | S6: =IFERROR(VLOOKUP($K6,'Classement intermédiaire'!$A$2:$K$6,COLUMN('Classement intermédiaire'!J6),FALSE),"") -> 11 | T6: =IFERROR(VLOOKUP($K6,'Classement intermédiaire'!$A$2:$K$6,COLUMN('Classement intermédiaire'!K6),FALSE),"") -> 3
A7: Date | B7: Match | D7: Score | F7: TAB | H7: Fair-Play | J7: N°
A8: 43309 | B8: =A2 -> FC Rosenau | C8: =A3 -> FC Sierentz II | D8: 3 | E8: 1 | H8: 3 | I8: 4 | J8: 1 | K8: Groupe Blanc
A9: 43309 | B9: =D2 -> All. Folg/Muespach | C9: =D3 -> FC Kembs Réunis II | D9: 1 | E9: 4 | H9: 5 | I9: 1 | J9: 2 | K9: Classement | L9: Club | M9: 1 | N9: 2 | O9: 3 | P9: Buts + | Q9: Buts - | R9: Diff. | S9: Fair Play | T9: Points
A10: 43309 | B10: =A4 -> ASCCO Helfrantzkirch | C10: =A5 -> US Hésingue | D10: 2 | E10: 2 | F10: 1 | G10: 2 | H10: 3 | I10: 3 | J10: 3 | K10: 1 | L10: =IFERROR(VLOOKUP($K10,'Classement intermédiaire'!$A$10:$K$13,COLUMN('Classement intermédiaire'!C10),FALSE),"") -> FC Hirtzbach | M10: =IFERROR(VLOOKUP($K10,'Classement intermédiaire'!$A$10:$K$13,COLUMN('Classement intermédiaire'!D10),FALSE),"") -> 3 | N10: =IFERROR(VLOOKUP($K10,'Classement intermédiaire'!$A$10:$K$13,COLUMN('Classement intermédiaire'!E10),FALSE),"") -> 3 | O10: =IFERROR(VLOOKUP($K10,'Classement intermédiaire'!$A$10:$K$13,COLUMN('Classement intermédiaire'!F10),FALSE),"") -> 3 | P10: =IFERROR(VLOOKUP($K10,'Classement intermédiaire'!$A$10:$K$13,COLUMN('Classement intermédiaire'!G10),FALSE),"") -> 14 | Q10: =IFERROR(VLOOKUP($K10,'Classement intermédiaire'!$A$10:$K$13,COLUMN('Classement intermédiaire'!H10),FALSE),"") -> 2 | R10: =IFERROR(VLOOKUP($K10,'Classement intermédiaire'!$A$10:$K$13,COLUMN('Classement intermédiaire'!I10),FALSE),"") -> 12 | S10: =IFERROR(VLOOKUP($K10,'Classement intermédiaire'!$A$10:$K$13,COLUMN('Classement intermédiaire'!J10),FALSE),"") -> 7 | T10: =IFERROR(VLOOKUP($K10,'Classement intermédiaire'!$A$10:$K$13,COLUMN('Classement intermédiaire'!K10),FALSE),"") -> 9
A11: 43309 | B11: =D4 -> FC Village-Neuf | C11: =D5 -> FC Hirtzbach | D11: 2 | E11: 5 | H11: 4 | I11: 2 | J11: 4 | K11: 2 | L11: =IFERROR(VLOOKUP($K11,'Classement intermédiaire'!$A$10:$K$13,COLUMN('Classement intermédiaire'!C11),FALSE),"") -> FC Kembs Réunis II | M11: =IFERROR(VLOOKUP($K11,'Classement intermédiaire'!$A$10:$K$13,COLUMN('Classement intermédiaire'!D11),FALSE),"") -> 3 | N11: =IFERROR(VLOOKUP($K11,'Classement intermédiaire'!$A$10:$K$13,COLUMN('Classement intermédiaire'!E11),FALSE),"") -> 0 | O11: =IFERROR(VLOOKUP($K11,'Classement intermédiaire'!$A$10:$K$13,COLUMN('Classement intermédiaire'!F11),FALSE),"") -> 2 | P11: =IFERROR(VLOOKUP($K11,'Classement intermédiaire'!$A$10:$K$13,COLUMN('Classement intermédiaire'!G11),FALSE),"") -> 6 | Q11: =IFERROR(VLOOKUP($K11,'Classement intermédiaire'!$A$10:$K$13,COLUMN('Classement intermédiaire'!H11),FALSE),"") -> 7 | R11: =IFERROR(VLOOKUP($K11,'Classement intermédiaire'!$A$10:$K$13,COLUMN('Classement intermédiaire'!I11),FALSE),"") -> -1 | S11: =IFERROR(VLOOKUP($K11,'Classement intermédiaire'!$A$10:$K$13,COLUMN('Classement intermédiaire'!J11),FALSE),"") -> 9 | T11: =IFERROR(VLOOKUP($K11,'Classement intermédiaire'!$A$10:$K$13,COLUMN('Classement intermédiaire'!K11),FALSE),"") -> 5
A12: 43312 | B12: =A2 -> FC Rosenau | C12: =A4 -> ASCCO Helfrantzkirch | D12: 3 | E12: 3 | F12: 2 | G12: 3 | H12: 4 | I12: 3 | J12: 5 | K12: 3 | L12: =IFERROR(VLOOKUP($K12,'Classement intermédiaire'!$A$10:$K$13,COLUMN('Classement intermédiaire'!C12),FALSE),"") -> FC Village-Neuf | M12: =IFERROR(VLOOKUP($K12,'Classement intermédiaire'!$A$10:$K$13,COLUMN('Classement intermédiaire'!D12),FALSE),"") -> 0 | N12: =IFERROR(VLOOKUP($K12,'Classement intermédiaire'!$A$10:$K$13,COLUMN('Classement intermédiaire'!E12),FALSE),"") -> 3 | O12: =IFERROR(VLOOKUP($K12,'Classement intermédiaire'!$A$10:$K$13,COLUMN('Classement intermédiaire'!F12),FALSE),"") -> 1 | P12: =IFERROR(VLOOKUP($K12,'Classement intermédiaire'!$A$10:$K$13,COLUMN('Classement intermédiaire'!G12),FALSE),"") -> 7 | Q12: =IFERROR(VLOOKUP($K12,'Classement intermédiaire'!$A$10:$K$13,COLUMN('Classement intermédiaire'!H12),FALSE),"") -> 7 | R12: =IFERROR(VLOOKUP($K12,'Classement intermédiaire'!$A$10:$K$13,COLUMN('Classement intermédiaire'!I12),FALSE),"") -> 0 | S12: =IFERROR(VLOOKUP($K12,'Classement intermédiaire'!$A$10:$K$13,COLUMN('Classement intermédiaire'!J12),FALSE),"") -> 6 | T12: =IFERROR(VLOOKUP($K12,'Classement intermédiaire'!$A$10:$K$13,COLUMN('Classement intermédiaire'!K12),FALSE),"") -> 4
A13: 43312 | B13: =D2 -> All. Folg/Muespach | C13: =D4 -> FC Village-Neuf | D13: 0 | E13: 3 | H13: 5 | I13: 1 | J13: 6 | K13: 4 | L13: =IFERROR(VLOOKUP($K13,'Classement intermédiaire'!$A$10:$K$13,COLUMN('Classement intermédiaire'!C13),FALSE),"") -> All. Folg/Muespach | M13: =IFERROR(VLOOKUP($K13,'Classement intermédiaire'!$A$10:$K$13,COLUMN('Classement intermédiaire'!D13),FALSE),"") -> 0 | N13: =IFERROR(VLOOKUP($K13,'Classement intermédiaire'!$A$10:$K$13,COLUMN('Classement intermédiaire'!E13),FALSE),"") -> 0 | O13: =IFERROR(VLOOKUP($K13,'Classement intermédiaire'!$A$10:$K$13,COLUMN('Classement intermédiaire'!F13),FALSE),"") -> 0 | P13: =IFERROR(VLOOKUP($K13,'Classement intermédiaire'!$A$10:$K$13,COLUMN('Classement intermédiaire'!G13),FALSE),"") -> 1 | Q13: =IFERROR(VLOOKUP($K13,'Classement intermédiaire'!$A$10:$K$13,COLUMN('Classement intermédiaire'!H13),FALSE),"") -> 12 | R13: =IFERROR(VLOOKUP($K13,'Classement intermédiaire'!$A$10:$K$13,COLUMN('Classement intermédiaire'!I13),FALSE),"") -> -11 | S13: =IFERROR(VLOOKUP($K13,'Classement intermédiaire'!$A$10:$K$13,COLUMN('Classement intermédiaire'!J13),FALSE),"") -> 15 | T13: =IFERROR(VLOOKUP($K13,'Classement intermédiaire'!$A$10:$K$13,COLUMN('Classement intermédiaire'!K13),FALSE),"") -> 0
A14: 43313 | B14: =A3 -> FC Sierentz II | C14: =A5 -> US Hésingue | D14: 2 | E14: 5 | H14: 2 | I14: 2 | J14: 7
A15: 43313 | B15: =D3 -> FC Kembs Réunis II | C15: =D5 -> FC Hirtzbach | D15: 0 | E15: 4 | H15: 5 | I15: 2 | J15: 8 | K15: Classement Fair-play
A16: 43316 | B16: =D3 -> FC Kembs Réunis II | C16: =D4 -> FC Village-Neuf | D16: 2 | E16: 2 | F16: 2 | G16: 1 | H16: 3 | I16: 1 | J16: 9 | K16: Classement | L16: Club | M16: Points | N16: Conso | O16: Chrono | P16: Total
A17: 43316 | B17: =D2 -> All. Folg/Muespach | C17: =D5 -> FC Hirtzbach | D17: 0 | E17: 5 | H17: 5 | I17: 3 | J17: 10 | K17: 1 | L17: =A2 -> FC Rosenau | M17: =SUMPRODUCT((B$8:C$27=L17)*(H$8:I$27)) -> 8 | P17: =SUM(M17:O17) -> 8
A18: 43316 | B18: =A2 -> FC Rosenau | C18: =A5 -> US Hésingue | D18: 2 | E18: 2 | F18: 1 | G18: 2 | H18: 1 | I18: 1 | J18: 11 | K18: 2 | L18: =A3 -> FC Sierentz II | M18: =SUMPRODUCT((B$8:C$27=L18)*(H$8:I$27)) -> 7 | P18: =SUM(M18:O18) -> 7
A19: 43316 | B19: =A3 -> FC Sierentz II | C19: =A4 -> ASCCO Helfrantzkirch | D19: 5 | E19: 0 | H19: 1 | I19: 5 | J19: 12 | K19: 3 | L19: =A4 -> ASCCO Helfrantzkirch | M19: =SUMPRODUCT((B$8:C$27=L19)*(H$8:I$27)) -> 11 | P19: =SUM(M19:O19) -> 11
A20: 43319 | B20: =L3 -> US Hésingue | C20: =L11 -> FC Kembs Réunis II | J20: 13 | K20: 4 | L20: =A5 -> US Hésingue | M20: =SUMPRODUCT((B$8:C$27=L20)*(H$8:I$27)) -> 6 | P20: =SUM(M20:O20) -> 6
A21: 43319 | B21: =L5 -> FC Sierentz II | C21: =L13 -> All. Folg/Muespach | J21: 14 | K21: 5 | L21: =D2 -> All. Folg/Muespach | M21: =SUMPRODUCT((B$8:C$27=L21)*(H$8:I$27)) -> 15 | P21: =SUM(M21:O21) -> 15
A22: 43320 | B22: =L10 -> FC Hirtzbach | C22: =L4 -> FC Rosenau | J22: 15 | K22: 6 | L22: =D3 -> FC Kembs Réunis II | M22: =SUMPRODUCT((B$8:C$27=L22)*(H$8:I$27)) -> 9 | P22: =SUM(M22:O22) -> 9
A23: 43320 | B23: =L12 -> FC Village-Neuf | C23: =L6 -> ASCCO Helfrantzkirch | J23: 16 | K23: 7 | L23: =D4 -> FC Village-Neuf | M23: =SUMPRODUCT((B$8:C$27=L23)*(H$8:I$27)) -> 6 | P23: =SUM(M23:O23) -> 6
A24: 43323 | B24: Perdant M14 | C24: Perdant M16 | J24: 17 | K24: 8 | L24: =D5 -> FC Hirtzbach | M24: =SUMPRODUCT((B$8:C$27=L24)*(H$8:I$27)) -> 7 | P24: =SUM(M24:O24) -> 7
A25: 43323 | B25: Vainqueur M14 | C25: Vainqueur M16 | J25: 18
A26: 43323 | B26: Perdant M13 | C26: Perdant M15 | J26: 19
A27: 43323 | B27: Vainqueur M13 | C27: Vainqueur M15 | J27: 20

Sheet Classement intermédiaire
A1: Groupe Bleu | L1: Lignes | O1: Colonnes | Y1: Feuille reference | Z1: Matchs
A2: Classement bis | B2: Classement | C2: Club | D2: 1 | E2: 2 | F2: 3 | G2: Buts + | H2: Buts - | I2: Diff. | J2: Fair Play | K2: Points | L2: 1 | M2: 2 | N2: 3 | O2: 1 | P2: 2 | Q2: 3 | R2: Ligne égalité | S2: Colonne dernière rencontre
A3: =IF(COUNTIF($B$3:$B$6,B3)>1,IF(INDIRECT(ADDRESS(R3,S3+2,,,$Z$1))>INDIRECT(ADDRESS(R3,IF(S3=2,3,2)+2,,,$Z$1)),B3,IF(INDIRECT(ADDRESS(R3,S3+2,,,$Z$1))<INDIRECT(ADDRESS(R3,IF(S3=2,3,2)+2,,,$Z$1)),B3+1,IF(COUNTIFS($B$3:$B$6,B3,$I$3:$I$6,I3)>1,IF(COUNTIFS($B$3:$B$6,B3,$G$3:$G$6,G3)>1,IF(COUNTIFS($B$3:$B$6,B3,$H$3:$H$6,H3)>1,IF(COUNTIFS($B$3:$B$6,B3,$J$3:$J$6,J3)>1,"FAIT CHIER",IF(J3=MAX(IF($B$3:$B$6=B3,$J$3:$J$6,"")),B3,B3+1)),IF(H3=MAX(IF($B$3:$B$6=B3,$H$3:$H$6,"")),B3,B3+1)),IF(G3=MAX(IF($B$3:$B$6=B3,$G$3:$G$6,"")),B3,B3+1)),IF(I3=MAX(IF($B$3:$B$6=B3,$I$3:$I$6,"")),B3,B3+1)))),B3) -> 2 | B3: =RANK(K3,$K$3:$K$6,0) -> 2 | C3: =Matchs!A2 -> FC Rosenau | D3: =IF(INDIRECT(ADDRESS(L3,O3+2,,,$Z$1))<INDIRECT(ADDRESS(L3,IF(O3=2,3,2)+2,,,$Z$1)),0, IF(INDIRECT(ADDRESS(L3,O3+2,,,$Z$1))>INDIRECT(ADDRESS(L3,IF(O3=2,3,2)+2,,,$Z$1)),3, IF(INDIRECT(ADDRESS(L3,O3+4,,,$Z$1))<INDIRECT(ADDRESS(L3,IF(O3=2,3,2)+4,,,$Z$1)),1, IF(INDIRECT(ADDRESS(L3,O3+4,,,$Z$1))>INDIRECT(ADDRESS(L3,IF(O3=2,3,2)+4,,,$Z$1)),2,0)))) -> 3 | E3: =IF(INDIRECT(ADDRESS(M3,P3+2,,,$Z$1))<INDIRECT(ADDRESS(M3,IF(P3=2,3,2)+2,,,$Z$1)),0, IF(INDIRECT(ADDRESS(M3,P3+2,,,$Z$1))>INDIRECT(ADDRESS(M3,IF(P3=2,3,2)+2,,,$Z$1)),3, IF(INDIRECT(ADDRESS(M3,P3+4,,,$Z$1))<INDIRECT(ADDRESS(M3,IF(P3=2,3,2)+4,,,$Z$1)),1, IF(INDIRECT(ADDRESS(M3,P3+4,,,$Z$1))>INDIRECT(ADDRESS(M3,IF(P3=2,3,2)+4,,,$Z$1)),2,0)))) -> 1 | F3: =IF(INDIRECT(ADDRESS(N3,Q3+2,,,$Z$1))<INDIRECT(ADDRESS(N3,IF(Q3=2,3,2)+2,,,$Z$1)),0, IF(INDIRECT(ADDRESS(N3,Q3+2,,,$Z$1))>INDIRECT(ADDRESS(N3,IF(Q3=2,3,2)+2,,,$Z$1)),3, IF(INDIRECT(ADDRESS(N3,Q3+4,,,$Z$1))<INDIRECT(ADDRESS(N3,IF(Q3=2,3,2)+4,,,$Z$1)),1, IF(INDIRECT(ADDRESS(N3,Q3+4,,,$Z$1))>INDIRECT(ADDRESS(N3,IF(Q3=2,3,2)+4,,,$Z$1)),2,0)))) -> 1 | G3: =SUMPRODUCT((Matchs!B$8:C$19=C3)*(Matchs!D$8:E$19)) -> 8 | H3: =SUMPRODUCT((Matchs!B$8:B$19=C3)*(Matchs!E$8:E$19))+SUMPRODUCT((Matchs!C$8:C$19=C3)*(Matchs!D$8:D$19)) -> 6 | I3: =G3-H3 -> 2 | J3: =SUMPRODUCT((Matchs!B$8:C$19=C3)*(Matchs!H$8:I$19)) -> 8 | K3: =SUM(D3:F3) -> 5 | L3: {=SMALL(IF((Matchs!$B$8:$B$19=$C3)+(Matchs!$C$8:$C$19=$C3),ROW(Matchs!$B$8:$B$19),""),D$2)} -> 8 | M3: {=SMALL(IF((Matchs!$B$8:$B$19=$C3)+(Matchs!$C$8:$C$19=$C3),ROW(Matchs!$B$8:$B$19),""),E$2)} -> 12 | N3: {=SMALL(IF((Matchs!$B$8:$B$19=$C3)+(Matchs!$C$8:$C$19=$C3),ROW(Matchs!$B$8:$B$19),""),F$2)} -> 18 | O3: =IF(INDIRECT(ADDRESS(L3,COLUMN(Matchs!$B$8),,,$Z$1))=$C3,COLUMN(Matchs!$B$8),COLUMN(Matchs!$B$8)+1) -> 2 | P3: =IF(INDIRECT(ADDRESS(M3,COLUMN(Matchs!$B$8),,,$Z$1))=$C3,COLUMN(Matchs!$B$8),COLUMN(Matchs!$B$8)+1) -> 2 | Q3: =IF(INDIRECT(ADDRESS(N3,COLUMN(Matchs!$B$8),,,$Z$1))=$C3,COLUMN(Matchs!$B$8),COLUMN(Matchs!$B$8)+1) -> 2 | R3: {=LARGE(IF((((Matchs!$B$8:$B$19=$C3)+(Matchs!$C$8:$C$19=$C3))*((Matchs!$B$8:$B$19=INDEX($C$3:$C$6,MATCH(B3,IF($C$3:$C$6<>C3,$B$3:$B$6,""),0),1))+(Matchs!$C$8:$C$19=INDEX($C$3:$C$6,MATCH(B3,IF($C$3:$C$6<>C3,$B$3:$B$6,""),0),1)))),ROW(Matchs!$B$8:$B$19),""),1)} -> #N/A | S3: =IF(INDIRECT(ADDRESS(R3,COLUMN(Matchs!$B$8),,,$Z$1))=$C3,COLUMN(Matchs!$B$8),COLUMN(Matchs!$B$8)+1) -> #N/A
A4: =IF(COUNTIF($B$3:$B$6,B4)>1,IF(INDIRECT(ADDRESS(R4,S4+2,,,$Z$1))>INDIRECT(ADDRESS(R4,IF(S4=2,3,2)+2,,,$Z$1)),B4,IF(INDIRECT(ADDRESS(R4,S4+2,,,$Z$1))<INDIRECT(ADDRESS(R4,IF(S4=2,3,2)+2,,,$Z$1)),B4+1,IF(COUNTIFS($B$3:$B$6,B4,$I$3:$I$6,I4)>1,IF(COUNTIFS($B$3:$B$6,B4,$G$3:$G$6,G4)>1,IF(COUNTIFS($B$3:$B$6,B4,$H$3:$H$6,H4)>1,IF(COUNTIFS($B$3:$B$6,B4,$J$3:$J$6,J4)>1,"FAIT CHIER",IF(J4=MAX(IF($B$3:$B$6=B4,$J$3:$J$6,"")),B4,B4+1)),IF(H4=MAX(IF($B$3:$B$6=B4,$H$3:$H$6,"")),B4,B4+1)),IF(G4=MAX(IF($B$3:$B$6=B4,$G$3:$G$6,"")),B4,B4+1)),IF(I4=MAX(IF($B$3:$B$6=B4,$I$3:$I$6,"")),B4,B4+1)))),B4) -> 3 | B4: =RANK(K4,$K$3:$K$6,0) -> 3 | C4: =Matchs!A3 -> FC Sierentz II | D4: =IF(INDIRECT(ADDRESS(L4,O4+2,,,$Z$1))<INDIRECT(ADDRESS(L4,IF(O4=2,3,2)+2,,,$Z$1)),0, IF(INDIRECT(ADDRESS(L4,O4+2,,,$Z$1))>INDIRECT(ADDRESS(L4,IF(O4=2,3,2)+2,,,$Z$1)),3, IF(INDIRECT(ADDRESS(L4,O4+4,,,$Z$1))<INDIRECT(ADDRESS(L4,IF(O4=2,3,2)+4,,,$Z$1)),1, IF(INDIRECT(ADDRESS(L4,O4+4,,,$Z$1))>INDIRECT(ADDRESS(L4,IF(O4=2,3,2)+4,,,$Z$1)),2,0)))) -> 0 | E4: =IF(INDIRECT(ADDRESS(M4,P4+2,,,$Z$1))<INDIRECT(ADDRESS(M4,IF(P4=2,3,2)+2,,,$Z$1)),0, IF(INDIRECT(ADDRESS(M4,P4+2,,,$Z$1))>INDIRECT(ADDRESS(M4,IF(P4=2,3,2)+2,,,$Z$1)),3, IF(INDIRECT(ADDRESS(M4,P4+4,,,$Z$1))<INDIRECT(ADDRESS(M4,IF(P4=2,3,2)+4,,,$Z$1)),1, IF(INDIRECT(ADDRESS(M4,P4+4,,,$Z$1))>INDIRECT(ADDRESS(M4,IF(P4=2,3,2)+4,,,$Z$1)),2,0)))) -> 0 | F4: =IF(INDIRECT(ADDRESS(N4,Q4+2,,,$Z$1))<INDIRECT(ADDRESS(N4,IF(Q4=2,3,2)+2,,,$Z$1)),0, IF(INDIRECT(ADDRESS(N4,Q4+2,,,$Z$1))>INDIRECT(ADDRESS(N4,IF(Q4=2,3,2)+2,,,$Z$1)),3, IF(INDIRECT(ADDRESS(N4,Q4+4,,,$Z$1))<INDIRECT(ADDRESS(N4,IF(Q4=2,3,2)+4,,,$Z$1)),1, IF(INDIRECT(ADDRESS(N4,Q4+4,,,$Z$1))>INDIRECT(ADDRESS(N4,IF(Q4=2,3,2)+4,,,$Z$1)),2,0)))) -> 3 | G4: =SUMPRODUCT((Matchs!B$8:C$19=C4)*(Matchs!D$8:E$19)) -> 8 | H4: =SUMPRODUCT((Matchs!B$8:B$19=C4)*(Matchs!E$8:E$19))+SUMPRODUCT((Matchs!C$8:C$19=C4)*(Matchs!D$8:D$19)) -> 8 | I4: =G4-H4 -> 0 | J4: =SUMPRODUCT((Matchs!B$8:C$19=C4)*(Matchs!H$8:I$19)) -> 7 | K4: =SUM(D4:F4) -> 3 | L4: {=SMALL(IF((Matchs!$B$8:$B$19=$C4)+(Matchs!$C$8:$C$19=$C4),ROW(Matchs!$B$8:$B$19),""),D$2)} -> 8 | M4: {=SMALL(IF((Matchs!$B$8:$B$19=$C4)+(Matchs!$C$8:$C$19=$C4),ROW(Matchs!$B$8:$B$19),""),E$2)} -> 14 | N4: {=SMALL(IF((Matchs!$B$8:$B$19=$C4)+(Matchs!$C$8:$C$19=$C4),ROW(Matchs!$B$8:$B$19),""),F$2)} -> 19 | O4: =IF(INDIRECT(ADDRESS(L4,COLUMN(Matchs!$B$8),,,$Z$1))=$C4,COLUMN(Matchs!$B$8),COLUMN(Matchs!$B$8)+1) -> 3 | P4: =IF(INDIRECT(ADDRESS(M4,COLUMN(Matchs!$B$8),,,$Z$1))=$C4,COLUMN(Matchs!$B$8),COLUMN(Matchs!$B$8)+1) -> 2 | Q4: =IF(INDIRECT(ADDRESS(N4,COLUMN(Matchs!$B$8),,,$Z$1))=$C4,COLUMN(Matchs!$B$8),COLUMN(Matchs!$B$8)+1) -> 2 | R4: {=LARGE(IF((((Matchs!$B$8:$B$19=$C4)+(Matchs!$C$8:$C$19=$C4))*((Matchs!$B$8:$B$19=INDEX($C$3:$C$6,MATCH(B4,IF($C$3:$C$6<>C4,$B$3:$B$6,""),0),1))+(Matchs!$C$8:$C$19=INDEX($C$3:$C$6,MATCH(B4,IF($C$3:$C$6<>C4,$B$3:$B$6,""),0),1)))),ROW(Matchs!$B$8:$B$19),""),1)} -> 19 | S4: =IF(INDIRECT(ADDRESS(R4,COLUMN(Matchs!$B$8),,,$Z$1))=$C4,COLUMN(Matchs!$B$8),COLUMN(Matchs!$B$8)+1) -> 2
A5: =IF(COUNTIF($B$3:$B$6,B5)>1,IF(INDIRECT(ADDRESS(R5,S5+2,,,$Z$1))>INDIRECT(ADDRESS(R5,IF(S5=2,3,2)+2,,,$Z$1)),B5,IF(INDIRECT(ADDRESS(R5,S5+2,,,$Z$1))<INDIRECT(ADDRESS(R5,IF(S5=2,3,2)+2,,,$Z$1)),B5+1,IF(COUNTIFS($B$3:$B$6,B5,$I$3:$I$6,I5)>1,IF(COUNTIFS($B$3:$B$6,B5,$G$3:$G$6,G5)>1,IF(COUNTIFS($B$3:$B$6,B5,$H$3:$H$6,H5)>1,IF(COUNTIFS($B$3:$B$6,B5,$J$3:$J$6,J5)>1,"FAIT CHIER",IF(J5=MAX(IF($B$3:$B$6=B5,$J$3:$J$6,"")),B5,B5+1)),IF(H5=MAX(IF($B$3:$B$6=B5,$H$3:$H$6,"")),B5,B5+1)),IF(G5=MAX(IF($B$3:$B$6=B5,$G$3:$G$6,"")),B5,B5+1)),IF(I5=MAX(IF($B$3:$B$6=B5,$I$3:$I$6,"")),B5,B5+1)))),B5) -> 4 | B5: =RANK(K5,$K$3:$K$6,0) -> 3 | C5: =Matchs!A4 -> ASCCO Helfrantzkirch | D5: =IF(INDIRECT(ADDRESS(L5,O5+2,,,$Z$1))<INDIRECT(ADDRESS(L5,IF(O5=2,3,2)+2,,,$Z$1)),0, IF(INDIRECT(ADDRESS(L5,O5+2,,,$Z$1))>INDIRECT(ADDRESS(L5,IF(O5=2,3,2)+2,,,$Z$1)),3, IF(INDIRECT(ADDRESS(L5,O5+4,,,$Z$1))<INDIRECT(ADDRESS(L5,IF(O5=2,3,2)+4,,,$Z$1)),1, IF(INDIRECT(ADDRESS(L5,O5+4,,,$Z$1))>INDIRECT(ADDRESS(L5,IF(O5=2,3,2)+4,,,$Z$1)),2,0)))) -> 1 | E5: =IF(INDIRECT(ADDRESS(M5,P5+2,,,$Z$1))<INDIRECT(ADDRESS(M5,IF(P5=2,3,2)+2,,,$Z$1)),0, IF(INDIRECT(ADDRESS(M5,P5+2,,,$Z$1))>INDIRECT(ADDRESS(M5,IF(P5=2,3,2)+2,,,$Z$1)),3, IF(INDIRECT(ADDRESS(M5,P5+4,,,$Z$1))<INDIRECT(ADDRESS(M5,IF(P5=2,3,2)+4,,,$Z$1)),1, IF(INDIRECT(ADDRESS(M5,P5+4,,,$Z$1))>INDIRECT(ADDRESS(M5,IF(P5=2,3,2)+4,,,$Z$1)),2,0)))) -> 2 | F5: =IF(INDIRECT(ADDRESS(N5,Q5+2,,,$Z$1))<INDIRECT(ADDRESS(N5,IF(Q5=2,3,2)+2,,,$Z$1)),0, IF(INDIRECT(ADDRESS(N5,Q5+2,,,$Z$1))>INDIRECT(ADDRESS(N5,IF(Q5=2,3,2)+2,,,$Z$1)),3, IF(INDIRECT(ADDRESS(N5,Q5+4,,,$Z$1))<INDIRECT(ADDRESS(N5,IF(Q5=2,3,2)+4,,,$Z$1)),1, IF(INDIRECT(ADDRESS(N5,Q5+4,,,$Z$1))>INDIRECT(ADDRESS(N5,IF(Q5=2,3,2)+4,,,$Z$1)),2,0)))) -> 0 | G5: =SUMPRODUCT((Matchs!B$8:C$19=C5)*(Matchs!D$8:E$19)) -> 5 | H5: =SUMPRODUCT((Matchs!B$8:B$19=C5)*(Matchs!E$8:E$19))+SUMPRODUCT((Matchs!C$8:C$19=C5)*(Matchs!D$8:D$19)) -> 10 | I5: =G5-H5 -> -5 | J5: =SUMPRODUCT((Matchs!B$8:C$19=C5)*(Matchs!H$8:I$19)) -> 11 | K5: =SUM(D5:F5) -> 3 | L5: {=SMALL(IF((Matchs!$B$8:$B$19=$C5)+(Matchs!$C$8:$C$19=$C5),ROW(Matchs!$B$8:$B$19),""),D$2)} -> 10 | M5: {=SMALL(IF((Matchs!$B$8:$B$19=$C5)+(Matchs!$C$8:$C$19=$C5),ROW(Matchs!$B$8:$B$19),""),E$2)} -> 12 | N5: {=SMALL(IF((Matchs!$B$8:$B$19=$C5)+(Matchs!$C$8:$C$19=$C5),ROW(Matchs!$B$8:$B$19),""),F$2)} -> 19 | O5: =IF(INDIRECT(ADDRESS(L5,COLUMN(Matchs!$B$8),,,$Z$1))=$C5,COLUMN(Matchs!$B$8),COLUMN(Matchs!$B$8)+1) -> 2 | P5: =IF(INDIRECT(ADDRESS(M5,COLUMN(Matchs!$B$8),,,$Z$1))=$C5,COLUMN(Matchs!$B$8),COLUMN(Matchs!$B$8)+1) -> 3 | Q5: =IF(INDIRECT(ADDRESS(N5,COLUMN(Matchs!$B$8),,,$Z$1))=$C5,COLUMN(Matchs!$B$8),COLUMN(Matchs!$B$8)+1) -> 3 | R5: {=LARGE(IF((((Matchs!$B$8:$B$19=$C5)+(Matchs!$C$8:$C$19=$C5))*((Matchs!$B$8:$B$19=INDEX($C$3:$C$6,MATCH(B5,IF($C$3:$C$6<>C5,$B$3:$B$6,""),0),1))+(Matchs!$C$8:$C$19=INDEX($C$3:$C$6,MATCH(B5,IF($C$3:$C$6<>C5,$B$3:$B$6,""),0),1)))),ROW(Matchs!$B$8:$B$19),""),1)} -> 19 | S5: =IF(INDIRECT(ADDRESS(R5,COLUMN(Matchs!$B$8),,,$Z$1))=$C5,COLUMN(Matchs!$B$8),COLUMN(Matchs!$B$8)+1) -> 3
A6: =IF(COUNTIF($B$3:$B$6,B6)>1,IF(INDIRECT(ADDRESS(R6,S6+2,,,$Z$1))>INDIRECT(ADDRESS(R6,IF(S6=2,3,2)+2,,,$Z$1)),B6,IF(INDIRECT(ADDRESS(R6,S6+2,,,$Z$1))<INDIRECT(ADDRESS(R6,IF(S6=2,3,2)+2,,,$Z$1)),B6+1,IF(COUNTIFS($B$3:$B$6,B6,$I$3:$I$6,I6)>1,IF(COUNTIFS($B$3:$B$6,B6,$G$3:$G$6,G6)>1,IF(COUNTIFS($B$3:$B$6,B6,$H$3:$H$6,H6)>1,IF(COUNTIFS($B$3:$B$6,B6,$J$3:$J$6,J6)>1,"FAIT CHIER",IF(J6=MAX(IF($B$3:$B$6=B6,$J$3:$J$6,"")),B6,B6+1)),IF(H6=MAX(IF($B$3:$B$6=B6,$H$3:$H$6,"")),B6,B6+1)),IF(G6=MAX(IF($B$3:$B$6=B6,$G$3:$G$6,"")),B6,B6+1)),IF(I6=MAX(IF($B$3:$B$6=B6,$I$3:$I$6,"")),B6,B6+1)))),B6) -> 1 | B6: =RANK(K6,$K$3:$K$6,0) -> 1 | C6: =Matchs!A5 -> US Hésingue | D6: =IF(INDIRECT(ADDRESS(L6,O6+2,,,$Z$1))<INDIRECT(ADDRESS(L6,IF(O6=2,3,2)+2,,,$Z$1)),0, IF(INDIRECT(ADDRESS(L6,O6+2,,,$Z$1))>INDIRECT(ADDRESS(L6,IF(O6=2,3,2)+2,,,$Z$1)),3, IF(INDIRECT(ADDRESS(L6,O6+4,,,$Z$1))<INDIRECT(ADDRESS(L6,IF(O6=2,3,2)+4,,,$Z$1)),1, IF(INDIRECT(ADDRESS(L6,O6+4,,,$Z$1))>INDIRECT(ADDRESS(L6,IF(O6=2,3,2)+4,,,$Z$1)),2,0)))) -> 2 | E6: =IF(INDIRECT(ADDRESS(M6,P6+2,,,$Z$1))<INDIRECT(ADDRESS(M6,IF(P6=2,3,2)+2,,,$Z$1)),0, IF(INDIRECT(ADDRESS(M6,P6+2,,,$Z$1))>INDIRECT(ADDRESS(M6,IF(P6=2,3,2)+2,,,$Z$1)),3, IF(INDIRECT(ADDRESS(M6,P6+4,,,$Z$1))<INDIRECT(ADDRESS(M6,IF(P6=2,3,2)+4,,,$Z$1)),1, IF(INDIRECT(ADDRESS(M6,P6+4,,,$Z$1))>INDIRECT(ADDRESS(M6,IF(P6=2,3,2)+4,,,$Z$1)),2,0)))) -> 3 | F6: =IF(INDIRECT(ADDRESS(N6,Q6+2,,,$Z$1))<INDIRECT(ADDRESS(N6,IF(Q6=2,3,2)+2,,,$Z$1)),0, IF(INDIRECT(ADDRESS(N6,Q6+2,,,$Z$1))>INDIRECT(ADDRESS(N6,IF(Q6=2,3,2)+2,,,$Z$1)),3, IF(INDIRECT(ADDRESS(N6,Q6+4,,,$Z$1))<INDIRECT(ADDRESS(N6,IF(Q6=2,3,2)+4,,,$Z$1)),1, IF(INDIRECT(ADDRESS(N6,Q6+4,,,$Z$1))>INDIRECT(ADDRESS(N6,IF(Q6=2,3,2)+4,,,$Z$1)),2,0)))) -> 2 | G6: =SUMPRODUCT((Matchs!B$8:C$19=C6)*(Matchs!D$8:E$19)) -> 9 | H6: =SUMPRODUCT((Matchs!B$8:B$19=C6)*(Matchs!E$8:E$19))+SUMPRODUCT((Matchs!C$8:C$19=C6)*(Matchs!D$8:D$19)) -> 6 | I6: =G6-H6 -> 3 | J6: =SUMPRODUCT((Matchs!B$8:C$19=C6)*(Matchs!H$8:I$19)) -> 6 | K6: =SUM(D6:F6) -> 7 | L6: {=SMALL(IF((Matchs!$B$8:$B$19=$C6)+(Matchs!$C$8:$C$19=$C6),ROW(Matchs!$B$8:$B$19),""),D$2)} -> 10 | M6: {=SMALL(IF((Matchs!$B$8:$B$19=$C6)+(Matchs!$C$8:$C$19=$C6),ROW(Matchs!$B$8:$B$19),""),E$2)} -> 14 | N6: {=SMALL(IF((Matchs!$B$8:$B$19=$C6)+(Matchs!$C$8:$C$19=$C6),ROW(Matchs!$B$8:$B$19),""),F$2)} -> 18 | O6: =IF(INDIRECT(ADDRESS(L6,COLUMN(Matchs!$B$8),,,$Z$1))=$C6,COLUMN(Matchs!$B$8),COLUMN(Matchs!$B$8)+1) -> 3 | P6: =IF(INDIRECT(ADDRESS(M6,COLUMN(Matchs!$B$8),,,$Z$1))=$C6,COLUMN(Matchs!$B$8),COLUMN(Matchs!$B$8)+1) -> 3 | Q6: =IF(INDIRECT(ADDRESS(N6,COLUMN(Matchs!$B$8),,,$Z$1))=$C6,COLUMN(Matchs!$B$8),COLUMN(Matchs!$B$8)+1) -> 3 | R6: {=LARGE(IF((((Matchs!$B$8:$B$19=$C6)+(Matchs!$C$8:$C$19=$C6))*((Matchs!$B$8:$B$19=INDEX($C$3:$C$6,MATCH(B6,IF($C$3:$C$6<>C6,$B$3:$B$6,""),0),1))+(Matchs!$C$8:$C$19=INDEX($C$3:$C$6,MATCH(B6,IF($C$3:$C$6<>C6,$B$3:$B$6,""),0),1)))),ROW(Matchs!$B$8:$B$19),""),1)} -> #N/A | S6: =IF(INDIRECT(ADDRESS(R6,COLUMN(Matchs!$B$8),,,$Z$1))=$C6,COLUMN(Matchs!$B$8),COLUMN(Matchs!$B$8)+1) -> #N/A
A8: Groupe Blanc | L8: Lignes | O8: Colonnes
A9: Classement bis | B9: Classement | C9: Club | D9: 1 | E9: 2 | F9: 3 | G9: Buts + | H9: Buts - | I9: Diff. | J9: Fair Play | K9: Points | L9: 1 | M9: 2 | N9: 3 | O9: 1 | P9: 2 | Q9: 3 | R9: Ligne égalité | S9: Colonne dernière rencontre
A10: =IF(COUNTIF($B$10:$B$13,B10)>1,IF(INDIRECT(ADDRESS(R10,S10+2,,,$Z$1))>INDIRECT(ADDRESS(R10,IF(S10=2,3,2)+2,,,$Z$1)),B10,IF(INDIRECT(ADDRESS(R10,S10+2,,,$Z$1))<INDIRECT(ADDRESS(R10,IF(S10=2,3,2)+2,,,$Z$1)),B10+1,IF(COUNTIFS($B$10:$B$13,B10,$I$10:$I$13,I10)>1,IF(COUNTIFS($B$10:$B$13,B10,$G$10:$G$13,G10)>1,IF(COUNTIFS($B$10:$B$13,B10,$H$10:$H$13,H10)>1,IF(COUNTIFS($B$10:$B$13,B10,$J$10:$J$13,J10)>1,"FAIT CHIER",IF(J10=MAX(IF($B$10:$B$13=B10,$J$10:$J$13,"")),B10,B10+1)),IF(H10=MAX(IF($B$10:$B$13=B10,$H$10:$H$13,"")),B10,B10+1)),IF(G10=MAX(IF($B$10:$B$13=B10,$G$10:$G$13,"")),B10,B10+1)),IF(I10=MAX(IF($B$10:$B$13=B10,$I$10:$I$13,"")),B10,B10+1)))),B10) -> 4 | B10: =RANK(K10,$K$10:$K$13,0) -> 4 | C10: =Matchs!D2 -> All. Folg/Muespach | D10: =IF(INDIRECT(ADDRESS(L10,O10+2,,,$Z$1))<INDIRECT(ADDRESS(L10,IF(O10=2,3,2)+2,,,$Z$1)),0, IF(INDIRECT(ADDRESS(L10,O10+2,,,$Z$1))>INDIRECT(ADDRESS(L10,IF(O10=2,3,2)+2,,,$Z$1)),3, IF(INDIRECT(ADDRESS(L10,O10+4,,,$Z$1))<INDIRECT(ADDRESS(L10,IF(O10=2,3,2)+4,,,$Z$1)),1, IF(INDIRECT(ADDRESS(L10,O10+4,,,$Z$1))>INDIRECT(ADDRESS(L10,IF(O10=2,3,2)+4,,,$Z$1)),2,0)))) -> 0 | E10: =IF(INDIRECT(ADDRESS(M10,P10+2,,,$Z$1))<INDIRECT(ADDRESS(M10,IF(P10=2,3,2)+2,,,$Z$1)),0, IF(INDIRECT(ADDRESS(M10,P10+2,,,$Z$1))>INDIRECT(ADDRESS(M10,IF(P10=2,3,2)+2,,,$Z$1)),3, IF(INDIRECT(ADDRESS(M10,P10+4,,,$Z$1))<INDIRECT(ADDRESS(M10,IF(P10=2,3,2)+4,,,$Z$1)),1, IF(INDIRECT(ADDRESS(M10,P10+4,,,$Z$1))>INDIRECT(ADDRESS(M10,IF(P10=2,3,2)+4,,,$Z$1)),2,0)))) -> 0 | F10: =IF(INDIRECT(ADDRESS(N10,Q10+2,,,$Z$1))<INDIRECT(ADDRESS(N10,IF(Q10=2,3,2)+2,,,$Z$1)),0, IF(INDIRECT(ADDRESS(N10,Q10+2,,,$Z$1))>INDIRECT(ADDRESS(N10,IF(Q10=2,3,2)+2,,,$Z$1)),3, IF(INDIRECT(ADDRESS(N10,Q10+4,,,$Z$1))<INDIRECT(ADDRESS(N10,IF(Q10=2,3,2)+4,,,$Z$1)),1, IF(INDIRECT(ADDRESS(N10,Q10+4,,,$Z$1))>INDIRECT(ADDRESS(N10,IF(Q10=2,3,2)+4,,,$Z$1)),2,0)))) -> 0 | G10: =SUMPRODUCT((Matchs!B$8:C$19=C10)*(Matchs!D$8:E$19)) -> 1 | H10: =SUMPRODUCT((Matchs!B$8:B$19=C10)*(Matchs!E$8:E$19))+SUMPRODUCT((Matchs!C$8:C$19=C10)*(Matchs!D$8:D$19)) -> 12 | I10: =G10-H10 -> -11 | J10: =SUMPRODUCT((Matchs!B$8:C$19=C10)*(Matchs!H$8:I$19)) -> 15 | K10: =SUM(D10:F10) -> 0 | L10: {=SMALL(IF((Matchs!$B$8:$B$19=$C10)+(Matchs!$C$8:$C$19=$C10),ROW(Matchs!$B$8:$B$19),""),D$9)} -> 9 | M10: {=SMALL(IF((Matchs!$B$8:$B$19=$C10)+(Matchs!$C$8:$C$19=$C10),ROW(Matchs!$B$8:$B$19),""),E$9)} -> 13 | N10: {=SMALL(IF((Matchs!$B$8:$B$19=$C10)+(Matchs!$C$8:$C$19=$C10),ROW(Matchs!$B$8:$B$19),""),F$9)} -> 17 | O10: =IF(INDIRECT(ADDRESS(L10,COLUMN(Matchs!$B$8),,,$Z$1))=$C10,COLUMN(Matchs!$B$8),COLUMN(Matchs!$B$8)+1) -> 2 | P10: =IF(INDIRECT(ADDRESS(M10,COLUMN(Matchs!$B$8),,,$Z$1))=$C10,COLUMN(Matchs!$B$8),COLUMN(Matchs!$B$8)+1) -> 2 | Q10: =IF(INDIRECT(ADDRESS(N10,COLUMN(Matchs!$B$8),,,$Z$1))=$C10,COLUMN(Matchs!$B$8),COLUMN(Matchs!$B$8)+1) -> 2 | R10: {=LARGE(IF((((Matchs!$B$8:$B$19=$C10)+(Matchs!$C$8:$C$19=$C10))*((Matchs!$B$8:$B$19=INDEX($C$10:$C$13,MATCH(B10,IF($C$10:$C$13<>C10,$B$10:$B$13,""),0),1))+(Matchs!$C$8:$C$19=INDEX($C$10:$C$13,MATCH(B10,IF($C$10:$C$13<>C10,$B$10:$B$13,""),0),1)))),ROW(Matchs!$B$8:$B$19),""),1)} -> #N/A | S10: =IF(INDIRECT(ADDRESS(R10,COLUMN(Matchs!$B$8),,,$Z$1))=$C10,COLUMN(Matchs!$B$8),COLUMN(Matchs!$B$8)+1) -> #N/A
A11: =IF(COUNTIF($B$10:$B$13,B11)>1,IF(INDIRECT(ADDRESS(R11,S11+2,,,$Z$1))>INDIRECT(ADDRESS(R11,IF(S11=2,3,2)+2,,,$Z$1)),B11,IF(INDIRECT(ADDRESS(R11,S11+2,,,$Z$1))<INDIRECT(ADDRESS(R11,IF(S11=2,3,2)+2,,,$Z$1)),B11+1,IF(COUNTIFS($B$10:$B$13,B11,$I$10:$I$13,I11)>1,IF(COUNTIFS($B$10:$B$13,B11,$G$10:$G$13,G11)>1,IF(COUNTIFS($B$10:$B$13,B11,$H$10:$H$13,H11)>1,IF(COUNTIFS($B$10:$B$13,B11,$J$10:$J$13,J11)>1,"FAIT CHIER",IF(J11=MAX(IF($B$10:$B$13=B11,$J$10:$J$13,"")),B11,B11+1)),IF(H11=MAX(IF($B$10:$B$13=B11,$H$10:$H$13,"")),B11,B11+1)),IF(G11=MAX(IF($B$10:$B$13=B11,$G$10:$G$13,"")),B11,B11+1)),IF(I11=MAX(IF($B$10:$B$13=B11,$I$10:$I$13,"")),B11,B11+1)))),B11) -> 2 | B11: =RANK(K11,$K$10:$K$13,0) -> 2 | C11: =Matchs!D3 -> FC Kembs Réunis II | D11: =IF(INDIRECT(ADDRESS(L11,O11+2,,,$Z$1))<INDIRECT(ADDRESS(L11,IF(O11=2,3,2)+2,,,$Z$1)),0, IF(INDIRECT(ADDRESS(L11,O11+2,,,$Z$1))>INDIRECT(ADDRESS(L11,IF(O11=2,3,2)+2,,,$Z$1)),3, IF(INDIRECT(ADDRESS(L11,O11+4,,,$Z$1))<INDIRECT(ADDRESS(L11,IF(O11=2,3,2)+4,,,$Z$1)),1, IF(INDIRECT(ADDRESS(L11,O11+4,,,$Z$1))>INDIRECT(ADDRESS(L11,IF(O11=2,3,2)+4,,,$Z$1)),2,0)))) -> 3 | E11: =IF(INDIRECT(ADDRESS(M11,P11+2,,,$Z$1))<INDIRECT(ADDRESS(M11,IF(P11=2,3,2)+2,,,$Z$1)),0, IF(INDIRECT(ADDRESS(M11,P11+2,,,$Z$1))>INDIRECT(ADDRESS(M11,IF(P11=2,3,2)+2,,,$Z$1)),3, IF(INDIRECT(ADDRESS(M11,P11+4,,,$Z$1))<INDIRECT(ADDRESS(M11,IF(P11=2,3,2)+4,,,$Z$1)),1, IF(INDIRECT(ADDRESS(M11,P11+4,,,$Z$1))>INDIRECT(ADDRESS(M11,IF(P11=2,3,2)+4,,,$Z$1)),2,0)))) -> 0 | F11: =IF(INDIRECT(ADDRESS(N11,Q11+2,,,$Z$1))<INDIRECT(ADDRESS(N11,IF(Q11=2,3,2)+2,,,$Z$1)),0, IF(INDIRECT(ADDRESS(N11,Q11+2,,,$Z$1))>INDIRECT(ADDRESS(N11,IF(Q11=2,3,2)+2,,,$Z$1)),3, IF(INDIRECT(ADDRESS(N11,Q11+4,,,$Z$1))<INDIRECT(ADDRESS(N11,IF(Q11=2,3,2)+4,,,$Z$1)),1, IF(INDIRECT(ADDRESS(N11,Q11+4,,,$Z$1))>INDIRECT(ADDRESS(N11,IF(Q11=2,3,2)+4,,,$Z$1)),2,0)))) -> 2 | G11: =SUMPRODUCT((Matchs!B$8:C$19=C11)*(Matchs!D$8:E$19)) -> 6 | H11: =SUMPRODUCT((Matchs!B$8:B$19=C11)*(Matchs!E$8:E$19))+SUMPRODUCT((Matchs!C$8:C$19=C11)*(Matchs!D$8:D$19)) -> 7 | I11: =G11-H11 -> -1 | J11: =SUMPRODUCT((Matchs!B$8:C$19=C11)*(Matchs!H$8:I$19)) -> 9 | K11: =SUM(D11:F11) -> 5 | L11: {=SMALL(IF((Matchs!$B$8:$B$19=$C11)+(Matchs!$C$8:$C$19=$C11),ROW(Matchs!$B$8:$B$19),""),D$9)} -> 9 | M11: {=SMALL(IF((Matchs!$B$8:$B$19=$C11)+(Matchs!$C$8:$C$19=$C11),ROW(Matchs!$B$8:$B$19),""),E$9)} -> 15 | N11: {=SMALL(IF((Matchs!$B$8:$B$19=$C11)+(Matchs!$C$8:$C$19=$C11),ROW(Matchs!$B$8:$B$19),""),F$9)} -> 16 | O11: =IF(INDIRECT(ADDRESS(L11,COLUMN(Matchs!$B$8),,,$Z$1))=$C11,COLUMN(Matchs!$B$8),COLUMN(Matchs!$B$8)+1) -> 3 | P11: =IF(INDIRECT(ADDRESS(M11,COLUMN(Matchs!$B$8),,,$Z$1))=$C11,COLUMN(Matchs!$B$8),COLUMN(Matchs!$B$8)+1) -> 2 | Q11: =IF(INDIRECT(ADDRESS(N11,COLUMN(Matchs!$B$8),,,$Z$1))=$C11,COLUMN(Matchs!$B$8),COLUMN(Matchs!$B$8)+1) -> 2 | R11: {=LARGE(IF((((Matchs!$B$8:$B$19=$C11)+(Matchs!$C$8:$C$19=$C11))*((Matchs!$B$8:$B$19=INDEX($C$10:$C$13,MATCH(B11,IF($C$10:$C$13<>C11,$B$10:$B$13,""),0),1))+(Matchs!$C$8:$C$19=INDEX($C$10:$C$13,MATCH(B11,IF($C$10:$C$13<>C11,$B$10:$B$13,""),0),1)))),ROW(Matchs!$B$8:$B$19),""),1)} -> #N/A | S11: =IF(INDIRECT(ADDRESS(R11,COLUMN(Matchs!$B$8),,,$Z$1))=$C11,COLUMN(Matchs!$B$8),COLUMN(Matchs!$B$8)+1) -> #N/A
A12: =IF(COUNTIF($B$10:$B$13,B12)>1,IF(INDIRECT(ADDRESS(R12,S12+2,,,$Z$1))>INDIRECT(ADDRESS(R12,IF(S12=2,3,2)+2,,,$Z$1)),B12,IF(INDIRECT(ADDRESS(R12,S12+2,,,$Z$1))<INDIRECT(ADDRESS(R12,IF(S12=2,3,2)+2,,,$Z$1)),B12+1,IF(COUNTIFS($B$10:$B$13,B12,$I$10:$I$13,I12)>1,IF(COUNTIFS($B$10:$B$13,B12,$G$10:$G$13,G12)>1,IF(COUNTIFS($B$10:$B$13,B12,$H$10:$H$13,H12)>1,IF(COUNTIFS($B$10:$B$13,B12,$J$10:$J$13,J12)>1,"FAIT CHIER",IF(J12=MAX(IF($B$10:$B$13=B12,$J$10:$J$13,"")),B12,B12+1)),IF(H12=MAX(IF($B$10:$B$13=B12,$H$10:$H$13,"")),B12,B12+1)),IF(G12=MAX(IF($B$10:$B$13=B12,$G$10:$G$13,"")),B12,B12+1)),IF(I12=MAX(IF($B$10:$B$13=B12,$I$10:$I$13,"")),B12,B12+1)))),B12) -> 3 | B12: =RANK(K12,$K$10:$K$13,0) -> 3 | C12: =Matchs!D4 -> FC Village-Neuf | D12: =IF(INDIRECT(ADDRESS(L12,O12+2,,,$Z$1))<INDIRECT(ADDRESS(L12,IF(O12=2,3,2)+2,,,$Z$1)),0, IF(INDIRECT(ADDRESS(L12,O12+2,,,$Z$1))>INDIRECT(ADDRESS(L12,IF(O12=2,3,2)+2,,,$Z$1)),3, IF(INDIRECT(ADDRESS(L12,O12+4,,,$Z$1))<INDIRECT(ADDRESS(L12,IF(O12=2,3,2)+4,,,$Z$1)),1, IF(INDIRECT(ADDRESS(L12,O12+4,,,$Z$1))>INDIRECT(ADDRESS(L12,IF(O12=2,3,2)+4,,,$Z$1)),2,0)))) -> 0 | E12: =IF(INDIRECT(ADDRESS(M12,P12+2,,,$Z$1))<INDIRECT(ADDRESS(M12,IF(P12=2,3,2)+2,,,$Z$1)),0, IF(INDIRECT(ADDRESS(M12,P12+2,,,$Z$1))>INDIRECT(ADDRESS(M12,IF(P12=2,3,2)+2,,,$Z$1)),3, IF(INDIRECT(ADDRESS(M12,P12+4,,,$Z$1))<INDIRECT(ADDRESS(M12,IF(P12=2,3,2)+4,,,$Z$1)),1, IF(INDIRECT(ADDRESS(M12,P12+4,,,$Z$1))>INDIRECT(ADDRESS(M12,IF(P12=2,3,2)+4,,,$Z$1)),2,0)))) -> 3 | F12: =IF(INDIRECT(ADDRESS(N12,Q12+2,,,$Z$1))<INDIRECT(ADDRESS(N12,IF(Q12=2,3,2)+2,,,$Z$1)),0, IF(INDIRECT(ADDRESS(N12,Q12+2,,,$Z$1))>INDIRECT(ADDRESS(N12,IF(Q12=2,3,2)+2,,,$Z$1)),3, IF(INDIRECT(ADDRESS(N12,Q12+4,,,$Z$1))<INDIRECT(ADDRESS(N12,IF(Q12=2,3,2)+4,,,$Z$1)),1, IF(INDIRECT(ADDRESS(N12,Q12+4,,,$Z$1))>INDIRECT(ADDRESS(N12,IF(Q12=2,3,2)+4,,,$Z$1)),2,0)))) -> 1 | G12: =SUMPRODUCT((Matchs!B$8:C$19=C12)*(Matchs!D$8:E$19)) -> 7 | H12: =SUMPRODUCT((Matchs!B$8:B$19=C12)*(Matchs!E$8:E$19))+SUMPRODUCT((Matchs!C$8:C$19=C12)*(Matchs!D$8:D$19)) -> 7 | I12: =G12-H12 -> 0 | J12: =SUMPRODUCT((Matchs!B$8:C$19=C12)*(Matchs!H$8:I$19)) -> 6 | K12: =SUM(D12:F12) -> 4 | L12: {=SMALL(IF((Matchs!$B$8:$B$19=$C12)+(Matchs!$C$8:$C$19=$C12),ROW(Matchs!$B$8:$B$19),""),D$9)} -> 11 | M12: {=SMALL(IF((Matchs!$B$8:$B$19=$C12)+(Matchs!$C$8:$C$19=$C12),ROW(Matchs!$B$8:$B$19),""),E$9)} -> 13 | N12: {=SMALL(IF((Matchs!$B$8:$B$19=$C12)+(Matchs!$C$8:$C$19=$C12),ROW(Matchs!$B$8:$B$19),""),F$9)} -> 16 | O12: =IF(INDIRECT(ADDRESS(L12,COLUMN(Matchs!$B$8),,,$Z$1))=$C12,COLUMN(Matchs!$B$8),COLUMN(Matchs!$B$8)+1) -> 2 | P12: =IF(INDIRECT(ADDRESS(M12,COLUMN(Matchs!$B$8),,,$Z$1))=$C12,COLUMN(Matchs!$B$8),COLUMN(Matchs!$B$8)+1) -> 3 | Q12: =IF(INDIRECT(ADDRESS(N12,COLUMN(Matchs!$B$8),,,$Z$1))=$C12,COLUMN(Matchs!$B$8),COLUMN(Matchs!$B$8)+1) -> 3 | R12: {=LARGE(IF((((Matchs!$B$8:$B$19=$C12)+(Matchs!$C$8:$C$19=$C12))*((Matchs!$B$8:$B$19=INDEX($C$10:$C$13,MATCH(B12,IF($C$10:$C$13<>C12,$B$10:$B$13,""),0),1))+(Matchs!$C$8:$C$19=INDEX($C$10:$C$13,MATCH(B12,IF($C$10:$C$13<>C12,$B$10:$B$13,""),0),1)))),ROW(Matchs!$B$8:$B$19),""),1)} -> #N/A | S12: =IF(INDIRECT(ADDRESS(R12,COLUMN(Matchs!$B$8),,,$Z$1))=$C12,COLUMN(Matchs!$B$8),COLUMN(Matchs!$B$8)+1) -> #N/A
A13: =IF(COUNTIF($B$10:$B$13,B13)>1,IF(INDIRECT(ADDRESS(R13,S13+2,,,$Z$1))>INDIRECT(ADDRESS(R13,IF(S13=2,3,2)+2,,,$Z$1)),B13,IF(INDIRECT(ADDRESS(R13,S13+2,,,$Z$1))<INDIRECT(ADDRESS(R13,IF(S13=2,3,2)+2,,,$Z$1)),B13+1,IF(COUNTIFS($B$10:$B$13,B13,$I$10:$I$13,I13)>1,IF(COUNTIFS($B$10:$B$13,B13,$G$10:$G$13,G13)>1,IF(COUNTIFS($B$10:$B$13,B13,$H$10:$H$13,H13)>1,IF(COUNTIFS($B$10:$B$13,B13,$J$10:$J$13,J13)>1,"FAIT CHIER",IF(J13=MAX(IF($B$10:$B$13=B13,$J$10:$J$13,"")),B13,B13+1)),IF(H13=MAX(IF($B$10:$B$13=B13,$H$10:$H$13,"")),B13,B13+1)),IF(G13=MAX(IF($B$10:$B$13=B13,$G$10:$G$13,"")),B13,B13+1)),IF(I13=MAX(IF($B$10:$B$13=B13,$I$10:$I$13,"")),B13,B13+1)))),B13) -> 1 | B13: =RANK(K13,$K$10:$K$13,0) -> 1 | C13: =Matchs!D5 -> FC Hirtzbach | D13: =IF(INDIRECT(ADDRESS(L13,O13+2,,,$Z$1))<INDIRECT(ADDRESS(L13,IF(O13=2,3,2)+2,,,$Z$1)),0, IF(INDIRECT(ADDRESS(L13,O13+2,,,$Z$1))>INDIRECT(ADDRESS(L13,IF(O13=2,3,2)+2,,,$Z$1)),3, IF(INDIRECT(ADDRESS(L13,O13+4,,,$Z$1))<INDIRECT(ADDRESS(L13,IF(O13=2,3,2)+4,,,$Z$1)),1, IF(INDIRECT(ADDRESS(L13,O13+4,,,$Z$1))>INDIRECT(ADDRESS(L13,IF(O13=2,3,2)+4,,,$Z$1)),2,0)))) -> 3 | E13: =IF(INDIRECT(ADDRESS(M13,P13+2,,,$Z$1))<INDIRECT(ADDRESS(M13,IF(P13=2,3,2)+2,,,$Z$1)),0, IF(INDIRECT(ADDRESS(M13,P13+2,,,$Z$1))>INDIRECT(ADDRESS(M13,IF(P13=2,3,2)+2,,,$Z$1)),3, IF(INDIRECT(ADDRESS(M13,P13+4,,,$Z$1))<INDIRECT(ADDRESS(M13,IF(P13=2,3,2)+4,,,$Z$1)),1, IF(INDIRECT(ADDRESS(M13,P13+4,,,$Z$1))>INDIRECT(ADDRESS(M13,IF(P13=2,3,2)+4,,,$Z$1)),2,0)))) -> 3 | F13: =IF(INDIRECT(ADDRESS(N13,Q13+2,,,$Z$1))<INDIRECT(ADDRESS(N13,IF(Q13=2,3,2)+2,,,$Z$1)),0, IF(INDIRECT(ADDRESS(N13,Q13+2,,,$Z$1))>INDIRECT(ADDRESS(N13,IF(Q13=2,3,2)+2,,,$Z$1)),3, IF(INDIRECT(ADDRESS(N13,Q13+4,,,$Z$1))<INDIRECT(ADDRESS(N13,IF(Q13=2,3,2)+4,,,$Z$1)),1, IF(INDIRECT(ADDRESS(N13,Q13+4,,,$Z$1))>INDIRECT(ADDRESS(N13,IF(Q13=2,3,2)+4,,,$Z$1)),2,0)))) -> 3 | G13: =SUMPRODUCT((Matchs!B$8:C$19=C13)*(Matchs!D$8:E$19)) -> 14 | H13: =SUMPRODUCT((Matchs!B$8:B$19=C13)*(Matchs!E$8:E$19))+SUMPRODUCT((Matchs!C$8:C$19=C13)*(Matchs!D$8:D$19)) -> 2 | I13: =G13-H13 -> 12 | J13: =SUMPRODUCT((Matchs!B$8:C$19=C13)*(Matchs!H$8:I$19)) -> 7 | K13: =SUM(D13:F13) -> 9 | L13: {=SMALL(IF((Matchs!$B$8:$B$19=$C13)+(Matchs!$C$8:$C$19=$C13),ROW(Matchs!$B$8:$B$19),""),D$9)} -> 11 | M13: {=SMALL(IF((Matchs!$B$8:$B$19=$C13)+(Matchs!$C$8:$C$19=$C13),ROW(Matchs!$B$8:$B$19),""),E$9)} -> 15 | N13: {=SMALL(IF((Matchs!$B$8:$B$19=$C13)+(Matchs!$C$8:$C$19=$C13),ROW(Matchs!$B$8:$B$19),""),F$9)} -> 17 | O13: =IF(INDIRECT(ADDRESS(L13,COLUMN(Matchs!$B$8),,,$Z$1))=$C13,COLUMN(Matchs!$B$8),COLUMN(Matchs!$B$8)+1) -> 3 | P13: =IF(INDIRECT(ADDRESS(M13,COLUMN(Matchs!$B$8),,,$Z$1))=$C13,COLUMN(Matchs!$B$8),COLUMN(Matchs!$B$8)+1) -> 3 | Q13: =IF(INDIRECT(ADDRESS(N13,COLUMN(Matchs!$B$8),,,$Z$1))=$C13,COLUMN(Matchs!$B$8),COLUMN(Matchs!$B$8)+1) -> 3 | R13: {=LARGE(IF((((Matchs!$B$8:$B$19=$C13)+(Matchs!$C$8:$C$19=$C13))*((Matchs!$B$8:$B$19=INDEX($C$10:$C$13,MATCH(B13,IF($C$10:$C$13<>C13,$B$10:$B$13,""),0),1))+(Matchs!$C$8:$C$19=INDEX($C$10:$C$13,MATCH(B13,IF($C$10:$C$13<>C13,$B$10:$B$13,""),0),1)))),ROW(Matchs!$B$8:$B$19),""),1)} -> #N/A | S13: =IF(INDIRECT(ADDRESS(R13,COLUMN(Matchs!$B$8),,,$Z$1))=$C13,COLUMN(Matchs!$B$8),COLUMN(Matchs!$B$8)+1) -> #N/A
