Workbook

Sheet GANTT
A1: Détails du projet | Q1: 0 | S1: LEGENDE
A2: Projet | Q2: =TODAY() -> 43521 | U2: Objectif validé | AB2: Tâche critique
A3: Chef de projet | Q3: =WEEKNUM(Q4,2) -> 52 | AP3: =AND($C11="Non Critique",VALUE(R$6&IF(VALUE(R$8)<10,"0","")&R$8)>=VALUE($K11&IF($J11<10,"0","")&$J11), VALUE(R$6&IF(VALUE(R$8)<10,"0","")&R$8)<=VALUE($N11&IF($M11<10,"0","")&$M11)) -> FALSE
Q4: =C5+Q1*7 -> 43460 | U4: Objectif planifié | AB4: Tâche non critique
A5: Date de début | C5: 43460 | Q5: =YEAR(Q2) -> 2019
A6: Commentaires | Q6: =_xlfn.ISOWEEKNUM(Q2) -> 9 | R6: =YEAR(Q4) -> 2018 | S6: =IF(S8="1",R6+1,R6) -> 2019 | T6: =IF(T8="1",S6+1,S6) -> 2019 | U6: =IF(U8="1",T6+1,T6) -> 2019 | V6: =IF(V8="1",U6+1,U6) -> 2019 | W6: =IF(W8="1",V6+1,V6) -> 2019 | X6: =IF(X8="1",W6+1,W6) -> 2019 | Y6: =IF(Y8="1",X6+1,X6) -> 2019 | Z6: =IF(Z8="1",Y6+1,Y6) -> 2019 | ... BY6: =IF(BY8="1",BX6+1,BX6) -> 2020
R7: =TEXT((DATE(R6,1,3)-WEEKDAY(DATE(R6,1,3))+7*R8),"mmm") -> déc | S7: =TEXT((DATE(S6,1,3)-WEEKDAY(DATE(S6,1,3))+7*S8),"mmm") -> janv | T7: =TEXT((DATE(T6,1,3)-WEEKDAY(DATE(T6,1,3))+7*T8),"mmm") -> janv | U7: =TEXT((DATE(U6,1,3)-WEEKDAY(DATE(U6,1,3))+7*U8),"mmm") -> janv | V7: =TEXT((DATE(V6,1,3)-WEEKDAY(DATE(V6,1,3))+7*V8),"mmm") -> janv | W7: =TEXT((DATE(W6,1,3)-WEEKDAY(DATE(W6,1,3))+7*W8),"mmm") -> févr | X7: =TEXT((DATE(X6,1,3)-WEEKDAY(DATE(X6,1,3))+7*X8),"mmm") -> févr | Y7: =TEXT((DATE(Y6,1,3)-WEEKDAY(DATE(Y6,1,3))+7*Y8),"mmm") -> févr | ... BY7: =TEXT((DATE(BY6,1,3)-WEEKDAY(DATE(BY6,1,3))+7*BY8),"mmm") -> févr
A8: N° | B8: Tâches | C8: Catégorie | D8: Responsable | E8: Planifié | J8: Réel | O8: Réalisé | P8: Statut | R8: =Q3 -> 52 | S8: =IF(R8=VLOOKUP(R6,[1]Liste!$A$3:$B$13,2,FALSE),"1",R8+1) -> 1 | T8: =IF(S8=VLOOKUP(S6,[1]Liste!$A$3:$B$13,2,FALSE),"1",S8+1) -> 2 | U8: =IF(T8=VLOOKUP(T6,[1]Liste!$A$3:$B$13,2,FALSE),"1",T8+1) -> 3 | V8: =IF(U8=VLOOKUP(U6,[1]Liste!$A$3:$B$13,2,FALSE),"1",U8+1) -> 4 | W8: =IF(V8=VLOOKUP(V6,[1]Liste!$A$3:$B$13,2,FALSE),"1",V8+1) -> 5 | X8: =IF(W8=VLOOKUP(W6,[1]Liste!$A$3:$B$13,2,FALSE),"1",W8+1) -> 6 | Y8: =IF(X8=VLOOKUP(X6,[1]Liste!$A$3:$B$13,2,FALSE),"1",X8+1) -> 7 | Z8: =IF(Y8=VLOOKUP(Y6,[1]Liste!$A$3:$B$13,2,FALSE),"1",Y8+1) -> 8 | ... BY8: =IF(BX8=VLOOKUP(BX6,[1]Liste!$A$3:$B$13,2,FALSE),"1",BX8+1) -> 7 | BZ8: Retard sans impact | CA8: Retard avec impact | CB8: Date de début | CC8: Date de fin | CD8: Durée
E9: Date de début | G9: Durée | H9: Date de fin | J9: Date de début | L9: Durée | M9: Date de fin
E10: S | F10: Année | H10: S | I10: Année | J10: S | K10: Année | M10: S | N10: Année
A11: 1 | B11: Tâche 1 | R11: =IF(AND($C11="Objectif",$O11=100%,AND(R$8>=$J11,R$6>=$K11),AND(R$8<=$M11,R$6<=$N11)),2,IF(AND($C11="Objectif",$O11<100%,AND(R$8>=$J11,R$6>=$K11),AND(R$8<=$M11,R$6<=$N11)),1,"")) | S11: =IF(AND($C11="Objectif",$O11=100%,AND(S$8>=$J11,S$6>=$K11),AND(S$8<=$M11,S$6<=$N11)),2,IF(AND($C11="Objectif",$O11<100%,AND(S$8>=$J11,S$6>=$K11),AND(S$8<=$M11,S$6<=$N11)),1,"")) | T11: =IF(AND($C11="Objectif",$O11=100%,AND(T$8>=$J11,T$6>=$K11),AND(T$8<=$M11,T$6<=$N11)),2,IF(AND($C11="Objectif",$O11<100%,AND(T$8>=$J11,T$6>=$K11),AND(T$8<=$M11,T$6<=$N11)),1,"")) | U11: =IF(AND($C11="Objectif",$O11=100%,AND(U$8>=$J11,U$6>=$K11),AND(U$8<=$M11,U$6<=$N11)),2,IF(AND($C11="Objectif",$O11<100%,AND(U$8>=$J11,U$6>=$K11),AND(U$8<=$M11,U$6<=$N11)),1,"")) | V11: =IF(AND($C11="Objectif",$O11=100%,AND(V$8>=$J11,V$6>=$K11),AND(V$8<=$M11,V$6<=$N11)),2,IF(AND($C11="Objectif",$O11<100%,AND(V$8>=$J11,V$6>=$K11),AND(V$8<=$M11,V$6<=$N11)),1,"")) | W11: =IF(AND($C11="Objectif",$O11=100%,AND(W$8>=$J11,W$6>=$K11),AND(W$8<=$M11,W$6<=$N11)),2,IF(AND($C11="Objectif",$O11<100%,AND(W$8>=$J11,W$6>=$K11),AND(W$8<=$M11,W$6<=$N11)),1,"")) | X11: =IF(AND($C11="Objectif",$O11=100%,AND(X$8>=$J11,X$6>=$K11),AND(X$8<=$M11,X$6<=$N11)),2,IF(AND($C11="Objectif",$O11<100%,AND(X$8>=$J11,X$6>=$K11),AND(X$8<=$M11,X$6<=$N11)),1,"")) | Y11: =IF(AND($C11="Objectif",$O11=100%,AND(Y$8>=$J11,Y$6>=$K11),AND(Y$8<=$M11,Y$6<=$N11)),2,IF(AND($C11="Objectif",$O11<100%,AND(Y$8>=$J11,Y$6>=$K11),AND(Y$8<=$M11,Y$6<=$N11)),1,"")) | ... BY11: =IF(AND($C11="Objectif",$O11=100%,AND(BY$8>=$J11,BY$6>=$K11),AND(BY$8<=$M11,BY$6<=$N11)),2,IF(AND($C11="Objectif",$O11<100%,AND(BY$8>=$J11,BY$6>=$K11),AND(BY$8<=$M11,BY$6<=$N11)),1,""))
A12: 1.1 | B12: Sous-tâche 1 | C12: Objectif | E12: 5 | F12: 2019 | G12: 1 | H12: =IF(E12=VLOOKUP(F12,[1]Liste!$A$3:$B$13,2,FALSE),GANTT!G12,IF((GANTT!E12+GANTT!G12)>VLOOKUP(GANTT!F12,[1]Liste!$A$3:$B$13,2,FALSE),(GANTT!E12+GANTT!G12-VLOOKUP(GANTT!F12,[1]Liste!$A$3:$B$13,2,FALSE)),GANTT!E12+GANTT!G12)) -> 6 | I12: =IF(OR(E12=VLOOKUP(F12,[1]Liste!$A$3:$B$13,2,FALSE),(GANTT!E12+GANTT!G12)>VLOOKUP(F12,[1]Liste!$A$3:$B$13,2,FALSE)),GANTT!F12+1,GANTT!F12) -> 2019 | J12: 6 | K12: =VALUE(F12) -> 2019 | L12: =G12 -> 1 | M12: 8 | N12: =VALUE(I12) -> 2019 | O12: 1 | P12: =IF($O12=100%,"Terminée",IF(AND($M12<$Q$6,$N12<=$Q$5,$O12<100%),"En retard",IF(AND($J12>$Q$6,$K12>=$Q$5),"Non commencée","En cours"))) -> Terminée | R12: =IF(AND($C12="Objectif",$O12=100%,AND(R$8>=$J12,R$6>=$K12),AND(R$8<=$M12,R$6<=$N12)),2,IF(AND($C12="Objectif",$O12<100%,AND(R$8>=$J12,R$6>=$K12),AND(R$8<=$M12,R$6<=$N12)),1,"")) | S12: =IF(AND($C12="Objectif",$O12=100%,AND(S$8>=$J12,S$6>=$K12),AND(S$8<=$M12,S$6<=$N12)),2,IF(AND($C12="Objectif",$O12<100%,AND(S$8>=$J12,S$6>=$K12),AND(S$8<=$M12,S$6<=$N12)),1,"")) | T12: =IF(AND($C12="Objectif",$O12=100%,AND(T$8>=$J12,T$6>=$K12),AND(T$8<=$M12,T$6<=$N12)),2,IF(AND($C12="Objectif",$O12<100%,AND(T$8>=$J12,T$6>=$K12),AND(T$8<=$M12,T$6<=$N12)),1,"")) | U12: =IF(AND($C12="Objectif",$O12=100%,AND(U$8>=$J12,U$6>=$K12),AND(U$8<=$M12,U$6<=$N12)),2,IF(AND($C12="Objectif",$O12<100%,AND(U$8>=$J12,U$6>=$K12),AND(U$8<=$M12,U$6<=$N12)),1,"")) | V12: =IF(AND($C12="Objectif",$O12=100%,AND(V$8>=$J12,V$6>=$K12),AND(V$8<=$M12,V$6<=$N12)),2,IF(AND($C12="Objectif",$O12<100%,AND(V$8>=$J12,V$6>=$K12),AND(V$8<=$M12,V$6<=$N12)),1,"")) | W12: =IF(AND($C12="Objectif",$O12=100%,AND(W$8>=$J12,W$6>=$K12),AND(W$8<=$M12,W$6<=$N12)),2,IF(AND($C12="Objectif",$O12<100%,AND(W$8>=$J12,W$6>=$K12),AND(W$8<=$M12,W$6<=$N12)),1,"")) | X12: =IF(AND($C12="Objectif",$O12=100%,AND(X$8>=$J12,X$6>=$K12),AND(X$8<=$M12,X$6<=$N12)),2,IF(AND($C12="Objectif",$O12<100%,AND(X$8>=$J12,X$6>=$K12),AND(X$8<=$M12,X$6<=$N12)),1,"")) -> 2 | Y12: =IF(AND($C12="Objectif",$O12=100%,AND(Y$8>=$J12,Y$6>=$K12),AND(Y$8<=$M12,Y$6<=$N12)),2,IF(AND($C12="Objectif",$O12<100%,AND(Y$8>=$J12,Y$6>=$K12),AND(Y$8<=$M12,Y$6<=$N12)),1,"")) -> 2 | ... BY12: =IF(AND($C12="Objectif",$O12=100%,AND(BY$8>=$J12,BY$6>=$K12),AND(BY$8<=$M12,BY$6<=$N12)),2,IF(AND($C12="Objectif",$O12<100%,AND(BY$8>=$J12,BY$6>=$K12),AND(BY$8<=$M12,BY$6<=$N12)),1,"")) | BZ12: =IF(OR($E12<$J12,$H12<$M12),"OK","NO") -> OK | CA12: =IF(AND($BZ12="OK",$H12<$M12),"OK",IF($BZ12="NO","","NO")) -> OK | CB12: =DATE($K12,1,3)-WEEKDAY(DATE($K12,1,3),3)+7*($J12-1) -> 43500 | CC12: =DATE($N12,1,3)-WEEKDAY(DATE($N12,1,3),3)+7*($M12-1) -> 43514 | CD12: =CC12-CB12 -> 14
A13: 1.2 | B13: Sous-tâche 2 | C13: Critique | E13: 8 | F13: 2019 | G13: 4 | H13: =IF(E13=VLOOKUP(F13,[1]Liste!$A$3:$B$13,2,FALSE),GANTT!G13,IF((GANTT!E13+GANTT!G13)>VLOOKUP(GANTT!F13,[1]Liste!$A$3:$B$13,2,FALSE),(GANTT!E13+GANTT!G13-VLOOKUP(GANTT!F13,[1]Liste!$A$3:$B$13,2,FALSE)),GANTT!E13+GANTT!G13)) -> 12 | I13: =IF(OR(E13=VLOOKUP(F13,[1]Liste!$A$3:$B$13,2,FALSE),(GANTT!E13+GANTT!G13)>VLOOKUP(F13,[1]Liste!$A$3:$B$13,2,FALSE)),GANTT!F13+1,GANTT!F13) -> 2019 | J13: 9 | K13: =VALUE(F13) -> 2019 | L13: =G13 -> 4 | M13: 11 | N13: =VALUE(I13) -> 2019 | O13: 0.6 | P13: =IF($O13=100%,"Terminée",IF(AND($M13<$Q$6,$N13<=$Q$5,$O13<100%),"En retard",IF(AND($J13>$Q$6,$K13>=$Q$5),"Non commencée","En cours"))) -> En cours | R13: =IF(AND($C13="Objectif",$O13=100%,AND(R$8>=$J13,R$6>=$K13),AND(R$8<=$M13,R$6<=$N13)),2,IF(AND($C13="Objectif",$O13<100%,AND(R$8>=$J13,R$6>=$K13),AND(R$8<=$M13,R$6<=$N13)),1,"")) | S13: =IF(AND($C13="Objectif",$O13=100%,AND(S$8>=$J13,S$6>=$K13),AND(S$8<=$M13,S$6<=$N13)),2,IF(AND($C13="Objectif",$O13<100%,AND(S$8>=$J13,S$6>=$K13),AND(S$8<=$M13,S$6<=$N13)),1,"")) | T13: =IF(AND($C13="Objectif",$O13=100%,AND(T$8>=$J13,T$6>=$K13),AND(T$8<=$M13,T$6<=$N13)),2,IF(AND($C13="Objectif",$O13<100%,AND(T$8>=$J13,T$6>=$K13),AND(T$8<=$M13,T$6<=$N13)),1,"")) | U13: =IF(AND($C13="Objectif",$O13=100%,AND(U$8>=$J13,U$6>=$K13),AND(U$8<=$M13,U$6<=$N13)),2,IF(AND($C13="Objectif",$O13<100%,AND(U$8>=$J13,U$6>=$K13),AND(U$8<=$M13,U$6<=$N13)),1,"")) | V13: =IF(AND($C13="Objectif",$O13=100%,AND(V$8>=$J13,V$6>=$K13),AND(V$8<=$M13,V$6<=$N13)),2,IF(AND($C13="Objectif",$O13<100%,AND(V$8>=$J13,V$6>=$K13),AND(V$8<=$M13,V$6<=$N13)),1,"")) | W13: =IF(AND($C13="Objectif",$O13=100%,AND(W$8>=$J13,W$6>=$K13),AND(W$8<=$M13,W$6<=$N13)),2,IF(AND($C13="Objectif",$O13<100%,AND(W$8>=$J13,W$6>=$K13),AND(W$8<=$M13,W$6<=$N13)),1,"")) | X13: =IF(AND($C13="Objectif",$O13=100%,AND(X$8>=$J13,X$6>=$K13),AND(X$8<=$M13,X$6<=$N13)),2,IF(AND($C13="Objectif",$O13<100%,AND(X$8>=$J13,X$6>=$K13),AND(X$8<=$M13,X$6<=$N13)),1,"")) | Y13: =IF(AND($C13="Objectif",$O13=100%,AND(Y$8>=$J13,Y$6>=$K13),AND(Y$8<=$M13,Y$6<=$N13)),2,IF(AND($C13="Objectif",$O13<100%,AND(Y$8>=$J13,Y$6>=$K13),AND(Y$8<=$M13,Y$6<=$N13)),1,"")) | ... BY13: =IF(AND($C13="Objectif",$O13=100%,AND(BY$8>=$J13,BY$6>=$K13),AND(BY$8<=$M13,BY$6<=$N13)),2,IF(AND($C13="Objectif",$O13<100%,AND(BY$8>=$J13,BY$6>=$K13),AND(BY$8<=$M13,BY$6<=$N13)),1,"")) | BZ13: =IF(OR($E13<$J13,$H13<$M13),"OK","NO") -> OK | CA13: =IF(AND($BZ13="OK",$H13<$M13),"OK",IF($BZ13="NO","","NO")) -> NO | CB13: =DATE($K13,1,3)-WEEKDAY(DATE($K13,1,3),3)+7*($J13-1) -> 43521 | CC13: =DATE($N13,1,3)-WEEKDAY(DATE($N13,1,3),3)+7*($M13-1) -> 43535 | CD13: =CC13-CB13 -> 14
A14: 1.3 | B14: Sous-tâche 3 | C14: Critique | E14: 50 | F14: 2019 | G14: 7 | H14: =IF(E14=VLOOKUP(F14,[1]Liste!$A$3:$B$13,2,FALSE),GANTT!G14,IF((GANTT!E14+GANTT!G14)>VLOOKUP(GANTT!F14,[1]Liste!$A$3:$B$13,2,FALSE),(GANTT!E14+GANTT!G14-VLOOKUP(GANTT!F14,[1]Liste!$A$3:$B$13,2,FALSE)),GANTT!E14+GANTT!G14)) -> 5 | I14: =IF(OR(E14=VLOOKUP(F14,[1]Liste!$A$3:$B$13,2,FALSE),(GANTT!E14+GANTT!G14)>VLOOKUP(F14,[1]Liste!$A$3:$B$13,2,FALSE)),GANTT!F14+1,GANTT!F14) -> 2020 | J14: =VALUE(E14) -> 50 | K14: =VALUE(F14) -> 2019 | L14: =G14 -> 7 | M14: =VALUE(H14) -> 5 | N14: =VALUE(I14) -> 2020 | O14: 0.3 | P14: =IF($O14=100%,"Terminée",IF(AND($M14<$Q$6,$N14<=$Q$5,$O14<100%),"En retard",IF(AND($J14>$Q$6,$K14>=$Q$5),"Non commencée","En cours"))) -> Non commencée | R14: =IF(AND($C14="Objectif",$O14=100%,AND(R$8>=$J14,R$6>=$K14),AND(R$8<=$M14,R$6<=$N14)),2,IF(AND($C14="Objectif",$O14<100%,AND(R$8>=$J14,R$6>=$K14),AND(R$8<=$M14,R$6<=$N14)),1,"")) | S14: =IF(AND($C14="Objectif",$O14=100%,AND(S$8>=$J14,S$6>=$K14),AND(S$8<=$M14,S$6<=$N14)),2,IF(AND($C14="Objectif",$O14<100%,AND(S$8>=$J14,S$6>=$K14),AND(S$8<=$M14,S$6<=$N14)),1,"")) | T14: =IF(AND($C14="Objectif",$O14=100%,AND(T$8>=$J14,T$6>=$K14),AND(T$8<=$M14,T$6<=$N14)),2,IF(AND($C14="Objectif",$O14<100%,AND(T$8>=$J14,T$6>=$K14),AND(T$8<=$M14,T$6<=$N14)),1,"")) | U14: =IF(AND($C14="Objectif",$O14=100%,AND(U$8>=$J14,U$6>=$K14),AND(U$8<=$M14,U$6<=$N14)),2,IF(AND($C14="Objectif",$O14<100%,AND(U$8>=$J14,U$6>=$K14),AND(U$8<=$M14,U$6<=$N14)),1,"")) | V14: =IF(AND($C14="Objectif",$O14=100%,AND(V$8>=$J14,V$6>=$K14),AND(V$8<=$M14,V$6<=$N14)),2,IF(AND($C14="Objectif",$O14<100%,AND(V$8>=$J14,V$6>=$K14),AND(V$8<=$M14,V$6<=$N14)),1,"")) | W14: =IF(AND($C14="Objectif",$O14=100%,AND(W$8>=$J14,W$6>=$K14),AND(W$8<=$M14,W$6<=$N14)),2,IF(AND($C14="Objectif",$O14<100%,AND(W$8>=$J14,W$6>=$K14),AND(W$8<=$M14,W$6<=$N14)),1,"")) | X14: =IF(AND($C14="Objectif",$O14=100%,AND(X$8>=$J14,X$6>=$K14),AND(X$8<=$M14,X$6<=$N14)),2,IF(AND($C14="Objectif",$O14<100%,AND(X$8>=$J14,X$6>=$K14),AND(X$8<=$M14,X$6<=$N14)),1,"")) | Y14: =IF(AND($C14="Objectif",$O14=100%,AND(Y$8>=$J14,Y$6>=$K14),AND(Y$8<=$M14,Y$6<=$N14)),2,IF(AND($C14="Objectif",$O14<100%,AND(Y$8>=$J14,Y$6>=$K14),AND(Y$8<=$M14,Y$6<=$N14)),1,"")) | ... BY14: =IF(AND($C14="Objectif",$O14=100%,AND(BY$8>=$J14,BY$6>=$K14),AND(BY$8<=$M14,BY$6<=$N14)),2,IF(AND($C14="Objectif",$O14<100%,AND(BY$8>=$J14,BY$6>=$K14),AND(BY$8<=$M14,BY$6<=$N14)),1,"")) | BZ14: =IF(OR($E14<$J14,$H14<$M14),"OK","NO") -> NO | CA14: =IF(AND($BZ14="OK",$H14<$M14),"OK",IF($BZ14="NO","","NO")) | CB14: =DATE($K14,1,3)-WEEKDAY(DATE($K14,1,3),3)+7*($J14-1) -> 43808 | CC14: =DATE($N14,1,3)-WEEKDAY(DATE($N14,1,3),3)+7*($M14-1) -> 43857 | CD14: =CC14-CB14 -> 49
A15: 1.4 | B15: Sous-tâche 4 | C15: Non critique | E15: 15 | F15: 2019 | G15: 8 | H15: =IF(E15=VLOOKUP(F15,[1]Liste!$A$3:$B$13,2,FALSE),GANTT!G15,IF((GANTT!E15+GANTT!G15)>VLOOKUP(GANTT!F15,[1]Liste!$A$3:$B$13,2,FALSE),(GANTT!E15+GANTT!G15-VLOOKUP(GANTT!F15,[1]Liste!$A$3:$B$13,2,FALSE)),GANTT!E15+GANTT!G15)) -> 23 | I15: =IF(OR(E15=VLOOKUP(F15,[1]Liste!$A$3:$B$13,2,FALSE),(GANTT!E15+GANTT!G15)>VLOOKUP(F15,[1]Liste!$A$3:$B$13,2,FALSE)),GANTT!F15+1,GANTT!F15) -> 2019 | J15: =VALUE(E15) -> 15 | K15: =VALUE(F15) -> 2019 | L15: =G15 -> 8 | M15: =VALUE(H15) -> 23 | N15: =VALUE(I15) -> 2019 | O15: 0 | P15: =IF($O15=100%,"Terminée",IF(AND($M15<$Q$6,$N15<=$Q$5,$O15<100%),"En retard",IF(AND($J15>$Q$6,$K15>=$Q$5),"Non commencée","En cours"))) -> Non commencée | R15: =IF(AND($C15="Objectif",$O15=100%,AND(R$8>=$J15,R$6>=$K15),AND(R$8<=$M15,R$6<=$N15)),2,IF(AND($C15="Objectif",$O15<100%,AND(R$8>=$J15,R$6>=$K15),AND(R$8<=$M15,R$6<=$N15)),1,"")) | S15: =IF(AND($C15="Objectif",$O15=100%,AND(S$8>=$J15,S$6>=$K15),AND(S$8<=$M15,S$6<=$N15)),2,IF(AND($C15="Objectif",$O15<100%,AND(S$8>=$J15,S$6>=$K15),AND(S$8<=$M15,S$6<=$N15)),1,"")) | T15: =IF(AND($C15="Objectif",$O15=100%,AND(T$8>=$J15,T$6>=$K15),AND(T$8<=$M15,T$6<=$N15)),2,IF(AND($C15="Objectif",$O15<100%,AND(T$8>=$J15,T$6>=$K15),AND(T$8<=$M15,T$6<=$N15)),1,"")) | U15: =IF(AND($C15="Objectif",$O15=100%,AND(U$8>=$J15,U$6>=$K15),AND(U$8<=$M15,U$6<=$N15)),2,IF(AND($C15="Objectif",$O15<100%,AND(U$8>=$J15,U$6>=$K15),AND(U$8<=$M15,U$6<=$N15)),1,"")) | V15: =IF(AND($C15="Objectif",$O15=100%,AND(V$8>=$J15,V$6>=$K15),AND(V$8<=$M15,V$6<=$N15)),2,IF(AND($C15="Objectif",$O15<100%,AND(V$8>=$J15,V$6>=$K15),AND(V$8<=$M15,V$6<=$N15)),1,"")) | W15: =IF(AND($C15="Objectif",$O15=100%,AND(W$8>=$J15,W$6>=$K15),AND(W$8<=$M15,W$6<=$N15)),2,IF(AND($C15="Objectif",$O15<100%,AND(W$8>=$J15,W$6>=$K15),AND(W$8<=$M15,W$6<=$N15)),1,"")) | X15: =IF(AND($C15="Objectif",$O15=100%,AND(X$8>=$J15,X$6>=$K15),AND(X$8<=$M15,X$6<=$N15)),2,IF(AND($C15="Objectif",$O15<100%,AND(X$8>=$J15,X$6>=$K15),AND(X$8<=$M15,X$6<=$N15)),1,"")) | Y15: =IF(AND($C15="Objectif",$O15=100%,AND(Y$8>=$J15,Y$6>=$K15),AND(Y$8<=$M15,Y$6<=$N15)),2,IF(AND($C15="Objectif",$O15<100%,AND(Y$8>=$J15,Y$6>=$K15),AND(Y$8<=$M15,Y$6<=$N15)),1,"")) | ... BY15: =IF(AND($C15="Objectif",$O15=100%,AND(BY$8>=$J15,BY$6>=$K15),AND(BY$8<=$M15,BY$6<=$N15)),2,IF(AND($C15="Objectif",$O15<100%,AND(BY$8>=$J15,BY$6>=$K15),AND(BY$8<=$M15,BY$6<=$N15)),1,"")) | BZ15: =IF(OR($E15<$J15,$H15<$M15),"OK","NO") -> NO | CA15: =IF(AND($BZ15="OK",$H15<$M15),"OK",IF($BZ15="NO","","NO")) | CB15: =DATE($K15,1,3)-WEEKDAY(DATE($K15,1,3),3)+7*($J15-1) -> 43563 | CC15: =DATE($N15,1,3)-WEEKDAY(DATE($N15,1,3),3)+7*($M15-1) -> 43619 | CD15: =CC15-CB15 -> 56
A16: 1.5 | B16: Sous-tâche 5 | C16: Non critique | E16: 17 | F16: 2019 | G16: 1 | H16: =IF(E16=VLOOKUP(F16,[1]Liste!$A$3:$B$13,2,FALSE),GANTT!G16,IF((GANTT!E16+GANTT!G16)>VLOOKUP(GANTT!F16,[1]Liste!$A$3:$B$13,2,FALSE),(GANTT!E16+GANTT!G16-VLOOKUP(GANTT!F16,[1]Liste!$A$3:$B$13,2,FALSE)),GANTT!E16+GANTT!G16)) -> 18 | I16: =IF(OR(E16=VLOOKUP(F16,[1]Liste!$A$3:$B$13,2,FALSE),(GANTT!E16+GANTT!G16)>VLOOKUP(F16,[1]Liste!$A$3:$B$13,2,FALSE)),GANTT!F16+1,GANTT!F16) -> 2019 | J16: =VALUE(E16) -> 17 | K16: =VALUE(F16) -> 2019 | L16: =G16 -> 1 | M16: =VALUE(H16) -> 18 | N16: =VALUE(I16) -> 2019 | O16: 0 | P16: =IF($O16=100%,"Terminée",IF(AND($M16<$Q$6,$N16<=$Q$5,$O16<100%),"En retard",IF(AND($J16>$Q$6,$K16>=$Q$5),"Non commencée","En cours"))) -> Non commencée | R16: =IF(AND($C16="Objectif",$O16=100%,AND(R$8>=$J16,R$6>=$K16),AND(R$8<=$M16,R$6<=$N16)),2,IF(AND($C16="Objectif",$O16<100%,AND(R$8>=$J16,R$6>=$K16),AND(R$8<=$M16,R$6<=$N16)),1,"")) | S16: =IF(AND($C16="Objectif",$O16=100%,AND(S$8>=$J16,S$6>=$K16),AND(S$8<=$M16,S$6<=$N16)),2,IF(AND($C16="Objectif",$O16<100%,AND(S$8>=$J16,S$6>=$K16),AND(S$8<=$M16,S$6<=$N16)),1,"")) | T16: =IF(AND($C16="Objectif",$O16=100%,AND(T$8>=$J16,T$6>=$K16),AND(T$8<=$M16,T$6<=$N16)),2,IF(AND($C16="Objectif",$O16<100%,AND(T$8>=$J16,T$6>=$K16),AND(T$8<=$M16,T$6<=$N16)),1,"")) | U16: =IF(AND($C16="Objectif",$O16=100%,AND(U$8>=$J16,U$6>=$K16),AND(U$8<=$M16,U$6<=$N16)),2,IF(AND($C16="Objectif",$O16<100%,AND(U$8>=$J16,U$6>=$K16),AND(U$8<=$M16,U$6<=$N16)),1,"")) | V16: =IF(AND($C16="Objectif",$O16=100%,AND(V$8>=$J16,V$6>=$K16),AND(V$8<=$M16,V$6<=$N16)),2,IF(AND($C16="Objectif",$O16<100%,AND(V$8>=$J16,V$6>=$K16),AND(V$8<=$M16,V$6<=$N16)),1,"")) | W16: =IF(AND($C16="Objectif",$O16=100%,AND(W$8>=$J16,W$6>=$K16),AND(W$8<=$M16,W$6<=$N16)),2,IF(AND($C16="Objectif",$O16<100%,AND(W$8>=$J16,W$6>=$K16),AND(W$8<=$M16,W$6<=$N16)),1,"")) | X16: =IF(AND($C16="Objectif",$O16=100%,AND(X$8>=$J16,X$6>=$K16),AND(X$8<=$M16,X$6<=$N16)),2,IF(AND($C16="Objectif",$O16<100%,AND(X$8>=$J16,X$6>=$K16),AND(X$8<=$M16,X$6<=$N16)),1,"")) | Y16: =IF(AND($C16="Objectif",$O16=100%,AND(Y$8>=$J16,Y$6>=$K16),AND(Y$8<=$M16,Y$6<=$N16)),2,IF(AND($C16="Objectif",$O16<100%,AND(Y$8>=$J16,Y$6>=$K16),AND(Y$8<=$M16,Y$6<=$N16)),1,"")) | ... BY16: =IF(AND($C16="Objectif",$O16=100%,AND(BY$8>=$J16,BY$6>=$K16),AND(BY$8<=$M16,BY$6<=$N16)),2,IF(AND($C16="Objectif",$O16<100%,AND(BY$8>=$J16,BY$6>=$K16),AND(BY$8<=$M16,BY$6<=$N16)),1,"")) | BZ16: =IF(OR($E16<$J16,$H16<$M16),"OK","NO") -> NO | CA16: =IF(AND($BZ16="OK",$H16<$M16),"OK",IF($BZ16="NO","","NO")) | CB16: =DATE($K16,1,3)-WEEKDAY(DATE($K16,1,3),3)+7*($J16-1) -> 43577 | CC16: =DATE($N16,1,3)-WEEKDAY(DATE($N16,1,3),3)+7*($M16-1) -> 43584 | CD16: =CC16-CB16 -> 7
A17: 1.7 | B17: Sous-tâche 7 | C17: Objectif | E17: 26 | F17: 2019 | G17: 1 | H17: =IF(E17=VLOOKUP(F17,[1]Liste!$A$3:$B$13,2,FALSE),GANTT!G17,IF((GANTT!E17+GANTT!G17)>VLOOKUP(GANTT!F17,[1]Liste!$A$3:$B$13,2,FALSE),(GANTT!E17+GANTT!G17-VLOOKUP(GANTT!F17,[1]Liste!$A$3:$B$13,2,FALSE)),GANTT!E17+GANTT!G17)) -> 27 | I17: =IF(OR(E17=VLOOKUP(F17,[1]Liste!$A$3:$B$13,2,FALSE),(GANTT!E17+GANTT!G17)>VLOOKUP(F17,[1]Liste!$A$3:$B$13,2,FALSE)),GANTT!F17+1,GANTT!F17) -> 2019 | J17: =VALUE(E17) -> 26 | K17: =VALUE(F17) -> 2019 | L17: =G17 -> 1 | M17: =VALUE(H17) -> 27 | N17: =VALUE(I17) -> 2019 | O17: 1 | P17: =IF($O17=100%,"Terminée",IF(AND($M17<$Q$6,$N17<=$Q$5,$O17<100%),"En retard",IF(AND($J17>$Q$6,$K17>=$Q$5),"Non commencée","En cours"))) -> Terminée | R17: =IF(AND($C17="Objectif",$O17=100%,AND(R$8>=$J17,R$6>=$K17),AND(R$8<=$M17,R$6<=$N17)),2,IF(AND($C17="Objectif",$O17<100%,AND(R$8>=$J17,R$6>=$K17),AND(R$8<=$M17,R$6<=$N17)),1,"")) | S17: =IF(AND($C17="Objectif",$O17=100%,AND(S$8>=$J17,S$6>=$K17),AND(S$8<=$M17,S$6<=$N17)),2,IF(AND($C17="Objectif",$O17<100%,AND(S$8>=$J17,S$6>=$K17),AND(S$8<=$M17,S$6<=$N17)),1,"")) | T17: =IF(AND($C17="Objectif",$O17=100%,AND(T$8>=$J17,T$6>=$K17),AND(T$8<=$M17,T$6<=$N17)),2,IF(AND($C17="Objectif",$O17<100%,AND(T$8>=$J17,T$6>=$K17),AND(T$8<=$M17,T$6<=$N17)),1,"")) | U17: =IF(AND($C17="Objectif",$O17=100%,AND(U$8>=$J17,U$6>=$K17),AND(U$8<=$M17,U$6<=$N17)),2,IF(AND($C17="Objectif",$O17<100%,AND(U$8>=$J17,U$6>=$K17),AND(U$8<=$M17,U$6<=$N17)),1,"")) | V17: =IF(AND($C17="Objectif",$O17=100%,AND(V$8>=$J17,V$6>=$K17),AND(V$8<=$M17,V$6<=$N17)),2,IF(AND($C17="Objectif",$O17<100%,AND(V$8>=$J17,V$6>=$K17),AND(V$8<=$M17,V$6<=$N17)),1,"")) | W17: =IF(AND($C17="Objectif",$O17=100%,AND(W$8>=$J17,W$6>=$K17),AND(W$8<=$M17,W$6<=$N17)),2,IF(AND($C17="Objectif",$O17<100%,AND(W$8>=$J17,W$6>=$K17),AND(W$8<=$M17,W$6<=$N17)),1,"")) | X17: =IF(AND($C17="Objectif",$O17=100%,AND(X$8>=$J17,X$6>=$K17),AND(X$8<=$M17,X$6<=$N17)),2,IF(AND($C17="Objectif",$O17<100%,AND(X$8>=$J17,X$6>=$K17),AND(X$8<=$M17,X$6<=$N17)),1,"")) | Y17: =IF(AND($C17="Objectif",$O17=100%,AND(Y$8>=$J17,Y$6>=$K17),AND(Y$8<=$M17,Y$6<=$N17)),2,IF(AND($C17="Objectif",$O17<100%,AND(Y$8>=$J17,Y$6>=$K17),AND(Y$8<=$M17,Y$6<=$N17)),1,"")) | ... BY17: =IF(AND($C17="Objectif",$O17=100%,AND(BY$8>=$J17,BY$6>=$K17),AND(BY$8<=$M17,BY$6<=$N17)),2,IF(AND($C17="Objectif",$O17<100%,AND(BY$8>=$J17,BY$6>=$K17),AND(BY$8<=$M17,BY$6<=$N17)),1,"")) | BZ17: =IF(OR($E17<$J17,$H17<$M17),"OK","NO") -> NO | CA17: =IF(AND($BZ17="OK",$H17<$M17),"OK",IF($BZ17="NO","","NO")) | CB17: =DATE($K17,1,3)-WEEKDAY(DATE($K17,1,3),3)+7*($J17-1) -> 43640 | CC17: =DATE($N17,1,3)-WEEKDAY(DATE($N17,1,3),3)+7*($M17-1) -> 43647 | CD17: =CC17-CB17 -> 7
A18: 1.8 | B18: Sous-tâche 8 | C18: Non critique | E18: 27 | F18: 2019 | G18: 6 | H18: =IF(E18=VLOOKUP(F18,[1]Liste!$A$3:$B$13,2,FALSE),GANTT!G18,IF((GANTT!E18+GANTT!G18)>VLOOKUP(GANTT!F18,[1]Liste!$A$3:$B$13,2,FALSE),(GANTT!E18+GANTT!G18-VLOOKUP(GANTT!F18,[1]Liste!$A$3:$B$13,2,FALSE)),GANTT!E18+GANTT!G18)) -> 33 | I18: =IF(OR(E18=VLOOKUP(F18,[1]Liste!$A$3:$B$13,2,FALSE),(GANTT!E18+GANTT!G18)>VLOOKUP(F18,[1]Liste!$A$3:$B$13,2,FALSE)),GANTT!F18+1,GANTT!F18) -> 2019 | J18: =VALUE(E18) -> 27 | K18: =VALUE(F18) -> 2019 | L18: =G18 -> 6 | M18: =VALUE(H18) -> 33 | N18: =VALUE(I18) -> 2019 | O18: 1 | P18: =IF($O18=100%,"Terminée",IF(AND($M18<$Q$6,$N18<=$Q$5,$O18<100%),"En retard",IF(AND($J18>$Q$6,$K18>=$Q$5),"Non commencée","En cours"))) -> Terminée | R18: =IF(AND($C18="Objectif",$O18=100%,AND(R$8>=$J18,R$6>=$K18),AND(R$8<=$M18,R$6<=$N18)),2,IF(AND($C18="Objectif",$O18<100%,AND(R$8>=$J18,R$6>=$K18),AND(R$8<=$M18,R$6<=$N18)),1,"")) | S18: =IF(AND($C18="Objectif",$O18=100%,AND(S$8>=$J18,S$6>=$K18),AND(S$8<=$M18,S$6<=$N18)),2,IF(AND($C18="Objectif",$O18<100%,AND(S$8>=$J18,S$6>=$K18),AND(S$8<=$M18,S$6<=$N18)),1,"")) | T18: =IF(AND($C18="Objectif",$O18=100%,AND(T$8>=$J18,T$6>=$K18),AND(T$8<=$M18,T$6<=$N18)),2,IF(AND($C18="Objectif",$O18<100%,AND(T$8>=$J18,T$6>=$K18),AND(T$8<=$M18,T$6<=$N18)),1,"")) | U18: =IF(AND($C18="Objectif",$O18=100%,AND(U$8>=$J18,U$6>=$K18),AND(U$8<=$M18,U$6<=$N18)),2,IF(AND($C18="Objectif",$O18<100%,AND(U$8>=$J18,U$6>=$K18),AND(U$8<=$M18,U$6<=$N18)),1,"")) | V18: =IF(AND($C18="Objectif",$O18=100%,AND(V$8>=$J18,V$6>=$K18),AND(V$8<=$M18,V$6<=$N18)),2,IF(AND($C18="Objectif",$O18<100%,AND(V$8>=$J18,V$6>=$K18),AND(V$8<=$M18,V$6<=$N18)),1,"")) | W18: =IF(AND($C18="Objectif",$O18=100%,AND(W$8>=$J18,W$6>=$K18),AND(W$8<=$M18,W$6<=$N18)),2,IF(AND($C18="Objectif",$O18<100%,AND(W$8>=$J18,W$6>=$K18),AND(W$8<=$M18,W$6<=$N18)),1,"")) | X18: =IF(AND($C18="Objectif",$O18=100%,AND(X$8>=$J18,X$6>=$K18),AND(X$8<=$M18,X$6<=$N18)),2,IF(AND($C18="Objectif",$O18<100%,AND(X$8>=$J18,X$6>=$K18),AND(X$8<=$M18,X$6<=$N18)),1,"")) | Y18: =IF(AND($C18="Objectif",$O18=100%,AND(Y$8>=$J18,Y$6>=$K18),AND(Y$8<=$M18,Y$6<=$N18)),2,IF(AND($C18="Objectif",$O18<100%,AND(Y$8>=$J18,Y$6>=$K18),AND(Y$8<=$M18,Y$6<=$N18)),1,"")) | ... BY18: =IF(AND($C18="Objectif",$O18=100%,AND(BY$8>=$J18,BY$6>=$K18),AND(BY$8<=$M18,BY$6<=$N18)),2,IF(AND($C18="Objectif",$O18<100%,AND(BY$8>=$J18,BY$6>=$K18),AND(BY$8<=$M18,BY$6<=$N18)),1,"")) | BZ18: =IF(OR($E18<$J18,$H18<$M18),"OK","NO") -> NO | CA18: =IF(AND($BZ18="OK",$H18<$M18),"OK",IF($BZ18="NO","","NO")) | CB18: =DATE($K18,1,3)-WEEKDAY(DATE($K18,1,3),3)+7*($J18-1) -> 43647 | CC18: =DATE($N18,1,3)-WEEKDAY(DATE($N18,1,3),3)+7*($M18-1) -> 43689 | CD18: =CC18-CB18 -> 42
A19: 1.9 | B19: Sous-tâche 9 | C19: Non critique | E19: 30 | F19: 2019 | G19: 2 | H19: =IF(E19=VLOOKUP(F19,[1]Liste!$A$3:$B$13,2,FALSE),GANTT!G19,IF((GANTT!E19+GANTT!G19)>VLOOKUP(GANTT!F19,[1]Liste!$A$3:$B$13,2,FALSE),(GANTT!E19+GANTT!G19-VLOOKUP(GANTT!F19,[1]Liste!$A$3:$B$13,2,FALSE)),GANTT!E19+GANTT!G19)) -> 32 | I19: =IF(OR(E19=VLOOKUP(F19,[1]Liste!$A$3:$B$13,2,FALSE),(GANTT!E19+GANTT!G19)>VLOOKUP(F19,[1]Liste!$A$3:$B$13,2,FALSE)),GANTT!F19+1,GANTT!F19) -> 2019 | J19: =VALUE(E19) -> 30 | K19: =VALUE(F19) -> 2019 | L19: =G19 -> 2 | M19: =VALUE(H19) -> 32 | N19: =VALUE(I19) -> 2019 | O19: 0.5 | P19: =IF($O19=100%,"Terminée",IF(AND($M19<$Q$6,$N19<=$Q$5,$O19<100%),"En retard",IF(AND($J19>$Q$6,$K19>=$Q$5),"Non commencée","En cours"))) -> Non commencée | R19: =IF(AND($C19="Objectif",$O19=100%,AND(R$8>=$J19,R$6>=$K19),AND(R$8<=$M19,R$6<=$N19)),2,IF(AND($C19="Objectif",$O19<100%,AND(R$8>=$J19,R$6>=$K19),AND(R$8<=$M19,R$6<=$N19)),1,"")) | S19: =IF(AND($C19="Objectif",$O19=100%,AND(S$8>=$J19,S$6>=$K19),AND(S$8<=$M19,S$6<=$N19)),2,IF(AND($C19="Objectif",$O19<100%,AND(S$8>=$J19,S$6>=$K19),AND(S$8<=$M19,S$6<=$N19)),1,"")) | T19: =IF(AND($C19="Objectif",$O19=100%,AND(T$8>=$J19,T$6>=$K19),AND(T$8<=$M19,T$6<=$N19)),2,IF(AND($C19="Objectif",$O19<100%,AND(T$8>=$J19,T$6>=$K19),AND(T$8<=$M19,T$6<=$N19)),1,"")) | U19: =IF(AND($C19="Objectif",$O19=100%,AND(U$8>=$J19,U$6>=$K19),AND(U$8<=$M19,U$6<=$N19)),2,IF(AND($C19="Objectif",$O19<100%,AND(U$8>=$J19,U$6>=$K19),AND(U$8<=$M19,U$6<=$N19)),1,"")) | V19: =IF(AND($C19="Objectif",$O19=100%,AND(V$8>=$J19,V$6>=$K19),AND(V$8<=$M19,V$6<=$N19)),2,IF(AND($C19="Objectif",$O19<100%,AND(V$8>=$J19,V$6>=$K19),AND(V$8<=$M19,V$6<=$N19)),1,"")) | W19: =IF(AND($C19="Objectif",$O19=100%,AND(W$8>=$J19,W$6>=$K19),AND(W$8<=$M19,W$6<=$N19)),2,IF(AND($C19="Objectif",$O19<100%,AND(W$8>=$J19,W$6>=$K19),AND(W$8<=$M19,W$6<=$N19)),1,"")) | X19: =IF(AND($C19="Objectif",$O19=100%,AND(X$8>=$J19,X$6>=$K19),AND(X$8<=$M19,X$6<=$N19)),2,IF(AND($C19="Objectif",$O19<100%,AND(X$8>=$J19,X$6>=$K19),AND(X$8<=$M19,X$6<=$N19)),1,"")) | Y19: =IF(AND($C19="Objectif",$O19=100%,AND(Y$8>=$J19,Y$6>=$K19),AND(Y$8<=$M19,Y$6<=$N19)),2,IF(AND($C19="Objectif",$O19<100%,AND(Y$8>=$J19,Y$6>=$K19),AND(Y$8<=$M19,Y$6<=$N19)),1,"")) | ... BY19: =IF(AND($C19="Objectif",$O19=100%,AND(BY$8>=$J19,BY$6>=$K19),AND(BY$8<=$M19,BY$6<=$N19)),2,IF(AND($C19="Objectif",$O19<100%,AND(BY$8>=$J19,BY$6>=$K19),AND(BY$8<=$M19,BY$6<=$N19)),1,"")) | BZ19: =IF(OR($E19<$J19,$H19<$M19),"OK","NO") -> NO | CA19: =IF(AND($BZ19="OK",$H19<$M19),"OK",IF($BZ19="NO","","NO")) | CB19: =DATE($K19,1,3)-WEEKDAY(DATE($K19,1,3),3)+7*($J19-1) -> 43668 | CC19: =DATE($N19,1,3)-WEEKDAY(DATE($N19,1,3),3)+7*($M19-1) -> 43682 | CD19: =CC19-CB19 -> 14
A20: 1.10 | B20: Sous-tâche 10 | C20: Critique | E20: 33 | F20: 2019 | G20: 10 | H20: =IF(E20=VLOOKUP(F20,[1]Liste!$A$3:$B$13,2,FALSE),GANTT!G20,IF((GANTT!E20+GANTT!G20)>VLOOKUP(GANTT!F20,[1]Liste!$A$3:$B$13,2,FALSE),(GANTT!E20+GANTT!G20-VLOOKUP(GANTT!F20,[1]Liste!$A$3:$B$13,2,FALSE)),GANTT!E20+GANTT!G20)) -> 43 | I20: =IF(OR(E20=VLOOKUP(F20,[1]Liste!$A$3:$B$13,2,FALSE),(GANTT!E20+GANTT!G20)>VLOOKUP(F20,[1]Liste!$A$3:$B$13,2,FALSE)),GANTT!F20+1,GANTT!F20) -> 2019 | J20: =VALUE(E20) -> 33 | K20: =VALUE(F20) -> 2019 | L20: =G20 -> 10 | M20: =VALUE(H20) -> 43 | N20: =VALUE(I20) -> 2019 | O20: 0.3 | P20: =IF($O20=100%,"Terminée",IF(AND($M20<$Q$6,$N20<=$Q$5,$O20<100%),"En retard",IF(AND($J20>$Q$6,$K20>=$Q$5),"Non commencée","En cours"))) -> Non commencée | R20: =IF(AND($C20="Objectif",$O20=100%,AND(R$8>=$J20,R$6>=$K20),AND(R$8<=$M20,R$6<=$N20)),2,IF(AND($C20="Objectif",$O20<100%,AND(R$8>=$J20,R$6>=$K20),AND(R$8<=$M20,R$6<=$N20)),1,"")) | S20: =IF(AND($C20="Objectif",$O20=100%,AND(S$8>=$J20,S$6>=$K20),AND(S$8<=$M20,S$6<=$N20)),2,IF(AND($C20="Objectif",$O20<100%,AND(S$8>=$J20,S$6>=$K20),AND(S$8<=$M20,S$6<=$N20)),1,"")) | T20: =IF(AND($C20="Objectif",$O20=100%,AND(T$8>=$J20,T$6>=$K20),AND(T$8<=$M20,T$6<=$N20)),2,IF(AND($C20="Objectif",$O20<100%,AND(T$8>=$J20,T$6>=$K20),AND(T$8<=$M20,T$6<=$N20)),1,"")) | U20: =IF(AND($C20="Objectif",$O20=100%,AND(U$8>=$J20,U$6>=$K20),AND(U$8<=$M20,U$6<=$N20)),2,IF(AND($C20="Objectif",$O20<100%,AND(U$8>=$J20,U$6>=$K20),AND(U$8<=$M20,U$6<=$N20)),1,"")) | V20: =IF(AND($C20="Objectif",$O20=100%,AND(V$8>=$J20,V$6>=$K20),AND(V$8<=$M20,V$6<=$N20)),2,IF(AND($C20="Objectif",$O20<100%,AND(V$8>=$J20,V$6>=$K20),AND(V$8<=$M20,V$6<=$N20)),1,"")) | W20: =IF(AND($C20="Objectif",$O20=100%,AND(W$8>=$J20,W$6>=$K20),AND(W$8<=$M20,W$6<=$N20)),2,IF(AND($C20="Objectif",$O20<100%,AND(W$8>=$J20,W$6>=$K20),AND(W$8<=$M20,W$6<=$N20)),1,"")) | X20: =IF(AND($C20="Objectif",$O20=100%,AND(X$8>=$J20,X$6>=$K20),AND(X$8<=$M20,X$6<=$N20)),2,IF(AND($C20="Objectif",$O20<100%,AND(X$8>=$J20,X$6>=$K20),AND(X$8<=$M20,X$6<=$N20)),1,"")) | Y20: =IF(AND($C20="Objectif",$O20=100%,AND(Y$8>=$J20,Y$6>=$K20),AND(Y$8<=$M20,Y$6<=$N20)),2,IF(AND($C20="Objectif",$O20<100%,AND(Y$8>=$J20,Y$6>=$K20),AND(Y$8<=$M20,Y$6<=$N20)),1,"")) | ... BY20: =IF(AND($C20="Objectif",$O20=100%,AND(BY$8>=$J20,BY$6>=$K20),AND(BY$8<=$M20,BY$6<=$N20)),2,IF(AND($C20="Objectif",$O20<100%,AND(BY$8>=$J20,BY$6>=$K20),AND(BY$8<=$M20,BY$6<=$N20)),1,"")) | BZ20: =IF(OR($E20<$J20,$H20<$M20),"OK","NO") -> NO | CA20: =IF(AND($BZ20="OK",$H20<$M20),"OK",IF($BZ20="NO","","NO")) | CB20: =DATE($K20,1,3)-WEEKDAY(DATE($K20,1,3),3)+7*($J20-1) -> 43689 | CC20: =DATE($N20,1,3)-WEEKDAY(DATE($N20,1,3),3)+7*($M20-1) -> 43759 | CD20: =CC20-CB20 -> 70
A21: 1.11 | B21: Sous-tâche 11 | C21: Objectif | E21: 20 | F21: 2019 | G21: 1 | H21: =IF(E21=VLOOKUP(F21,[1]Liste!$A$3:$B$13,2,FALSE),GANTT!G21,IF((GANTT!E21+GANTT!G21)>VLOOKUP(GANTT!F21,[1]Liste!$A$3:$B$13,2,FALSE),(GANTT!E21+GANTT!G21-VLOOKUP(GANTT!F21,[1]Liste!$A$3:$B$13,2,FALSE)),GANTT!E21+GANTT!G21)) -> 21 | I21: =IF(OR(E21=VLOOKUP(F21,[1]Liste!$A$3:$B$13,2,FALSE),(GANTT!E21+GANTT!G21)>VLOOKUP(F21,[1]Liste!$A$3:$B$13,2,FALSE)),GANTT!F21+1,GANTT!F21) -> 2019 | J21: =VALUE(E21) -> 20 | K21: =VALUE(F21) -> 2019 | L21: =G21 -> 1 | M21: =VALUE(H21) -> 21 | N21: =VALUE(I21) -> 2019 | O21: 0.1 | P21: =IF($O21=100%,"Terminée",IF(AND($M21<$Q$6,$N21<=$Q$5,$O21<100%),"En retard",IF(AND($J21>$Q$6,$K21>=$Q$5),"Non commencée","En cours"))) -> Non commencée | R21: =IF(AND($C21="Objectif",$O21=100%,AND(R$8>=$J21,R$6>=$K21),AND(R$8<=$M21,R$6<=$N21)),2,IF(AND($C21="Objectif",$O21<100%,AND(R$8>=$J21,R$6>=$K21),AND(R$8<=$M21,R$6<=$N21)),1,"")) | S21: =IF(AND($C21="Objectif",$O21=100%,AND(S$8>=$J21,S$6>=$K21),AND(S$8<=$M21,S$6<=$N21)),2,IF(AND($C21="Objectif",$O21<100%,AND(S$8>=$J21,S$6>=$K21),AND(S$8<=$M21,S$6<=$N21)),1,"")) | T21: =IF(AND($C21="Objectif",$O21=100%,AND(T$8>=$J21,T$6>=$K21),AND(T$8<=$M21,T$6<=$N21)),2,IF(AND($C21="Objectif",$O21<100%,AND(T$8>=$J21,T$6>=$K21),AND(T$8<=$M21,T$6<=$N21)),1,"")) | U21: =IF(AND($C21="Objectif",$O21=100%,AND(U$8>=$J21,U$6>=$K21),AND(U$8<=$M21,U$6<=$N21)),2,IF(AND($C21="Objectif",$O21<100%,AND(U$8>=$J21,U$6>=$K21),AND(U$8<=$M21,U$6<=$N21)),1,"")) | V21: =IF(AND($C21="Objectif",$O21=100%,AND(V$8>=$J21,V$6>=$K21),AND(V$8<=$M21,V$6<=$N21)),2,IF(AND($C21="Objectif",$O21<100%,AND(V$8>=$J21,V$6>=$K21),AND(V$8<=$M21,V$6<=$N21)),1,"")) | W21: =IF(AND($C21="Objectif",$O21=100%,AND(W$8>=$J21,W$6>=$K21),AND(W$8<=$M21,W$6<=$N21)),2,IF(AND($C21="Objectif",$O21<100%,AND(W$8>=$J21,W$6>=$K21),AND(W$8<=$M21,W$6<=$N21)),1,"")) | X21: =IF(AND($C21="Objectif",$O21=100%,AND(X$8>=$J21,X$6>=$K21),AND(X$8<=$M21,X$6<=$N21)),2,IF(AND($C21="Objectif",$O21<100%,AND(X$8>=$J21,X$6>=$K21),AND(X$8<=$M21,X$6<=$N21)),1,"")) | Y21: =IF(AND($C21="Objectif",$O21=100%,AND(Y$8>=$J21,Y$6>=$K21),AND(Y$8<=$M21,Y$6<=$N21)),2,IF(AND($C21="Objectif",$O21<100%,AND(Y$8>=$J21,Y$6>=$K21),AND(Y$8<=$M21,Y$6<=$N21)),1,"")) | ... BY21: =IF(AND($C21="Objectif",$O21=100%,AND(BY$8>=$J21,BY$6>=$K21),AND(BY$8<=$M21,BY$6<=$N21)),2,IF(AND($C21="Objectif",$O21<100%,AND(BY$8>=$J21,BY$6>=$K21),AND(BY$8<=$M21,BY$6<=$N21)),1,"")) | BZ21: =IF(OR($E21<$J21,$H21<$M21),"OK","NO") -> NO | CA21: =IF(AND($BZ21="OK",$H21<$M21),"OK",IF($BZ21="NO","","NO")) | CB21: =DATE($K21,1,3)-WEEKDAY(DATE($K21,1,3),3)+7*($J21-1) -> 43598 | CC21: =DATE($N21,1,3)-WEEKDAY(DATE($N21,1,3),3)+7*($M21-1) -> 43605 | CD21: =CC21-CB21 -> 7
A22: 1.12 | B22: Sous-tâche 12 | C22: Objectif | E22: 12 | F22: 2019 | G22: 3 | H22: =IF(E22=VLOOKUP(F22,[1]Liste!$A$3:$B$13,2,FALSE),GANTT!G22,IF((GANTT!E22+GANTT!G22)>VLOOKUP(GANTT!F22,[1]Liste!$A$3:$B$13,2,FALSE),(GANTT!E22+GANTT!G22-VLOOKUP(GANTT!F22,[1]Liste!$A$3:$B$13,2,FALSE)),GANTT!E22+GANTT!G22)) -> 15 | I22: =IF(OR(E22=VLOOKUP(F22,[1]Liste!$A$3:$B$13,2,FALSE),(GANTT!E22+GANTT!G22)>VLOOKUP(F22,[1]Liste!$A$3:$B$13,2,FALSE)),GANTT!F22+1,GANTT!F22) -> 2019 | J22: =VALUE(E22) -> 12 | K22: =VALUE(F22) -> 2019 | L22: =G22 -> 3 | M22: =VALUE(H22) -> 15 | N22: =VALUE(I22) -> 2019 | O22: 0 | P22: =IF($O22=100%,"Terminée",IF(AND($M22<$Q$6,$N22<=$Q$5,$O22<100%),"En retard",IF(AND($J22>$Q$6,$K22>=$Q$5),"Non commencée","En cours"))) -> Non commencée | R22: =IF(AND($C22="Objectif",$O22=100%,AND(R$8>=$J22,R$6>=$K22),AND(R$8<=$M22,R$6<=$N22)),2,IF(AND($C22="Objectif",$O22<100%,AND(R$8>=$J22,R$6>=$K22),AND(R$8<=$M22,R$6<=$N22)),1,"")) | S22: =IF(AND($C22="Objectif",$O22=100%,AND(S$8>=$J22,S$6>=$K22),AND(S$8<=$M22,S$6<=$N22)),2,IF(AND($C22="Objectif",$O22<100%,AND(S$8>=$J22,S$6>=$K22),AND(S$8<=$M22,S$6<=$N22)),1,"")) | T22: =IF(AND($C22="Objectif",$O22=100%,AND(T$8>=$J22,T$6>=$K22),AND(T$8<=$M22,T$6<=$N22)),2,IF(AND($C22="Objectif",$O22<100%,AND(T$8>=$J22,T$6>=$K22),AND(T$8<=$M22,T$6<=$N22)),1,"")) | U22: =IF(AND($C22="Objectif",$O22=100%,AND(U$8>=$J22,U$6>=$K22),AND(U$8<=$M22,U$6<=$N22)),2,IF(AND($C22="Objectif",$O22<100%,AND(U$8>=$J22,U$6>=$K22),AND(U$8<=$M22,U$6<=$N22)),1,"")) | V22: =IF(AND($C22="Objectif",$O22=100%,AND(V$8>=$J22,V$6>=$K22),AND(V$8<=$M22,V$6<=$N22)),2,IF(AND($C22="Objectif",$O22<100%,AND(V$8>=$J22,V$6>=$K22),AND(V$8<=$M22,V$6<=$N22)),1,"")) | W22: =IF(AND($C22="Objectif",$O22=100%,AND(W$8>=$J22,W$6>=$K22),AND(W$8<=$M22,W$6<=$N22)),2,IF(AND($C22="Objectif",$O22<100%,AND(W$8>=$J22,W$6>=$K22),AND(W$8<=$M22,W$6<=$N22)),1,"")) | X22: =IF(AND($C22="Objectif",$O22=100%,AND(X$8>=$J22,X$6>=$K22),AND(X$8<=$M22,X$6<=$N22)),2,IF(AND($C22="Objectif",$O22<100%,AND(X$8>=$J22,X$6>=$K22),AND(X$8<=$M22,X$6<=$N22)),1,"")) | Y22: =IF(AND($C22="Objectif",$O22=100%,AND(Y$8>=$J22,Y$6>=$K22),AND(Y$8<=$M22,Y$6<=$N22)),2,IF(AND($C22="Objectif",$O22<100%,AND(Y$8>=$J22,Y$6>=$K22),AND(Y$8<=$M22,Y$6<=$N22)),1,"")) | ... BY22: =IF(AND($C22="Objectif",$O22=100%,AND(BY$8>=$J22,BY$6>=$K22),AND(BY$8<=$M22,BY$6<=$N22)),2,IF(AND($C22="Objectif",$O22<100%,AND(BY$8>=$J22,BY$6>=$K22),AND(BY$8<=$M22,BY$6<=$N22)),1,"")) | BZ22: =IF(OR($E22<$J22,$H22<$M22),"OK","NO") -> NO | CA22: =IF(AND($BZ22="OK",$H22<$M22),"OK",IF($BZ22="NO","","NO")) | CB22: =DATE($K22,1,3)-WEEKDAY(DATE($K22,1,3),3)+7*($J22-1) -> 43542 | CC22: =DATE($N22,1,3)-WEEKDAY(DATE($N22,1,3),3)+7*($M22-1) -> 43563 | CD22: =CC22-CB22 -> 21
A23: 1.13 | B23: Sous-tâche 13 | C23: Objectif | E23: 25 | F23: 2019 | G23: 3 | H23: =IF(E23=VLOOKUP(F23,[1]Liste!$A$3:$B$13,2,FALSE),GANTT!G23,IF((GANTT!E23+GANTT!G23)>VLOOKUP(GANTT!F23,[1]Liste!$A$3:$B$13,2,FALSE),(GANTT!E23+GANTT!G23-VLOOKUP(GANTT!F23,[1]Liste!$A$3:$B$13,2,FALSE)),GANTT!E23+GANTT!G23)) -> 28 | I23: =IF(OR(E23=VLOOKUP(F23,[1]Liste!$A$3:$B$13,2,FALSE),(GANTT!E23+GANTT!G23)>VLOOKUP(F23,[1]Liste!$A$3:$B$13,2,FALSE)),GANTT!F23+1,GANTT!F23) -> 2019 | J23: =VALUE(E23) -> 25 | K23: =VALUE(F23) -> 2019 | L23: =G23 -> 3 | M23: =VALUE(H23) -> 28 | N23: =VALUE(I23) -> 2019 | O23: 0 | P23: =IF($O23=100%,"Terminée",IF(AND($M23<$Q$6,$N23<=$Q$5,$O23<100%),"En retard",IF(AND($J23>$Q$6,$K23>=$Q$5),"Non commencée","En cours"))) -> Non commencée | R23: =IF(AND($C23="Objectif",$O23=100%,AND(R$8>=$J23,R$6>=$K23),AND(R$8<=$M23,R$6<=$N23)),2,IF(AND($C23="Objectif",$O23<100%,AND(R$8>=$J23,R$6>=$K23),AND(R$8<=$M23,R$6<=$N23)),1,"")) | S23: =IF(AND($C23="Objectif",$O23=100%,AND(S$8>=$J23,S$6>=$K23),AND(S$8<=$M23,S$6<=$N23)),2,IF(AND($C23="Objectif",$O23<100%,AND(S$8>=$J23,S$6>=$K23),AND(S$8<=$M23,S$6<=$N23)),1,"")) | T23: =IF(AND($C23="Objectif",$O23=100%,AND(T$8>=$J23,T$6>=$K23),AND(T$8<=$M23,T$6<=$N23)),2,IF(AND($C23="Objectif",$O23<100%,AND(T$8>=$J23,T$6>=$K23),AND(T$8<=$M23,T$6<=$N23)),1,"")) | U23: =IF(AND($C23="Objectif",$O23=100%,AND(U$8>=$J23,U$6>=$K23),AND(U$8<=$M23,U$6<=$N23)),2,IF(AND($C23="Objectif",$O23<100%,AND(U$8>=$J23,U$6>=$K23),AND(U$8<=$M23,U$6<=$N23)),1,"")) | V23: =IF(AND($C23="Objectif",$O23=100%,AND(V$8>=$J23,V$6>=$K23),AND(V$8<=$M23,V$6<=$N23)),2,IF(AND($C23="Objectif",$O23<100%,AND(V$8>=$J23,V$6>=$K23),AND(V$8<=$M23,V$6<=$N23)),1,"")) | W23: =IF(AND($C23="Objectif",$O23=100%,AND(W$8>=$J23,W$6>=$K23),AND(W$8<=$M23,W$6<=$N23)),2,IF(AND($C23="Objectif",$O23<100%,AND(W$8>=$J23,W$6>=$K23),AND(W$8<=$M23,W$6<=$N23)),1,"")) | X23: =IF(AND($C23="Objectif",$O23=100%,AND(X$8>=$J23,X$6>=$K23),AND(X$8<=$M23,X$6<=$N23)),2,IF(AND($C23="Objectif",$O23<100%,AND(X$8>=$J23,X$6>=$K23),AND(X$8<=$M23,X$6<=$N23)),1,"")) | Y23: =IF(AND($C23="Objectif",$O23=100%,AND(Y$8>=$J23,Y$6>=$K23),AND(Y$8<=$M23,Y$6<=$N23)),2,IF(AND($C23="Objectif",$O23<100%,AND(Y$8>=$J23,Y$6>=$K23),AND(Y$8<=$M23,Y$6<=$N23)),1,"")) | ... BY23: =IF(AND($C23="Objectif",$O23=100%,AND(BY$8>=$J23,BY$6>=$K23),AND(BY$8<=$M23,BY$6<=$N23)),2,IF(AND($C23="Objectif",$O23<100%,AND(BY$8>=$J23,BY$6>=$K23),AND(BY$8<=$M23,BY$6<=$N23)),1,"")) | BZ23: =IF(OR($E23<$J23,$H23<$M23),"OK","NO") -> NO | CA23: =IF(AND($BZ23="OK",$H23<$M23),"OK",IF($BZ23="NO","","NO")) | CB23: =DATE($K23,1,3)-WEEKDAY(DATE($K23,1,3),3)+7*($J23-1) -> 43633 | CC23: =DATE($N23,1,3)-WEEKDAY(DATE($N23,1,3),3)+7*($M23-1) -> 43654 | CD23: =CC23-CB23 -> 21
A24: 1.14 | B24: Sous-tâche 14 | C24: Objectif | E24: 35 | F24: 2019 | G24: 9 | H24: =IF(E24=VLOOKUP(F24,[1]Liste!$A$3:$B$13,2,FALSE),GANTT!G24,IF((GANTT!E24+GANTT!G24)>VLOOKUP(GANTT!F24,[1]Liste!$A$3:$B$13,2,FALSE),(GANTT!E24+GANTT!G24-VLOOKUP(GANTT!F24,[1]Liste!$A$3:$B$13,2,FALSE)),GANTT!E24+GANTT!G24)) -> 44 | I24: =IF(OR(E24=VLOOKUP(F24,[1]Liste!$A$3:$B$13,2,FALSE),(GANTT!E24+GANTT!G24)>VLOOKUP(F24,[1]Liste!$A$3:$B$13,2,FALSE)),GANTT!F24+1,GANTT!F24) -> 2019 | J24: =VALUE(E24) -> 35 | K24: =VALUE(F24) -> 2019 | L24: =G24 -> 9 | M24: =VALUE(H24) -> 44 | N24: =VALUE(I24) -> 2019 | O24: 0 | P24: =IF($O24=100%,"Terminée",IF(AND($M24<$Q$6,$N24<=$Q$5,$O24<100%),"En retard",IF(AND($J24>$Q$6,$K24>=$Q$5),"Non commencée","En cours"))) -> Non commencée | R24: =IF(AND($C24="Objectif",$O24=100%,AND(R$8>=$J24,R$6>=$K24),AND(R$8<=$M24,R$6<=$N24)),2,IF(AND($C24="Objectif",$O24<100%,AND(R$8>=$J24,R$6>=$K24),AND(R$8<=$M24,R$6<=$N24)),1,"")) | S24: =IF(AND($C24="Objectif",$O24=100%,AND(S$8>=$J24,S$6>=$K24),AND(S$8<=$M24,S$6<=$N24)),2,IF(AND($C24="Objectif",$O24<100%,AND(S$8>=$J24,S$6>=$K24),AND(S$8<=$M24,S$6<=$N24)),1,"")) | T24: =IF(AND($C24="Objectif",$O24=100%,AND(T$8>=$J24,T$6>=$K24),AND(T$8<=$M24,T$6<=$N24)),2,IF(AND($C24="Objectif",$O24<100%,AND(T$8>=$J24,T$6>=$K24),AND(T$8<=$M24,T$6<=$N24)),1,"")) | U24: =IF(AND($C24="Objectif",$O24=100%,AND(U$8>=$J24,U$6>=$K24),AND(U$8<=$M24,U$6<=$N24)),2,IF(AND($C24="Objectif",$O24<100%,AND(U$8>=$J24,U$6>=$K24),AND(U$8<=$M24,U$6<=$N24)),1,"")) | V24: =IF(AND($C24="Objectif",$O24=100%,AND(V$8>=$J24,V$6>=$K24),AND(V$8<=$M24,V$6<=$N24)),2,IF(AND($C24="Objectif",$O24<100%,AND(V$8>=$J24,V$6>=$K24),AND(V$8<=$M24,V$6<=$N24)),1,"")) | W24: =IF(AND($C24="Objectif",$O24=100%,AND(W$8>=$J24,W$6>=$K24),AND(W$8<=$M24,W$6<=$N24)),2,IF(AND($C24="Objectif",$O24<100%,AND(W$8>=$J24,W$6>=$K24),AND(W$8<=$M24,W$6<=$N24)),1,"")) | X24: =IF(AND($C24="Objectif",$O24=100%,AND(X$8>=$J24,X$6>=$K24),AND(X$8<=$M24,X$6<=$N24)),2,IF(AND($C24="Objectif",$O24<100%,AND(X$8>=$J24,X$6>=$K24),AND(X$8<=$M24,X$6<=$N24)),1,"")) | Y24: =IF(AND($C24="Objectif",$O24=100%,AND(Y$8>=$J24,Y$6>=$K24),AND(Y$8<=$M24,Y$6<=$N24)),2,IF(AND($C24="Objectif",$O24<100%,AND(Y$8>=$J24,Y$6>=$K24),AND(Y$8<=$M24,Y$6<=$N24)),1,"")) | ... BY24: =IF(AND($C24="Objectif",$O24=100%,AND(BY$8>=$J24,BY$6>=$K24),AND(BY$8<=$M24,BY$6<=$N24)),2,IF(AND($C24="Objectif",$O24<100%,AND(BY$8>=$J24,BY$6>=$K24),AND(BY$8<=$M24,BY$6<=$N24)),1,"")) | BZ24: =IF(OR($E24<$J24,$H24<$M24),"OK","NO") -> NO | CA24: =IF(AND($BZ24="OK",$H24<$M24),"OK",IF($BZ24="NO","","NO")) | CB24: =DATE($K24,1,3)-WEEKDAY(DATE($K24,1,3),3)+7*($J24-1) -> 43703 | CC24: =DATE($N24,1,3)-WEEKDAY(DATE($N24,1,3),3)+7*($M24-1) -> 43766 | CD24: =CC24-CB24 -> 63
A25: 1.15 | B25: Sous-tâche 15 | C25: Objectif | E25: 5 | F25: 2019 | G25: 1 | H25: =IF(E25=VLOOKUP(F25,[1]Liste!$A$3:$B$13,2,FALSE),GANTT!G25,IF((GANTT!E25+GANTT!G25)>VLOOKUP(GANTT!F25,[1]Liste!$A$3:$B$13,2,FALSE),(GANTT!E25+GANTT!G25-VLOOKUP(GANTT!F25,[1]Liste!$A$3:$B$13,2,FALSE)),GANTT!E25+GANTT!G25)) -> 6 | I25: =IF(OR(E25=VLOOKUP(F25,[1]Liste!$A$3:$B$13,2,FALSE),(GANTT!E25+GANTT!G25)>VLOOKUP(F25,[1]Liste!$A$3:$B$13,2,FALSE)),GANTT!F25+1,GANTT!F25) -> 2019 | J25: =VALUE(E25) -> 5 | K25: =VALUE(F25) -> 2019 | L25: =G25 -> 1 | M25: =VALUE(H25) -> 6 | N25: =VALUE(I25) -> 2019 | O25: 0 | P25: =IF($O25=100%,"Terminée",IF(AND($M25<$Q$6,$N25<=$Q$5,$O25<100%),"En retard",IF(AND($J25>$Q$6,$K25>=$Q$5),"Non commencée","En cours"))) -> En retard | R25: =IF(AND($C25="Objectif",$O25=100%,AND(R$8>=$J25,R$6>=$K25),AND(R$8<=$M25,R$6<=$N25)),2,IF(AND($C25="Objectif",$O25<100%,AND(R$8>=$J25,R$6>=$K25),AND(R$8<=$M25,R$6<=$N25)),1,"")) | S25: =IF(AND($C25="Objectif",$O25=100%,AND(S$8>=$J25,S$6>=$K25),AND(S$8<=$M25,S$6<=$N25)),2,IF(AND($C25="Objectif",$O25<100%,AND(S$8>=$J25,S$6>=$K25),AND(S$8<=$M25,S$6<=$N25)),1,"")) | T25: =IF(AND($C25="Objectif",$O25=100%,AND(T$8>=$J25,T$6>=$K25),AND(T$8<=$M25,T$6<=$N25)),2,IF(AND($C25="Objectif",$O25<100%,AND(T$8>=$J25,T$6>=$K25),AND(T$8<=$M25,T$6<=$N25)),1,"")) | U25: =IF(AND($C25="Objectif",$O25=100%,AND(U$8>=$J25,U$6>=$K25),AND(U$8<=$M25,U$6<=$N25)),2,IF(AND($C25="Objectif",$O25<100%,AND(U$8>=$J25,U$6>=$K25),AND(U$8<=$M25,U$6<=$N25)),1,"")) | V25: =IF(AND($C25="Objectif",$O25=100%,AND(V$8>=$J25,V$6>=$K25),AND(V$8<=$M25,V$6<=$N25)),2,IF(AND($C25="Objectif",$O25<100%,AND(V$8>=$J25,V$6>=$K25),AND(V$8<=$M25,V$6<=$N25)),1,"")) | W25: =IF(AND($C25="Objectif",$O25=100%,AND(W$8>=$J25,W$6>=$K25),AND(W$8<=$M25,W$6<=$N25)),2,IF(AND($C25="Objectif",$O25<100%,AND(W$8>=$J25,W$6>=$K25),AND(W$8<=$M25,W$6<=$N25)),1,"")) -> 1 | X25: =IF(AND($C25="Objectif",$O25=100%,AND(X$8>=$J25,X$6>=$K25),AND(X$8<=$M25,X$6<=$N25)),2,IF(AND($C25="Objectif",$O25<100%,AND(X$8>=$J25,X$6>=$K25),AND(X$8<=$M25,X$6<=$N25)),1,"")) -> 1 | Y25: =IF(AND($C25="Objectif",$O25=100%,AND(Y$8>=$J25,Y$6>=$K25),AND(Y$8<=$M25,Y$6<=$N25)),2,IF(AND($C25="Objectif",$O25<100%,AND(Y$8>=$J25,Y$6>=$K25),AND(Y$8<=$M25,Y$6<=$N25)),1,"")) | ... BY25: =IF(AND($C25="Objectif",$O25=100%,AND(BY$8>=$J25,BY$6>=$K25),AND(BY$8<=$M25,BY$6<=$N25)),2,IF(AND($C25="Objectif",$O25<100%,AND(BY$8>=$J25,BY$6>=$K25),AND(BY$8<=$M25,BY$6<=$N25)),1,"")) | BZ25: =IF(OR($E25<$J25,$H25<$M25),"OK","NO") -> NO | CA25: =IF(AND($BZ25="OK",$H25<$M25),"OK",IF($BZ25="NO","","NO")) | CB25: =DATE($K25,1,3)-WEEKDAY(DATE($K25,1,3),3)+7*($J25-1) -> 43493 | CC25: =DATE($N25,1,3)-WEEKDAY(DATE($N25,1,3),3)+7*($M25-1) -> 43500 | CD25: =CC25-CB25 -> 7
... A39: 1.29 | B39: Sous-tâche 29 | C39: Objectif | E39: 30 | F39: 2019 | G39: 4 | H39: =IF(E39=VLOOKUP(F39,[1]Liste!$A$3:$B$13,2,FALSE),GANTT!G39,IF((GANTT!E39+GANTT!G39)>VLOOKUP(GANTT!F39,[1]Liste!$A$3:$B$13,2,FALSE),(GANTT!E39+GANTT!G39-VLOOKUP(GANTT!F39,[1]Liste!$A$3:$B$13,2,FALSE)),GANTT!E39+GANTT!G39)) -> 34 | I39: =IF(OR(E39=VLOOKUP(F39,[1]Liste!$A$3:$B$13,2,FALSE),(GANTT!E39+GANTT!G39)>VLOOKUP(F39,[1]Liste!$A$3:$B$13,2,FALSE)),GANTT!F39+1,GANTT!F39) -> 2019 | J39: =VALUE(E39) -> 30 | K39: =VALUE(F39) -> 2019 | L39: =G39 -> 4 | M39: =VALUE(H39) -> 34 | N39: =VALUE(I39) -> 2019 | O39: 0 | P39: =IF($O39=100%,"Terminée",IF(AND($M39<$Q$6,$N39<=$Q$5,$O39<100%),"En retard",IF(AND($J39>$Q$6,$K39>=$Q$5),"Non commencée","En cours"))) -> Non commencée | R39: =IF(AND($C39="Objectif",$O39=100%,AND(R$8>=$J39,R$6>=$K39),AND(R$8<=$M39,R$6<=$N39)),2,IF(AND($C39="Objectif",$O39<100%,AND(R$8>=$J39,R$6>=$K39),AND(R$8<=$M39,R$6<=$N39)),1,"")) | S39: =IF(AND($C39="Objectif",$O39=100%,AND(S$8>=$J39,S$6>=$K39),AND(S$8<=$M39,S$6<=$N39)),2,IF(AND($C39="Objectif",$O39<100%,AND(S$8>=$J39,S$6>=$K39),AND(S$8<=$M39,S$6<=$N39)),1,"")) | T39: =IF(AND($C39="Objectif",$O39=100%,AND(T$8>=$J39,T$6>=$K39),AND(T$8<=$M39,T$6<=$N39)),2,IF(AND($C39="Objectif",$O39<100%,AND(T$8>=$J39,T$6>=$K39),AND(T$8<=$M39,T$6<=$N39)),1,"")) | U39: =IF(AND($C39="Objectif",$O39=100%,AND(U$8>=$J39,U$6>=$K39),AND(U$8<=$M39,U$6<=$N39)),2,IF(AND($C39="Objectif",$O39<100%,AND(U$8>=$J39,U$6>=$K39),AND(U$8<=$M39,U$6<=$N39)),1,"")) | V39: =IF(AND($C39="Objectif",$O39=100%,AND(V$8>=$J39,V$6>=$K39),AND(V$8<=$M39,V$6<=$N39)),2,IF(AND($C39="Objectif",$O39<100%,AND(V$8>=$J39,V$6>=$K39),AND(V$8<=$M39,V$6<=$N39)),1,"")) | W39: =IF(AND($C39="Objectif",$O39=100%,AND(W$8>=$J39,W$6>=$K39),AND(W$8<=$M39,W$6<=$N39)),2,IF(AND($C39="Objectif",$O39<100%,AND(W$8>=$J39,W$6>=$K39),AND(W$8<=$M39,W$6<=$N39)),1,"")) | X39: =IF(AND($C39="Objectif",$O39=100%,AND(X$8>=$J39,X$6>=$K39),AND(X$8<=$M39,X$6<=$N39)),2,IF(AND($C39="Objectif",$O39<100%,AND(X$8>=$J39,X$6>=$K39),AND(X$8<=$M39,X$6<=$N39)),1,"")) | Y39: =IF(AND($C39="Objectif",$O39=100%,AND(Y$8>=$J39,Y$6>=$K39),AND(Y$8<=$M39,Y$6<=$N39)),2,IF(AND($C39="Objectif",$O39<100%,AND(Y$8>=$J39,Y$6>=$K39),AND(Y$8<=$M39,Y$6<=$N39)),1,"")) | ... BY39: =IF(AND($C39="Objectif",$O39=100%,AND(BY$8>=$J39,BY$6>=$K39),AND(BY$8<=$M39,BY$6<=$N39)),2,IF(AND($C39="Objectif",$O39<100%,AND(BY$8>=$J39,BY$6>=$K39),AND(BY$8<=$M39,BY$6<=$N39)),1,"")) | BZ39: =IF(OR($E39<$J39,$H39<$M39),"OK","NO") -> NO | CA39: =IF(AND($BZ39="OK",$H39<$M39),"OK",IF($BZ39="NO","","NO")) | CB39: =DATE($K39,1,3)-WEEKDAY(DATE($K39,1,3),3)+7*($J39-1) -> 43668 | CC39: =DATE($N39,1,3)-WEEKDAY(DATE($N39,1,3),3)+7*($M39-1) -> 43696 | CD39: =CC39-CB39 -> 28
B40: Pour ajouter des tâches, insérer une ligne au-dessus de celle-ci
I41: =IF(B41="","",IF(#REF!="OUI",WORKDAY(F41,IF(WEEKDAY(F41,2)>=6,G41,G41-1)),F41+G41-1))
I42: =IF(B42="","",IF(#REF!="OUI",WORKDAY(F42,IF(WEEKDAY(F42,2)>=6,G42,G42-1)),F42+G42-1)) | BZ42: total | CA42: =AVERAGE($O11:$O39) -> 0.17142857
I43: =IF(B43="","",IF(#REF!="OUI",WORKDAY(F43,IF(WEEKDAY(F43,2)>=6,G43,G43-1)),F43+G43-1)) | BZ43: En retard | CA43: =COUNTIF($P11:$P39,"En retard") -> 1
I44: =IF(B44="","",IF(#REF!="OUI",WORKDAY(F44,IF(WEEKDAY(F44,2)>=6,G44,G44-1)),F44+G44-1)) | BZ44: Non commencée | CA44: =COUNTIF($P11:$P40,"Non commencée") -> 20
I45: =IF(B45="","",IF(#REF!="OUI",WORKDAY(F45,IF(WEEKDAY(F45,2)>=6,G45,G45-1)),F45+G45-1)) | BZ45: En cours | CA45: =COUNTIF($P11:$P41,"En cours") -> 4
I46: =IF(B46="","",IF(#REF!="OUI",WORKDAY(F46,IF(WEEKDAY(F46,2)>=6,G46,G46-1)),F46+G46-1)) | BZ46: Terminée | CA46: =COUNTIF($P11:$P42,"Terminée") -> 3
I47: =IF(B47="","",IF(#REF!="OUI",WORKDAY(F47,IF(WEEKDAY(F47,2)>=6,G47,G47-1)),F47+G47-1)) | BZ47: Non retard | CA47: =COUNTIF($BZ11:$BZ39,"NO") -> 26
BZ48: Retard | CA48: =COUNTIF($BZ11:$BZ40,"OK") -> 2
I49: =IF(B49="","",IF(#REF!="OUI",WORKDAY(F49,IF(WEEKDAY(F49,2)>=6,G49,G49-1)),F49+G49-1)) | BZ49: Retard avec impact | CA49: =COUNTIF($CA11:$CA41,"OK") -> 1
I50: =IF(B50="","",IF(#REF!="OUI",WORKDAY(F50,IF(WEEKDAY(F50,2)>=6,G50,G50-1)),F50+G50-1)) | BZ50: Retard sans impact | CA50: =COUNTIF($CA11:$CA42,"NO") -> 1
I51: =IF(B51="","",IF(#REF!="OUI",WORKDAY(F51,IF(WEEKDAY(F51,2)>=6,G51,G51-1)),F51+G51-1))
I52: =IF(B52="","",IF(#REF!="OUI",WORKDAY(F52,IF(WEEKDAY(F52,2)>=6,G52,G52-1)),F52+G52-1))
I53: =IF(B53="","",IF(#REF!="OUI",WORKDAY(F53,IF(WEEKDAY(F53,2)>=6,G53,G53-1)),F53+G53-1))
...
