Workbook

Sheet PLANNING SALARIES
N1: PLANNING DES SALARIES OCTOBRE 2018
B3: NOM PRENOM /POSTE | C3: REPOS | D3: CONTRAT | E3: 1 | F3: 2 | G3: 3 | H3: 4 | I3: 5 | J3: 6 | K3: 7 | L3: 8 | M3: 9 | N3: 10 | O3: 11 | P3: 12 | Q3: 13 | R3: 14 | S3: 15 | T3: 16 | U3: 17 | V3: 18 | W3: 19 | X3: 20 | Y3: 21 | Z3: 22 | AA3: 23 | AB3: 24 | AC3: 25 | AD3: 26 | AE3: 27 | AF3: 28 | AG3: 29 | AH3: 30 | AI3: 31 | AJ3: VACATIONS
E4: L | F4: M | G4: Me | H4: J | I4: V | J4: S | K4: D | L4: L | M4: M | N4: Me | O4: J | P4: V | Q4: S | R4: D | S4: L | T4: M | U4: Me | V4: J | W4: V | X4: S | Y4: D | Z4: L | AA4: M | AB4: Me | AC4: J | AD4: V | AE4: S | AF4: D | AG4: L | AH4: M | AI4: Me
A5: 1 | B5: ABREU JARDIM Magda | E5: =IFERROR(INDEX('PLANNING DES SITES'!$A:$A,MATCH($B5,'PLANNING DES SITES'!E:E,0)),"") | F5: =IFERROR(INDEX('PLANNING DES SITES'!$A:$A,MATCH($B5,'PLANNING DES SITES'!F:F,0)),"") | G5: =IFERROR(INDEX('PLANNING DES SITES'!$A:$A,MATCH($B5,'PLANNING DES SITES'!G:G,0)),"") | H5: =IFERROR(INDEX('PLANNING DES SITES'!$A:$A,MATCH($B5,'PLANNING DES SITES'!H:H,0)),"") | I5: =IFERROR(INDEX('PLANNING DES SITES'!$A:$A,MATCH($B5,'PLANNING DES SITES'!I:I,0)),"") | J5: =IFERROR(INDEX('PLANNING DES SITES'!$A:$A,MATCH($B5,'PLANNING DES SITES'!J:J,0)),"") | K5: =IFERROR(INDEX('PLANNING DES SITES'!$A:$A,MATCH($B5,'PLANNING DES SITES'!K:K,0)),"") | L5: =IFERROR(INDEX('PLANNING DES SITES'!$A:$A,MATCH($B5,'PLANNING DES SITES'!L:L,0)),"") | M5: =IFERROR(INDEX('PLANNING DES SITES'!$A:$A,MATCH($B5,'PLANNING DES SITES'!M:M,0)),"") | N5: =IFERROR(INDEX('PLANNING DES SITES'!$A:$A,MATCH($B5,'PLANNING DES SITES'!N:N,0)),"") | O5: =IFERROR(INDEX('PLANNING DES SITES'!$A:$A,MATCH($B5,'PLANNING DES SITES'!O:O,0)),"") | P5: =IFERROR(INDEX('PLANNING DES SITES'!$A:$A,MATCH($B5,'PLANNING DES SITES'!P:P,0)),"") | Q5: =IFERROR(INDEX('PLANNING DES SITES'!$A:$A,MATCH($B5,'PLANNING DES SITES'!Q:Q,0)),"") | R5: =IFERROR(INDEX('PLANNING DES SITES'!$A:$A,MATCH($B5,'PLANNING DES SITES'!R:R,0)),"") | S5: =IFERROR(INDEX('PLANNING DES SITES'!$A:$A,MATCH($B5,'PLANNING DES SITES'!S:S,0)),"") | T5: =IFERROR(INDEX('PLANNING DES SITES'!$A:$A,MATCH($B5,'PLANNING DES SITES'!T:T,0)),"") | U5: =IFERROR(INDEX('PLANNING DES SITES'!$A:$A,MATCH($B5,'PLANNING DES SITES'!U:U,0)),"") | V5: =IFERROR(INDEX('PLANNING DES SITES'!$A:$A,MATCH($B5,'PLANNING DES SITES'!V:V,0)),"") | W5: =IFERROR(INDEX('PLANNING DES SITES'!$A:$A,MATCH($B5,'PLANNING DES SITES'!W:W,0)),"") | X5: =IFERROR(INDEX('PLANNING DES SITES'!$A:$A,MATCH($B5,'PLANNING DES SITES'!X:X,0)),"") | Y5: =IFERROR(INDEX('PLANNING DES SITES'!$A:$A,MATCH($B5,'PLANNING DES SITES'!Y:Y,0)),"") | Z5: =IFERROR(INDEX('PLANNING DES SITES'!$A:$A,MATCH($B5,'PLANNING DES SITES'!Z:Z,0)),"") | AA5: =IFERROR(INDEX('PLANNING DES SITES'!$A:$A,MATCH($B5,'PLANNING DES SITES'!AA:AA,0)),"") | AB5: =IFERROR(INDEX('PLANNING DES SITES'!$A:$A,MATCH($B5,'PLANNING DES SITES'!AB:AB,0)),"") | AC5: =IFERROR(INDEX('PLANNING DES SITES'!$A:$A,MATCH($B5,'PLANNING DES SITES'!AC:AC,0)),"") | AD5: =IFERROR(INDEX('PLANNING DES SITES'!$A:$A,MATCH($B5,'PLANNING DES SITES'!AD:AD,0)),"") | AE5: =IFERROR(INDEX('PLANNING DES SITES'!$A:$A,MATCH($B5,'PLANNING DES SITES'!AE:AE,0)),"") | AF5: =IFERROR(INDEX('PLANNING DES SITES'!$A:$A,MATCH($B5,'PLANNING DES SITES'!AF:AF,0)),"") | AG5: =IFERROR(INDEX('PLANNING DES SITES'!$A:$A,MATCH($B5,'PLANNING DES SITES'!AG:AG,0)),"") | AH5: =IFERROR(INDEX('PLANNING DES SITES'!$A:$A,MATCH($B5,'PLANNING DES SITES'!AH:AH,0)),"") | AI5: =IFERROR(INDEX('PLANNING DES SITES'!$A:$A,MATCH($B5,'PLANNING DES SITES'!AI:AI,0)),"") | AJ5: =COUNTA(E5:AI5) -> 31
A6: 2 | B6: ACRIS Eugenia | E6: =IFERROR(INDEX('PLANNING DES SITES'!$A:$A,MATCH($B6,'PLANNING DES SITES'!E:E,0)),"") | F6: =IFERROR(INDEX('PLANNING DES SITES'!$A:$A,MATCH($B6,'PLANNING DES SITES'!F:F,0)),"") | G6: =IFERROR(INDEX('PLANNING DES SITES'!$A:$A,MATCH($B6,'PLANNING DES SITES'!G:G,0)),"") | H6: =IFERROR(INDEX('PLANNING DES SITES'!$A:$A,MATCH($B6,'PLANNING DES SITES'!H:H,0)),"") | I6: =IFERROR(INDEX('PLANNING DES SITES'!$A:$A,MATCH($B6,'PLANNING DES SITES'!I:I,0)),"") | J6: =IFERROR(INDEX('PLANNING DES SITES'!$A:$A,MATCH($B6,'PLANNING DES SITES'!J:J,0)),"") | K6: =IFERROR(INDEX('PLANNING DES SITES'!$A:$A,MATCH($B6,'PLANNING DES SITES'!K:K,0)),"") | L6: =IFERROR(INDEX('PLANNING DES SITES'!$A:$A,MATCH($B6,'PLANNING DES SITES'!L:L,0)),"") | M6: =IFERROR(INDEX('PLANNING DES SITES'!$A:$A,MATCH($B6,'PLANNING DES SITES'!M:M,0)),"") | N6: =IFERROR(INDEX('PLANNING DES SITES'!$A:$A,MATCH($B6,'PLANNING DES SITES'!N:N,0)),"") | O6: =IFERROR(INDEX('PLANNING DES SITES'!$A:$A,MATCH($B6,'PLANNING DES SITES'!O:O,0)),"") | P6: =IFERROR(INDEX('PLANNING DES SITES'!$A:$A,MATCH($B6,'PLANNING DES SITES'!P:P,0)),"") | Q6: =IFERROR(INDEX('PLANNING DES SITES'!$A:$A,MATCH($B6,'PLANNING DES SITES'!Q:Q,0)),"") | R6: =IFERROR(INDEX('PLANNING DES SITES'!$A:$A,MATCH($B6,'PLANNING DES SITES'!R:R,0)),"") | S6: =IFERROR(INDEX('PLANNING DES SITES'!$A:$A,MATCH($B6,'PLANNING DES SITES'!S:S,0)),"") | T6: =IFERROR(INDEX('PLANNING DES SITES'!$A:$A,MATCH($B6,'PLANNING DES SITES'!T:T,0)),"") | U6: =IFERROR(INDEX('PLANNING DES SITES'!$A:$A,MATCH($B6,'PLANNING DES SITES'!U:U,0)),"") | V6: =IFERROR(INDEX('PLANNING DES SITES'!$A:$A,MATCH($B6,'PLANNING DES SITES'!V:V,0)),"") | W6: =IFERROR(INDEX('PLANNING DES SITES'!$A:$A,MATCH($B6,'PLANNING DES SITES'!W:W,0)),"") | X6: =IFERROR(INDEX('PLANNING DES SITES'!$A:$A,MATCH($B6,'PLANNING DES SITES'!X:X,0)),"") | Y6: =IFERROR(INDEX('PLANNING DES SITES'!$A:$A,MATCH($B6,'PLANNING DES SITES'!Y:Y,0)),"") | Z6: =IFERROR(INDEX('PLANNING DES SITES'!$A:$A,MATCH($B6,'PLANNING DES SITES'!Z:Z,0)),"") | AA6: =IFERROR(INDEX('PLANNING DES SITES'!$A:$A,MATCH($B6,'PLANNING DES SITES'!AA:AA,0)),"") | AB6: =IFERROR(INDEX('PLANNING DES SITES'!$A:$A,MATCH($B6,'PLANNING DES SITES'!AB:AB,0)),"") | AC6: =IFERROR(INDEX('PLANNING DES SITES'!$A:$A,MATCH($B6,'PLANNING DES SITES'!AC:AC,0)),"") | AD6: =IFERROR(INDEX('PLANNING DES SITES'!$A:$A,MATCH($B6,'PLANNING DES SITES'!AD:AD,0)),"") | AE6: =IFERROR(INDEX('PLANNING DES SITES'!$A:$A,MATCH($B6,'PLANNING DES SITES'!AE:AE,0)),"") | AF6: =IFERROR(INDEX('PLANNING DES SITES'!$A:$A,MATCH($B6,'PLANNING DES SITES'!AF:AF,0)),"") | AG6: =IFERROR(INDEX('PLANNING DES SITES'!$A:$A,MATCH($B6,'PLANNING DES SITES'!AG:AG,0)),"") | AH6: =IFERROR(INDEX('PLANNING DES SITES'!$A:$A,MATCH($B6,'PLANNING DES SITES'!AH:AH,0)),"") | AI6: =IFERROR(INDEX('PLANNING DES SITES'!$A:$A,MATCH($B6,'PLANNING DES SITES'!AI:AI,0)),"") | AJ6: =COUNTA(E6:AI6) -> 31
A7: 3 | B7: AMIEL Najia | E7: =IFERROR(INDEX('PLANNING DES SITES'!$A:$A,MATCH($B7,'PLANNING DES SITES'!E:E,0)),"") | F7: =IFERROR(INDEX('PLANNING DES SITES'!$A:$A,MATCH($B7,'PLANNING DES SITES'!F:F,0)),"") | G7: =IFERROR(INDEX('PLANNING DES SITES'!$A:$A,MATCH($B7,'PLANNING DES SITES'!G:G,0)),"") | H7: =IFERROR(INDEX('PLANNING DES SITES'!$A:$A,MATCH($B7,'PLANNING DES SITES'!H:H,0)),"") | I7: =IFERROR(INDEX('PLANNING DES SITES'!$A:$A,MATCH($B7,'PLANNING DES SITES'!I:I,0)),"") | J7: =IFERROR(INDEX('PLANNING DES SITES'!$A:$A,MATCH($B7,'PLANNING DES SITES'!J:J,0)),"") | K7: =IFERROR(INDEX('PLANNING DES SITES'!$A:$A,MATCH($B7,'PLANNING DES SITES'!K:K,0)),"") | L7: =IFERROR(INDEX('PLANNING DES SITES'!$A:$A,MATCH($B7,'PLANNING DES SITES'!L:L,0)),"") | M7: =IFERROR(INDEX('PLANNING DES SITES'!$A:$A,MATCH($B7,'PLANNING DES SITES'!M:M,0)),"") | N7: =IFERROR(INDEX('PLANNING DES SITES'!$A:$A,MATCH($B7,'PLANNING DES SITES'!N:N,0)),"") | O7: =IFERROR(INDEX('PLANNING DES SITES'!$A:$A,MATCH($B7,'PLANNING DES SITES'!O:O,0)),"") | P7: =IFERROR(INDEX('PLANNING DES SITES'!$A:$A,MATCH($B7,'PLANNING DES SITES'!P:P,0)),"") | Q7: =IFERROR(INDEX('PLANNING DES SITES'!$A:$A,MATCH($B7,'PLANNING DES SITES'!Q:Q,0)),"") | R7: =IFERROR(INDEX('PLANNING DES SITES'!$A:$A,MATCH($B7,'PLANNING DES SITES'!R:R,0)),"") | S7: =IFERROR(INDEX('PLANNING DES SITES'!$A:$A,MATCH($B7,'PLANNING DES SITES'!S:S,0)),"") | T7: =IFERROR(INDEX('PLANNING DES SITES'!$A:$A,MATCH($B7,'PLANNING DES SITES'!T:T,0)),"") | U7: =IFERROR(INDEX('PLANNING DES SITES'!$A:$A,MATCH($B7,'PLANNING DES SITES'!U:U,0)),"") | V7: =IFERROR(INDEX('PLANNING DES SITES'!$A:$A,MATCH($B7,'PLANNING DES SITES'!V:V,0)),"") | W7: =IFERROR(INDEX('PLANNING DES SITES'!$A:$A,MATCH($B7,'PLANNING DES SITES'!W:W,0)),"") | X7: =IFERROR(INDEX('PLANNING DES SITES'!$A:$A,MATCH($B7,'PLANNING DES SITES'!X:X,0)),"") | Y7: =IFERROR(INDEX('PLANNING DES SITES'!$A:$A,MATCH($B7,'PLANNING DES SITES'!Y:Y,0)),"") | Z7: =IFERROR(INDEX('PLANNING DES SITES'!$A:$A,MATCH($B7,'PLANNING DES SITES'!Z:Z,0)),"") | AA7: =IFERROR(INDEX('PLANNING DES SITES'!$A:$A,MATCH($B7,'PLANNING DES SITES'!AA:AA,0)),"") | AB7: =IFERROR(INDEX('PLANNING DES SITES'!$A:$A,MATCH($B7,'PLANNING DES SITES'!AB:AB,0)),"") | AC7: =IFERROR(INDEX('PLANNING DES SITES'!$A:$A,MATCH($B7,'PLANNING DES SITES'!AC:AC,0)),"") | AD7: =IFERROR(INDEX('PLANNING DES SITES'!$A:$A,MATCH($B7,'PLANNING DES SITES'!AD:AD,0)),"") | AE7: =IFERROR(INDEX('PLANNING DES SITES'!$A:$A,MATCH($B7,'PLANNING DES SITES'!AE:AE,0)),"") | AF7: =IFERROR(INDEX('PLANNING DES SITES'!$A:$A,MATCH($B7,'PLANNING DES SITES'!AF:AF,0)),"") | AG7: =IFERROR(INDEX('PLANNING DES SITES'!$A:$A,MATCH($B7,'PLANNING DES SITES'!AG:AG,0)),"") | AH7: =IFERROR(INDEX('PLANNING DES SITES'!$A:$A,MATCH($B7,'PLANNING DES SITES'!AH:AH,0)),"") | AI7: =IFERROR(INDEX('PLANNING DES SITES'!$A:$A,MATCH($B7,'PLANNING DES SITES'!AI:AI,0)),"") | AJ7: =COUNTA(E7:AI7) -> 31
A8: 4 | B8: AMOASEI Elena | E8: =IFERROR(INDEX('PLANNING DES SITES'!$A:$A,MATCH($B8,'PLANNING DES SITES'!E:E,0)),"") | F8: =IFERROR(INDEX('PLANNING DES SITES'!$A:$A,MATCH($B8,'PLANNING DES SITES'!F:F,0)),"") | G8: =IFERROR(INDEX('PLANNING DES SITES'!$A:$A,MATCH($B8,'PLANNING DES SITES'!G:G,0)),"") | H8: =IFERROR(INDEX('PLANNING DES SITES'!$A:$A,MATCH($B8,'PLANNING DES SITES'!H:H,0)),"") | I8: =IFERROR(INDEX('PLANNING DES SITES'!$A:$A,MATCH($B8,'PLANNING DES SITES'!I:I,0)),"") | J8: =IFERROR(INDEX('PLANNING DES SITES'!$A:$A,MATCH($B8,'PLANNING DES SITES'!J:J,0)),"") | K8: =IFERROR(INDEX('PLANNING DES SITES'!$A:$A,MATCH($B8,'PLANNING DES SITES'!K:K,0)),"") | L8: =IFERROR(INDEX('PLANNING DES SITES'!$A:$A,MATCH($B8,'PLANNING DES SITES'!L:L,0)),"") | M8: =IFERROR(INDEX('PLANNING DES SITES'!$A:$A,MATCH($B8,'PLANNING DES SITES'!M:M,0)),"") | N8: =IFERROR(INDEX('PLANNING DES SITES'!$A:$A,MATCH($B8,'PLANNING DES SITES'!N:N,0)),"") | O8: =IFERROR(INDEX('PLANNING DES SITES'!$A:$A,MATCH($B8,'PLANNING DES SITES'!O:O,0)),"") | P8: =IFERROR(INDEX('PLANNING DES SITES'!$A:$A,MATCH($B8,'PLANNING DES SITES'!P:P,0)),"") | Q8: =IFERROR(INDEX('PLANNING DES SITES'!$A:$A,MATCH($B8,'PLANNING DES SITES'!Q:Q,0)),"") | R8: =IFERROR(INDEX('PLANNING DES SITES'!$A:$A,MATCH($B8,'PLANNING DES SITES'!R:R,0)),"") | S8: =IFERROR(INDEX('PLANNING DES SITES'!$A:$A,MATCH($B8,'PLANNING DES SITES'!S:S,0)),"") | T8: =IFERROR(INDEX('PLANNING DES SITES'!$A:$A,MATCH($B8,'PLANNING DES SITES'!T:T,0)),"") | U8: =IFERROR(INDEX('PLANNING DES SITES'!$A:$A,MATCH($B8,'PLANNING DES SITES'!U:U,0)),"") | V8: =IFERROR(INDEX('PLANNING DES SITES'!$A:$A,MATCH($B8,'PLANNING DES SITES'!V:V,0)),"") | W8: =IFERROR(INDEX('PLANNING DES SITES'!$A:$A,MATCH($B8,'PLANNING DES SITES'!W:W,0)),"") | X8: =IFERROR(INDEX('PLANNING DES SITES'!$A:$A,MATCH($B8,'PLANNING DES SITES'!X:X,0)),"") | Y8: =IFERROR(INDEX('PLANNING DES SITES'!$A:$A,MATCH($B8,'PLANNING DES SITES'!Y:Y,0)),"") | Z8: =IFERROR(INDEX('PLANNING DES SITES'!$A:$A,MATCH($B8,'PLANNING DES SITES'!Z:Z,0)),"") | AA8: =IFERROR(INDEX('PLANNING DES SITES'!$A:$A,MATCH($B8,'PLANNING DES SITES'!AA:AA,0)),"") | AB8: =IFERROR(INDEX('PLANNING DES SITES'!$A:$A,MATCH($B8,'PLANNING DES SITES'!AB:AB,0)),"") | AC8: =IFERROR(INDEX('PLANNING DES SITES'!$A:$A,MATCH($B8,'PLANNING DES SITES'!AC:AC,0)),"") | AD8: =IFERROR(INDEX('PLANNING DES SITES'!$A:$A,MATCH($B8,'PLANNING DES SITES'!AD:AD,0)),"") | AE8: =IFERROR(INDEX('PLANNING DES SITES'!$A:$A,MATCH($B8,'PLANNING DES SITES'!AE:AE,0)),"") | AF8: =IFERROR(INDEX('PLANNING DES SITES'!$A:$A,MATCH($B8,'PLANNING DES SITES'!AF:AF,0)),"") | AG8: =IFERROR(INDEX('PLANNING DES SITES'!$A:$A,MATCH($B8,'PLANNING DES SITES'!AG:AG,0)),"") | AH8: =IFERROR(INDEX('PLANNING DES SITES'!$A:$A,MATCH($B8,'PLANNING DES SITES'!AH:AH,0)),"") | AI8: =IFERROR(INDEX('PLANNING DES SITES'!$A:$A,MATCH($B8,'PLANNING DES SITES'!AI:AI,0)),"") | AJ8: =COUNTA(E8:AI8) -> 31
A9: 5 | B9: BAPARI Sharif | E9: =IFERROR(INDEX('PLANNING DES SITES'!$A:$A,MATCH($B9,'PLANNING DES SITES'!E:E,0)),"") | F9: =IFERROR(INDEX('PLANNING DES SITES'!$A:$A,MATCH($B9,'PLANNING DES SITES'!F:F,0)),"") | G9: =IFERROR(INDEX('PLANNING DES SITES'!$A:$A,MATCH($B9,'PLANNING DES SITES'!G:G,0)),"") | H9: =IFERROR(INDEX('PLANNING DES SITES'!$A:$A,MATCH($B9,'PLANNING DES SITES'!H:H,0)),"") | I9: =IFERROR(INDEX('PLANNING DES SITES'!$A:$A,MATCH($B9,'PLANNING DES SITES'!I:I,0)),"") | J9: =IFERROR(INDEX('PLANNING DES SITES'!$A:$A,MATCH($B9,'PLANNING DES SITES'!J:J,0)),"") | K9: =IFERROR(INDEX('PLANNING DES SITES'!$A:$A,MATCH($B9,'PLANNING DES SITES'!K:K,0)),"") | L9: =IFERROR(INDEX('PLANNING DES SITES'!$A:$A,MATCH($B9,'PLANNING DES SITES'!L:L,0)),"") | M9: =IFERROR(INDEX('PLANNING DES SITES'!$A:$A,MATCH($B9,'PLANNING DES SITES'!M:M,0)),"") | N9: =IFERROR(INDEX('PLANNING DES SITES'!$A:$A,MATCH($B9,'PLANNING DES SITES'!N:N,0)),"") | O9: =IFERROR(INDEX('PLANNING DES SITES'!$A:$A,MATCH($B9,'PLANNING DES SITES'!O:O,0)),"") | P9: =IFERROR(INDEX('PLANNING DES SITES'!$A:$A,MATCH($B9,'PLANNING DES SITES'!P:P,0)),"") | Q9: =IFERROR(INDEX('PLANNING DES SITES'!$A:$A,MATCH($B9,'PLANNING DES SITES'!Q:Q,0)),"") | R9: =IFERROR(INDEX('PLANNING DES SITES'!$A:$A,MATCH($B9,'PLANNING DES SITES'!R:R,0)),"") | S9: =IFERROR(INDEX('PLANNING DES SITES'!$A:$A,MATCH($B9,'PLANNING DES SITES'!S:S,0)),"") | T9: =IFERROR(INDEX('PLANNING DES SITES'!$A:$A,MATCH($B9,'PLANNING DES SITES'!T:T,0)),"") | U9: =IFERROR(INDEX('PLANNING DES SITES'!$A:$A,MATCH($B9,'PLANNING DES SITES'!U:U,0)),"") | V9: =IFERROR(INDEX('PLANNING DES SITES'!$A:$A,MATCH($B9,'PLANNING DES SITES'!V:V,0)),"") | W9: =IFERROR(INDEX('PLANNING DES SITES'!$A:$A,MATCH($B9,'PLANNING DES SITES'!W:W,0)),"") | X9: =IFERROR(INDEX('PLANNING DES SITES'!$A:$A,MATCH($B9,'PLANNING DES SITES'!X:X,0)),"") | Y9: =IFERROR(INDEX('PLANNING DES SITES'!$A:$A,MATCH($B9,'PLANNING DES SITES'!Y:Y,0)),"") | Z9: =IFERROR(INDEX('PLANNING DES SITES'!$A:$A,MATCH($B9,'PLANNING DES SITES'!Z:Z,0)),"") | AA9: =IFERROR(INDEX('PLANNING DES SITES'!$A:$A,MATCH($B9,'PLANNING DES SITES'!AA:AA,0)),"") | AB9: =IFERROR(INDEX('PLANNING DES SITES'!$A:$A,MATCH($B9,'PLANNING DES SITES'!AB:AB,0)),"") | AC9: =IFERROR(INDEX('PLANNING DES SITES'!$A:$A,MATCH($B9,'PLANNING DES SITES'!AC:AC,0)),"") | AD9: =IFERROR(INDEX('PLANNING DES SITES'!$A:$A,MATCH($B9,'PLANNING DES SITES'!AD:AD,0)),"") | AE9: =IFERROR(INDEX('PLANNING DES SITES'!$A:$A,MATCH($B9,'PLANNING DES SITES'!AE:AE,0)),"") | AF9: =IFERROR(INDEX('PLANNING DES SITES'!$A:$A,MATCH($B9,'PLANNING DES SITES'!AF:AF,0)),"") | AG9: =IFERROR(INDEX('PLANNING DES SITES'!$A:$A,MATCH($B9,'PLANNING DES SITES'!AG:AG,0)),"") | AH9: =IFERROR(INDEX('PLANNING DES SITES'!$A:$A,MATCH($B9,'PLANNING DES SITES'!AH:AH,0)),"") | AI9: =IFERROR(INDEX('PLANNING DES SITES'!$A:$A,MATCH($B9,'PLANNING DES SITES'!AI:AI,0)),"") | AJ9: =COUNTA(E9:AI9) -> 31
A10: 6 | B10: BATISTA TELES DA SILVA Michele | E10: =IFERROR(INDEX('PLANNING DES SITES'!$A:$A,MATCH($B10,'PLANNING DES SITES'!E:E,0)),"") | F10: =IFERROR(INDEX('PLANNING DES SITES'!$A:$A,MATCH($B10,'PLANNING DES SITES'!F:F,0)),"") | G10: =IFERROR(INDEX('PLANNING DES SITES'!$A:$A,MATCH($B10,'PLANNING DES SITES'!G:G,0)),"") | H10: =IFERROR(INDEX('PLANNING DES SITES'!$A:$A,MATCH($B10,'PLANNING DES SITES'!H:H,0)),"") | I10: =IFERROR(INDEX('PLANNING DES SITES'!$A:$A,MATCH($B10,'PLANNING DES SITES'!I:I,0)),"") | J10: =IFERROR(INDEX('PLANNING DES SITES'!$A:$A,MATCH($B10,'PLANNING DES SITES'!J:J,0)),"") | K10: =IFERROR(INDEX('PLANNING DES SITES'!$A:$A,MATCH($B10,'PLANNING DES SITES'!K:K,0)),"") | L10: =IFERROR(INDEX('PLANNING DES SITES'!$A:$A,MATCH($B10,'PLANNING DES SITES'!L:L,0)),"") | M10: =IFERROR(INDEX('PLANNING DES SITES'!$A:$A,MATCH($B10,'PLANNING DES SITES'!M:M,0)),"") | N10: =IFERROR(INDEX('PLANNING DES SITES'!$A:$A,MATCH($B10,'PLANNING DES SITES'!N:N,0)),"") | O10: =IFERROR(INDEX('PLANNING DES SITES'!$A:$A,MATCH($B10,'PLANNING DES SITES'!O:O,0)),"") | P10: =IFERROR(INDEX('PLANNING DES SITES'!$A:$A,MATCH($B10,'PLANNING DES SITES'!P:P,0)),"") | Q10: =IFERROR(INDEX('PLANNING DES SITES'!$A:$A,MATCH($B10,'PLANNING DES SITES'!Q:Q,0)),"") | R10: =IFERROR(INDEX('PLANNING DES SITES'!$A:$A,MATCH($B10,'PLANNING DES SITES'!R:R,0)),"") | S10: =IFERROR(INDEX('PLANNING DES SITES'!$A:$A,MATCH($B10,'PLANNING DES SITES'!S:S,0)),"") | T10: =IFERROR(INDEX('PLANNING DES SITES'!$A:$A,MATCH($B10,'PLANNING DES SITES'!T:T,0)),"") | U10: =IFERROR(INDEX('PLANNING DES SITES'!$A:$A,MATCH($B10,'PLANNING DES SITES'!U:U,0)),"") | V10: =IFERROR(INDEX('PLANNING DES SITES'!$A:$A,MATCH($B10,'PLANNING DES SITES'!V:V,0)),"") | W10: =IFERROR(INDEX('PLANNING DES SITES'!$A:$A,MATCH($B10,'PLANNING DES SITES'!W:W,0)),"") | X10: =IFERROR(INDEX('PLANNING DES SITES'!$A:$A,MATCH($B10,'PLANNING DES SITES'!X:X,0)),"") | Y10: =IFERROR(INDEX('PLANNING DES SITES'!$A:$A,MATCH($B10,'PLANNING DES SITES'!Y:Y,0)),"") | Z10: =IFERROR(INDEX('PLANNING DES SITES'!$A:$A,MATCH($B10,'PLANNING DES SITES'!Z:Z,0)),"") | AA10: =IFERROR(INDEX('PLANNING DES SITES'!$A:$A,MATCH($B10,'PLANNING DES SITES'!AA:AA,0)),"") | AB10: =IFERROR(INDEX('PLANNING DES SITES'!$A:$A,MATCH($B10,'PLANNING DES SITES'!AB:AB,0)),"") | AC10: =IFERROR(INDEX('PLANNING DES SITES'!$A:$A,MATCH($B10,'PLANNING DES SITES'!AC:AC,0)),"") | AD10: =IFERROR(INDEX('PLANNING DES SITES'!$A:$A,MATCH($B10,'PLANNING DES SITES'!AD:AD,0)),"") | AE10: =IFERROR(INDEX('PLANNING DES SITES'!$A:$A,MATCH($B10,'PLANNING DES SITES'!AE:AE,0)),"") | AF10: =IFERROR(INDEX('PLANNING DES SITES'!$A:$A,MATCH($B10,'PLANNING DES SITES'!AF:AF,0)),"") | AG10: =IFERROR(INDEX('PLANNING DES SITES'!$A:$A,MATCH($B10,'PLANNING DES SITES'!AG:AG,0)),"") | AH10: =IFERROR(INDEX('PLANNING DES SITES'!$A:$A,MATCH($B10,'PLANNING DES SITES'!AH:AH,0)),"") | AI10: =IFERROR(INDEX('PLANNING DES SITES'!$A:$A,MATCH($B10,'PLANNING DES SITES'!AI:AI,0)),"") | AJ10: =COUNTA(E10:AI10) -> 31
A11: 7 | B11: BEPARI MD Samaollah | E11: =IFERROR(INDEX('PLANNING DES SITES'!$A:$A,MATCH($B11,'PLANNING DES SITES'!E:E,0)),"") | F11: =IFERROR(INDEX('PLANNING DES SITES'!$A:$A,MATCH($B11,'PLANNING DES SITES'!F:F,0)),"") | G11: =IFERROR(INDEX('PLANNING DES SITES'!$A:$A,MATCH($B11,'PLANNING DES SITES'!G:G,0)),"") | H11: =IFERROR(INDEX('PLANNING DES SITES'!$A:$A,MATCH($B11,'PLANNING DES SITES'!H:H,0)),"") | I11: =IFERROR(INDEX('PLANNING DES SITES'!$A:$A,MATCH($B11,'PLANNING DES SITES'!I:I,0)),"") | J11: =IFERROR(INDEX('PLANNING DES SITES'!$A:$A,MATCH($B11,'PLANNING DES SITES'!J:J,0)),"") | K11: =IFERROR(INDEX('PLANNING DES SITES'!$A:$A,MATCH($B11,'PLANNING DES SITES'!K:K,0)),"") | L11: =IFERROR(INDEX('PLANNING DES SITES'!$A:$A,MATCH($B11,'PLANNING DES SITES'!L:L,0)),"") | M11: =IFERROR(INDEX('PLANNING DES SITES'!$A:$A,MATCH($B11,'PLANNING DES SITES'!M:M,0)),"") | N11: =IFERROR(INDEX('PLANNING DES SITES'!$A:$A,MATCH($B11,'PLANNING DES SITES'!N:N,0)),"") | O11: =IFERROR(INDEX('PLANNING DES SITES'!$A:$A,MATCH($B11,'PLANNING DES SITES'!O:O,0)),"") | P11: =IFERROR(INDEX('PLANNING DES SITES'!$A:$A,MATCH($B11,'PLANNING DES SITES'!P:P,0)),"") | Q11: =IFERROR(INDEX('PLANNING DES SITES'!$A:$A,MATCH($B11,'PLANNING DES SITES'!Q:Q,0)),"") | R11: =IFERROR(INDEX('PLANNING DES SITES'!$A:$A,MATCH($B11,'PLANNING DES SITES'!R:R,0)),"") | S11: =IFERROR(INDEX('PLANNING DES SITES'!$A:$A,MATCH($B11,'PLANNING DES SITES'!S:S,0)),"") | T11: =IFERROR(INDEX('PLANNING DES SITES'!$A:$A,MATCH($B11,'PLANNING DES SITES'!T:T,0)),"") | U11: =IFERROR(INDEX('PLANNING DES SITES'!$A:$A,MATCH($B11,'PLANNING DES SITES'!U:U,0)),"") | V11: =IFERROR(INDEX('PLANNING DES SITES'!$A:$A,MATCH($B11,'PLANNING DES SITES'!V:V,0)),"") | W11: =IFERROR(INDEX('PLANNING DES SITES'!$A:$A,MATCH($B11,'PLANNING DES SITES'!W:W,0)),"") | X11: =IFERROR(INDEX('PLANNING DES SITES'!$A:$A,MATCH($B11,'PLANNING DES SITES'!X:X,0)),"") | Y11: =IFERROR(INDEX('PLANNING DES SITES'!$A:$A,MATCH($B11,'PLANNING DES SITES'!Y:Y,0)),"") | Z11: =IFERROR(INDEX('PLANNING DES SITES'!$A:$A,MATCH($B11,'PLANNING DES SITES'!Z:Z,0)),"") | AA11: =IFERROR(INDEX('PLANNING DES SITES'!$A:$A,MATCH($B11,'PLANNING DES SITES'!AA:AA,0)),"") | AB11: =IFERROR(INDEX('PLANNING DES SITES'!$A:$A,MATCH($B11,'PLANNING DES SITES'!AB:AB,0)),"") | AC11: =IFERROR(INDEX('PLANNING DES SITES'!$A:$A,MATCH($B11,'PLANNING DES SITES'!AC:AC,0)),"") | AD11: =IFERROR(INDEX('PLANNING DES SITES'!$A:$A,MATCH($B11,'PLANNING DES SITES'!AD:AD,0)),"") | AE11: =IFERROR(INDEX('PLANNING DES SITES'!$A:$A,MATCH($B11,'PLANNING DES SITES'!AE:AE,0)),"") | AF11: =IFERROR(INDEX('PLANNING DES SITES'!$A:$A,MATCH($B11,'PLANNING DES SITES'!AF:AF,0)),"") | AG11: =IFERROR(INDEX('PLANNING DES SITES'!$A:$A,MATCH($B11,'PLANNING DES SITES'!AG:AG,0)),"") | AH11: =IFERROR(INDEX('PLANNING DES SITES'!$A:$A,MATCH($B11,'PLANNING DES SITES'!AH:AH,0)),"") | AI11: =IFERROR(INDEX('PLANNING DES SITES'!$A:$A,MATCH($B11,'PLANNING DES SITES'!AI:AI,0)),"") | AJ11: =COUNTA(E11:AI11) -> 31
A12: 8 | B12: BOJLUR Rahaman | E12: =IFERROR(INDEX('PLANNING DES SITES'!$A:$A,MATCH($B12,'PLANNING DES SITES'!E:E,0)),"") | F12: =IFERROR(INDEX('PLANNING DES SITES'!$A:$A,MATCH($B12,'PLANNING DES SITES'!F:F,0)),"") | G12: =IFERROR(INDEX('PLANNING DES SITES'!$A:$A,MATCH($B12,'PLANNING DES SITES'!G:G,0)),"") | H12: =IFERROR(INDEX('PLANNING DES SITES'!$A:$A,MATCH($B12,'PLANNING DES SITES'!H:H,0)),"") | I12: =IFERROR(INDEX('PLANNING DES SITES'!$A:$A,MATCH($B12,'PLANNING DES SITES'!I:I,0)),"") | J12: =IFERROR(INDEX('PLANNING DES SITES'!$A:$A,MATCH($B12,'PLANNING DES SITES'!J:J,0)),"") | K12: =IFERROR(INDEX('PLANNING DES SITES'!$A:$A,MATCH($B12,'PLANNING DES SITES'!K:K,0)),"") | L12: =IFERROR(INDEX('PLANNING DES SITES'!$A:$A,MATCH($B12,'PLANNING DES SITES'!L:L,0)),"") | M12: =IFERROR(INDEX('PLANNING DES SITES'!$A:$A,MATCH($B12,'PLANNING DES SITES'!M:M,0)),"") | N12: =IFERROR(INDEX('PLANNING DES SITES'!$A:$A,MATCH($B12,'PLANNING DES SITES'!N:N,0)),"") | O12: =IFERROR(INDEX('PLANNING DES SITES'!$A:$A,MATCH($B12,'PLANNING DES SITES'!O:O,0)),"") | P12: =IFERROR(INDEX('PLANNING DES SITES'!$A:$A,MATCH($B12,'PLANNING DES SITES'!P:P,0)),"") | Q12: =IFERROR(INDEX('PLANNING DES SITES'!$A:$A,MATCH($B12,'PLANNING DES SITES'!Q:Q,0)),"") | R12: =IFERROR(INDEX('PLANNING DES SITES'!$A:$A,MATCH($B12,'PLANNING DES SITES'!R:R,0)),"") | S12: =IFERROR(INDEX('PLANNING DES SITES'!$A:$A,MATCH($B12,'PLANNING DES SITES'!S:S,0)),"") | T12: =IFERROR(INDEX('PLANNING DES SITES'!$A:$A,MATCH($B12,'PLANNING DES SITES'!T:T,0)),"") | U12: =IFERROR(INDEX('PLANNING DES SITES'!$A:$A,MATCH($B12,'PLANNING DES SITES'!U:U,0)),"") | V12: =IFERROR(INDEX('PLANNING DES SITES'!$A:$A,MATCH($B12,'PLANNING DES SITES'!V:V,0)),"") | W12: =IFERROR(INDEX('PLANNING DES SITES'!$A:$A,MATCH($B12,'PLANNING DES SITES'!W:W,0)),"") | X12: =IFERROR(INDEX('PLANNING DES SITES'!$A:$A,MATCH($B12,'PLANNING DES SITES'!X:X,0)),"") | Y12: =IFERROR(INDEX('PLANNING DES SITES'!$A:$A,MATCH($B12,'PLANNING DES SITES'!Y:Y,0)),"") | Z12: =IFERROR(INDEX('PLANNING DES SITES'!$A:$A,MATCH($B12,'PLANNING DES SITES'!Z:Z,0)),"") | AA12: =IFERROR(INDEX('PLANNING DES SITES'!$A:$A,MATCH($B12,'PLANNING DES SITES'!AA:AA,0)),"") | AB12: =IFERROR(INDEX('PLANNING DES SITES'!$A:$A,MATCH($B12,'PLANNING DES SITES'!AB:AB,0)),"") | AC12: =IFERROR(INDEX('PLANNING DES SITES'!$A:$A,MATCH($B12,'PLANNING DES SITES'!AC:AC,0)),"") | AD12: =IFERROR(INDEX('PLANNING DES SITES'!$A:$A,MATCH($B12,'PLANNING DES SITES'!AD:AD,0)),"") | AE12: =IFERROR(INDEX('PLANNING DES SITES'!$A:$A,MATCH($B12,'PLANNING DES SITES'!AE:AE,0)),"") | AF12: =IFERROR(INDEX('PLANNING DES SITES'!$A:$A,MATCH($B12,'PLANNING DES SITES'!AF:AF,0)),"") | AG12: =IFERROR(INDEX('PLANNING DES SITES'!$A:$A,MATCH($B12,'PLANNING DES SITES'!AG:AG,0)),"") | AH12: =IFERROR(INDEX('PLANNING DES SITES'!$A:$A,MATCH($B12,'PLANNING DES SITES'!AH:AH,0)),"") | AI12: =IFERROR(INDEX('PLANNING DES SITES'!$A:$A,MATCH($B12,'PLANNING DES SITES'!AI:AI,0)),"") | AJ12: =COUNTA(E12:AI12) -> 31
A13: 9 | B13: BOURHOUFALA Yasmina STARKO | E13: =IFERROR(INDEX('PLANNING DES SITES'!$A:$A,MATCH($B13,'PLANNING DES SITES'!E:E,0)),"") | F13: =IFERROR(INDEX('PLANNING DES SITES'!$A:$A,MATCH($B13,'PLANNING DES SITES'!F:F,0)),"") | G13: =IFERROR(INDEX('PLANNING DES SITES'!$A:$A,MATCH($B13,'PLANNING DES SITES'!G:G,0)),"") | H13: =IFERROR(INDEX('PLANNING DES SITES'!$A:$A,MATCH($B13,'PLANNING DES SITES'!H:H,0)),"") | I13: =IFERROR(INDEX('PLANNING DES SITES'!$A:$A,MATCH($B13,'PLANNING DES SITES'!I:I,0)),"") | J13: =IFERROR(INDEX('PLANNING DES SITES'!$A:$A,MATCH($B13,'PLANNING DES SITES'!J:J,0)),"") | K13: =IFERROR(INDEX('PLANNING DES SITES'!$A:$A,MATCH($B13,'PLANNING DES SITES'!K:K,0)),"") | L13: =IFERROR(INDEX('PLANNING DES SITES'!$A:$A,MATCH($B13,'PLANNING DES SITES'!L:L,0)),"") | M13: =IFERROR(INDEX('PLANNING DES SITES'!$A:$A,MATCH($B13,'PLANNING DES SITES'!M:M,0)),"") | N13: =IFERROR(INDEX('PLANNING DES SITES'!$A:$A,MATCH($B13,'PLANNING DES SITES'!N:N,0)),"") | O13: =IFERROR(INDEX('PLANNING DES SITES'!$A:$A,MATCH($B13,'PLANNING DES SITES'!O:O,0)),"") | P13: =IFERROR(INDEX('PLANNING DES SITES'!$A:$A,MATCH($B13,'PLANNING DES SITES'!P:P,0)),"") | Q13: =IFERROR(INDEX('PLANNING DES SITES'!$A:$A,MATCH($B13,'PLANNING DES SITES'!Q:Q,0)),"") | R13: =IFERROR(INDEX('PLANNING DES SITES'!$A:$A,MATCH($B13,'PLANNING DES SITES'!R:R,0)),"") | S13: =IFERROR(INDEX('PLANNING DES SITES'!$A:$A,MATCH($B13,'PLANNING DES SITES'!S:S,0)),"") | T13: =IFERROR(INDEX('PLANNING DES SITES'!$A:$A,MATCH($B13,'PLANNING DES SITES'!T:T,0)),"") | U13: =IFERROR(INDEX('PLANNING DES SITES'!$A:$A,MATCH($B13,'PLANNING DES SITES'!U:U,0)),"") | V13: =IFERROR(INDEX('PLANNING DES SITES'!$A:$A,MATCH($B13,'PLANNING DES SITES'!V:V,0)),"") | W13: =IFERROR(INDEX('PLANNING DES SITES'!$A:$A,MATCH($B13,'PLANNING DES SITES'!W:W,0)),"") | X13: =IFERROR(INDEX('PLANNING DES SITES'!$A:$A,MATCH($B13,'PLANNING DES SITES'!X:X,0)),"") | Y13: =IFERROR(INDEX('PLANNING DES SITES'!$A:$A,MATCH($B13,'PLANNING DES SITES'!Y:Y,0)),"") | Z13: =IFERROR(INDEX('PLANNING DES SITES'!$A:$A,MATCH($B13,'PLANNING DES SITES'!Z:Z,0)),"") | AA13: =IFERROR(INDEX('PLANNING DES SITES'!$A:$A,MATCH($B13,'PLANNING DES SITES'!AA:AA,0)),"") | AB13: =IFERROR(INDEX('PLANNING DES SITES'!$A:$A,MATCH($B13,'PLANNING DES SITES'!AB:AB,0)),"") | AC13: =IFERROR(INDEX('PLANNING DES SITES'!$A:$A,MATCH($B13,'PLANNING DES SITES'!AC:AC,0)),"") | AD13: =IFERROR(INDEX('PLANNING DES SITES'!$A:$A,MATCH($B13,'PLANNING DES SITES'!AD:AD,0)),"") | AE13: =IFERROR(INDEX('PLANNING DES SITES'!$A:$A,MATCH($B13,'PLANNING DES SITES'!AE:AE,0)),"") | AF13: =IFERROR(INDEX('PLANNING DES SITES'!$A:$A,MATCH($B13,'PLANNING DES SITES'!AF:AF,0)),"") | AG13: =IFERROR(INDEX('PLANNING DES SITES'!$A:$A,MATCH($B13,'PLANNING DES SITES'!AG:AG,0)),"") | AH13: =IFERROR(INDEX('PLANNING DES SITES'!$A:$A,MATCH($B13,'PLANNING DES SITES'!AH:AH,0)),"") | AI13: =IFERROR(INDEX('PLANNING DES SITES'!$A:$A,MATCH($B13,'PLANNING DES SITES'!AI:AI,0)),"") | AJ13: =COUNTA(E13:AI13) -> 31
A14: 10 | B14: CAZACU Svetlana | E14: =IFERROR(INDEX('PLANNING DES SITES'!$A:$A,MATCH($B14,'PLANNING DES SITES'!E:E,0)),"") | F14: =IFERROR(INDEX('PLANNING DES SITES'!$A:$A,MATCH($B14,'PLANNING DES SITES'!F:F,0)),"") | G14: =IFERROR(INDEX('PLANNING DES SITES'!$A:$A,MATCH($B14,'PLANNING DES SITES'!G:G,0)),"") | H14: =IFERROR(INDEX('PLANNING DES SITES'!$A:$A,MATCH($B14,'PLANNING DES SITES'!H:H,0)),"") | I14: =IFERROR(INDEX('PLANNING DES SITES'!$A:$A,MATCH($B14,'PLANNING DES SITES'!I:I,0)),"") | J14: =IFERROR(INDEX('PLANNING DES SITES'!$A:$A,MATCH($B14,'PLANNING DES SITES'!J:J,0)),"") | K14: =IFERROR(INDEX('PLANNING DES SITES'!$A:$A,MATCH($B14,'PLANNING DES SITES'!K:K,0)),"") | L14: =IFERROR(INDEX('PLANNING DES SITES'!$A:$A,MATCH($B14,'PLANNING DES SITES'!L:L,0)),"") | M14: =IFERROR(INDEX('PLANNING DES SITES'!$A:$A,MATCH($B14,'PLANNING DES SITES'!M:M,0)),"") | N14: =IFERROR(INDEX('PLANNING DES SITES'!$A:$A,MATCH($B14,'PLANNING DES SITES'!N:N,0)),"") | O14: =IFERROR(INDEX('PLANNING DES SITES'!$A:$A,MATCH($B14,'PLANNING DES SITES'!O:O,0)),"") | P14: =IFERROR(INDEX('PLANNING DES SITES'!$A:$A,MATCH($B14,'PLANNING DES SITES'!P:P,0)),"") | Q14: =IFERROR(INDEX('PLANNING DES SITES'!$A:$A,MATCH($B14,'PLANNING DES SITES'!Q:Q,0)),"") | R14: =IFERROR(INDEX('PLANNING DES SITES'!$A:$A,MATCH($B14,'PLANNING DES SITES'!R:R,0)),"") | S14: =IFERROR(INDEX('PLANNING DES SITES'!$A:$A,MATCH($B14,'PLANNING DES SITES'!S:S,0)),"") | T14: =IFERROR(INDEX('PLANNING DES SITES'!$A:$A,MATCH($B14,'PLANNING DES SITES'!T:T,0)),"") | U14: =IFERROR(INDEX('PLANNING DES SITES'!$A:$A,MATCH($B14,'PLANNING DES SITES'!U:U,0)),"") | V14: =IFERROR(INDEX('PLANNING DES SITES'!$A:$A,MATCH($B14,'PLANNING DES SITES'!V:V,0)),"") | W14: =IFERROR(INDEX('PLANNING DES SITES'!$A:$A,MATCH($B14,'PLANNING DES SITES'!W:W,0)),"") | X14: =IFERROR(INDEX('PLANNING DES SITES'!$A:$A,MATCH($B14,'PLANNING DES SITES'!X:X,0)),"") | Y14: =IFERROR(INDEX('PLANNING DES SITES'!$A:$A,MATCH($B14,'PLANNING DES SITES'!Y:Y,0)),"") | Z14: =IFERROR(INDEX('PLANNING DES SITES'!$A:$A,MATCH($B14,'PLANNING DES SITES'!Z:Z,0)),"") | AA14: =IFERROR(INDEX('PLANNING DES SITES'!$A:$A,MATCH($B14,'PLANNING DES SITES'!AA:AA,0)),"") | AB14: =IFERROR(INDEX('PLANNING DES SITES'!$A:$A,MATCH($B14,'PLANNING DES SITES'!AB:AB,0)),"") | AC14: =IFERROR(INDEX('PLANNING DES SITES'!$A:$A,MATCH($B14,'PLANNING DES SITES'!AC:AC,0)),"") | AD14: =IFERROR(INDEX('PLANNING DES SITES'!$A:$A,MATCH($B14,'PLANNING DES SITES'!AD:AD,0)),"") | AE14: =IFERROR(INDEX('PLANNING DES SITES'!$A:$A,MATCH($B14,'PLANNING DES SITES'!AE:AE,0)),"") | AF14: =IFERROR(INDEX('PLANNING DES SITES'!$A:$A,MATCH($B14,'PLANNING DES SITES'!AF:AF,0)),"") | AG14: =IFERROR(INDEX('PLANNING DES SITES'!$A:$A,MATCH($B14,'PLANNING DES SITES'!AG:AG,0)),"") | AH14: =IFERROR(INDEX('PLANNING DES SITES'!$A:$A,MATCH($B14,'PLANNING DES SITES'!AH:AH,0)),"") | AI14: =IFERROR(INDEX('PLANNING DES SITES'!$A:$A,MATCH($B14,'PLANNING DES SITES'!AI:AI,0)),"") | AJ14: =COUNTA(E14:AI14) -> 31
A15: 11 | B15: CHIHAI Eugenia | E15: =IFERROR(INDEX('PLANNING DES SITES'!$A:$A,MATCH($B15,'PLANNING DES SITES'!E:E,0)),"") | F15: =IFERROR(INDEX('PLANNING DES SITES'!$A:$A,MATCH($B15,'PLANNING DES SITES'!F:F,0)),"") | G15: =IFERROR(INDEX('PLANNING DES SITES'!$A:$A,MATCH($B15,'PLANNING DES SITES'!G:G,0)),"") | H15: =IFERROR(INDEX('PLANNING DES SITES'!$A:$A,MATCH($B15,'PLANNING DES SITES'!H:H,0)),"") | I15: =IFERROR(INDEX('PLANNING DES SITES'!$A:$A,MATCH($B15,'PLANNING DES SITES'!I:I,0)),"") | J15: =IFERROR(INDEX('PLANNING DES SITES'!$A:$A,MATCH($B15,'PLANNING DES SITES'!J:J,0)),"") | K15: =IFERROR(INDEX('PLANNING DES SITES'!$A:$A,MATCH($B15,'PLANNING DES SITES'!K:K,0)),"") | L15: =IFERROR(INDEX('PLANNING DES SITES'!$A:$A,MATCH($B15,'PLANNING DES SITES'!L:L,0)),"") | M15: =IFERROR(INDEX('PLANNING DES SITES'!$A:$A,MATCH($B15,'PLANNING DES SITES'!M:M,0)),"") | N15: =IFERROR(INDEX('PLANNING DES SITES'!$A:$A,MATCH($B15,'PLANNING DES SITES'!N:N,0)),"") | O15: =IFERROR(INDEX('PLANNING DES SITES'!$A:$A,MATCH($B15,'PLANNING DES SITES'!O:O,0)),"") | P15: =IFERROR(INDEX('PLANNING DES SITES'!$A:$A,MATCH($B15,'PLANNING DES SITES'!P:P,0)),"") | Q15: =IFERROR(INDEX('PLANNING DES SITES'!$A:$A,MATCH($B15,'PLANNING DES SITES'!Q:Q,0)),"") | R15: =IFERROR(INDEX('PLANNING DES SITES'!$A:$A,MATCH($B15,'PLANNING DES SITES'!R:R,0)),"") | S15: =IFERROR(INDEX('PLANNING DES SITES'!$A:$A,MATCH($B15,'PLANNING DES SITES'!S:S,0)),"") | T15: =IFERROR(INDEX('PLANNING DES SITES'!$A:$A,MATCH($B15,'PLANNING DES SITES'!T:T,0)),"") | U15: =IFERROR(INDEX('PLANNING DES SITES'!$A:$A,MATCH($B15,'PLANNING DES SITES'!U:U,0)),"") | V15: =IFERROR(INDEX('PLANNING DES SITES'!$A:$A,MATCH($B15,'PLANNING DES SITES'!V:V,0)),"") | W15: =IFERROR(INDEX('PLANNING DES SITES'!$A:$A,MATCH($B15,'PLANNING DES SITES'!W:W,0)),"") | X15: =IFERROR(INDEX('PLANNING DES SITES'!$A:$A,MATCH($B15,'PLANNING DES SITES'!X:X,0)),"") | Y15: =IFERROR(INDEX('PLANNING DES SITES'!$A:$A,MATCH($B15,'PLANNING DES SITES'!Y:Y,0)),"") | Z15: =IFERROR(INDEX('PLANNING DES SITES'!$A:$A,MATCH($B15,'PLANNING DES SITES'!Z:Z,0)),"") | AA15: =IFERROR(INDEX('PLANNING DES SITES'!$A:$A,MATCH($B15,'PLANNING DES SITES'!AA:AA,0)),"") | AB15: =IFERROR(INDEX('PLANNING DES SITES'!$A:$A,MATCH($B15,'PLANNING DES SITES'!AB:AB,0)),"") | AC15: =IFERROR(INDEX('PLANNING DES SITES'!$A:$A,MATCH($B15,'PLANNING DES SITES'!AC:AC,0)),"") | AD15: =IFERROR(INDEX('PLANNING DES SITES'!$A:$A,MATCH($B15,'PLANNING DES SITES'!AD:AD,0)),"") | AE15: =IFERROR(INDEX('PLANNING DES SITES'!$A:$A,MATCH($B15,'PLANNING DES SITES'!AE:AE,0)),"") | AF15: =IFERROR(INDEX('PLANNING DES SITES'!$A:$A,MATCH($B15,'PLANNING DES SITES'!AF:AF,0)),"") | AG15: =IFERROR(INDEX('PLANNING DES SITES'!$A:$A,MATCH($B15,'PLANNING DES SITES'!AG:AG,0)),"") | AH15: =IFERROR(INDEX('PLANNING DES SITES'!$A:$A,MATCH($B15,'PLANNING DES SITES'!AH:AH,0)),"") | AI15: =IFERROR(INDEX('PLANNING DES SITES'!$A:$A,MATCH($B15,'PLANNING DES SITES'!AI:AI,0)),"") | AJ15: =COUNTA(E15:AI15) -> 31
A16: 12 | B16: CIOBANU Rodica | E16: =IFERROR(INDEX('PLANNING DES SITES'!$A:$A,MATCH($B16,'PLANNING DES SITES'!E:E,0)),"") | F16: =IFERROR(INDEX('PLANNING DES SITES'!$A:$A,MATCH($B16,'PLANNING DES SITES'!F:F,0)),"") | G16: =IFERROR(INDEX('PLANNING DES SITES'!$A:$A,MATCH($B16,'PLANNING DES SITES'!G:G,0)),"") | H16: =IFERROR(INDEX('PLANNING DES SITES'!$A:$A,MATCH($B16,'PLANNING DES SITES'!H:H,0)),"") | I16: =IFERROR(INDEX('PLANNING DES SITES'!$A:$A,MATCH($B16,'PLANNING DES SITES'!I:I,0)),"") | J16: =IFERROR(INDEX('PLANNING DES SITES'!$A:$A,MATCH($B16,'PLANNING DES SITES'!J:J,0)),"") | K16: =IFERROR(INDEX('PLANNING DES SITES'!$A:$A,MATCH($B16,'PLANNING DES SITES'!K:K,0)),"") | L16: =IFERROR(INDEX('PLANNING DES SITES'!$A:$A,MATCH($B16,'PLANNING DES SITES'!L:L,0)),"") | M16: =IFERROR(INDEX('PLANNING DES SITES'!$A:$A,MATCH($B16,'PLANNING DES SITES'!M:M,0)),"") | N16: =IFERROR(INDEX('PLANNING DES SITES'!$A:$A,MATCH($B16,'PLANNING DES SITES'!N:N,0)),"") | O16: =IFERROR(INDEX('PLANNING DES SITES'!$A:$A,MATCH($B16,'PLANNING DES SITES'!O:O,0)),"") | P16: =IFERROR(INDEX('PLANNING DES SITES'!$A:$A,MATCH($B16,'PLANNING DES SITES'!P:P,0)),"") | Q16: =IFERROR(INDEX('PLANNING DES SITES'!$A:$A,MATCH($B16,'PLANNING DES SITES'!Q:Q,0)),"") | R16: =IFERROR(INDEX('PLANNING DES SITES'!$A:$A,MATCH($B16,'PLANNING DES SITES'!R:R,0)),"") | S16: =IFERROR(INDEX('PLANNING DES SITES'!$A:$A,MATCH($B16,'PLANNING DES SITES'!S:S,0)),"") | T16: =IFERROR(INDEX('PLANNING DES SITES'!$A:$A,MATCH($B16,'PLANNING DES SITES'!T:T,0)),"") | U16: =IFERROR(INDEX('PLANNING DES SITES'!$A:$A,MATCH($B16,'PLANNING DES SITES'!U:U,0)),"") | V16: =IFERROR(INDEX('PLANNING DES SITES'!$A:$A,MATCH($B16,'PLANNING DES SITES'!V:V,0)),"") | W16: =IFERROR(INDEX('PLANNING DES SITES'!$A:$A,MATCH($B16,'PLANNING DES SITES'!W:W,0)),"") | X16: =IFERROR(INDEX('PLANNING DES SITES'!$A:$A,MATCH($B16,'PLANNING DES SITES'!X:X,0)),"") | Y16: =IFERROR(INDEX('PLANNING DES SITES'!$A:$A,MATCH($B16,'PLANNING DES SITES'!Y:Y,0)),"") | Z16: =IFERROR(INDEX('PLANNING DES SITES'!$A:$A,MATCH($B16,'PLANNING DES SITES'!Z:Z,0)),"") | AA16: =IFERROR(INDEX('PLANNING DES SITES'!$A:$A,MATCH($B16,'PLANNING DES SITES'!AA:AA,0)),"") | AB16: =IFERROR(INDEX('PLANNING DES SITES'!$A:$A,MATCH($B16,'PLANNING DES SITES'!AB:AB,0)),"") | AC16: =IFERROR(INDEX('PLANNING DES SITES'!$A:$A,MATCH($B16,'PLANNING DES SITES'!AC:AC,0)),"") | AD16: =IFERROR(INDEX('PLANNING DES SITES'!$A:$A,MATCH($B16,'PLANNING DES SITES'!AD:AD,0)),"") | AE16: =IFERROR(INDEX('PLANNING DES SITES'!$A:$A,MATCH($B16,'PLANNING DES SITES'!AE:AE,0)),"") | AF16: =IFERROR(INDEX('PLANNING DES SITES'!$A:$A,MATCH($B16,'PLANNING DES SITES'!AF:AF,0)),"") | AG16: =IFERROR(INDEX('PLANNING DES SITES'!$A:$A,MATCH($B16,'PLANNING DES SITES'!AG:AG,0)),"") | AH16: =IFERROR(INDEX('PLANNING DES SITES'!$A:$A,MATCH($B16,'PLANNING DES SITES'!AH:AH,0)),"") | AI16: =IFERROR(INDEX('PLANNING DES SITES'!$A:$A,MATCH($B16,'PLANNING DES SITES'!AI:AI,0)),"") | AJ16: =COUNTA(E16:AI16) -> 31
... A100: 96 | B100: ZUBCO MARCELA | E100: =IFERROR(INDEX('PLANNING DES SITES'!$A:$A,MATCH($B100,'PLANNING DES SITES'!E:E,0)),"") | F100: =IFERROR(INDEX('PLANNING DES SITES'!$A:$A,MATCH($B100,'PLANNING DES SITES'!F:F,0)),"") | G100: =IFERROR(INDEX('PLANNING DES SITES'!$A:$A,MATCH($B100,'PLANNING DES SITES'!G:G,0)),"") | H100: =IFERROR(INDEX('PLANNING DES SITES'!$A:$A,MATCH($B100,'PLANNING DES SITES'!H:H,0)),"") | I100: =IFERROR(INDEX('PLANNING DES SITES'!$A:$A,MATCH($B100,'PLANNING DES SITES'!I:I,0)),"") | J100: =IFERROR(INDEX('PLANNING DES SITES'!$A:$A,MATCH($B100,'PLANNING DES SITES'!J:J,0)),"") | K100: =IFERROR(INDEX('PLANNING DES SITES'!$A:$A,MATCH($B100,'PLANNING DES SITES'!K:K,0)),"") | L100: =IFERROR(INDEX('PLANNING DES SITES'!$A:$A,MATCH($B100,'PLANNING DES SITES'!L:L,0)),"") | M100: =IFERROR(INDEX('PLANNING DES SITES'!$A:$A,MATCH($B100,'PLANNING DES SITES'!M:M,0)),"") | N100: =IFERROR(INDEX('PLANNING DES SITES'!$A:$A,MATCH($B100,'PLANNING DES SITES'!N:N,0)),"") | O100: =IFERROR(INDEX('PLANNING DES SITES'!$A:$A,MATCH($B100,'PLANNING DES SITES'!O:O,0)),"") | P100: =IFERROR(INDEX('PLANNING DES SITES'!$A:$A,MATCH($B100,'PLANNING DES SITES'!P:P,0)),"") | Q100: =IFERROR(INDEX('PLANNING DES SITES'!$A:$A,MATCH($B100,'PLANNING DES SITES'!Q:Q,0)),"") | R100: =IFERROR(INDEX('PLANNING DES SITES'!$A:$A,MATCH($B100,'PLANNING DES SITES'!R:R,0)),"") | S100: =IFERROR(INDEX('PLANNING DES SITES'!$A:$A,MATCH($B100,'PLANNING DES SITES'!S:S,0)),"") | T100: =IFERROR(INDEX('PLANNING DES SITES'!$A:$A,MATCH($B100,'PLANNING DES SITES'!T:T,0)),"") | U100: =IFERROR(INDEX('PLANNING DES SITES'!$A:$A,MATCH($B100,'PLANNING DES SITES'!U:U,0)),"") | V100: =IFERROR(INDEX('PLANNING DES SITES'!$A:$A,MATCH($B100,'PLANNING DES SITES'!V:V,0)),"") | W100: =IFERROR(INDEX('PLANNING DES SITES'!$A:$A,MATCH($B100,'PLANNING DES SITES'!W:W,0)),"") | X100: =IFERROR(INDEX('PLANNING DES SITES'!$A:$A,MATCH($B100,'PLANNING DES SITES'!X:X,0)),"") | Y100: =IFERROR(INDEX('PLANNING DES SITES'!$A:$A,MATCH($B100,'PLANNING DES SITES'!Y:Y,0)),"") | Z100: =IFERROR(INDEX('PLANNING DES SITES'!$A:$A,MATCH($B100,'PLANNING DES SITES'!Z:Z,0)),"") | AA100: =IFERROR(INDEX('PLANNING DES SITES'!$A:$A,MATCH($B100,'PLANNING DES SITES'!AA:AA,0)),"") | AB100: =IFERROR(INDEX('PLANNING DES SITES'!$A:$A,MATCH($B100,'PLANNING DES SITES'!AB:AB,0)),"") | AC100: =IFERROR(INDEX('PLANNING DES SITES'!$A:$A,MATCH($B100,'PLANNING DES SITES'!AC:AC,0)),"") | AD100: =IFERROR(INDEX('PLANNING DES SITES'!$A:$A,MATCH($B100,'PLANNING DES SITES'!AD:AD,0)),"") | AE100: =IFERROR(INDEX('PLANNING DES SITES'!$A:$A,MATCH($B100,'PLANNING DES SITES'!AE:AE,0)),"") | AF100: =IFERROR(INDEX('PLANNING DES SITES'!$A:$A,MATCH($B100,'PLANNING DES SITES'!AF:AF,0)),"") | AG100: =IFERROR(INDEX('PLANNING DES SITES'!$A:$A,MATCH($B100,'PLANNING DES SITES'!AG:AG,0)),"") | AH100: =IFERROR(INDEX('PLANNING DES SITES'!$A:$A,MATCH($B100,'PLANNING DES SITES'!AH:AH,0)),"") | AI100: =IFERROR(INDEX('PLANNING DES SITES'!$A:$A,MATCH($B100,'PLANNING DES SITES'!AI:AI,0)),"") | AJ100: =COUNTA(E100:AI100) -> 31
B101: INTERIM | AJ101: =COUNTA(E101:AI101) -> 0
AJ102: =COUNTA(E102:AI102) -> 0
A103: 1 | B103: AMOASEI Elena | E103: =IFERROR(INDEX('PLANNING DES SITES'!$A:$A,MATCH($B103,'PLANNING DES SITES'!E:E,0)),"") | F103: =IFERROR(INDEX('PLANNING DES SITES'!$A:$A,MATCH($B103,'PLANNING DES SITES'!F:F,0)),"") | G103: =IFERROR(INDEX('PLANNING DES SITES'!$A:$A,MATCH($B103,'PLANNING DES SITES'!G:G,0)),"") | H103: =IFERROR(INDEX('PLANNING DES SITES'!$A:$A,MATCH($B103,'PLANNING DES SITES'!H:H,0)),"") | I103: =IFERROR(INDEX('PLANNING DES SITES'!$A:$A,MATCH($B103,'PLANNING DES SITES'!I:I,0)),"") | J103: =IFERROR(INDEX('PLANNING DES SITES'!$A:$A,MATCH($B103,'PLANNING DES SITES'!J:J,0)),"") | K103: =IFERROR(INDEX('PLANNING DES SITES'!$A:$A,MATCH($B103,'PLANNING DES SITES'!K:K,0)),"") | L103: =IFERROR(INDEX('PLANNING DES SITES'!$A:$A,MATCH($B103,'PLANNING DES SITES'!L:L,0)),"") | M103: =IFERROR(INDEX('PLANNING DES SITES'!$A:$A,MATCH($B103,'PLANNING DES SITES'!M:M,0)),"") | N103: =IFERROR(INDEX('PLANNING DES SITES'!$A:$A,MATCH($B103,'PLANNING DES SITES'!N:N,0)),"") | O103: =IFERROR(INDEX('PLANNING DES SITES'!$A:$A,MATCH($B103,'PLANNING DES SITES'!O:O,0)),"") | P103: =IFERROR(INDEX('PLANNING DES SITES'!$A:$A,MATCH($B103,'PLANNING DES SITES'!P:P,0)),"") | Q103: =IFERROR(INDEX('PLANNING DES SITES'!$A:$A,MATCH($B103,'PLANNING DES SITES'!Q:Q,0)),"") | R103: =IFERROR(INDEX('PLANNING DES SITES'!$A:$A,MATCH($B103,'PLANNING DES SITES'!R:R,0)),"") | S103: =IFERROR(INDEX('PLANNING DES SITES'!$A:$A,MATCH($B103,'PLANNING DES SITES'!S:S,0)),"") | T103: =IFERROR(INDEX('PLANNING DES SITES'!$A:$A,MATCH($B103,'PLANNING DES SITES'!T:T,0)),"") | U103: =IFERROR(INDEX('PLANNING DES SITES'!$A:$A,MATCH($B103,'PLANNING DES SITES'!U:U,0)),"") | V103: =IFERROR(INDEX('PLANNING DES SITES'!$A:$A,MATCH($B103,'PLANNING DES SITES'!V:V,0)),"") | W103: =IFERROR(INDEX('PLANNING DES SITES'!$A:$A,MATCH($B103,'PLANNING DES SITES'!W:W,0)),"") | X103: =IFERROR(INDEX('PLANNING DES SITES'!$A:$A,MATCH($B103,'PLANNING DES SITES'!X:X,0)),"") | Y103: =IFERROR(INDEX('PLANNING DES SITES'!$A:$A,MATCH($B103,'PLANNING DES SITES'!Y:Y,0)),"") | Z103: =IFERROR(INDEX('PLANNING DES SITES'!$A:$A,MATCH($B103,'PLANNING DES SITES'!Z:Z,0)),"") | AA103: =IFERROR(INDEX('PLANNING DES SITES'!$A:$A,MATCH($B103,'PLANNING DES SITES'!AA:AA,0)),"") | AB103: =IFERROR(INDEX('PLANNING DES SITES'!$A:$A,MATCH($B103,'PLANNING DES SITES'!AB:AB,0)),"") | AC103: =IFERROR(INDEX('PLANNING DES SITES'!$A:$A,MATCH($B103,'PLANNING DES SITES'!AC:AC,0)),"") | AD103: =IFERROR(INDEX('PLANNING DES SITES'!$A:$A,MATCH($B103,'PLANNING DES SITES'!AD:AD,0)),"") | AE103: =IFERROR(INDEX('PLANNING DES SITES'!$A:$A,MATCH($B103,'PLANNING DES SITES'!AE:AE,0)),"") | AF103: =IFERROR(INDEX('PLANNING DES SITES'!$A:$A,MATCH($B103,'PLANNING DES SITES'!AF:AF,0)),"") | AG103: =IFERROR(INDEX('PLANNING DES SITES'!$A:$A,MATCH($B103,'PLANNING DES SITES'!AG:AG,0)),"") | AH103: =IFERROR(INDEX('PLANNING DES SITES'!$A:$A,MATCH($B103,'PLANNING DES SITES'!AH:AH,0)),"") | AI103: =IFERROR(INDEX('PLANNING DES SITES'!$A:$A,MATCH($B103,'PLANNING DES SITES'!AI:AI,0)),"") | AJ103: =COUNTA(E103:AI103) -> 31
A104: 2 | B104: AJAD Hossain | E104: =IFERROR(INDEX('PLANNING DES SITES'!$A:$A,MATCH($B104,'PLANNING DES SITES'!E:E,0)),"") | F104: =IFERROR(INDEX('PLANNING DES SITES'!$A:$A,MATCH($B104,'PLANNING DES SITES'!F:F,0)),"") | G104: =IFERROR(INDEX('PLANNING DES SITES'!$A:$A,MATCH($B104,'PLANNING DES SITES'!G:G,0)),"") | H104: =IFERROR(INDEX('PLANNING DES SITES'!$A:$A,MATCH($B104,'PLANNING DES SITES'!H:H,0)),"") | I104: =IFERROR(INDEX('PLANNING DES SITES'!$A:$A,MATCH($B104,'PLANNING DES SITES'!I:I,0)),"") | J104: =IFERROR(INDEX('PLANNING DES SITES'!$A:$A,MATCH($B104,'PLANNING DES SITES'!J:J,0)),"") | K104: =IFERROR(INDEX('PLANNING DES SITES'!$A:$A,MATCH($B104,'PLANNING DES SITES'!K:K,0)),"") | L104: =IFERROR(INDEX('PLANNING DES SITES'!$A:$A,MATCH($B104,'PLANNING DES SITES'!L:L,0)),"") | M104: =IFERROR(INDEX('PLANNING DES SITES'!$A:$A,MATCH($B104,'PLANNING DES SITES'!M:M,0)),"") | N104: =IFERROR(INDEX('PLANNING DES SITES'!$A:$A,MATCH($B104,'PLANNING DES SITES'!N:N,0)),"") | O104: =IFERROR(INDEX('PLANNING DES SITES'!$A:$A,MATCH($B104,'PLANNING DES SITES'!O:O,0)),"") | P104: =IFERROR(INDEX('PLANNING DES SITES'!$A:$A,MATCH($B104,'PLANNING DES SITES'!P:P,0)),"") | Q104: =IFERROR(INDEX('PLANNING DES SITES'!$A:$A,MATCH($B104,'PLANNING DES SITES'!Q:Q,0)),"") | R104: =IFERROR(INDEX('PLANNING DES SITES'!$A:$A,MATCH($B104,'PLANNING DES SITES'!R:R,0)),"") | S104: =IFERROR(INDEX('PLANNING DES SITES'!$A:$A,MATCH($B104,'PLANNING DES SITES'!S:S,0)),"") | T104: =IFERROR(INDEX('PLANNING DES SITES'!$A:$A,MATCH($B104,'PLANNING DES SITES'!T:T,0)),"") | U104: =IFERROR(INDEX('PLANNING DES SITES'!$A:$A,MATCH($B104,'PLANNING DES SITES'!U:U,0)),"") | V104: =IFERROR(INDEX('PLANNING DES SITES'!$A:$A,MATCH($B104,'PLANNING DES SITES'!V:V,0)),"") | W104: =IFERROR(INDEX('PLANNING DES SITES'!$A:$A,MATCH($B104,'PLANNING DES SITES'!W:W,0)),"") | X104: =IFERROR(INDEX('PLANNING DES SITES'!$A:$A,MATCH($B104,'PLANNING DES SITES'!X:X,0)),"") | Y104: =IFERROR(INDEX('PLANNING DES SITES'!$A:$A,MATCH($B104,'PLANNING DES SITES'!Y:Y,0)),"") | Z104: =IFERROR(INDEX('PLANNING DES SITES'!$A:$A,MATCH($B104,'PLANNING DES SITES'!Z:Z,0)),"") | AA104: =IFERROR(INDEX('PLANNING DES SITES'!$A:$A,MATCH($B104,'PLANNING DES SITES'!AA:AA,0)),"") | AB104: =IFERROR(INDEX('PLANNING DES SITES'!$A:$A,MATCH($B104,'PLANNING DES SITES'!AB:AB,0)),"") | AC104: =IFERROR(INDEX('PLANNING DES SITES'!$A:$A,MATCH($B104,'PLANNING DES SITES'!AC:AC,0)),"") | AD104: =IFERROR(INDEX('PLANNING DES SITES'!$A:$A,MATCH($B104,'PLANNING DES SITES'!AD:AD,0)),"") | AE104: =IFERROR(INDEX('PLANNING DES SITES'!$A:$A,MATCH($B104,'PLANNING DES SITES'!AE:AE,0)),"") | AF104: =IFERROR(INDEX('PLANNING DES SITES'!$A:$A,MATCH($B104,'PLANNING DES SITES'!AF:AF,0)),"") | AG104: =IFERROR(INDEX('PLANNING DES SITES'!$A:$A,MATCH($B104,'PLANNING DES SITES'!AG:AG,0)),"") | AH104: =IFERROR(INDEX('PLANNING DES SITES'!$A:$A,MATCH($B104,'PLANNING DES SITES'!AH:AH,0)),"") | AI104: =IFERROR(INDEX('PLANNING DES SITES'!$A:$A,MATCH($B104,'PLANNING DES SITES'!AI:AI,0)),"") | AJ104: =COUNTA(E104:AI104) -> 31
A105: 3 | B105: BABOUCHE Samia | E105: =IFERROR(INDEX('PLANNING DES SITES'!$A:$A,MATCH($B105,'PLANNING DES SITES'!E:E,0)),"") | F105: =IFERROR(INDEX('PLANNING DES SITES'!$A:$A,MATCH($B105,'PLANNING DES SITES'!F:F,0)),"") | G105: =IFERROR(INDEX('PLANNING DES SITES'!$A:$A,MATCH($B105,'PLANNING DES SITES'!G:G,0)),"") | H105: =IFERROR(INDEX('PLANNING DES SITES'!$A:$A,MATCH($B105,'PLANNING DES SITES'!H:H,0)),"") | I105: =IFERROR(INDEX('PLANNING DES SITES'!$A:$A,MATCH($B105,'PLANNING DES SITES'!I:I,0)),"") | J105: =IFERROR(INDEX('PLANNING DES SITES'!$A:$A,MATCH($B105,'PLANNING DES SITES'!J:J,0)),"") | K105: =IFERROR(INDEX('PLANNING DES SITES'!$A:$A,MATCH($B105,'PLANNING DES SITES'!K:K,0)),"") | L105: =IFERROR(INDEX('PLANNING DES SITES'!$A:$A,MATCH($B105,'PLANNING DES SITES'!L:L,0)),"") | M105: =IFERROR(INDEX('PLANNING DES SITES'!$A:$A,MATCH($B105,'PLANNING DES SITES'!M:M,0)),"") | N105: =IFERROR(INDEX('PLANNING DES SITES'!$A:$A,MATCH($B105,'PLANNING DES SITES'!N:N,0)),"") | O105: =IFERROR(INDEX('PLANNING DES SITES'!$A:$A,MATCH($B105,'PLANNING DES SITES'!O:O,0)),"") | P105: =IFERROR(INDEX('PLANNING DES SITES'!$A:$A,MATCH($B105,'PLANNING DES SITES'!P:P,0)),"") | Q105: =IFERROR(INDEX('PLANNING DES SITES'!$A:$A,MATCH($B105,'PLANNING DES SITES'!Q:Q,0)),"") | R105: =IFERROR(INDEX('PLANNING DES SITES'!$A:$A,MATCH($B105,'PLANNING DES SITES'!R:R,0)),"") | S105: =IFERROR(INDEX('PLANNING DES SITES'!$A:$A,MATCH($B105,'PLANNING DES SITES'!S:S,0)),"") | T105: =IFERROR(INDEX('PLANNING DES SITES'!$A:$A,MATCH($B105,'PLANNING DES SITES'!T:T,0)),"") | U105: =IFERROR(INDEX('PLANNING DES SITES'!$A:$A,MATCH($B105,'PLANNING DES SITES'!U:U,0)),"") | V105: =IFERROR(INDEX('PLANNING DES SITES'!$A:$A,MATCH($B105,'PLANNING DES SITES'!V:V,0)),"") | W105: =IFERROR(INDEX('PLANNING DES SITES'!$A:$A,MATCH($B105,'PLANNING DES SITES'!W:W,0)),"") | X105: =IFERROR(INDEX('PLANNING DES SITES'!$A:$A,MATCH($B105,'PLANNING DES SITES'!X:X,0)),"") | Y105: =IFERROR(INDEX('PLANNING DES SITES'!$A:$A,MATCH($B105,'PLANNING DES SITES'!Y:Y,0)),"") | Z105: =IFERROR(INDEX('PLANNING DES SITES'!$A:$A,MATCH($B105,'PLANNING DES SITES'!Z:Z,0)),"") | AA105: =IFERROR(INDEX('PLANNING DES SITES'!$A:$A,MATCH($B105,'PLANNING DES SITES'!AA:AA,0)),"") | AB105: =IFERROR(INDEX('PLANNING DES SITES'!$A:$A,MATCH($B105,'PLANNING DES SITES'!AB:AB,0)),"") | AC105: =IFERROR(INDEX('PLANNING DES SITES'!$A:$A,MATCH($B105,'PLANNING DES SITES'!AC:AC,0)),"") | AD105: =IFERROR(INDEX('PLANNING DES SITES'!$A:$A,MATCH($B105,'PLANNING DES SITES'!AD:AD,0)),"") | AE105: =IFERROR(INDEX('PLANNING DES SITES'!$A:$A,MATCH($B105,'PLANNING DES SITES'!AE:AE,0)),"") | AF105: =IFERROR(INDEX('PLANNING DES SITES'!$A:$A,MATCH($B105,'PLANNING DES SITES'!AF:AF,0)),"") | AG105: =IFERROR(INDEX('PLANNING DES SITES'!$A:$A,MATCH($B105,'PLANNING DES SITES'!AG:AG,0)),"") | AH105: =IFERROR(INDEX('PLANNING DES SITES'!$A:$A,MATCH($B105,'PLANNING DES SITES'!AH:AH,0)),"") | AI105: =IFERROR(INDEX('PLANNING DES SITES'!$A:$A,MATCH($B105,'PLANNING DES SITES'!AI:AI,0)),"") | AJ105: =COUNTA(E105:AI105) -> 31
A106: 4 | B106: BARGAEVA Khova / PDJ | E106: =IFERROR(INDEX('PLANNING DES SITES'!$A:$A,MATCH($B106,'PLANNING DES SITES'!E:E,0)),"") | F106: =IFERROR(INDEX('PLANNING DES SITES'!$A:$A,MATCH($B106,'PLANNING DES SITES'!F:F,0)),"") | G106: =IFERROR(INDEX('PLANNING DES SITES'!$A:$A,MATCH($B106,'PLANNING DES SITES'!G:G,0)),"") | H106: =IFERROR(INDEX('PLANNING DES SITES'!$A:$A,MATCH($B106,'PLANNING DES SITES'!H:H,0)),"") | I106: =IFERROR(INDEX('PLANNING DES SITES'!$A:$A,MATCH($B106,'PLANNING DES SITES'!I:I,0)),"") | J106: =IFERROR(INDEX('PLANNING DES SITES'!$A:$A,MATCH($B106,'PLANNING DES SITES'!J:J,0)),"") | K106: =IFERROR(INDEX('PLANNING DES SITES'!$A:$A,MATCH($B106,'PLANNING DES SITES'!K:K,0)),"") | L106: =IFERROR(INDEX('PLANNING DES SITES'!$A:$A,MATCH($B106,'PLANNING DES SITES'!L:L,0)),"") | M106: =IFERROR(INDEX('PLANNING DES SITES'!$A:$A,MATCH($B106,'PLANNING DES SITES'!M:M,0)),"") | N106: =IFERROR(INDEX('PLANNING DES SITES'!$A:$A,MATCH($B106,'PLANNING DES SITES'!N:N,0)),"") | O106: =IFERROR(INDEX('PLANNING DES SITES'!$A:$A,MATCH($B106,'PLANNING DES SITES'!O:O,0)),"") | P106: =IFERROR(INDEX('PLANNING DES SITES'!$A:$A,MATCH($B106,'PLANNING DES SITES'!P:P,0)),"") | Q106: =IFERROR(INDEX('PLANNING DES SITES'!$A:$A,MATCH($B106,'PLANNING DES SITES'!Q:Q,0)),"") | R106: =IFERROR(INDEX('PLANNING DES SITES'!$A:$A,MATCH($B106,'PLANNING DES SITES'!R:R,0)),"") | S106: =IFERROR(INDEX('PLANNING DES SITES'!$A:$A,MATCH($B106,'PLANNING DES SITES'!S:S,0)),"") | T106: =IFERROR(INDEX('PLANNING DES SITES'!$A:$A,MATCH($B106,'PLANNING DES SITES'!T:T,0)),"") | U106: =IFERROR(INDEX('PLANNING DES SITES'!$A:$A,MATCH($B106,'PLANNING DES SITES'!U:U,0)),"") | V106: =IFERROR(INDEX('PLANNING DES SITES'!$A:$A,MATCH($B106,'PLANNING DES SITES'!V:V,0)),"") | W106: =IFERROR(INDEX('PLANNING DES SITES'!$A:$A,MATCH($B106,'PLANNING DES SITES'!W:W,0)),"") | X106: =IFERROR(INDEX('PLANNING DES SITES'!$A:$A,MATCH($B106,'PLANNING DES SITES'!X:X,0)),"") | Y106: =IFERROR(INDEX('PLANNING DES SITES'!$A:$A,MATCH($B106,'PLANNING DES SITES'!Y:Y,0)),"") | Z106: =IFERROR(INDEX('PLANNING DES SITES'!$A:$A,MATCH($B106,'PLANNING DES SITES'!Z:Z,0)),"") | AA106: =IFERROR(INDEX('PLANNING DES SITES'!$A:$A,MATCH($B106,'PLANNING DES SITES'!AA:AA,0)),"") | AB106: =IFERROR(INDEX('PLANNING DES SITES'!$A:$A,MATCH($B106,'PLANNING DES SITES'!AB:AB,0)),"") | AC106: =IFERROR(INDEX('PLANNING DES SITES'!$A:$A,MATCH($B106,'PLANNING DES SITES'!AC:AC,0)),"") | AD106: =IFERROR(INDEX('PLANNING DES SITES'!$A:$A,MATCH($B106,'PLANNING DES SITES'!AD:AD,0)),"") | AE106: =IFERROR(INDEX('PLANNING DES SITES'!$A:$A,MATCH($B106,'PLANNING DES SITES'!AE:AE,0)),"") | AF106: =IFERROR(INDEX('PLANNING DES SITES'!$A:$A,MATCH($B106,'PLANNING DES SITES'!AF:AF,0)),"") | AG106: =IFERROR(INDEX('PLANNING DES SITES'!$A:$A,MATCH($B106,'PLANNING DES SITES'!AG:AG,0)),"") | AH106: =IFERROR(INDEX('PLANNING DES SITES'!$A:$A,MATCH($B106,'PLANNING DES SITES'!AH:AH,0)),"") | AI106: =IFERROR(INDEX('PLANNING DES SITES'!$A:$A,MATCH($B106,'PLANNING DES SITES'!AI:AI,0)),"") | AJ106: =COUNTA(E106:AI106) -> 31
A107: 5 | B107: BELGACEM Abdessalem | E107: =IFERROR(INDEX('PLANNING DES SITES'!$A:$A,MATCH($B107,'PLANNING DES SITES'!E:E,0)),"") | F107: =IFERROR(INDEX('PLANNING DES SITES'!$A:$A,MATCH($B107,'PLANNING DES SITES'!F:F,0)),"") | G107: =IFERROR(INDEX('PLANNING DES SITES'!$A:$A,MATCH($B107,'PLANNING DES SITES'!G:G,0)),"") | H107: =IFERROR(INDEX('PLANNING DES SITES'!$A:$A,MATCH($B107,'PLANNING DES SITES'!H:H,0)),"") | I107: =IFERROR(INDEX('PLANNING DES SITES'!$A:$A,MATCH($B107,'PLANNING DES SITES'!I:I,0)),"") | J107: =IFERROR(INDEX('PLANNING DES SITES'!$A:$A,MATCH($B107,'PLANNING DES SITES'!J:J,0)),"") | K107: =IFERROR(INDEX('PLANNING DES SITES'!$A:$A,MATCH($B107,'PLANNING DES SITES'!K:K,0)),"") | L107: =IFERROR(INDEX('PLANNING DES SITES'!$A:$A,MATCH($B107,'PLANNING DES SITES'!L:L,0)),"") | M107: =IFERROR(INDEX('PLANNING DES SITES'!$A:$A,MATCH($B107,'PLANNING DES SITES'!M:M,0)),"") | N107: =IFERROR(INDEX('PLANNING DES SITES'!$A:$A,MATCH($B107,'PLANNING DES SITES'!N:N,0)),"") | O107: =IFERROR(INDEX('PLANNING DES SITES'!$A:$A,MATCH($B107,'PLANNING DES SITES'!O:O,0)),"") | P107: =IFERROR(INDEX('PLANNING DES SITES'!$A:$A,MATCH($B107,'PLANNING DES SITES'!P:P,0)),"") | Q107: =IFERROR(INDEX('PLANNING DES SITES'!$A:$A,MATCH($B107,'PLANNING DES SITES'!Q:Q,0)),"") | R107: =IFERROR(INDEX('PLANNING DES SITES'!$A:$A,MATCH($B107,'PLANNING DES SITES'!R:R,0)),"") | S107: =IFERROR(INDEX('PLANNING DES SITES'!$A:$A,MATCH($B107,'PLANNING DES SITES'!S:S,0)),"") | T107: =IFERROR(INDEX('PLANNING DES SITES'!$A:$A,MATCH($B107,'PLANNING DES SITES'!T:T,0)),"") | U107: =IFERROR(INDEX('PLANNING DES SITES'!$A:$A,MATCH($B107,'PLANNING DES SITES'!U:U,0)),"") | V107: =IFERROR(INDEX('PLANNING DES SITES'!$A:$A,MATCH($B107,'PLANNING DES SITES'!V:V,0)),"") | W107: =IFERROR(INDEX('PLANNING DES SITES'!$A:$A,MATCH($B107,'PLANNING DES SITES'!W:W,0)),"") | X107: =IFERROR(INDEX('PLANNING DES SITES'!$A:$A,MATCH($B107,'PLANNING DES SITES'!X:X,0)),"") | Y107: =IFERROR(INDEX('PLANNING DES SITES'!$A:$A,MATCH($B107,'PLANNING DES SITES'!Y:Y,0)),"") | Z107: =IFERROR(INDEX('PLANNING DES SITES'!$A:$A,MATCH($B107,'PLANNING DES SITES'!Z:Z,0)),"") | AA107: =IFERROR(INDEX('PLANNING DES SITES'!$A:$A,MATCH($B107,'PLANNING DES SITES'!AA:AA,0)),"") | AB107: =IFERROR(INDEX('PLANNING DES SITES'!$A:$A,MATCH($B107,'PLANNING DES SITES'!AB:AB,0)),"") | AC107: =IFERROR(INDEX('PLANNING DES SITES'!$A:$A,MATCH($B107,'PLANNING DES SITES'!AC:AC,0)),"") | AD107: =IFERROR(INDEX('PLANNING DES SITES'!$A:$A,MATCH($B107,'PLANNING DES SITES'!AD:AD,0)),"") | AE107: =IFERROR(INDEX('PLANNING DES SITES'!$A:$A,MATCH($B107,'PLANNING DES SITES'!AE:AE,0)),"") | AF107: =IFERROR(INDEX('PLANNING DES SITES'!$A:$A,MATCH($B107,'PLANNING DES SITES'!AF:AF,0)),"") | AG107: =IFERROR(INDEX('PLANNING DES SITES'!$A:$A,MATCH($B107,'PLANNING DES SITES'!AG:AG,0)),"") | AH107: =IFERROR(INDEX('PLANNING DES SITES'!$A:$A,MATCH($B107,'PLANNING DES SITES'!AH:AH,0)),"") | AI107: =IFERROR(INDEX('PLANNING DES SITES'!$A:$A,MATCH($B107,'PLANNING DES SITES'!AI:AI,0)),"") | AJ107: =COUNTA(E107:AI107) -> 31
A108: 6 | B108: BRYAC Ana / PDJ | E108: =IFERROR(INDEX('PLANNING DES SITES'!$A:$A,MATCH($B108,'PLANNING DES SITES'!E:E,0)),"") | F108: =IFERROR(INDEX('PLANNING DES SITES'!$A:$A,MATCH($B108,'PLANNING DES SITES'!F:F,0)),"") | G108: =IFERROR(INDEX('PLANNING DES SITES'!$A:$A,MATCH($B108,'PLANNING DES SITES'!G:G,0)),"") | H108: =IFERROR(INDEX('PLANNING DES SITES'!$A:$A,MATCH($B108,'PLANNING DES SITES'!H:H,0)),"") | I108: =IFERROR(INDEX('PLANNING DES SITES'!$A:$A,MATCH($B108,'PLANNING DES SITES'!I:I,0)),"") | J108: =IFERROR(INDEX('PLANNING DES SITES'!$A:$A,MATCH($B108,'PLANNING DES SITES'!J:J,0)),"") | K108: =IFERROR(INDEX('PLANNING DES SITES'!$A:$A,MATCH($B108,'PLANNING DES SITES'!K:K,0)),"") | L108: =IFERROR(INDEX('PLANNING DES SITES'!$A:$A,MATCH($B108,'PLANNING DES SITES'!L:L,0)),"") | M108: =IFERROR(INDEX('PLANNING DES SITES'!$A:$A,MATCH($B108,'PLANNING DES SITES'!M:M,0)),"") | N108: =IFERROR(INDEX('PLANNING DES SITES'!$A:$A,MATCH($B108,'PLANNING DES SITES'!N:N,0)),"") | O108: =IFERROR(INDEX('PLANNING DES SITES'!$A:$A,MATCH($B108,'PLANNING DES SITES'!O:O,0)),"") | P108: =IFERROR(INDEX('PLANNING DES SITES'!$A:$A,MATCH($B108,'PLANNING DES SITES'!P:P,0)),"") | Q108: =IFERROR(INDEX('PLANNING DES SITES'!$A:$A,MATCH($B108,'PLANNING DES SITES'!Q:Q,0)),"") | R108: =IFERROR(INDEX('PLANNING DES SITES'!$A:$A,MATCH($B108,'PLANNING DES SITES'!R:R,0)),"") | S108: =IFERROR(INDEX('PLANNING DES SITES'!$A:$A,MATCH($B108,'PLANNING DES SITES'!S:S,0)),"") | T108: =IFERROR(INDEX('PLANNING DES SITES'!$A:$A,MATCH($B108,'PLANNING DES SITES'!T:T,0)),"") | U108: =IFERROR(INDEX('PLANNING DES SITES'!$A:$A,MATCH($B108,'PLANNING DES SITES'!U:U,0)),"") | V108: =IFERROR(INDEX('PLANNING DES SITES'!$A:$A,MATCH($B108,'PLANNING DES SITES'!V:V,0)),"") | W108: =IFERROR(INDEX('PLANNING DES SITES'!$A:$A,MATCH($B108,'PLANNING DES SITES'!W:W,0)),"") | X108: =IFERROR(INDEX('PLANNING DES SITES'!$A:$A,MATCH($B108,'PLANNING DES SITES'!X:X,0)),"") | Y108: =IFERROR(INDEX('PLANNING DES SITES'!$A:$A,MATCH($B108,'PLANNING DES SITES'!Y:Y,0)),"") | Z108: =IFERROR(INDEX('PLANNING DES SITES'!$A:$A,MATCH($B108,'PLANNING DES SITES'!Z:Z,0)),"") | AA108: =IFERROR(INDEX('PLANNING DES SITES'!$A:$A,MATCH($B108,'PLANNING DES SITES'!AA:AA,0)),"") | AB108: =IFERROR(INDEX('PLANNING DES SITES'!$A:$A,MATCH($B108,'PLANNING DES SITES'!AB:AB,0)),"") | AC108: =IFERROR(INDEX('PLANNING DES SITES'!$A:$A,MATCH($B108,'PLANNING DES SITES'!AC:AC,0)),"") | AD108: =IFERROR(INDEX('PLANNING DES SITES'!$A:$A,MATCH($B108,'PLANNING DES SITES'!AD:AD,0)),"") | AE108: =IFERROR(INDEX('PLANNING DES SITES'!$A:$A,MATCH($B108,'PLANNING DES SITES'!AE:AE,0)),"") | AF108: =IFERROR(INDEX('PLANNING DES SITES'!$A:$A,MATCH($B108,'PLANNING DES SITES'!AF:AF,0)),"") | AG108: =IFERROR(INDEX('PLANNING DES SITES'!$A:$A,MATCH($B108,'PLANNING DES SITES'!AG:AG,0)),"") | AH108: =IFERROR(INDEX('PLANNING DES SITES'!$A:$A,MATCH($B108,'PLANNING DES SITES'!AH:AH,0)),"") | AI108: =IFERROR(INDEX('PLANNING DES SITES'!$A:$A,MATCH($B108,'PLANNING DES SITES'!AI:AI,0)),"") | AJ108: =COUNTA(E108:AI108) -> 31
A109: 7 | B109: BSAITI Tariq / REC | E109: =IFERROR(INDEX('PLANNING DES SITES'!$A:$A,MATCH($B109,'PLANNING DES SITES'!E:E,0)),"") | F109: =IFERROR(INDEX('PLANNING DES SITES'!$A:$A,MATCH($B109,'PLANNING DES SITES'!F:F,0)),"") | G109: =IFERROR(INDEX('PLANNING DES SITES'!$A:$A,MATCH($B109,'PLANNING DES SITES'!G:G,0)),"") | H109: =IFERROR(INDEX('PLANNING DES SITES'!$A:$A,MATCH($B109,'PLANNING DES SITES'!H:H,0)),"") | I109: =IFERROR(INDEX('PLANNING DES SITES'!$A:$A,MATCH($B109,'PLANNING DES SITES'!I:I,0)),"") | J109: =IFERROR(INDEX('PLANNING DES SITES'!$A:$A,MATCH($B109,'PLANNING DES SITES'!J:J,0)),"") | K109: =IFERROR(INDEX('PLANNING DES SITES'!$A:$A,MATCH($B109,'PLANNING DES SITES'!K:K,0)),"") | L109: =IFERROR(INDEX('PLANNING DES SITES'!$A:$A,MATCH($B109,'PLANNING DES SITES'!L:L,0)),"") | M109: =IFERROR(INDEX('PLANNING DES SITES'!$A:$A,MATCH($B109,'PLANNING DES SITES'!M:M,0)),"") | N109: =IFERROR(INDEX('PLANNING DES SITES'!$A:$A,MATCH($B109,'PLANNING DES SITES'!N:N,0)),"") | O109: =IFERROR(INDEX('PLANNING DES SITES'!$A:$A,MATCH($B109,'PLANNING DES SITES'!O:O,0)),"") | P109: =IFERROR(INDEX('PLANNING DES SITES'!$A:$A,MATCH($B109,'PLANNING DES SITES'!P:P,0)),"") | Q109: =IFERROR(INDEX('PLANNING DES SITES'!$A:$A,MATCH($B109,'PLANNING DES SITES'!Q:Q,0)),"") | R109: =IFERROR(INDEX('PLANNING DES SITES'!$A:$A,MATCH($B109,'PLANNING DES SITES'!R:R,0)),"") | S109: =IFERROR(INDEX('PLANNING DES SITES'!$A:$A,MATCH($B109,'PLANNING DES SITES'!S:S,0)),"") | T109: =IFERROR(INDEX('PLANNING DES SITES'!$A:$A,MATCH($B109,'PLANNING DES SITES'!T:T,0)),"") | U109: =IFERROR(INDEX('PLANNING DES SITES'!$A:$A,MATCH($B109,'PLANNING DES SITES'!U:U,0)),"") | V109: =IFERROR(INDEX('PLANNING DES SITES'!$A:$A,MATCH($B109,'PLANNING DES SITES'!V:V,0)),"") | W109: =IFERROR(INDEX('PLANNING DES SITES'!$A:$A,MATCH($B109,'PLANNING DES SITES'!W:W,0)),"") | X109: =IFERROR(INDEX('PLANNING DES SITES'!$A:$A,MATCH($B109,'PLANNING DES SITES'!X:X,0)),"") | Y109: =IFERROR(INDEX('PLANNING DES SITES'!$A:$A,MATCH($B109,'PLANNING DES SITES'!Y:Y,0)),"") | Z109: =IFERROR(INDEX('PLANNING DES SITES'!$A:$A,MATCH($B109,'PLANNING DES SITES'!Z:Z,0)),"") | AA109: =IFERROR(INDEX('PLANNING DES SITES'!$A:$A,MATCH($B109,'PLANNING DES SITES'!AA:AA,0)),"") | AB109: =IFERROR(INDEX('PLANNING DES SITES'!$A:$A,MATCH($B109,'PLANNING DES SITES'!AB:AB,0)),"") | AC109: =IFERROR(INDEX('PLANNING DES SITES'!$A:$A,MATCH($B109,'PLANNING DES SITES'!AC:AC,0)),"") | AD109: =IFERROR(INDEX('PLANNING DES SITES'!$A:$A,MATCH($B109,'PLANNING DES SITES'!AD:AD,0)),"") | AE109: =IFERROR(INDEX('PLANNING DES SITES'!$A:$A,MATCH($B109,'PLANNING DES SITES'!AE:AE,0)),"") | AF109: =IFERROR(INDEX('PLANNING DES SITES'!$A:$A,MATCH($B109,'PLANNING DES SITES'!AF:AF,0)),"") | AG109: =IFERROR(INDEX('PLANNING DES SITES'!$A:$A,MATCH($B109,'PLANNING DES SITES'!AG:AG,0)),"") | AH109: =IFERROR(INDEX('PLANNING DES SITES'!$A:$A,MATCH($B109,'PLANNING DES SITES'!AH:AH,0)),"") | AI109: =IFERROR(INDEX('PLANNING DES SITES'!$A:$A,MATCH($B109,'PLANNING DES SITES'!AI:AI,0)),"") | AJ109: =COUNTA(E109:AI109) -> 31
A110: 8 | B110: CALOTA Andrea Valentina | E110: =IFERROR(INDEX('PLANNING DES SITES'!$A:$A,MATCH($B110,'PLANNING DES SITES'!E:E,0)),"") | F110: =IFERROR(INDEX('PLANNING DES SITES'!$A:$A,MATCH($B110,'PLANNING DES SITES'!F:F,0)),"") | G110: =IFERROR(INDEX('PLANNING DES SITES'!$A:$A,MATCH($B110,'PLANNING DES SITES'!G:G,0)),"") | H110: =IFERROR(INDEX('PLANNING DES SITES'!$A:$A,MATCH($B110,'PLANNING DES SITES'!H:H,0)),"") | I110: =IFERROR(INDEX('PLANNING DES SITES'!$A:$A,MATCH($B110,'PLANNING DES SITES'!I:I,0)),"") | J110: =IFERROR(INDEX('PLANNING DES SITES'!$A:$A,MATCH($B110,'PLANNING DES SITES'!J:J,0)),"") | K110: =IFERROR(INDEX('PLANNING DES SITES'!$A:$A,MATCH($B110,'PLANNING DES SITES'!K:K,0)),"") | L110: =IFERROR(INDEX('PLANNING DES SITES'!$A:$A,MATCH($B110,'PLANNING DES SITES'!L:L,0)),"") | M110: =IFERROR(INDEX('PLANNING DES SITES'!$A:$A,MATCH($B110,'PLANNING DES SITES'!M:M,0)),"") | N110: =IFERROR(INDEX('PLANNING DES SITES'!$A:$A,MATCH($B110,'PLANNING DES SITES'!N:N,0)),"") | O110: =IFERROR(INDEX('PLANNING DES SITES'!$A:$A,MATCH($B110,'PLANNING DES SITES'!O:O,0)),"") | P110: =IFERROR(INDEX('PLANNING DES SITES'!$A:$A,MATCH($B110,'PLANNING DES SITES'!P:P,0)),"") | Q110: =IFERROR(INDEX('PLANNING DES SITES'!$A:$A,MATCH($B110,'PLANNING DES SITES'!Q:Q,0)),"") | R110: =IFERROR(INDEX('PLANNING DES SITES'!$A:$A,MATCH($B110,'PLANNING DES SITES'!R:R,0)),"") | S110: =IFERROR(INDEX('PLANNING DES SITES'!$A:$A,MATCH($B110,'PLANNING DES SITES'!S:S,0)),"") | T110: =IFERROR(INDEX('PLANNING DES SITES'!$A:$A,MATCH($B110,'PLANNING DES SITES'!T:T,0)),"") | U110: =IFERROR(INDEX('PLANNING DES SITES'!$A:$A,MATCH($B110,'PLANNING DES SITES'!U:U,0)),"") | V110: =IFERROR(INDEX('PLANNING DES SITES'!$A:$A,MATCH($B110,'PLANNING DES SITES'!V:V,0)),"") | W110: =IFERROR(INDEX('PLANNING DES SITES'!$A:$A,MATCH($B110,'PLANNING DES SITES'!W:W,0)),"") | X110: =IFERROR(INDEX('PLANNING DES SITES'!$A:$A,MATCH($B110,'PLANNING DES SITES'!X:X,0)),"") | Y110: =IFERROR(INDEX('PLANNING DES SITES'!$A:$A,MATCH($B110,'PLANNING DES SITES'!Y:Y,0)),"") | Z110: =IFERROR(INDEX('PLANNING DES SITES'!$A:$A,MATCH($B110,'PLANNING DES SITES'!Z:Z,0)),"") | AA110: =IFERROR(INDEX('PLANNING DES SITES'!$A:$A,MATCH($B110,'PLANNING DES SITES'!AA:AA,0)),"") | AB110: =IFERROR(INDEX('PLANNING DES SITES'!$A:$A,MATCH($B110,'PLANNING DES SITES'!AB:AB,0)),"") | AC110: =IFERROR(INDEX('PLANNING DES SITES'!$A:$A,MATCH($B110,'PLANNING DES SITES'!AC:AC,0)),"") | AD110: =IFERROR(INDEX('PLANNING DES SITES'!$A:$A,MATCH($B110,'PLANNING DES SITES'!AD:AD,0)),"") | AE110: =IFERROR(INDEX('PLANNING DES SITES'!$A:$A,MATCH($B110,'PLANNING DES SITES'!AE:AE,0)),"") | AF110: =IFERROR(INDEX('PLANNING DES SITES'!$A:$A,MATCH($B110,'PLANNING DES SITES'!AF:AF,0)),"") | AG110: =IFERROR(INDEX('PLANNING DES SITES'!$A:$A,MATCH($B110,'PLANNING DES SITES'!AG:AG,0)),"") | AH110: =IFERROR(INDEX('PLANNING DES SITES'!$A:$A,MATCH($B110,'PLANNING DES SITES'!AH:AH,0)),"") | AI110: =IFERROR(INDEX('PLANNING DES SITES'!$A:$A,MATCH($B110,'PLANNING DES SITES'!AI:AI,0)),"") | AJ110: =COUNTA(E110:AI110) -> 31
A111: 9 | B111: CATRINESEN Emanuela | E111: =IFERROR(INDEX('PLANNING DES SITES'!$A:$A,MATCH($B111,'PLANNING DES SITES'!E:E,0)),"") | F111: =IFERROR(INDEX('PLANNING DES SITES'!$A:$A,MATCH($B111,'PLANNING DES SITES'!F:F,0)),"") | G111: =IFERROR(INDEX('PLANNING DES SITES'!$A:$A,MATCH($B111,'PLANNING DES SITES'!G:G,0)),"") | H111: =IFERROR(INDEX('PLANNING DES SITES'!$A:$A,MATCH($B111,'PLANNING DES SITES'!H:H,0)),"") | I111: =IFERROR(INDEX('PLANNING DES SITES'!$A:$A,MATCH($B111,'PLANNING DES SITES'!I:I,0)),"") | J111: =IFERROR(INDEX('PLANNING DES SITES'!$A:$A,MATCH($B111,'PLANNING DES SITES'!J:J,0)),"") | K111: =IFERROR(INDEX('PLANNING DES SITES'!$A:$A,MATCH($B111,'PLANNING DES SITES'!K:K,0)),"") | L111: =IFERROR(INDEX('PLANNING DES SITES'!$A:$A,MATCH($B111,'PLANNING DES SITES'!L:L,0)),"") | M111: =IFERROR(INDEX('PLANNING DES SITES'!$A:$A,MATCH($B111,'PLANNING DES SITES'!M:M,0)),"") | N111: =IFERROR(INDEX('PLANNING DES SITES'!$A:$A,MATCH($B111,'PLANNING DES SITES'!N:N,0)),"") | O111: =IFERROR(INDEX('PLANNING DES SITES'!$A:$A,MATCH($B111,'PLANNING DES SITES'!O:O,0)),"") | P111: =IFERROR(INDEX('PLANNING DES SITES'!$A:$A,MATCH($B111,'PLANNING DES SITES'!P:P,0)),"") | Q111: =IFERROR(INDEX('PLANNING DES SITES'!$A:$A,MATCH($B111,'PLANNING DES SITES'!Q:Q,0)),"") | R111: =IFERROR(INDEX('PLANNING DES SITES'!$A:$A,MATCH($B111,'PLANNING DES SITES'!R:R,0)),"") | S111: =IFERROR(INDEX('PLANNING DES SITES'!$A:$A,MATCH($B111,'PLANNING DES SITES'!S:S,0)),"") | T111: =IFERROR(INDEX('PLANNING DES SITES'!$A:$A,MATCH($B111,'PLANNING DES SITES'!T:T,0)),"") | U111: =IFERROR(INDEX('PLANNING DES SITES'!$A:$A,MATCH($B111,'PLANNING DES SITES'!U:U,0)),"") | V111: =IFERROR(INDEX('PLANNING DES SITES'!$A:$A,MATCH($B111,'PLANNING DES SITES'!V:V,0)),"") | W111: =IFERROR(INDEX('PLANNING DES SITES'!$A:$A,MATCH($B111,'PLANNING DES SITES'!W:W,0)),"") | X111: =IFERROR(INDEX('PLANNING DES SITES'!$A:$A,MATCH($B111,'PLANNING DES SITES'!X:X,0)),"") | Y111: =IFERROR(INDEX('PLANNING DES SITES'!$A:$A,MATCH($B111,'PLANNING DES SITES'!Y:Y,0)),"") | Z111: =IFERROR(INDEX('PLANNING DES SITES'!$A:$A,MATCH($B111,'PLANNING DES SITES'!Z:Z,0)),"") | AA111: =IFERROR(INDEX('PLANNING DES SITES'!$A:$A,MATCH($B111,'PLANNING DES SITES'!AA:AA,0)),"") | AB111: =IFERROR(INDEX('PLANNING DES SITES'!$A:$A,MATCH($B111,'PLANNING DES SITES'!AB:AB,0)),"") | AC111: =IFERROR(INDEX('PLANNING DES SITES'!$A:$A,MATCH($B111,'PLANNING DES SITES'!AC:AC,0)),"") | AD111: =IFERROR(INDEX('PLANNING DES SITES'!$A:$A,MATCH($B111,'PLANNING DES SITES'!AD:AD,0)),"") | AE111: =IFERROR(INDEX('PLANNING DES SITES'!$A:$A,MATCH($B111,'PLANNING DES SITES'!AE:AE,0)),"") | AF111: =IFERROR(INDEX('PLANNING DES SITES'!$A:$A,MATCH($B111,'PLANNING DES SITES'!AF:AF,0)),"") | AG111: =IFERROR(INDEX('PLANNING DES SITES'!$A:$A,MATCH($B111,'PLANNING DES SITES'!AG:AG,0)),"") | AH111: =IFERROR(INDEX('PLANNING DES SITES'!$A:$A,MATCH($B111,'PLANNING DES SITES'!AH:AH,0)),"") | AI111: =IFERROR(INDEX('PLANNING DES SITES'!$A:$A,MATCH($B111,'PLANNING DES SITES'!AI:AI,0)),"") | AJ111: =COUNTA(E111:AI111) -> 31
A112: 10 | B112: CAUC Alina-Mariana | E112: =IFERROR(INDEX('PLANNING DES SITES'!$A:$A,MATCH($B112,'PLANNING DES SITES'!E:E,0)),"") | F112: =IFERROR(INDEX('PLANNING DES SITES'!$A:$A,MATCH($B112,'PLANNING DES SITES'!F:F,0)),"") | G112: =IFERROR(INDEX('PLANNING DES SITES'!$A:$A,MATCH($B112,'PLANNING DES SITES'!G:G,0)),"") | H112: =IFERROR(INDEX('PLANNING DES SITES'!$A:$A,MATCH($B112,'PLANNING DES SITES'!H:H,0)),"") | I112: =IFERROR(INDEX('PLANNING DES SITES'!$A:$A,MATCH($B112,'PLANNING DES SITES'!I:I,0)),"") | J112: =IFERROR(INDEX('PLANNING DES SITES'!$A:$A,MATCH($B112,'PLANNING DES SITES'!J:J,0)),"") | K112: =IFERROR(INDEX('PLANNING DES SITES'!$A:$A,MATCH($B112,'PLANNING DES SITES'!K:K,0)),"") | L112: =IFERROR(INDEX('PLANNING DES SITES'!$A:$A,MATCH($B112,'PLANNING DES SITES'!L:L,0)),"") | M112: =IFERROR(INDEX('PLANNING DES SITES'!$A:$A,MATCH($B112,'PLANNING DES SITES'!M:M,0)),"") | N112: =IFERROR(INDEX('PLANNING DES SITES'!$A:$A,MATCH($B112,'PLANNING DES SITES'!N:N,0)),"") | O112: =IFERROR(INDEX('PLANNING DES SITES'!$A:$A,MATCH($B112,'PLANNING DES SITES'!O:O,0)),"") | P112: =IFERROR(INDEX('PLANNING DES SITES'!$A:$A,MATCH($B112,'PLANNING DES SITES'!P:P,0)),"") | Q112: =IFERROR(INDEX('PLANNING DES SITES'!$A:$A,MATCH($B112,'PLANNING DES SITES'!Q:Q,0)),"") | R112: =IFERROR(INDEX('PLANNING DES SITES'!$A:$A,MATCH($B112,'PLANNING DES SITES'!R:R,0)),"") | S112: =IFERROR(INDEX('PLANNING DES SITES'!$A:$A,MATCH($B112,'PLANNING DES SITES'!S:S,0)),"") | T112: =IFERROR(INDEX('PLANNING DES SITES'!$A:$A,MATCH($B112,'PLANNING DES SITES'!T:T,0)),"") | U112: =IFERROR(INDEX('PLANNING DES SITES'!$A:$A,MATCH($B112,'PLANNING DES SITES'!U:U,0)),"") | V112: =IFERROR(INDEX('PLANNING DES SITES'!$A:$A,MATCH($B112,'PLANNING DES SITES'!V:V,0)),"") | W112: =IFERROR(INDEX('PLANNING DES SITES'!$A:$A,MATCH($B112,'PLANNING DES SITES'!W:W,0)),"") | X112: =IFERROR(INDEX('PLANNING DES SITES'!$A:$A,MATCH($B112,'PLANNING DES SITES'!X:X,0)),"") | Y112: =IFERROR(INDEX('PLANNING DES SITES'!$A:$A,MATCH($B112,'PLANNING DES SITES'!Y:Y,0)),"") | Z112: =IFERROR(INDEX('PLANNING DES SITES'!$A:$A,MATCH($B112,'PLANNING DES SITES'!Z:Z,0)),"") | AA112: =IFERROR(INDEX('PLANNING DES SITES'!$A:$A,MATCH($B112,'PLANNING DES SITES'!AA:AA,0)),"") | AB112: =IFERROR(INDEX('PLANNING DES SITES'!$A:$A,MATCH($B112,'PLANNING DES SITES'!AB:AB,0)),"") | AC112: =IFERROR(INDEX('PLANNING DES SITES'!$A:$A,MATCH($B112,'PLANNING DES SITES'!AC:AC,0)),"") | AD112: =IFERROR(INDEX('PLANNING DES SITES'!$A:$A,MATCH($B112,'PLANNING DES SITES'!AD:AD,0)),"") | AE112: =IFERROR(INDEX('PLANNING DES SITES'!$A:$A,MATCH($B112,'PLANNING DES SITES'!AE:AE,0)),"") | AF112: =IFERROR(INDEX('PLANNING DES SITES'!$A:$A,MATCH($B112,'PLANNING DES SITES'!AF:AF,0)),"") | AG112: =IFERROR(INDEX('PLANNING DES SITES'!$A:$A,MATCH($B112,'PLANNING DES SITES'!AG:AG,0)),"") | AH112: =IFERROR(INDEX('PLANNING DES SITES'!$A:$A,MATCH($B112,'PLANNING DES SITES'!AH:AH,0)),"") | AI112: =IFERROR(INDEX('PLANNING DES SITES'!$A:$A,MATCH($B112,'PLANNING DES SITES'!AI:AI,0)),"") | AJ112: =COUNTA(E112:AI112) -> 31
A113: 11 | B113: CEBAN Ina | E113: =IFERROR(INDEX('PLANNING DES SITES'!$A:$A,MATCH($B113,'PLANNING DES SITES'!E:E,0)),"") | F113: =IFERROR(INDEX('PLANNING DES SITES'!$A:$A,MATCH($B113,'PLANNING DES SITES'!F:F,0)),"") | G113: =IFERROR(INDEX('PLANNING DES SITES'!$A:$A,MATCH($B113,'PLANNING DES SITES'!G:G,0)),"") | H113: =IFERROR(INDEX('PLANNING DES SITES'!$A:$A,MATCH($B113,'PLANNING DES SITES'!H:H,0)),"") | I113: =IFERROR(INDEX('PLANNING DES SITES'!$A:$A,MATCH($B113,'PLANNING DES SITES'!I:I,0)),"") | J113: =IFERROR(INDEX('PLANNING DES SITES'!$A:$A,MATCH($B113,'PLANNING DES SITES'!J:J,0)),"") | K113: =IFERROR(INDEX('PLANNING DES SITES'!$A:$A,MATCH($B113,'PLANNING DES SITES'!K:K,0)),"") | L113: =IFERROR(INDEX('PLANNING DES SITES'!$A:$A,MATCH($B113,'PLANNING DES SITES'!L:L,0)),"") | M113: =IFERROR(INDEX('PLANNING DES SITES'!$A:$A,MATCH($B113,'PLANNING DES SITES'!M:M,0)),"") | N113: =IFERROR(INDEX('PLANNING DES SITES'!$A:$A,MATCH($B113,'PLANNING DES SITES'!N:N,0)),"") | O113: =IFERROR(INDEX('PLANNING DES SITES'!$A:$A,MATCH($B113,'PLANNING DES SITES'!O:O,0)),"") | P113: =IFERROR(INDEX('PLANNING DES SITES'!$A:$A,MATCH($B113,'PLANNING DES SITES'!P:P,0)),"") | Q113: =IFERROR(INDEX('PLANNING DES SITES'!$A:$A,MATCH($B113,'PLANNING DES SITES'!Q:Q,0)),"") | R113: =IFERROR(INDEX('PLANNING DES SITES'!$A:$A,MATCH($B113,'PLANNING DES SITES'!R:R,0)),"") | S113: =IFERROR(INDEX('PLANNING DES SITES'!$A:$A,MATCH($B113,'PLANNING DES SITES'!S:S,0)),"") | T113: =IFERROR(INDEX('PLANNING DES SITES'!$A:$A,MATCH($B113,'PLANNING DES SITES'!T:T,0)),"") | U113: =IFERROR(INDEX('PLANNING DES SITES'!$A:$A,MATCH($B113,'PLANNING DES SITES'!U:U,0)),"") | V113: =IFERROR(INDEX('PLANNING DES SITES'!$A:$A,MATCH($B113,'PLANNING DES SITES'!V:V,0)),"") | W113: =IFERROR(INDEX('PLANNING DES SITES'!$A:$A,MATCH($B113,'PLANNING DES SITES'!W:W,0)),"") | X113: =IFERROR(INDEX('PLANNING DES SITES'!$A:$A,MATCH($B113,'PLANNING DES SITES'!X:X,0)),"") | Y113: =IFERROR(INDEX('PLANNING DES SITES'!$A:$A,MATCH($B113,'PLANNING DES SITES'!Y:Y,0)),"") | Z113: =IFERROR(INDEX('PLANNING DES SITES'!$A:$A,MATCH($B113,'PLANNING DES SITES'!Z:Z,0)),"") | AA113: =IFERROR(INDEX('PLANNING DES SITES'!$A:$A,MATCH($B113,'PLANNING DES SITES'!AA:AA,0)),"") | AB113: =IFERROR(INDEX('PLANNING DES SITES'!$A:$A,MATCH($B113,'PLANNING DES SITES'!AB:AB,0)),"") | AC113: =IFERROR(INDEX('PLANNING DES SITES'!$A:$A,MATCH($B113,'PLANNING DES SITES'!AC:AC,0)),"") | AD113: =IFERROR(INDEX('PLANNING DES SITES'!$A:$A,MATCH($B113,'PLANNING DES SITES'!AD:AD,0)),"") | AE113: =IFERROR(INDEX('PLANNING DES SITES'!$A:$A,MATCH($B113,'PLANNING DES SITES'!AE:AE,0)),"") | AF113: =IFERROR(INDEX('PLANNING DES SITES'!$A:$A,MATCH($B113,'PLANNING DES SITES'!AF:AF,0)),"") | AG113: =IFERROR(INDEX('PLANNING DES SITES'!$A:$A,MATCH($B113,'PLANNING DES SITES'!AG:AG,0)),"") | AH113: =IFERROR(INDEX('PLANNING DES SITES'!$A:$A,MATCH($B113,'PLANNING DES SITES'!AH:AH,0)),"") | AI113: =IFERROR(INDEX('PLANNING DES SITES'!$A:$A,MATCH($B113,'PLANNING DES SITES'!AI:AI,0)),"") | AJ113: =COUNTA(E113:AI113) -> 31
A114: 12 | B114: DA VEIGA Helena | E114: =IFERROR(INDEX('PLANNING DES SITES'!$A:$A,MATCH($B114,'PLANNING DES SITES'!E:E,0)),"") | F114: =IFERROR(INDEX('PLANNING DES SITES'!$A:$A,MATCH($B114,'PLANNING DES SITES'!F:F,0)),"") | G114: =IFERROR(INDEX('PLANNING DES SITES'!$A:$A,MATCH($B114,'PLANNING DES SITES'!G:G,0)),"") | H114: =IFERROR(INDEX('PLANNING DES SITES'!$A:$A,MATCH($B114,'PLANNING DES SITES'!H:H,0)),"") | I114: =IFERROR(INDEX('PLANNING DES SITES'!$A:$A,MATCH($B114,'PLANNING DES SITES'!I:I,0)),"") | J114: =IFERROR(INDEX('PLANNING DES SITES'!$A:$A,MATCH($B114,'PLANNING DES SITES'!J:J,0)),"") | K114: =IFERROR(INDEX('PLANNING DES SITES'!$A:$A,MATCH($B114,'PLANNING DES SITES'!K:K,0)),"") | L114: =IFERROR(INDEX('PLANNING DES SITES'!$A:$A,MATCH($B114,'PLANNING DES SITES'!L:L,0)),"") | M114: =IFERROR(INDEX('PLANNING DES SITES'!$A:$A,MATCH($B114,'PLANNING DES SITES'!M:M,0)),"") | N114: =IFERROR(INDEX('PLANNING DES SITES'!$A:$A,MATCH($B114,'PLANNING DES SITES'!N:N,0)),"") | O114: =IFERROR(INDEX('PLANNING DES SITES'!$A:$A,MATCH($B114,'PLANNING DES SITES'!O:O,0)),"") | P114: =IFERROR(INDEX('PLANNING DES SITES'!$A:$A,MATCH($B114,'PLANNING DES SITES'!P:P,0)),"") | Q114: =IFERROR(INDEX('PLANNING DES SITES'!$A:$A,MATCH($B114,'PLANNING DES SITES'!Q:Q,0)),"") | R114: =IFERROR(INDEX('PLANNING DES SITES'!$A:$A,MATCH($B114,'PLANNING DES SITES'!R:R,0)),"") | S114: =IFERROR(INDEX('PLANNING DES SITES'!$A:$A,MATCH($B114,'PLANNING DES SITES'!S:S,0)),"") | T114: =IFERROR(INDEX('PLANNING DES SITES'!$A:$A,MATCH($B114,'PLANNING DES SITES'!T:T,0)),"") | U114: =IFERROR(INDEX('PLANNING DES SITES'!$A:$A,MATCH($B114,'PLANNING DES SITES'!U:U,0)),"") | V114: =IFERROR(INDEX('PLANNING DES SITES'!$A:$A,MATCH($B114,'PLANNING DES SITES'!V:V,0)),"") | W114: =IFERROR(INDEX('PLANNING DES SITES'!$A:$A,MATCH($B114,'PLANNING DES SITES'!W:W,0)),"") | X114: =IFERROR(INDEX('PLANNING DES SITES'!$A:$A,MATCH($B114,'PLANNING DES SITES'!X:X,0)),"") | Y114: =IFERROR(INDEX('PLANNING DES SITES'!$A:$A,MATCH($B114,'PLANNING DES SITES'!Y:Y,0)),"") | Z114: =IFERROR(INDEX('PLANNING DES SITES'!$A:$A,MATCH($B114,'PLANNING DES SITES'!Z:Z,0)),"") | AA114: =IFERROR(INDEX('PLANNING DES SITES'!$A:$A,MATCH($B114,'PLANNING DES SITES'!AA:AA,0)),"") | AB114: =IFERROR(INDEX('PLANNING DES SITES'!$A:$A,MATCH($B114,'PLANNING DES SITES'!AB:AB,0)),"") | AC114: =IFERROR(INDEX('PLANNING DES SITES'!$A:$A,MATCH($B114,'PLANNING DES SITES'!AC:AC,0)),"") | AD114: =IFERROR(INDEX('PLANNING DES SITES'!$A:$A,MATCH($B114,'PLANNING DES SITES'!AD:AD,0)),"") | AE114: =IFERROR(INDEX('PLANNING DES SITES'!$A:$A,MATCH($B114,'PLANNING DES SITES'!AE:AE,0)),"") | AF114: =IFERROR(INDEX('PLANNING DES SITES'!$A:$A,MATCH($B114,'PLANNING DES SITES'!AF:AF,0)),"") | AG114: =IFERROR(INDEX('PLANNING DES SITES'!$A:$A,MATCH($B114,'PLANNING DES SITES'!AG:AG,0)),"") | AH114: =IFERROR(INDEX('PLANNING DES SITES'!$A:$A,MATCH($B114,'PLANNING DES SITES'!AH:AH,0)),"") | AI114: =IFERROR(INDEX('PLANNING DES SITES'!$A:$A,MATCH($B114,'PLANNING DES SITES'!AI:AI,0)),"") | AJ114: =COUNTA(E114:AI114) -> 31
... A158: 56 | B158: UZOEVA Violeta | E158: =IFERROR(INDEX('PLANNING DES SITES'!$A:$A,MATCH($B158,'PLANNING DES SITES'!E:E,0)),"") | F158: =IFERROR(INDEX('PLANNING DES SITES'!$A:$A,MATCH($B158,'PLANNING DES SITES'!F:F,0)),"") | G158: =IFERROR(INDEX('PLANNING DES SITES'!$A:$A,MATCH($B158,'PLANNING DES SITES'!G:G,0)),"") | H158: =IFERROR(INDEX('PLANNING DES SITES'!$A:$A,MATCH($B158,'PLANNING DES SITES'!H:H,0)),"") | I158: =IFERROR(INDEX('PLANNING DES SITES'!$A:$A,MATCH($B158,'PLANNING DES SITES'!I:I,0)),"") | J158: =IFERROR(INDEX('PLANNING DES SITES'!$A:$A,MATCH($B158,'PLANNING DES SITES'!J:J,0)),"") | K158: =IFERROR(INDEX('PLANNING DES SITES'!$A:$A,MATCH($B158,'PLANNING DES SITES'!K:K,0)),"") | L158: =IFERROR(INDEX('PLANNING DES SITES'!$A:$A,MATCH($B158,'PLANNING DES SITES'!L:L,0)),"") | M158: =IFERROR(INDEX('PLANNING DES SITES'!$A:$A,MATCH($B158,'PLANNING DES SITES'!M:M,0)),"") | N158: =IFERROR(INDEX('PLANNING DES SITES'!$A:$A,MATCH($B158,'PLANNING DES SITES'!N:N,0)),"") | O158: =IFERROR(INDEX('PLANNING DES SITES'!$A:$A,MATCH($B158,'PLANNING DES SITES'!O:O,0)),"") | P158: =IFERROR(INDEX('PLANNING DES SITES'!$A:$A,MATCH($B158,'PLANNING DES SITES'!P:P,0)),"") | Q158: =IFERROR(INDEX('PLANNING DES SITES'!$A:$A,MATCH($B158,'PLANNING DES SITES'!Q:Q,0)),"") | R158: =IFERROR(INDEX('PLANNING DES SITES'!$A:$A,MATCH($B158,'PLANNING DES SITES'!R:R,0)),"") | S158: =IFERROR(INDEX('PLANNING DES SITES'!$A:$A,MATCH($B158,'PLANNING DES SITES'!S:S,0)),"") | T158: =IFERROR(INDEX('PLANNING DES SITES'!$A:$A,MATCH($B158,'PLANNING DES SITES'!T:T,0)),"") | U158: =IFERROR(INDEX('PLANNING DES SITES'!$A:$A,MATCH($B158,'PLANNING DES SITES'!U:U,0)),"") | V158: =IFERROR(INDEX('PLANNING DES SITES'!$A:$A,MATCH($B158,'PLANNING DES SITES'!V:V,0)),"") | W158: =IFERROR(INDEX('PLANNING DES SITES'!$A:$A,MATCH($B158,'PLANNING DES SITES'!W:W,0)),"") | X158: =IFERROR(INDEX('PLANNING DES SITES'!$A:$A,MATCH($B158,'PLANNING DES SITES'!X:X,0)),"") | Y158: =IFERROR(INDEX('PLANNING DES SITES'!$A:$A,MATCH($B158,'PLANNING DES SITES'!Y:Y,0)),"") | Z158: =IFERROR(INDEX('PLANNING DES SITES'!$A:$A,MATCH($B158,'PLANNING DES SITES'!Z:Z,0)),"") | AA158: =IFERROR(INDEX('PLANNING DES SITES'!$A:$A,MATCH($B158,'PLANNING DES SITES'!AA:AA,0)),"") | AB158: =IFERROR(INDEX('PLANNING DES SITES'!$A:$A,MATCH($B158,'PLANNING DES SITES'!AB:AB,0)),"") | AC158: =IFERROR(INDEX('PLANNING DES SITES'!$A:$A,MATCH($B158,'PLANNING DES SITES'!AC:AC,0)),"") | AD158: =IFERROR(INDEX('PLANNING DES SITES'!$A:$A,MATCH($B158,'PLANNING DES SITES'!AD:AD,0)),"") | AE158: =IFERROR(INDEX('PLANNING DES SITES'!$A:$A,MATCH($B158,'PLANNING DES SITES'!AE:AE,0)),"") | AF158: =IFERROR(INDEX('PLANNING DES SITES'!$A:$A,MATCH($B158,'PLANNING DES SITES'!AF:AF,0)),"") | AG158: =IFERROR(INDEX('PLANNING DES SITES'!$A:$A,MATCH($B158,'PLANNING DES SITES'!AG:AG,0)),"") | AH158: =IFERROR(INDEX('PLANNING DES SITES'!$A:$A,MATCH($B158,'PLANNING DES SITES'!AH:AH,0)),"") | AI158: =IFERROR(INDEX('PLANNING DES SITES'!$A:$A,MATCH($B158,'PLANNING DES SITES'!AI:AI,0)),"") | AJ158: =COUNTA(E158:AI158) -> 31
A159: 57 | AJ159: =COUNTA(E159:AI159) -> 0
A160: 58 | AJ160: =COUNTA(E160:AI160) -> 0
A161: 59 | AJ161: =COUNTA(E161:AI161) -> 0
A162: 60 | AJ162: =COUNTA(E162:AI162) -> 0
A163: 61 | AJ163: =COUNTA(E163:AI163) -> 0
A164: 62 | AJ164: =COUNTA(E164:AI164) -> 0
A165: 63 | AJ165: =COUNTA(E165:AI165) -> 0
A166: 64 | AJ166: =COUNTA(E166:AI166) -> 0
A167: 65 | AJ167: =COUNTA(E167:AI167) -> 0
A168: 66 | AJ168: =COUNTA(E168:AI168) -> 0
A169: 67 | AJ169: =COUNTA(E169:AI169) -> 0
A170: 68 | AJ170: =COUNTA(E170:AI170) -> 0
... A173: 71 | AJ173: =COUNTA(E173:AI173) -> 0
AJ174: =COUNTA(E174:AI174) -> 0
AJ175: =COUNTA(E175:AI175) -> 0
AJ176: =COUNTA(E176:AI176) -> 0
AJ177: =COUNTA(E177:AI177) -> 0
AJ178: =COUNTA(E178:AI178) -> 0
AJ179: =COUNTA(E179:AI179) -> 0
AJ180: =COUNTA(E180:AI180) -> 0
AJ181: =COUNTA(E181:AI181) -> 0
AJ182: =COUNTA(E182:AI182) -> 0
AJ183: =COUNTA(E183:AI183) -> 0
AJ184: =COUNTA(E184:AI184) -> 0
AJ185: =COUNTA(E185:AI185) -> 0
... AJ407: =COUNTA(E407:AI407) -> 0

Sheet PLANNING DES SITES
N2: PLANNING DES SITES OCTOBRE 2018
B4: SITES | C4: POSTE | D4: HORAIRES | E4: 43374 | F4: 43375 | G4: 43376 | H4: 43377 | I4: 43378 | J4: 43379 | K4: 43380 | L4: 43381 | M4: 43382 | N4: 43383 | O4: 43384 | P4: 43385 | Q4: 43386 | R4: 43387 | S4: 43388 | T4: 43389 | U4: 43390 | V4: 43391 | W4: 43392 | X4: 43393 | Y4: 43394 | Z4: 43395 | AA4: 43396 | AB4: 43397 | AC4: 43398 | AD4: 43399 | AE4: 43400 | AF4: 43401 | AG4: 43402 | AH4: 43403 | AI4: 43404 | AJ4: H/# | AK4: TOTAL | AL4: COMMENTAIRES
E5: L | F5: M | G5: Me | H5: J | I5: V | J5: S | K5: D | L5: L | M5: M | N5: Me | O5: J | P5: V | Q5: S | R5: D | S5: L | T5: M | U5: Me | V5: J | W5: V | X5: S | Y5: D | Z5: L | AA5: M | AB5: Me | AC5: J | AD5: V | AE5: S | AF5: D | AG5: L | AH5: M | AI5: Me
A6: MADELAINE | B6: MADELEINE PLAZA | C6: FDCH | AJ6: HEURE
A7: MADELAINE | C7: FDCH EXTRA | AJ7: HEURE
A8: BASSANO | B8: BASSANO | C8: FDCH 1 | AJ8: CHAMBRE
A9: BASSANO | C9: FDCH 2 | E9: DONICA Corina | AJ9: CHAMBRE
A10: BASSANO | C10: FDCH 3 | H10: SAHA Safayet | AJ10: CHAMBRE
A11: BASSANO | C11: FDCH 4 | AJ11: CHAMBRE
A12: BASSANO | C12: FDCH EXTRA | AJ12: CHAMBRE
A13: BASSANO | C13: CAF | AJ13: HEURE
A14: MADISSON | B14: MADISSON | C14: FDCH | AJ14: HEURE
A15: MARAIS HOME | B15: MARAIS HOME | C15: FDCH | AJ15: HEURE
A16: MARAIS HOME | C16: REC | AJ16: HEURE
A17: OCEANIC | B17: OCEANIC | C17: FDCH | AJ17: HEURE
A18: OCEANIC | C18: FDCH EXTRA | AJ18: HEURE
A19: OCEANIC | C19: CAF | AJ19: HEURE
A20: MAYFAIR | B20: MAYFAIR | C20: FDCH | AJ20: HEURE
A21: MAYFAIR | C21: EQ | AJ21: HEURE
A22: MR CADET | B22: MR CADET | C22: FDCH1 | AJ22: CHAMBRE
A23: MR CADET | C23: FDCH2 | AJ23: CHAMBRE
A24: MR CADET | C24: FDCH3 | AJ24: CHAMBRE
A25: CLARIDGE | B25: CLARIDGE | C25: FDCH1 | AJ25: HEURE
A26: CLARIDGE | C26: FDCH | AJ26: HEURE
A27: CLARIDGE | C27: FDCH3 | AJ27: HEURE
A28: CLARIDGE | C28: FDCH EXTRA | AJ28: HEURE
A29: CLARIDGE | C29: EQ | AJ29: HEURE
A30: CLARIDGE | C30: BAG | AJ30: HEURE
A31: CLARIDGE | C31: GOUV | AJ31: HEURE
A32: ELYSEES PLAZA | B32: PERSO (PLAZA ELYS) | C32: FDCH 1 | AJ32: HEURE
A33: ELYSEES PLAZA | C33: FDCH 2 | AJ33: HEURE
A34: ELYSEES PLAZA | C34: FDCH 3 | AJ34: HEURE
A35: ELYSEES PLAZA | C35: FDCH EXTRA | AJ35: HEURE
A36: ELYSEES PLAZA | C36: CAF | AJ36: HEURE
A37: LODGE | B37: LODGE | C37: FDCH 1 | AJ37: HEURE
A38: MR HELDER | B38: MR HELDER OPERA | C38: FDCH 1 | AJ38: HEURE
A39: MR HELDER | C39: FDCH 2 | AJ39: HEURE
A40: MR HELDER | C40: FDCH EXTRA | AJ40: HEURE
A41: MR HELDER | C41: CAF | AJ41: HEURE
A42: MADELAINE HAUSS | B42: MADELEINE HAUSSM | C42: FDCH 1 | AJ42: HEURE
A43: MADELAINE HAUSS | C43: FDCH 2 | AJ43: HEURE
A44: SUBLIM | B44: SUBLIM EIFFEL | C44: FDCH 1 | AJ44: HEURE
A45: SUBLIM | C45: FDCH 2 | AJ45: HEURE
A46: SUBLIM | C46: FDCH EXTRA | AJ46: HEURE
A47: SUBLIM | C47: REC M/M1/M2 | AJ47: HEURE
A48: SUBLIM | C48: REC S/S1/P | AJ48: HEURE
A49: SUBLIM | C49: REC N/N1 | AJ49: HEURE
A50: TERM.MONTP | B50: TERMINUS MONTP | C50: FDCH 1 | AJ50: HEURE
A51: TERM.MONTP | C51: FDCH 2 | AJ51: HEURE
A52: TERM.MONTP | C52: FDCH 3 | AJ52: HEURE
A53: TERM.MONTP | C53: FDCH EXTRA | AJ53: HEURE
A54: LONGCHAMP | B54: LONGCHAMP | C54: FDCH 1 | AJ54: HEURE
A55: SAINT PIERRE | B55: SAINT PIERRE | C55: FDCH 1 | AJ55: CHAMBRE
A56: PULITA | B56: PULITA VENDOM (COL) | C56: FDCH 1 | AJ56: CHAMBRE
A57: PULITA | C57: FDCH 2 | AJ57: CHAMBRE
A58: PULITA | C58: FDCH EXTRA | AJ58: CHAMBRE
A59: PULITA | C59: GOUV | AJ59: HEURE
A60: 1E MARAIS | B60: 1 ETAGE MARAIS | C60: FDCH 1 | AJ60: HEURE
A61: 1E MARAIS | C61: FDCH 2 | AJ61: HEURE
A62: 1E OPERA | B62: 1 ETAGE OPERA | C62: FDCH 1 | AJ62: HEURE
A63: 1E OPERA | C63: FDCH 2 | AJ63: HEURE
A64: 1E OPERA | C64: FDCH EXTRA | AJ64: HEURE
A65: 1E PIGALLE | B65: 1 ETAGE PIGALLE | C65: FDCH 1 | AJ65: HEURE
A66: 1E PIGALLE | C66: FDCH 2 | AJ66: HEURE
A67: 1E PIGALLE | C67: FDCH EXTRA | AJ67: HEURE
A68: 9 MONTPAR | B68: 9 MONTPARNASSE | C68: FDCH 1 | AJ68: CHAMBRE
A69: 9 MONTPAR | C69: FDCH 2 | AJ69: CHAMBRE
A70: 9 MONTPAR | C70: FDCH 3 | AJ70: CHAMBRE
A71: 9 MONTPAR | C71: FDCH EXTRA | AJ71: CHAMBRE
A72: 9 MONTPAR | C72: NIGHT | AJ72: HEURE
A73: 9 MONTPAR | C73: CAF | AJ73: HEURE
A74: 9 OPERA | B74: 9 OPERA | C74: FDCH 1 | AJ74: CHAMBRE
A75: 9 OPERA | C75: FDCH 2 | AJ75: CHAMBRE
A76: 9 OPERA | C76: FDCH 3 | AJ76: CHAMBRE
A77: 9 OPERA | C77: FDCH 4 | AJ77: HEURE
A78: 9 OPERA | C78: FDCH EXTRA | AJ78: HEURE
A79: 9 REPUBLIQUE | B79: 9 REPUBLIQUE | C79: FDCH 1 | AJ79: HEURE
A80: 9 REPUBLIQUE | C80: FDCH 2 | AJ80: HEURE
A81: 9 REPUBLIQUE | C81: FDCH 3 | AJ81: HEURE
A82: 9 REPUBLIQUE | C82: FDCH EXTRA | AJ82: HEURE
A83: 9 REPUBLIQUE | C83: REC N | AJ83: HEURE
A84: 9 REPUBLIQUE | C84: REC 1 / 2 | AJ84: HEURE
A85: VILLA ARTISTES | B85: VILLA ARTISTES | C85: FDCH 1 | AJ85: HEURE
A86: VILLA ARTISTES | C86: FDCH 2 | AJ86: HEURE
A87: VILLA ARTISTES | C87: FDCH 3 | AJ87: HEURE
A88: VILLA ARTISTES | C88: FDCH 4 | AJ88: HEURE
A89: VILLA ARTISTES | C89: FDCH EXTRA | AJ89: HEURE
A90: VILLA ARTISTES | C90: EQ | AJ90: HEURE
A91: EXE | B91: EXE | C91: FDCH 1 | AJ91: CHAMBRE
A92: EXE | C92: FDCH 2 | AJ92: CHAMBRE
A93: EXE | C93: FDCH 3 | AJ93: CHAMBRE
A94: EXE | C94: FDCH EXTRA | AJ94: CHAMBRE
A95: EXE | C95: REC N | AJ95: HEURE
A96: EXE | C96: CAF | AJ96: HEURE
A97: LITTRE | B97: LITTRE | C97: FDCH 1 | AJ97: HEURE
A98: LITTRE | C98: FDCH 2 | AJ98: HEURE
A99: LITTRE | C99: FDCH 3 | AJ99: HEURE
A100: LITTRE | C100: FDCH EXTRA | AJ100: HEURE
A101: RICHEPANSE | B101: OPERA RICHEPANSE | C101: FDCH 1 | AJ101: CHAMBRE
A102: RICHEPANSE | C102: FDCH 2 | AJ102: CHAMBRE
...

Sheet DONNEES DES SALARIES
B1: SALARIES | C1: CDD/CDI | D1: ENTREE | E1: SITES | F1: SITES | G1: SITES | H1: SITES | I1: SITES
A2: AST | B2: MD MIJANUR RAHMAN | E2: MADELEINE PLAZA | F2: GREY | G2: ROCHESTER | J2: 1
A3: AST | B3: ZAMAN QUAMRUZ | E3: CLARIDGE | F3: VILLA DES ARTISTES | J3: 1 | L3: SALARIES
A4: FINICIEN | B4: HASAN MOHAMMED MEHDI | C4: CDI | D4: 2018 | E4: PANORAMA | F4: WESTSIDE | G4: CLARIDGE | J4: 1 | L4: SITE HABITUEL
A5: IZINET | B5: COJOCARU Olga | C5: CDI | D5: 2017 | E5: BEDFORD | F5: MONSIEUR HELDER OPERA | G5: 9REPUBLIQUE | J5: 1 | L5: HOTEL
A6: IZINET | B6: MANOLI Ana | C6: CDI | D6: 2018 | E6: GREY | J6: 1 | L6: HOTEL SANS PERSONNEL ATRIBUE
A7: IZINET | B7: SHARIFUL Islam | C7: CDI | D7: 2018 | E7: THE PLAYCE (MONTMARTRE) | F7: MADELEINE HAUSSMAN | G7: FLORIDE ETOILE | H7: BEDFORD | I7: GARDETTE | J7: 1 | L7: HETEL INTERIM
A8: M3 SERVICE | B8: FINTA Anisoara | C8: CDI | D8: 2018 | E8: BEDFORD | J8: 1 | L8: PERSONNEL EN ARRET/PROBLEME
A9: M3 SERVICE | B9: GOMES SILVA Natalina | C9: CDI | D9: 2014 | E9: CLARIDGE | J9: 1
A10: M3 SERVICE | B10: MATENCU Maria | C10: CDI | D10: 2015 | E10: L'HORLOGE | J10: 1
A11: M3 SERVICE | B11: ODAINIC Liliana | C11: CDI | D11: 2014 | E11: RELAIS | J11: 1
A12: M3 SERVICE | B12: PRODIF Sorkar | E12: CLASSIC | F12: BIENVENUE | G12: GARDETTE | J12: 1
A13: MEF | B13: ABREU JARDIM Magda | C13: CDI | D13: 2017 | E13: 9HOTEL MONTPARNASSE | J13: 1
A14: MEF | B14: AMIEL Najia | C14: CDI | D14: 2013 | E14: FLORIDE ETOILE | F14: CLARIDGE | I14: WESTSIDE | J14: 1
A15: MB2 | B15: ACRIS Eugenia | C15: CDD | D15: 43539 | E15: MAYFAIR | F15: SELECT RIVE GAUCHE | J15: 1
A16: MB2 | B16: CZIKA ARMENEAN Alina Alexandra | C16: CDI | D16: 2014 | E16: SAINT MICHEL | F16: MONSIEUR HELDER OPERA | G16: VILLA DES ARTISTES | J16: 1
A17: MB2 | B17: CHIHAI Eugenia | C17: CDI | D17: 2018 | E17: MAYFAIR | F17: CLARIDGE | G17: ROCHESTER | J17: 1
A18: MB2 | B18: DINU Florina | C18: CDI | D18: 2018 | E18: CLARIDGE | J18: 1
A19: MB2 | B19: MD SANAULLAH Bepari BAG CAF | C19: CDI | D19: 2014 | E19: CLARIDGE | J19: 1
A20: MB2 | B20: PRAMANIK Rahul | C20: CDI | D20: 2017 | E20: CLARIDGE | J20: 1
A21: STAFHOME | B21: FOLLY Adjon Marie Madeleine Dede | C21: CDI | D21: 2008 | E21: EXE PARIS CENTRE | J21: 1
A22: STAFHOME | B22: MAMUN SP | C22: CDI | D22: 2018 | E22: MADELEINE HAUSSMAN | F22: SAINT MICHEL | J22: 1
A23: STAFOTEL | B23: LUPEA DELIA Ancuta | C23: CDI | D23: 2013 | E23: MADISON | F23: SAINT MICHEL | J23: 1
A24: STARKO | B24: BAPARI Sharif | C24: CDI | D24: 2016 | E24: MADISON | F24: 9REPUBLIQUE | I24: DERBY EIFFEL | J24: 1
A25: STARKO | B25: DONICA Corina | C25: CDI | D25: 2018 | E25: BASSANO | J25: 1
A26: STARKO | B26: LEONTE Ioan-Madalin | C26: CDD | D26: 43414 | E26: THE PLAYCE (MONTMARTRE) | F26: AUTEUIL | J26: 1
A27: STARKO | B27: LESNIC Alina | C27: CDI | D27: 2017 | E27: CLARIDGE | F27: DRAWING | G27: 9HOTEL MONTPARNASSE | H27: VILLA DES ARTISTES | I27: DERBY EIFFEL | J27: 1
A28: STARKO | B28: RAKIBUL Haque | C28: CDI | D28: 2016 | E28: MAYFAIR | F28: CLARIDGE | H28: MONSIEUR HELDER OPERA | J28: 1
A29: WATCH | B29: DOBRICAN TANTA Daniela | C29: CDI | D29: 2016 | E29: 1er ETAGE MARAIS | F29: 1er ETAGE PIGALLE | G29: 1er ETAGE OPERA | J29: 1
A30: WATCH | B30: GUTANU Nadejda | C30: CDI | D30: 2018 | E30: 1er ETAGE PIGALLE | J30: 1
A31: WATCH | B31: LAZAR ASANDULESSEI Anca Maria | C31: CDI | D31: 2016 | E31: VERLAIN | J31: 1
A32: WATCH | B32: PROHOROV Tatiana | C32: CDI | D32: 2017 | E32: WESTSIDE | J32: 1
A33: WATCH | B33: RUSU Stela | C33: CDI | D33: 2016 | E33: 9HOTEL OPERA | F33: 9REPUBLIQUE | J33: 1
A34: WATCH | B34: TATCHAEVA Zalina | C34: CDI | D34: 2018 | E34: CLARIDGE | J34: 1
A35: WATCH | B35: VEZIROVA Louiza | C35: CDI | D35: 2018 | E35: ELYSEES BOETIE | H35: SIBOUR | I35: ATLANTIC | J35: 1
A36: ROYAL L | B36: MOCANU Adriana | C36: CDI | D36: 2018 | E36: ATLANTIC | J36: 1
A37: ROYAL L | B37: NESIC Tamara | C37: CDI | D37: 2018 | E37: DRAWING | J37: 1
A38: ROYAL L | B38: TARIM Hossain | C38: CDI | D38: 2018 | E38: FLORIDE ETOILE | H38: GARDETTE | I38: BIENVENUE | J38: 1
A39: ROYAL L | B39: TEODORESCU Gabriela | C39: CDI | D39: 2018 | E39: 1er ETAGE OPERA | F39: 1er ETAGE MARAIS | H39: MONSIEUR HELDER OPERA | J39: 1
A40: ROYAL L | B40: TOMA Lilian | C40: CDI | D40: 2018 | E40: MADISON | F40: CLARIDGE | J40: 1
A41: ROYAL L | B41: VAZ LOURENCO DA GLORIA Clifton | C41: CDI | D41: 2018 | E41: MIRIFIC | J41: 1
A42: NETTOUCH | B42: CIOBANU Rodica | C42: CDI | D42: 2017 | E42: LITTRE | F42: DRAWING | G42: VILLA DES ARTISTES | H42: 9HOTEL MONTPARNASSE | I42: THE PLAYCE (MONTMARTRE) | J42: 1
A43: NETTOUCH | B43: GOGOI Liliana | C43: CDI | D43: 2017 | E43: DRAWING | F43: MADELEINE HAUSSMAN | G43: GREY | J43: 1
A44: NETTOUCH | B44: GUZUN Cristina | C44: CDD | D44: 43524 | E44: LITTRE | I44: MADELEINE HAUSSMAN | J44: 1
A45: NETTOUCH | B45: JULFIKAR Ali | C45: CDI | D45: 2017 | E45: 9HOTEL OPERA | F45: CLARIDGE | G45: LITTRE | J45: 1
A46: NETTOUCH | B46: POIANA Ramona | C46: CDI | D46: 2017 | E46: LITTRE | J46: 1
A47: NETTOUCH | B47: SARKER Tusha | C47: CDI | D47: 2017 | E47: LITTRE | F47: OCEANIC | J47: 1
A48: NETTOUCH | B48: SHEIKH Esrafil | C48: CDI | D48: 2017 | E48: LITTRE | F48: GARDETTE | G48: MADELEINE PLAZA | J48: 1
A49: NETTOUCH | B49: RATA Bianca | C49: CDI | D49: 2018 | E49: LITTRE | F49: VILLA DES ARTISTES | G49: ATLANTIC | J49: 1
A50: PARISINET | B50: GORBAN Catalina | C50: CDI | D50: 2017 | E50: SAINT MICHEL | H50: 9HOTEL OPERA | J50: 1
A51: PARISINET | B51: MERRIBI Aicha | C51: CDI | D51: 2014 | E51: 1er ETAGE MARAIS | J51: 1
A52: PARISINET | B52: ORZAC Anuta | C52: CDI | D52: 2016 | E52: BASTILLE DE LAUNAY | J52: 1
A53: PARISINET | B53: SARKAR Ali Azam | C53: CDI | D53: 2017 | E53: VILLA DES ARTISTES | F53: 9HOTEL MONTPARNASSE | G53: BASSANO | H53: CLASSIC | J53: 1
A54: PARISINET | B54: TOFAIL Mohammed | C54: CDI | D54: 2017 | E54: BIENVENUE | J54: 1
A55: PARISINET | B55: ROSU Lavinia Cristina | C55: CDI | D55: 2017 | E55: BASSANO | F55: 9HOTEL MONTPARNASSE | J55: 1
A56: ROOM57 | B56: CAZACU Svetlana | C56: CDI | D56: 2018 | E56: CLARIDGE | H56: ROCHESTER | I56: DRAWING | J56: 1
A57: ROOM58 | B57: CIUREA Daniela | C57: CDI | D57: 2017 | E57: 9HOTEL MONTPARNASSE | J57: 1
A58: ROOM60 | B58: DONEA Inga | C58: CDI | D58: 2017 | E58: DRAWING | I58: SAINT MICHEL | J58: 1
A59: ROOM61 | B59: KHAN Mizanur Rahman | C59: INTERIM | E59: LITTRE | J59: 1
A60: ROOM62 | B60: LUCA Angela | C60: CDI | D60: 2017 | E60: BASSANO | J60: 1
A61: ROOM63 | B61: MOLDOVAN Emilia | C61: CDI | D61: 2017 | E61: RICHEPANSE | J61: 1
A62: ROOM64 | B62: RAHMAN Bozlur | C62: CDI | D62: 2017 | E62: WESTSIDE | F62: ELYSEES BOETIE | G62: GARDETTE | J62: 1
A63: ROOM65 | B63: ROY Prabir | C63: CDI | D63: 2017 | E63: EXE PARIS CENTRE | F63: BEDFORD | G63: CLASSIC | H63: ROCHESTER | I63: QUALITY SUITE MAISON LAFFITTE | J63: 1
A64: PARISINET | B64: DIKAEVA Birlant | C64: CDD | D64: 43524 | E64: BEDFORD | H64: BASSANO | I64: LA LANTERNE | J64: 1
A65: PARISINET | B65: DRUCEANU Lilia | C65: CDD | D65: 43524 | E65: FLORIDE ETOILE | F65: BEDFORD | G65: ATLANTIC | H65: VILLA DES ARTISTES | I65: BASSANO | J65: 1
A66: PARISINET | B66: GHEORGHITA Lilia | C66: INTERIM | E66: BEDFORD | F66: WESTSIDE | G66: GREY | J66: 1
A67: PARISINET | B67: MOSTAFIZUR RAHMAN | C67: CDD | D67: 43524 | E67: 9HOTEL OPERA | J67: 1
A68: STARKO | B68: BOURHOUFALA Yasmina | C68: CDD | D68: 43555 | E68: EXE PARIS CENTRE | J68: 1
A69: FINICIEN | B69: MD SAIFUL Md | E69: GARDETTE | F69: MONSIEUR HELDER OPERA | J69: 1
A70: STAFOTEL | B70: HOSSAIN Mosharof | C70: CDD | E70: GREY | F70: MAXIM | G70: ELYSEES BOETIE | J70: 1
A71: STAFHOME | B71: TOMA Aleona | C71: CDI | D71: 2018 | E71: RICHEPANSE | F71: ATLANTIC | J71: 1
A72: STARKO | B72: AMOASEI Elena | C72: CDI | D72: 2018 | E72: LA LANTERNE | F72: 9HOTEL MONTPARNASSE | J72: 1 | R72: =SUM(A183:A251) -> 2484
A73: PARISINET | B73: BATISTA TELES DA SILVA Michele | C73: CDD | E73: ELYSEES BOETIE | F73: MYA ISAI LECOURBE | J73: 1
B75: SAHA Safayet | C75: CDI | E75: BASSANO | F75: CLARIDGE | G75: WESTSIDE | J75: 1
B76: PAL Mirela | C76: CDI | E76: VILLA DES ARTISTES | J76: 1
B77: LACATUS Claudia Cristina | C77: CDI | E77: LA LANTERNE | F77: BEDFORD | G77: OCEANIC | J77: 1
B78: MD Shamim | C78: CDI | E78: BASTILLE DE LAUNAY | F78: BIENVENUE | J78: 1
B79: BEPARI MD Samaollah | C79: CDI | E79: MADISON | F79: 9HOTEL OPERA | G79: THE PLAYCE (MONTMARTRE) | H79: MONSIEUR HELDER OPERA | J79: 1
B80: NAGY Anca | E80: LITTRE | F80: ATLANTIC | G80: DRAWING | H80: GREY | J80: 1
B81: MIHOUB Fatma Zohra | E81: 9HOTEL MONTPARNASSE | J81: 1
B82: IATCO Mariana | E82: RELAIS | F82: VIVALDI | G82: GREY | H82: DERBY EIFFEL | J82: 1
B83: BOJLUR Rahaman | E83: ELYSEES BOETIE | F83: 9HOTEL OPERA | G83: WESTSIDE | H83: 9HOTEL MONTPARNASSE | I83: GARDETTE | J83: 1
J84: 1
J85: 1
J86: 1
J87: 1
J88: 1
J89: 1
J90: 1
J91: 1
J92: 1
J93: 1
J94: 1
J95: =SUM(J2:J94) -> 92
A97: A RAJOUTER PROCHAINEMENT | B97: ARRET MALADIE
B98: NOURMAGOMADOVA ZAIRA AST | J98: 1
B99: POP ANUTA AST | J99: 1
B100: CHIHAI ALIONA FINICIEN | J100: 1
B101: GROMOVA CRISTINA FINICIEN | J101: 1
B102: ZUBCO MARCELA FINICIEN | J102: 1
...

Sheet SITES MATRICE
N2: PLANNING DES SITES OCTOBRE 2018
B4: SITES | C4: POSTE | D4: HORAIRES | E4: 1 | F4: 2 | G4: 3 | H4: 4 | I4: 5 | J4: 6 | K4: 7 | L4: 8 | M4: 9 | N4: 10 | O4: 11 | P4: 12 | Q4: 13 | R4: 14 | S4: 15 | T4: 16 | U4: 17 | V4: 18 | W4: 19 | X4: 20 | Y4: 21 | Z4: 22 | AA4: 23 | AB4: 24 | AC4: 25 | AD4: 26 | AE4: 27 | AF4: 28 | AG4: 29 | AH4: 30 | AI4: H/# | AJ4: TOTAL | AK4: COMMENTAIRES
E5: L | F5: M | G5: Me | H5: J | I5: V | J5: S | K5: D | L5: L | M5: M | N5: Me | O5: J | P5: V | Q5: S | R5: D | S5: L | T5: M | U5: Me | V5: J | W5: V | X5: S | Y5: D | Z5: L | AA5: M | AB5: Me | AC5: J | AD5: V | AE5: S | AF5: D | AG5: L | AH5: M
A6: 1 | B6: MADELEINE PLAZA | C6: FDCH | AI6: HEURE
C7: FDCH EXTRA | AI7: HEURE
A8: 7 | B8: BASSANO | C8: FDCH 1 | AI8: CHAMBRE
C9: FDCH 2 | AI9: CHAMBRE
C10: FDCH 3 | AI10: CHAMBRE
C11: FDCH 4 | AI11: CHAMBRE
C12: FDCH EXTRA | AI12: CHAMBRE
C13: CAF | AI13: HEURE
A14: 2 | B14: MADISSON | C14: FDCH | AI14: HEURE
A15: 3 | B15: MARAIS HOME | C15: FDCH | AI15: HEURE
C16: REC | AI16: HEURE
A17: 4 | B17: OCEANIC | C17: FDCH | AI17: HEURE
C18: FDCH EXTRA | AI18: HEURE
C19: CAF | AI19: HEURE
A20: 5 | B20: MAYFAIR | C20: FDCH | AI20: HEURE
C21: EQ | AI21: HEURE
A22: 6 | B22: MR CADET | C22: FDCH1 | AI22: CHAMBRE
C23: FDCH2 | AI23: CHAMBRE
C24: FDCH3 | AI24: CHAMBRE
A25: 8 | B25: CLARIDGE | C25: FDCH1 | AI25: HEURE
C26: FDCH | AI26: HEURE
C27: FDCH3 | AI27: HEURE
C28: FDCH EXTRA | AI28: HEURE
C29: EQ | AI29: HEURE
C30: BAG | AI30: HEURE
C31: GOUV | AI31: HEURE
A32: 9 | B32: PERSO (PLAZA ELYS) | C32: FDCH 1 | AI32: HEURE
C33: FDCH 2 | AI33: HEURE
C34: FDCH 3 | AI34: HEURE
C35: FDCH EXTRA | AI35: HEURE
C36: CAF | AI36: HEURE
A37: 10 | B37: LODGE | C37: FDCH 1 | AI37: HEURE
A38: 11 | B38: MR HELDER OPERA | C38: FDCH 1 | AI38: HEURE
C39: FDCH 2 | AI39: HEURE
C40: FDCH EXTRA | AI40: HEURE
C41: CAF | AI41: HEURE
A42: 12 | B42: MADELEINE HAUSSM | C42: FDCH 1 | AI42: HEURE
C43: FDCH 2 | AI43: HEURE
A44: 13 | B44: SUBLIM EIFFEL | C44: FDCH 1 | AI44: HEURE
C45: FDCH 2 | AI45: HEURE
C46: FDCH EXTRA | AI46: HEURE
C47: REC M/M1/M2 | AI47: HEURE
C48: REC S/S1/P | AI48: HEURE
C49: REC N/N1 | AI49: HEURE
A50: 14 | B50: TERMINUS MONTP | C50: FDCH 1 | AI50: HEURE
C51: FDCH 2 | AI51: HEURE
C52: FDCH 3 | AI52: HEURE
C53: FDCH EXTRA | AI53: HEURE
A54: 15 | B54: LONGCHAMP | C54: FDCH 1 | AI54: HEURE
A55: 16 | B55: SAINT PIERRE | C55: FDCH 1 | AI55: CHAMBRE
A56: 17 | B56: PULITA VENDOM (COL) | C56: FDCH 1 | AI56: CHAMBRE
C57: FDCH 2 | AI57: CHAMBRE
C58: FDCH EXTRA | AI58: CHAMBRE
C59: GOUV | AI59: HEURE
A60: 18 | B60: 1 ETAGE MARAIS | C60: FDCH 1 | AI60: HEURE
C61: FDCH 2 | AI61: HEURE
A62: 19 | B62: 1 ETAGE OPERA | C62: FDCH 1 | AI62: HEURE
C63: FDCH 2 | AI63: HEURE
C64: FDCH EXTRA | AI64: HEURE
A65: 20 | B65: 1 ETAGE PIGALLE | C65: FDCH 1 | AI65: HEURE
C66: FDCH 2 | AI66: HEURE
C67: FDCH EXTRA | AI67: HEURE
A68: 21 | B68: 9 MONTPARNASSE | C68: FDCH 1 | AI68: CHAMBRE
C69: FDCH 2 | AI69: CHAMBRE
C70: FDCH 3 | AI70: CHAMBRE
C71: FDCH EXTRA | AI71: CHAMBRE
C72: NIGHT | AI72: HEURE
C73: CAF | AI73: HEURE
A74: 22 | B74: 9 OPERA | C74: FDCH 1 | AI74: CHAMBRE
C75: FDCH 2 | AI75: CHAMBRE
C76: FDCH 3 | AI76: CHAMBRE
C77: FDCH 4 | AI77: HEURE
C78: FDCH EXTRA | AI78: HEURE
A79: 23 | B79: 9 REPUBLIQUE | C79: FDCH 1 | AI79: HEURE
C80: FDCH 2 | AI80: HEURE
C81: FDCH 3 | AI81: HEURE
C82: FDCH EXTRA | AI82: HEURE
C83: REC N | AI83: HEURE
C84: REC 1 / 2 | AI84: HEURE
A85: 24 | B85: VILLA ARTISTES | C85: FDCH 1 | AI85: HEURE
C86: FDCH 2 | AI86: HEURE
C87: FDCH 3 | AI87: HEURE
C88: FDCH 4 | AI88: HEURE
C89: FDCH EXTRA | AI89: HEURE
C90: EQ | AI90: HEURE
A91: 25 | B91: EXE | C91: FDCH 1 | AI91: CHAMBRE
C92: FDCH 2 | AI92: CHAMBRE
C93: FDCH 3 | AI93: CHAMBRE
C94: FDCH EXTRA | AI94: CHAMBRE
C95: REC N | AI95: HEURE
C96: CAF | AI96: HEURE
A97: 26 | B97: LITTRE | C97: FDCH 1 | AI97: HEURE
C98: FDCH 2 | AI98: HEURE
C99: FDCH 3 | AI99: HEURE
C100: FDCH EXTRA | AI100: HEURE
A101: 27 | B101: OPERA RICHEPANSE | C101: FDCH 1 | AI101: CHAMBRE
C102: FDCH 2 | AI102: CHAMBRE
...
