Workbook

Sheet PLANNING SALARIES
N1: PLANNING DES SALARIES OCTOBRE 2018
B3: NOM PRENOM /POSTE | C3: REPOS | D3: CONTRAT | E3: 1 | F3: 2 | G3: 3 | H3: 4 | I3: 5 | J3: 6 | K3: 7 | L3: 8 | M3: 9 | N3: 10 | O3: 11 | P3: 12 | Q3: 13 | R3: 14 | S3: 15 | T3: 16 | U3: 17 | V3: 18 | W3: 19 | X3: 20 | Y3: 21 | Z3: 22 | AA3: 23 | AB3: 24 | AC3: 25 | AD3: 26 | AE3: 27 | AF3: 28 | AG3: 29 | AH3: 30 | AI3: 31 | AJ3: VACATIONS
E4: L | F4: M | G4: Me | H4: J | I4: V | J4: S | K4: D | L4: L | M4: M | N4: Me | O4: J | P4: V | Q4: S | R4: D | S4: L | T4: M | U4: Me | V4: J | W4: V | X4: S | Y4: D | Z4: L | AA4: M | AB4: Me | AC4: J | AD4: V | AE4: S | AF4: D | AG4: L | AH4: M | AI4: Me
A5: 1 | B5: ABREU JARDIM Magda | E5: =IFERROR(INDEX('PLANNING DES SITES'!$A:$A,MATCH($B5,'PLANNING DES SITES'!E:E,0)),"") | F5: =IFERROR(INDEX('PLANNING DES SITES'!$A:$A,MATCH($B5,'PLANNING DES SITES'!F:F,0)),"") | G5: =IFERROR(INDEX('PLANNING DES SITES'!$A:$A,MATCH($B5,'PLANNING DES SITES'!G:G,0)),"") | H5: =IFERROR(INDEX('PLANNING DES SITES'!$A:$A,MATCH($B5,'PLANNING DES SITES'!H:H,0)),"") | I5: =IFERROR(INDEX('PLANNING DES SITES'!$A:$A,MATCH($B5,'PLANNING DES SITES'!I:I,0)),"") | J5: =IFERROR(INDEX('PLANNING DES SITES'!$A:$A,MATCH($B5,'PLANNING DES SITES'!J:J,0)),"") | K5: =IFERROR(INDEX('PLANNING DES SITES'!$A:$A,MATCH($B5,'PLANNING DES SITES'!K:K,0)),"") | L5: =IFERROR(INDEX('PLANNING DES SITES'!$A:$A,MATCH($B5,'PLANNING DES SITES'!L:L,0)),"") | M5: =IFERROR(INDEX('PLANNING DES SITES'!$A:$A,MATCH($B5,'PLANNING DES SITES'!M:M,0)),"") | N5: =IFERROR(INDEX('PLANNING DES SITES'!$A:$A,MATCH($B5,'PLANNING DES SITES'!N:N,0)),"") | O5: =IFERROR(INDEX('PLANNING DES SITES'!$A:$A,MATCH($B5,'PLANNING DES SITES'!O:O,0)),"") | P5: =IFERROR(INDEX('PLANNING DES SITES'!$A:$A,MATCH($B5,'PLANNING DES SITES'!P:P,0)),"") | Q5: =IFERROR(INDEX('PLANNING DES SITES'!$A:$A,MATCH($B5,'PLANNING DES SITES'!Q:Q,0)),"") | R5: =IFERROR(INDEX('PLANNING DES SITES'!$A:$A,MATCH($B5,'PLANNING DES SITES'!R:R,0)),"") | S5: =IFERROR(INDEX('PLANNING DES SITES'!$A:$A,MATCH($B5,'PLANNING DES SITES'!S:S,0)),"") | T5: =IFERROR(INDEX('PLANNING DES SITES'!$A:$A,MATCH($B5,'PLANNING DES SITES'!T:T,0)),"") | U5: =IFERROR(INDEX('PLANNING DES SITES'!$A:$A,MATCH($B5,'PLANNING DES SITES'!U:U,0)),"") | V5: =IFERROR(INDEX('PLANNING DES SITES'!$A:$A,MATCH($B5,'PLANNING DES SITES'!V:V,0)),"") | W5: =IFERROR(INDEX('PLANNING DES SITES'!$A:$A,MATCH($B5,'PLANNING DES SITES'!W:W,0)),"") | X5: =IFERROR(INDEX('PLANNING DES SITES'!$A:$A,MATCH($B5,'PLANNING DES SITES'!X:X,0)),"") | Y5: =IFERROR(INDEX('PLANNING DES SITES'!$A:$A,MATCH($B5,'PLANNING DES SITES'!Y:Y,0)),"") | Z5: =IFERROR(INDEX('PLANNING DES SITES'!$A:$A,MATCH($B5,'PLANNING DES SITES'!Z:Z,0)),"") | AA5: =IFERROR(INDEX('PLANNING DES SITES'!$A:$A,MATCH($B5,'PLANNING DES SITES'!AA:AA,0)),"") | AB5: =IFERROR(INDEX('PLANNING DES SITES'!$A:$A,MATCH($B5,'PLANNING DES SITES'!AB:AB,0)),"") | AC5: =IFERROR(INDEX('PLANNING DES SITES'!$A:$A,MATCH($B5,'PLANNING DES SITES'!AC:AC,0)),"") | AD5: =IFERROR(INDEX('PLANNING DES SITES'!$A:$A,MATCH($B5,'PLANNING DES SITES'!AD:AD,0)),"") | AE5: =IFERROR(INDEX('PLANNING DES SITES'!$A:$A,MATCH($B5,'PLANNING DES SITES'!AE:AE,0)),"") | AF5: =IFERROR(INDEX('PLANNING DES SITES'!$A:$A,MATCH($B5,'PLANNING DES SITES'!AF:AF,0)),"") | AG5: =IFERROR(INDEX('PLANNING DES SITES'!$A:$A,MATCH($B5,'PLANNING DES SITES'!AG:AG,0)),"") | AH5: =IFERROR(INDEX('PLANNING DES SITES'!$A:$A,MATCH($B5,'PLANNING DES SITES'!AH:AH,0)),"") | AI5: =IFERROR(INDEX('PLANNING DES SITES'!$A:$A,MATCH($B5,'PLANNING DES SITES'!AI:AI,0)),"") | AJ5: =COUNTA(E5:AI5) -> 31
A6: 2 | B6: ACRIS Eugenia | E6: =IFERROR(INDEX('PLANNING DES SITES'!$A:$A,MATCH($B6,'PLANNING DES SITES'!E:E,0)),"") | F6: =IFERROR(INDEX('PLANNING DES SITES'!$A:$A,MATCH($B6,'PLANNING DES SITES'!F:F,0)),"") | G6: =IFERROR(INDEX('PLANNING DES SITES'!$A:$A,MATCH($B6,'PLANNING DES SITES'!G:G,0)),"") | H6: =IFERROR(INDEX('PLANNING DES SITES'!$A:$A,MATCH($B6,'PLANNING DES SITES'!H:H,0)),"") | I6: =IFERROR(INDEX('PLANNING DES SITES'!$A:$A,MATCH($B6,'PLANNING DES SITES'!I:I,0)),"") | J6: =IFERROR(INDEX('PLANNING DES SITES'!$A:$A,MATCH($B6,'PLANNING DES SITES'!J:J,0)),"") | K6: =IFERROR(INDEX('PLANNING DES SITES'!$A:$A,MATCH($B6,'PLANNING DES SITES'!K:K,0)),"") | L6: =IFERROR(INDEX('PLANNING DES SITES'!$A:$A,MATCH($B6,'PLANNING DES SITES'!L:L,0)),"") | M6: =IFERROR(INDEX('PLANNING DES SITES'!$A:$A,MATCH($B6,'PLANNING DES SITES'!M:M,0)),"") | N6: =IFERROR(INDEX('PLANNING DES SITES'!$A:$A,MATCH($B6,'PLANNING DES SITES'!N:N,0)),"") | O6: =IFERROR(INDEX('PLANNING DES SITES'!$A:$A,MATCH($B6,'PLANNING DES SITES'!O:O,0)),"") | P6: =IFERROR(INDEX('PLANNING DES SITES'!$A:$A,MATCH($B6,'PLANNING DES SITES'!P:P,0)),"") | Q6: =IFERROR(INDEX('PLANNING DES SITES'!$A:$A,MATCH($B6,'PLANNING DES SITES'!Q:Q,0)),"") | R6: =IFERROR(INDEX('PLANNING DES SITES'!$A:$A,MATCH($B6,'PLANNING DES SITES'!R:R,0)),"") | S6: =IFERROR(INDEX('PLANNING DES SITES'!$A:$A,MATCH($B6,'PLANNING DES SITES'!S:S,0)),"") | T6: =IFERROR(INDEX('PLANNING DES SITES'!$A:$A,MATCH($B6,'PLANNING DES SITES'!T:T,0)),"") | U6: =IFERROR(INDEX('PLANNING DES SITES'!$A:$A,MATCH($B6,'PLANNING DES SITES'!U:U,0)),"") | V6: =IFERROR(INDEX('PLANNING DES SITES'!$A:$A,MATCH($B6,'PLANNING DES SITES'!V:V,0)),"") | W6: =IFERROR(INDEX('PLANNING DES SITES'!$A:$A,MATCH($B6,'PLANNING DES SITES'!W:W,0)),"") | X6: =IFERROR(INDEX('PLANNING DES SITES'!$A:$A,MATCH($B6,'PLANNING DES SITES'!X:X,0)),"") | Y6: =IFERROR(INDEX('PLANNING DES SITES'!$A:$A,MATCH($B6,'PLANNING DES SITES'!Y:Y,0)),"") | Z6: =IFERROR(INDEX('PLANNING DES SITES'!$A:$A,MATCH($B6,'PLANNING DES SITES'!Z:Z,0)),"") | AA6: =IFERROR(INDEX('PLANNING DES SITES'!$A:$A,MATCH($B6,'PLANNING DES SITES'!AA:AA,0)),"") | AB6: =IFERROR(INDEX('PLANNING DES SITES'!$A:$A,MATCH($B6,'PLANNING DES SITES'!AB:AB,0)),"") | AC6: =IFERROR(INDEX('PLANNING DES SITES'!$A:$A,MATCH($B6,'PLANNING DES SITES'!AC:AC,0)),"") | AD6: =IFERROR(INDEX('PLANNING DES SITES'!$A:$A,MATCH($B6,'PLANNING DES SITES'!AD:AD,0)),"") | AE6: =IFERROR(INDEX('PLANNING DES SITES'!$A:$A,MATCH($B6,'PLANNING DES SITES'!AE:AE,0)),"") | AF6: =IFERROR(INDEX('PLANNING DES SITES'!$A:$A,MATCH($B6,'PLANNING DES SITES'!AF:AF,0)),"") | AG6: =IFERROR(INDEX('PLANNING DES SITES'!$A:$A,MATCH($B6,'PLANNING DES SITES'!AG:AG,0)),"") | AH6: =IFERROR(INDEX('PLANNING DES SITES'!$A:$A,MATCH($B6,'PLANNING DES SITES'!AH:AH,0)),"") | AI6: =IFERROR(INDEX('PLANNING DES SITES'!$A:$A,MATCH($B6,'PLANNING DES SITES'!AI:AI,0)),"") | AJ6: =COUNTA(E6:AI6) -> 31
A7: 3 | B7: AMIEL Najia | E7: =IFERROR(INDEX('PLANNING DES SITES'!$A:$A,MATCH($B7,'PLANNING DES SITES'!E:E,0)),"") | F7: =IFERROR(INDEX('PLANNING DES SITES'!$A:$A,MATCH($B7,'PLANNING DES SITES'!F:F,0)),"") | G7: =IFERROR(INDEX('PLANNING DES SITES'!$A:$A,MATCH($B7,'PLANNING DES SITES'!G:G,0)),"") | H7: =IFERROR(INDEX('PLANNING DES SITES'!$A:$A,MATCH($B7,'PLANNING DES SITES'!H:H,0)),"") | I7: =IFERROR(INDEX('PLANNING DES SITES'!$A:$A,MATCH($B7,'PLANNING DES SITES'!I:I,0)),"") | J7: =IFERROR(INDEX('PLANNING DES SITES'!$A:$A,MATCH($B7,'PLANNING DES SITES'!J:J,0)),"") | K7: =IFERROR(INDEX('PLANNING DES SITES'!$A:$A,MATCH($B7,'PLANNING DES SITES'!K:K,0)),"") | L7: =IFERROR(INDEX('PLANNING DES SITES'!$A:$A,MATCH($B7,'PLANNING DES SITES'!L:L,0)),"") | M7: =IFERROR(INDEX('PLANNING DES SITES'!$A:$A,MATCH($B7,'PLANNING DES SITES'!M:M,0)),"") | N7: =IFERROR(INDEX('PLANNING DES SITES'!$A:$A,MATCH($B7,'PLANNING DES SITES'!N:N,0)),"") | O7: =IFERROR(INDEX('PLANNING DES SITES'!$A:$A,MATCH($B7,'PLANNING DES SITES'!O:O,0)),"") | P7: =IFERROR(INDEX('PLANNING DES SITES'!$A:$A,MATCH($B7,'PLANNING DES SITES'!P:P,0)),"") | Q7: =IFERROR(INDEX('PLANNING DES SITES'!$A:$A,MATCH($B7,'PLANNING DES SITES'!Q:Q,0)),"") | R7: =IFERROR(INDEX('PLANNING DES SITES'!$A:$A,MATCH($B7,'PLANNING DES SITES'!R:R,0)),"") | S7: =IFERROR(INDEX('PLANNING DES SITES'!$A:$A,MATCH($B7,'PLANNING DES SITES'!S:S,0)),"") | T7: =IFERROR(INDEX('PLANNING DES SITES'!$A:$A,MATCH($B7,'PLANNING DES SITES'!T:T,0)),"") | U7: =IFERROR(INDEX('PLANNING DES SITES'!$A:$A,MATCH($B7,'PLANNING DES SITES'!U:U,0)),"") | V7: =IFERROR(INDEX('PLANNING DES SITES'!$A:$A,MATCH($B7,'PLANNING DES SITES'!V:V,0)),"") | W7: =IFERROR(INDEX('PLANNING DES SITES'!$A:$A,MATCH($B7,'PLANNING DES SITES'!W:W,0)),"") | X7: =IFERROR(INDEX('PLANNING DES SITES'!$A:$A,MATCH($B7,'PLANNING DES SITES'!X:X,0)),"") | Y7: =IFERROR(INDEX('PLANNING DES SITES'!$A:$A,MATCH($B7,'PLANNING DES SITES'!Y:Y,0)),"") | Z7: =IFERROR(INDEX('PLANNING DES SITES'!$A:$A,MATCH($B7,'PLANNING DES SITES'!Z:Z,0)),"") | AA7: =IFERROR(INDEX('PLANNING DES SITES'!$A:$A,MATCH($B7,'PLANNING DES SITES'!AA:AA,0)),"") | AB7: =IFERROR(INDEX('PLANNING DES SITES'!$A:$A,MATCH($B7,'PLANNING DES SITES'!AB:AB,0)),"") | AC7: =IFERROR(INDEX('PLANNING DES SITES'!$A:$A,MATCH($B7,'PLANNING DES SITES'!AC:AC,0)),"") | AD7: =IFERROR(INDEX('PLANNING DES SITES'!$A:$A,MATCH($B7,'PLANNING DES SITES'!AD:AD,0)),"") | AE7: =IFERROR(INDEX('PLANNING DES SITES'!$A:$A,MATCH($B7,'PLANNING DES SITES'!AE:AE,0)),"") | AF7: =IFERROR(INDEX('PLANNING DES SITES'!$A:$A,MATCH($B7,'PLANNING DES SITES'!AF:AF,0)),"") | AG7: =IFERROR(INDEX('PLANNING DES SITES'!$A:$A,MATCH($B7,'PLANNING DES SITES'!AG:AG,0)),"") | AH7: =IFERROR(INDEX('PLANNING DES SITES'!$A:$A,MATCH($B7,'PLANNING DES SITES'!AH:AH,0)),"") | AI7: =IFERROR(INDEX('PLANNING DES SITES'!$A:$A,MATCH($B7,'PLANNING DES SITES'!AI:AI,0)),"") | AJ7: =COUNTA(E7:AI7) -> 31
A8: 4 | B8: AMOASEI Elena | E8: =IFERROR(INDEX('PLANNING DES SITES'!$A:$A,MATCH($B8,'PLANNING DES SITES'!E:E,0)),"") | F8: =IFERROR(INDEX('PLANNING DES SITES'!$A:$A,MATCH($B8,'PLANNING DES SITES'!F:F,0)),"") | G8: =IFERROR(INDEX('PLANNING DES SITES'!$A:$A,MATCH($B8,'PLANNING DES SITES'!G:G,0)),"") | H8: =IFERROR(INDEX('PLANNING DES SITES'!$A:$A,MATCH($B8,'PLANNING DES SITES'!H:H,0)),"") | I8: =IFERROR(INDEX('PLANNING DES SITES'!$A:$A,MATCH($B8,'PLANNING DES SITES'!I:I,0)),"") | J8: =IFERROR(INDEX('PLANNING DES SITES'!$A:$A,MATCH($B8,'PLANNING DES SITES'!J:J,0)),"") | K8: =IFERROR(INDEX('PLANNING DES SITES'!$A:$A,MATCH($B8,'PLANNING DES SITES'!K:K,0)),"") | L8: =IFERROR(INDEX('PLANNING DES SITES'!$A:$A,MATCH($B8,'PLANNING DES SITES'!L:L,0)),"") | M8: =IFERROR(INDEX('PLANNING DES SITES'!$A:$A,MATCH($B8,'PLANNING DES SITES'!M:M,0)),"") | N8: =IFERROR(INDEX('PLANNING DES SITES'!$A:$A,MATCH($B8,'PLANNING DES SITES'!N:N,0)),"") | O8: =IFERROR(INDEX('PLANNING DES SITES'!$A:$A,MATCH($B8,'PLANNING DES SITES'!O:O,0)),"") | P8: =IFERROR(INDEX('PLANNING DES SITES'!$A:$A,MATCH($B8,'PLANNING DES SITES'!P:P,0)),"") | Q8: =IFERROR(INDEX('PLANNING DES SITES'!$A:$A,MATCH($B8,'PLANNING DES SITES'!Q:Q,0)),"") | R8: =IFERROR(INDEX('PLANNING DES SITES'!$A:$A,MATCH($B8,'PLANNING DES SITES'!R:R,0)),"") | S8: =IFERROR(INDEX('PLANNING DES SITES'!$A:$A,MATCH($B8,'PLANNING DES SITES'!S:S,0)),"") | T8: =IFERROR(INDEX('PLANNING DES SITES'!$A:$A,MATCH($B8,'PLANNING DES SITES'!T:T,0)),"") | U8: =IFERROR(INDEX('PLANNING DES SITES'!$A:$A,MATCH($B8,'PLANNING DES SITES'!U:U,0)),"") | V8: =IFERROR(INDEX('PLANNING DES SITES'!$A:$A,MATCH($B8,'PLANNING DES SITES'!V:V,0)),"") | W8: =IFERROR(INDEX('PLANNING DES SITES'!$A:$A,MATCH($B8,'PLANNING DES SITES'!W:W,0)),"") | X8: =IFERROR(INDEX('PLANNING DES SITES'!$A:$A,MATCH($B8,'PLANNING DES SITES'!X:X,0)),"") | Y8: =IFERROR(INDEX('PLANNING DES SITES'!$A:$A,MATCH($B8,'PLANNING DES SITES'!Y:Y,0)),"") | Z8: =IFERROR(INDEX('PLANNING DES SITES'!$A:$A,MATCH($B8,'PLANNING DES SITES'!Z:Z,0)),"") | AA8: =IFERROR(INDEX('PLANNING DES SITES'!$A:$A,MATCH($B8,'PLANNING DES SITES'!AA:AA,0)),"") | AB8: =IFERROR(INDEX('PLANNING DES SITES'!$A:$A,MATCH($B8,'PLANNING DES SITES'!AB:AB,0)),"") | AC8: =IFERROR(INDEX('PLANNING DES SITES'!$A:$A,MATCH($B8,'PLANNING DES SITES'!AC:AC,0)),"") | AD8: =IFERROR(INDEX('PLANNING DES SITES'!$A:$A,MATCH($B8,'PLANNING DES SITES'!AD:AD,0)),"") | AE8: =IFERROR(INDEX('PLANNING DES SITES'!$A:$A,MATCH($B8,'PLANNING DES SITES'!AE:AE,0)),"") | AF8: =IFERROR(INDEX('PLANNING DES SITES'!$A:$A,MATCH($B8,'PLANNING DES SITES'!AF:AF,0)),"") | AG8: =IFERROR(INDEX('PLANNING DES SITES'!$A:$A,MATCH($B8,'PLANNING DES SITES'!AG:AG,0)),"") | AH8: =IFERROR(INDEX('PLANNING DES SITES'!$A:$A,MATCH($B8,'PLANNING DES SITES'!AH:AH,0)),"") | AI8: =IFERROR(INDEX('PLANNING DES SITES'!$A:$A,MATCH($B8,'PLANNING DES SITES'!AI:AI,0)),"") | AJ8: =COUNTA(E8:AI8) -> 31
A9: 5 | B9: BAPARI Sharif | E9: =IFERROR(INDEX('PLANNING DES SITES'!$A:$A,MATCH($B9,'PLANNING DES SITES'!E:E,0)),"") | F9: =IFERROR(INDEX('PLANNING DES SITES'!$A:$A,MATCH($B9,'PLANNING DES SITES'!F:F,0)),"") | G9: =IFERROR(INDEX('PLANNING DES SITES'!$A:$A,MATCH($B9,'PLANNING DES SITES'!G:G,0)),"") | H9: =IFERROR(INDEX('PLANNING DES SITES'!$A:$A,MATCH($B9,'PLANNING DES SITES'!H:H,0)),"") | I9: =IFERROR(INDEX('PLANNING DES SITES'!$A:$A,MATCH($B9,'PLANNING DES SITES'!I:I,0)),"") | J9: =IFERROR(INDEX('PLANNING DES SITES'!$A:$A,MATCH($B9,'PLANNING DES SITES'!J:J,0)),"") | K9: =IFERROR(INDEX('PLANNING DES SITES'!$A:$A,MATCH($B9,'PLANNING DES SITES'!K:K,0)),"") | L9: =IFERROR(INDEX('PLANNING DES SITES'!$A:$A,MATCH($B9,'PLANNING DES SITES'!L:L,0)),"") | M9: =IFERROR(INDEX('PLANNING DES SITES'!$A:$A,MATCH($B9,'PLANNING DES SITES'!M:M,0)),"") | N9: =IFERROR(INDEX('PLANNING DES SITES'!$A:$A,MATCH($B9,'PLANNING DES SITES'!N:N,0)),"") | O9: =IFERROR(INDEX('PLANNING DES SITES'!$A:$A,MATCH($B9,'PLANNING DES SITES'!O:O,0)),"") | P9: =IFERROR(INDEX('PLANNING DES SITES'!$A:$A,MATCH($B9,'PLANNING DES SITES'!P:P,0)),"") | Q9: =IFERROR(INDEX('PLANNING DES SITES'!$A:$A,MATCH($B9,'PLANNING DES SITES'!Q:Q,0)),"") | R9: =IFERROR(INDEX('PLANNING DES SITES'!$A:$A,MATCH($B9,'PLANNING DES SITES'!R:R,0)),"") | S9: =IFERROR(INDEX('PLANNING DES SITES'!$A:$A,MATCH($B9,'PLANNING DES SITES'!S:S,0)),"") | T9: =IFERROR(INDEX('PLANNING DES SITES'!$A:$A,MATCH($B9,'PLANNING DES SITES'!T:T,0)),"") | U9: =IFERROR(INDEX('PLANNING DES SITES'!$A:$A,MATCH($B9,'PLANNING DES SITES'!U:U,0)),"") | V9: =IFERROR(INDEX('PLANNING DES SITES'!$A:$A,MATCH($B9,'PLANNING DES SITES'!V:V,0)),"") | W9: =IFERROR(INDEX('PLANNING DES SITES'!$A:$A,MATCH($B9,'PLANNING DES SITES'!W:W,0)),"") | X9: =IFERROR(INDEX('PLANNING DES SITES'!$A:$A,MATCH($B9,'PLANNING DES SITES'!X:X,0)),"") | Y9: =IFERROR(INDEX('PLANNING DES SITES'!$A:$A,MATCH($B9,'PLANNING DES SITES'!Y:Y,0)),"") | Z9: =IFERROR(INDEX('PLANNING DES SITES'!$A:$A,MATCH($B9,'PLANNING DES SITES'!Z:Z,0)),"") | AA9: =IFERROR(INDEX('PLANNING DES SITES'!$A:$A,MATCH($B9,'PLANNING DES SITES'!AA:AA,0)),"") | AB9: =IFERROR(INDEX('PLANNING DES SITES'!$A:$A,MATCH($B9,'PLANNING DES SITES'!AB:AB,0)),"") | AC9: =IFERROR(INDEX('PLANNING DES SITES'!$A:$A,MATCH($B9,'PLANNING DES SITES'!AC:AC,0)),"") | AD9: =IFERROR(INDEX('PLANNING DES SITES'!$A:$A,MATCH($B9,'PLANNING DES SITES'!AD:AD,0)),"") | AE9: =IFERROR(INDEX('PLANNING DES SITES'!$A:$A,MATCH($B9,'PLANNING DES SITES'!AE:AE,0)),"") | AF9: =IFERROR(INDEX('PLANNING DES SITES'!$A:$A,MATCH($B9,'PLANNING DES SITES'!AF:AF,0)),"") | AG9: =IFERROR(INDEX('PLANNING DES SITES'!$A:$A,MATCH($B9,'PLANNING DES SITES'!AG:AG,0)),"") | AH9: =IFERROR(INDEX('PLANNING DES SITES'!$A:$A,MATCH($B9,'PLANNING DES SITES'!AH:AH,0)),"") | AI9: =IFERROR(INDEX('PLANNING DES SITES'!$A:$A,MATCH($B9,'PLANNING DES SITES'!AI:AI,0)),"") | AJ9: =COUNTA(E9:AI9) -> 31
A10: 6 | B10: BATISTA TELES DA SILVA Michele | E10: =IFERROR(INDEX('PLANNING DES SITES'!$A:$A,MATCH($B10,'PLANNING DES SITES'!E:E,0)),"") | F10: =IFERROR(INDEX('PLANNING DES SITES'!$A:$A,MATCH($B10,'PLANNING DES SITES'!F:F,0)),"") | G10: =IFERROR(INDEX('PLANNING DES SITES'!$A:$A,MATCH($B10,'PLANNING DES SITES'!G:G,0)),"") | H10: =IFERROR(INDEX('PLANNING DES SITES'!$A:$A,MATCH($B10,'PLANNING DES SITES'!H:H,0)),"") | I10: =IFERROR(INDEX('PLANNING DES SITES'!$A:$A,MATCH($B10,'PLANNING DES SITES'!I:I,0)),"") | J10: =IFERROR(INDEX('PLANNING DES SITES'!$A:$A,MATCH($B10,'PLANNING DES SITES'!J:J,0)),"") | K10: =IFERROR(INDEX('PLANNING DES SITES'!$A:$A,MATCH($B10,'PLANNING DES SITES'!K:K,0)),"") | L10: =IFERROR(INDEX('PLANNING DES SITES'!$A:$A,MATCH($B10,'PLANNING DES SITES'!L:L,0)),"") | M10: =IFERROR(INDEX('PLANNING DES SITES'!$A:$A,MATCH($B10,'PLANNING DES SITES'!M:M,0)),"") | N10: =IFERROR(INDEX('PLANNING DES SITES'!$A:$A,MATCH($B10,'PLANNING DES SITES'!N:N,0)),"") | O10: =IFERROR(INDEX('PLANNING DES SITES'!$A:$A,MATCH($B10,'PLANNING DES SITES'!O:O,0)),"") | P10: =IFERROR(INDEX('PLANNING DES SITES'!$A:$A,MATCH($B10,'PLANNING DES SITES'!P:P,0)),"") | Q10: =IFERROR(INDEX('PLANNING DES SITES'!$A:$A,MATCH($B10,'PLANNING DES SITES'!Q:Q,0)),"") | R10: =IFERROR(INDEX('PLANNING DES SITES'!$A:$A,MATCH($B10,'PLANNING DES SITES'!R:R,0)),"") | S10: =IFERROR(INDEX('PLANNING DES SITES'!$A:$A,MATCH($B10,'PLANNING DES SITES'!S:S,0)),"") | T10: =IFERROR(INDEX('PLANNING DES SITES'!$A:$A,MATCH($B10,'PLANNING DES SITES'!T:T,0)),"") | U10: =IFERROR(INDEX('PLANNING DES SITES'!$A:$A,MATCH($B10,'PLANNING DES SITES'!U:U,0)),"") | V10: =IFERROR(INDEX('PLANNING DES SITES'!$A:$A,MATCH($B10,'PLANNING DES SITES'!V:V,0)),"") | W10: =IFERROR(INDEX('PLANNING DES SITES'!$A:$A,MATCH($B10,'PLANNING DES SITES'!W:W,0)),"") | X10: =IFERROR(INDEX('PLANNING DES SITES'!$A:$A,MATCH($B10,'PLANNING DES SITES'!X:X,0)),"") | Y10: =IFERROR(INDEX('PLANNING DES SITES'!$A:$A,MATCH($B10,'PLANNING DES SITES'!Y:Y,0)),"") | Z10: =IFERROR(INDEX('PLANNING DES SITES'!$A:$A,MATCH($B10,'PLANNING DES SITES'!Z:Z,0)),"") | AA10: =IFERROR(INDEX('PLANNING DES SITES'!$A:$A,MATCH($B10,'PLANNING DES SITES'!AA:AA,0)),"") | AB10: =IFERROR(INDEX('PLANNING DES SITES'!$A:$A,MATCH($B10,'PLANNING DES SITES'!AB:AB,0)),"") | AC10: =IFERROR(INDEX('PLANNING DES SITES'!$A:$A,MATCH($B10,'PLANNING DES SITES'!AC:AC,0)),"") | AD10: =IFERROR(INDEX('PLANNING DES SITES'!$A:$A,MATCH($B10,'PLANNING DES SITES'!AD:AD,0)),"") | AE10: =IFERROR(INDEX('PLANNING DES SITES'!$A:$A,MATCH($B10,'PLANNING DES SITES'!AE:AE,0)),"") | AF10: =IFERROR(INDEX('PLANNING DES SITES'!$A:$A,MATCH($B10,'PLANNING DES SITES'!AF:AF,0)),"") | AG10: =IFERROR(INDEX('PLANNING DES SITES'!$A:$A,MATCH($B10,'PLANNING DES SITES'!AG:AG,0)),"") | AH10: =IFERROR(INDEX('PLANNING DES SITES'!$A:$A,MATCH($B10,'PLANNING DES SITES'!AH:AH,0)),"") | AI10: =IFERROR(INDEX('PLANNING DES SITES'!$A:$A,MATCH($B10,'PLANNING DES SITES'!AI:AI,0)),"") | AJ10: =COUNTA(E10:AI10) -> 31
A11: 7 | B11: BEPARI MD Samaollah | E11: =IFERROR(INDEX('PLANNING DES SITES'!$A:$A,MATCH($B11,'PLANNING DES SITES'!E:E,0)),"") | F11: =IFERROR(INDEX('PLANNING DES SITES'!$A:$A,MATCH($B11,'PLANNING DES SITES'!F:F,0)),"") | G11: =IFERROR(INDEX('PLANNING DES SITES'!$A:$A,MATCH($B11,'PLANNING DES SITES'!G:G,0)),"") | H11: =IFERROR(INDEX('PLANNING DES SITES'!$A:$A,MATCH($B11,'PLANNING DES SITES'!H:H,0)),"") | I11: =IFERROR(INDEX('PLANNING DES SITES'!$A:$A,MATCH($B11,'PLANNING DES SITES'!I:I,0)),"") | J11: =IFERROR(INDEX('PLANNING DES SITES'!$A:$A,MATCH($B11,'PLANNING DES SITES'!J:J,0)),"") | K11: =IFERROR(INDEX('PLANNING DES SITES'!$A:$A,MATCH($B11,'PLANNING DES SITES'!K:K,0)),"") | L11: =IFERROR(INDEX('PLANNING DES SITES'!$A:$A,MATCH($B11,'PLANNING DES SITES'!L:L,0)),"") | M11: =IFERROR(INDEX('PLANNING DES SITES'!$A:$A,MATCH($B11,'PLANNING DES SITES'!M:M,0)),"") | N11: =IFERROR(INDEX('PLANNING DES SITES'!$A:$A,MATCH($B11,'PLANNING DES SITES'!N:N,0)),"") | O11: =IFERROR(INDEX('PLANNING DES SITES'!$A:$A,MATCH($B11,'PLANNING DES SITES'!O:O,0)),"") | P11: =IFERROR(INDEX('PLANNING DES SITES'!$A:$A,MATCH($B11,'PLANNING DES SITES'!P:P,0)),"") | Q11: =IFERROR(INDEX('PLANNING DES SITES'!$A:$A,MATCH($B11,'PLANNING DES SITES'!Q:Q,0)),"") | R11: =IFERROR(INDEX('PLANNING DES SITES'!$A:$A,MATCH($B11,'PLANNING DES SITES'!R:R,0)),"") | S11: =IFERROR(INDEX('PLANNING DES SITES'!$A:$A,MATCH($B11,'PLANNING DES SITES'!S:S,0)),"") | T11: =IFERROR(INDEX('PLANNING DES SITES'!$A:$A,MATCH($B11,'PLANNING DES SITES'!T:T,0)),"") | U11: =IFERROR(INDEX('PLANNING DES SITES'!$A:$A,MATCH($B11,'PLANNING DES SITES'!U:U,0)),"") | V11: =IFERROR(INDEX('PLANNING DES SITES'!$A:$A,MATCH($B11,'PLANNING DES SITES'!V:V,0)),"") | W11: =IFERROR(INDEX('PLANNING DES SITES'!$A:$A,MATCH($B11,'PLANNING DES SITES'!W:W,0)),"") | X11: =IFERROR(INDEX('PLANNING DES SITES'!$A:$A,MATCH($B11,'PLANNING DES SITES'!X:X,0)),"") | Y11: =IFERROR(INDEX('PLANNING DES SITES'!$A:$A,MATCH($B11,'PLANNING DES SITES'!Y:Y,0)),"") | Z11: =IFERROR(INDEX('PLANNING DES SITES'!$A:$A,MATCH($B11,'PLANNING DES SITES'!Z:Z,0)),"") | AA11: =IFERROR(INDEX('PLANNING DES SITES'!$A:$A,MATCH($B11,'PLANNING DES SITES'!AA:AA,0)),"") | AB11: =IFERROR(INDEX('PLANNING DES SITES'!$A:$A,MATCH($B11,'PLANNING DES SITES'!AB:AB,0)),"") | AC11: =IFERROR(INDEX('PLANNING DES SITES'!$A:$A,MATCH($B11,'PLANNING DES SITES'!AC:AC,0)),"") | AD11: =IFERROR(INDEX('PLANNING DES SITES'!$A:$A,MATCH($B11,'PLANNING DES SITES'!AD:AD,0)),"") | AE11: =IFERROR(INDEX('PLANNING DES SITES'!$A:$A,MATCH($B11,'PLANNING DES SITES'!AE:AE,0)),"") | AF11: =IFERROR(INDEX('PLANNING DES SITES'!$A:$A,MATCH($B11,'PLANNING DES SITES'!AF:AF,0)),"") | AG11: =IFERROR(INDEX('PLANNING DES SITES'!$A:$A,MATCH($B11,'PLANNING DES SITES'!AG:AG,0)),"") | AH11: =IFERROR(INDEX('PLANNING DES SITES'!$A:$A,MATCH($B11,'PLANNING DES SITES'!AH:AH,0)),"") | AI11: =IFERROR(INDEX('PLANNING DES SITES'!$A:$A,MATCH($B11,'PLANNING DES SITES'!AI:AI,0)),"") | AJ11: =COUNTA(E11:AI11) -> 31
A12: 8 | B12: BOJLUR Rahaman | E12: =IFERROR(INDEX('PLANNING DES SITES'!$A:$A,MATCH($B12,'PLANNING DES SITES'!E:E,0)),"") | F12: =IFERROR(INDEX('PLANNING DES SITES'!$A:$A,MATCH($B12,'PLANNING DES SITES'!F:F,0)),"") | G12: =IFERROR(INDEX('PLANNING DES SITES'!$A:$A,MATCH($B12,'PLANNING DES SITES'!G:G,0)),"") | H12: =IFERROR(INDEX('PLANNING DES SITES'!$A:$A,MATCH($B12,'PLANNING DES SITES'!H:H,0)),"") | I12: =IFERROR(INDEX('PLANNING DES SITES'!$A:$A,MATCH($B12,'PLANNING DES SITES'!I:I,0)),"") | J12: =IFERROR(INDEX('PLANNING DES SITES'!$A:$A,MATCH($B12,'PLANNING DES SITES'!J:J,0)),"") | K12: =IFERROR(INDEX('PLANNING DES SITES'!$A:$A,MATCH($B12,'PLANNING DES SITES'!K:K,0)),"") | L12: =IFERROR(INDEX('PLANNING DES SITES'!$A:$A,MATCH($B12,'PLANNING DES SITES'!L:L,0)),"") | M12: =IFERROR(INDEX('PLANNING DES SITES'!$A:$A,MATCH($B12,'PLANNING DES SITES'!M:M,0)),"") | N12: =IFERROR(INDEX('PLANNING DES SITES'!$A:$A,MATCH($B12,'PLANNING DES SITES'!N:N,0)),"") | O12: =IFERROR(INDEX('PLANNING DES SITES'!$A:$A,MATCH($B12,'PLANNING DES SITES'!O:O,0)),"") | P12: =IFERROR(INDEX('PLANNING DES SITES'!$A:$A,MATCH($B12,'PLANNING DES SITES'!P:P,0)),"") | Q12: =IFERROR(INDEX('PLANNING DES SITES'!$A:$A,MATCH($B12,'PLANNING DES SITES'!Q:Q,0)),"") | R12: =IFERROR(INDEX('PLANNING DES SITES'!$A:$A,MATCH($B12,'PLANNING DES SITES'!R:R,0)),"") | S12: =IFERROR(INDEX('PLANNING DES SITES'!$A:$A,MATCH($B12,'PLANNING DES SITES'!S:S,0)),"") | T12: =IFERROR(INDEX('PLANNING DES SITES'!$A:$A,MATCH($B12,'PLANNING DES SITES'!T:T,0)),"") | U12: =IFERROR(INDEX('PLANNING DES SITES'!$A:$A,MATCH($B12,'PLANNING DES SITES'!U:U,0)),"") | V12: =IFERROR(INDEX('PLANNING DES SITES'!$A:$A,MATCH($B12,'PLANNING DES SITES'!V:V,0)),"") | W12: =IFERROR(INDEX('PLANNING DES SITES'!$A:$A,MATCH($B12,'PLANNING DES SITES'!W:W,0)),"") | X12: =IFERROR(INDEX('PLANNING DES SITES'!$A:$A,MATCH($B12,'PLANNING DES SITES'!X:X,0)),"") | Y12: =IFERROR(INDEX('PLANNING DES SITES'!$A:$A,MATCH($B12,'PLANNING DES SITES'!Y:Y,0)),"") | Z12: =IFERROR(INDEX('PLANNING DES SITES'!$A:$A,MATCH($B12,'PLANNING DES SITES'!Z:Z,0)),"") | AA12: =IFERROR(INDEX('PLANNING DES SITES'!$A:$A,MATCH($B12,'PLANNING DES SITES'!AA:AA,0)),"") | AB12: =IFERROR(INDEX('PLANNING DES SITES'!$A:$A,MATCH($B12,'PLANNING DES SITES'!AB:AB,0)),"") | AC12: =IFERROR(INDEX('PLANNING DES SITES'!$A:$A,MATCH($B12,'PLANNING DES SITES'!AC:AC,0)),"") | AD12: =IFERROR(INDEX('PLANNING DES SITES'!$A:$A,MATCH($B12,'PLANNING DES SITES'!AD:AD,0)),"") | AE12: =IFERROR(INDEX('PLANNING DES SITES'!$A:$A,MATCH($B12,'PLANNING DES SITES'!AE:AE,0)),"") | AF12: =IFERROR(INDEX('PLANNING DES SITES'!$A:$A,MATCH($B12,'PLANNING DES SITES'!AF:AF,0)),"") | AG12: =IFERROR(INDEX('PLANNING DES SITES'!$A:$A,MATCH($B12,'PLANNING DES SITES'!AG:AG,0)),"") | AH12: =IFERROR(INDEX('PLANNING DES SITES'!$A:$A,MATCH($B12,'PLANNING DES SITES'!AH:AH,0)),"") | AI12: =IFERROR(INDEX('PLANNING DES SITES'!$A:$A,MATCH($B12,'PLANNING DES SITES'!AI:AI,0)),"") | AJ12: =COUNTA(E12:AI12) -> 31
A13: 9 | B13: BOURHOUFALA Yasmina STARKO | E13: =IFERROR(INDEX('PLANNING DES SITES'!$A:$A,MATCH($B13,'PLANNING DES SITES'!E:E,0)),"") | F13: =IFERROR(INDEX('PLANNING DES SITES'!$A:$A,MATCH($B13,'PLANNING DES SITES'!F:F,0)),"") | G13: =IFERROR(INDEX('PLANNING DES SITES'!$A:$A,MATCH($B13,'PLANNING DES SITES'!G:G,0)),"") | H13: =IFERROR(INDEX('PLANNING DES SITES'!$A:$A,MATCH($B13,'PLANNING DES SITES'!H:H,0)),"") | I13: =IFERROR(INDEX('PLANNING DES SITES'!$A:$A,MATCH($B13,'PLANNING DES SITES'!I:I,0)),"") | J13: =IFERROR(INDEX('PLANNING DES SITES'!$A:$A,MATCH($B13,'PLANNING DES SITES'!J:J,0)),"") | K13: =IFERROR(INDEX('PLANNING DES SITES'!$A:$A,MATCH($B13,'PLANNING DES SITES'!K:K,0)),"") | L13: =IFERROR(INDEX('PLANNING DES SITES'!$A:$A,MATCH($B13,'PLANNING DES SITES'!L:L,0)),"") | M13: =IFERROR(INDEX('PLANNING DES SITES'!$A:$A,MATCH($B13,'PLANNING DES SITES'!M:M,0)),"") | N13: =IFERROR(INDEX('PLANNING DES SITES'!$A:$A,MATCH($B13,'PLANNING DES SITES'!N:N,0)),"") | O13: =IFERROR(INDEX('PLANNING DES SITES'!$A:$A,MATCH($B13,'PLANNING DES SITES'!O:O,0)),"") | P13: =IFERROR(INDEX('PLANNING DES SITES'!$A:$A,MATCH($B13,'PLANNING DES SITES'!P:P,0)),"") | Q13: =IFERROR(INDEX('PLANNING DES SITES'!$A:$A,MATCH($B13,'PLANNING DES SITES'!Q:Q,0)),"") | R13: =IFERROR(INDEX('PLANNING DES SITES'!$A:$A,MATCH($B13,'PLANNING DES SITES'!R:R,0)),"") | S13: =IFERROR(INDEX('PLANNING DES SITES'!$A:$A,MATCH($B13,'PLANNING DES SITES'!S:S,0)),"") | T13: =IFERROR(INDEX('PLANNING DES SITES'!$A:$A,MATCH($B13,'PLANNING DES SITES'!T:T,0)),"") | U13: =IFERROR(INDEX('PLANNING DES SITES'!$A:$A,MATCH($B13,'PLANNING DES SITES'!U:U,0)),"") | V13: =IFERROR(INDEX('PLANNING DES SITES'!$A:$A,MATCH($B13,'PLANNING DES SITES'!V:V,0)),"") | W13: =IFERROR(INDEX('PLANNING DES SITES'!$A:$A,MATCH($B13,'PLANNING DES SITES'!W:W,0)),"") | X13: =IFERROR(INDEX('PLANNING DES SITES'!$A:$A,MATCH($B13,'PLANNING DES SITES'!X:X,0)),"") | Y13: =IFERROR(INDEX('PLANNING DES SITES'!$A:$A,MATCH($B13,'PLANNING DES SITES'!Y:Y,0)),"") | Z13: =IFERROR(INDEX('PLANNING DES SITES'!$A:$A,MATCH($B13,'PLANNING DES SITES'!Z:Z,0)),"") | AA13: =IFERROR(INDEX('PLANNING DES SITES'!$A:$A,MATCH($B13,'PLANNING DES SITES'!AA:AA,0)),"") | AB13: =IFERROR(INDEX('PLANNING DES SITES'!$A:$A,MATCH($B13,'PLANNING DES SITES'!AB:AB,0)),"") | AC13: =IFERROR(INDEX('PLANNING DES SITES'!$A:$A,MATCH($B13,'PLANNING DES SITES'!AC:AC,0)),"") | AD13: =IFERROR(INDEX('PLANNING DES SITES'!$A:$A,MATCH($B13,'PLANNING DES SITES'!AD:AD,0)),"") | AE13: =IFERROR(INDEX('PLANNING DES SITES'!$A:$A,MATCH($B13,'PLANNING DES SITES'!AE:AE,0)),"") | AF13: =IFERROR(INDEX('PLANNING DES SITES'!$A:$A,MATCH($B13,'PLANNING DES SITES'!AF:AF,0)),"") | AG13: =IFERROR(INDEX('PLANNING DES SITES'!$A:$A,MATCH($B13,'PLANNING DES SITES'!AG:AG,0)),"") | AH13: =IFERROR(INDEX('PLANNING DES SITES'!$A:$A,MATCH($B13,'PLANNING DES SITES'!AH:AH,0)),"") | AI13: =IFERROR(INDEX('PLANNING DES SITES'!$A:$A,MATCH($B13,'PLANNING DES SITES'!AI:AI,0)),"") | AJ13: =COUNTA(E13:AI13) -> 31
A14: 10 | B14: CAZACU Svetlana | E14: =IFERROR(INDEX('PLANNING DES SITES'!$A:$A,MATCH($B14,'PLANNING DES SITES'!E:E,0)),"") | F14: =IFERROR(INDEX('PLANNING DES SITES'!$A:$A,MATCH($B14,'PLANNING DES SITES'!F:F,0)),"") | G14: =IFERROR(INDEX('PLANNING DES SITES'!$A:$A,MATCH($B14,'PLANNING DES SITES'!G:G,0)),"") | H14: =IFERROR(INDEX('PLANNING DES SITES'!$A:$A,MATCH($B14,'PLANNING DES SITES'!H:H,0)),"") | I14: =IFERROR(INDEX('PLANNING DES SITES'!$A:$A,MATCH($B14,'PLANNING DES SITES'!I:I,0)),"") | J14: =IFERROR(INDEX('PLANNING DES SITES'!$A:$A,MATCH($B14,'PLANNING DES SITES'!J:J,0)),"") | K14: =IFERROR(INDEX('PLANNING DES SITES'!$A:$A,MATCH($B14,'PLANNING DES SITES'!K:K,0)),"") | L14: =IFERROR(INDEX('PLANNING DES SITES'!$A:$A,MATCH($B14,'PLANNING DES SITES'!L:L,0)),"") | M14: =IFERROR(INDEX('PLANNING DES SITES'!$A:$A,MATCH($B14,'PLANNING DES SITES'!M:M,0)),"") | N14: =IFERROR(INDEX('PLANNING DES SITES'!$A:$A,MATCH($B14,'PLANNING DES SITES'!N:N,0)),"") | O14: =IFERROR(INDEX('PLANNING DES SITES'!$A:$A,MATCH($B14,'PLANNING DES SITES'!O:O,0)),"") | P14: =IFERROR(INDEX('PLANNING DES SITES'!$A:$A,MATCH($B14,'PLANNING DES SITES'!P:P,0)),"") | Q14: =IFERROR(INDEX('PLANNING DES SITES'!$A:$A,MATCH($B14,'PLANNING DES SITES'!Q:Q,0)),"") | R14: =IFERROR(INDEX('PLANNING DES SITES'!$A:$A,MATCH($B14,'PLANNING DES SITES'!R:R,0)),"") | S14: =IFERROR(INDEX('PLANNING DES SITES'!$A:$A,MATCH($B14,'PLANNING DES SITES'!S:S,0)),"") | T14: =IFERROR(INDEX('PLANNING DES SITES'!$A:$A,MATCH($B14,'PLANNING DES SITES'!T:T,0)),"") | U14: =IFERROR(INDEX('PLANNING DES SITES'!$A:$A,MATCH($B14,'PLANNING DES SITES'!U:U,0)),"") | V14: =IFERROR(INDEX('PLANNING DES SITES'!$A:$A,MATCH($B14,'PLANNING DES SITES'!V:V,0)),"") | W14: =IFERROR(INDEX('PLANNING DES SITES'!$A:$A,MATCH($B14,'PLANNING DES SITES'!W:W,0)),"") | X14: =IFERROR(INDEX('PLANNING DES SITES'!$A:$A,MATCH($B14,'PLANNING DES SITES'!X:X,0)),"") | Y14: =IFERROR(INDEX('PLANNING DES SITES'!$A:$A,MATCH($B14,'PLANNING DES SITES'!Y:Y,0)),"") | Z14: =IFERROR(INDEX('PLANNING DES SITES'!$A:$A,MATCH($B14,'PLANNING DES SITES'!Z:Z,0)),"") | AA14: =IFERROR(INDEX('PLANNING DES SITES'!$A:$A,MATCH($B14,'PLANNING DES SITES'!AA:AA,0)),"") | AB14: =IFERROR(INDEX('PLANNING DES SITES'!$A:$A,MATCH($B14,'PLANNING DES SITES'!AB:AB,0)),"") | AC14: =IFERROR(INDEX('PLANNING DES SITES'!$A:$A,MATCH($B14,'PLANNING DES SITES'!AC:AC,0)),"") | AD14: =IFERROR(INDEX('PLANNING DES SITES'!$A:$A,MATCH($B14,'PLANNING DES SITES'!AD:AD,0)),"") | AE14: =IFERROR(INDEX('PLANNING DES SITES'!$A:$A,MATCH($B14,'PLANNING DES SITES'!AE:AE,0)),"") | AF14: =IFERROR(INDEX('PLANNING DES SITES'!$A:$A,MATCH($B14,'PLANNING DES SITES'!AF:AF,0)),"") | AG14: =IFERROR(INDEX('PLANNING DES SITES'!$A:$A,MATCH($B14,'PLANNING DES SITES'!AG:AG,0)),"") | AH14: =IFERROR(INDEX('PLANNING DES SITES'!$A:$A,MATCH($B14,'PLANNING DES SITES'!AH:AH,0)),"") | AI14: =IFERROR(INDEX('PLANNING DES SITES'!$A:$A,MATCH($B14,'PLANNING DES SITES'!AI:AI,0)),"") | AJ14: =COUNTA(E14:AI14) -> 31
A15: 11 | B15: CHIHAI Eugenia | E15: =IFERROR(INDEX('PLANNING DES SITES'!$A:$A,MATCH($B15,'PLANNING DES SITES'!E:E,0)),"") | F15: =IFERROR(INDEX('PLANNING DES SITES'!$A:$A,MATCH($B15,'PLANNING DES SITES'!F:F,0)),"") | G15: =IFERROR(INDEX('PLANNING DES SITES'!$A:$A,MATCH($B15,'PLANNING DES SITES'!G:G,0)),"") | H15: =IFERROR(INDEX('PLANNING DES SITES'!$A:$A,MATCH($B15,'PLANNING DES SITES'!H:H,0)),"") | I15: =IFERROR(INDEX('PLANNING DES SITES'!$A:$A,MATCH($B15,'PLANNING DES SITES'!I:I,0)),"") | J15: =IFERROR(INDEX('PLANNING DES SITES'!$A:$A,MATCH($B15,'PLANNING DES SITES'!J:J,0)),"") | K15: =IFERROR(INDEX('PLANNING DES SITES'!$A:$A,MATCH($B15,'PLANNING DES SITES'!K:K,0)),"") | L15: =IFERROR(INDEX('PLANNING DES SITES'!$A:$A,MATCH($B15,'PLANNING DES SITES'!L:L,0)),"") | M15: =IFERROR(INDEX('PLANNING DES SITES'!$A:$A,MATCH($B15,'PLANNING DES SITES'!M:M,0)),"") | N15: =IFERROR(INDEX('PLANNING DES SITES'!$A:$A,MATCH($B15,'PLANNING DES SITES'!N:N,0)),"") | O15: =IFERROR(INDEX('PLANNING DES SITES'!$A:$A,MATCH($B15,'PLANNING DES SITES'!O:O,0)),"") | P15: =IFERROR(INDEX('PLANNING DES SITES'!$A:$A,MATCH($B15,'PLANNING DES SITES'!P:P,0)),"") | Q15: =IFERROR(INDEX('PLANNING DES SITES'!$A:$A,MATCH($B15,'PLANNING DES SITES'!Q:Q,0)),"") | R15: =IFERROR(INDEX('PLANNING DES SITES'!$A:$A,MATCH($B15,'PLANNING DES SITES'!R:R,0)),"") | S15: =IFERROR(INDEX('PLANNING DES SITES'!$A:$A,MATCH($B15,'PLANNING DES SITES'!S:S,0)),"") | T15: =IFERROR(INDEX('PLANNING DES SITES'!$A:$A,MATCH($B15,'PLANNING DES SITES'!T:T,0)),"") | U15: =IFERROR(INDEX('PLANNING DES SITES'!$A:$A,MATCH($B15,'PLANNING DES SITES'!U:U,0)),"") | V15: =IFERROR(INDEX('PLANNING DES SITES'!$A:$A,MATCH($B15,'PLANNING DES SITES'!V:V,0)),"") | W15: =IFERROR(INDEX('PLANNING DES SITES'!$A:$A,MATCH($B15,'PLANNING DES SITES'!W:W,0)),"") | X15: =IFERROR(INDEX('PLANNING DES SITES'!$A:$A,MATCH($B15,'PLANNING DES SITES'!X:X,0)),"") | Y15: =IFERROR(INDEX('PLANNING DES SITES'!$A:$A,MATCH($B15,'PLANNING DES SITES'!Y:Y,0)),"") | Z15: =IFERROR(INDEX('PLANNING DES SITES'!$A:$A,MATCH($B15,'PLANNING DES SITES'!Z:Z,0)),"") | AA15: =IFERROR(INDEX('PLANNING DES SITES'!$A:$A,MATCH($B15,'PLANNING DES SITES'!AA:AA,0)),"") | AB15: =IFERROR(INDEX('PLANNING DES SITES'!$A:$A,MATCH($B15,'PLANNING DES SITES'!AB:AB,0)),"") | AC15: =IFERROR(INDEX('PLANNING DES SITES'!$A:$A,MATCH($B15,'PLANNING DES SITES'!AC:AC,0)),"") | AD15: =IFERROR(INDEX('PLANNING DES SITES'!$A:$A,MATCH($B15,'PLANNING DES SITES'!AD:AD,0)),"") | AE15: =IFERROR(INDEX('PLANNING DES SITES'!$A:$A,MATCH($B15,'PLANNING DES SITES'!AE:AE,0)),"") | AF15: =IFERROR(INDEX('PLANNING DES SITES'!$A:$A,MATCH($B15,'PLANNING DES SITES'!AF:AF,0)),"") | AG15: =IFERROR(INDEX('PLANNING DES SITES'!$A:$A,MATCH($B15,'PLANNING DES SITES'!AG:AG,0)),"") | AH15: =IFERROR(INDEX('PLANNING DES SITES'!$A:$A,MATCH($B15,'PLANNING DES SITES'!AH:AH,0)),"") | AI15: =IFERROR(INDEX('PLANNING DES SITES'!$A:$A,MATCH($B15,'PLANNING DES SITES'!AI:AI,0)),"") | AJ15: =COUNTA(E15:AI15) -> 31
A16: 12 | B16: CIOBANU Rodica | E16: =IFERROR(INDEX('PLANNING DES SITES'!$A:$A,MATCH($B16,'PLANNING DES SITES'!E:E,0)),"") | F16: =IFERROR(INDEX('PLANNING DES SITES'!$A:$A,MATCH($B16,'PLANNING DES SITES'!F:F,0)),"") | G16: =IFERROR(INDEX('PLANNING DES SITES'!$A:$A,MATCH($B16,'PLANNING DES SITES'!G:G,0)),"") | H16: =IFERROR(INDEX('PLANNING DES SITES'!$A:$A,MATCH($B16,'PLANNING DES SITES'!H:H,0)),"") | I16: =IFERROR(INDEX('PLANNING DES SITES'!$A:$A,MATCH($B16,'PLANNING DES SITES'!I:I,0)),"") | J16: =IFERROR(INDEX('PLANNING DES SITES'!$A:$A,MATCH($B16,'PLANNING DES SITES'!J:J,0)),"") | K16: =IFERROR(INDEX('PLANNING DES SITES'!$A:$A,MATCH($B16,'PLANNING DES SITES'!K:K,0)),"") | L16: =IFERROR(INDEX('PLANNING DES SITES'!$A:$A,MATCH($B16,'PLANNING DES SITES'!L:L,0)),"") | M16: =IFERROR(INDEX('PLANNING DES SITES'!$A:$A,MATCH($B16,'PLANNING DES SITES'!M:M,0)),"") | N16: =IFERROR(INDEX('PLANNING DES SITES'!$A:$A,MATCH($B16,'PLANNING DES SITES'!N:N,0)),"") | O16: =IFERROR(INDEX('PLANNING DES SITES'!$A:$A,MATCH($B16,'PLANNING DES SITES'!O:O,0)),"") | P16: =IFERROR(INDEX('PLANNING DES SITES'!$A:$A,MATCH($B16,'PLANNING DES SITES'!P:P,0)),"") | Q16: =IFERROR(INDEX('PLANNING DES SITES'!$A:$A,MATCH($B16,'PLANNING DES SITES'!Q:Q,0)),"") | R16: =IFERROR(INDEX('PLANNING DES SITES'!$A:$A,MATCH($B16,'PLANNING DES SITES'!R:R,0)),"") | S16: =IFERROR(INDEX('PLANNING DES SITES'!$A:$A,MATCH($B16,'PLANNING DES SITES'!S:S,0)),"") | T16: =IFERROR(INDEX('PLANNING DES SITES'!$A:$A,MATCH($B16,'PLANNING DES SITES'!T:T,0)),"") | U16: =IFERROR(INDEX('PLANNING DES SITES'!$A:$A,MATCH($B16,'PLANNING DES SITES'!U:U,0)),"") | V16: =IFERROR(INDEX('PLANNING DES SITES'!$A:$A,MATCH($B16,'PLANNING DES SITES'!V:V,0)),"") | W16: =IFERROR(INDEX('PLANNING DES SITES'!$A:$A,MATCH($B16,'PLANNING DES SITES'!W:W,0)),"") | X16: =IFERROR(INDEX('PLANNING DES SITES'!$A:$A,MATCH($B16,'PLANNING DES SITES'!X:X,0)),"") | Y16: =IFERROR(INDEX('PLANNING DES SITES'!$A:$A,MATCH($B16,'PLANNING DES SITES'!Y:Y,0)),"") | Z16: =IFERROR(INDEX('PLANNING DES SITES'!$A:$A,MATCH($B16,'PLANNING DES SITES'!Z:Z,0)),"") | AA16: =IFERROR(INDEX('PLANNING DES SITES'!$A:$A,MATCH($B16,'PLANNING DES SITES'!AA:AA,0)),"") | AB16: =IFERROR(INDEX('PLANNING DES SITES'!$A:$A,MATCH($B16,'PLANNING DES SITES'!AB:AB,0)),"") | AC16: =IFERROR(INDEX('PLANNING DES SITES'!$A:$A,MATCH($B16,'PLANNING DES SITES'!AC:AC,0)),"") | AD16: =IFERROR(INDEX('PLANNING DES SITES'!$A:$A,MATCH($B16,'PLANNING DES SITES'!AD:AD,0)),"") | AE16: =IFERROR(INDEX('PLANNING DES SITES'!$A:$A,MATCH($B16,'PLANNING DES SITES'!AE:AE,0)),"") | AF16: =IFERROR(INDEX('PLANNING DES SITES'!$A:$A,MATCH($B16,'PLANNING DES SITES'!AF:AF,0)),"") | AG16: =IFERROR(INDEX('PLANNING DES SITES'!$A:$A,MATCH($B16,'PLANNING DES SITES'!AG:AG,0)),"") | AH16: =IFERROR(INDEX('PLANNING DES SITES'!$A:$A,MATCH($B16,'PLANNING DES SITES'!AH:AH,0)),"") | AI16: =IFERROR(INDEX('PLANNING DES SITES'!$A:$A,MATCH($B16,'PLANNING DES SITES'!AI:AI,0)),"") | AJ16: =COUNTA(E16:AI16) -> 31
... A100: 96 | B100: ZUBCO MARCELA | E100: =IFERROR(INDEX('PLANNING DES SITES'!$A:$A,MATCH($B100,'PLANNING DES SITES'!E:E,0)),"") | F100: =IFERROR(INDEX('PLANNING DES SITES'!$A:$A,MATCH($B100,'PLANNING DES SITES'!F:F,0)),"") | G100: =IFERROR(INDEX('PLANNING DES SITES'!$A:$A,MATCH($B100,'PLANNING DES SITES'!G:G,0)),"") | H100: =IFERROR(INDEX('PLANNING DES SITES'!$A:$A,MATCH($B100,'PLANNING DES SITES'!H:H,0)),"") | I100: =IFERROR(INDEX('PLANNING DES SITES'!$A:$A,MATCH($B100,'PLANNING DES SITES'!I:I,0)),"") | J100: =IFERROR(INDEX('PLANNING DES SITES'!$A:$A,MATCH($B100,'PLANNING DES SITES'!J:J,0)),"") | K100: =IFERROR(INDEX('PLANNING DES SITES'!$A:$A,MATCH($B100,'PLANNING DES SITES'!K:K,0)),"") | L100: =IFERROR(INDEX('PLANNING DES SITES'!$A:$A,MATCH($B100,'PLANNING DES SITES'!L:L,0)),"") | M100: =IFERROR(INDEX('PLANNING DES SITES'!$A:$A,MATCH($B100,'PLANNING DES SITES'!M:M,0)),"") | N100: =IFERROR(INDEX('PLANNING DES SITES'!$A:$A,MATCH($B100,'PLANNING DES SITES'!N:N,0)),"") | O100: =IFERROR(INDEX('PLANNING DES SITES'!$A:$A,MATCH($B100,'PLANNING DES SITES'!O:O,0)),"") | P100: =IFERROR(INDEX('PLANNING DES SITES'!$A:$A,MATCH($B100,'PLANNING DES SITES'!P:P,0)),"") | Q100: =IFERROR(INDEX('PLANNING DES SITES'!$A:$A,MATCH($B100,'PLANNING DES SITES'!Q:Q,0)),"") | R100: =IFERROR(INDEX('PLANNING DES SITES'!$A:$A,MATCH($B100,'PLANNING DES SITES'!R:R,0)),"") | S100: =IFERROR(INDEX('PLANNING DES SITES'!$A:$A,MATCH($B100,'PLANNING DES SITES'!S:S,0)),"") | T100: =IFERROR(INDEX('PLANNING DES SITES'!$A:$A,MATCH($B100,'PLANNING DES SITES'!T:T,0)),"") | U100: =IFERROR(INDEX('PLANNING DES SITES'!$A:$A,MATCH($B100,'PLANNING DES SITES'!U:U,0)),"") | V100: =IFERROR(INDEX('PLANNING DES SITES'!$A:$A,MATCH($B100,'PLANNING DES SITES'!V:V,0)),"") | W100: =IFERROR(INDEX('PLANNING DES SITES'!$A:$A,MATCH($B100,'PLANNING DES SITES'!W:W,0)),"") | X100: =IFERROR(INDEX('PLANNING DES SITES'!$A:$A,MATCH($B100,'PLANNING DES SITES'!X:X,0)),"") | Y100: =IFERROR(INDEX('PLANNING DES SITES'!$A:$A,MATCH($B100,'PLANNING DES SITES'!Y:Y,0)),"") | Z100: =IFERROR(INDEX('PLANNING DES SITES'!$A:$A,MATCH($B100,'PLANNING DES SITES'!Z:Z,0)),"") | AA100: =IFERROR(INDEX('PLANNING DES SITES'!$A:$A,MATCH($B100,'PLANNING DES SITES'!AA:AA,0)),"") | AB100: =IFERROR(INDEX('PLANNING DES SITES'!$A:$A,MATCH($B100,'PLANNING DES SITES'!AB:AB,0)),"") | AC100: =IFERROR(INDEX('PLANNING DES SITES'!$A:$A,MATCH($B100,'PLANNING DES SITES'!AC:AC,0)),"") | AD100: =IFERROR(INDEX('PLANNING DES SITES'!$A:$A,MATCH($B100,'PLANNING DES SITES'!AD:AD,0)),"") | AE100: =IFERROR(INDEX('PLANNING DES SITES'!$A:$A,MATCH($B100,'PLANNING DES SITES'!AE:AE,0)),"") | AF100: =IFERROR(INDEX('PLANNING DES SITES'!$A:$A,MATCH($B100,'PLANNING DES SITES'!AF:AF,0)),"") | AG100: =IFERROR(INDEX('PLANNING DES SITES'!$A:$A,MATCH($B100,'PLANNING DES SITES'!AG:AG,0)),"") | AH100: =IFERROR(INDEX('PLANNING DES SITES'!$A:$A,MATCH($B100,'PLANNING DES SITES'!AH:AH,0)),"") | AI100: =IFERROR(INDEX('PLANNING DES SITES'!$A:$A,MATCH($B100,'PLANNING DES SITES'!AI:AI,0)),"") | AJ100: =COUNTA(E100:AI100) -> 31
B101: INTERIM | AJ101: =COUNTA(E101:AI101) -> 0
AJ102: =COUNTA(E102:AI102) -> 0
A103: 1 | B103: AMOASEI Elena | E103: =IFERROR(INDEX('PLANNING DES SITES'!$A:$A,MATCH($B103,'PLANNING DES SITES'!E:E,0)),"") | F103: =IFERROR(INDEX('PLANNING DES SITES'!$A:$A,MATCH($B103,'PLANNING DES SITES'!F:F,0)),"") | G103: =IFERROR(INDEX('PLANNING DES SITES'!$A:$A,MATCH($B103,'PLANNING DES SITES'!G:G,0)),"") | H103: =IFERROR(INDEX('PLANNING DES SITES'!$A:$A,MATCH($B103,'PLANNING DES SITES'!H:H,0)),"") | I103: =IFERROR(INDEX('PLANNING DES SITES'!$A:$A,MATCH($B103,'PLANNING DES SITES'!I:I,0)),"") | J103: =IFERROR(INDEX('PLANNING DES SITES'!$A:$A,MATCH($B103,'PLANNING DES SITES'!J:J,0)),"") | K103: =IFERROR(INDEX('PLANNING DES SITES'!$A:$A,MATCH($B103,'PLANNING DES SITES'!K:K,0)),"") | L103: =IFERROR(INDEX('PLANNING DES SITES'!$A:$A,MATCH($B103,'PLANNING DES SITES'!L:L,0)),"") | M103: =IFERROR(INDEX('PLANNING DES SITES'!$A:$A,MATCH($B103,'PLANNING DES SITES'!M:M,0)),"") | N103: =IFERROR(INDEX('PLANNING DES SITES'!$A:$A,MATCH($B103,'PLANNING DES SITES'!N:N,0)),"") | O103: =IFERROR(INDEX('PLANNING DES SITES'!$A:$A,MATCH($B103,'PLANNING DES SITES'!O:O,0)),"") | P103: =IFERROR(INDEX('PLANNING DES SITES'!$A:$A,MATCH($B103,'PLANNING DES SITES'!P:P,0)),"") | Q103: =IFERROR(INDEX('PLANNING DES SITES'!$A:$A,MATCH($B103,'PLANNING DES SITES'!Q:Q,0)),"") | R103: =IFERROR(INDEX('PLANNING DES SITES'!$A:$A,MATCH($B103,'PLANNING DES SITES'!R:R,0)),"") | S103: =IFERROR(INDEX('PLANNING DES SITES'!$A:$A,MATCH($B103,'PLANNING DES SITES'!S:S,0)),"") | T103: =IFERROR(INDEX('PLANNING DES SITES'!$A:$A,MATCH($B103,'PLANNING DES SITES'!T:T,0)),"") | U103: =IFERROR(INDEX('PLANNING DES SITES'!$A:$A,MATCH($B103,'PLANNING DES SITES'!U:U,0)),"") | V103: =IFERROR(INDEX('PLANNING DES SITES'!$A:$A,MATCH($B103,'PLANNING DES SITES'!V:V,0)),"") | W103: =IFERROR(INDEX('PLANNING DES SITES'!$A:$A,MATCH($B103,'PLANNING DES SITES'!W:W,0)),"") | X103: =IFERROR(INDEX('PLANNING DES SITES'!$A:$A,MATCH($B103,'PLANNING DES SITES'!X:X,0)),"") | Y103: =IFERROR(INDEX('PLANNING DES SITES'!$A:$A,MATCH($B103,'PLANNING DES SITES'!Y:Y,0)),"") | Z103: =IFERROR(INDEX('PLANNING DES SITES'!$A:$A,MATCH($B103,'PLANNING DES SITES'!Z:Z,0)),"") | AA103: =IFERROR(INDEX('PLANNING DES SITES'!$A:$A,MATCH($B103,'PLANNING DES SITES'!AA:AA,0)),"") | AB103: =IFERROR(INDEX('PLANNING DES SITES'!$A:$A,MATCH($B103,'PLANNING DES SITES'!AB:AB,0)),"") | AC103: =IFERROR(INDEX('PLANNING DES SITES'!$A:$A,MATCH($B103,'PLANNING DES SITES'!AC:AC,0)),"") | AD103: =IFERROR(INDEX('PLANNING DES SITES'!$A:$A,MATCH($B103,'PLANNING DES SITES'!AD:AD,0)),"") | AE103: =IFERROR(INDEX('PLANNING DES SITES'!$A:$A,MATCH($B103,'PLANNING DES SITES'!AE:AE,0)),"") | AF103: =IFERROR(INDEX('PLANNING DES SITES'!$A:$A,MATCH($B103,'PLANNING DES SITES'!AF:AF,0)),"") | AG103: =IFERROR(INDEX('PLANNING DES SITES'!$A:$A,MATCH($B103,'PLANNING DES SITES'!AG:AG,0)),"") | AH103: =IFERROR(INDEX('PLANNING DES SITES'!$A:$A,MATCH($B103,'PLANNING DES SITES'!AH:AH,0)),"") | AI103: =IFERROR(INDEX('PLANNING DES SITES'!$A:$A,MATCH($B103,'PLANNING DES SITES'!AI:AI,0)),"") | AJ103: =COUNTA(E103:AI103) -> 31
A104: 2 | B104: AJAD Hossain | E104: =IFERROR(INDEX('PLANNING DES SITES'!$A:$A,MATCH($B104,'PLANNING DES SITES'!E:E,0)),"") | F104: =IFERROR(INDEX('PLANNING DES SITES'!$A:$A,MATCH($B104,'PLANNING DES SITES'!F:F,0)),"") | G104: =IFERROR(INDEX('PLANNING DES SITES'!$A:$A,MATCH($B104,'PLANNING DES SITES'!G:G,0)),"") | H104: =IFERROR(INDEX('PLANNING DES SITES'!$A:$A,MATCH($B104,'PLANNING DES SITES'!H:H,0)),"") | I104: =IFERROR(INDEX('PLANNING DES SITES'!$A:$A,MATCH($B104,'PLANNING DES SITES'!I:I,0)),"") | J104: =IFERROR(INDEX('PLANNING DES SITES'!$A:$A,MATCH($B104,'PLANNING DES SITES'!J:J,0)),"") | K104: =IFERROR(INDEX('PLANNING DES SITES'!$A:$A,MATCH($B104,'PLANNING DES SITES'!K:K,0)),"") | L104: =IFERROR(INDEX('PLANNING DES SITES'!$A:$A,MATCH($B104,'PLANNING DES SITES'!L:L,0)),"") | M104: =IFERROR(INDEX('PLANNING DES SITES'!$A:$A,MATCH($B104,'PLANNING DES SITES'!M:M,0)),"") | N104: =IFERROR(INDEX('PLANNING DES SITES'!$A:$A,MATCH($B104,'PLANNING DES SITES'!N:N,0)),"") | O104: =IFERROR(INDEX('PLANNING DES SITES'!$A:$A,MATCH($B104,'PLANNING DES SITES'!O:O,0)),"") | P104: =IFERROR(INDEX('PLANNING DES SITES'!$A:$A,MATCH($B104,'PLANNING DES SITES'!P:P,0)),"") | Q104: =IFERROR(INDEX('PLANNING DES SITES'!$A:$A,MATCH($B104,'PLANNING DES SITES'!Q:Q,0)),"") | R104: =IFERROR(INDEX('PLANNING DES SITES'!$A:$A,MATCH($B104,'PLANNING DES SITES'!R:R,0)),"") | S104: =IFERROR(INDEX('PLANNING DES SITES'!$A:$A,MATCH($B104,'PLANNING DES SITES'!S:S,0)),"") | T104: =IFERROR(INDEX('PLANNING DES SITES'!$A:$A,MATCH($B104,'PLANNING DES SITES'!T:T,0)),"") | U104: =IFERROR(INDEX('PLANNING DES SITES'!$A:$A,MATCH($B104,'PLANNING DES SITES'!U:U,0)),"") | V104: =IFERROR(INDEX('PLANNING DES SITES'!$A:$A,MATCH($B104,'PLANNING DES SITES'!V:V,0)),"") | W104: =IFERROR(INDEX('PLANNING DES SITES'!$A:$A,MATCH($B104,'PLANNING DES SITES'!W:W,0)),"") | X104: =IFERROR(INDEX('PLANNING DES SITES'!$A:$A,MATCH($B104,'PLANNING DES SITES'!X:X,0)),"") | Y104: =IFERROR(INDEX('PLANNING DES SITES'!$A:$A,MATCH($B104,'PLANNING DES SITES'!Y:Y,0)),"") | Z104: =IFERROR(INDEX('PLANNING DES SITES'!$A:$A,MATCH($B104,'PLANNING DES SITES'!Z:Z,0)),"") | AA104: =IFERROR(INDEX('PLANNING DES SITES'!$A:$A,MATCH($B104,'PLANNING DES SITES'!AA:AA,0)),"") | AB104: =IFERROR(INDEX('PLANNING DES SITES'!$A:$A,MATCH($B104,'PLANNING DES SITES'!AB:AB,0)),"") | AC104: =IFERROR(INDEX('PLANNING DES SITES'!$A:$A,MATCH($B104,'PLANNING DES SITES'!AC:AC,0)),"") | AD104: =IFERROR(INDEX('PLANNING DES SITES'!$A:$A,MATCH($B104,'PLANNING DES SITES'!AD:AD,0)),"") | AE104: =IFERROR(INDEX('PLANNING DES SITES'!$A:$A,MATCH($B104,'PLANNING DES SITES'!AE:AE,0)),"") | AF104: =IFERROR(INDEX('PLANNING DES SITES'!$A:$A,MATCH($B104,'PLANNING DES SITES'!AF:AF,0)),"") | AG104: =IFERROR(INDEX('PLANNING DES SITES'!$A:$A,MATCH($B104,'PLANNING DES SITES'!AG:AG,0)),"") | AH104: =IFERROR(INDEX('PLANNING DES SITES'!$A:$A,MATCH($B104,'PLANNING DES SITES'!AH:AH,0)),"") | AI104: =IFERROR(INDEX('PLANNING DES SITES'!$A:$A,MATCH($B104,'PLANNING DES SITES'!AI:AI,0)),"") | AJ104: =COUNTA(E104:AI104) -> 31
A105: 3 | B105: BABOUCHE Samia | E105: =IFERROR(INDEX('PLANNING DES SITES'!$A:$A,MATCH($B105,'PLANNING DES SITES'!E:E,0)),"") | F105: =IFERROR(INDEX('PLANNING DES SITES'!$A:$A,MATCH($B105,'PLANNING DES SITES'!F:F,0)),"") | G105: =IFERROR(INDEX('PLANNING DES SITES'!$A:$A,MATCH($B105,'PLANNING DES SITES'!G:G,0)),"") | H105: =IFERROR(INDEX('PLANNING DES SITES'!$A:$A,MATCH($B105,'PLANNING DES SITES'!H:H,0)),"") | I105: =IFERROR(INDEX('PLANNING DES SITES'!$A:$A,MATCH($B105,'PLANNING DES SITES'!I:I,0)),"") | J105: =IFERROR(INDEX('PLANNING DES SITES'!$A:$A,MATCH($B105,'PLANNING DES SITES'!J:J,0)),"") | K105: =IFERROR(INDEX('PLANNING DES SITES'!$A:$A,MATCH($B105,'PLANNING DES SITES'!K:K,0)),"") | L105: =IFERROR(INDEX('PLANNING DES SITES'!$A:$A,MATCH($B105,'PLANNING DES SITES'!L:L,0)),"") | M105: =IFERROR(INDEX('PLANNING DES SITES'!$A:$A,MATCH($B105,'PLANNING DES SITES'!M:M,0)),"") | N105: =IFERROR(INDEX('PLANNING DES SITES'!$A:$A,MATCH($B105,'PLANNING DES SITES'!N:N,0)),"") | O105: =IFERROR(INDEX('PLANNING DES SITES'!$A:$A,MATCH($B105,'PLANNING DES SITES'!O:O,0)),"") | P105: =IFERROR(INDEX('PLANNING DES SITES'!$A:$A,MATCH($B105,'PLANNING DES SITES'!P:P,0)),"") | Q105: =IFERROR(INDEX('PLANNING DES SITES'!$A:$A,MATCH($B105,'PLANNING DES SITES'!Q:Q,0)),"") | R105: =IFERROR(INDEX('PLANNING DES SITES'!$A:$A,MATCH($B105,'PLANNING DES SITES'!R:R,0)),"") | S105: =IFERROR(INDEX('PLANNING DES SITES'!$A:$A,MATCH($B105,'PLANNING DES SITES'!S:S,0)),"") | T105: =IFERROR(INDEX('PLANNING DES SITES'!$A:$A,MATCH($B105,'PLANNING DES SITES'!T:T,0)),"") | U105: =IFERROR(INDEX('PLANNING DES SITES'!$A:$A,MATCH($B105,'PLANNING DES SITES'!U:U,0)),"") | V105: =IFERROR(INDEX('PLANNING DES SITES'!$A:$A,MATCH($B105,'PLANNING DES SITES'!V:V,0)),"") | W105: =IFERROR(INDEX('PLANNING DES SITES'!$A:$A,MATCH($B105,'PLANNING DES SITES'!W:W,0)),"") | X105: =IFERROR(INDEX('PLANNING DES SITES'!$A:$A,MATCH($B105,'PLANNING DES SITES'!X:X,0)),"") | Y105: =IFERROR(INDEX('PLANNING DES SITES'!$A:$A,MATCH($B105,'PLANNING DES SITES'!Y:Y,0)),"") | Z105: =IFERROR(INDEX('PLANNING DES SITES'!$A:$A,MATCH($B105,'PLANNING DES SITES'!Z:Z,0)),"") | AA105: =IFERROR(INDEX('PLANNING DES SITES'!$A:$A,MATCH($B105,'PLANNING DES SITES'!AA:AA,0)),"") | AB105: =IFERROR(INDEX('PLANNING DES SITES'!$A:$A,MATCH($B105,'PLANNING DES SITES'!AB:AB,0)),"") | AC105: =IFERROR(INDEX('PLANNING DES SITES'!$A:$A,MATCH($B105,'PLANNING DES SITES'!AC:AC,0)),"") | AD105: =IFERROR(INDEX('PLANNING DES SITES'!$A:$A,MATCH($B105,'PLANNING DES SITES'!AD:AD,0)),"") | AE105: =IFERROR(INDEX('PLANNING DES SITES'!$A:$A,MATCH($B105,'PLANNING DES SITES'!AE:AE,0)),"") | AF105: =IFERROR(INDEX('PLANNING DES SITES'!$A:$A,MATCH($B105,'PLANNING DES SITES'!AF:AF,0)),"") | AG105: =IFERROR(INDEX('PLANNING DES SITES'!$A:$A,MATCH($B105,'PLANNING DES SITES'!AG:AG,0)),"") | AH105: =IFERROR(INDEX('PLANNING DES SITES'!$A:$A,MATCH($B105,'PLANNING DES SITES'!AH:AH,0)),"") | AI105: =IFERROR(INDEX('PLANNING DES SITES'!$A:$A,MATCH($B105,'PLANNING DES SITES'!AI:AI,0)),"") | AJ105: =COUNTA(E105:AI105) -> 31
A106: 4 | B106: BARGAEVA Khova / PDJ | E106: =IFERROR(INDEX('PLANNING DES SITES'!$A:$A,MATCH($B106,'PLANNING DES SITES'!E:E,0)),"") | F106: =IFERROR(INDEX('PLANNING DES SITES'!$A:$A,MATCH($B106,'PLANNING DES SITES'!F:F,0)),"") | G106: =IFERROR(INDEX('PLANNING DES SITES'!$A:$A,MATCH($B106,'PLANNING DES SITES'!G:G,0)),"") | H106: =IFERROR(INDEX('PLANNING DES SITES'!$A:$A,MATCH($B106,'PLANNING DES SITES'!H:H,0)),"") | I106: =IFERROR(INDEX('PLANNING DES SITES'!$A:$A,MATCH($B106,'PLANNING DES SITES'!I:I,0)),"") | J106: =IFERROR(INDEX('PLANNING DES SITES'!$A:$A,MATCH($B106,'PLANNING DES SITES'!J:J,0)),"") | K106: =IFERROR(INDEX('PLANNING DES SITES'!$A:$A,MATCH($B106,'PLANNING DES SITES'!K:K,0)),"") | L106: =IFERROR(INDEX('PLANNING DES SITES'!$A:$A,MATCH($B106,'PLANNING DES SITES'!L:L,0)),"") | M106: =IFERROR(INDEX('PLANNING DES SITES'!$A:$A,MATCH($B106,'PLANNING DES SITES'!M:M,0)),"") | N106: =IFERROR(INDEX('PLANNING DES SITES'!$A:$A,MATCH($B106,'PLANNING DES SITES'!N:N,0)),"") | O106: =IFERROR(INDEX('PLANNING DES SITES'!$A:$A,MATCH($B106,'PLANNING DES SITES'!O:O,0)),"") | P106: =IFERROR(INDEX('PLANNING DES SITES'!$A:$A,MATCH($B106,'PLANNING DES SITES'!P:P,0)),"") | Q106: =IFERROR(INDEX('PLANNING DES SITES'!$A:$A,MATCH($B106,'PLANNING DES SITES'!Q:Q,0)),"") | R106: =IFERROR(INDEX('PLANNING DES SITES'!$A:$A,MATCH($B106,'PLANNING DES SITES'!R:R,0)),"") | S106: =IFERROR(INDEX('PLANNING DES SITES'!$A:$A,MATCH($B106,'PLANNING DES SITES'!S:S,0)),"") | T106: =IFERROR(INDEX('PLANNING DES SITES'!$A:$A,MATCH($B106,'PLANNING DES SITES'!T:T,0)),"") | U106: =IFERROR(INDEX('PLANNING DES SITES'!$A:$A,MATCH($B106,'PLANNING DES SITES'!U:U,0)),"") | V106: =IFERROR(INDEX('PLANNING DES SITES'!$A:$A,MATCH($B106,'PLANNING DES SITES'!V:V,0)),"") | W106: =IFERROR(INDEX('PLANNING DES SITES'!$A:$A,MATCH($B106,'PLANNING DES SITES'!W:W,0)),"") | X106: =IFERROR(INDEX('PLANNING DES SITES'!$A:$A,MATCH($B106,'PLANNING DES SITES'!X:X,0)),"") | Y106: =IFERROR(INDEX('PLANNING DES SITES'!$A:$A,MATCH($B106,'PLANNING DES SITES'!Y:Y,0)),"") | Z106: =IFERROR(INDEX('PLANNING DES SITES'!$A:$A,MATCH($B106,'PLANNING DES SITES'!Z:Z,0)),"") | AA106: =IFERROR(INDEX('PLANNING DES SITES'!$A:$A,MATCH($B106,'PLANNING DES SITES'!AA:AA,0)),"") | AB106: =IFERROR(INDEX('PLANNING DES SITES'!$A:$A,MATCH($B106,'PLANNING DES SITES'!AB:AB,0)),"") | AC106: =IFERROR(INDEX('PLANNING DES SITES'!$A:$A,MATCH($B106,'PLANNING DES SITES'!AC:AC,0)),"") | AD106: =IFERROR(INDEX('PLANNING DES SITES'!$A:$A,MATCH($B106,'PLANNING DES SITES'!AD:AD,0)),"") | AE106: =IFERROR(INDEX('PLANNING DES SITES'!$A:$A,MATCH($B106,'PLANNING DES SITES'!AE:AE,0)),"") | AF106: =IFERROR(INDEX('PLANNING DES SITES'!$A:$A,MATCH($B106,'PLANNING DES SITES'!AF:AF,0)),"") | AG106: =IFERROR(INDEX('PLANNING DES SITES'!$A:$A,MATCH($B106,'PLANNING DES SITES'!AG:AG,0)),"") | AH106: =IFERROR(INDEX('PLANNING DES SITES'!$A:$A,MATCH($B106,'PLANNING DES SITES'!AH:AH,0)),"") | AI106: =IFERROR(INDEX('PLANNING DES SITES'!$A:$A,MATCH($B106,'PLANNING DES SITES'!AI:AI,0)),"") | AJ106: =COUNTA(E106:AI106) -> 31
A107: 5 | B107: BELGACEM Abdessalem | E107: =IFERROR(INDEX('PLANNING DES SITES'!$A:$A,MATCH($B107,'PLANNING DES SITES'!E:E,0)),"") | F107: =IFERROR(INDEX('PLANNING DES SITES'!$A:$A,MATCH($B107,'PLANNING DES SITES'!F:F,0)),"") | G107: =IFERROR(INDEX('PLANNING DES SITES'!$A:$A,MATCH($B107,'PLANNING DES SITES'!G:G,0)),"") | H107: =IFERROR(INDEX('PLANNING DES SITES'!$A:$A,MATCH($B107,'PLANNING DES SITES'!H:H,0)),"") | I107: =IFERROR(INDEX('PLANNING DES SITES'!$A:$A,MATCH($B107,'PLANNING DES SITES'!I:I,0)),"") | J107: =IFERROR(INDEX('PLANNING DES SITES'!$A:$A,MATCH($B107,'PLANNING DES SITES'!J:J,0)),"") | K107: =IFERROR(INDEX('PLANNING DES SITES'!$A:$A,MATCH($B107,'PLANNING DES SITES'!K:K,0)),"") | L107: =IFERROR(INDEX('PLANNING DES SITES'!$A:$A,MATCH($B107,'PLANNING DES SITES'!L:L,0)),"") | M107: =IFERROR(INDEX('PLANNING DES SITES'!$A:$A,MATCH($B107,'PLANNING DES SITES'!M:M,0)),"") | N107: =IFERROR(INDEX('PLANNING DES SITES'!$A:$A,MATCH($B107,'PLANNING DES SITES'!N:N,0)),"") | O107: =IFERROR(INDEX('PLANNING DES SITES'!$A:$A,MATCH($B107,'PLANNING DES SITES'!O:O,0)),"") | P107: =IFERROR(INDEX('PLANNING DES SITES'!$A:$A,MATCH($B107,'PLANNING DES SITES'!P:P,0)),"") | Q107: =IFERROR(INDEX('PLANNING DES SITES'!$A:$A,MATCH($B107,'PLANNING DES SITES'!Q:Q,0)),"") | R107: =IFERROR(INDEX('PLANNING DES SITES'!$A:$A,MATCH($B107,'PLANNING DES SITES'!R:R,0)),"") | S107: =IFERROR(INDEX('PLANNING DES SITES'!$A:$A,MATCH($B107,'PLANNING DES SITES'!S:S,0)),"") | T107: =IFERROR(INDEX('PLANNING DES SITES'!$A:$A,MATCH($B107,'PLANNING DES SITES'!T:T,0)),"") | U107: =IFERROR(INDEX('PLANNING DES SITES'!$A:$A,MATCH($B107,'PLANNING DES SITES'!U:U,0)),"") | V107: =IFERROR(INDEX('PLANNING DES SITES'!$A:$A,MATCH($B107,'PLANNING DES SITES'!V:V,0)),"") | W107: =IFERROR(INDEX('PLANNING DES SITES'!$A:$A,MATCH($B107,'PLANNING DES SITES'!W:W,0)),"") | X107: =IFERROR(INDEX('PLANNING DES SITES'!$A:$A,MATCH($B107,'PLANNING DES SITES'!X:X,0)),"") | Y107: =IFERROR(INDEX('PLANNING DES SITES'!$A:$A,MATCH($B107,'PLANNING DES SITES'!Y:Y,0)),"") | Z107: =IFERROR(INDEX('PLANNING DES SITES'!$A:$A,MATCH($B107,'PLANNING DES SITES'!Z:Z,0)),"") | AA107: =IFERROR(INDEX('PLANNING DES SITES'!$A:$A,MATCH($B107,'PLANNING DES SITES'!AA:AA,0)),"") | AB107: =IFERROR(INDEX('PLANNING DES SITES'!$A:$A,MATCH($B107,'PLANNING DES SITES'!AB:AB,0)),"") | AC107: =IFERROR(INDEX('PLANNING DES SITES'!$A:$A,MATCH($B107,'PLANNING DES SITES'!AC:AC,0)),"") | AD107: =IFERROR(INDEX('PLANNING DES SITES'!$A:$A,MATCH($B107,'PLANNING DES SITES'!AD:AD,0)),"") | AE107: =IFERROR(INDEX('PLANNING DES SITES'!$A:$A,MATCH($B107,'PLANNING DES SITES'!AE:AE,0)),"") | AF107: =IFERROR(INDEX('PLANNING DES SITES'!$A:$A,MATCH($B107,'PLANNING DES SITES'!AF:AF,0)),"") | AG107: =IFERROR(INDEX('PLANNING DES SITES'!$A:$A,MATCH($B107,'PLANNING DES SITES'!AG:AG,0)),"") | AH107: =IFERROR(INDEX('PLANNING DES SITES'!$A:$A,MATCH($B107,'PLANNING DES SITES'!AH:AH,0)),"") | AI107: =IFERROR(INDEX('PLANNING DES SITES'!$A:$A,MATCH($B107,'PLANNING DES SITES'!AI:AI,0)),"") | AJ107: =COUNTA(E107:AI107) -> 31
A108: 6 | B108: BRYAC Ana / PDJ | E108: =IFERROR(INDEX('PLANNING DES SITES'!$A:$A,MATCH($B108,'PLANNING DES SITES'!E:E,0)),"") | F108: =IFERROR(INDEX('PLANNING DES SITES'!$A:$A,MATCH($B108,'PLANNING DES SITES'!F:F,0)),"") | G108: =IFERROR(INDEX('PLANNING DES SITES'!$A:$A,MATCH($B108,'PLANNING DES SITES'!G:G,0)),"") | H108: =IFERROR(INDEX('PLANNING DES SITES'!$A:$A,MATCH($B108,'PLANNING DES SITES'!H:H,0)),"") | I108: =IFERROR(INDEX('PLANNING DES SITES'!$A:$A,MATCH($B108,'PLANNING DES SITES'!I:I,0)),"") | J108: =IFERROR(INDEX('PLANNING DES SITES'!$A:$A,MATCH($B108,'PLANNING DES SITES'!J:J,0)),"") | K108: =IFERROR(INDEX('PLANNING DES SITES'!$A:$A,MATCH($B108,'PLANNING DES SITES'!K:K,0)),"") | L108: =IFERROR(INDEX('PLANNING DES SITES'!$A:$A,MATCH($B108,'PLANNING DES SITES'!L:L,0)),"") | M108: =IFERROR(INDEX('PLANNING DES SITES'!$A:$A,MATCH($B108,'PLANNING DES SITES'!M:M,0)),"") | N108: =IFERROR(INDEX('PLANNING DES SITES'!$A:$A,MATCH($B108,'PLANNING DES SITES'!N:N,0)),"") | O108: =IFERROR(INDEX('PLANNING DES SITES'!$A:$A,MATCH($B108,'PLANNING DES SITES'!O:O,0)),"") | P108: =IFERROR(INDEX('PLANNING DES SITES'!$A:$A,MATCH($B108,'PLANNING DES SITES'!P:P,0)),"") | Q108: =IFERROR(INDEX('PLANNING DES SITES'!$A:$A,MATCH($B108,'PLANNING DES SITES'!Q:Q,0)),"") | R108: =IFERROR(INDEX('PLANNING DES SITES'!$A:$A,MATCH($B108,'PLANNING DES SITES'!R:R,0)),"") | S108: =IFERROR(INDEX('PLANNING DES SITES'!$A:$A,MATCH($B108,'PLANNING DES SITES'!S:S,0)),"") | T108: =IFERROR(INDEX('PLANNING DES SITES'!$A:$A,MATCH($B108,'PLANNING DES SITES'!T:T,0)),"") | U108: =IFERROR(INDEX('PLANNING DES SITES'!$A:$A,MATCH($B108,'PLANNING DES SITES'!U:U,0)),"") | V108: =IFERROR(INDEX('PLANNING DES SITES'!$A:$A,MATCH($B108,'PLANNING DES SITES'!V:V,0)),"") | W108: =IFERROR(INDEX('PLANNING DES SITES'!$A:$A,MATCH($B108,'PLANNING DES SITES'!W:W,0)),"") | X108: =IFERROR(INDEX('PLANNING DES SITES'!$A:$A,MATCH($B108,'PLANNING DES SITES'!X:X,0)),"") | Y108: =IFERROR(INDEX('PLANNING DES SITES'!$A:$A,MATCH($B108,'PLANNING DES SITES'!Y:Y,0)),"") | Z108: =IFERROR(INDEX('PLANNING DES SITES'!$A:$A,MATCH($B108,'PLANNING DES SITES'!Z:Z,0)),"") | AA108: =IFERROR(INDEX('PLANNING DES SITES'!$A:$A,MATCH($B108,'PLANNING DES SITES'!AA:AA,0)),"") | AB108: =IFERROR(INDEX('PLANNING DES SITES'!$A:$A,MATCH($B108,'PLANNING DES SITES'!AB:AB,0)),"") | AC108: =IFERROR(INDEX('PLANNING DES SITES'!$A:$A,MATCH($B108,'PLANNING DES SITES'!AC:AC,0)),"") | AD108: =IFERROR(INDEX('PLANNING DES SITES'!$A:$A,MATCH($B108,'PLANNING DES SITES'!AD:AD,0)),"") | AE108: =IFERROR(INDEX('PLANNING DES SITES'!$A:$A,MATCH($B108,'PLANNING DES SITES'!AE:AE,0)),"") | AF108: =IFERROR(INDEX('PLANNING DES SITES'!$A:$A,MATCH($B108,'PLANNING DES SITES'!AF:AF,0)),"") | AG108: =IFERROR(INDEX('PLANNING DES SITES'!$A:$A,MATCH($B108,'PLANNING DES SITES'!AG:AG,0)),"") | AH108: =IFERROR(INDEX('PLANNING DES SITES'!$A:$A,MATCH($B108,'PLANNING DES SITES'!AH:AH,0)),"") | AI108: =IFERROR(INDEX('PLANNING DES SITES'!$A:$A,MATCH($B108,'PLANNING DES SITES'!AI:AI,0)),"") | AJ108: =COUNTA(E108:AI108) -> 31
