Workbook

Sheet Feuil1
A1: =RANDBETWEEN(1,100) -> 44 | B1: =RANDBETWEEN(1,100) -> 11 | C1: =RANDBETWEEN(1,100) -> 7 | D1: =RANDBETWEEN(1,100) -> 96
A2: =RANDBETWEEN(1,100) -> 61 | B2: =RANDBETWEEN(1,100) -> 55 | C2: =RANDBETWEEN(1,100) -> 52 | D2: =RANDBETWEEN(1,100) -> 38
A3: =RANDBETWEEN(1,100) -> 23 | B3: =RANDBETWEEN(1,100) -> 11 | C3: =RANDBETWEEN(1,100) -> 78 | D3: =RANDBETWEEN(1,100) -> 63
A4: =RANDBETWEEN(1,100) -> 9 | B4: =RANDBETWEEN(1,100) -> 13 | C4: =RANDBETWEEN(1,100) -> 34 | D4: =RANDBETWEEN(1,100) -> 30
A5: =RANDBETWEEN(1,100) -> 66 | B5: =RANDBETWEEN(1,100) -> 56 | C5: =RANDBETWEEN(1,100) -> 81 | D5: =RANDBETWEEN(1,100) -> 98
A6: =RANDBETWEEN(1,100) -> 8 | B6: =RANDBETWEEN(1,100) -> 78 | C6: =RANDBETWEEN(1,100) -> 71 | D6: =RANDBETWEEN(1,100) -> 88
A7: =RANDBETWEEN(1,100) -> 88 | B7: =RANDBETWEEN(1,100) -> 2 | C7: =RANDBETWEEN(1,100) -> 86 | D7: =RANDBETWEEN(1,100) -> 36
A8: =RANDBETWEEN(1,100) -> 63 | B8: =RANDBETWEEN(1,100) -> 31 | C8: =RANDBETWEEN(1,100) -> 39 | D8: =RANDBETWEEN(1,100) -> 47
A9: =RANDBETWEEN(1,100) -> 88 | B9: =RANDBETWEEN(1,100) -> 85 | C9: =RANDBETWEEN(1,100) -> 21 | D9: =RANDBETWEEN(1,100) -> 74
A10: =RANDBETWEEN(1,100) -> 85 | B10: =RANDBETWEEN(1,100) -> 2 | C10: =RANDBETWEEN(1,100) -> 100 | D10: =RANDBETWEEN(1,100) -> 86
A11: =RANDBETWEEN(1,100) -> 78 | B11: =RANDBETWEEN(1,100) -> 33 | C11: =RANDBETWEEN(1,100) -> 62 | D11: =RANDBETWEEN(1,100) -> 15
A12: =RANDBETWEEN(1,100) -> 70 | B12: =RANDBETWEEN(1,100) -> 31 | C12: =RANDBETWEEN(1,100) -> 56 | D12: =RANDBETWEEN(1,100) -> 27
... A25: =RANDBETWEEN(1,100) -> 48 | B25: =RANDBETWEEN(1,100) -> 29 | C25: =RANDBETWEEN(1,100) -> 38 | D25: =RANDBETWEEN(1,100) -> 46

Sheet Feuil2
A1: {=INDIRECT(ADDRESS(MIN(IF(Feuil1!A1<=Conditions!$C$2:$C$9,ROW(Conditions!$C$2:$C$9),"")),1,,,"Conditions"))} -> 1 | B1: {=INDIRECT(ADDRESS(MIN(IF(Feuil1!B1<=Conditions!$C$2:$C$9,ROW(Conditions!$C$2:$C$9),"")),1,,,"Conditions"))} -> 3 | C1: {=INDIRECT(ADDRESS(MIN(IF(Feuil1!C1<=Conditions!$C$2:$C$9,ROW(Conditions!$C$2:$C$9),"")),1,,,"Conditions"))} -> 4 | D1: {=INDIRECT(ADDRESS(MIN(IF(Feuil1!D1<=Conditions!$C$2:$C$9,ROW(Conditions!$C$2:$C$9),"")),1,,,"Conditions"))} -> 0 | F1: 0 | G1: 1 | H1: 2 | I1: 3 | J1: 4 | K1: 5 | L1: 6 | M1: 7
A2: {=INDIRECT(ADDRESS(MIN(IF(Feuil1!A2<=Conditions!$C$2:$C$9,ROW(Conditions!$C$2:$C$9),"")),1,,,"Conditions"))} -> 1 | B2: {=INDIRECT(ADDRESS(MIN(IF(Feuil1!B2<=Conditions!$C$2:$C$9,ROW(Conditions!$C$2:$C$9),"")),1,,,"Conditions"))} -> 1 | C2: {=INDIRECT(ADDRESS(MIN(IF(Feuil1!C2<=Conditions!$C$2:$C$9,ROW(Conditions!$C$2:$C$9),"")),1,,,"Conditions"))} -> 1 | D2: {=INDIRECT(ADDRESS(MIN(IF(Feuil1!D2<=Conditions!$C$2:$C$9,ROW(Conditions!$C$2:$C$9),"")),1,,,"Conditions"))} -> 2 | F2: =COUNTIF($A$1:$D$25,F$1) -> 27 | G2: =COUNTIF($A$1:$D$25,G$1) -> 30 | H2: =COUNTIF($A$1:$D$25,H$1) -> 19 | I2: =COUNTIF($A$1:$D$25,I$1) -> 11 | J2: =COUNTIF($A$1:$D$25,J$1) -> 7 | K2: =COUNTIF($A$1:$D$25,K$1) -> 3 | L2: =COUNTIF($A$1:$D$25,L$1) -> 3 | M2: =COUNTIF($A$1:$D$25,M$1) -> 0
A3: {=INDIRECT(ADDRESS(MIN(IF(Feuil1!A3<=Conditions!$C$2:$C$9,ROW(Conditions!$C$2:$C$9),"")),1,,,"Conditions"))} -> 2 | B3: {=INDIRECT(ADDRESS(MIN(IF(Feuil1!B3<=Conditions!$C$2:$C$9,ROW(Conditions!$C$2:$C$9),"")),1,,,"Conditions"))} -> 3 | C3: {=INDIRECT(ADDRESS(MIN(IF(Feuil1!C3<=Conditions!$C$2:$C$9,ROW(Conditions!$C$2:$C$9),"")),1,,,"Conditions"))} -> 0 | D3: {=INDIRECT(ADDRESS(MIN(IF(Feuil1!D3<=Conditions!$C$2:$C$9,ROW(Conditions!$C$2:$C$9),"")),1,,,"Conditions"))} -> 1 | F3: =F$2/SUM($F$2:$M$2) -> 0.27 | G3: =G$2/SUM($F$2:$M$2) -> 0.3 | H3: =H$2/SUM($F$2:$M$2) -> 0.19 | I3: =I$2/SUM($F$2:$M$2) -> 0.11 | J3: =J$2/SUM($F$2:$M$2) -> 0.07 | K3: =K$2/SUM($F$2:$M$2) -> 0.03 | L3: =L$2/SUM($F$2:$M$2) -> 0.03 | M3: =M$2/SUM($F$2:$M$2) -> 0
A4: {=INDIRECT(ADDRESS(MIN(IF(Feuil1!A4<=Conditions!$C$2:$C$9,ROW(Conditions!$C$2:$C$9),"")),1,,,"Conditions"))} -> 4 | B4: {=INDIRECT(ADDRESS(MIN(IF(Feuil1!B4<=Conditions!$C$2:$C$9,ROW(Conditions!$C$2:$C$9),"")),1,,,"Conditions"))} -> 3 | C4: {=INDIRECT(ADDRESS(MIN(IF(Feuil1!C4<=Conditions!$C$2:$C$9,ROW(Conditions!$C$2:$C$9),"")),1,,,"Conditions"))} -> 2 | D4: {=INDIRECT(ADDRESS(MIN(IF(Feuil1!D4<=Conditions!$C$2:$C$9,ROW(Conditions!$C$2:$C$9),"")),1,,,"Conditions"))} -> 2
A5: {=INDIRECT(ADDRESS(MIN(IF(Feuil1!A5<=Conditions!$C$2:$C$9,ROW(Conditions!$C$2:$C$9),"")),1,,,"Conditions"))} -> 1 | B5: {=INDIRECT(ADDRESS(MIN(IF(Feuil1!B5<=Conditions!$C$2:$C$9,ROW(Conditions!$C$2:$C$9),"")),1,,,"Conditions"))} -> 1 | C5: {=INDIRECT(ADDRESS(MIN(IF(Feuil1!C5<=Conditions!$C$2:$C$9,ROW(Conditions!$C$2:$C$9),"")),1,,,"Conditions"))} -> 0 | D5: {=INDIRECT(ADDRESS(MIN(IF(Feuil1!D5<=Conditions!$C$2:$C$9,ROW(Conditions!$C$2:$C$9),"")),1,,,"Conditions"))} -> 0
A6: {=INDIRECT(ADDRESS(MIN(IF(Feuil1!A6<=Conditions!$C$2:$C$9,ROW(Conditions!$C$2:$C$9),"")),1,,,"Conditions"))} -> 4 | B6: {=INDIRECT(ADDRESS(MIN(IF(Feuil1!B6<=Conditions!$C$2:$C$9,ROW(Conditions!$C$2:$C$9),"")),1,,,"Conditions"))} -> 0 | C6: {=INDIRECT(ADDRESS(MIN(IF(Feuil1!C6<=Conditions!$C$2:$C$9,ROW(Conditions!$C$2:$C$9),"")),1,,,"Conditions"))} -> 1 | D6: {=INDIRECT(ADDRESS(MIN(IF(Feuil1!D6<=Conditions!$C$2:$C$9,ROW(Conditions!$C$2:$C$9),"")),1,,,"Conditions"))} -> 0
A7: {=INDIRECT(ADDRESS(MIN(IF(Feuil1!A7<=Conditions!$C$2:$C$9,ROW(Conditions!$C$2:$C$9),"")),1,,,"Conditions"))} -> 0 | B7: {=INDIRECT(ADDRESS(MIN(IF(Feuil1!B7<=Conditions!$C$2:$C$9,ROW(Conditions!$C$2:$C$9),"")),1,,,"Conditions"))} -> 6 | C7: {=INDIRECT(ADDRESS(MIN(IF(Feuil1!C7<=Conditions!$C$2:$C$9,ROW(Conditions!$C$2:$C$9),"")),1,,,"Conditions"))} -> 0 | D7: {=INDIRECT(ADDRESS(MIN(IF(Feuil1!D7<=Conditions!$C$2:$C$9,ROW(Conditions!$C$2:$C$9),"")),1,,,"Conditions"))} -> 2
A8: {=INDIRECT(ADDRESS(MIN(IF(Feuil1!A8<=Conditions!$C$2:$C$9,ROW(Conditions!$C$2:$C$9),"")),1,,,"Conditions"))} -> 1 | B8: {=INDIRECT(ADDRESS(MIN(IF(Feuil1!B8<=Conditions!$C$2:$C$9,ROW(Conditions!$C$2:$C$9),"")),1,,,"Conditions"))} -> 2 | C8: {=INDIRECT(ADDRESS(MIN(IF(Feuil1!C8<=Conditions!$C$2:$C$9,ROW(Conditions!$C$2:$C$9),"")),1,,,"Conditions"))} -> 2 | D8: {=INDIRECT(ADDRESS(MIN(IF(Feuil1!D8<=Conditions!$C$2:$C$9,ROW(Conditions!$C$2:$C$9),"")),1,,,"Conditions"))} -> 1
A9: {=INDIRECT(ADDRESS(MIN(IF(Feuil1!A9<=Conditions!$C$2:$C$9,ROW(Conditions!$C$2:$C$9),"")),1,,,"Conditions"))} -> 0 | B9: {=INDIRECT(ADDRESS(MIN(IF(Feuil1!B9<=Conditions!$C$2:$C$9,ROW(Conditions!$C$2:$C$9),"")),1,,,"Conditions"))} -> 0 | C9: {=INDIRECT(ADDRESS(MIN(IF(Feuil1!C9<=Conditions!$C$2:$C$9,ROW(Conditions!$C$2:$C$9),"")),1,,,"Conditions"))} -> 2 | D9: {=INDIRECT(ADDRESS(MIN(IF(Feuil1!D9<=Conditions!$C$2:$C$9,ROW(Conditions!$C$2:$C$9),"")),1,,,"Conditions"))} -> 1
A10: {=INDIRECT(ADDRESS(MIN(IF(Feuil1!A10<=Conditions!$C$2:$C$9,ROW(Conditions!$C$2:$C$9),"")),1,,,"Conditions"))} -> 0 | B10: {=INDIRECT(ADDRESS(MIN(IF(Feuil1!B10<=Conditions!$C$2:$C$9,ROW(Conditions!$C$2:$C$9),"")),1,,,"Conditions"))} -> 6 | C10: {=INDIRECT(ADDRESS(MIN(IF(Feuil1!C10<=Conditions!$C$2:$C$9,ROW(Conditions!$C$2:$C$9),"")),1,,,"Conditions"))} -> 0 | D10: {=INDIRECT(ADDRESS(MIN(IF(Feuil1!D10<=Conditions!$C$2:$C$9,ROW(Conditions!$C$2:$C$9),"")),1,,,"Conditions"))} -> 0
A11: {=INDIRECT(ADDRESS(MIN(IF(Feuil1!A11<=Conditions!$C$2:$C$9,ROW(Conditions!$C$2:$C$9),"")),1,,,"Conditions"))} -> 0 | B11: {=INDIRECT(ADDRESS(MIN(IF(Feuil1!B11<=Conditions!$C$2:$C$9,ROW(Conditions!$C$2:$C$9),"")),1,,,"Conditions"))} -> 2 | C11: {=INDIRECT(ADDRESS(MIN(IF(Feuil1!C11<=Conditions!$C$2:$C$9,ROW(Conditions!$C$2:$C$9),"")),1,,,"Conditions"))} -> 1 | D11: {=INDIRECT(ADDRESS(MIN(IF(Feuil1!D11<=Conditions!$C$2:$C$9,ROW(Conditions!$C$2:$C$9),"")),1,,,"Conditions"))} -> 3
A12: {=INDIRECT(ADDRESS(MIN(IF(Feuil1!A12<=Conditions!$C$2:$C$9,ROW(Conditions!$C$2:$C$9),"")),1,,,"Conditions"))} -> 1 | B12: {=INDIRECT(ADDRESS(MIN(IF(Feuil1!B12<=Conditions!$C$2:$C$9,ROW(Conditions!$C$2:$C$9),"")),1,,,"Conditions"))} -> 2 | C12: {=INDIRECT(ADDRESS(MIN(IF(Feuil1!C12<=Conditions!$C$2:$C$9,ROW(Conditions!$C$2:$C$9),"")),1,,,"Conditions"))} -> 1 | D12: {=INDIRECT(ADDRESS(MIN(IF(Feuil1!D12<=Conditions!$C$2:$C$9,ROW(Conditions!$C$2:$C$9),"")),1,,,"Conditions"))} -> 2
A13: {=INDIRECT(ADDRESS(MIN(IF(Feuil1!A13<=Conditions!$C$2:$C$9,ROW(Conditions!$C$2:$C$9),"")),1,,,"Conditions"))} -> 2 | B13: {=INDIRECT(ADDRESS(MIN(IF(Feuil1!B13<=Conditions!$C$2:$C$9,ROW(Conditions!$C$2:$C$9),"")),1,,,"Conditions"))} -> 3 | C13: {=INDIRECT(ADDRESS(MIN(IF(Feuil1!C13<=Conditions!$C$2:$C$9,ROW(Conditions!$C$2:$C$9),"")),1,,,"Conditions"))} -> 4 | D13: {=INDIRECT(ADDRESS(MIN(IF(Feuil1!D13<=Conditions!$C$2:$C$9,ROW(Conditions!$C$2:$C$9),"")),1,,,"Conditions"))} -> 1
A14: {=INDIRECT(ADDRESS(MIN(IF(Feuil1!A14<=Conditions!$C$2:$C$9,ROW(Conditions!$C$2:$C$9),"")),1,,,"Conditions"))} -> 1 | B14: {=INDIRECT(ADDRESS(MIN(IF(Feuil1!B14<=Conditions!$C$2:$C$9,ROW(Conditions!$C$2:$C$9),"")),1,,,"Conditions"))} -> 0 | C14: {=INDIRECT(ADDRESS(MIN(IF(Feuil1!C14<=Conditions!$C$2:$C$9,ROW(Conditions!$C$2:$C$9),"")),1,,,"Conditions"))} -> 0 | D14: {=INDIRECT(ADDRESS(MIN(IF(Feuil1!D14<=Conditions!$C$2:$C$9,ROW(Conditions!$C$2:$C$9),"")),1,,,"Conditions"))} -> 2
A15: {=INDIRECT(ADDRESS(MIN(IF(Feuil1!A15<=Conditions!$C$2:$C$9,ROW(Conditions!$C$2:$C$9),"")),1,,,"Conditions"))} -> 5 | B15: {=INDIRECT(ADDRESS(MIN(IF(Feuil1!B15<=Conditions!$C$2:$C$9,ROW(Conditions!$C$2:$C$9),"")),1,,,"Conditions"))} -> 2 | C15: {=INDIRECT(ADDRESS(MIN(IF(Feuil1!C15<=Conditions!$C$2:$C$9,ROW(Conditions!$C$2:$C$9),"")),1,,,"Conditions"))} -> 3 | D15: {=INDIRECT(ADDRESS(MIN(IF(Feuil1!D15<=Conditions!$C$2:$C$9,ROW(Conditions!$C$2:$C$9),"")),1,,,"Conditions"))} -> 6
... A25: {=INDIRECT(ADDRESS(MIN(IF(Feuil1!A25<=Conditions!$C$2:$C$9,ROW(Conditions!$C$2:$C$9),"")),1,,,"Conditions"))} -> 1 | B25: {=INDIRECT(ADDRESS(MIN(IF(Feuil1!B25<=Conditions!$C$2:$C$9,ROW(Conditions!$C$2:$C$9),"")),1,,,"Conditions"))} -> 2 | C25: {=INDIRECT(ADDRESS(MIN(IF(Feuil1!C25<=Conditions!$C$2:$C$9,ROW(Conditions!$C$2:$C$9),"")),1,,,"Conditions"))} -> 2 | D25: {=INDIRECT(ADDRESS(MIN(IF(Feuil1!D25<=Conditions!$C$2:$C$9,ROW(Conditions!$C$2:$C$9),"")),1,,,"Conditions"))} -> 1

Sheet Conditions
A1: Valeur | B1: Probabilité | C1: Borne
A2: 7 | B2: 1 | C2: =B2 -> 1
A3: 6 | B3: 1 | C3: =B3+C2 -> 2
A4: 5 | B4: 3 | C4: =B4+C3 -> 5
A5: 4 | B5: 5 | C5: =B5+C4 -> 10
A6: 3 | B6: 10 | C6: =B6+C5 -> 20
A7: 2 | B7: 20 | C7: =B7+C6 -> 40
A8: 1 | B8: 35 | C8: =B8+C7 -> 75
A9: 0 | B9: 25 | C9: =B9+C8 -> 100
