Workbook

Sheet detail
A1: Agences | B1: Numeros | C1: Identifiant | D1: Nom | E1: Prénom | F1: Solde | G1: Sens | H1: Variation
A2: 1 | B2: 4580 | C2: 88 | D2: bonaventure | E2: ralph | F2: 9867 | G2: C | H2: 8437
A3: 1 | B3: 4587 | C3: 40 | D3: Stalone | E3: dutti | F3: 5585 | G3: D | H3: 6924
A4: 1 | B4: 3560 | C4: 100 | D4: rombo | E4: jusis | F4: 4411 | G4: C | H4: 2780
A5: 2 | B5: 2582 | C5: 46 | D5: reaction | E5: jino | F5: 9668 | G5: C | H5: 803
A6: 2 | B6: 3311 | C6: 26 | D6: malcom | E6: rengalnd | F6: 2056 | G6: C | H6: 7794
A7: 2 | B7: 2555 | C7: 44 | D7: andrea | E7: britain | F7: 2730 | G7: D | H7: 7638
A8: 2 | B8: 600 | C8: 35 | D8: marco | E8: assenso | F8: 6469 | G8: D | H8: 4453
A9: 5 | B9: 7000 | C9: 93 | D9: boualem | E9: messi | F9: 7233 | G9: D | H9: 4254
A10: 5 | B10: 8510 | C10: 63 | D10: tahar | E10: ronaldo | F10: 8679 | G10: C | H10: 4162
A11: 5 | B11: 9500 | C11: 29 | D11: michel | E11: khorchef | F11: 5571 | G11: C | H11: 4684
A12: 7 | B12: 6112 | C12: 53 | D12: momo | E12: krambit | F12: 9796 | G12: C | H12: 1967
A13: 7 | B13: 5966 | C13: 43 | D13: daniel | E13: chelada | F13: 8179 | G13: C | H13: 4030
... A20: 9 | B20: 6118 | C20: 81 | D20: martin | E20: king | F20: 5067 | G20: D | H20: 6347

Sheet TDB
D1: TABLEAU DE SUIVI 2019
A2: Agence | B2: 8
A4: Agences | B4: Numeros | C4: Identifiant | D4: Nom | E4: Prénom | F4: Solde | G4: Sens | H4: Variation
A5: {=IFERROR(INDEX(detail!A$2:A$30,SMALL(IF(detail!$A$2:$A$30=$B$2,ROW(detail!$A$2:$A$30)-1),ROWS($1:1))),"")} -> 8 | B5: {=IFERROR(INDEX(detail!B$2:B$30,SMALL(IF(detail!$A$2:$A$30=$B$2,ROW(detail!$A$2:$A$30)-1),ROWS($1:1))),"")} -> 5952 | C5: {=IFERROR(INDEX(detail!C$2:C$30,SMALL(IF(detail!$A$2:$A$30=$B$2,ROW(detail!$A$2:$A$30)-1),ROWS($1:1))),"")} -> 88 | D5: {=IFERROR(INDEX(detail!D$2:D$30,SMALL(IF(detail!$A$2:$A$30=$B$2,ROW(detail!$A$2:$A$30)-1),ROWS($1:1))),"")} -> alpha | E5: {=IFERROR(INDEX(detail!E$2:E$30,SMALL(IF(detail!$A$2:$A$30=$B$2,ROW(detail!$A$2:$A$30)-1),ROWS($1:1))),"")} -> macon | F5: {=IFERROR(INDEX(detail!F$2:F$30,SMALL(IF(detail!$A$2:$A$30=$B$2,ROW(detail!$A$2:$A$30)-1),ROWS($1:1))),"")} -> 3334 | G5: {=IFERROR(INDEX(detail!G$2:G$30,SMALL(IF(detail!$A$2:$A$30=$B$2,ROW(detail!$A$2:$A$30)-1),ROWS($1:1))),"")} -> D | H5: {=IFERROR(INDEX(detail!H$2:H$30,SMALL(IF(detail!$A$2:$A$30=$B$2,ROW(detail!$A$2:$A$30)-1),ROWS($1:1))),"")} -> 7375
A6: {=IFERROR(INDEX(detail!A$2:A$30,SMALL(IF(detail!$A$2:$A$30=$B$2,ROW(detail!$A$2:$A$30)-1),ROWS($1:2))),"")} -> 8 | B6: {=IFERROR(INDEX(detail!B$2:B$30,SMALL(IF(detail!$A$2:$A$30=$B$2,ROW(detail!$A$2:$A$30)-1),ROWS($1:2))),"")} -> 5947 | C6: {=IFERROR(INDEX(detail!C$2:C$30,SMALL(IF(detail!$A$2:$A$30=$B$2,ROW(detail!$A$2:$A$30)-1),ROWS($1:2))),"")} -> 64 | D6: {=IFERROR(INDEX(detail!D$2:D$30,SMALL(IF(detail!$A$2:$A$30=$B$2,ROW(detail!$A$2:$A$30)-1),ROWS($1:2))),"")} -> jhon | E6: {=IFERROR(INDEX(detail!E$2:E$30,SMALL(IF(detail!$A$2:$A$30=$B$2,ROW(detail!$A$2:$A$30)-1),ROWS($1:2))),"")} -> minino | F6: {=IFERROR(INDEX(detail!F$2:F$30,SMALL(IF(detail!$A$2:$A$30=$B$2,ROW(detail!$A$2:$A$30)-1),ROWS($1:2))),"")} -> 7770 | G6: {=IFERROR(INDEX(detail!G$2:G$30,SMALL(IF(detail!$A$2:$A$30=$B$2,ROW(detail!$A$2:$A$30)-1),ROWS($1:2))),"")} -> D | H6: {=IFERROR(INDEX(detail!H$2:H$30,SMALL(IF(detail!$A$2:$A$30=$B$2,ROW(detail!$A$2:$A$30)-1),ROWS($1:2))),"")} -> 4957
A7: {=IFERROR(INDEX(detail!A$2:A$30,SMALL(IF(detail!$A$2:$A$30=$B$2,ROW(detail!$A$2:$A$30)-1),ROWS($1:3))),"")} -> 8 | B7: {=IFERROR(INDEX(detail!B$2:B$30,SMALL(IF(detail!$A$2:$A$30=$B$2,ROW(detail!$A$2:$A$30)-1),ROWS($1:3))),"")} -> 6040 | C7: {=IFERROR(INDEX(detail!C$2:C$30,SMALL(IF(detail!$A$2:$A$30=$B$2,ROW(detail!$A$2:$A$30)-1),ROWS($1:3))),"")} -> 74 | D7: {=IFERROR(INDEX(detail!D$2:D$30,SMALL(IF(detail!$A$2:$A$30=$B$2,ROW(detail!$A$2:$A$30)-1),ROWS($1:3))),"")} -> guillaum | E7: {=IFERROR(INDEX(detail!E$2:E$30,SMALL(IF(detail!$A$2:$A$30=$B$2,ROW(detail!$A$2:$A$30)-1),ROWS($1:3))),"")} -> gentil | F7: {=IFERROR(INDEX(detail!F$2:F$30,SMALL(IF(detail!$A$2:$A$30=$B$2,ROW(detail!$A$2:$A$30)-1),ROWS($1:3))),"")} -> 8481 | G7: {=IFERROR(INDEX(detail!G$2:G$30,SMALL(IF(detail!$A$2:$A$30=$B$2,ROW(detail!$A$2:$A$30)-1),ROWS($1:3))),"")} -> C | H7: {=IFERROR(INDEX(detail!H$2:H$30,SMALL(IF(detail!$A$2:$A$30=$B$2,ROW(detail!$A$2:$A$30)-1),ROWS($1:3))),"")} -> 2704
A8: {=IFERROR(INDEX(detail!A$2:A$30,SMALL(IF(detail!$A$2:$A$30=$B$2,ROW(detail!$A$2:$A$30)-1),ROWS($1:4))),"")} -> 8 | B8: {=IFERROR(INDEX(detail!B$2:B$30,SMALL(IF(detail!$A$2:$A$30=$B$2,ROW(detail!$A$2:$A$30)-1),ROWS($1:4))),"")} -> 6145 | C8: {=IFERROR(INDEX(detail!C$2:C$30,SMALL(IF(detail!$A$2:$A$30=$B$2,ROW(detail!$A$2:$A$30)-1),ROWS($1:4))),"")} -> 97 | D8: {=IFERROR(INDEX(detail!D$2:D$30,SMALL(IF(detail!$A$2:$A$30=$B$2,ROW(detail!$A$2:$A$30)-1),ROWS($1:4))),"")} -> antonio | E8: {=IFERROR(INDEX(detail!E$2:E$30,SMALL(IF(detail!$A$2:$A$30=$B$2,ROW(detail!$A$2:$A$30)-1),ROWS($1:4))),"")} -> beau | F8: {=IFERROR(INDEX(detail!F$2:F$30,SMALL(IF(detail!$A$2:$A$30=$B$2,ROW(detail!$A$2:$A$30)-1),ROWS($1:4))),"")} -> 3765 | G8: {=IFERROR(INDEX(detail!G$2:G$30,SMALL(IF(detail!$A$2:$A$30=$B$2,ROW(detail!$A$2:$A$30)-1),ROWS($1:4))),"")} -> D | H8: {=IFERROR(INDEX(detail!H$2:H$30,SMALL(IF(detail!$A$2:$A$30=$B$2,ROW(detail!$A$2:$A$30)-1),ROWS($1:4))),"")} -> 5901
A9: {=IFERROR(INDEX(detail!A$2:A$30,SMALL(IF(detail!$A$2:$A$30=$B$2,ROW(detail!$A$2:$A$30)-1),ROWS($1:5))),"")} | B9: {=IFERROR(INDEX(detail!B$2:B$30,SMALL(IF(detail!$A$2:$A$30=$B$2,ROW(detail!$A$2:$A$30)-1),ROWS($1:5))),"")} | C9: {=IFERROR(INDEX(detail!C$2:C$30,SMALL(IF(detail!$A$2:$A$30=$B$2,ROW(detail!$A$2:$A$30)-1),ROWS($1:5))),"")} | D9: {=IFERROR(INDEX(detail!D$2:D$30,SMALL(IF(detail!$A$2:$A$30=$B$2,ROW(detail!$A$2:$A$30)-1),ROWS($1:5))),"")} | E9: {=IFERROR(INDEX(detail!E$2:E$30,SMALL(IF(detail!$A$2:$A$30=$B$2,ROW(detail!$A$2:$A$30)-1),ROWS($1:5))),"")} | F9: {=IFERROR(INDEX(detail!F$2:F$30,SMALL(IF(detail!$A$2:$A$30=$B$2,ROW(detail!$A$2:$A$30)-1),ROWS($1:5))),"")} | G9: {=IFERROR(INDEX(detail!G$2:G$30,SMALL(IF(detail!$A$2:$A$30=$B$2,ROW(detail!$A$2:$A$30)-1),ROWS($1:5))),"")} | H9: {=IFERROR(INDEX(detail!H$2:H$30,SMALL(IF(detail!$A$2:$A$30=$B$2,ROW(detail!$A$2:$A$30)-1),ROWS($1:5))),"")}
A10: {=IFERROR(INDEX(detail!A$2:A$30,SMALL(IF(detail!$A$2:$A$30=$B$2,ROW(detail!$A$2:$A$30)-1),ROWS($1:6))),"")} | B10: {=IFERROR(INDEX(detail!B$2:B$30,SMALL(IF(detail!$A$2:$A$30=$B$2,ROW(detail!$A$2:$A$30)-1),ROWS($1:6))),"")} | C10: {=IFERROR(INDEX(detail!C$2:C$30,SMALL(IF(detail!$A$2:$A$30=$B$2,ROW(detail!$A$2:$A$30)-1),ROWS($1:6))),"")} | D10: {=IFERROR(INDEX(detail!D$2:D$30,SMALL(IF(detail!$A$2:$A$30=$B$2,ROW(detail!$A$2:$A$30)-1),ROWS($1:6))),"")} | E10: {=IFERROR(INDEX(detail!E$2:E$30,SMALL(IF(detail!$A$2:$A$30=$B$2,ROW(detail!$A$2:$A$30)-1),ROWS($1:6))),"")} | F10: {=IFERROR(INDEX(detail!F$2:F$30,SMALL(IF(detail!$A$2:$A$30=$B$2,ROW(detail!$A$2:$A$30)-1),ROWS($1:6))),"")} | G10: {=IFERROR(INDEX(detail!G$2:G$30,SMALL(IF(detail!$A$2:$A$30=$B$2,ROW(detail!$A$2:$A$30)-1),ROWS($1:6))),"")} | H10: {=IFERROR(INDEX(detail!H$2:H$30,SMALL(IF(detail!$A$2:$A$30=$B$2,ROW(detail!$A$2:$A$30)-1),ROWS($1:6))),"")}
A11: {=IFERROR(INDEX(detail!A$2:A$30,SMALL(IF(detail!$A$2:$A$30=$B$2,ROW(detail!$A$2:$A$30)-1),ROWS($1:7))),"")} | B11: {=IFERROR(INDEX(detail!B$2:B$30,SMALL(IF(detail!$A$2:$A$30=$B$2,ROW(detail!$A$2:$A$30)-1),ROWS($1:7))),"")} | C11: {=IFERROR(INDEX(detail!C$2:C$30,SMALL(IF(detail!$A$2:$A$30=$B$2,ROW(detail!$A$2:$A$30)-1),ROWS($1:7))),"")} | D11: {=IFERROR(INDEX(detail!D$2:D$30,SMALL(IF(detail!$A$2:$A$30=$B$2,ROW(detail!$A$2:$A$30)-1),ROWS($1:7))),"")} | E11: {=IFERROR(INDEX(detail!E$2:E$30,SMALL(IF(detail!$A$2:$A$30=$B$2,ROW(detail!$A$2:$A$30)-1),ROWS($1:7))),"")} | F11: {=IFERROR(INDEX(detail!F$2:F$30,SMALL(IF(detail!$A$2:$A$30=$B$2,ROW(detail!$A$2:$A$30)-1),ROWS($1:7))),"")} | G11: {=IFERROR(INDEX(detail!G$2:G$30,SMALL(IF(detail!$A$2:$A$30=$B$2,ROW(detail!$A$2:$A$30)-1),ROWS($1:7))),"")} | H11: {=IFERROR(INDEX(detail!H$2:H$30,SMALL(IF(detail!$A$2:$A$30=$B$2,ROW(detail!$A$2:$A$30)-1),ROWS($1:7))),"")}
A12: {=IFERROR(INDEX(detail!A$2:A$30,SMALL(IF(detail!$A$2:$A$30=$B$2,ROW(detail!$A$2:$A$30)-1),ROWS($1:8))),"")} | B12: {=IFERROR(INDEX(detail!B$2:B$30,SMALL(IF(detail!$A$2:$A$30=$B$2,ROW(detail!$A$2:$A$30)-1),ROWS($1:8))),"")} | C12: {=IFERROR(INDEX(detail!C$2:C$30,SMALL(IF(detail!$A$2:$A$30=$B$2,ROW(detail!$A$2:$A$30)-1),ROWS($1:8))),"")} | D12: {=IFERROR(INDEX(detail!D$2:D$30,SMALL(IF(detail!$A$2:$A$30=$B$2,ROW(detail!$A$2:$A$30)-1),ROWS($1:8))),"")} | E12: {=IFERROR(INDEX(detail!E$2:E$30,SMALL(IF(detail!$A$2:$A$30=$B$2,ROW(detail!$A$2:$A$30)-1),ROWS($1:8))),"")} | F12: {=IFERROR(INDEX(detail!F$2:F$30,SMALL(IF(detail!$A$2:$A$30=$B$2,ROW(detail!$A$2:$A$30)-1),ROWS($1:8))),"")} | G12: {=IFERROR(INDEX(detail!G$2:G$30,SMALL(IF(detail!$A$2:$A$30=$B$2,ROW(detail!$A$2:$A$30)-1),ROWS($1:8))),"")} | H12: {=IFERROR(INDEX(detail!H$2:H$30,SMALL(IF(detail!$A$2:$A$30=$B$2,ROW(detail!$A$2:$A$30)-1),ROWS($1:8))),"")}
A13: {=IFERROR(INDEX(detail!A$2:A$30,SMALL(IF(detail!$A$2:$A$30=$B$2,ROW(detail!$A$2:$A$30)-1),ROWS($1:9))),"")} | B13: {=IFERROR(INDEX(detail!B$2:B$30,SMALL(IF(detail!$A$2:$A$30=$B$2,ROW(detail!$A$2:$A$30)-1),ROWS($1:9))),"")} | C13: {=IFERROR(INDEX(detail!C$2:C$30,SMALL(IF(detail!$A$2:$A$30=$B$2,ROW(detail!$A$2:$A$30)-1),ROWS($1:9))),"")} | D13: {=IFERROR(INDEX(detail!D$2:D$30,SMALL(IF(detail!$A$2:$A$30=$B$2,ROW(detail!$A$2:$A$30)-1),ROWS($1:9))),"")} | E13: {=IFERROR(INDEX(detail!E$2:E$30,SMALL(IF(detail!$A$2:$A$30=$B$2,ROW(detail!$A$2:$A$30)-1),ROWS($1:9))),"")} | F13: {=IFERROR(INDEX(detail!F$2:F$30,SMALL(IF(detail!$A$2:$A$30=$B$2,ROW(detail!$A$2:$A$30)-1),ROWS($1:9))),"")} | G13: {=IFERROR(INDEX(detail!G$2:G$30,SMALL(IF(detail!$A$2:$A$30=$B$2,ROW(detail!$A$2:$A$30)-1),ROWS($1:9))),"")} | H13: {=IFERROR(INDEX(detail!H$2:H$30,SMALL(IF(detail!$A$2:$A$30=$B$2,ROW(detail!$A$2:$A$30)-1),ROWS($1:9))),"")}
A14: {=IFERROR(INDEX(detail!A$2:A$30,SMALL(IF(detail!$A$2:$A$30=$B$2,ROW(detail!$A$2:$A$30)-1),ROWS($1:10))),"")} | B14: {=IFERROR(INDEX(detail!B$2:B$30,SMALL(IF(detail!$A$2:$A$30=$B$2,ROW(detail!$A$2:$A$30)-1),ROWS($1:10))),"")} | C14: {=IFERROR(INDEX(detail!C$2:C$30,SMALL(IF(detail!$A$2:$A$30=$B$2,ROW(detail!$A$2:$A$30)-1),ROWS($1:10))),"")} | D14: {=IFERROR(INDEX(detail!D$2:D$30,SMALL(IF(detail!$A$2:$A$30=$B$2,ROW(detail!$A$2:$A$30)-1),ROWS($1:10))),"")} | E14: {=IFERROR(INDEX(detail!E$2:E$30,SMALL(IF(detail!$A$2:$A$30=$B$2,ROW(detail!$A$2:$A$30)-1),ROWS($1:10))),"")} | F14: {=IFERROR(INDEX(detail!F$2:F$30,SMALL(IF(detail!$A$2:$A$30=$B$2,ROW(detail!$A$2:$A$30)-1),ROWS($1:10))),"")} | G14: {=IFERROR(INDEX(detail!G$2:G$30,SMALL(IF(detail!$A$2:$A$30=$B$2,ROW(detail!$A$2:$A$30)-1),ROWS($1:10))),"")} | H14: {=IFERROR(INDEX(detail!H$2:H$30,SMALL(IF(detail!$A$2:$A$30=$B$2,ROW(detail!$A$2:$A$30)-1),ROWS($1:10))),"")}
A15: {=IFERROR(INDEX(detail!A$2:A$30,SMALL(IF(detail!$A$2:$A$30=$B$2,ROW(detail!$A$2:$A$30)-1),ROWS($1:11))),"")} | B15: {=IFERROR(INDEX(detail!B$2:B$30,SMALL(IF(detail!$A$2:$A$30=$B$2,ROW(detail!$A$2:$A$30)-1),ROWS($1:11))),"")} | C15: {=IFERROR(INDEX(detail!C$2:C$30,SMALL(IF(detail!$A$2:$A$30=$B$2,ROW(detail!$A$2:$A$30)-1),ROWS($1:11))),"")} | D15: {=IFERROR(INDEX(detail!D$2:D$30,SMALL(IF(detail!$A$2:$A$30=$B$2,ROW(detail!$A$2:$A$30)-1),ROWS($1:11))),"")} | E15: {=IFERROR(INDEX(detail!E$2:E$30,SMALL(IF(detail!$A$2:$A$30=$B$2,ROW(detail!$A$2:$A$30)-1),ROWS($1:11))),"")} | F15: {=IFERROR(INDEX(detail!F$2:F$30,SMALL(IF(detail!$A$2:$A$30=$B$2,ROW(detail!$A$2:$A$30)-1),ROWS($1:11))),"")} | G15: {=IFERROR(INDEX(detail!G$2:G$30,SMALL(IF(detail!$A$2:$A$30=$B$2,ROW(detail!$A$2:$A$30)-1),ROWS($1:11))),"")} | H15: {=IFERROR(INDEX(detail!H$2:H$30,SMALL(IF(detail!$A$2:$A$30=$B$2,ROW(detail!$A$2:$A$30)-1),ROWS($1:11))),"")}
A16: {=IFERROR(INDEX(detail!A$2:A$30,SMALL(IF(detail!$A$2:$A$30=$B$2,ROW(detail!$A$2:$A$30)-1),ROWS($1:12))),"")} | B16: {=IFERROR(INDEX(detail!B$2:B$30,SMALL(IF(detail!$A$2:$A$30=$B$2,ROW(detail!$A$2:$A$30)-1),ROWS($1:12))),"")} | C16: {=IFERROR(INDEX(detail!C$2:C$30,SMALL(IF(detail!$A$2:$A$30=$B$2,ROW(detail!$A$2:$A$30)-1),ROWS($1:12))),"")} | D16: {=IFERROR(INDEX(detail!D$2:D$30,SMALL(IF(detail!$A$2:$A$30=$B$2,ROW(detail!$A$2:$A$30)-1),ROWS($1:12))),"")} | E16: {=IFERROR(INDEX(detail!E$2:E$30,SMALL(IF(detail!$A$2:$A$30=$B$2,ROW(detail!$A$2:$A$30)-1),ROWS($1:12))),"")} | F16: {=IFERROR(INDEX(detail!F$2:F$30,SMALL(IF(detail!$A$2:$A$30=$B$2,ROW(detail!$A$2:$A$30)-1),ROWS($1:12))),"")} | G16: {=IFERROR(INDEX(detail!G$2:G$30,SMALL(IF(detail!$A$2:$A$30=$B$2,ROW(detail!$A$2:$A$30)-1),ROWS($1:12))),"")} | H16: {=IFERROR(INDEX(detail!H$2:H$30,SMALL(IF(detail!$A$2:$A$30=$B$2,ROW(detail!$A$2:$A$30)-1),ROWS($1:12))),"")}
A17: {=IFERROR(INDEX(detail!A$2:A$30,SMALL(IF(detail!$A$2:$A$30=$B$2,ROW(detail!$A$2:$A$30)-1),ROWS($1:13))),"")} | B17: {=IFERROR(INDEX(detail!B$2:B$30,SMALL(IF(detail!$A$2:$A$30=$B$2,ROW(detail!$A$2:$A$30)-1),ROWS($1:13))),"")} | C17: {=IFERROR(INDEX(detail!C$2:C$30,SMALL(IF(detail!$A$2:$A$30=$B$2,ROW(detail!$A$2:$A$30)-1),ROWS($1:13))),"")} | D17: {=IFERROR(INDEX(detail!D$2:D$30,SMALL(IF(detail!$A$2:$A$30=$B$2,ROW(detail!$A$2:$A$30)-1),ROWS($1:13))),"")} | E17: {=IFERROR(INDEX(detail!E$2:E$30,SMALL(IF(detail!$A$2:$A$30=$B$2,ROW(detail!$A$2:$A$30)-1),ROWS($1:13))),"")} | F17: {=IFERROR(INDEX(detail!F$2:F$30,SMALL(IF(detail!$A$2:$A$30=$B$2,ROW(detail!$A$2:$A$30)-1),ROWS($1:13))),"")} | G17: {=IFERROR(INDEX(detail!G$2:G$30,SMALL(IF(detail!$A$2:$A$30=$B$2,ROW(detail!$A$2:$A$30)-1),ROWS($1:13))),"")} | H17: {=IFERROR(INDEX(detail!H$2:H$30,SMALL(IF(detail!$A$2:$A$30=$B$2,ROW(detail!$A$2:$A$30)-1),ROWS($1:13))),"")}
A18: {=IFERROR(INDEX(detail!A$2:A$30,SMALL(IF(detail!$A$2:$A$30=$B$2,ROW(detail!$A$2:$A$30)-1),ROWS($1:14))),"")} | B18: {=IFERROR(INDEX(detail!B$2:B$30,SMALL(IF(detail!$A$2:$A$30=$B$2,ROW(detail!$A$2:$A$30)-1),ROWS($1:14))),"")} | C18: {=IFERROR(INDEX(detail!C$2:C$30,SMALL(IF(detail!$A$2:$A$30=$B$2,ROW(detail!$A$2:$A$30)-1),ROWS($1:14))),"")} | D18: {=IFERROR(INDEX(detail!D$2:D$30,SMALL(IF(detail!$A$2:$A$30=$B$2,ROW(detail!$A$2:$A$30)-1),ROWS($1:14))),"")} | E18: {=IFERROR(INDEX(detail!E$2:E$30,SMALL(IF(detail!$A$2:$A$30=$B$2,ROW(detail!$A$2:$A$30)-1),ROWS($1:14))),"")} | F18: {=IFERROR(INDEX(detail!F$2:F$30,SMALL(IF(detail!$A$2:$A$30=$B$2,ROW(detail!$A$2:$A$30)-1),ROWS($1:14))),"")} | G18: {=IFERROR(INDEX(detail!G$2:G$30,SMALL(IF(detail!$A$2:$A$30=$B$2,ROW(detail!$A$2:$A$30)-1),ROWS($1:14))),"")} | H18: {=IFERROR(INDEX(detail!H$2:H$30,SMALL(IF(detail!$A$2:$A$30=$B$2,ROW(detail!$A$2:$A$30)-1),ROWS($1:14))),"")}
A19: {=IFERROR(INDEX(detail!A$2:A$30,SMALL(IF(detail!$A$2:$A$30=$B$2,ROW(detail!$A$2:$A$30)-1),ROWS($1:15))),"")} | B19: {=IFERROR(INDEX(detail!B$2:B$30,SMALL(IF(detail!$A$2:$A$30=$B$2,ROW(detail!$A$2:$A$30)-1),ROWS($1:15))),"")} | C19: {=IFERROR(INDEX(detail!C$2:C$30,SMALL(IF(detail!$A$2:$A$30=$B$2,ROW(detail!$A$2:$A$30)-1),ROWS($1:15))),"")} | D19: {=IFERROR(INDEX(detail!D$2:D$30,SMALL(IF(detail!$A$2:$A$30=$B$2,ROW(detail!$A$2:$A$30)-1),ROWS($1:15))),"")} | E19: {=IFERROR(INDEX(detail!E$2:E$30,SMALL(IF(detail!$A$2:$A$30=$B$2,ROW(detail!$A$2:$A$30)-1),ROWS($1:15))),"")} | F19: {=IFERROR(INDEX(detail!F$2:F$30,SMALL(IF(detail!$A$2:$A$30=$B$2,ROW(detail!$A$2:$A$30)-1),ROWS($1:15))),"")} | G19: {=IFERROR(INDEX(detail!G$2:G$30,SMALL(IF(detail!$A$2:$A$30=$B$2,ROW(detail!$A$2:$A$30)-1),ROWS($1:15))),"")} | H19: {=IFERROR(INDEX(detail!H$2:H$30,SMALL(IF(detail!$A$2:$A$30=$B$2,ROW(detail!$A$2:$A$30)-1),ROWS($1:15))),"")}
A20: {=IFERROR(INDEX(detail!A$2:A$30,SMALL(IF(detail!$A$2:$A$30=$B$2,ROW(detail!$A$2:$A$30)-1),ROWS($1:16))),"")} | B20: {=IFERROR(INDEX(detail!B$2:B$30,SMALL(IF(detail!$A$2:$A$30=$B$2,ROW(detail!$A$2:$A$30)-1),ROWS($1:16))),"")} | C20: {=IFERROR(INDEX(detail!C$2:C$30,SMALL(IF(detail!$A$2:$A$30=$B$2,ROW(detail!$A$2:$A$30)-1),ROWS($1:16))),"")} | D20: {=IFERROR(INDEX(detail!D$2:D$30,SMALL(IF(detail!$A$2:$A$30=$B$2,ROW(detail!$A$2:$A$30)-1),ROWS($1:16))),"")} | E20: {=IFERROR(INDEX(detail!E$2:E$30,SMALL(IF(detail!$A$2:$A$30=$B$2,ROW(detail!$A$2:$A$30)-1),ROWS($1:16))),"")} | F20: {=IFERROR(INDEX(detail!F$2:F$30,SMALL(IF(detail!$A$2:$A$30=$B$2,ROW(detail!$A$2:$A$30)-1),ROWS($1:16))),"")} | G20: {=IFERROR(INDEX(detail!G$2:G$30,SMALL(IF(detail!$A$2:$A$30=$B$2,ROW(detail!$A$2:$A$30)-1),ROWS($1:16))),"")} | H20: {=IFERROR(INDEX(detail!H$2:H$30,SMALL(IF(detail!$A$2:$A$30=$B$2,ROW(detail!$A$2:$A$30)-1),ROWS($1:16))),"")}
A21: {=IFERROR(INDEX(detail!A$2:A$30,SMALL(IF(detail!$A$2:$A$30=$B$2,ROW(detail!$A$2:$A$30)-1),ROWS($1:17))),"")} | B21: {=IFERROR(INDEX(detail!B$2:B$30,SMALL(IF(detail!$A$2:$A$30=$B$2,ROW(detail!$A$2:$A$30)-1),ROWS($1:17))),"")} | C21: {=IFERROR(INDEX(detail!C$2:C$30,SMALL(IF(detail!$A$2:$A$30=$B$2,ROW(detail!$A$2:$A$30)-1),ROWS($1:17))),"")} | D21: {=IFERROR(INDEX(detail!D$2:D$30,SMALL(IF(detail!$A$2:$A$30=$B$2,ROW(detail!$A$2:$A$30)-1),ROWS($1:17))),"")} | E21: {=IFERROR(INDEX(detail!E$2:E$30,SMALL(IF(detail!$A$2:$A$30=$B$2,ROW(detail!$A$2:$A$30)-1),ROWS($1:17))),"")} | F21: {=IFERROR(INDEX(detail!F$2:F$30,SMALL(IF(detail!$A$2:$A$30=$B$2,ROW(detail!$A$2:$A$30)-1),ROWS($1:17))),"")} | G21: {=IFERROR(INDEX(detail!G$2:G$30,SMALL(IF(detail!$A$2:$A$30=$B$2,ROW(detail!$A$2:$A$30)-1),ROWS($1:17))),"")} | H21: {=IFERROR(INDEX(detail!H$2:H$30,SMALL(IF(detail!$A$2:$A$30=$B$2,ROW(detail!$A$2:$A$30)-1),ROWS($1:17))),"")}
A22: {=IFERROR(INDEX(detail!A$2:A$30,SMALL(IF(detail!$A$2:$A$30=$B$2,ROW(detail!$A$2:$A$30)-1),ROWS($1:18))),"")} | B22: {=IFERROR(INDEX(detail!B$2:B$30,SMALL(IF(detail!$A$2:$A$30=$B$2,ROW(detail!$A$2:$A$30)-1),ROWS($1:18))),"")} | C22: {=IFERROR(INDEX(detail!C$2:C$30,SMALL(IF(detail!$A$2:$A$30=$B$2,ROW(detail!$A$2:$A$30)-1),ROWS($1:18))),"")} | D22: {=IFERROR(INDEX(detail!D$2:D$30,SMALL(IF(detail!$A$2:$A$30=$B$2,ROW(detail!$A$2:$A$30)-1),ROWS($1:18))),"")} | E22: {=IFERROR(INDEX(detail!E$2:E$30,SMALL(IF(detail!$A$2:$A$30=$B$2,ROW(detail!$A$2:$A$30)-1),ROWS($1:18))),"")} | F22: {=IFERROR(INDEX(detail!F$2:F$30,SMALL(IF(detail!$A$2:$A$30=$B$2,ROW(detail!$A$2:$A$30)-1),ROWS($1:18))),"")} | G22: {=IFERROR(INDEX(detail!G$2:G$30,SMALL(IF(detail!$A$2:$A$30=$B$2,ROW(detail!$A$2:$A$30)-1),ROWS($1:18))),"")} | H22: {=IFERROR(INDEX(detail!H$2:H$30,SMALL(IF(detail!$A$2:$A$30=$B$2,ROW(detail!$A$2:$A$30)-1),ROWS($1:18))),"")}
A23: {=IFERROR(INDEX(detail!A$2:A$30,SMALL(IF(detail!$A$2:$A$30=$B$2,ROW(detail!$A$2:$A$30)-1),ROWS($1:19))),"")} | B23: {=IFERROR(INDEX(detail!B$2:B$30,SMALL(IF(detail!$A$2:$A$30=$B$2,ROW(detail!$A$2:$A$30)-1),ROWS($1:19))),"")} | C23: {=IFERROR(INDEX(detail!C$2:C$30,SMALL(IF(detail!$A$2:$A$30=$B$2,ROW(detail!$A$2:$A$30)-1),ROWS($1:19))),"")} | D23: {=IFERROR(INDEX(detail!D$2:D$30,SMALL(IF(detail!$A$2:$A$30=$B$2,ROW(detail!$A$2:$A$30)-1),ROWS($1:19))),"")} | E23: {=IFERROR(INDEX(detail!E$2:E$30,SMALL(IF(detail!$A$2:$A$30=$B$2,ROW(detail!$A$2:$A$30)-1),ROWS($1:19))),"")} | F23: {=IFERROR(INDEX(detail!F$2:F$30,SMALL(IF(detail!$A$2:$A$30=$B$2,ROW(detail!$A$2:$A$30)-1),ROWS($1:19))),"")} | G23: {=IFERROR(INDEX(detail!G$2:G$30,SMALL(IF(detail!$A$2:$A$30=$B$2,ROW(detail!$A$2:$A$30)-1),ROWS($1:19))),"")} | H23: {=IFERROR(INDEX(detail!H$2:H$30,SMALL(IF(detail!$A$2:$A$30=$B$2,ROW(detail!$A$2:$A$30)-1),ROWS($1:19))),"")}
A24: {=IFERROR(INDEX(detail!A$2:A$30,SMALL(IF(detail!$A$2:$A$30=$B$2,ROW(detail!$A$2:$A$30)-1),ROWS($1:20))),"")} | B24: {=IFERROR(INDEX(detail!B$2:B$30,SMALL(IF(detail!$A$2:$A$30=$B$2,ROW(detail!$A$2:$A$30)-1),ROWS($1:20))),"")} | C24: {=IFERROR(INDEX(detail!C$2:C$30,SMALL(IF(detail!$A$2:$A$30=$B$2,ROW(detail!$A$2:$A$30)-1),ROWS($1:20))),"")} | D24: {=IFERROR(INDEX(detail!D$2:D$30,SMALL(IF(detail!$A$2:$A$30=$B$2,ROW(detail!$A$2:$A$30)-1),ROWS($1:20))),"")} | E24: {=IFERROR(INDEX(detail!E$2:E$30,SMALL(IF(detail!$A$2:$A$30=$B$2,ROW(detail!$A$2:$A$30)-1),ROWS($1:20))),"")} | F24: {=IFERROR(INDEX(detail!F$2:F$30,SMALL(IF(detail!$A$2:$A$30=$B$2,ROW(detail!$A$2:$A$30)-1),ROWS($1:20))),"")} | G24: {=IFERROR(INDEX(detail!G$2:G$30,SMALL(IF(detail!$A$2:$A$30=$B$2,ROW(detail!$A$2:$A$30)-1),ROWS($1:20))),"")} | H24: {=IFERROR(INDEX(detail!H$2:H$30,SMALL(IF(detail!$A$2:$A$30=$B$2,ROW(detail!$A$2:$A$30)-1),ROWS($1:20))),"")}
A25: {=IFERROR(INDEX(detail!A$2:A$30,SMALL(IF(detail!$A$2:$A$30=$B$2,ROW(detail!$A$2:$A$30)-1),ROWS($1:21))),"")} | B25: {=IFERROR(INDEX(detail!B$2:B$30,SMALL(IF(detail!$A$2:$A$30=$B$2,ROW(detail!$A$2:$A$30)-1),ROWS($1:21))),"")} | C25: {=IFERROR(INDEX(detail!C$2:C$30,SMALL(IF(detail!$A$2:$A$30=$B$2,ROW(detail!$A$2:$A$30)-1),ROWS($1:21))),"")} | D25: {=IFERROR(INDEX(detail!D$2:D$30,SMALL(IF(detail!$A$2:$A$30=$B$2,ROW(detail!$A$2:$A$30)-1),ROWS($1:21))),"")} | E25: {=IFERROR(INDEX(detail!E$2:E$30,SMALL(IF(detail!$A$2:$A$30=$B$2,ROW(detail!$A$2:$A$30)-1),ROWS($1:21))),"")} | F25: {=IFERROR(INDEX(detail!F$2:F$30,SMALL(IF(detail!$A$2:$A$30=$B$2,ROW(detail!$A$2:$A$30)-1),ROWS($1:21))),"")} | G25: {=IFERROR(INDEX(detail!G$2:G$30,SMALL(IF(detail!$A$2:$A$30=$B$2,ROW(detail!$A$2:$A$30)-1),ROWS($1:21))),"")} | H25: {=IFERROR(INDEX(detail!H$2:H$30,SMALL(IF(detail!$A$2:$A$30=$B$2,ROW(detail!$A$2:$A$30)-1),ROWS($1:21))),"")}
A26: {=IFERROR(INDEX(detail!A$2:A$30,SMALL(IF(detail!$A$2:$A$30=$B$2,ROW(detail!$A$2:$A$30)-1),ROWS($1:22))),"")} | B26: {=IFERROR(INDEX(detail!B$2:B$30,SMALL(IF(detail!$A$2:$A$30=$B$2,ROW(detail!$A$2:$A$30)-1),ROWS($1:22))),"")} | C26: {=IFERROR(INDEX(detail!C$2:C$30,SMALL(IF(detail!$A$2:$A$30=$B$2,ROW(detail!$A$2:$A$30)-1),ROWS($1:22))),"")} | D26: {=IFERROR(INDEX(detail!D$2:D$30,SMALL(IF(detail!$A$2:$A$30=$B$2,ROW(detail!$A$2:$A$30)-1),ROWS($1:22))),"")} | E26: {=IFERROR(INDEX(detail!E$2:E$30,SMALL(IF(detail!$A$2:$A$30=$B$2,ROW(detail!$A$2:$A$30)-1),ROWS($1:22))),"")} | F26: {=IFERROR(INDEX(detail!F$2:F$30,SMALL(IF(detail!$A$2:$A$30=$B$2,ROW(detail!$A$2:$A$30)-1),ROWS($1:22))),"")} | G26: {=IFERROR(INDEX(detail!G$2:G$30,SMALL(IF(detail!$A$2:$A$30=$B$2,ROW(detail!$A$2:$A$30)-1),ROWS($1:22))),"")} | H26: {=IFERROR(INDEX(detail!H$2:H$30,SMALL(IF(detail!$A$2:$A$30=$B$2,ROW(detail!$A$2:$A$30)-1),ROWS($1:22))),"")}
A27: {=IFERROR(INDEX(detail!A$2:A$30,SMALL(IF(detail!$A$2:$A$30=$B$2,ROW(detail!$A$2:$A$30)-1),ROWS($1:23))),"")} | B27: {=IFERROR(INDEX(detail!B$2:B$30,SMALL(IF(detail!$A$2:$A$30=$B$2,ROW(detail!$A$2:$A$30)-1),ROWS($1:23))),"")} | C27: {=IFERROR(INDEX(detail!C$2:C$30,SMALL(IF(detail!$A$2:$A$30=$B$2,ROW(detail!$A$2:$A$30)-1),ROWS($1:23))),"")} | D27: {=IFERROR(INDEX(detail!D$2:D$30,SMALL(IF(detail!$A$2:$A$30=$B$2,ROW(detail!$A$2:$A$30)-1),ROWS($1:23))),"")} | E27: {=IFERROR(INDEX(detail!E$2:E$30,SMALL(IF(detail!$A$2:$A$30=$B$2,ROW(detail!$A$2:$A$30)-1),ROWS($1:23))),"")} | F27: {=IFERROR(INDEX(detail!F$2:F$30,SMALL(IF(detail!$A$2:$A$30=$B$2,ROW(detail!$A$2:$A$30)-1),ROWS($1:23))),"")} | G27: {=IFERROR(INDEX(detail!G$2:G$30,SMALL(IF(detail!$A$2:$A$30=$B$2,ROW(detail!$A$2:$A$30)-1),ROWS($1:23))),"")} | H27: {=IFERROR(INDEX(detail!H$2:H$30,SMALL(IF(detail!$A$2:$A$30=$B$2,ROW(detail!$A$2:$A$30)-1),ROWS($1:23))),"")}
A28: {=IFERROR(INDEX(detail!A$2:A$30,SMALL(IF(detail!$A$2:$A$30=$B$2,ROW(detail!$A$2:$A$30)-1),ROWS($1:24))),"")} | B28: {=IFERROR(INDEX(detail!B$2:B$30,SMALL(IF(detail!$A$2:$A$30=$B$2,ROW(detail!$A$2:$A$30)-1),ROWS($1:24))),"")} | C28: {=IFERROR(INDEX(detail!C$2:C$30,SMALL(IF(detail!$A$2:$A$30=$B$2,ROW(detail!$A$2:$A$30)-1),ROWS($1:24))),"")} | D28: {=IFERROR(INDEX(detail!D$2:D$30,SMALL(IF(detail!$A$2:$A$30=$B$2,ROW(detail!$A$2:$A$30)-1),ROWS($1:24))),"")} | E28: {=IFERROR(INDEX(detail!E$2:E$30,SMALL(IF(detail!$A$2:$A$30=$B$2,ROW(detail!$A$2:$A$30)-1),ROWS($1:24))),"")} | F28: {=IFERROR(INDEX(detail!F$2:F$30,SMALL(IF(detail!$A$2:$A$30=$B$2,ROW(detail!$A$2:$A$30)-1),ROWS($1:24))),"")} | G28: {=IFERROR(INDEX(detail!G$2:G$30,SMALL(IF(detail!$A$2:$A$30=$B$2,ROW(detail!$A$2:$A$30)-1),ROWS($1:24))),"")} | H28: {=IFERROR(INDEX(detail!H$2:H$30,SMALL(IF(detail!$A$2:$A$30=$B$2,ROW(detail!$A$2:$A$30)-1),ROWS($1:24))),"")}
A29: {=IFERROR(INDEX(detail!A$2:A$30,SMALL(IF(detail!$A$2:$A$30=$B$2,ROW(detail!$A$2:$A$30)-1),ROWS($1:25))),"")} | B29: {=IFERROR(INDEX(detail!B$2:B$30,SMALL(IF(detail!$A$2:$A$30=$B$2,ROW(detail!$A$2:$A$30)-1),ROWS($1:25))),"")} | C29: {=IFERROR(INDEX(detail!C$2:C$30,SMALL(IF(detail!$A$2:$A$30=$B$2,ROW(detail!$A$2:$A$30)-1),ROWS($1:25))),"")} | D29: {=IFERROR(INDEX(detail!D$2:D$30,SMALL(IF(detail!$A$2:$A$30=$B$2,ROW(detail!$A$2:$A$30)-1),ROWS($1:25))),"")} | E29: {=IFERROR(INDEX(detail!E$2:E$30,SMALL(IF(detail!$A$2:$A$30=$B$2,ROW(detail!$A$2:$A$30)-1),ROWS($1:25))),"")} | F29: {=IFERROR(INDEX(detail!F$2:F$30,SMALL(IF(detail!$A$2:$A$30=$B$2,ROW(detail!$A$2:$A$30)-1),ROWS($1:25))),"")} | G29: {=IFERROR(INDEX(detail!G$2:G$30,SMALL(IF(detail!$A$2:$A$30=$B$2,ROW(detail!$A$2:$A$30)-1),ROWS($1:25))),"")} | H29: {=IFERROR(INDEX(detail!H$2:H$30,SMALL(IF(detail!$A$2:$A$30=$B$2,ROW(detail!$A$2:$A$30)-1),ROWS($1:25))),"")}
