Workbook

Sheet Conduites
A1: FID_CONDUITE | B1: NO_DYN365 | C1: NO_PICASSO | D1: STATUT_EXPLOITATION | E1: NO_PARCELLE | F1: EGRIS_EGRID | G1: NO_COMMUNE | H1: NOM_COMMUNE | I1: NOM_CANTON | J1: TASK | K1: DATE_MODIF_GEOM | L1: DATE_CREATION_GIS | M1: NOM_FICHER_SORTIE | N1: doublon
A2: 221768 | D2: En service | E2: 5120 | F2: CH349410762984 | G2: 2196 | H2: Fribourg | I2: Fribourg | J2: CAD FRIBOURG | K2: 202408 | M2: EXPORT_CAD_CONDUITE_202409 | N2: =COUNTIFS(Tableau1[NO_PARCELLE],Conduites!$E2,Tableau1[NO_COMMUNE],Conduites!$G2,Tableau1[NOM_COMMUNE],Conduites!$H2)>=2 -> TRUE
A3: 221768 | D3: En service | E3: 3194 | F3: CH908394221023 | G3: 2196 | H3: Fribourg | I3: Fribourg | J3: CAD FRIBOURG | K3: 202408 | M3: EXPORT_CAD_CONDUITE_202409 | N3: =COUNTIFS(Tableau1[NO_PARCELLE],Conduites!$E3,Tableau1[NO_COMMUNE],Conduites!$G3,Tableau1[NOM_COMMUNE],Conduites!$H3)>=2 -> TRUE
A4: 221774 | D4: En service | E4: 5120 | F4: CH349410762984 | G4: 2196 | H4: Fribourg | I4: Fribourg | J4: CAD FRIBOURG | K4: 202408 | M4: EXPORT_CAD_CONDUITE_202409 | N4: =COUNTIFS(Tableau1[NO_PARCELLE],Conduites!$E4,Tableau1[NO_COMMUNE],Conduites!$G4,Tableau1[NOM_COMMUNE],Conduites!$H4)>=2 -> TRUE
A5: 221774 | D5: En service | E5: 3194 | F5: CH908394221023 | G5: 2196 | H5: Fribourg | I5: Fribourg | J5: CAD FRIBOURG | K5: 202408 | M5: EXPORT_CAD_CONDUITE_202409 | N5: =COUNTIFS(Tableau1[NO_PARCELLE],Conduites!$E5,Tableau1[NO_COMMUNE],Conduites!$G5,Tableau1[NOM_COMMUNE],Conduites!$H5)>=2 -> TRUE
A6: 263323 | B6: CL160063_02 | C6: 16.063 | D6: En service | E6: 11162 | F6: CH156110849497 | G6: 2196 | H6: Fribourg | I6: Fribourg | J6: CAD FRIBOURG | K6: 202408 | M6: EXPORT_CAD_CONDUITE_202409 | N6: =COUNTIFS(Tableau1[NO_PARCELLE],Conduites!$E6,Tableau1[NO_COMMUNE],Conduites!$G6,Tableau1[NOM_COMMUNE],Conduites!$H6)>=2 -> TRUE
A7: 263323 | B7: CL160063_02 | C7: 16.063 | D7: En service | E7: 11067 | F7: CH752110789421 | G7: 2196 | H7: Fribourg | I7: Fribourg | J7: CAD FRIBOURG | K7: 202408 | M7: EXPORT_CAD_CONDUITE_202409 | N7: =COUNTIFS(Tableau1[NO_PARCELLE],Conduites!$E7,Tableau1[NO_COMMUNE],Conduites!$G7,Tableau1[NOM_COMMUNE],Conduites!$H7)>=2 -> TRUE
A8: 263327 | B8: CL160063_02 | C8: 16.063 | D8: En service | E8: 11162 | F8: CH156110849497 | G8: 2196 | H8: Fribourg | I8: Fribourg | J8: CAD FRIBOURG | K8: 202408 | M8: EXPORT_CAD_CONDUITE_202409 | N8: =COUNTIFS(Tableau1[NO_PARCELLE],Conduites!$E8,Tableau1[NO_COMMUNE],Conduites!$G8,Tableau1[NOM_COMMUNE],Conduites!$H8)>=2 -> TRUE
A9: 263327 | B9: CL160063_02 | C9: 16.063 | D9: En service | E9: 11067 | F9: CH752110789421 | G9: 2196 | H9: Fribourg | I9: Fribourg | J9: CAD FRIBOURG | K9: 202408 | M9: EXPORT_CAD_CONDUITE_202409 | N9: =COUNTIFS(Tableau1[NO_PARCELLE],Conduites!$E9,Tableau1[NO_COMMUNE],Conduites!$G9,Tableau1[NOM_COMMUNE],Conduites!$H9)>=2 -> TRUE
A10: 512379 | D10: En service | E10: DP 1071 | F10: CH828622834550 | G10: 5889 | H10: La Tour-de-Peilz | I10: Vaud | J10: CAD LA TOUR-DE-PEILZ | K10: 202408 | M10: EXPORT_CAD_CONDUITE_202409 | N10: =COUNTIFS(Tableau1[NO_PARCELLE],Conduites!$E10,Tableau1[NO_COMMUNE],Conduites!$G10,Tableau1[NOM_COMMUNE],Conduites!$H10)>=2 -> FALSE
A11: 729374 | B11: CL200124_03 | C11: 20.126 | D11: En service | E11: DP82 | F11: CH657484774547 | G11: 6451 | H11: Cornaux | I11: Neuchâtel | J11: CAD ENTRE-DEUX-LACS | K11: 202408 | M11: EXPORT_CAD_CONDUITE_202409 | N11: =COUNTIFS(Tableau1[NO_PARCELLE],Conduites!$E11,Tableau1[NO_COMMUNE],Conduites!$G11,Tableau1[NOM_COMMUNE],Conduites!$H11)>=2 -> TRUE
A12: 729389 | B12: CL200124_03 | C12: 20.126 | D12: En service | E12: DP82 | F12: CH657484774547 | G12: 6451 | H12: Cornaux | I12: Neuchâtel | J12: CAD ENTRE-DEUX-LACS | K12: 202408 | M12: EXPORT_CAD_CONDUITE_202409 | N12: =COUNTIFS(Tableau1[NO_PARCELLE],Conduites!$E12,Tableau1[NO_COMMUNE],Conduites!$G12,Tableau1[NOM_COMMUNE],Conduites!$H12)>=2 -> TRUE
A13: 808744 | B13: CL200124_03 | C13: 20.126 | D13: En service | E13: DP78 | F13: CH798477754570 | G13: 6451 | H13: Cornaux | I13: Neuchâtel | J13: CAD ENTRE-DEUX-LACS | K13: 202408 | M13: EXPORT_CAD_CONDUITE_202409 | N13: =COUNTIFS(Tableau1[NO_PARCELLE],Conduites!$E13,Tableau1[NO_COMMUNE],Conduites!$G13,Tableau1[NOM_COMMUNE],Conduites!$H13)>=2 -> TRUE
A14: 808744 | B14: CL200124_03 | C14: 20.126 | D14: En service | E14: 461 | F14: CH758449778716 | G14: 6451 | H14: Cornaux | I14: Neuchâtel | J14: CAD ENTRE-DEUX-LACS | K14: 202408 | M14: EXPORT_CAD_CONDUITE_202409 | N14: =COUNTIFS(Tableau1[NO_PARCELLE],Conduites!$E14,Tableau1[NO_COMMUNE],Conduites!$G14,Tableau1[NOM_COMMUNE],Conduites!$H14)>=2 -> TRUE
A15: 808759 | B15: CL200124_03 | C15: 20.126 | D15: En service | E15: 461 | F15: CH758449778716 | G15: 6451 | H15: Cornaux | I15: Neuchâtel | J15: CAD ENTRE-DEUX-LACS | K15: 202408 | M15: EXPORT_CAD_CONDUITE_202409 | N15: =COUNTIFS(Tableau1[NO_PARCELLE],Conduites!$E15,Tableau1[NO_COMMUNE],Conduites!$G15,Tableau1[NOM_COMMUNE],Conduites!$H15)>=2 -> TRUE
A16: 808759 | B16: CL200124_03 | C16: 20.126 | D16: En service | E16: DP78 | F16: CH798477754570 | G16: 6451 | H16: Cornaux | I16: Neuchâtel | J16: CAD ENTRE-DEUX-LACS | K16: 202408 | M16: EXPORT_CAD_CONDUITE_202409 | N16: =COUNTIFS(Tableau1[NO_PARCELLE],Conduites!$E16,Tableau1[NO_COMMUNE],Conduites!$G16,Tableau1[NOM_COMMUNE],Conduites!$H16)>=2 -> TRUE
A17: 808804 | B17: CL200124_03 | C17: 20.126 | D17: En service | E17: 3038 | F17: CH494977338737 | G17: 6451 | H17: Cornaux | I17: Neuchâtel | J17: CAD ENTRE-DEUX-LACS | K17: 202408 | M17: EXPORT_CAD_CONDUITE_202409 | N17: =COUNTIFS(Tableau1[NO_PARCELLE],Conduites!$E17,Tableau1[NO_COMMUNE],Conduites!$G17,Tableau1[NOM_COMMUNE],Conduites!$H17)>=2 -> TRUE
A18: 808819 | B18: CL200124_03 | C18: 20.126 | D18: En service | E18: 3038 | F18: CH494977338737 | G18: 6451 | H18: Cornaux | I18: Neuchâtel | J18: CAD ENTRE-DEUX-LACS | K18: 202408 | M18: EXPORT_CAD_CONDUITE_202409 | N18: =COUNTIFS(Tableau1[NO_PARCELLE],Conduites!$E18,Tableau1[NO_COMMUNE],Conduites!$G18,Tableau1[NOM_COMMUNE],Conduites!$H18)>=2 -> TRUE
A19: 968423 | B19: CL200129_03 | C19: 20.127 | D19: En service | E19: 5066 | F19: CH127718498745 | G19: 6452 | H19: Cressier (NE) | I19: Neuchâtel | J19: CAD ENTRE-DEUX-LACS | K19: 202408 | M19: EXPORT_CAD_CONDUITE_202409 | N19: =COUNTIFS(Tableau1[NO_PARCELLE],Conduites!$E19,Tableau1[NO_COMMUNE],Conduites!$G19,Tableau1[NOM_COMMUNE],Conduites!$H19)>=2 -> TRUE
A20: 968437 | B20: CL200129_03 | C20: 20.127 | D20: En service | E20: 5066 | F20: CH127718498745 | G20: 6452 | H20: Cressier (NE) | I20: Neuchâtel | J20: CAD ENTRE-DEUX-LACS | K20: 202408 | M20: EXPORT_CAD_CONDUITE_202409 | N20: =COUNTIFS(Tableau1[NO_PARCELLE],Conduites!$E20,Tableau1[NO_COMMUNE],Conduites!$G20,Tableau1[NOM_COMMUNE],Conduites!$H20)>=2 -> TRUE
A21: 992461 | B21: CL190065_02 | C21: 19.065 | D21: En service | E21: 523 | F21: CH291092149406 | G21: 2208 | H21: Matran | I21: Fribourg | J21: CAD FRIBOURG | K21: 202408 | M21: EXPORT_CAD_CONDUITE_202409 | N21: =COUNTIFS(Tableau1[NO_PARCELLE],Conduites!$E21,Tableau1[NO_COMMUNE],Conduites!$G21,Tableau1[NOM_COMMUNE],Conduites!$H21)>=2 -> TRUE
A22: 992471 | B22: CL190065_02 | C22: 19.065 | D22: En service | E22: 523 | F22: CH291092149406 | G22: 2208 | H22: Matran | I22: Fribourg | J22: CAD FRIBOURG | K22: 202408 | M22: EXPORT_CAD_CONDUITE_202409 | N22: =COUNTIFS(Tableau1[NO_PARCELLE],Conduites!$E22,Tableau1[NO_COMMUNE],Conduites!$G22,Tableau1[NOM_COMMUNE],Conduites!$H22)>=2 -> TRUE
... A26: 1011446 | B26: CL200125_04 | C26: 21.001 | D26: En service | E26: DP26 | F26: CH944584777503 | G26: 6461 | H26: La Tène | I26: Neuchâtel | J26: CAD ENTRE-DEUX-LACS | K26: 202408 | M26: EXPORT_CAD_CONDUITE_202409 | N26: =COUNTIFS(Tableau1[NO_PARCELLE],Conduites!$E26,Tableau1[NO_COMMUNE],Conduites!$G26,Tableau1[NOM_COMMUNE],Conduites!$H26)>=2 -> TRUE
A27: 1013315 | B27: CL150096_15 | D27: En service | E27: 3503 | F27: CH180810948404 | G27: 2054 | H27: Estavayer | I27: Fribourg | J27: CAD ESTAVAYER | K27: 202408 | M27: EXPORT_CAD_CONDUITE_202409 | N27: =COUNTIFS(Tableau1[NO_PARCELLE],Conduites!$E27,Tableau1[NO_COMMUNE],Conduites!$G27,Tableau1[NOM_COMMUNE],Conduites!$H27)>=2 -> TRUE
A28: 1013323 | B28: CL150096_15 | D28: En service | E28: 3503 | F28: CH180810948404 | G28: 2054 | H28: Estavayer | I28: Fribourg | J28: CAD ESTAVAYER | K28: 202408 | M28: EXPORT_CAD_CONDUITE_202409 | N28: =COUNTIFS(Tableau1[NO_PARCELLE],Conduites!$E28,Tableau1[NO_COMMUNE],Conduites!$G28,Tableau1[NOM_COMMUNE],Conduites!$H28)>=2 -> TRUE
A29: 1014427 | B29: CL200125_04 | C29: 21.001 | D29: En service | E29: DP103 | F29: CH574577288497 | G29: 6461 | H29: La Tène | I29: Neuchâtel | J29: CAD ENTRE-DEUX-LACS | K29: 202408 | M29: EXPORT_CAD_CONDUITE_202409 | N29: =COUNTIFS(Tableau1[NO_PARCELLE],Conduites!$E29,Tableau1[NO_COMMUNE],Conduites!$G29,Tableau1[NOM_COMMUNE],Conduites!$H29)>=2 -> FALSE
A30: 1014427 | B30: CL200125_04 | C30: 21.001 | D30: En service | E30: DP107 | F30: CH467784452866 | G30: 6451 | H30: Cornaux | I30: Neuchâtel | J30: CAD ENTRE-DEUX-LACS | K30: 202408 | M30: EXPORT_CAD_CONDUITE_202409 | N30: =COUNTIFS(Tableau1[NO_PARCELLE],Conduites!$E30,Tableau1[NO_COMMUNE],Conduites!$G30,Tableau1[NOM_COMMUNE],Conduites!$H30)>=2 -> TRUE
A31: 1014436 | B31: CL200125_04 | C31: 21.001 | D31: En service | E31: DP107 | F31: CH467784452866 | G31: 6451 | H31: Cornaux | I31: Neuchâtel | J31: CAD ENTRE-DEUX-LACS | K31: 202408 | M31: EXPORT_CAD_CONDUITE_202409 | N31: =COUNTIFS(Tableau1[NO_PARCELLE],Conduites!$E31,Tableau1[NO_COMMUNE],Conduites!$G31,Tableau1[NOM_COMMUNE],Conduites!$H31)>=2 -> TRUE
A32: 1016323 | B32: CL200125_04 | C32: 21.001 | D32: En service | E32: 1070 | F32: CH578777994946 | G32: 6461 | H32: La Tène | I32: Neuchâtel | J32: CAD ENTRE-DEUX-LACS | K32: 202408 | M32: EXPORT_CAD_CONDUITE_202409 | N32: =COUNTIFS(Tableau1[NO_PARCELLE],Conduites!$E32,Tableau1[NO_COMMUNE],Conduites!$G32,Tableau1[NOM_COMMUNE],Conduites!$H32)>=2 -> TRUE
A33: 1016323 | B33: CL200125_04 | C33: 21.001 | D33: En service | E33: DP26 | F33: CH944584777503 | G33: 6461 | H33: La Tène | I33: Neuchâtel | J33: CAD ENTRE-DEUX-LACS | K33: 202408 | M33: EXPORT_CAD_CONDUITE_202409 | N33: =COUNTIFS(Tableau1[NO_PARCELLE],Conduites!$E33,Tableau1[NO_COMMUNE],Conduites!$G33,Tableau1[NOM_COMMUNE],Conduites!$H33)>=2 -> TRUE
A34: 1035499 | B34: CL190065_02 | C34: 19.065 | D34: En service | E34: 507 | F34: CH356410749475 | G34: 2208 | H34: Matran | I34: Fribourg | J34: CAD FRIBOURG | K34: 202408 | M34: EXPORT_CAD_CONDUITE_202409 | N34: =COUNTIFS(Tableau1[NO_PARCELLE],Conduites!$E34,Tableau1[NO_COMMUNE],Conduites!$G34,Tableau1[NOM_COMMUNE],Conduites!$H34)>=2 -> TRUE
A35: 1035545 | B35: CL190065_02 | C35: 19.065 | D35: En service | E35: 507 | F35: CH356410749475 | G35: 2208 | H35: Matran | I35: Fribourg | J35: CAD FRIBOURG | K35: 202408 | M35: EXPORT_CAD_CONDUITE_202409 | N35: =COUNTIFS(Tableau1[NO_PARCELLE],Conduites!$E35,Tableau1[NO_COMMUNE],Conduites!$G35,Tableau1[NOM_COMMUNE],Conduites!$H35)>=2 -> TRUE
A36: 1035553 | B36: CL190065_02 | C36: 19.065 | D36: En service | E36: 507 | F36: CH356410749475 | G36: 2208 | H36: Matran | I36: Fribourg | J36: CAD FRIBOURG | K36: 202408 | M36: EXPORT_CAD_CONDUITE_202409 | N36: =COUNTIFS(Tableau1[NO_PARCELLE],Conduites!$E36,Tableau1[NO_COMMUNE],Conduites!$G36,Tableau1[NOM_COMMUNE],Conduites!$H36)>=2 -> TRUE
A37: 1035567 | B37: CL190065_02 | C37: 19.065 | D37: En service | E37: 507 | F37: CH356410749475 | G37: 2208 | H37: Matran | I37: Fribourg | J37: CAD FRIBOURG | K37: 202408 | M37: EXPORT_CAD_CONDUITE_202409 | N37: =COUNTIFS(Tableau1[NO_PARCELLE],Conduites!$E37,Tableau1[NO_COMMUNE],Conduites!$G37,Tableau1[NOM_COMMUNE],Conduites!$H37)>=2 -> TRUE
A38: 1035599 | B38: CL190065_02 | C38: 19.065 | D38: En service | E38: 20 | F38: CH531090946996 | G38: 2208 | H38: Matran | I38: Fribourg | J38: CAD FRIBOURG | K38: 202408 | M38: EXPORT_CAD_CONDUITE_202409 | N38: =COUNTIFS(Tableau1[NO_PARCELLE],Conduites!$E38,Tableau1[NO_COMMUNE],Conduites!$G38,Tableau1[NOM_COMMUNE],Conduites!$H38)>=2 -> TRUE
A39: 1035608 | B39: CL190065_02 | C39: 19.065 | D39: En service | E39: 20 | F39: CH531090946996 | G39: 2208 | H39: Matran | I39: Fribourg | J39: CAD FRIBOURG | K39: 202408 | M39: EXPORT_CAD_CONDUITE_202409 | N39: =COUNTIFS(Tableau1[NO_PARCELLE],Conduites!$E39,Tableau1[NO_COMMUNE],Conduites!$G39,Tableau1[NOM_COMMUNE],Conduites!$H39)>=2 -> TRUE
A40: 1035617 | B40: CL190065_02 | C40: 19.065 | D40: En service | E40: 120 | F40: CH431084943821 | G40: 2208 | H40: Matran | I40: Fribourg | J40: CAD FRIBOURG | K40: 202408 | M40: EXPORT_CAD_CONDUITE_202409 | N40: =COUNTIFS(Tableau1[NO_PARCELLE],Conduites!$E40,Tableau1[NO_COMMUNE],Conduites!$G40,Tableau1[NOM_COMMUNE],Conduites!$H40)>=2 -> TRUE
A41: 1035626 | B41: CL190065_02 | C41: 19.065 | D41: En service | E41: 120 | F41: CH431084943821 | G41: 2208 | H41: Matran | I41: Fribourg | J41: CAD FRIBOURG | K41: 202408 | M41: EXPORT_CAD_CONDUITE_202409 | N41: =COUNTIFS(Tableau1[NO_PARCELLE],Conduites!$E41,Tableau1[NO_COMMUNE],Conduites!$G41,Tableau1[NOM_COMMUNE],Conduites!$H41)>=2 -> TRUE
A42: 1043358 | B42: CL190164_02 | D42: En service | E42: 7662 | F42: CH479498061020 | G42: 2196 | H42: Fribourg | I42: Fribourg | J42: CAD FRIBOURG | K42: 202408 | M42: EXPORT_CAD_CONDUITE_202409 | N42: =COUNTIFS(Tableau1[NO_PARCELLE],Conduites!$E42,Tableau1[NO_COMMUNE],Conduites!$G42,Tableau1[NOM_COMMUNE],Conduites!$H42)>=2 -> TRUE
A43: 1043358 | B43: CL190164_02 | D43: En service | E43: 7517 | F43: CH391082639412 | G43: 2196 | H43: Fribourg | I43: Fribourg | J43: CAD FRIBOURG | K43: 202408 | M43: EXPORT_CAD_CONDUITE_202409 | N43: =COUNTIFS(Tableau1[NO_PARCELLE],Conduites!$E43,Tableau1[NO_COMMUNE],Conduites!$G43,Tableau1[NOM_COMMUNE],Conduites!$H43)>=2 -> TRUE
A44: 1043358 | B44: CL190164_02 | D44: En service | E44: 7660 | F44: CH558610839465 | G44: 2196 | H44: Fribourg | I44: Fribourg | J44: CAD FRIBOURG | K44: 202408 | M44: EXPORT_CAD_CONDUITE_202409 | N44: =COUNTIFS(Tableau1[NO_PARCELLE],Conduites!$E44,Tableau1[NO_COMMUNE],Conduites!$G44,Tableau1[NOM_COMMUNE],Conduites!$H44)>=2 -> TRUE
A45: 1043358 | B45: CL190164_02 | D45: En service | E45: 7606 | F45: CH859610869472 | G45: 2196 | H45: Fribourg | I45: Fribourg | J45: CAD FRIBOURG | K45: 202408 | M45: EXPORT_CAD_CONDUITE_202409 | N45: =COUNTIFS(Tableau1[NO_PARCELLE],Conduites!$E45,Tableau1[NO_COMMUNE],Conduites!$G45,Tableau1[NOM_COMMUNE],Conduites!$H45)>=2 -> TRUE
A46: 1043366 | B46: CL190164_02 | D46: En service | E46: 7662 | F46: CH479498061020 | G46: 2196 | H46: Fribourg | I46: Fribourg | J46: CAD FRIBOURG | K46: 202408 | M46: EXPORT_CAD_CONDUITE_202409 | N46: =COUNTIFS(Tableau1[NO_PARCELLE],Conduites!$E46,Tableau1[NO_COMMUNE],Conduites!$G46,Tableau1[NOM_COMMUNE],Conduites!$H46)>=2 -> TRUE
A47: 1043366 | B47: CL190164_02 | D47: En service | E47: 7606 | F47: CH859610869472 | G47: 2196 | H47: Fribourg | I47: Fribourg | J47: CAD FRIBOURG | K47: 202408 | M47: EXPORT_CAD_CONDUITE_202409 | N47: =COUNTIFS(Tableau1[NO_PARCELLE],Conduites!$E47,Tableau1[NO_COMMUNE],Conduites!$G47,Tableau1[NOM_COMMUNE],Conduites!$H47)>=2 -> TRUE
A48: 1043366 | B48: CL190164_02 | D48: En service | E48: 7660 | F48: CH558610839465 | G48: 2196 | H48: Fribourg | I48: Fribourg | J48: CAD FRIBOURG | K48: 202408 | M48: EXPORT_CAD_CONDUITE_202409 | N48: =COUNTIFS(Tableau1[NO_PARCELLE],Conduites!$E48,Tableau1[NO_COMMUNE],Conduites!$G48,Tableau1[NOM_COMMUNE],Conduites!$H48)>=2 -> TRUE
A49: 1043366 | B49: CL190164_02 | D49: En service | E49: 7517 | F49: CH391082639412 | G49: 2196 | H49: Fribourg | I49: Fribourg | J49: CAD FRIBOURG | K49: 202408 | M49: EXPORT_CAD_CONDUITE_202409 | N49: =COUNTIFS(Tableau1[NO_PARCELLE],Conduites!$E49,Tableau1[NO_COMMUNE],Conduites!$G49,Tableau1[NOM_COMMUNE],Conduites!$H49)>=2 -> TRUE
A50: 1043611 | B50: CL18006_02 | D50: En service | E50: 7517 | F50: CH391082639412 | G50: 2196 | H50: Fribourg | I50: Fribourg | J50: CAD FRIBOURG | K50: 202408 | M50: EXPORT_CAD_CONDUITE_202409 | N50: =COUNTIFS(Tableau1[NO_PARCELLE],Conduites!$E50,Tableau1[NO_COMMUNE],Conduites!$G50,Tableau1[NOM_COMMUNE],Conduites!$H50)>=2 -> TRUE
A51: 1043611 | B51: CL18006_02 | D51: En service | E51: 7660 | F51: CH558610839465 | G51: 2196 | H51: Fribourg | I51: Fribourg | J51: CAD FRIBOURG | K51: 202408 | M51: EXPORT_CAD_CONDUITE_202409 | N51: =COUNTIFS(Tableau1[NO_PARCELLE],Conduites!$E51,Tableau1[NO_COMMUNE],Conduites!$G51,Tableau1[NOM_COMMUNE],Conduites!$H51)>=2 -> TRUE
A52: 1043611 | B52: CL18006_02 | D52: En service | E52: 7606 | F52: CH859610869472 | G52: 2196 | H52: Fribourg | I52: Fribourg | J52: CAD FRIBOURG | K52: 202408 | M52: EXPORT_CAD_CONDUITE_202409 | N52: =COUNTIFS(Tableau1[NO_PARCELLE],Conduites!$E52,Tableau1[NO_COMMUNE],Conduites!$G52,Tableau1[NOM_COMMUNE],Conduites!$H52)>=2 -> TRUE
A53: 1043619 | B53: CL18006_02 | D53: En service | E53: 7517 | F53: CH391082639412 | G53: 2196 | H53: Fribourg | I53: Fribourg | J53: CAD FRIBOURG | K53: 202408 | M53: EXPORT_CAD_CONDUITE_202409 | N53: =COUNTIFS(Tableau1[NO_PARCELLE],Conduites!$E53,Tableau1[NO_COMMUNE],Conduites!$G53,Tableau1[NOM_COMMUNE],Conduites!$H53)>=2 -> TRUE
... A55: 1043619 | B55: CL18006_02 | D55: En service | E55: 7660 | F55: CH558610839465 | G55: 2196 | H55: Fribourg | I55: Fribourg | J55: CAD FRIBOURG | K55: 202408 | M55: EXPORT_CAD_CONDUITE_202409 | N55: =COUNTIFS(Tableau1[NO_PARCELLE],Conduites!$E55,Tableau1[NO_COMMUNE],Conduites!$G55,Tableau1[NOM_COMMUNE],Conduites!$H55)>=2 -> TRUE
A56: 1044169 | B56: CL180006_02 | C56: 18.006 | D56: En service | E56: 7503 | F56: CH683910947276 | G56: 2196 | H56: Fribourg | I56: Fribourg | J56: CAD FRIBOURG | K56: 202408 | M56: EXPORT_CAD_CONDUITE_202409 | N56: =COUNTIFS(Tableau1[NO_PARCELLE],Conduites!$E56,Tableau1[NO_COMMUNE],Conduites!$G56,Tableau1[NOM_COMMUNE],Conduites!$H56)>=2 -> TRUE
A57: 1044185 | B57: CL180006_02 | C57: 18.006 | D57: En service | E57: 7503 | F57: CH683910947276 | G57: 2196 | H57: Fribourg | I57: Fribourg | J57: CAD FRIBOURG | K57: 202408 | M57: EXPORT_CAD_CONDUITE_202409 | N57: =COUNTIFS(Tableau1[NO_PARCELLE],Conduites!$E57,Tableau1[NO_COMMUNE],Conduites!$G57,Tableau1[NOM_COMMUNE],Conduites!$H57)>=2 -> TRUE
A58: 1044528 | B58: CL180006_02 | C58: 18.006 | D58: En service | E58: 7620 | F58: CH667410941034 | G58: 2196 | H58: Fribourg | I58: Fribourg | J58: CAD FRIBOURG | K58: 202408 | M58: EXPORT_CAD_CONDUITE_202409 | N58: =COUNTIFS(Tableau1[NO_PARCELLE],Conduites!$E58,Tableau1[NO_COMMUNE],Conduites!$G58,Tableau1[NOM_COMMUNE],Conduites!$H58)>=2 -> TRUE
A59: 1044541 | B59: CL180006_02 | C59: 18.006 | D59: En service | E59: 7620 | F59: CH667410941034 | G59: 2196 | H59: Fribourg | I59: Fribourg | J59: CAD FRIBOURG | K59: 202408 | M59: EXPORT_CAD_CONDUITE_202409 | N59: =COUNTIFS(Tableau1[NO_PARCELLE],Conduites!$E59,Tableau1[NO_COMMUNE],Conduites!$G59,Tableau1[NOM_COMMUNE],Conduites!$H59)>=2 -> TRUE
A60: 1046008 | B60: CL180006_02 | C60: 18.006 | D60: En service | E60: 7504 | F60: CH509194381089 | G60: 2196 | H60: Fribourg | I60: Fribourg | J60: CAD FRIBOURG | K60: 202408 | M60: EXPORT_CAD_CONDUITE_202409 | N60: =COUNTIFS(Tableau1[NO_PARCELLE],Conduites!$E60,Tableau1[NO_COMMUNE],Conduites!$G60,Tableau1[NOM_COMMUNE],Conduites!$H60)>=2 -> TRUE
A61: 1046022 | B61: CL180006_02 | C61: 18.006 | D61: En service | E61: 7504 | F61: CH509194381089 | G61: 2196 | H61: Fribourg | I61: Fribourg | J61: CAD FRIBOURG | K61: 202408 | M61: EXPORT_CAD_CONDUITE_202409 | N61: =COUNTIFS(Tableau1[NO_PARCELLE],Conduites!$E61,Tableau1[NO_COMMUNE],Conduites!$G61,Tableau1[NOM_COMMUNE],Conduites!$H61)>=2 -> TRUE
A62: 1057569 | B62: CL150054_09 | D62: En service | E62: DP76 | F62: CH414531847794 | G62: 6404 | H62: Boudry | I62: Neuchâtel | J62: CAD BOUDRY | K62: 202408 | M62: EXPORT_CAD_CONDUITE_202409 | N62: =COUNTIFS(Tableau1[NO_PARCELLE],Conduites!$E62,Tableau1[NO_COMMUNE],Conduites!$G62,Tableau1[NOM_COMMUNE],Conduites!$H62)>=2 -> TRUE
A63: 1057583 | B63: CL150054_09 | D63: En service | E63: DP76 | F63: CH414531847794 | G63: 6404 | H63: Boudry | I63: Neuchâtel | J63: CAD BOUDRY | K63: 202408 | M63: EXPORT_CAD_CONDUITE_202409 | N63: =COUNTIFS(Tableau1[NO_PARCELLE],Conduites!$E63,Tableau1[NO_COMMUNE],Conduites!$G63,Tableau1[NOM_COMMUNE],Conduites!$H63)>=2 -> TRUE
A64: 1073971 | B64: CL180060_04 | D64: En service | E64: 8824 | F64: CH819473107533 | G64: 2265 | H64: Kerzers | I64: Fribourg | J64: WV KERZERS | K64: 202408 | L64: 45513.386 | M64: EXPORT_CAD_CONDUITE_202409 | N64: =COUNTIFS(Tableau1[NO_PARCELLE],Conduites!$E64,Tableau1[NO_COMMUNE],Conduites!$G64,Tableau1[NOM_COMMUNE],Conduites!$H64)>=2 -> TRUE
A65: 1073971 | B65: CL180060_04 | D65: En service | E65: 8398 | F65: CH683510948475 | G65: 2265 | H65: Kerzers | I65: Fribourg | J65: WV KERZERS | K65: 202408 | L65: 45513.386 | M65: EXPORT_CAD_CONDUITE_202409 | N65: =COUNTIFS(Tableau1[NO_PARCELLE],Conduites!$E65,Tableau1[NO_COMMUNE],Conduites!$G65,Tableau1[NOM_COMMUNE],Conduites!$H65)>=2 -> TRUE
A66: 1073981 | B66: CL180060_04 | D66: En service | E66: 8398 | F66: CH683510948475 | G66: 2265 | H66: Kerzers | I66: Fribourg | J66: WV KERZERS | K66: 202408 | L66: 45513.386 | M66: EXPORT_CAD_CONDUITE_202409 | N66: =COUNTIFS(Tableau1[NO_PARCELLE],Conduites!$E66,Tableau1[NO_COMMUNE],Conduites!$G66,Tableau1[NOM_COMMUNE],Conduites!$H66)>=2 -> TRUE
A67: 1073981 | B67: CL180060_04 | D67: En service | E67: 8824 | F67: CH819473107533 | G67: 2265 | H67: Kerzers | I67: Fribourg | J67: WV KERZERS | K67: 202408 | L67: 45513.386 | M67: EXPORT_CAD_CONDUITE_202409 | N67: =COUNTIFS(Tableau1[NO_PARCELLE],Conduites!$E67,Tableau1[NO_COMMUNE],Conduites!$G67,Tableau1[NOM_COMMUNE],Conduites!$H67)>=2 -> TRUE
A68: 1074499 | B68: CL180060 | D68: En service | E68: 208 | F68: CH629957109410 | G68: 2265 | H68: Kerzers | I68: Fribourg | J68: WV KERZERS | K68: 202408 | L68: 45513.409 | M68: EXPORT_CAD_CONDUITE_202409 | N68: =COUNTIFS(Tableau1[NO_PARCELLE],Conduites!$E68,Tableau1[NO_COMMUNE],Conduites!$G68,Tableau1[NOM_COMMUNE],Conduites!$H68)>=2 -> TRUE
A69: 1074499 | B69: CL180060 | D69: En service | E69: 8824 | F69: CH819473107533 | G69: 2265 | H69: Kerzers | I69: Fribourg | J69: WV KERZERS | K69: 202408 | L69: 45513.409 | M69: EXPORT_CAD_CONDUITE_202409 | N69: =COUNTIFS(Tableau1[NO_PARCELLE],Conduites!$E69,Tableau1[NO_COMMUNE],Conduites!$G69,Tableau1[NOM_COMMUNE],Conduites!$H69)>=2 -> TRUE
A70: 1074505 | B70: CL180060 | D70: En service | E70: 208 | F70: CH629957109410 | G70: 2265 | H70: Kerzers | I70: Fribourg | J70: WV KERZERS | K70: 202408 | L70: 45513.409 | M70: EXPORT_CAD_CONDUITE_202409 | N70: =COUNTIFS(Tableau1[NO_PARCELLE],Conduites!$E70,Tableau1[NO_COMMUNE],Conduites!$G70,Tableau1[NOM_COMMUNE],Conduites!$H70)>=2 -> TRUE
A71: 1074505 | B71: CL180060 | D71: En service | E71: 8824 | F71: CH819473107533 | G71: 2265 | H71: Kerzers | I71: Fribourg | J71: WV KERZERS | K71: 202408 | L71: 45513.409 | M71: EXPORT_CAD_CONDUITE_202409 | N71: =COUNTIFS(Tableau1[NO_PARCELLE],Conduites!$E71,Tableau1[NO_COMMUNE],Conduites!$G71,Tableau1[NOM_COMMUNE],Conduites!$H71)>=2 -> TRUE
A72: 1074798 | B72: CL240041_02 | D72: En service | E72: 528 | F72: CH379476271092 | G72: 2208 | H72: Matran | I72: Fribourg | J72: CAD_FRIBOURG | K72: 202408 | L72: 45517.425 | M72: EXPORT_CAD_CONDUITE_202409 | N72: =COUNTIFS(Tableau1[NO_PARCELLE],Conduites!$E72,Tableau1[NO_COMMUNE],Conduites!$G72,Tableau1[NOM_COMMUNE],Conduites!$H72)>=2 -> TRUE
A73: 1074798 | B73: CL240041_02 | D73: En service | E73: 652 | F73: CH979483211037 | G73: 2208 | H73: Matran | I73: Fribourg | J73: CAD_FRIBOURG | K73: 202408 | L73: 45517.425 | M73: EXPORT_CAD_CONDUITE_202409 | N73: =COUNTIFS(Tableau1[NO_PARCELLE],Conduites!$E73,Tableau1[NO_COMMUNE],Conduites!$G73,Tableau1[NOM_COMMUNE],Conduites!$H73)>=2 -> TRUE
A74: 1074798 | B74: CL240041_02 | D74: En service | E74: 97 | F74: CH679484461055 | G74: 2208 | H74: Matran | I74: Fribourg | J74: CAD_FRIBOURG | K74: 202408 | L74: 45517.425 | M74: EXPORT_CAD_CONDUITE_202409 | N74: =COUNTIFS(Tableau1[NO_PARCELLE],Conduites!$E74,Tableau1[NO_COMMUNE],Conduites!$G74,Tableau1[NOM_COMMUNE],Conduites!$H74)>=2 -> TRUE
A75: 1074806 | B75: CL240041_02 | D75: En service | E75: 528 | F75: CH379476271092 | G75: 2208 | H75: Matran | I75: Fribourg | J75: CAD_FRIBOURG | K75: 202408 | L75: 45517.425 | M75: EXPORT_CAD_CONDUITE_202409 | N75: =COUNTIFS(Tableau1[NO_PARCELLE],Conduites!$E75,Tableau1[NO_COMMUNE],Conduites!$G75,Tableau1[NOM_COMMUNE],Conduites!$H75)>=2 -> TRUE
... A81: 1074844 | B81: CL240041_02 | D81: En service | E81: 97 | F81: CH679484461055 | G81: 2208 | H81: Matran | I81: Fribourg | J81: CAD_FRIBOURG | K81: 202408 | L81: 45517.425 | M81: EXPORT_CAD_CONDUITE_202409 | N81: =COUNTIFS(Tableau1[NO_PARCELLE],Conduites!$E81,Tableau1[NO_COMMUNE],Conduites!$G81,Tableau1[NOM_COMMUNE],Conduites!$H81)>=2 -> TRUE
A82: 1075552 | B82: CL190065_02 | C82: 19.065 | D82: En service | E82: 20 | F82: CH531090946996 | G82: 2208 | H82: Matran | I82: Fribourg | J82: CAD FRIBOURG | K82: 202408 | M82: EXPORT_CAD_CONDUITE_202409 | N82: =COUNTIFS(Tableau1[NO_PARCELLE],Conduites!$E82,Tableau1[NO_COMMUNE],Conduites!$G82,Tableau1[NOM_COMMUNE],Conduites!$H82)>=2 -> TRUE
A83: 1075563 | B83: CL190065_02 | C83: 19.065 | D83: En service | E83: 20 | F83: CH531090946996 | G83: 2208 | H83: Matran | I83: Fribourg | J83: CAD FRIBOURG | K83: 202408 | M83: EXPORT_CAD_CONDUITE_202409 | N83: =COUNTIFS(Tableau1[NO_PARCELLE],Conduites!$E83,Tableau1[NO_COMMUNE],Conduites!$G83,Tableau1[NOM_COMMUNE],Conduites!$H83)>=2 -> TRUE
A84: 1075802 | B84: CL190065_02 | C84: 19.065 | D84: En service | E84: 110 | F84: CH382610947838 | G84: 2208 | H84: Matran | I84: Fribourg | J84: CAD FRIBOURG | K84: 202408 | M84: EXPORT_CAD_CONDUITE_202409 | N84: =COUNTIFS(Tableau1[NO_PARCELLE],Conduites!$E84,Tableau1[NO_COMMUNE],Conduites!$G84,Tableau1[NOM_COMMUNE],Conduites!$H84)>=2 -> TRUE
A85: 1075802 | B85: CL190065_02 | C85: 19.065 | D85: En service | E85: 274 | F85: CH828220109455 | G85: 2208 | H85: Matran | I85: Fribourg | J85: CAD FRIBOURG | K85: 202408 | M85: EXPORT_CAD_CONDUITE_202409 | N85: =COUNTIFS(Tableau1[NO_PARCELLE],Conduites!$E85,Tableau1[NO_COMMUNE],Conduites!$G85,Tableau1[NOM_COMMUNE],Conduites!$H85)>=2 -> TRUE
A86: 1075814 | B86: CL190065_02 | C86: 19.065 | D86: En service | E86: 110 | F86: CH382610947838 | G86: 2208 | H86: Matran | I86: Fribourg | J86: CAD FRIBOURG | K86: 202408 | M86: EXPORT_CAD_CONDUITE_202409 | N86: =COUNTIFS(Tableau1[NO_PARCELLE],Conduites!$E86,Tableau1[NO_COMMUNE],Conduites!$G86,Tableau1[NOM_COMMUNE],Conduites!$H86)>=2 -> TRUE
A87: 1075814 | B87: CL190065_02 | C87: 19.065 | D87: En service | E87: 274 | F87: CH828220109455 | G87: 2208 | H87: Matran | I87: Fribourg | J87: CAD FRIBOURG | K87: 202408 | M87: EXPORT_CAD_CONDUITE_202409 | N87: =COUNTIFS(Tableau1[NO_PARCELLE],Conduites!$E87,Tableau1[NO_COMMUNE],Conduites!$G87,Tableau1[NOM_COMMUNE],Conduites!$H87)>=2 -> TRUE
A88: 1075826 | B88: CL190065_02 | C88: 19.065 | D88: En service | E88: 110 | F88: CH382610947838 | G88: 2208 | H88: Matran | I88: Fribourg | J88: CAD FRIBOURG | K88: 202408 | M88: EXPORT_CAD_CONDUITE_202409 | N88: =COUNTIFS(Tableau1[NO_PARCELLE],Conduites!$E88,Tableau1[NO_COMMUNE],Conduites!$G88,Tableau1[NOM_COMMUNE],Conduites!$H88)>=2 -> TRUE
A89: 1075838 | B89: CL190065_02 | C89: 19.065 | D89: En service | E89: 110 | F89: CH382610947838 | G89: 2208 | H89: Matran | I89: Fribourg | J89: CAD FRIBOURG | K89: 202408 | M89: EXPORT_CAD_CONDUITE_202409 | N89: =COUNTIFS(Tableau1[NO_PARCELLE],Conduites!$E89,Tableau1[NO_COMMUNE],Conduites!$G89,Tableau1[NOM_COMMUNE],Conduites!$H89)>=2 -> TRUE
A90: 1076216 | B90: CL190065_02 | C90: 19.065 | D90: En service | E90: 109 | F90: CH749410844901 | G90: 2208 | H90: Matran | I90: Fribourg | J90: CAD FRIBOURG | K90: 202408 | M90: EXPORT_CAD_CONDUITE_202409 | N90: =COUNTIFS(Tableau1[NO_PARCELLE],Conduites!$E90,Tableau1[NO_COMMUNE],Conduites!$G90,Tableau1[NOM_COMMUNE],Conduites!$H90)>=2 -> TRUE
A91: 1076216 | B91: CL190065_02 | C91: 19.065 | D91: En service | E91: 697 | F91: CH298574280137 | G91: 2208 | H91: Matran | I91: Fribourg | J91: CAD FRIBOURG | K91: 202408 | M91: EXPORT_CAD_CONDUITE_202409 | N91: =COUNTIFS(Tableau1[NO_PARCELLE],Conduites!$E91,Tableau1[NO_COMMUNE],Conduites!$G91,Tableau1[NOM_COMMUNE],Conduites!$H91)>=2 -> TRUE
A92: 1076227 | B92: CL190065_02 | C92: 19.065 | D92: En service | E92: 109 | F92: CH749410844901 | G92: 2208 | H92: Matran | I92: Fribourg | J92: CAD FRIBOURG | K92: 202408 | M92: EXPORT_CAD_CONDUITE_202409 | N92: =COUNTIFS(Tableau1[NO_PARCELLE],Conduites!$E92,Tableau1[NO_COMMUNE],Conduites!$G92,Tableau1[NOM_COMMUNE],Conduites!$H92)>=2 -> TRUE
A93: 1076227 | B93: CL190065_02 | C93: 19.065 | D93: En service | E93: 697 | F93: CH298574280137 | G93: 2208 | H93: Matran | I93: Fribourg | J93: CAD FRIBOURG | K93: 202408 | M93: EXPORT_CAD_CONDUITE_202409 | N93: =COUNTIFS(Tableau1[NO_PARCELLE],Conduites!$E93,Tableau1[NO_COMMUNE],Conduites!$G93,Tableau1[NOM_COMMUNE],Conduites!$H93)>=2 -> TRUE
... A119: 1077036 | B119: CL190065_02 | C119: 19.065 | D119: En service | E119: 448 | F119: CH919457107942 | G119: 2208 | H119: Matran | I119: Fribourg | J119: CAD FRIBOURG | K119: 202408 | M119: EXPORT_CAD_CONDUITE_202409 | N119: =COUNTIFS(Tableau1[NO_PARCELLE],Conduites!$E119,Tableau1[NO_COMMUNE],Conduites!$G119,Tableau1[NOM_COMMUNE],Conduites!$H119)>=2 -> TRUE
A120: 1078392 | B120: CL220177_02 | D120: En service | E120: 11067 | F120: CH752110789421 | G120: 2196 | H120: Fribourg | I120: Fribourg | J120: CAD FRIBOURG | K120: 202408 | M120: EXPORT_CAD_CONDUITE_202409 | N120: =COUNTIFS(Tableau1[NO_PARCELLE],Conduites!$E120,Tableau1[NO_COMMUNE],Conduites!$G120,Tableau1[NOM_COMMUNE],Conduites!$H120)>=2 -> TRUE
A121: 1078392 | B121: CL220177_02 | D121: En service | E121: 11162 | F121: CH156110849497 | G121: 2196 | H121: Fribourg | I121: Fribourg | J121: CAD FRIBOURG | K121: 202408 | M121: EXPORT_CAD_CONDUITE_202409 | N121: =COUNTIFS(Tableau1[NO_PARCELLE],Conduites!$E121,Tableau1[NO_COMMUNE],Conduites!$G121,Tableau1[NOM_COMMUNE],Conduites!$H121)>=2 -> TRUE
A122: 1078392 | B122: CL220177_02 | D122: En service | E122: 11088 | F122: CH849410758258 | G122: 2196 | H122: Fribourg | I122: Fribourg | J122: CAD FRIBOURG | K122: 202408 | M122: EXPORT_CAD_CONDUITE_202409 | N122: =COUNTIFS(Tableau1[NO_PARCELLE],Conduites!$E122,Tableau1[NO_COMMUNE],Conduites!$G122,Tableau1[NOM_COMMUNE],Conduites!$H122)>=2 -> TRUE
A123: 1078404 | B123: CL220177_02 | D123: En service | E123: 11067 | F123: CH752110789421 | G123: 2196 | H123: Fribourg | I123: Fribourg | J123: CAD FRIBOURG | K123: 202408 | M123: EXPORT_CAD_CONDUITE_202409 | N123: =COUNTIFS(Tableau1[NO_PARCELLE],Conduites!$E123,Tableau1[NO_COMMUNE],Conduites!$G123,Tableau1[NOM_COMMUNE],Conduites!$H123)>=2 -> TRUE
A124: 1078404 | B124: CL220177_02 | D124: En service | E124: 11071 | F124: CH779470031082 | G124: 2196 | H124: Fribourg | I124: Fribourg | J124: CAD FRIBOURG | K124: 202408 | M124: EXPORT_CAD_CONDUITE_202409 | N124: =COUNTIFS(Tableau1[NO_PARCELLE],Conduites!$E124,Tableau1[NO_COMMUNE],Conduites!$G124,Tableau1[NOM_COMMUNE],Conduites!$H124)>=2 -> FALSE
A125: 1078404 | B125: CL220177_02 | D125: En service | E125: 11088 | F125: CH849410758258 | G125: 2196 | H125: Fribourg | I125: Fribourg | J125: CAD FRIBOURG | K125: 202408 | M125: EXPORT_CAD_CONDUITE_202409 | N125: =COUNTIFS(Tableau1[NO_PARCELLE],Conduites!$E125,Tableau1[NO_COMMUNE],Conduites!$G125,Tableau1[NOM_COMMUNE],Conduites!$H125)>=2 -> TRUE
A126: 1078404 | B126: CL220177_02 | D126: En service | E126: 11162 | F126: CH156110849497 | G126: 2196 | H126: Fribourg | I126: Fribourg | J126: CAD FRIBOURG | K126: 202408 | M126: EXPORT_CAD_CONDUITE_202409 | N126: =COUNTIFS(Tableau1[NO_PARCELLE],Conduites!$E126,Tableau1[NO_COMMUNE],Conduites!$G126,Tableau1[NOM_COMMUNE],Conduites!$H126)>=2 -> TRUE
A127: 1084802 | B127: CL190053_02 | D127: En service | E127: 11194 | F127: CH788510948548 | G127: 2196 | H127: Fribourg | I127: Fribourg | J127: CAD FRIBOURG | K127: 202408 | L127: 45518.587 | M127: EXPORT_CAD_CONDUITE_202409 | N127: =COUNTIFS(Tableau1[NO_PARCELLE],Conduites!$E127,Tableau1[NO_COMMUNE],Conduites!$G127,Tableau1[NOM_COMMUNE],Conduites!$H127)>=2 -> TRUE
A128: 1084942 | B128: CL190053_02 | D128: En service | E128: 11194 | F128: CH788510948548 | G128: 2196 | H128: Fribourg | I128: Fribourg | J128: CAD FRIBOURG | K128: 202408 | L128: 45518.587 | M128: EXPORT_CAD_CONDUITE_202409 | N128: =COUNTIFS(Tableau1[NO_PARCELLE],Conduites!$E128,Tableau1[NO_COMMUNE],Conduites!$G128,Tableau1[NOM_COMMUNE],Conduites!$H128)>=2 -> TRUE
A129: 1085086 | B129: CL190053_02 | D129: En service | E129: 10320 | F129: CH779487441097 | G129: 2196 | H129: Fribourg | I129: Fribourg | J129: CAD FRIBOURG | K129: 202409 | L129: 45518.587 | M129: EXPORT_CAD_CONDUITE_202409 | N129: =COUNTIFS(Tableau1[NO_PARCELLE],Conduites!$E129,Tableau1[NO_COMMUNE],Conduites!$G129,Tableau1[NOM_COMMUNE],Conduites!$H129)>=2 -> TRUE
A130: 1085086 | B130: CL190053_02 | D130: En service | E130: 11193 | F130: CH498577470179 | G130: 2196 | H130: Fribourg | I130: Fribourg | J130: CAD FRIBOURG | K130: 202409 | L130: 45518.587 | M130: EXPORT_CAD_CONDUITE_202409 | N130: =COUNTIFS(Tableau1[NO_PARCELLE],Conduites!$E130,Tableau1[NO_COMMUNE],Conduites!$G130,Tableau1[NOM_COMMUNE],Conduites!$H130)>=2 -> TRUE
A131: 1085147 | B131: CL190053_02 | D131: En service | E131: 11193 | F131: CH498577470179 | G131: 2196 | H131: Fribourg | I131: Fribourg | J131: CAD FRIBOURG | K131: 202409 | L131: 45518.587 | M131: EXPORT_CAD_CONDUITE_202409 | N131: =COUNTIFS(Tableau1[NO_PARCELLE],Conduites!$E131,Tableau1[NO_COMMUNE],Conduites!$G131,Tableau1[NOM_COMMUNE],Conduites!$H131)>=2 -> TRUE
A132: 1085147 | B132: CL190053_02 | D132: En service | E132: 10320 | F132: CH779487441097 | G132: 2196 | H132: Fribourg | I132: Fribourg | J132: CAD FRIBOURG | K132: 202409 | L132: 45518.587 | M132: EXPORT_CAD_CONDUITE_202409 | N132: =COUNTIFS(Tableau1[NO_PARCELLE],Conduites!$E132,Tableau1[NO_COMMUNE],Conduites!$G132,Tableau1[NOM_COMMUNE],Conduites!$H132)>=2 -> TRUE
A133: 1085208 | B133: CL190053_02 | D133: En service | E133: 10320 | F133: CH779487441097 | G133: 2196 | H133: Fribourg | I133: Fribourg | J133: CAD FRIBOURG | K133: 202408 | L133: 45518.587 | M133: EXPORT_CAD_CONDUITE_202409 | N133: =COUNTIFS(Tableau1[NO_PARCELLE],Conduites!$E133,Tableau1[NO_COMMUNE],Conduites!$G133,Tableau1[NOM_COMMUNE],Conduites!$H133)>=2 -> TRUE
A134: 1085307 | B134: CL190053_02 | D134: En service | E134: 10320 | F134: CH779487441097 | G134: 2196 | H134: Fribourg | I134: Fribourg | J134: CAD FRIBOURG | K134: 202408 | L134: 45518.587 | M134: EXPORT_CAD_CONDUITE_202409 | N134: =COUNTIFS(Tableau1[NO_PARCELLE],Conduites!$E134,Tableau1[NO_COMMUNE],Conduites!$G134,Tableau1[NOM_COMMUNE],Conduites!$H134)>=2 -> TRUE
...

Sheet Feuil1
A1: =COUNTIFS(Tableau1[NO_PARCELLE],Conduites!E2,Tableau1[NO_COMMUNE],Conduites!G2,Tableau1[NOM_COMMUNE],Conduites!H2)>=2 -> TRUE
