Workbook

Sheet Conduites
A1: FID_CONDUITE | B1: NO_DYN365 | C1: NO_PICASSO | D1: STATUT_EXPLOITATION | E1: NO_PARCELLE | F1: EGRIS_EGRID | G1: NO_COMMUNE | H1: NOM_COMMUNE | I1: NOM_CANTON | J1: TASK | K1: DATE_MODIF_GEOM | L1: DATE_CREATION_GIS | M1: NOM_FICHER_SORTIE | N1: doublon
A2: 221768 | D2: En service | E2: 5120 | F2: CH349410762984 | G2: 2196 | H2: Fribourg | I2: Fribourg | J2: CAD FRIBOURG | K2: 202408 | M2: EXPORT_CAD_CONDUITE_202409 | N2: =COUNTIFS(Tableau1[NO_PARCELLE],Conduites!$E2,Tableau1[NO_COMMUNE],Conduites!$G2,Tableau1[NOM_COMMUNE],Conduites!$H2)>=2 -> TRUE
A3: 221768 | D3: En service | E3: 3194 | F3: CH908394221023 | G3: 2196 | H3: Fribourg | I3: Fribourg | J3: CAD FRIBOURG | K3: 202408 | M3: EXPORT_CAD_CONDUITE_202409 | N3: =COUNTIFS(Tableau1[NO_PARCELLE],Conduites!$E3,Tableau1[NO_COMMUNE],Conduites!$G3,Tableau1[NOM_COMMUNE],Conduites!$H3)>=2 -> TRUE
A4: 221774 | D4: En service | E4: 5120 | F4: CH349410762984 | G4: 2196 | H4: Fribourg | I4: Fribourg | J4: CAD FRIBOURG | K4: 202408 | M4: EXPORT_CAD_CONDUITE_202409 | N4: =COUNTIFS(Tableau1[NO_PARCELLE],Conduites!$E4,Tableau1[NO_COMMUNE],Conduites!$G4,Tableau1[NOM_COMMUNE],Conduites!$H4)>=2 -> TRUE
A5: 221774 | D5: En service | E5: 3194 | F5: CH908394221023 | G5: 2196 | H5: Fribourg | I5: Fribourg | J5: CAD FRIBOURG | K5: 202408 | M5: EXPORT_CAD_CONDUITE_202409 | N5: =COUNTIFS(Tableau1[NO_PARCELLE],Conduites!$E5,Tableau1[NO_COMMUNE],Conduites!$G5,Tableau1[NOM_COMMUNE],Conduites!$H5)>=2 -> TRUE
A6: 263323 | B6: CL160063_02 | C6: 16.063 | D6: En service | E6: 11162 | F6: CH156110849497 | G6: 2196 | H6: Fribourg | I6: Fribourg | J6: CAD FRIBOURG | K6: 202408 | M6: EXPORT_CAD_CONDUITE_202409 | N6: =COUNTIFS(Tableau1[NO_PARCELLE],Conduites!$E6,Tableau1[NO_COMMUNE],Conduites!$G6,Tableau1[NOM_COMMUNE],Conduites!$H6)>=2 -> TRUE
A7: 263323 | B7: CL160063_02 | C7: 16.063 | D7: En service | E7: 11067 | F7: CH752110789421 | G7: 2196 | H7: Fribourg | I7: Fribourg | J7: CAD FRIBOURG | K7: 202408 | M7: EXPORT_CAD_CONDUITE_202409 | N7: =COUNTIFS(Tableau1[NO_PARCELLE],Conduites!$E7,Tableau1[NO_COMMUNE],Conduites!$G7,Tableau1[NOM_COMMUNE],Conduites!$H7)>=2 -> TRUE
A8: 263327 | B8: CL160063_02 | C8: 16.063 | D8: En service | E8: 11162 | F8: CH156110849497 | G8: 2196 | H8: Fribourg | I8: Fribourg | J8: CAD FRIBOURG | K8: 202408 | M8: EXPORT_CAD_CONDUITE_202409 | N8: =COUNTIFS(Tableau1[NO_PARCELLE],Conduites!$E8,Tableau1[NO_COMMUNE],Conduites!$G8,Tableau1[NOM_COMMUNE],Conduites!$H8)>=2 -> TRUE
A9: 263327 | B9: CL160063_02 | C9: 16.063 | D9: En service | E9: 11067 | F9: CH752110789421 | G9: 2196 | H9: Fribourg | I9: Fribourg | J9: CAD FRIBOURG | K9: 202408 | M9: EXPORT_CAD_CONDUITE_202409 | N9: =COUNTIFS(Tableau1[NO_PARCELLE],Conduites!$E9,Tableau1[NO_COMMUNE],Conduites!$G9,Tableau1[NOM_COMMUNE],Conduites!$H9)>=2 -> TRUE
A10: 512379 | D10: En service | E10: DP 1071 | F10: CH828622834550 | G10: 5889 | H10: La Tour-de-Peilz | I10: Vaud | J10: CAD LA TOUR-DE-PEILZ | K10: 202408 | M10: EXPORT_CAD_CONDUITE_202409 | N10: =COUNTIFS(Tableau1[NO_PARCELLE],Conduites!$E10,Tableau1[NO_COMMUNE],Conduites!$G10,Tableau1[NOM_COMMUNE],Conduites!$H10)>=2 -> FALSE
A11: 729374 | B11: CL200124_03 | C11: 20.126 | D11: En service | E11: DP82 | F11: CH657484774547 | G11: 6451 | H11: Cornaux | I11: Neuchâtel | J11: CAD ENTRE-DEUX-LACS | K11: 202408 | M11: EXPORT_CAD_CONDUITE_202409 | N11: =COUNTIFS(Tableau1[NO_PARCELLE],Conduites!$E11,Tableau1[NO_COMMUNE],Conduites!$G11,Tableau1[NOM_COMMUNE],Conduites!$H11)>=2 -> TRUE
A12: 729389 | B12: CL200124_03 | C12: 20.126 | D12: En service | E12: DP82 | F12: CH657484774547 | G12: 6451 | H12: Cornaux | I12: Neuchâtel | J12: CAD ENTRE-DEUX-LACS | K12: 202408 | M12: EXPORT_CAD_CONDUITE_202409 | N12: =COUNTIFS(Tableau1[NO_PARCELLE],Conduites!$E12,Tableau1[NO_COMMUNE],Conduites!$G12,Tableau1[NOM_COMMUNE],Conduites!$H12)>=2 -> TRUE
A13: 808744 | B13: CL200124_03 | C13: 20.126 | D13: En service | E13: DP78 | F13: CH798477754570 | G13: 6451 | H13: Cornaux | I13: Neuchâtel | J13: CAD ENTRE-DEUX-LACS | K13: 202408 | M13: EXPORT_CAD_CONDUITE_202409 | N13: =COUNTIFS(Tableau1[NO_PARCELLE],Conduites!$E13,Tableau1[NO_COMMUNE],Conduites!$G13,Tableau1[NOM_COMMUNE],Conduites!$H13)>=2 -> TRUE
A14: 808744 | B14: CL200124_03 | C14: 20.126 | D14: En service | E14: 461 | F14: CH758449778716 | G14: 6451 | H14: Cornaux | I14: Neuchâtel | J14: CAD ENTRE-DEUX-LACS | K14: 202408 | M14: EXPORT_CAD_CONDUITE_202409 | N14: =COUNTIFS(Tableau1[NO_PARCELLE],Conduites!$E14,Tableau1[NO_COMMUNE],Conduites!$G14,Tableau1[NOM_COMMUNE],Conduites!$H14)>=2 -> TRUE
A15: 808759 | B15: CL200124_03 | C15: 20.126 | D15: En service | E15: 461 | F15: CH758449778716 | G15: 6451 | H15: Cornaux | I15: Neuchâtel | J15: CAD ENTRE-DEUX-LACS | K15: 202408 | M15: EXPORT_CAD_CONDUITE_202409 | N15: =COUNTIFS(Tableau1[NO_PARCELLE],Conduites!$E15,Tableau1[NO_COMMUNE],Conduites!$G15,Tableau1[NOM_COMMUNE],Conduites!$H15)>=2 -> TRUE
A16: 808759 | B16: CL200124_03 | C16: 20.126 | D16: En service | E16: DP78 | F16: CH798477754570 | G16: 6451 | H16: Cornaux | I16: Neuchâtel | J16: CAD ENTRE-DEUX-LACS | K16: 202408 | M16: EXPORT_CAD_CONDUITE_202409 | N16: =COUNTIFS(Tableau1[NO_PARCELLE],Conduites!$E16,Tableau1[NO_COMMUNE],Conduites!$G16,Tableau1[NOM_COMMUNE],Conduites!$H16)>=2 -> TRUE
A17: 808804 | B17: CL200124_03 | C17: 20.126 | D17: En service | E17: 3038 | F17: CH494977338737 | G17: 6451 | H17: Cornaux | I17: Neuchâtel | J17: CAD ENTRE-DEUX-LACS | K17: 202408 | M17: EXPORT_CAD_CONDUITE_202409 | N17: =COUNTIFS(Tableau1[NO_PARCELLE],Conduites!$E17,Tableau1[NO_COMMUNE],Conduites!$G17,Tableau1[NOM_COMMUNE],Conduites!$H17)>=2 -> TRUE
A18: 808819 | B18: CL200124_03 | C18: 20.126 | D18: En service | E18: 3038 | F18: CH494977338737 | G18: 6451 | H18: Cornaux | I18: Neuchâtel | J18: CAD ENTRE-DEUX-LACS | K18: 202408 | M18: EXPORT_CAD_CONDUITE_202409 | N18: =COUNTIFS(Tableau1[NO_PARCELLE],Conduites!$E18,Tableau1[NO_COMMUNE],Conduites!$G18,Tableau1[NOM_COMMUNE],Conduites!$H18)>=2 -> TRUE
A19: 968423 | B19: CL200129_03 | C19: 20.127 | D19: En service | E19: 5066 | F19: CH127718498745 | G19: 6452 | H19: Cressier (NE) | I19: Neuchâtel | J19: CAD ENTRE-DEUX-LACS | K19: 202408 | M19: EXPORT_CAD_CONDUITE_202409 | N19: =COUNTIFS(Tableau1[NO_PARCELLE],Conduites!$E19,Tableau1[NO_COMMUNE],Conduites!$G19,Tableau1[NOM_COMMUNE],Conduites!$H19)>=2 -> TRUE
A20: 968437 | B20: CL200129_03 | C20: 20.127 | D20: En service | E20: 5066 | F20: CH127718498745 | G20: 6452 | H20: Cressier (NE) | I20: Neuchâtel | J20: CAD ENTRE-DEUX-LACS | K20: 202408 | M20: EXPORT_CAD_CONDUITE_202409 | N20: =COUNTIFS(Tableau1[NO_PARCELLE],Conduites!$E20,Tableau1[NO_COMMUNE],Conduites!$G20,Tableau1[NOM_COMMUNE],Conduites!$H20)>=2 -> TRUE
A21: 992461 | B21: CL190065_02 | C21: 19.065 | D21: En service | E21: 523 | F21: CH291092149406 | G21: 2208 | H21: Matran | I21: Fribourg | J21: CAD FRIBOURG | K21: 202408 | M21: EXPORT_CAD_CONDUITE_202409 | N21: =COUNTIFS(Tableau1[NO_PARCELLE],Conduites!$E21,Tableau1[NO_COMMUNE],Conduites!$G21,Tableau1[NOM_COMMUNE],Conduites!$H21)>=2 -> TRUE
A22: 992471 | B22: CL190065_02 | C22: 19.065 | D22: En service | E22: 523 | F22: CH291092149406 | G22: 2208 | H22: Matran | I22: Fribourg | J22: CAD FRIBOURG | K22: 202408 | M22: EXPORT_CAD_CONDUITE_202409 | N22: =COUNTIFS(Tableau1[NO_PARCELLE],Conduites!$E22,Tableau1[NO_COMMUNE],Conduites!$G22,Tableau1[NOM_COMMUNE],Conduites!$H22)>=2 -> TRUE
... A26: 1011446 | B26: CL200125_04 | C26: 21.001 | D26: En service | E26: DP26 | F26: CH944584777503 | G26: 6461 | H26: La Tène | I26: Neuchâtel | J26: CAD ENTRE-DEUX-LACS | K26: 202408 | M26: EXPORT_CAD_CONDUITE_202409 | N26: =COUNTIFS(Tableau1[NO_PARCELLE],Conduites!$E26,Tableau1[NO_COMMUNE],Conduites!$G26,Tableau1[NOM_COMMUNE],Conduites!$H26)>=2 -> TRUE
A27: 1013315 | B27: CL150096_15 | D27: En service | E27: 3503 | F27: CH180810948404 | G27: 2054 | H27: Estavayer | I27: Fribourg | J27: CAD ESTAVAYER | K27: 202408 | M27: EXPORT_CAD_CONDUITE_202409 | N27: =COUNTIFS(Tableau1[NO_PARCELLE],Conduites!$E27,Tableau1[NO_COMMUNE],Conduites!$G27,Tableau1[NOM_COMMUNE],Conduites!$H27)>=2 -> TRUE
A28: 1013323 | B28: CL150096_15 | D28: En service | E28: 3503 | F28: CH180810948404 | G28: 2054 | H28: Estavayer | I28: Fribourg | J28: CAD ESTAVAYER | K28: 202408 | M28: EXPORT_CAD_CONDUITE_202409 | N28: =COUNTIFS(Tableau1[NO_PARCELLE],Conduites!$E28,Tableau1[NO_COMMUNE],Conduites!$G28,Tableau1[NOM_COMMUNE],Conduites!$H28)>=2 -> TRUE
A29: 1014427 | B29: CL200125_04 | C29: 21.001 | D29: En service | E29: DP103 | F29: CH574577288497 | G29: 6461 | H29: La Tène | I29: Neuchâtel | J29: CAD ENTRE-DEUX-LACS | K29: 202408 | M29: EXPORT_CAD_CONDUITE_202409 | N29: =COUNTIFS(Tableau1[NO_PARCELLE],Conduites!$E29,Tableau1[NO_COMMUNE],Conduites!$G29,Tableau1[NOM_COMMUNE],Conduites!$H29)>=2 -> FALSE
A30: 1014427 | B30: CL200125_04 | C30: 21.001 | D30: En service | E30: DP107 | F30: CH467784452866 | G30: 6451 | H30: Cornaux | I30: Neuchâtel | J30: CAD ENTRE-DEUX-LACS | K30: 202408 | M30: EXPORT_CAD_CONDUITE_202409 | N30: =COUNTIFS(Tableau1[NO_PARCELLE],Conduites!$E30,Tableau1[NO_COMMUNE],Conduites!$G30,Tableau1[NOM_COMMUNE],Conduites!$H30)>=2 -> TRUE
A31: 1014436 | B31: CL200125_04 | C31: 21.001 | D31: En service | E31: DP107 | F31: CH467784452866 | G31: 6451 | H31: Cornaux | I31: Neuchâtel | J31: CAD ENTRE-DEUX-LACS | K31: 202408 | M31: EXPORT_CAD_CONDUITE_202409 | N31: =COUNTIFS(Tableau1[NO_PARCELLE],Conduites!$E31,Tableau1[NO_COMMUNE],Conduites!$G31,Tableau1[NOM_COMMUNE],Conduites!$H31)>=2 -> TRUE
A32: 1016323 | B32: CL200125_04 | C32: 21.001 | D32: En service | E32: 1070 | F32: CH578777994946 | G32: 6461 | H32: La Tène | I32: Neuchâtel | J32: CAD ENTRE-DEUX-LACS | K32: 202408 | M32: EXPORT_CAD_CONDUITE_202409 | N32: =COUNTIFS(Tableau1[NO_PARCELLE],Conduites!$E32,Tableau1[NO_COMMUNE],Conduites!$G32,Tableau1[NOM_COMMUNE],Conduites!$H32)>=2 -> TRUE
A33: 1016323 | B33: CL200125_04 | C33: 21.001 | D33: En service | E33: DP26 | F33: CH944584777503 | G33: 6461 | H33: La Tène | I33: Neuchâtel | J33: CAD ENTRE-DEUX-LACS | K33: 202408 | M33: EXPORT_CAD_CONDUITE_202409 | N33: =COUNTIFS(Tableau1[NO_PARCELLE],Conduites!$E33,Tableau1[NO_COMMUNE],Conduites!$G33,Tableau1[NOM_COMMUNE],Conduites!$H33)>=2 -> TRUE
A34: 1035499 | B34: CL190065_02 | C34: 19.065 | D34: En service | E34: 507 | F34: CH356410749475 | G34: 2208 | H34: Matran | I34: Fribourg | J34: CAD FRIBOURG | K34: 202408 | M34: EXPORT_CAD_CONDUITE_202409 | N34: =COUNTIFS(Tableau1[NO_PARCELLE],Conduites!$E34,Tableau1[NO_COMMUNE],Conduites!$G34,Tableau1[NOM_COMMUNE],Conduites!$H34)>=2 -> TRUE
A35: 1035545 | B35: CL190065_02 | C35: 19.065 | D35: En service | E35: 507 | F35: CH356410749475 | G35: 2208 | H35: Matran | I35: Fribourg | J35: CAD FRIBOURG | K35: 202408 | M35: EXPORT_CAD_CONDUITE_202409 | N35: =COUNTIFS(Tableau1[NO_PARCELLE],Conduites!$E35,Tableau1[NO_COMMUNE],Conduites!$G35,Tableau1[NOM_COMMUNE],Conduites!$H35)>=2 -> TRUE
A36: 1035553 | B36: CL190065_02 | C36: 19.065 | D36: En service | E36: 507 | F36: CH356410749475 | G36: 2208 | H36: Matran | I36: Fribourg | J36: CAD FRIBOURG | K36: 202408 | M36: EXPORT_CAD_CONDUITE_202409 | N36: =COUNTIFS(Tableau1[NO_PARCELLE],Conduites!$E36,Tableau1[NO_COMMUNE],Conduites!$G36,Tableau1[NOM_COMMUNE],Conduites!$H36)>=2 -> TRUE
A37: 1035567 | B37: CL190065_02 | C37: 19.065 | D37: En service | E37: 507 | F37: CH356410749475 | G37: 2208 | H37: Matran | I37: Fribourg | J37: CAD FRIBOURG | K37: 202408 | M37: EXPORT_CAD_CONDUITE_202409 | N37: =COUNTIFS(Tableau1[NO_PARCELLE],Conduites!$E37,Tableau1[NO_COMMUNE],Conduites!$G37,Tableau1[NOM_COMMUNE],Conduites!$H37)>=2 -> TRUE
A38: 1035599 | B38: CL190065_02 | C38: 19.065 | D38: En service | E38: 20 | F38: CH531090946996 | G38: 2208 | H38: Matran | I38: Fribourg | J38: CAD FRIBOURG | K38: 202408 | M38: EXPORT_CAD_CONDUITE_202409 | N38: =COUNTIFS(Tableau1[NO_PARCELLE],Conduites!$E38,Tableau1[NO_COMMUNE],Conduites!$G38,Tableau1[NOM_COMMUNE],Conduites!$H38)>=2 -> TRUE
A39: 1035608 | B39: CL190065_02 | C39: 19.065 | D39: En service | E39: 20 | F39: CH531090946996 | G39: 2208 | H39: Matran | I39: Fribourg | J39: CAD FRIBOURG | K39: 202408 | M39: EXPORT_CAD_CONDUITE_202409 | N39: =COUNTIFS(Tableau1[NO_PARCELLE],Conduites!$E39,Tableau1[NO_COMMUNE],Conduites!$G39,Tableau1[NOM_COMMUNE],Conduites!$H39)>=2 -> TRUE
A40: 1035617 | B40: CL190065_02 | C40: 19.065 | D40: En service | E40: 120 | F40: CH431084943821 | G40: 2208 | H40: Matran | I40: Fribourg | J40: CAD FRIBOURG | K40: 202408 | M40: EXPORT_CAD_CONDUITE_202409 | N40: =COUNTIFS(Tableau1[NO_PARCELLE],Conduites!$E40,Tableau1[NO_COMMUNE],Conduites!$G40,Tableau1[NOM_COMMUNE],Conduites!$H40)>=2 -> TRUE
A41: 1035626 | B41: CL190065_02 | C41: 19.065 | D41: En service | E41: 120 | F41: CH431084943821 | G41: 2208 | H41: Matran | I41: Fribourg | J41: CAD FRIBOURG | K41: 202408 | M41: EXPORT_CAD_CONDUITE_202409 | N41: =COUNTIFS(Tableau1[NO_PARCELLE],Conduites!$E41,Tableau1[NO_COMMUNE],Conduites!$G41,Tableau1[NOM_COMMUNE],Conduites!$H41)>=2 -> TRUE
A42: 1043358 | B42: CL190164_02 | D42: En service | E42: 7662 | F42: CH479498061020 | G42: 2196 | H42: Fribourg | I42: Fribourg | J42: CAD FRIBOURG | K42: 202408 | M42: EXPORT_CAD_CONDUITE_202409 | N42: =COUNTIFS(Tableau1[NO_PARCELLE],Conduites!$E42,Tableau1[NO_COMMUNE],Conduites!$G42,Tableau1[NOM_COMMUNE],Conduites!$H42)>=2 -> TRUE
A43: 1043358 | B43: CL190164_02 | D43: En service | E43: 7517 | F43: CH391082639412 | G43: 2196 | H43: Fribourg | I43: Fribourg | J43: CAD FRIBOURG | K43: 202408 | M43: EXPORT_CAD_CONDUITE_202409 | N43: =COUNTIFS(Tableau1[NO_PARCELLE],Conduites!$E43,Tableau1[NO_COMMUNE],Conduites!$G43,Tableau1[NOM_COMMUNE],Conduites!$H43)>=2 -> TRUE
...

Sheet Feuil1
A1: =COUNTIFS(Tableau1[NO_PARCELLE],Conduites!E2,Tableau1[NO_COMMUNE],Conduites!G2,Tableau1[NOM_COMMUNE],Conduites!H2)>=2 -> TRUE
