Workbook
Name Colz_Hiver: Stock!$E$19
Name Colza_Automne: Stock!$D$86
Name Colza_Hiver: Stock!$J$8
Name Fiber_Automne: Stock!$D$85
Name Floc_Hiver: Stock!$E$18
Name Granulés_Automne: Stock!$D$83
Name Granulés_Hiver: Stock!$E$16
Name GrMarion_Automne: Stock!$D$88
Name GrMarion_Hiver: Stock!$E$21
Name Lino_Automne: Stock!$D$84
Name Lino_Hiver: Stock!$E$17
Name Minfirst_Automne: Stock!$D$87
Name Minfirst_Hiver: Stock!$E$20
Name Orge_Automne: Stock!$D$81
Name Orge_Hiver: Stock!$E$14
Name Pulpe_Automne: Stock!$D$82
Name Pulpe_Hiver: Stock!$E$15
Name Résultat: Stock!$J$8

Sheet Alimentation
C1: TOTAL | D1: =SUBTOTAL(9,Alimentation!D$5:D60000) -> 518 | E1: =SUBTOTAL(9,Alimentation!E$5:E60000) -> 1260 | F1: =SUBTOTAL(9,Alimentation!F$5:F60000) -> 69.6 | G1: =SUBTOTAL(9,Alimentation!G$5:G60000) -> 26.6 | H1: =SUBTOTAL(9,Alimentation!H$5:H60000) -> 324 | I1: =SUBTOTAL(9,Alimentation!I$5:I60000) -> 2310 | J1: =SUBTOTAL(9,Alimentation!J$5:J60000) -> 1050 | K1: =SUBTOTAL(9,Alimentation!K$5:K60000) -> 1570
C2: TOTAL (KG) | D2: =D1*0.7 -> 362.6 | E2: =E1*0.08 -> 100.8 | F2: =F1*3 -> 208.8 | G2: =G1*1 -> 26.6 | H2: =H1*2 -> 648 | I2: =I1*0.06 -> 138.6 | J2: =J1*0.05 -> 52.5 | K2: =K1*1.75 -> 2747.5
A4: J | B4: date | C4: Cheval | D4: Orge (a) | E4: Pulpe (p) | F4: Granulés foin (G) | G4: Linolus (L) | H4: Fiber / Floc (F) | I4: Colza (c) | J4: Minfirst (m) | K4: Gr Complets
A5: =UPPER(LEFT(TEXT(B5,"jjj"),1)) -> M | B5: 45231 | C5: Génésis | D5: 15 | E5: 60 | F5: 3 | G5: 1.5 | H5: 13 | I5: 150 | J5: 50 | K5: 86
A6: =UPPER(LEFT(TEXT(B6,"jjj"),1)) -> M | B6: 45231 | C6: Loustic | D6: 15 | E6: 60 | F6: 3.5 | G6: 1.5 | H6: 16 | I6: 75 | J6: 50 | K6: 67
A7: =UPPER(LEFT(TEXT(B7,"jjj"),1)) -> M | B7: 45231 | C7: Kittie | D7: 20 | E7: 60 | F7: 3.4 | G7: 1.2 | H7: 14 | I7: 108 | J7: 50 | K7: 51
A8: =UPPER(LEFT(TEXT(B8,"jjj"),1)) -> M | B8: 45231 | C8: Manzanilla | D8: 10 | E8: 60 | F8: 3.5 | G8: 1.4 | H8: 16 | I8: 129 | J8: 50 | K8: 83
A9: =UPPER(LEFT(TEXT(B9,"jjj"),1)) -> M | B9: 45231 | C9: Daddy | D9: 50 | E9: 60 | F9: 3.5 | G9: 1 | H9: 16 | I9: 104 | J9: 50 | K9: 70
A10: =UPPER(LEFT(TEXT(B10,"jjj"),1)) -> M | B10: 45231 | C10: Jolie Dame | D10: 60 | E10: 60 | F10: 3.5 | G10: 1.3 | H10: 13 | I10: 116 | J10: 50 | K10: 52
A11: =UPPER(LEFT(TEXT(B11,"jjj"),1)) -> M | B11: 45231 | C11: Quick | D11: 10 | E11: 60 | F11: 3.5 | G11: 1 | H11: 13 | I11: 123 | J11: 50 | K11: 80
A12: =UPPER(LEFT(TEXT(B12,"jjj"),1)) -> J | B12: 45232 | C12: Génésis | D12: 20 | E12: 60 | F12: 3.4 | G12: 1.5 | H12: 18 | I12: 116 | J12: 50 | K12: 70
A13: =UPPER(LEFT(TEXT(B13,"jjj"),1)) -> J | B13: 45232 | C13: Loustic | D13: 20 | E13: 60 | F13: 3.3 | G13: 1.1 | H13: 13 | I13: 101 | J13: 50 | K13: 77
A14: =UPPER(LEFT(TEXT(B14,"jjj"),1)) -> J | B14: 45232 | C14: Kittie | D14: 30 | E14: 60 | F14: 3.2 | G14: 1.5 | H14: 17 | I14: 97 | J14: 50 | K14: 88
A15: =UPPER(LEFT(TEXT(B15,"jjj"),1)) -> J | B15: 45232 | C15: Manzanilla | D15: 15 | E15: 60 | F15: 3.3 | G15: 1 | H15: 19 | I15: 144 | J15: 50 | K15: 58
A16: =UPPER(LEFT(TEXT(B16,"jjj"),1)) -> J | B16: 45232 | C16: Daddy | D16: 50 | E16: 60 | F16: 3.4 | G16: 1.4 | H16: 20 | I16: 120 | J16: 50 | K16: 62
... A25: =UPPER(LEFT(TEXT(B25,"jjj"),1)) -> V | B25: 45233 | C25: Quick | D25: 10 | E25: 60 | F25: 3.4 | G25: 1.4 | H25: 14 | I25: 107 | J25: 50 | K25: 83

Sheet Stock
B1: Génésis | C1: Loustic | D1: Kittie | E1: Manzanilla | F1: Daddy | G1: Jolie Dame | H1: Quick | I1: Totaux doses | J1: Qté utilisée (kg)
A2: 45231
A3: Orge (a) | B3: {=SUMPRODUCT((Alimentation!$C$5:$C$25=Stock!B$1)*(Alimentation!$D$4:$K$4=Stock!$A3)*Alimentation!$D$5:$K$25)} -> 65 | C3: {=SUMPRODUCT((Alimentation!$C$5:$C$25=Stock!C$1)*(Alimentation!$D$4:$K$4=Stock!$A3)*Alimentation!$D$5:$K$25)} -> 55 | D3: {=SUMPRODUCT((Alimentation!$C$5:$C$25=Stock!D$1)*(Alimentation!$D$4:$K$4=Stock!$A3)*Alimentation!$D$5:$K$25)} -> 60 | E3: {=SUMPRODUCT((Alimentation!$C$5:$C$25=Stock!E$1)*(Alimentation!$D$4:$K$4=Stock!$A3)*Alimentation!$D$5:$K$25)} -> 75 | F3: {=SUMPRODUCT((Alimentation!$C$5:$C$25=Stock!F$1)*(Alimentation!$D$4:$K$4=Stock!$A3)*Alimentation!$D$5:$K$25)} -> 120 | G3: {=SUMPRODUCT((Alimentation!$C$5:$C$25=Stock!G$1)*(Alimentation!$D$4:$K$4=Stock!$A3)*Alimentation!$D$5:$K$25)} -> 110 | H3: {=SUMPRODUCT((Alimentation!$C$5:$C$25=Stock!H$1)*(Alimentation!$D$4:$K$4=Stock!$A3)*Alimentation!$D$5:$K$25)} -> 33 | I3: =SUM(B3:H3) -> 518 | J3: =I3*Orge_Hiver -> 362.6
A4: Pulpe (p) | B4: {=SUMPRODUCT((Alimentation!$C$5:$C$25=Stock!B$1)*(Alimentation!$D$4:$K$4=Stock!$A4)*Alimentation!$D$5:$K$25)} -> 180 | C4: {=SUMPRODUCT((Alimentation!$C$5:$C$25=Stock!C$1)*(Alimentation!$D$4:$K$4=Stock!$A4)*Alimentation!$D$5:$K$25)} -> 180 | D4: {=SUMPRODUCT((Alimentation!$C$5:$C$25=Stock!D$1)*(Alimentation!$D$4:$K$4=Stock!$A4)*Alimentation!$D$5:$K$25)} -> 180 | E4: {=SUMPRODUCT((Alimentation!$C$5:$C$25=Stock!E$1)*(Alimentation!$D$4:$K$4=Stock!$A4)*Alimentation!$D$5:$K$25)} -> 180 | F4: {=SUMPRODUCT((Alimentation!$C$5:$C$25=Stock!F$1)*(Alimentation!$D$4:$K$4=Stock!$A4)*Alimentation!$D$5:$K$25)} -> 180 | G4: {=SUMPRODUCT((Alimentation!$C$5:$C$25=Stock!G$1)*(Alimentation!$D$4:$K$4=Stock!$A4)*Alimentation!$D$5:$K$25)} -> 180 | H4: {=SUMPRODUCT((Alimentation!$C$5:$C$25=Stock!H$1)*(Alimentation!$D$4:$K$4=Stock!$A4)*Alimentation!$D$5:$K$25)} -> 180 | I4: =SUM(B4:H4) -> 1260 | J4: =I4*Pulpe_Hiver -> 100.8
A5: Granulés foin (G) | B5: {=SUMPRODUCT((Alimentation!$C$5:$C$25=Stock!B$1)*(Alimentation!$D$4:$K$4=Stock!$A5)*Alimentation!$D$5:$K$25)} -> 9.5 | C5: {=SUMPRODUCT((Alimentation!$C$5:$C$25=Stock!C$1)*(Alimentation!$D$4:$K$4=Stock!$A5)*Alimentation!$D$5:$K$25)} -> 10.1 | D5: {=SUMPRODUCT((Alimentation!$C$5:$C$25=Stock!D$1)*(Alimentation!$D$4:$K$4=Stock!$A5)*Alimentation!$D$5:$K$25)} -> 9.9 | E5: {=SUMPRODUCT((Alimentation!$C$5:$C$25=Stock!E$1)*(Alimentation!$D$4:$K$4=Stock!$A5)*Alimentation!$D$5:$K$25)} -> 10.2 | F5: {=SUMPRODUCT((Alimentation!$C$5:$C$25=Stock!F$1)*(Alimentation!$D$4:$K$4=Stock!$A5)*Alimentation!$D$5:$K$25)} -> 9.9 | G5: {=SUMPRODUCT((Alimentation!$C$5:$C$25=Stock!G$1)*(Alimentation!$D$4:$K$4=Stock!$A5)*Alimentation!$D$5:$K$25)} -> 9.8 | H5: {=SUMPRODUCT((Alimentation!$C$5:$C$25=Stock!H$1)*(Alimentation!$D$4:$K$4=Stock!$A5)*Alimentation!$D$5:$K$25)} -> 10.2 | I5: =SUM(B5:H5) -> 69.6 | J5: =I5*Granulés_Hiver -> 208.8
A6: Linolus (L) | B6: {=SUMPRODUCT((Alimentation!$C$5:$C$25=Stock!B$1)*(Alimentation!$D$4:$K$4=Stock!$A6)*Alimentation!$D$5:$K$25)} -> 4 | C6: {=SUMPRODUCT((Alimentation!$C$5:$C$25=Stock!C$1)*(Alimentation!$D$4:$K$4=Stock!$A6)*Alimentation!$D$5:$K$25)} -> 4.1 | D6: {=SUMPRODUCT((Alimentation!$C$5:$C$25=Stock!D$1)*(Alimentation!$D$4:$K$4=Stock!$A6)*Alimentation!$D$5:$K$25)} -> 3.7 | E6: {=SUMPRODUCT((Alimentation!$C$5:$C$25=Stock!E$1)*(Alimentation!$D$4:$K$4=Stock!$A6)*Alimentation!$D$5:$K$25)} -> 3.5 | F6: {=SUMPRODUCT((Alimentation!$C$5:$C$25=Stock!F$1)*(Alimentation!$D$4:$K$4=Stock!$A6)*Alimentation!$D$5:$K$25)} -> 3.4 | G6: {=SUMPRODUCT((Alimentation!$C$5:$C$25=Stock!G$1)*(Alimentation!$D$4:$K$4=Stock!$A6)*Alimentation!$D$5:$K$25)} -> 4 | H6: {=SUMPRODUCT((Alimentation!$C$5:$C$25=Stock!H$1)*(Alimentation!$D$4:$K$4=Stock!$A6)*Alimentation!$D$5:$K$25)} -> 3.9 | I6: =SUM(B6:H6) -> 26.6 | J6: =I6*Lino_Hiver -> 26.6
A7: Fiber / Floc (F) | B7: {=SUMPRODUCT((Alimentation!$C$5:$C$25=Stock!B$1)*(Alimentation!$D$4:$K$4=Stock!$A7)*Alimentation!$D$5:$K$25)} -> 46 | C7: {=SUMPRODUCT((Alimentation!$C$5:$C$25=Stock!C$1)*(Alimentation!$D$4:$K$4=Stock!$A7)*Alimentation!$D$5:$K$25)} -> 44 | D7: {=SUMPRODUCT((Alimentation!$C$5:$C$25=Stock!D$1)*(Alimentation!$D$4:$K$4=Stock!$A7)*Alimentation!$D$5:$K$25)} -> 47 | E7: {=SUMPRODUCT((Alimentation!$C$5:$C$25=Stock!E$1)*(Alimentation!$D$4:$K$4=Stock!$A7)*Alimentation!$D$5:$K$25)} -> 47 | F7: {=SUMPRODUCT((Alimentation!$C$5:$C$25=Stock!F$1)*(Alimentation!$D$4:$K$4=Stock!$A7)*Alimentation!$D$5:$K$25)} -> 47 | G7: {=SUMPRODUCT((Alimentation!$C$5:$C$25=Stock!G$1)*(Alimentation!$D$4:$K$4=Stock!$A7)*Alimentation!$D$5:$K$25)} -> 47 | H7: {=SUMPRODUCT((Alimentation!$C$5:$C$25=Stock!H$1)*(Alimentation!$D$4:$K$4=Stock!$A7)*Alimentation!$D$5:$K$25)} -> 46 | I7: =SUM(B7:H7) -> 324 | J7: =I7*Floc_Hiver -> 648
A8: Colza (c) | B8: {=SUMPRODUCT((Alimentation!$C$5:$C$25=Stock!B$1)*(Alimentation!$D$4:$K$4=Stock!$A8)*Alimentation!$D$5:$K$25)} -> 383 | C8: {=SUMPRODUCT((Alimentation!$C$5:$C$25=Stock!C$1)*(Alimentation!$D$4:$K$4=Stock!$A8)*Alimentation!$D$5:$K$25)} -> 294 | D8: {=SUMPRODUCT((Alimentation!$C$5:$C$25=Stock!D$1)*(Alimentation!$D$4:$K$4=Stock!$A8)*Alimentation!$D$5:$K$25)} -> 287 | E8: {=SUMPRODUCT((Alimentation!$C$5:$C$25=Stock!E$1)*(Alimentation!$D$4:$K$4=Stock!$A8)*Alimentation!$D$5:$K$25)} -> 348 | F8: {=SUMPRODUCT((Alimentation!$C$5:$C$25=Stock!F$1)*(Alimentation!$D$4:$K$4=Stock!$A8)*Alimentation!$D$5:$K$25)} -> 371 | G8: {=SUMPRODUCT((Alimentation!$C$5:$C$25=Stock!G$1)*(Alimentation!$D$4:$K$4=Stock!$A8)*Alimentation!$D$5:$K$25)} -> 288 | H8: {=SUMPRODUCT((Alimentation!$C$5:$C$25=Stock!H$1)*(Alimentation!$D$4:$K$4=Stock!$A8)*Alimentation!$D$5:$K$25)} -> 339 | I8: =SUM(B8:H8) -> 2310 | J8: {=I8*Colz_Hiver} -> 138.6
A9: Minfirst (m) | B9: {=SUMPRODUCT((Alimentation!$C$5:$C$25=Stock!B$1)*(Alimentation!$D$4:$K$4=Stock!$A9)*Alimentation!$D$5:$K$25)} -> 150 | C9: {=SUMPRODUCT((Alimentation!$C$5:$C$25=Stock!C$1)*(Alimentation!$D$4:$K$4=Stock!$A9)*Alimentation!$D$5:$K$25)} -> 150 | D9: {=SUMPRODUCT((Alimentation!$C$5:$C$25=Stock!D$1)*(Alimentation!$D$4:$K$4=Stock!$A9)*Alimentation!$D$5:$K$25)} -> 150 | E9: {=SUMPRODUCT((Alimentation!$C$5:$C$25=Stock!E$1)*(Alimentation!$D$4:$K$4=Stock!$A9)*Alimentation!$D$5:$K$25)} -> 150 | F9: {=SUMPRODUCT((Alimentation!$C$5:$C$25=Stock!F$1)*(Alimentation!$D$4:$K$4=Stock!$A9)*Alimentation!$D$5:$K$25)} -> 150 | G9: {=SUMPRODUCT((Alimentation!$C$5:$C$25=Stock!G$1)*(Alimentation!$D$4:$K$4=Stock!$A9)*Alimentation!$D$5:$K$25)} -> 150 | H9: {=SUMPRODUCT((Alimentation!$C$5:$C$25=Stock!H$1)*(Alimentation!$D$4:$K$4=Stock!$A9)*Alimentation!$D$5:$K$25)} -> 150 | I9: =SUM(B9:H9) -> 1050 | J9: {=I9*Minfirst_Hiver} -> 52.5
A10: Gr Complets | B10: {=SUMPRODUCT((Alimentation!$C$5:$C$25=Stock!B$1)*(Alimentation!$D$4:$K$4=Stock!$A10)*Alimentation!$D$5:$K$25)} -> 221 | C10: {=SUMPRODUCT((Alimentation!$C$5:$C$25=Stock!C$1)*(Alimentation!$D$4:$K$4=Stock!$A10)*Alimentation!$D$5:$K$25)} -> 212 | D10: {=SUMPRODUCT((Alimentation!$C$5:$C$25=Stock!D$1)*(Alimentation!$D$4:$K$4=Stock!$A10)*Alimentation!$D$5:$K$25)} -> 212 | E10: {=SUMPRODUCT((Alimentation!$C$5:$C$25=Stock!E$1)*(Alimentation!$D$4:$K$4=Stock!$A10)*Alimentation!$D$5:$K$25)} -> 235 | F10: {=SUMPRODUCT((Alimentation!$C$5:$C$25=Stock!F$1)*(Alimentation!$D$4:$K$4=Stock!$A10)*Alimentation!$D$5:$K$25)} -> 223 | G10: {=SUMPRODUCT((Alimentation!$C$5:$C$25=Stock!G$1)*(Alimentation!$D$4:$K$4=Stock!$A10)*Alimentation!$D$5:$K$25)} -> 235 | H10: {=SUMPRODUCT((Alimentation!$C$5:$C$25=Stock!H$1)*(Alimentation!$D$4:$K$4=Stock!$A10)*Alimentation!$D$5:$K$25)} -> 232 | I10: =SUM(B10:H10) -> 1570 | J10: =I10*GrMarion_Hiver -> 2747.5
A14: Orge Aplati | B14: a | C14: 20 | D14: 20 | E14: 0.7
A15: Pulpe (freedom ou Berry) | B15: p | C15: 1 | D15: 0.9 | E15: 0.08
A16: Granulés foin | B16: G | C16: 25 | D16: 105 | E16: 3
A17: Linoluz | B17: L | C17: 20 | D17: 115 | E17: 1
A18: Floc / fiber | B18: F | C18: 25 | D18: 65 | E18: 2
A19: Colza | B19: c | C19: 10 | D19: 5 | E19: 0.06
A20: Minfirst | B20: m | C20: 10 | D20: 15 | E20: 0.05
A21: Gr Complets | B21: d | C21: 10 | D21: 18 | E21: 1.75
