Workbook
Name Action: [1]Source!$L$2:$L$6
Name Action: #REF!
Name Action_MConnect: [1]Source!$L$16:$L$26
Name Action_MConnect: #REF!
Name Agent: [1]Source!$A$2:$A$4
Name Agent: #REF!
Name Agent_CA: [1]Source!$A$14:$A$16
Name Agent_CA: #REF!
Name Agent_N2: [1]Source!$A$19:$A$21
Name Agent_N2: #REF!
Name AgentN2: #REF!
Name Agents: #REF!
Name Aides_développement: #REF!
Name Autographe___Collection: #REF!
Name Autre_service: #REF!
Name Autre_service_N2: #REF!
Name Autres: #REF!
Name Autres_CA: #REF!
Name Budget_Trésor: #REF!
Name Budget_Trésor_N2: #REF!
Name Bugs_Evolutions: [1]Source!$J$40:$J$41
Name Bugs_Evolutions: #REF!
Name Cat_demande_Gouv: [1]Source!$G$9:$G$11
Name Cat_demande_Gouv: #REF!
Name Catégorie_demande: [1]Source!$G$2:$G$4
Name Catégorie_demande_CA: [1]Source!$G$21:$G$24
Name Catégorie_demande_CA: #REF!
Name Catégorie_demande_MG: #REF!
Name Catégorie_TS_part: #REF!
Name Catégorie_TS_PRO: #REF!
Name CatN1: 'Centre d''appel'!$Q:$Q
Name Covid19: #REF!
Name Covid19_PRO: #REF!
Name Création_activité: [1]Source!#REF!
Name DateGV: [2]Gouv.mc!$B:$B
Name DateGV2: #REF!
Name DateMC2: #REF!
Name DateMCo: [2]MConnect!$E:$E
Name DateMG: #REF!
Name DateMG2: #REF!
Name DateN1: '[2]N1 Gouv.mc'!$B:$B
Name DateNiv1: 'Centre d''appel'!$B:$B
Name DateRemN2: 'Compteur R'!$Q:$Q
Name Domaine_MI: [1]Source!$C$19:$C$22
Name Domaine_MI: #REF!
Name Education: #REF!
Name Education_N2: #REF!
Name Emploi: #REF!
Name Emploi_N2: #REF!
Name Emploi_social: #REF!
Name En_cours_activité: #REF!
Name Environnement: [1]Source!$C$13:$C$14
Name Evenements_de_vie: #REF!
Name Expansion_économique: #REF!
Name Expansion_économique_N2: #REF!
Name Famille_demande: #REF!
Name Famille_demande_N2: #REF!
Name Fiscalité: #REF!
Name Fiscalité_N2: #REF!
Name Fréquence: #REF!

Sheet Stats jour
B1: Combiné | F1: Demandes N2 | J1: Appels N1 | M1: Escalade N2 | P1: Escalade N3
B2: Gouv | C2: Zombie | D2: ETAT | F2: Gouv | G2: Zombie | H2: ETAT | I2: TOTAL | J2: Zombie | K2: ETAT | L2: TOTAL | M2: Zombie | N2: ETAT | O2: TOTAL | P2: Zombie | Q2: ETAT | R2: TOTAL
A3: 44958 | B3: =F3 -> 7 | C3: =G3+J3 -> 10 | D3: =H3+K3 -> 0 | E3: =B3+C3+D3 -> 17 | F3: 7 | G3: 6 | H3: 0 | I3: =SUM(F3:H3) -> 13 | J3: 4 | K3: 0 | L3: =SUM(J3:K3) -> 4 | O3: =SUM(M3:N3) -> 0 | R3: =SUM(P3:Q3) -> 0 | Y3: TOTAL TICKETS | Z3: JANVIER
A4: 44959 | B4: =F4 -> 7 | C4: =G4+J4 -> 8 | D4: =H4+K4 -> 1 | E4: =B4+C4+D4 -> 16 | F4: 7 | G4: 2 | H4: 0 | I4: =SUM(F4:H4) -> 9 | J4: 6 | K4: 1 | L4: =SUM(J4:K4) -> 7 | O4: =SUM(M4:N4) -> 0 | R4: =SUM(P4:Q4) -> 0 | Y4: =F35+G35+H35+J35+K35 -> 249
A5: 44960 | B5: =F5 -> 12 | C5: =G5+J5 -> 12 | D5: =H5+K5 -> 3 | E5: =B5+C5+D5 -> 27 | F5: 12 | G5: 5 | H5: 2 | I5: =SUM(F5:H5) -> 19 | J5: 7 | K5: 1 | L5: =SUM(J5:K5) -> 8 | O5: =SUM(M5:N5) -> 0 | R5: =SUM(P5:Q5) -> 0
A6: 44961 | B6: =F6 -> 2 | C6: =G6+J6 -> 0 | D6: =H6+K6 -> 0 | E6: =B6+C6+D6 -> 2 | F6: 2 | G6: 0 | H6: 0 | I6: =SUM(F6:H6) -> 2 | J6: 0 | K6: 0 | L6: =SUM(J6:K6) -> 0 | O6: =SUM(M6:N6) -> 0 | R6: =SUM(P6:Q6) -> 0
A7: 44962 | B7: =F7 -> 2 | C7: =G7+J7 -> 0 | D7: =H7+K7 -> 0 | E7: =B7+C7+D7 -> 2 | F7: 2 | G7: 0 | H7: 0 | I7: =SUM(F7:H7) -> 2 | J7: 0 | K7: 0 | L7: =SUM(J7:K7) -> 0 | O7: =SUM(M7:N7) -> 0 | R7: =SUM(P7:Q7) -> 0
A8: 44963 | B8: =F8 -> 10 | C8: =G8+J8 -> 18 | D8: =H8+K8 -> 0 | E8: =B8+C8+D8 -> 28 | F8: 10 | G8: 11 | H8: 0 | I8: =SUM(F8:H8) -> 21 | J8: 7 | K8: 0 | L8: =SUM(J8:K8) -> 7 | O8: =SUM(M8:N8) -> 0 | R8: =SUM(P8:Q8) -> 0 | Y8: Représentation N1->N2 en %
A9: 44964 | B9: =F9 -> 5 | C9: =G9+J9 -> 11 | D9: =H9+K9 -> 5 | E9: =B9+C9+D9 -> 21 | F9: 5 | G9: 6 | H9: 2 | I9: =SUM(F9:H9) -> 13 | J9: 5 | K9: 3 | L9: =SUM(J9:K9) -> 8 | O9: =SUM(M9:N9) -> 0 | R9: =SUM(P9:Q9) -> 0 | Y9: ETAT | Z9: Zombie
A10: 44965 | B10: =F10 -> 7 | C10: =G10+J10 -> 10 | D10: =H10+K10 -> 1 | E10: =B10+C10+D10 -> 18 | F10: 7 | G10: 4 | H10: 0 | I10: =SUM(F10:H10) -> 11 | J10: 6 | K10: 1 | L10: =SUM(J10:K10) -> 7 | O10: =SUM(M10:N10) -> 0 | R10: =SUM(P10:Q10) -> 0 | Y10: =H37 -> 112.5 | Z10: =G37 -> 121.31148
A11: 44966 | B11: =F11 -> 4 | C11: =G11+J11 -> 9 | D11: =H11+K11 -> 0 | E11: =B11+C11+D11 -> 13 | F11: 4 | G11: 0 | H11: 0 | I11: =SUM(F11:H11) -> 4 | J11: 9 | K11: 0 | L11: =SUM(J11:K11) -> 9 | O11: =SUM(M11:N11) -> 0 | R11: =SUM(P11:Q11) -> 0
A12: 44967 | B12: =F12 -> 3 | C12: =G12+J12 -> 11 | D12: =H12+K12 -> 0 | E12: =B12+C12+D12 -> 14 | F12: 3 | G12: 4 | H12: 0 | I12: =SUM(F12:H12) -> 7 | J12: 7 | K12: 0 | L12: =SUM(J12:K12) -> 7 | O12: =SUM(M12:N12) -> 0 | R12: =SUM(P12:Q12) -> 0
A13: 44968 | B13: =F13 -> 0 | C13: =G13+J13 -> 0 | D13: =H13+K13 -> 0 | E13: =B13+C13+D13 -> 0 | F13: 0 | G13: 0 | H13: 0 | I13: =SUM(F13:H13) -> 0 | J13: 0 | K13: 0 | L13: =SUM(J13:K13) -> 0 | O13: =SUM(M13:N13) -> 0 | R13: =SUM(P13:Q13) -> 0
A14: 44969 | B14: =F14 -> 0 | C14: =G14+J14 -> 0 | D14: =H14+K14 -> 0 | E14: =B14+C14+D14 -> 0 | F14: 0 | G14: 0 | H14: 0 | I14: =SUM(F14:H14) -> 0 | J14: 0 | K14: 0 | L14: =SUM(J14:K14) -> 0 | O14: =SUM(M14:N14) -> 0 | R14: =SUM(P14:Q14) -> 0
A15: 44970 | B15: =F15 -> 3 | C15: =G15+J15 -> 18 | D15: =H15+K15 -> 0 | E15: =B15+C15+D15 -> 21 | F15: 3 | G15: 5 | H15: 0 | I15: =SUM(F15:H15) -> 8 | J15: 13 | K15: 0 | L15: =SUM(J15:K15) -> 13 | O15: =SUM(M15:N15) -> 0 | R15: =SUM(P15:Q15) -> 0
A16: 44971 | B16: =F16 -> 1 | C16: =G16+J16 -> 11 | D16: =H16+K16 -> 0 | E16: =B16+C16+D16 -> 12 | F16: 1 | G16: 4 | H16: 0 | I16: =SUM(F16:H16) -> 5 | J16: 7 | K16: 0 | L16: =SUM(J16:K16) -> 7 | O16: =SUM(M16:N16) -> 0 | R16: =SUM(P16:Q16) -> 0
A17: 44972 | B17: =F17 -> 3 | C17: =G17+J17 -> 5 | D17: =H17+K17 -> 2 | E17: =B17+C17+D17 -> 10 | F17: 3 | G17: 4 | H17: 1 | I17: =SUM(F17:H17) -> 8 | J17: 1 | K17: 1 | L17: =SUM(J17:K17) -> 2 | O17: =SUM(M17:N17) -> 0 | R17: =SUM(P17:Q17) -> 0
A18: 44973 | B18: =F18 -> 4 | C18: =G18+J18 -> 4 | D18: =H18+K18 -> 1 | E18: =B18+C18+D18 -> 9 | F18: 4 | G18: 3 | H18: 0 | I18: =SUM(F18:H18) -> 7 | J18: 1 | K18: 1 | L18: =SUM(J18:K18) -> 2 | O18: =SUM(M18:N18) -> 0 | R18: =SUM(P18:Q18) -> 0
A19: 44974 | B19: =F19 -> 7 | C19: =G19+J19 -> 1 | D19: =H19+K19 -> 0 | E19: =B19+C19+D19 -> 8 | F19: 7 | G19: 1 | H19: 0 | I19: =SUM(F19:H19) -> 8 | J19: 0 | K19: 0 | L19: =SUM(J19:K19) -> 0 | O19: =SUM(M19:N19) -> 0 | R19: =SUM(P19:Q19) -> 0
A20: 44975 | B20: =F20 -> 0 | C20: =G20+J20 -> 0 | D20: =H20+K20 -> 0 | E20: =B20+C20+D20 -> 0 | F20: 0 | G20: 0 | H20: 0 | I20: =SUM(F20:H20) -> 0 | J20: 0 | K20: 0 | L20: =SUM(J20:K20) -> 0 | O20: =SUM(M20:N20) -> 0 | R20: =SUM(P20:Q20) -> 0
A21: 44976 | B21: =F21 -> 0 | C21: =G21+J21 -> 0 | D21: =H21+K21 -> 0 | E21: =B21+C21+D21 -> 0 | F21: 0 | G21: 0 | H21: 0 | I21: =SUM(F21:H21) -> 0 | J21: 0 | K21: 0 | L21: =SUM(J21:K21) -> 0 | O21: =SUM(M21:N21) -> 0 | R21: =SUM(P21:Q21) -> 0
A22: 44977 | B22: =F22 -> 13 | C22: =G22+J22 -> 4 | D22: =H22+K22 -> 2 | E22: =B22+C22+D22 -> 19 | F22: 13 | G22: 3 | H22: 2 | I22: =SUM(F22:H22) -> 18 | J22: 1 | K22: 0 | L22: =SUM(J22:K22) -> 1 | O22: =SUM(M22:N22) -> 0 | R22: =SUM(P22:Q22) -> 0
A23: 44978 | B23: =F23 -> 7 | C23: =G23+J23 -> 3 | D23: =H23+K23 -> 2 | E23: =B23+C23+D23 -> 12 | F23: 7 | G23: 3 | H23: 1 | I23: =SUM(F23:H23) -> 11 | J23: 0 | K23: 1 | L23: =SUM(J23:K23) -> 1 | O23: =SUM(M23:N23) -> 0 | R23: =SUM(P23:Q23) -> 0
A24: 44979 | B24: =F24 -> 0 | C24: =G24+J24 -> 0 | D24: =H24+K24 -> 0 | E24: =B24+C24+D24 -> 0 | I24: =SUM(F24:H24) -> 0 | L24: =SUM(J24:K24) -> 0 | O24: =SUM(M24:N24) -> 0 | R24: =SUM(P24:Q24) -> 0
A25: 44980 | B25: =F25 -> 0 | C25: =G25+J25 -> 0 | D25: =H25+K25 -> 0 | E25: =B25+C25+D25 -> 0 | I25: =SUM(F25:H25) -> 0 | L25: =SUM(J25:K25) -> 0 | O25: =SUM(M25:N25) -> 0 | R25: =SUM(P25:Q25) -> 0
A26: 44981 | B26: =F26 -> 0 | C26: =G26+J26 -> 0 | D26: =H26+K26 -> 0 | E26: =B26+C26+D26 -> 0 | I26: =SUM(F26:H26) -> 0 | L26: =SUM(J26:K26) -> 0 | O26: =SUM(M26:N26) -> 0 | R26: =SUM(P26:Q26) -> 0
A27: 44982 | B27: =F27 -> 0 | C27: =G27+J27 -> 0 | D27: =H27+K27 -> 0 | E27: =B27+C27+D27 -> 0 | I27: =SUM(F27:H27) -> 0 | L27: =SUM(J27:K27) -> 0 | O27: =SUM(M27:N27) -> 0 | R27: =SUM(P27:Q27) -> 0
A28: 44983 | B28: =F28 -> 0 | C28: =G28+J28 -> 0 | D28: =H28+K28 -> 0 | E28: =B28+C28+D28 -> 0 | I28: =SUM(F28:H28) -> 0 | L28: =SUM(J28:K28) -> 0 | O28: =SUM(M28:N28) -> 0 | R28: =SUM(P28:Q28) -> 0
A29: 44984 | B29: =F29 -> 0 | C29: =G29+J29 -> 0 | D29: =H29+K29 -> 0 | E29: =B29+C29+D29 -> 0 | I29: =SUM(F29:H29) -> 0 | L29: =SUM(J29:K29) -> 0 | O29: =SUM(M29:N29) -> 0 | R29: =SUM(P29:Q29) -> 0
A30: 44985 | B30: =F30 -> 0 | C30: =G30+J30 -> 0 | D30: =H30+K30 -> 0 | E30: =B30+C30+D30 -> 0 | I30: =SUM(F30:H30) -> 0 | L30: =SUM(J30:K30) -> 0 | O30: =SUM(M30:N30) -> 0 | R30: =SUM(P30:Q30) -> 0
B31: =F31 -> 0 | C31: =G31+J31 -> 0 | D31: =H31+K31 -> 0 | E31: =B31+C31+D31 -> 0 | I31: =SUM(F31:H31) -> 0 | L31: =SUM(J31:K31) -> 0 | O31: =SUM(M31:N31) -> 0 | R31: =SUM(P31:Q31) -> 0
B32: =F32 -> 0 | C32: =G32+J32 -> 0 | D32: =H32+K32 -> 0 | E32: =B32+C32+D32 -> 0 | I32: =SUM(F32:H32) -> 0 | L32: =SUM(J32:K32) -> 0 | O32: =SUM(M32:N32) -> 0 | R32: =SUM(P32:Q32) -> 0
B33: =F33 -> 0 | C33: =G33+J33 -> 0 | D33: =H33+K33 -> 0 | E33: =B33+C33+D33 -> 0 | I33: =SUM(F33:H33) -> 0 | L33: =SUM(J33:K33) -> 0 | O33: =SUM(M33:N33) -> 0 | R33: =SUM(P33:Q33) -> 0
B34: Licorne | C34: Zombie | D34: ETAT | F34: Licorne | G34: Zombie | H34: ETAT | I34: TOTAL | J34: Zombie | K34: ETAT | L34: TOTAL | M34: Zombie | N34: ETAT | O34: TOTAL | P34: Zombie | Q34: ETAT | R34: TOTAL
A35: TOTAL | B35: =SUM(B3:B33) -> 97 | C35: =SUM(C3:C33) -> 135 | D35: =SUM(D3:D33) -> 17 | E35: =B35+C35+D35 -> 249 | F35: =SUM(F3:F33) -> 97 | G35: =SUM(G3:G33)-P35 -> 61 | H35: =SUM(H3:H33)-Q35 -> 8 | I35: =SUM(I3:I33) -> 166 | J35: =SUM(J3:J33) -> 74 | K35: =SUM(K3:K33) -> 9 | L35: =SUM(L3:L33) -> 83 | N35: =SUM(N3:N33) -> 0 | O35: =SUM(O3:O33) -> 0 | Q35: =SUM(Q3:Q33) -> 0 | R35: =SUM(R3:R33) -> 0
G36: =J35 -> 74 | H36: =K35 -> 9
G37: =(J35/G35)*100 -> 121.31148 | H37: =(H36/H35)*100 -> 112.5

Sheet TCD
A3: Nombre de Date | B3: Étiquettes de colonnes
A4: Étiquettes de lignes | B4: Zombie | C4: ETAT | D4: Total général
A5: Remonté N2 | B5: 24 | C5: 29 | D5: 53
A6: janv | B6: 5 | C6: 11 | D6: 16
A7: févr | B7: 12 | C7: 9 | D7: 21
A8: mars | B8: 7 | C8: 9 | D8: 16
A9: Terminé | B9: 93 | C9: 18 | D9: 111
A10: janv | B10: 32 | C10: 6 | D10: 38
A11: févr | B11: 26 | C11: 7 | D11: 33
A12: mars | B12: 35 | C12: 5 | D12: 40
A13: (vide) | B13: 1 | D13: 1
A14: janv | B14: 1 | D14: 1
A15: Total général | B15: 118 | C15: 47 | D15: 165

Sheet Centre d'appel
A1: Colonne2 | B1: Date | C1: Colonne3 | D1: Colonne4 | E1: Statut | F1: Colonne1 | G1: Colonne5 | H1: Colonne6 | I1: Colonne7 | J1: Colonne8 | K1: Colonne9 | L1: Colonne10 | M1: Colonne11 | N1: Colonne12 | O1: Colonne13 | P1: Colonne14 | Q1: Catégorie demande | R1: Colonne15 | S1: Colonne16
B3: 44929 | E3: Terminé | Q3: Résidents
B4: 44929 | E4: Remonté N2 | Q4: Education
B5: 44930 | E5: Terminé | Q5: Zombie
B6: 44930 | E6: Remonté N2 | Q6: Education
B7: 44930 | E7: Terminé | Q7: Résidents
B8: 44930 | E8: Remonté N2 | Q8: Santé
B9: 44931 | E9: Remonté N2 | Q9: Zombie
B10: 44931 | E10: Remonté N2 | Q10: ETAT
B11: 44931 | E11: Terminé | Q11: Résidents
B12: 44931 | E12: Terminé | Q12: Résidents
B13: 44932 | E13: Remonté N2 | Q13: Education
B14: 44932 | E14: Terminé | Q14: Santé
... B45: 44938 | E45: Terminé | Q45: ETAT
B46: 44942 | E46: Terminé
B47: 44942 | E47: Terminé | Q47: ETAT
B48: 44942 | E48: Terminé | Q48: Zombie
B49: 44942 | E49: Terminé | Q49: Zombie
B50: 44942 | E50: Terminé | Q50: Zombie
B51: 44943 | E51: Remonté N2 | Q51: ETAT
B52: 44943 | E52: Remonté N2 | Q52: Résidents
B53: 44943 | E53: Remonté N2 | Q53: Expansion_économique
B54: 44943 | E54: Remonté N2 | Q54: ETAT
B55: 44943 | E55: Terminé | Q55: Expansion_économique
B56: 44943 | E56: Terminé | Q56: Expansion_économique
B57: 44943 | E57: Remonté N2 | Q57: Résidents
B58: 44942 | E58: Terminé | Q58: Résidents
... B70: 44944 | E70: Remonté N2 | Q70: ETAT
B71: 44944 | Q71: Résidents
B72: 44944 | Q72: Emploi
B73: 44945 | E73: Remonté N2 | Q73: Résidents
B74: 44945 | E74: Terminé | Q74: Fiscalité
B75: 44945 | E75: Remonté N2 | Q75: ETAT
B76: 44945 | Q76: Zombie
B77: 44945 | Q77: Expansion_économique
B78: 44946 | E78: Terminé | Q78: Emploi
B79: 44946 | E79: Terminé | Q79: Zombie
B80: 44946 | E80: Remonté N2 | Q80: Zombie
B81: 44946 | E81: Remonté N2 | Q81: Emploi
B82: 44946 | E82: Terminé | Q82: Zombie
...

Sheet Compteur R
B4: Niv. 1 | H4: Niv. 2 | R4: Remonté N2 | U4: Combiné
B5: Compteur | E5: Compteur ETAT | H5: Compteur Licorne | K5: Compteur Zombie.mc | N5: Compteur ETAT | R5: Zombie | S5: ETAT
B6: 44986 | C6: =COUNTIFS(DateNiv1,B6) -> 3 | E6: 44986 | H6: 44986 | I6: =COUNTIF(DateGV2,H6) -> #REF! | K6: 44986 | L6: =COUNTIF(DateMG2,K6) -> #REF! | N6: 44986 | O6: =COUNTIF(DateMC2,N6) -> #REF! | Q6: 44986 | R6: =COUNTIFS(Tableau65[[Date ]],$Q6,Tableau65[Catégorie demande],'Compteur R'!R$5,Tableau65[Statut],'Compteur R'!$R$4) -> 0 | S6: =COUNTIFS(Tableau65[[Date ]],$Q6,Tableau65[Catégorie demande],'Compteur R'!S$5,Tableau65[Statut],'Compteur R'!$R$4) -> 0
B7: 44987 | C7: =COUNTIFS(DateNiv1,B7) -> 7 | E7: 44987 | H7: 44987 | I7: =COUNTIF(DateGV2,H7) -> #REF! | K7: 44987 | L7: =COUNTIF(DateMG2,K7) -> #REF! | N7: 44987 | O7: =COUNTIF(DateMC2,N7) -> #REF! | Q7: 44987 | R7: =COUNTIFS(Tableau65[[Date ]],$Q7,Tableau65[Catégorie demande],'Compteur R'!R$5,Tableau65[Statut],'Compteur R'!$R$4) -> 0 | S7: =COUNTIFS(Tableau65[[Date ]],$Q7,Tableau65[Catégorie demande],'Compteur R'!S$5,Tableau65[Statut],'Compteur R'!$R$4) -> 0 | U7: =I7 -> #REF! | V7: =(C7+L7)-#REF! -> #REF! | W7: =(F7+O7)-#REF! -> #REF!
B8: 44988 | C8: =COUNTIFS(DateNiv1,B8) -> 6 | E8: 44988 | H8: 44988 | I8: =COUNTIF(DateGV2,H8) -> #REF! | K8: 44988 | L8: =COUNTIF(DateMG2,K8) -> #REF! | N8: 44988 | O8: =COUNTIF(DateMC2,N8) -> #REF! | Q8: 44988 | R8: =COUNTIFS(Tableau65[[Date ]],$Q8,Tableau65[Catégorie demande],'Compteur R'!R$5,Tableau65[Statut],'Compteur R'!$R$4) -> 1 | S8: =COUNTIFS(Tableau65[[Date ]],$Q8,Tableau65[Catégorie demande],'Compteur R'!S$5,Tableau65[Statut],'Compteur R'!$R$4) -> 0 | U8: =I8 -> #REF! | V8: =(C8+L8)-#REF! -> #REF! | W8: =(F8+O8)-#REF! -> #REF!
B9: 44989 | C9: =COUNTIFS(DateNiv1,B9) -> 0 | E9: 44989 | H9: 44989 | I9: =COUNTIF(DateGV2,H9) -> #REF! | K9: 44989 | L9: =COUNTIF(DateMG2,K9) -> #REF! | N9: 44989 | O9: =COUNTIF(DateMC2,N9) -> #REF! | Q9: 44989 | R9: =COUNTIFS(Tableau65[[Date ]],$Q9,Tableau65[Catégorie demande],'Compteur R'!R$5,Tableau65[Statut],'Compteur R'!$R$4) -> 0 | S9: =COUNTIFS(Tableau65[[Date ]],$Q9,Tableau65[Catégorie demande],'Compteur R'!S$5,Tableau65[Statut],'Compteur R'!$R$4) -> 0 | U9: =I9 -> #REF! | V9: =(C9+L9)-#REF! -> #REF! | W9: =(F9+O9)-#REF! -> #REF!
B10: 44990 | C10: =COUNTIFS(DateNiv1,B10) -> 0 | E10: 44990 | H10: 44990 | I10: =COUNTIF(DateGV2,H10) -> #REF! | K10: 44990 | L10: =COUNTIF(DateMG2,K10) -> #REF! | N10: 44990 | O10: =COUNTIF(DateMC2,N10) -> #REF! | Q10: 44990 | R10: =COUNTIFS(Tableau65[[Date ]],$Q10,Tableau65[Catégorie demande],'Compteur R'!R$5,Tableau65[Statut],'Compteur R'!$R$4) -> 0 | S10: =COUNTIFS(Tableau65[[Date ]],$Q10,Tableau65[Catégorie demande],'Compteur R'!S$5,Tableau65[Statut],'Compteur R'!$R$4) -> 0 | U10: =I10 -> #REF! | V10: =(C10+L10)-#REF! -> #REF! | W10: =(F10+O10)-#REF! -> #REF!
B11: 44991 | C11: =COUNTIFS(DateNiv1,B11) -> 4 | E11: 44991 | H11: 44991 | I11: =COUNTIF(DateGV2,H11) -> #REF! | K11: 44991 | L11: =COUNTIF(DateMG2,K11) -> #REF! | N11: 44991 | O11: =COUNTIF(DateMC2,N11) -> #REF! | Q11: 44991 | R11: =COUNTIFS(Tableau65[[Date ]],$Q11,Tableau65[Catégorie demande],'Compteur R'!R$5,Tableau65[Statut],'Compteur R'!$R$4) -> 0 | S11: =COUNTIFS(Tableau65[[Date ]],$Q11,Tableau65[Catégorie demande],'Compteur R'!S$5,Tableau65[Statut],'Compteur R'!$R$4) -> 0 | U11: =I11 -> #REF! | V11: =(C11+L11)-#REF! -> #REF! | W11: =(F11+O11)-#REF! -> #REF!
B12: 44992 | C12: =COUNTIFS(DateNiv1,B12) -> 6 | E12: 44992 | H12: 44992 | I12: =COUNTIF(DateGV2,H12) -> #REF! | K12: 44992 | L12: =COUNTIF(DateMG2,K12) -> #REF! | N12: 44992 | O12: =COUNTIF(DateMC2,N12) -> #REF! | Q12: 44992 | R12: =COUNTIFS(Tableau65[[Date ]],$Q12,Tableau65[Catégorie demande],'Compteur R'!R$5,Tableau65[Statut],'Compteur R'!$R$4) -> 0 | S12: =COUNTIFS(Tableau65[[Date ]],$Q12,Tableau65[Catégorie demande],'Compteur R'!S$5,Tableau65[Statut],'Compteur R'!$R$4) -> 3 | U12: =I12 -> #REF! | V12: =(C12+L12)-#REF! -> #REF! | W12: =(F12+O12)-#REF! -> #REF!
B13: 44993 | C13: =COUNTIFS(DateNiv1,B13) -> 8 | E13: 44993 | H13: 44993 | I13: =COUNTIF(DateGV2,H13) -> #REF! | K13: 44993 | L13: =COUNTIF(DateMG2,K13) -> #REF! | N13: 44993 | O13: =COUNTIF(DateMC2,N13) -> #REF! | Q13: 44993 | R13: =COUNTIFS(Tableau65[[Date ]],$Q13,Tableau65[Catégorie demande],'Compteur R'!R$5,Tableau65[Statut],'Compteur R'!$R$4) -> 0 | S13: =COUNTIFS(Tableau65[[Date ]],$Q13,Tableau65[Catégorie demande],'Compteur R'!S$5,Tableau65[Statut],'Compteur R'!$R$4) -> 1 | U13: =I13 -> #REF! | V13: =(C13+L13)-#REF! -> #REF! | W13: =(F13+O13)-#REF! -> #REF!
B14: 44994 | C14: =COUNTIFS(DateNiv1,B14) -> 4 | E14: 44994 | H14: 44994 | I14: =COUNTIF(DateGV2,H14) -> #REF! | K14: 44994 | L14: =COUNTIF(DateMG2,K14) -> #REF! | N14: 44994 | O14: =COUNTIF(DateMC2,N14) -> #REF! | Q14: 44994 | R14: =COUNTIFS(Tableau65[[Date ]],$Q14,Tableau65[Catégorie demande],'Compteur R'!R$5,Tableau65[Statut],'Compteur R'!$R$4) -> 0 | S14: =COUNTIFS(Tableau65[[Date ]],$Q14,Tableau65[Catégorie demande],'Compteur R'!S$5,Tableau65[Statut],'Compteur R'!$R$4) -> 1 | U14: =I14 -> #REF! | V14: =(C14+L14)-#REF! -> #REF! | W14: =(F14+O14)-#REF! -> #REF!
B15: 44995 | C15: =COUNTIFS(DateNiv1,B15) -> 5 | E15: 44995 | H15: 44995 | I15: =COUNTIF(DateGV2,H15) -> #REF! | K15: 44995 | L15: =COUNTIF(DateMG2,K15) -> #REF! | N15: 44995 | O15: =COUNTIF(DateMC2,N15) -> #REF! | Q15: 44995 | R15: =COUNTIFS(Tableau65[[Date ]],$Q15,Tableau65[Catégorie demande],'Compteur R'!R$5,Tableau65[Statut],'Compteur R'!$R$4) -> 0 | S15: =COUNTIFS(Tableau65[[Date ]],$Q15,Tableau65[Catégorie demande],'Compteur R'!S$5,Tableau65[Statut],'Compteur R'!$R$4) -> 0 | U15: =I15 -> #REF! | V15: =(C15+L15)-#REF! -> #REF! | W15: =(F15+O15)-#REF! -> #REF!
B16: 44996 | C16: =COUNTIFS(DateNiv1,B16) -> 0 | E16: 44996 | H16: 44996 | I16: =COUNTIF(DateGV2,H16) -> #REF! | K16: 44996 | L16: =COUNTIF(DateMG2,K16) -> #REF! | N16: 44996 | O16: =COUNTIF(DateMC2,N16) -> #REF! | Q16: 44996 | R16: =COUNTIFS(Tableau65[[Date ]],$Q16,Tableau65[Catégorie demande],'Compteur R'!R$5,Tableau65[Statut],'Compteur R'!$R$4) -> 0 | S16: =COUNTIFS(Tableau65[[Date ]],$Q16,Tableau65[Catégorie demande],'Compteur R'!S$5,Tableau65[Statut],'Compteur R'!$R$4) -> 0 | U16: =I16 -> #REF! | V16: =(C16+L16)-#REF! -> #REF! | W16: =(F16+O16)-#REF! -> #REF!
B17: 44997 | C17: =COUNTIFS(DateNiv1,B17) -> 0 | E17: 44997 | H17: 44997 | I17: =COUNTIF(DateGV2,H17) -> #REF! | K17: 44997 | L17: =COUNTIF(DateMG2,K17) -> #REF! | N17: 44997 | O17: =COUNTIF(DateMC2,N17) -> #REF! | Q17: 44997 | R17: =COUNTIFS(Tableau65[[Date ]],$Q17,Tableau65[Catégorie demande],'Compteur R'!R$5,Tableau65[Statut],'Compteur R'!$R$4) -> 0 | S17: =COUNTIFS(Tableau65[[Date ]],$Q17,Tableau65[Catégorie demande],'Compteur R'!S$5,Tableau65[Statut],'Compteur R'!$R$4) -> 0 | U17: =I17 -> #REF! | V17: =(C17+L17)-#REF! -> #REF! | W17: =(F17+O17)-#REF! -> #REF!
B18: 44998 | C18: =COUNTIFS(DateNiv1,B18) -> 2 | E18: 44998 | H18: 44998 | I18: =COUNTIF(DateGV2,H18) -> #REF! | K18: 44998 | L18: =COUNTIF(DateMG2,K18) -> #REF! | N18: 44998 | O18: =COUNTIF(DateMC2,N18) -> #REF! | Q18: 44998 | R18: =COUNTIFS(Tableau65[[Date ]],$Q18,Tableau65[Catégorie demande],'Compteur R'!R$5,Tableau65[Statut],'Compteur R'!$R$4) -> 1 | S18: =COUNTIFS(Tableau65[[Date ]],$Q18,Tableau65[Catégorie demande],'Compteur R'!S$5,Tableau65[Statut],'Compteur R'!$R$4) -> 1 | U18: =I18 -> #REF! | V18: =(C18+L18)-#REF! -> #REF! | W18: =(F18+O18)-#REF! -> #REF!
... B36: 45016 | C36: =COUNTIFS(DateNiv1,B36) -> 0 | E36: 45016 | H36: 45016 | I36: =COUNTIF(DateGV2,H36) -> #REF! | K36: 45016 | L36: =COUNTIF(DateMG2,K36) -> #REF! | N36: 45016 | O36: =COUNTIF(DateMC2,N36) -> #REF! | Q36: 45016 | R36: =COUNTIFS(Tableau65[[Date ]],$Q36,Tableau65[Catégorie demande],'Compteur R'!R$5,Tableau65[Statut],'Compteur R'!$R$4) -> 0 | S36: =COUNTIFS(Tableau65[[Date ]],$Q36,Tableau65[Catégorie demande],'Compteur R'!S$5,Tableau65[Statut],'Compteur R'!$R$4) -> 0 | U36: =I36 -> #REF! | V36: =(C36+L36)-#REF! -> #REF! | W36: =(F36+O36)-#REF! -> #REF!
B37: TOTAL | C37: =SUM(C6:C36) -> 127 | E37: TOTAL | F37: =SUM(C37:E37) -> 127 | H37: TOTAL | I37: =SUM(I6:I36) -> #REF! | K37: TOTAL | L37: =SUM(L6:L36) -> #REF! | N37: TOTAL | O37: =SUM(O6:O36) -> #REF! | Q37: TOTAL | R37: =SUM(R6:R36) -> 7 | S37: =SUM(S6:S36) -> 9 | U37: 0 | V37: 0 | W37: =(F37+O37)-#REF! -> #REF!
B39: 45017 | C39: =COUNTIF(DateMG,B39) -> #REF! | E39: 45017 | H39: 45017 | I39: =COUNTIF(DateGV2,H39) -> #REF! | K39: 45017 | L39: =COUNTIF(DateMG2,K39) -> #REF! | N39: 45017 | O39: =COUNTIF(DateMC2,N39) -> #REF! | Q39: 45017 | R39: =COUNTIFS(Tableau65[[Date ]],$Q39,Tableau65[Catégorie demande],'Compteur R'!R$5,Tableau65[Statut],'Compteur R'!$R$4) -> 0 | S39: =COUNTIFS(Tableau65[[Date ]],$Q39,Tableau65[Catégorie demande],'Compteur R'!S$5,Tableau65[Statut],'Compteur R'!$R$4) -> 0 | U39: =I39 -> #REF! | V39: =(C39+L39)-#REF! -> #REF! | W39: =(F39+O39)-#REF! -> #REF!
B40: 45018 | C40: =COUNTIF(DateMG,B40) -> #REF! | E40: 45018 | H40: 45018 | I40: =COUNTIF(DateGV2,H40) -> #REF! | K40: 45018 | L40: =COUNTIF(DateMG2,K40) -> #REF! | N40: 45018 | O40: =COUNTIF(DateMC2,N40) -> #REF! | Q40: 45018 | R40: =COUNTIFS(Tableau65[[Date ]],$Q40,Tableau65[Catégorie demande],'Compteur R'!R$5,Tableau65[Statut],'Compteur R'!$R$4) -> 0 | S40: =COUNTIFS(Tableau65[[Date ]],$Q40,Tableau65[Catégorie demande],'Compteur R'!S$5,Tableau65[Statut],'Compteur R'!$R$4) -> 0 | U40: =I40 -> #REF! | V40: =(C40+L40)-#REF! -> #REF! | W40: =(F40+O40)-#REF! -> #REF!
B41: 45019 | C41: =COUNTIF(DateMG,B41) -> #REF! | E41: 45019 | H41: 45019 | I41: =COUNTIF(DateGV2,H41) -> #REF! | K41: 45019 | L41: =COUNTIF(DateMG2,K41) -> #REF! | N41: 45019 | O41: =COUNTIF(DateMC2,N41) -> #REF! | Q41: 45019 | R41: =COUNTIFS(Tableau65[[Date ]],$Q41,Tableau65[Catégorie demande],'Compteur R'!R$5,Tableau65[Statut],'Compteur R'!$R$4) -> 0 | S41: =COUNTIFS(Tableau65[[Date ]],$Q41,Tableau65[Catégorie demande],'Compteur R'!S$5,Tableau65[Statut],'Compteur R'!$R$4) -> 0 | U41: =I41 -> #REF! | V41: =(C41+L41)-#REF! -> #REF! | W41: =(F41+O41)-#REF! -> #REF!
B42: 45020 | C42: =COUNTIF(DateMG,B42) -> #REF! | E42: 45020 | H42: 45020 | I42: =COUNTIF(DateGV2,H42) -> #REF! | K42: 45020 | L42: =COUNTIF(DateMG2,K42) -> #REF! | N42: 45020 | O42: =COUNTIF(DateMC2,N42) -> #REF! | Q42: 45020 | R42: =COUNTIFS(Tableau65[[Date ]],$Q42,Tableau65[Catégorie demande],'Compteur R'!R$5,Tableau65[Statut],'Compteur R'!$R$4) -> 0 | S42: =COUNTIFS(Tableau65[[Date ]],$Q42,Tableau65[Catégorie demande],'Compteur R'!S$5,Tableau65[Statut],'Compteur R'!$R$4) -> 0 | U42: =I42 -> #REF! | V42: =(C42+L42)-#REF! -> #REF! | W42: =(F42+O42)-#REF! -> #REF!
B43: 45021 | C43: =COUNTIF(DateMG,B43) -> #REF! | E43: 45021 | H43: 45021 | I43: =COUNTIF(DateGV2,H43) -> #REF! | K43: 45021 | L43: =COUNTIF(DateMG2,K43) -> #REF! | N43: 45021 | O43: =COUNTIF(DateMC2,N43) -> #REF! | Q43: 45021 | R43: =COUNTIFS(Tableau65[[Date ]],$Q43,Tableau65[Catégorie demande],'Compteur R'!R$5,Tableau65[Statut],'Compteur R'!$R$4) -> 0 | S43: =COUNTIFS(Tableau65[[Date ]],$Q43,Tableau65[Catégorie demande],'Compteur R'!S$5,Tableau65[Statut],'Compteur R'!$R$4) -> 0 | U43: =I43 -> #REF! | V43: =(C43+L43)-#REF! -> #REF! | W43: =(F43+O43)-#REF! -> #REF!
B44: 45022 | C44: =COUNTIF(DateMG,B44) -> #REF! | E44: 45022 | H44: 45022 | I44: =COUNTIF(DateGV2,H44) -> #REF! | K44: 45022 | L44: =COUNTIF(DateMG2,K44) -> #REF! | N44: 45022 | O44: =COUNTIF(DateMC2,N44) -> #REF! | Q44: 45022 | R44: =COUNTIFS(Tableau65[[Date ]],$Q44,Tableau65[Catégorie demande],'Compteur R'!R$5,Tableau65[Statut],'Compteur R'!$R$4) -> 0 | S44: =COUNTIFS(Tableau65[[Date ]],$Q44,Tableau65[Catégorie demande],'Compteur R'!S$5,Tableau65[Statut],'Compteur R'!$R$4) -> 0 | U44: =I44 -> #REF! | V44: =(C44+L44)-#REF! -> #REF! | W44: =(F44+O44)-#REF! -> #REF!
B45: 45023 | C45: =COUNTIF(DateMG,B45) -> #REF! | E45: 45023 | H45: 45023 | I45: =COUNTIF(DateGV2,H45) -> #REF! | K45: 45023 | L45: =COUNTIF(DateMG2,K45) -> #REF! | N45: 45023 | O45: =COUNTIF(DateMC2,N45) -> #REF! | Q45: 45023 | R45: =COUNTIFS(Tableau65[[Date ]],$Q45,Tableau65[Catégorie demande],'Compteur R'!R$5,Tableau65[Statut],'Compteur R'!$R$4) -> 0 | S45: =COUNTIFS(Tableau65[[Date ]],$Q45,Tableau65[Catégorie demande],'Compteur R'!S$5,Tableau65[Statut],'Compteur R'!$R$4) -> 0 | U45: =I45 -> #REF! | V45: =(C45+L45)-#REF! -> #REF! | W45: =(F45+O45)-#REF! -> #REF!
B46: 45024 | C46: =COUNTIF(DateMG,B46) -> #REF! | E46: 45024 | H46: 45024 | I46: =COUNTIF(DateGV2,H46) -> #REF! | K46: 45024 | L46: =COUNTIF(DateMG2,K46) -> #REF! | N46: 45024 | O46: =COUNTIF(DateMC2,N46) -> #REF! | Q46: 45024 | R46: =COUNTIFS(Tableau65[[Date ]],$Q46,Tableau65[Catégorie demande],'Compteur R'!R$5,Tableau65[Statut],'Compteur R'!$R$4) -> 0 | S46: =COUNTIFS(Tableau65[[Date ]],$Q46,Tableau65[Catégorie demande],'Compteur R'!S$5,Tableau65[Statut],'Compteur R'!$R$4) -> 0 | U46: =I46 -> #REF! | V46: =(C46+L46)-#REF! -> #REF! | W46: =(F46+O46)-#REF! -> #REF!
B47: 45025 | C47: =COUNTIF(DateMG,B47) -> #REF! | E47: 45025 | H47: 45025 | I47: =COUNTIF(DateGV2,H47) -> #REF! | K47: 45025 | L47: =COUNTIF(DateMG2,K47) -> #REF! | N47: 45025 | O47: =COUNTIF(DateMC2,N47) -> #REF! | Q47: 45025 | R47: =COUNTIFS(Tableau65[[Date ]],$Q47,Tableau65[Catégorie demande],'Compteur R'!R$5,Tableau65[Statut],'Compteur R'!$R$4) -> 0 | S47: =COUNTIFS(Tableau65[[Date ]],$Q47,Tableau65[Catégorie demande],'Compteur R'!S$5,Tableau65[Statut],'Compteur R'!$R$4) -> 0 | U47: =I47 -> #REF! | V47: =(C47+L47)-#REF! -> #REF! | W47: =(F47+O47)-#REF! -> #REF!
B48: 45026 | C48: =COUNTIF(DateMG,B48) -> #REF! | E48: 45026 | H48: 45026 | I48: =COUNTIF(DateGV2,H48) -> #REF! | K48: 45026 | L48: =COUNTIF(DateMG2,K48) -> #REF! | N48: 45026 | O48: =COUNTIF(DateMC2,N48) -> #REF! | Q48: 45026 | R48: =COUNTIFS(Tableau65[[Date ]],$Q48,Tableau65[Catégorie demande],'Compteur R'!R$5,Tableau65[Statut],'Compteur R'!$R$4) -> 0 | S48: =COUNTIFS(Tableau65[[Date ]],$Q48,Tableau65[Catégorie demande],'Compteur R'!S$5,Tableau65[Statut],'Compteur R'!$R$4) -> 0 | U48: =I48 -> #REF! | V48: =(C48+L48)-#REF! -> #REF! | W48: =(F48+O48)-#REF! -> #REF!
B49: 45027 | C49: =COUNTIF(DateMG,B49) -> #REF! | E49: 45027 | H49: 45027 | I49: =COUNTIF(DateGV2,H49) -> #REF! | K49: 45027 | L49: =COUNTIF(DateMG2,K49) -> #REF! | N49: 45027 | O49: =COUNTIF(DateMC2,N49) -> #REF! | Q49: 45027 | R49: =COUNTIFS(Tableau65[[Date ]],$Q49,Tableau65[Catégorie demande],'Compteur R'!R$5,Tableau65[Statut],'Compteur R'!$R$4) -> 0 | S49: =COUNTIFS(Tableau65[[Date ]],$Q49,Tableau65[Catégorie demande],'Compteur R'!S$5,Tableau65[Statut],'Compteur R'!$R$4) -> 0 | U49: =I49 -> #REF! | V49: =(C49+L49)-#REF! -> #REF! | W49: =(F49+O49)-#REF! -> #REF!
B50: 45028 | C50: =COUNTIF(DateMG,B50) -> #REF! | E50: 45028 | H50: 45028 | I50: =COUNTIF(DateGV2,H50) -> #REF! | K50: 45028 | L50: =COUNTIF(DateMG2,K50) -> #REF! | N50: 45028 | O50: =COUNTIF(DateMC2,N50) -> #REF! | Q50: 45028 | R50: =COUNTIFS(Tableau65[[Date ]],$Q50,Tableau65[Catégorie demande],'Compteur R'!R$5,Tableau65[Statut],'Compteur R'!$R$4) -> 0 | S50: =COUNTIFS(Tableau65[[Date ]],$Q50,Tableau65[Catégorie demande],'Compteur R'!S$5,Tableau65[Statut],'Compteur R'!$R$4) -> 0 | U50: =I50 -> #REF! | V50: =(C50+L50)-#REF! -> #REF! | W50: =(F50+O50)-#REF! -> #REF!
... B68: 45046 | C68: =COUNTIF(DateMG,B68) -> #REF! | E68: 45046 | H68: 45046 | I68: =COUNTIF(DateGV2,H68) -> #REF! | K68: 45046 | L68: =COUNTIF(DateMG2,K68) -> #REF! | N68: 45046 | O68: =COUNTIF(DateMC2,N68) -> #REF! | Q68: 45046 | R68: =COUNTIFS(Tableau65[[Date ]],$Q68,Tableau65[Catégorie demande],'Compteur R'!R$5,Tableau65[Statut],'Compteur R'!$R$4) -> 0 | S68: =COUNTIFS(Tableau65[[Date ]],$Q68,Tableau65[Catégorie demande],'Compteur R'!S$5,Tableau65[Statut],'Compteur R'!$R$4) -> 0 | U68: =I68 -> #REF! | V68: =(C68+L68)-#REF! -> #REF! | W68: =(F68+O68)-#REF! -> #REF!
B69: TOTAL | C69: =SUM(C38:C68) -> #REF! | E69: TOTAL | F69: =SUM(C69:E69) -> #REF! | H69: TOTAL | I69: =SUM(I38:I68) -> #REF! | K69: TOTAL | L69: =SUM(L38:L68) -> #REF! | N69: TOTAL | O69: =SUM(O38:O68) -> #REF! | Q69: TOTAL | U69: =I69 -> #REF! | V69: =(C69+L69)-#REF! -> #REF! | W69: =(F69+O69)-#REF! -> #REF!
B71: 45047 | C71: =COUNTIF(DateMG,B71) -> #REF! | E71: 45047 | H71: 45047 | I71: =COUNTIF(DateGV2,H71) -> #REF! | K71: 45047 | L71: =COUNTIF(DateMG2,K71) -> #REF! | N71: 45047 | O71: =COUNTIF(DateMC2,N71) -> #REF! | Q71: 45047 | R71: =COUNTIFS(Tableau65[[Date ]],$Q71,Tableau65[Catégorie demande],'Compteur R'!R$5,Tableau65[Statut],'Compteur R'!$R$4) -> 0 | S71: =COUNTIFS(Tableau65[[Date ]],$Q71,Tableau65[Catégorie demande],'Compteur R'!S$5,Tableau65[Statut],'Compteur R'!$R$4) -> 0 | U71: =I71 -> #REF! | V71: =(C71+L71)-#REF! -> #REF! | W71: =(F71+O71)-#REF! -> #REF!
B72: 45048 | C72: =COUNTIF(DateMG,B72) -> #REF! | E72: 45048 | H72: 45048 | I72: =COUNTIF(DateGV2,H72) -> #REF! | K72: 45048 | L72: =COUNTIF(DateMG2,K72) -> #REF! | N72: 45048 | O72: =COUNTIF(DateMC2,N72) -> #REF! | Q72: 45048 | R72: =COUNTIFS(Tableau65[[Date ]],$Q72,Tableau65[Catégorie demande],'Compteur R'!R$5,Tableau65[Statut],'Compteur R'!$R$4) -> 0 | S72: =COUNTIFS(Tableau65[[Date ]],$Q72,Tableau65[Catégorie demande],'Compteur R'!S$5,Tableau65[Statut],'Compteur R'!$R$4) -> 0 | U72: =I72 -> #REF! | V72: =(C72+L72)-#REF! -> #REF! | W72: =(F72+O72)-#REF! -> #REF!
B73: 45049 | C73: =COUNTIF(DateMG,B73) -> #REF! | E73: 45049 | H73: 45049 | I73: =COUNTIF(DateGV2,H73) -> #REF! | K73: 45049 | L73: =COUNTIF(DateMG2,K73) -> #REF! | N73: 45049 | O73: =COUNTIF(DateMC2,N73) -> #REF! | Q73: 45049 | R73: =COUNTIFS(Tableau65[[Date ]],$Q73,Tableau65[Catégorie demande],'Compteur R'!R$5,Tableau65[Statut],'Compteur R'!$R$4) -> 0 | S73: =COUNTIFS(Tableau65[[Date ]],$Q73,Tableau65[Catégorie demande],'Compteur R'!S$5,Tableau65[Statut],'Compteur R'!$R$4) -> 0 | U73: =I73 -> #REF! | V73: =(C73+L73)-#REF! -> #REF! | W73: =(F73+O73)-#REF! -> #REF!
B74: 45050 | C74: =COUNTIF(DateMG,B74) -> #REF! | E74: 45050 | H74: 45050 | I74: =COUNTIF(DateGV2,H74) -> #REF! | K74: 45050 | L74: =COUNTIF(DateMG2,K74) -> #REF! | N74: 45050 | O74: =COUNTIF(DateMC2,N74) -> #REF! | Q74: 45050 | R74: =COUNTIFS(Tableau65[[Date ]],$Q74,Tableau65[Catégorie demande],'Compteur R'!R$5,Tableau65[Statut],'Compteur R'!$R$4) -> 0 | S74: =COUNTIFS(Tableau65[[Date ]],$Q74,Tableau65[Catégorie demande],'Compteur R'!S$5,Tableau65[Statut],'Compteur R'!$R$4) -> 0 | U74: =I74 -> #REF! | V74: =(C74+L74)-#REF! -> #REF! | W74: =(F74+O74)-#REF! -> #REF!
B75: 45051 | C75: =COUNTIF(DateMG,B75) -> #REF! | E75: 45051 | H75: 45051 | I75: =COUNTIF(DateGV2,H75) -> #REF! | K75: 45051 | L75: =COUNTIF(DateMG2,K75) -> #REF! | N75: 45051 | O75: =COUNTIF(DateMC2,N75) -> #REF! | Q75: 45051 | R75: =COUNTIFS(Tableau65[[Date ]],$Q75,Tableau65[Catégorie demande],'Compteur R'!R$5,Tableau65[Statut],'Compteur R'!$R$4) -> 0 | S75: =COUNTIFS(Tableau65[[Date ]],$Q75,Tableau65[Catégorie demande],'Compteur R'!S$5,Tableau65[Statut],'Compteur R'!$R$4) -> 0 | U75: =I75 -> #REF! | V75: =(C75+L75)-#REF! -> #REF! | W75: =(F75+O75)-#REF! -> #REF!
B76: 45052 | C76: =COUNTIF(DateMG,B76) -> #REF! | E76: 45052 | H76: 45052 | I76: =COUNTIF(DateGV2,H76) -> #REF! | K76: 45052 | L76: =COUNTIF(DateMG2,K76) -> #REF! | N76: 45052 | O76: =COUNTIF(DateMC2,N76) -> #REF! | Q76: 45052 | R76: =COUNTIFS(Tableau65[[Date ]],$Q76,Tableau65[Catégorie demande],'Compteur R'!R$5,Tableau65[Statut],'Compteur R'!$R$4) -> 0 | S76: =COUNTIFS(Tableau65[[Date ]],$Q76,Tableau65[Catégorie demande],'Compteur R'!S$5,Tableau65[Statut],'Compteur R'!$R$4) -> 0 | U76: =I76 -> #REF! | V76: =(C76+L76)-#REF! -> #REF! | W76: =(F76+O76)-#REF! -> #REF!
B77: 45053 | C77: =COUNTIF(DateMG,B77) -> #REF! | E77: 45053 | H77: 45053 | I77: =COUNTIF(DateGV2,H77) -> #REF! | K77: 45053 | L77: =COUNTIF(DateMG2,K77) -> #REF! | N77: 45053 | O77: =COUNTIF(DateMC2,N77) -> #REF! | Q77: 45053 | R77: =COUNTIFS(Tableau65[[Date ]],$Q77,Tableau65[Catégorie demande],'Compteur R'!R$5,Tableau65[Statut],'Compteur R'!$R$4) -> 0 | S77: =COUNTIFS(Tableau65[[Date ]],$Q77,Tableau65[Catégorie demande],'Compteur R'!S$5,Tableau65[Statut],'Compteur R'!$R$4) -> 0 | U77: =I77 -> #REF! | V77: =(C77+L77)-#REF! -> #REF! | W77: =(F77+O77)-#REF! -> #REF!
B78: 45054 | C78: =COUNTIF(DateMG,B78) -> #REF! | E78: 45054 | H78: 45054 | I78: =COUNTIF(DateGV2,H78) -> #REF! | K78: 45054 | L78: =COUNTIF(DateMG2,K78) -> #REF! | N78: 45054 | O78: =COUNTIF(DateMC2,N78) -> #REF! | Q78: 45054 | R78: =COUNTIFS(Tableau65[[Date ]],$Q78,Tableau65[Catégorie demande],'Compteur R'!R$5,Tableau65[Statut],'Compteur R'!$R$4) -> 0 | S78: =COUNTIFS(Tableau65[[Date ]],$Q78,Tableau65[Catégorie demande],'Compteur R'!S$5,Tableau65[Statut],'Compteur R'!$R$4) -> 0 | U78: =I78 -> #REF! | V78: =(C78+L78)-#REF! -> #REF! | W78: =(F78+O78)-#REF! -> #REF!
B79: 45055 | C79: =COUNTIF(DateMG,B79) -> #REF! | E79: 45055 | H79: 45055 | I79: =COUNTIF(DateGV2,H79) -> #REF! | K79: 45055 | L79: =COUNTIF(DateMG2,K79) -> #REF! | N79: 45055 | O79: =COUNTIF(DateMC2,N79) -> #REF! | Q79: 45055 | R79: =COUNTIFS(Tableau65[[Date ]],$Q79,Tableau65[Catégorie demande],'Compteur R'!R$5,Tableau65[Statut],'Compteur R'!$R$4) -> 0 | S79: =COUNTIFS(Tableau65[[Date ]],$Q79,Tableau65[Catégorie demande],'Compteur R'!S$5,Tableau65[Statut],'Compteur R'!$R$4) -> 0 | U79: =I79 -> #REF! | V79: =(C79+L79)-#REF! -> #REF! | W79: =(F79+O79)-#REF! -> #REF!
...
