Workbook
Name Action: [1]Source!$L$2:$L$6
Name Action: #REF!
Name Action_MConnect: [1]Source!$L$16:$L$26
Name Action_MConnect: #REF!
Name Agent: [1]Source!$A$2:$A$4
Name Agent: #REF!
Name Agent_CA: [1]Source!$A$14:$A$16
Name Agent_CA: #REF!
Name Agent_N2: [1]Source!$A$19:$A$21
Name Agent_N2: #REF!
Name AgentN2: #REF!
Name Agents: #REF!
Name Aides_développement: #REF!
Name Autographe___Collection: #REF!
Name Autre_service: #REF!
Name Autre_service_N2: #REF!
Name Autres: #REF!
Name Autres_CA: #REF!
Name Budget_Trésor: #REF!
Name Budget_Trésor_N2: #REF!
Name Bugs_Evolutions: [1]Source!$J$40:$J$41
Name Bugs_Evolutions: #REF!
Name Cat_demande_Gouv: [1]Source!$G$9:$G$11
Name Cat_demande_Gouv: #REF!
Name Catégorie_demande: [1]Source!$G$2:$G$4
Name Catégorie_demande_CA: [1]Source!$G$21:$G$24
Name Catégorie_demande_CA: #REF!
Name Catégorie_demande_MG: #REF!
Name Catégorie_TS_part: #REF!
Name Catégorie_TS_PRO: #REF!
Name CatN1: 'Centre d''appel'!$Q:$Q
Name Covid19: #REF!
Name Covid19_PRO: #REF!
Name Création_activité: [1]Source!#REF!
Name DateGV: [2]Gouv.mc!$B:$B
Name DateGV2: #REF!
Name DateMC2: #REF!
Name DateMCo: [2]MConnect!$E:$E
Name DateMG: #REF!
Name DateMG2: #REF!
Name DateN1: '[2]N1 Gouv.mc'!$B:$B
Name DateNiv1: 'Centre d''appel'!$B:$B
Name DateRemN2: 'Compteur R'!$Q:$Q
Name Domaine_MI: [1]Source!$C$19:$C$22
Name Domaine_MI: #REF!
Name Education: #REF!
Name Education_N2: #REF!
Name Emploi: #REF!
Name Emploi_N2: #REF!
Name Emploi_social: #REF!
Name En_cours_activité: #REF!
Name Environnement: [1]Source!$C$13:$C$14
Name Evenements_de_vie: #REF!
Name Expansion_économique: #REF!
Name Expansion_économique_N2: #REF!
Name Famille_demande: #REF!
Name Famille_demande_N2: #REF!
Name Fiscalité: #REF!
Name Fiscalité_N2: #REF!
Name Fréquence: #REF!

Sheet Stats jour
B1: Combiné | F1: Demandes N2 | J1: Appels N1 | M1: Escalade N2 | P1: Escalade N3
B2: Gouv | C2: Zombie | D2: ETAT | F2: Gouv | G2: Zombie | H2: ETAT | I2: TOTAL | J2: Zombie | K2: ETAT | L2: TOTAL | M2: Zombie | N2: ETAT | O2: TOTAL | P2: Zombie | Q2: ETAT | R2: TOTAL
A3: 44958 | B3: =F3 -> 7 | C3: =G3+J3 -> 10 | D3: =H3+K3 -> 0 | E3: =B3+C3+D3 -> 17 | F3: 7 | G3: 6 | H3: 0 | I3: =SUM(F3:H3) -> 13 | J3: 4 | K3: 0 | L3: =SUM(J3:K3) -> 4 | O3: =SUM(M3:N3) -> 0 | R3: =SUM(P3:Q3) -> 0 | Y3: TOTAL TICKETS | Z3: JANVIER
A4: 44959 | B4: =F4 -> 7 | C4: =G4+J4 -> 8 | D4: =H4+K4 -> 1 | E4: =B4+C4+D4 -> 16 | F4: 7 | G4: 2 | H4: 0 | I4: =SUM(F4:H4) -> 9 | J4: 6 | K4: 1 | L4: =SUM(J4:K4) -> 7 | O4: =SUM(M4:N4) -> 0 | R4: =SUM(P4:Q4) -> 0 | Y4: =F35+G35+H35+J35+K35 -> 249
A5: 44960 | B5: =F5 -> 12 | C5: =G5+J5 -> 12 | D5: =H5+K5 -> 3 | E5: =B5+C5+D5 -> 27 | F5: 12 | G5: 5 | H5: 2 | I5: =SUM(F5:H5) -> 19 | J5: 7 | K5: 1 | L5: =SUM(J5:K5) -> 8 | O5: =SUM(M5:N5) -> 0 | R5: =SUM(P5:Q5) -> 0
A6: 44961 | B6: =F6 -> 2 | C6: =G6+J6 -> 0 | D6: =H6+K6 -> 0 | E6: =B6+C6+D6 -> 2 | F6: 2 | G6: 0 | H6: 0 | I6: =SUM(F6:H6) -> 2 | J6: 0 | K6: 0 | L6: =SUM(J6:K6) -> 0 | O6: =SUM(M6:N6) -> 0 | R6: =SUM(P6:Q6) -> 0
A7: 44962 | B7: =F7 -> 2 | C7: =G7+J7 -> 0 | D7: =H7+K7 -> 0 | E7: =B7+C7+D7 -> 2 | F7: 2 | G7: 0 | H7: 0 | I7: =SUM(F7:H7) -> 2 | J7: 0 | K7: 0 | L7: =SUM(J7:K7) -> 0 | O7: =SUM(M7:N7) -> 0 | R7: =SUM(P7:Q7) -> 0
A8: 44963 | B8: =F8 -> 10 | C8: =G8+J8 -> 18 | D8: =H8+K8 -> 0 | E8: =B8+C8+D8 -> 28 | F8: 10 | G8: 11 | H8: 0 | I8: =SUM(F8:H8) -> 21 | J8: 7 | K8: 0 | L8: =SUM(J8:K8) -> 7 | O8: =SUM(M8:N8) -> 0 | R8: =SUM(P8:Q8) -> 0 | Y8: Représentation N1->N2 en %
A9: 44964 | B9: =F9 -> 5 | C9: =G9+J9 -> 11 | D9: =H9+K9 -> 5 | E9: =B9+C9+D9 -> 21 | F9: 5 | G9: 6 | H9: 2 | I9: =SUM(F9:H9) -> 13 | J9: 5 | K9: 3 | L9: =SUM(J9:K9) -> 8 | O9: =SUM(M9:N9) -> 0 | R9: =SUM(P9:Q9) -> 0 | Y9: ETAT | Z9: Zombie
A10: 44965 | B10: =F10 -> 7 | C10: =G10+J10 -> 10 | D10: =H10+K10 -> 1 | E10: =B10+C10+D10 -> 18 | F10: 7 | G10: 4 | H10: 0 | I10: =SUM(F10:H10) -> 11 | J10: 6 | K10: 1 | L10: =SUM(J10:K10) -> 7 | O10: =SUM(M10:N10) -> 0 | R10: =SUM(P10:Q10) -> 0 | Y10: =H37 -> 112.5 | Z10: =G37 -> 121.31148
A11: 44966 | B11: =F11 -> 4 | C11: =G11+J11 -> 9 | D11: =H11+K11 -> 0 | E11: =B11+C11+D11 -> 13 | F11: 4 | G11: 0 | H11: 0 | I11: =SUM(F11:H11) -> 4 | J11: 9 | K11: 0 | L11: =SUM(J11:K11) -> 9 | O11: =SUM(M11:N11) -> 0 | R11: =SUM(P11:Q11) -> 0
A12: 44967 | B12: =F12 -> 3 | C12: =G12+J12 -> 11 | D12: =H12+K12 -> 0 | E12: =B12+C12+D12 -> 14 | F12: 3 | G12: 4 | H12: 0 | I12: =SUM(F12:H12) -> 7 | J12: 7 | K12: 0 | L12: =SUM(J12:K12) -> 7 | O12: =SUM(M12:N12) -> 0 | R12: =SUM(P12:Q12) -> 0
A13: 44968 | B13: =F13 -> 0 | C13: =G13+J13 -> 0 | D13: =H13+K13 -> 0 | E13: =B13+C13+D13 -> 0 | F13: 0 | G13: 0 | H13: 0 | I13: =SUM(F13:H13) -> 0 | J13: 0 | K13: 0 | L13: =SUM(J13:K13) -> 0 | O13: =SUM(M13:N13) -> 0 | R13: =SUM(P13:Q13) -> 0
A14: 44969 | B14: =F14 -> 0 | C14: =G14+J14 -> 0 | D14: =H14+K14 -> 0 | E14: =B14+C14+D14 -> 0 | F14: 0 | G14: 0 | H14: 0 | I14: =SUM(F14:H14) -> 0 | J14: 0 | K14: 0 | L14: =SUM(J14:K14) -> 0 | O14: =SUM(M14:N14) -> 0 | R14: =SUM(P14:Q14) -> 0
A15: 44970 | B15: =F15 -> 3 | C15: =G15+J15 -> 18 | D15: =H15+K15 -> 0 | E15: =B15+C15+D15 -> 21 | F15: 3 | G15: 5 | H15: 0 | I15: =SUM(F15:H15) -> 8 | J15: 13 | K15: 0 | L15: =SUM(J15:K15) -> 13 | O15: =SUM(M15:N15) -> 0 | R15: =SUM(P15:Q15) -> 0
A16: 44971 | B16: =F16 -> 1 | C16: =G16+J16 -> 11 | D16: =H16+K16 -> 0 | E16: =B16+C16+D16 -> 12 | F16: 1 | G16: 4 | H16: 0 | I16: =SUM(F16:H16) -> 5 | J16: 7 | K16: 0 | L16: =SUM(J16:K16) -> 7 | O16: =SUM(M16:N16) -> 0 | R16: =SUM(P16:Q16) -> 0
A17: 44972 | B17: =F17 -> 3 | C17: =G17+J17 -> 5 | D17: =H17+K17 -> 2 | E17: =B17+C17+D17 -> 10 | F17: 3 | G17: 4 | H17: 1 | I17: =SUM(F17:H17) -> 8 | J17: 1 | K17: 1 | L17: =SUM(J17:K17) -> 2 | O17: =SUM(M17:N17) -> 0 | R17: =SUM(P17:Q17) -> 0
A18: 44973 | B18: =F18 -> 4 | C18: =G18+J18 -> 4 | D18: =H18+K18 -> 1 | E18: =B18+C18+D18 -> 9 | F18: 4 | G18: 3 | H18: 0 | I18: =SUM(F18:H18) -> 7 | J18: 1 | K18: 1 | L18: =SUM(J18:K18) -> 2 | O18: =SUM(M18:N18) -> 0 | R18: =SUM(P18:Q18) -> 0
A19: 44974 | B19: =F19 -> 7 | C19: =G19+J19 -> 1 | D19: =H19+K19 -> 0 | E19: =B19+C19+D19 -> 8 | F19: 7 | G19: 1 | H19: 0 | I19: =SUM(F19:H19) -> 8 | J19: 0 | K19: 0 | L19: =SUM(J19:K19) -> 0 | O19: =SUM(M19:N19) -> 0 | R19: =SUM(P19:Q19) -> 0
A20: 44975 | B20: =F20 -> 0 | C20: =G20+J20 -> 0 | D20: =H20+K20 -> 0 | E20: =B20+C20+D20 -> 0 | F20: 0 | G20: 0 | H20: 0 | I20: =SUM(F20:H20) -> 0 | J20: 0 | K20: 0 | L20: =SUM(J20:K20) -> 0 | O20: =SUM(M20:N20) -> 0 | R20: =SUM(P20:Q20) -> 0
A21: 44976 | B21: =F21 -> 0 | C21: =G21+J21 -> 0 | D21: =H21+K21 -> 0 | E21: =B21+C21+D21 -> 0 | F21: 0 | G21: 0 | H21: 0 | I21: =SUM(F21:H21) -> 0 | J21: 0 | K21: 0 | L21: =SUM(J21:K21) -> 0 | O21: =SUM(M21:N21) -> 0 | R21: =SUM(P21:Q21) -> 0
A22: 44977 | B22: =F22 -> 13 | C22: =G22+J22 -> 4 | D22: =H22+K22 -> 2 | E22: =B22+C22+D22 -> 19 | F22: 13 | G22: 3 | H22: 2 | I22: =SUM(F22:H22) -> 18 | J22: 1 | K22: 0 | L22: =SUM(J22:K22) -> 1 | O22: =SUM(M22:N22) -> 0 | R22: =SUM(P22:Q22) -> 0
A23: 44978 | B23: =F23 -> 7 | C23: =G23+J23 -> 3 | D23: =H23+K23 -> 2 | E23: =B23+C23+D23 -> 12 | F23: 7 | G23: 3 | H23: 1 | I23: =SUM(F23:H23) -> 11 | J23: 0 | K23: 1 | L23: =SUM(J23:K23) -> 1 | O23: =SUM(M23:N23) -> 0 | R23: =SUM(P23:Q23) -> 0
A24: 44979 | B24: =F24 -> 0 | C24: =G24+J24 -> 0 | D24: =H24+K24 -> 0 | E24: =B24+C24+D24 -> 0 | I24: =SUM(F24:H24) -> 0 | L24: =SUM(J24:K24) -> 0 | O24: =SUM(M24:N24) -> 0 | R24: =SUM(P24:Q24) -> 0
A25: 44980 | B25: =F25 -> 0 | C25: =G25+J25 -> 0 | D25: =H25+K25 -> 0 | E25: =B25+C25+D25 -> 0 | I25: =SUM(F25:H25) -> 0 | L25: =SUM(J25:K25) -> 0 | O25: =SUM(M25:N25) -> 0 | R25: =SUM(P25:Q25) -> 0
A26: 44981 | B26: =F26 -> 0 | C26: =G26+J26 -> 0 | D26: =H26+K26 -> 0 | E26: =B26+C26+D26 -> 0 | I26: =SUM(F26:H26) -> 0 | L26: =SUM(J26:K26) -> 0 | O26: =SUM(M26:N26) -> 0 | R26: =SUM(P26:Q26) -> 0
A27: 44982 | B27: =F27 -> 0 | C27: =G27+J27 -> 0 | D27: =H27+K27 -> 0 | E27: =B27+C27+D27 -> 0 | I27: =SUM(F27:H27) -> 0 | L27: =SUM(J27:K27) -> 0 | O27: =SUM(M27:N27) -> 0 | R27: =SUM(P27:Q27) -> 0
A28: 44983 | B28: =F28 -> 0 | C28: =G28+J28 -> 0 | D28: =H28+K28 -> 0 | E28: =B28+C28+D28 -> 0 | I28: =SUM(F28:H28) -> 0 | L28: =SUM(J28:K28) -> 0 | O28: =SUM(M28:N28) -> 0 | R28: =SUM(P28:Q28) -> 0
A29: 44984 | B29: =F29 -> 0 | C29: =G29+J29 -> 0 | D29: =H29+K29 -> 0 | E29: =B29+C29+D29 -> 0 | I29: =SUM(F29:H29) -> 0 | L29: =SUM(J29:K29) -> 0 | O29: =SUM(M29:N29) -> 0 | R29: =SUM(P29:Q29) -> 0
A30: 44985 | B30: =F30 -> 0 | C30: =G30+J30 -> 0 | D30: =H30+K30 -> 0 | E30: =B30+C30+D30 -> 0 | I30: =SUM(F30:H30) -> 0 | L30: =SUM(J30:K30) -> 0 | O30: =SUM(M30:N30) -> 0 | R30: =SUM(P30:Q30) -> 0
B31: =F31 -> 0 | C31: =G31+J31 -> 0 | D31: =H31+K31 -> 0 | E31: =B31+C31+D31 -> 0 | I31: =SUM(F31:H31) -> 0 | L31: =SUM(J31:K31) -> 0 | O31: =SUM(M31:N31) -> 0 | R31: =SUM(P31:Q31) -> 0
B32: =F32 -> 0 | C32: =G32+J32 -> 0 | D32: =H32+K32 -> 0 | E32: =B32+C32+D32 -> 0 | I32: =SUM(F32:H32) -> 0 | L32: =SUM(J32:K32) -> 0 | O32: =SUM(M32:N32) -> 0 | R32: =SUM(P32:Q32) -> 0
B33: =F33 -> 0 | C33: =G33+J33 -> 0 | D33: =H33+K33 -> 0 | E33: =B33+C33+D33 -> 0 | I33: =SUM(F33:H33) -> 0 | L33: =SUM(J33:K33) -> 0 | O33: =SUM(M33:N33) -> 0 | R33: =SUM(P33:Q33) -> 0
B34: Licorne | C34: Zombie | D34: ETAT | F34: Licorne | G34: Zombie | H34: ETAT | I34: TOTAL | J34: Zombie | K34: ETAT | L34: TOTAL | M34: Zombie | N34: ETAT | O34: TOTAL | P34: Zombie | Q34: ETAT | R34: TOTAL
A35: TOTAL | B35: =SUM(B3:B33) -> 97 | C35: =SUM(C3:C33) -> 135 | D35: =SUM(D3:D33) -> 17 | E35: =B35+C35+D35 -> 249 | F35: =SUM(F3:F33) -> 97 | G35: =SUM(G3:G33)-P35 -> 61 | H35: =SUM(H3:H33)-Q35 -> 8 | I35: =SUM(I3:I33) -> 166 | J35: =SUM(J3:J33) -> 74 | K35: =SUM(K3:K33) -> 9 | L35: =SUM(L3:L33) -> 83 | N35: =SUM(N3:N33) -> 0 | O35: =SUM(O3:O33) -> 0 | Q35: =SUM(Q3:Q33) -> 0 | R35: =SUM(R3:R33) -> 0
G36: =J35 -> 74 | H36: =K35 -> 9
G37: =(J35/G35)*100 -> 121.31148 | H37: =(H36/H35)*100 -> 112.5

Sheet TCD
A3: Nombre de Date | B3: Étiquettes de colonnes
A4: Étiquettes de lignes | B4: Zombie | C4: ETAT | D4: Total général
A5: Remonté N2 | B5: 24 | C5: 29 | D5: 53
A6: janv | B6: 5 | C6: 11 | D6: 16
A7: févr | B7: 12 | C7: 9 | D7: 21
A8: mars | B8: 7 | C8: 9 | D8: 16
A9: Terminé | B9: 93 | C9: 18 | D9: 111
A10: janv | B10: 32 | C10: 6 | D10: 38
A11: févr | B11: 26 | C11: 7 | D11: 33
A12: mars | B12: 35 | C12: 5 | D12: 40
A13: (vide) | B13: 1 | D13: 1
A14: janv | B14: 1 | D14: 1
A15: Total général | B15: 118 | C15: 47 | D15: 165

Sheet Centre d'appel
A1: Colonne2 | B1: Date | C1: Colonne3 | D1: Colonne4 | E1: Statut | F1: Colonne1 | G1: Colonne5 | H1: Colonne6 | I1: Colonne7 | J1: Colonne8 | K1: Colonne9 | L1: Colonne10 | M1: Colonne11 | N1: Colonne12 | O1: Colonne13 | P1: Colonne14 | Q1: Catégorie demande | R1: Colonne15 | S1: Colonne16
B3: 44929 | E3: Terminé | Q3: Résidents
B4: 44929 | E4: Remonté N2 | Q4: Education
B5: 44930 | E5: Terminé | Q5: Zombie
B6: 44930 | E6: Remonté N2 | Q6: Education
B7: 44930 | E7: Terminé | Q7: Résidents
B8: 44930 | E8: Remonté N2 | Q8: Santé
B9: 44931 | E9: Remonté N2 | Q9: Zombie
B10: 44931 | E10: Remonté N2 | Q10: ETAT
B11: 44931 | E11: Terminé | Q11: Résidents
B12: 44931 | E12: Terminé | Q12: Résidents
B13: 44932 | E13: Remonté N2 | Q13: Education
B14: 44932 | E14: Terminé | Q14: Santé
... B45: 44938 | E45: Terminé | Q45: ETAT
B46: 44942 | E46: Terminé
B47: 44942 | E47: Terminé | Q47: ETAT
B48: 44942 | E48: Terminé | Q48: Zombie
B49: 44942 | E49: Terminé | Q49: Zombie
B50: 44942 | E50: Terminé | Q50: Zombie
B51: 44943 | E51: Remonté N2 | Q51: ETAT
B52: 44943 | E52: Remonté N2 | Q52: Résidents
B53: 44943 | E53: Remonté N2 | Q53: Expansion_économique
B54: 44943 | E54: Remonté N2 | Q54: ETAT
B55: 44943 | E55: Terminé | Q55: Expansion_économique
B56: 44943 | E56: Terminé | Q56: Expansion_économique
B57: 44943 | E57: Remonté N2 | Q57: Résidents
B58: 44942 | E58: Terminé | Q58: Résidents
... B70: 44944 | E70: Remonté N2 | Q70: ETAT
B71: 44944 | Q71: Résidents
B72: 44944 | Q72: Emploi
B73: 44945 | E73: Remonté N2 | Q73: Résidents
B74: 44945 | E74: Terminé | Q74: Fiscalité
B75: 44945 | E75: Remonté N2 | Q75: ETAT
B76: 44945 | Q76: Zombie
B77: 44945 | Q77: Expansion_économique
B78: 44946 | E78: Terminé | Q78: Emploi
B79: 44946 | E79: Terminé | Q79: Zombie
B80: 44946 | E80: Remonté N2 | Q80: Zombie
B81: 44946 | E81: Remonté N2 | Q81: Emploi
B82: 44946 | E82: Terminé | Q82: Zombie
B83: 44946 | E83: Remonté N2 | Q83: Emploi
B84: 44946 | E84: Remonté N2 | Q84: ETAT
B85: 44949 | E85: Remonté N2 | Q85: Education
B86: 44949 | E86: Terminé | Q86: Titres_circulation
B87: 44949 | E87: Remonté N2 | Q87: Résidents
B88: 44949 | E88: Terminé | Q88: Expansion_économique
B89: 44949 | E89: Terminé | Q89: Zombie
... B166: 44966 | E166: Terminé | Q166: Titres_circulation
B167: 44966 | E167: Terminé
B168: 44966 | E168: Terminé | Q168: Résidents
B169: 44966 | E169: Terminé | Q169: Résidents
B170: 44966 | E170: Remonté N2 | Q170: Résidents
B171: 44966 | E171: Remonté N2 | Q171: Zombie
B172: 44966 | E172: Terminé | Q172: Zombie
B173: 44966 | E173: Terminé | Q173: Autre_service
B174: 44967 | E174: Terminé | Q174: Résidents
B175: 44967 | E175: Terminé | Q175: Expansion_économique
B176: 44967 | E176: Remonté N2 | Q176: Santé
B177: 44967 | E177: Terminé | Q177: Résidents
B178: 44967 | E178: Terminé
B179: 44967 | E179: Terminé | Q179: Résidents
B180: 44967 | E180: Terminé | Q180: Résidents
B181: 44970 | E181: Remonté N2 | Q181: Résidents
B182: 44970 | E182: Terminé | Q182: Résidents
B183: 44970 | E183: Terminé | Q183: Zombie
B184: 44970 | E184: Terminé | Q184: Zombie
B185: 44970 | E185: Terminé | Q185: Titres_circulation
B186: 44970 | E186: Terminé | Q186: Résidents
B187: 44970 | E187: Terminé | Q187: Zombie
B188: 44970 | E188: Terminé | Q188: Zombie
B189: 44970 | E189: Terminé | Q189: Santé
B190: 44970 | E190: Remonté N2 | Q190: Résidents
... B214: 44978 | E214: Remonté N2 | Q214: Zombie
B215: 44978 | E215: Terminé
B216: 44978 | E216: Terminé | Q216: ETAT
B217: 44978 | E217: Remonté N2 | Q217: ETAT
B218: 44978 | E218: Remonté N2 | Q218: Résidents
B219: 44979 | E219: Remonté N2 | Q219: Résidents
B220: 44979 | E220: Terminé | Q220: Zombie
B221: 44980 | E221: Terminé | Q221: Zombie
B222: 44980 | E222: Terminé | Q222: Zombie
B223: 44980 | E223: Remonté N2 | Q223: ETAT
B224: 44980 | E224: Terminé | Q224: Zombie
B225: 44981 | E225: Terminé | Q225: Résidents
B226: 44981 | E226: Terminé | Q226: Zombie
B227: 44981 | E227: Remonté N2 | Q227: Zombie
... B359: 45013 | E359: Terminé | Q359: Résidents
B360: 45014
B361: 45014
B362: 45014
B363: 45014
B364: 45014
B365: 45014

Sheet Compteur R
B4: Niv. 1 | H4: Niv. 2 | R4: Remonté N2 | U4: Combiné
B5: Compteur | E5: Compteur ETAT | H5: Compteur Licorne | K5: Compteur Zombie.mc | N5: Compteur ETAT | R5: Zombie | S5: ETAT
B6: 44986 | C6: =COUNTIFS(DateNiv1,B6) -> 3 | E6: 44986 | H6: 44986 | I6: =COUNTIF(DateGV2,H6) -> #REF! | K6: 44986 | L6: =COUNTIF(DateMG2,K6) -> #REF! | N6: 44986 | O6: =COUNTIF(DateMC2,N6) -> #REF! | Q6: 44986 | R6: =COUNTIFS(Tableau65[[Date ]],$Q6,Tableau65[Catégorie demande],'Compteur R'!R$5,Tableau65[Statut],'Compteur R'!$R$4) -> 0 | S6: =COUNTIFS(Tableau65[[Date ]],$Q6,Tableau65[Catégorie demande],'Compteur R'!S$5,Tableau65[Statut],'Compteur R'!$R$4) -> 0
B7: 44987 | C7: =COUNTIFS(DateNiv1,B7) -> 7 | E7: 44987 | H7: 44987 | I7: =COUNTIF(DateGV2,H7) -> #REF! | K7: 44987 | L7: =COUNTIF(DateMG2,K7) -> #REF! | N7: 44987 | O7: =COUNTIF(DateMC2,N7) -> #REF! | Q7: 44987 | R7: =COUNTIFS(Tableau65[[Date ]],$Q7,Tableau65[Catégorie demande],'Compteur R'!R$5,Tableau65[Statut],'Compteur R'!$R$4) -> 0 | S7: =COUNTIFS(Tableau65[[Date ]],$Q7,Tableau65[Catégorie demande],'Compteur R'!S$5,Tableau65[Statut],'Compteur R'!$R$4) -> 0 | U7: =I7 -> #REF! | V7: =(C7+L7)-#REF! -> #REF! | W7: =(F7+O7)-#REF! -> #REF!
B8: 44988 | C8: =COUNTIFS(DateNiv1,B8) -> 6 | E8: 44988 | H8: 44988 | I8: =COUNTIF(DateGV2,H8) -> #REF! | K8: 44988 | L8: =COUNTIF(DateMG2,K8) -> #REF! | N8: 44988 | O8: =COUNTIF(DateMC2,N8) -> #REF! | Q8: 44988 | R8: =COUNTIFS(Tableau65[[Date ]],$Q8,Tableau65[Catégorie demande],'Compteur R'!R$5,Tableau65[Statut],'Compteur R'!$R$4) -> 1 | S8: =COUNTIFS(Tableau65[[Date ]],$Q8,Tableau65[Catégorie demande],'Compteur R'!S$5,Tableau65[Statut],'Compteur R'!$R$4) -> 0 | U8: =I8 -> #REF! | V8: =(C8+L8)-#REF! -> #REF! | W8: =(F8+O8)-#REF! -> #REF!
B9: 44989 | C9: =COUNTIFS(DateNiv1,B9) -> 0 | E9: 44989 | H9: 44989 | I9: =COUNTIF(DateGV2,H9) -> #REF! | K9: 44989 | L9: =COUNTIF(DateMG2,K9) -> #REF! | N9: 44989 | O9: =COUNTIF(DateMC2,N9) -> #REF! | Q9: 44989 | R9: =COUNTIFS(Tableau65[[Date ]],$Q9,Tableau65[Catégorie demande],'Compteur R'!R$5,Tableau65[Statut],'Compteur R'!$R$4) -> 0 | S9: =COUNTIFS(Tableau65[[Date ]],$Q9,Tableau65[Catégorie demande],'Compteur R'!S$5,Tableau65[Statut],'Compteur R'!$R$4) -> 0 | U9: =I9 -> #REF! | V9: =(C9+L9)-#REF! -> #REF! | W9: =(F9+O9)-#REF! -> #REF!
B10: 44990 | C10: =COUNTIFS(DateNiv1,B10) -> 0 | E10: 44990 | H10: 44990 | I10: =COUNTIF(DateGV2,H10) -> #REF! | K10: 44990 | L10: =COUNTIF(DateMG2,K10) -> #REF! | N10: 44990 | O10: =COUNTIF(DateMC2,N10) -> #REF! | Q10: 44990 | R10: =COUNTIFS(Tableau65[[Date ]],$Q10,Tableau65[Catégorie demande],'Compteur R'!R$5,Tableau65[Statut],'Compteur R'!$R$4) -> 0 | S10: =COUNTIFS(Tableau65[[Date ]],$Q10,Tableau65[Catégorie demande],'Compteur R'!S$5,Tableau65[Statut],'Compteur R'!$R$4) -> 0 | U10: =I10 -> #REF! | V10: =(C10+L10)-#REF! -> #REF! | W10: =(F10+O10)-#REF! -> #REF!
B11: 44991 | C11: =COUNTIFS(DateNiv1,B11) -> 4 | E11: 44991 | H11: 44991 | I11: =COUNTIF(DateGV2,H11) -> #REF! | K11: 44991 | L11: =COUNTIF(DateMG2,K11) -> #REF! | N11: 44991 | O11: =COUNTIF(DateMC2,N11) -> #REF! | Q11: 44991 | R11: =COUNTIFS(Tableau65[[Date ]],$Q11,Tableau65[Catégorie demande],'Compteur R'!R$5,Tableau65[Statut],'Compteur R'!$R$4) -> 0 | S11: =COUNTIFS(Tableau65[[Date ]],$Q11,Tableau65[Catégorie demande],'Compteur R'!S$5,Tableau65[Statut],'Compteur R'!$R$4) -> 0 | U11: =I11 -> #REF! | V11: =(C11+L11)-#REF! -> #REF! | W11: =(F11+O11)-#REF! -> #REF!
B12: 44992 | C12: =COUNTIFS(DateNiv1,B12) -> 6 | E12: 44992 | H12: 44992 | I12: =COUNTIF(DateGV2,H12) -> #REF! | K12: 44992 | L12: =COUNTIF(DateMG2,K12) -> #REF! | N12: 44992 | O12: =COUNTIF(DateMC2,N12) -> #REF! | Q12: 44992 | R12: =COUNTIFS(Tableau65[[Date ]],$Q12,Tableau65[Catégorie demande],'Compteur R'!R$5,Tableau65[Statut],'Compteur R'!$R$4) -> 0 | S12: =COUNTIFS(Tableau65[[Date ]],$Q12,Tableau65[Catégorie demande],'Compteur R'!S$5,Tableau65[Statut],'Compteur R'!$R$4) -> 3 | U12: =I12 -> #REF! | V12: =(C12+L12)-#REF! -> #REF! | W12: =(F12+O12)-#REF! -> #REF!
B13: 44993 | C13: =COUNTIFS(DateNiv1,B13) -> 8 | E13: 44993 | H13: 44993 | I13: =COUNTIF(DateGV2,H13) -> #REF! | K13: 44993 | L13: =COUNTIF(DateMG2,K13) -> #REF! | N13: 44993 | O13: =COUNTIF(DateMC2,N13) -> #REF! | Q13: 44993 | R13: =COUNTIFS(Tableau65[[Date ]],$Q13,Tableau65[Catégorie demande],'Compteur R'!R$5,Tableau65[Statut],'Compteur R'!$R$4) -> 0 | S13: =COUNTIFS(Tableau65[[Date ]],$Q13,Tableau65[Catégorie demande],'Compteur R'!S$5,Tableau65[Statut],'Compteur R'!$R$4) -> 1 | U13: =I13 -> #REF! | V13: =(C13+L13)-#REF! -> #REF! | W13: =(F13+O13)-#REF! -> #REF!
B14: 44994 | C14: =COUNTIFS(DateNiv1,B14) -> 4 | E14: 44994 | H14: 44994 | I14: =COUNTIF(DateGV2,H14) -> #REF! | K14: 44994 | L14: =COUNTIF(DateMG2,K14) -> #REF! | N14: 44994 | O14: =COUNTIF(DateMC2,N14) -> #REF! | Q14: 44994 | R14: =COUNTIFS(Tableau65[[Date ]],$Q14,Tableau65[Catégorie demande],'Compteur R'!R$5,Tableau65[Statut],'Compteur R'!$R$4) -> 0 | S14: =COUNTIFS(Tableau65[[Date ]],$Q14,Tableau65[Catégorie demande],'Compteur R'!S$5,Tableau65[Statut],'Compteur R'!$R$4) -> 1 | U14: =I14 -> #REF! | V14: =(C14+L14)-#REF! -> #REF! | W14: =(F14+O14)-#REF! -> #REF!
B15: 44995 | C15: =COUNTIFS(DateNiv1,B15) -> 5 | E15: 44995 | H15: 44995 | I15: =COUNTIF(DateGV2,H15) -> #REF! | K15: 44995 | L15: =COUNTIF(DateMG2,K15) -> #REF! | N15: 44995 | O15: =COUNTIF(DateMC2,N15) -> #REF! | Q15: 44995 | R15: =COUNTIFS(Tableau65[[Date ]],$Q15,Tableau65[Catégorie demande],'Compteur R'!R$5,Tableau65[Statut],'Compteur R'!$R$4) -> 0 | S15: =COUNTIFS(Tableau65[[Date ]],$Q15,Tableau65[Catégorie demande],'Compteur R'!S$5,Tableau65[Statut],'Compteur R'!$R$4) -> 0 | U15: =I15 -> #REF! | V15: =(C15+L15)-#REF! -> #REF! | W15: =(F15+O15)-#REF! -> #REF!
B16: 44996 | C16: =COUNTIFS(DateNiv1,B16) -> 0 | E16: 44996 | H16: 44996 | I16: =COUNTIF(DateGV2,H16) -> #REF! | K16: 44996 | L16: =COUNTIF(DateMG2,K16) -> #REF! | N16: 44996 | O16: =COUNTIF(DateMC2,N16) -> #REF! | Q16: 44996 | R16: =COUNTIFS(Tableau65[[Date ]],$Q16,Tableau65[Catégorie demande],'Compteur R'!R$5,Tableau65[Statut],'Compteur R'!$R$4) -> 0 | S16: =COUNTIFS(Tableau65[[Date ]],$Q16,Tableau65[Catégorie demande],'Compteur R'!S$5,Tableau65[Statut],'Compteur R'!$R$4) -> 0 | U16: =I16 -> #REF! | V16: =(C16+L16)-#REF! -> #REF! | W16: =(F16+O16)-#REF! -> #REF!
B17: 44997 | C17: =COUNTIFS(DateNiv1,B17) -> 0 | E17: 44997 | H17: 44997 | I17: =COUNTIF(DateGV2,H17) -> #REF! | K17: 44997 | L17: =COUNTIF(DateMG2,K17) -> #REF! | N17: 44997 | O17: =COUNTIF(DateMC2,N17) -> #REF! | Q17: 44997 | R17: =COUNTIFS(Tableau65[[Date ]],$Q17,Tableau65[Catégorie demande],'Compteur R'!R$5,Tableau65[Statut],'Compteur R'!$R$4) -> 0 | S17: =COUNTIFS(Tableau65[[Date ]],$Q17,Tableau65[Catégorie demande],'Compteur R'!S$5,Tableau65[Statut],'Compteur R'!$R$4) -> 0 | U17: =I17 -> #REF! | V17: =(C17+L17)-#REF! -> #REF! | W17: =(F17+O17)-#REF! -> #REF!
B18: 44998 | C18: =COUNTIFS(DateNiv1,B18) -> 2 | E18: 44998 | H18: 44998 | I18: =COUNTIF(DateGV2,H18) -> #REF! | K18: 44998 | L18: =COUNTIF(DateMG2,K18) -> #REF! | N18: 44998 | O18: =COUNTIF(DateMC2,N18) -> #REF! | Q18: 44998 | R18: =COUNTIFS(Tableau65[[Date ]],$Q18,Tableau65[Catégorie demande],'Compteur R'!R$5,Tableau65[Statut],'Compteur R'!$R$4) -> 1 | S18: =COUNTIFS(Tableau65[[Date ]],$Q18,Tableau65[Catégorie demande],'Compteur R'!S$5,Tableau65[Statut],'Compteur R'!$R$4) -> 1 | U18: =I18 -> #REF! | V18: =(C18+L18)-#REF! -> #REF! | W18: =(F18+O18)-#REF! -> #REF!
... B36: 45016 | C36: =COUNTIFS(DateNiv1,B36) -> 0 | E36: 45016 | H36: 45016 | I36: =COUNTIF(DateGV2,H36) -> #REF! | K36: 45016 | L36: =COUNTIF(DateMG2,K36) -> #REF! | N36: 45016 | O36: =COUNTIF(DateMC2,N36) -> #REF! | Q36: 45016 | R36: =COUNTIFS(Tableau65[[Date ]],$Q36,Tableau65[Catégorie demande],'Compteur R'!R$5,Tableau65[Statut],'Compteur R'!$R$4) -> 0 | S36: =COUNTIFS(Tableau65[[Date ]],$Q36,Tableau65[Catégorie demande],'Compteur R'!S$5,Tableau65[Statut],'Compteur R'!$R$4) -> 0 | U36: =I36 -> #REF! | V36: =(C36+L36)-#REF! -> #REF! | W36: =(F36+O36)-#REF! -> #REF!
B37: TOTAL | C37: =SUM(C6:C36) -> 127 | E37: TOTAL | F37: =SUM(C37:E37) -> 127 | H37: TOTAL | I37: =SUM(I6:I36) -> #REF! | K37: TOTAL | L37: =SUM(L6:L36) -> #REF! | N37: TOTAL | O37: =SUM(O6:O36) -> #REF! | Q37: TOTAL | R37: =SUM(R6:R36) -> 7 | S37: =SUM(S6:S36) -> 9 | U37: 0 | V37: 0 | W37: =(F37+O37)-#REF! -> #REF!
B39: 45017 | C39: =COUNTIF(DateMG,B39) -> #REF! | E39: 45017 | H39: 45017 | I39: =COUNTIF(DateGV2,H39) -> #REF! | K39: 45017 | L39: =COUNTIF(DateMG2,K39) -> #REF! | N39: 45017 | O39: =COUNTIF(DateMC2,N39) -> #REF! | Q39: 45017 | R39: =COUNTIFS(Tableau65[[Date ]],$Q39,Tableau65[Catégorie demande],'Compteur R'!R$5,Tableau65[Statut],'Compteur R'!$R$4) -> 0 | S39: =COUNTIFS(Tableau65[[Date ]],$Q39,Tableau65[Catégorie demande],'Compteur R'!S$5,Tableau65[Statut],'Compteur R'!$R$4) -> 0 | U39: =I39 -> #REF! | V39: =(C39+L39)-#REF! -> #REF! | W39: =(F39+O39)-#REF! -> #REF!
B40: 45018 | C40: =COUNTIF(DateMG,B40) -> #REF! | E40: 45018 | H40: 45018 | I40: =COUNTIF(DateGV2,H40) -> #REF! | K40: 45018 | L40: =COUNTIF(DateMG2,K40) -> #REF! | N40: 45018 | O40: =COUNTIF(DateMC2,N40) -> #REF! | Q40: 45018 | R40: =COUNTIFS(Tableau65[[Date ]],$Q40,Tableau65[Catégorie demande],'Compteur R'!R$5,Tableau65[Statut],'Compteur R'!$R$4) -> 0 | S40: =COUNTIFS(Tableau65[[Date ]],$Q40,Tableau65[Catégorie demande],'Compteur R'!S$5,Tableau65[Statut],'Compteur R'!$R$4) -> 0 | U40: =I40 -> #REF! | V40: =(C40+L40)-#REF! -> #REF! | W40: =(F40+O40)-#REF! -> #REF!
B41: 45019 | C41: =COUNTIF(DateMG,B41) -> #REF! | E41: 45019 | H41: 45019 | I41: =COUNTIF(DateGV2,H41) -> #REF! | K41: 45019 | L41: =COUNTIF(DateMG2,K41) -> #REF! | N41: 45019 | O41: =COUNTIF(DateMC2,N41) -> #REF! | Q41: 45019 | R41: =COUNTIFS(Tableau65[[Date ]],$Q41,Tableau65[Catégorie demande],'Compteur R'!R$5,Tableau65[Statut],'Compteur R'!$R$4) -> 0 | S41: =COUNTIFS(Tableau65[[Date ]],$Q41,Tableau65[Catégorie demande],'Compteur R'!S$5,Tableau65[Statut],'Compteur R'!$R$4) -> 0 | U41: =I41 -> #REF! | V41: =(C41+L41)-#REF! -> #REF! | W41: =(F41+O41)-#REF! -> #REF!
B42: 45020 | C42: =COUNTIF(DateMG,B42) -> #REF! | E42: 45020 | H42: 45020 | I42: =COUNTIF(DateGV2,H42) -> #REF! | K42: 45020 | L42: =COUNTIF(DateMG2,K42) -> #REF! | N42: 45020 | O42: =COUNTIF(DateMC2,N42) -> #REF! | Q42: 45020 | R42: =COUNTIFS(Tableau65[[Date ]],$Q42,Tableau65[Catégorie demande],'Compteur R'!R$5,Tableau65[Statut],'Compteur R'!$R$4) -> 0 | S42: =COUNTIFS(Tableau65[[Date ]],$Q42,Tableau65[Catégorie demande],'Compteur R'!S$5,Tableau65[Statut],'Compteur R'!$R$4) -> 0 | U42: =I42 -> #REF! | V42: =(C42+L42)-#REF! -> #REF! | W42: =(F42+O42)-#REF! -> #REF!
B43: 45021 | C43: =COUNTIF(DateMG,B43) -> #REF! | E43: 45021 | H43: 45021 | I43: =COUNTIF(DateGV2,H43) -> #REF! | K43: 45021 | L43: =COUNTIF(DateMG2,K43) -> #REF! | N43: 45021 | O43: =COUNTIF(DateMC2,N43) -> #REF! | Q43: 45021 | R43: =COUNTIFS(Tableau65[[Date ]],$Q43,Tableau65[Catégorie demande],'Compteur R'!R$5,Tableau65[Statut],'Compteur R'!$R$4) -> 0 | S43: =COUNTIFS(Tableau65[[Date ]],$Q43,Tableau65[Catégorie demande],'Compteur R'!S$5,Tableau65[Statut],'Compteur R'!$R$4) -> 0 | U43: =I43 -> #REF! | V43: =(C43+L43)-#REF! -> #REF! | W43: =(F43+O43)-#REF! -> #REF!
B44: 45022 | C44: =COUNTIF(DateMG,B44) -> #REF! | E44: 45022 | H44: 45022 | I44: =COUNTIF(DateGV2,H44) -> #REF! | K44: 45022 | L44: =COUNTIF(DateMG2,K44) -> #REF! | N44: 45022 | O44: =COUNTIF(DateMC2,N44) -> #REF! | Q44: 45022 | R44: =COUNTIFS(Tableau65[[Date ]],$Q44,Tableau65[Catégorie demande],'Compteur R'!R$5,Tableau65[Statut],'Compteur R'!$R$4) -> 0 | S44: =COUNTIFS(Tableau65[[Date ]],$Q44,Tableau65[Catégorie demande],'Compteur R'!S$5,Tableau65[Statut],'Compteur R'!$R$4) -> 0 | U44: =I44 -> #REF! | V44: =(C44+L44)-#REF! -> #REF! | W44: =(F44+O44)-#REF! -> #REF!
B45: 45023 | C45: =COUNTIF(DateMG,B45) -> #REF! | E45: 45023 | H45: 45023 | I45: =COUNTIF(DateGV2,H45) -> #REF! | K45: 45023 | L45: =COUNTIF(DateMG2,K45) -> #REF! | N45: 45023 | O45: =COUNTIF(DateMC2,N45) -> #REF! | Q45: 45023 | R45: =COUNTIFS(Tableau65[[Date ]],$Q45,Tableau65[Catégorie demande],'Compteur R'!R$5,Tableau65[Statut],'Compteur R'!$R$4) -> 0 | S45: =COUNTIFS(Tableau65[[Date ]],$Q45,Tableau65[Catégorie demande],'Compteur R'!S$5,Tableau65[Statut],'Compteur R'!$R$4) -> 0 | U45: =I45 -> #REF! | V45: =(C45+L45)-#REF! -> #REF! | W45: =(F45+O45)-#REF! -> #REF!
B46: 45024 | C46: =COUNTIF(DateMG,B46) -> #REF! | E46: 45024 | H46: 45024 | I46: =COUNTIF(DateGV2,H46) -> #REF! | K46: 45024 | L46: =COUNTIF(DateMG2,K46) -> #REF! | N46: 45024 | O46: =COUNTIF(DateMC2,N46) -> #REF! | Q46: 45024 | R46: =COUNTIFS(Tableau65[[Date ]],$Q46,Tableau65[Catégorie demande],'Compteur R'!R$5,Tableau65[Statut],'Compteur R'!$R$4) -> 0 | S46: =COUNTIFS(Tableau65[[Date ]],$Q46,Tableau65[Catégorie demande],'Compteur R'!S$5,Tableau65[Statut],'Compteur R'!$R$4) -> 0 | U46: =I46 -> #REF! | V46: =(C46+L46)-#REF! -> #REF! | W46: =(F46+O46)-#REF! -> #REF!
B47: 45025 | C47: =COUNTIF(DateMG,B47) -> #REF! | E47: 45025 | H47: 45025 | I47: =COUNTIF(DateGV2,H47) -> #REF! | K47: 45025 | L47: =COUNTIF(DateMG2,K47) -> #REF! | N47: 45025 | O47: =COUNTIF(DateMC2,N47) -> #REF! | Q47: 45025 | R47: =COUNTIFS(Tableau65[[Date ]],$Q47,Tableau65[Catégorie demande],'Compteur R'!R$5,Tableau65[Statut],'Compteur R'!$R$4) -> 0 | S47: =COUNTIFS(Tableau65[[Date ]],$Q47,Tableau65[Catégorie demande],'Compteur R'!S$5,Tableau65[Statut],'Compteur R'!$R$4) -> 0 | U47: =I47 -> #REF! | V47: =(C47+L47)-#REF! -> #REF! | W47: =(F47+O47)-#REF! -> #REF!
B48: 45026 | C48: =COUNTIF(DateMG,B48) -> #REF! | E48: 45026 | H48: 45026 | I48: =COUNTIF(DateGV2,H48) -> #REF! | K48: 45026 | L48: =COUNTIF(DateMG2,K48) -> #REF! | N48: 45026 | O48: =COUNTIF(DateMC2,N48) -> #REF! | Q48: 45026 | R48: =COUNTIFS(Tableau65[[Date ]],$Q48,Tableau65[Catégorie demande],'Compteur R'!R$5,Tableau65[Statut],'Compteur R'!$R$4) -> 0 | S48: =COUNTIFS(Tableau65[[Date ]],$Q48,Tableau65[Catégorie demande],'Compteur R'!S$5,Tableau65[Statut],'Compteur R'!$R$4) -> 0 | U48: =I48 -> #REF! | V48: =(C48+L48)-#REF! -> #REF! | W48: =(F48+O48)-#REF! -> #REF!
B49: 45027 | C49: =COUNTIF(DateMG,B49) -> #REF! | E49: 45027 | H49: 45027 | I49: =COUNTIF(DateGV2,H49) -> #REF! | K49: 45027 | L49: =COUNTIF(DateMG2,K49) -> #REF! | N49: 45027 | O49: =COUNTIF(DateMC2,N49) -> #REF! | Q49: 45027 | R49: =COUNTIFS(Tableau65[[Date ]],$Q49,Tableau65[Catégorie demande],'Compteur R'!R$5,Tableau65[Statut],'Compteur R'!$R$4) -> 0 | S49: =COUNTIFS(Tableau65[[Date ]],$Q49,Tableau65[Catégorie demande],'Compteur R'!S$5,Tableau65[Statut],'Compteur R'!$R$4) -> 0 | U49: =I49 -> #REF! | V49: =(C49+L49)-#REF! -> #REF! | W49: =(F49+O49)-#REF! -> #REF!
B50: 45028 | C50: =COUNTIF(DateMG,B50) -> #REF! | E50: 45028 | H50: 45028 | I50: =COUNTIF(DateGV2,H50) -> #REF! | K50: 45028 | L50: =COUNTIF(DateMG2,K50) -> #REF! | N50: 45028 | O50: =COUNTIF(DateMC2,N50) -> #REF! | Q50: 45028 | R50: =COUNTIFS(Tableau65[[Date ]],$Q50,Tableau65[Catégorie demande],'Compteur R'!R$5,Tableau65[Statut],'Compteur R'!$R$4) -> 0 | S50: =COUNTIFS(Tableau65[[Date ]],$Q50,Tableau65[Catégorie demande],'Compteur R'!S$5,Tableau65[Statut],'Compteur R'!$R$4) -> 0 | U50: =I50 -> #REF! | V50: =(C50+L50)-#REF! -> #REF! | W50: =(F50+O50)-#REF! -> #REF!
... B68: 45046 | C68: =COUNTIF(DateMG,B68) -> #REF! | E68: 45046 | H68: 45046 | I68: =COUNTIF(DateGV2,H68) -> #REF! | K68: 45046 | L68: =COUNTIF(DateMG2,K68) -> #REF! | N68: 45046 | O68: =COUNTIF(DateMC2,N68) -> #REF! | Q68: 45046 | R68: =COUNTIFS(Tableau65[[Date ]],$Q68,Tableau65[Catégorie demande],'Compteur R'!R$5,Tableau65[Statut],'Compteur R'!$R$4) -> 0 | S68: =COUNTIFS(Tableau65[[Date ]],$Q68,Tableau65[Catégorie demande],'Compteur R'!S$5,Tableau65[Statut],'Compteur R'!$R$4) -> 0 | U68: =I68 -> #REF! | V68: =(C68+L68)-#REF! -> #REF! | W68: =(F68+O68)-#REF! -> #REF!
B69: TOTAL | C69: =SUM(C38:C68) -> #REF! | E69: TOTAL | F69: =SUM(C69:E69) -> #REF! | H69: TOTAL | I69: =SUM(I38:I68) -> #REF! | K69: TOTAL | L69: =SUM(L38:L68) -> #REF! | N69: TOTAL | O69: =SUM(O38:O68) -> #REF! | Q69: TOTAL | U69: =I69 -> #REF! | V69: =(C69+L69)-#REF! -> #REF! | W69: =(F69+O69)-#REF! -> #REF!
B71: 45047 | C71: =COUNTIF(DateMG,B71) -> #REF! | E71: 45047 | H71: 45047 | I71: =COUNTIF(DateGV2,H71) -> #REF! | K71: 45047 | L71: =COUNTIF(DateMG2,K71) -> #REF! | N71: 45047 | O71: =COUNTIF(DateMC2,N71) -> #REF! | Q71: 45047 | R71: =COUNTIFS(Tableau65[[Date ]],$Q71,Tableau65[Catégorie demande],'Compteur R'!R$5,Tableau65[Statut],'Compteur R'!$R$4) -> 0 | S71: =COUNTIFS(Tableau65[[Date ]],$Q71,Tableau65[Catégorie demande],'Compteur R'!S$5,Tableau65[Statut],'Compteur R'!$R$4) -> 0 | U71: =I71 -> #REF! | V71: =(C71+L71)-#REF! -> #REF! | W71: =(F71+O71)-#REF! -> #REF!
B72: 45048 | C72: =COUNTIF(DateMG,B72) -> #REF! | E72: 45048 | H72: 45048 | I72: =COUNTIF(DateGV2,H72) -> #REF! | K72: 45048 | L72: =COUNTIF(DateMG2,K72) -> #REF! | N72: 45048 | O72: =COUNTIF(DateMC2,N72) -> #REF! | Q72: 45048 | R72: =COUNTIFS(Tableau65[[Date ]],$Q72,Tableau65[Catégorie demande],'Compteur R'!R$5,Tableau65[Statut],'Compteur R'!$R$4) -> 0 | S72: =COUNTIFS(Tableau65[[Date ]],$Q72,Tableau65[Catégorie demande],'Compteur R'!S$5,Tableau65[Statut],'Compteur R'!$R$4) -> 0 | U72: =I72 -> #REF! | V72: =(C72+L72)-#REF! -> #REF! | W72: =(F72+O72)-#REF! -> #REF!
B73: 45049 | C73: =COUNTIF(DateMG,B73) -> #REF! | E73: 45049 | H73: 45049 | I73: =COUNTIF(DateGV2,H73) -> #REF! | K73: 45049 | L73: =COUNTIF(DateMG2,K73) -> #REF! | N73: 45049 | O73: =COUNTIF(DateMC2,N73) -> #REF! | Q73: 45049 | R73: =COUNTIFS(Tableau65[[Date ]],$Q73,Tableau65[Catégorie demande],'Compteur R'!R$5,Tableau65[Statut],'Compteur R'!$R$4) -> 0 | S73: =COUNTIFS(Tableau65[[Date ]],$Q73,Tableau65[Catégorie demande],'Compteur R'!S$5,Tableau65[Statut],'Compteur R'!$R$4) -> 0 | U73: =I73 -> #REF! | V73: =(C73+L73)-#REF! -> #REF! | W73: =(F73+O73)-#REF! -> #REF!
B74: 45050 | C74: =COUNTIF(DateMG,B74) -> #REF! | E74: 45050 | H74: 45050 | I74: =COUNTIF(DateGV2,H74) -> #REF! | K74: 45050 | L74: =COUNTIF(DateMG2,K74) -> #REF! | N74: 45050 | O74: =COUNTIF(DateMC2,N74) -> #REF! | Q74: 45050 | R74: =COUNTIFS(Tableau65[[Date ]],$Q74,Tableau65[Catégorie demande],'Compteur R'!R$5,Tableau65[Statut],'Compteur R'!$R$4) -> 0 | S74: =COUNTIFS(Tableau65[[Date ]],$Q74,Tableau65[Catégorie demande],'Compteur R'!S$5,Tableau65[Statut],'Compteur R'!$R$4) -> 0 | U74: =I74 -> #REF! | V74: =(C74+L74)-#REF! -> #REF! | W74: =(F74+O74)-#REF! -> #REF!
B75: 45051 | C75: =COUNTIF(DateMG,B75) -> #REF! | E75: 45051 | H75: 45051 | I75: =COUNTIF(DateGV2,H75) -> #REF! | K75: 45051 | L75: =COUNTIF(DateMG2,K75) -> #REF! | N75: 45051 | O75: =COUNTIF(DateMC2,N75) -> #REF! | Q75: 45051 | R75: =COUNTIFS(Tableau65[[Date ]],$Q75,Tableau65[Catégorie demande],'Compteur R'!R$5,Tableau65[Statut],'Compteur R'!$R$4) -> 0 | S75: =COUNTIFS(Tableau65[[Date ]],$Q75,Tableau65[Catégorie demande],'Compteur R'!S$5,Tableau65[Statut],'Compteur R'!$R$4) -> 0 | U75: =I75 -> #REF! | V75: =(C75+L75)-#REF! -> #REF! | W75: =(F75+O75)-#REF! -> #REF!
B76: 45052 | C76: =COUNTIF(DateMG,B76) -> #REF! | E76: 45052 | H76: 45052 | I76: =COUNTIF(DateGV2,H76) -> #REF! | K76: 45052 | L76: =COUNTIF(DateMG2,K76) -> #REF! | N76: 45052 | O76: =COUNTIF(DateMC2,N76) -> #REF! | Q76: 45052 | R76: =COUNTIFS(Tableau65[[Date ]],$Q76,Tableau65[Catégorie demande],'Compteur R'!R$5,Tableau65[Statut],'Compteur R'!$R$4) -> 0 | S76: =COUNTIFS(Tableau65[[Date ]],$Q76,Tableau65[Catégorie demande],'Compteur R'!S$5,Tableau65[Statut],'Compteur R'!$R$4) -> 0 | U76: =I76 -> #REF! | V76: =(C76+L76)-#REF! -> #REF! | W76: =(F76+O76)-#REF! -> #REF!
B77: 45053 | C77: =COUNTIF(DateMG,B77) -> #REF! | E77: 45053 | H77: 45053 | I77: =COUNTIF(DateGV2,H77) -> #REF! | K77: 45053 | L77: =COUNTIF(DateMG2,K77) -> #REF! | N77: 45053 | O77: =COUNTIF(DateMC2,N77) -> #REF! | Q77: 45053 | R77: =COUNTIFS(Tableau65[[Date ]],$Q77,Tableau65[Catégorie demande],'Compteur R'!R$5,Tableau65[Statut],'Compteur R'!$R$4) -> 0 | S77: =COUNTIFS(Tableau65[[Date ]],$Q77,Tableau65[Catégorie demande],'Compteur R'!S$5,Tableau65[Statut],'Compteur R'!$R$4) -> 0 | U77: =I77 -> #REF! | V77: =(C77+L77)-#REF! -> #REF! | W77: =(F77+O77)-#REF! -> #REF!
B78: 45054 | C78: =COUNTIF(DateMG,B78) -> #REF! | E78: 45054 | H78: 45054 | I78: =COUNTIF(DateGV2,H78) -> #REF! | K78: 45054 | L78: =COUNTIF(DateMG2,K78) -> #REF! | N78: 45054 | O78: =COUNTIF(DateMC2,N78) -> #REF! | Q78: 45054 | R78: =COUNTIFS(Tableau65[[Date ]],$Q78,Tableau65[Catégorie demande],'Compteur R'!R$5,Tableau65[Statut],'Compteur R'!$R$4) -> 0 | S78: =COUNTIFS(Tableau65[[Date ]],$Q78,Tableau65[Catégorie demande],'Compteur R'!S$5,Tableau65[Statut],'Compteur R'!$R$4) -> 0 | U78: =I78 -> #REF! | V78: =(C78+L78)-#REF! -> #REF! | W78: =(F78+O78)-#REF! -> #REF!
B79: 45055 | C79: =COUNTIF(DateMG,B79) -> #REF! | E79: 45055 | H79: 45055 | I79: =COUNTIF(DateGV2,H79) -> #REF! | K79: 45055 | L79: =COUNTIF(DateMG2,K79) -> #REF! | N79: 45055 | O79: =COUNTIF(DateMC2,N79) -> #REF! | Q79: 45055 | R79: =COUNTIFS(Tableau65[[Date ]],$Q79,Tableau65[Catégorie demande],'Compteur R'!R$5,Tableau65[Statut],'Compteur R'!$R$4) -> 0 | S79: =COUNTIFS(Tableau65[[Date ]],$Q79,Tableau65[Catégorie demande],'Compteur R'!S$5,Tableau65[Statut],'Compteur R'!$R$4) -> 0 | U79: =I79 -> #REF! | V79: =(C79+L79)-#REF! -> #REF! | W79: =(F79+O79)-#REF! -> #REF!
B80: 45056 | C80: =COUNTIF(DateMG,B80) -> #REF! | E80: 45056 | H80: 45056 | I80: =COUNTIF(DateGV2,H80) -> #REF! | K80: 45056 | L80: =COUNTIF(DateMG2,K80) -> #REF! | N80: 45056 | O80: =COUNTIF(DateMC2,N80) -> #REF! | Q80: 45056 | R80: =COUNTIFS(Tableau65[[Date ]],$Q80,Tableau65[Catégorie demande],'Compteur R'!R$5,Tableau65[Statut],'Compteur R'!$R$4) -> 0 | S80: =COUNTIFS(Tableau65[[Date ]],$Q80,Tableau65[Catégorie demande],'Compteur R'!S$5,Tableau65[Statut],'Compteur R'!$R$4) -> 0 | U80: =I80 -> #REF! | V80: =(C80+L80)-#REF! -> #REF! | W80: =(F80+O80)-#REF! -> #REF!
B81: 45057 | C81: =COUNTIF(DateMG,B81) -> #REF! | E81: 45057 | H81: 45057 | I81: =COUNTIF(DateGV2,H81) -> #REF! | K81: 45057 | L81: =COUNTIF(DateMG2,K81) -> #REF! | N81: 45057 | O81: =COUNTIF(DateMC2,N81) -> #REF! | Q81: 45057 | R81: =COUNTIFS(Tableau65[[Date ]],$Q81,Tableau65[Catégorie demande],'Compteur R'!R$5,Tableau65[Statut],'Compteur R'!$R$4) -> 0 | S81: =COUNTIFS(Tableau65[[Date ]],$Q81,Tableau65[Catégorie demande],'Compteur R'!S$5,Tableau65[Statut],'Compteur R'!$R$4) -> 0 | U81: =I81 -> #REF! | V81: =(C81+L81)-#REF! -> #REF! | W81: =(F81+O81)-#REF! -> #REF!
B82: 45058 | C82: =COUNTIF(DateMG,B82) -> #REF! | E82: 45058 | H82: 45058 | I82: =COUNTIF(DateGV2,H82) -> #REF! | K82: 45058 | L82: =COUNTIF(DateMG2,K82) -> #REF! | N82: 45058 | O82: =COUNTIF(DateMC2,N82) -> #REF! | Q82: 45058 | R82: =COUNTIFS(Tableau65[[Date ]],$Q82,Tableau65[Catégorie demande],'Compteur R'!R$5,Tableau65[Statut],'Compteur R'!$R$4) -> 0 | S82: =COUNTIFS(Tableau65[[Date ]],$Q82,Tableau65[Catégorie demande],'Compteur R'!S$5,Tableau65[Statut],'Compteur R'!$R$4) -> 0 | U82: =I82 -> #REF! | V82: =(C82+L82)-#REF! -> #REF! | W82: =(F82+O82)-#REF! -> #REF!
... B101: 45077 | C101: =COUNTIF(DateMG,B101) -> #REF! | E101: 45077 | H101: 45077 | I101: =COUNTIF(DateGV2,H101) -> #REF! | K101: 45077 | L101: =COUNTIF(DateMG2,K101) -> #REF! | N101: 45077 | O101: =COUNTIF(DateMC2,N101) -> #REF! | Q101: 45077 | R101: =COUNTIFS(Tableau65[[Date ]],$Q101,Tableau65[Catégorie demande],'Compteur R'!R$5,Tableau65[Statut],'Compteur R'!$R$4) -> 0 | S101: =COUNTIFS(Tableau65[[Date ]],$Q101,Tableau65[Catégorie demande],'Compteur R'!S$5,Tableau65[Statut],'Compteur R'!$R$4) -> 0 | U101: =I101 -> #REF! | V101: =(C101+L101)-#REF! -> #REF! | W101: =(F101+O101)-#REF! -> #REF!
B102: TOTAL | C102: =SUM(C71:C101) -> #REF! | E102: TOTAL | F102: =SUM(C102:E102) -> #REF! | H102: TOTAL | I102: =SUM(I71:I101) -> #REF! | K102: TOTAL | L102: =SUM(L71:L101) -> #REF! | N102: TOTAL | O102: =SUM(O71:O101) -> #REF! | Q102: TOTAL | U102: =I102 -> #REF! | V102: =(C102+L102)-#REF! -> #REF! | W102: =(F102+O102)-#REF! -> #REF!
B104: 45078 | C104: =COUNTIF(DateMG,B104) -> #REF! | E104: 45078 | H104: 45078 | I104: =COUNTIF(DateGV2,H104) -> #REF! | K104: 45078 | L104: =COUNTIF(DateMG2,K104) -> #REF! | N104: 45078 | O104: =COUNTIF(DateMC2,N104) -> #REF! | Q104: 45078 | R104: =COUNTIFS(Tableau65[[Date ]],$Q104,Tableau65[Catégorie demande],'Compteur R'!R$5,Tableau65[Statut],'Compteur R'!$R$4) -> 0 | S104: =COUNTIFS(Tableau65[[Date ]],$Q104,Tableau65[Catégorie demande],'Compteur R'!S$5,Tableau65[Statut],'Compteur R'!$R$4) -> 0 | U104: =I104 -> #REF! | V104: =(C104+L104)-#REF! -> #REF! | W104: =(F104+O104)-#REF! -> #REF!
B105: 45079 | C105: =COUNTIF(DateMG,B105) -> #REF! | E105: 45079 | H105: 45079 | I105: =COUNTIF(DateGV2,H105) -> #REF! | K105: 45079 | L105: =COUNTIF(DateMG2,K105) -> #REF! | N105: 45079 | O105: =COUNTIF(DateMC2,N105) -> #REF! | Q105: 45079 | R105: =COUNTIFS(Tableau65[[Date ]],$Q105,Tableau65[Catégorie demande],'Compteur R'!R$5,Tableau65[Statut],'Compteur R'!$R$4) -> 0 | S105: =COUNTIFS(Tableau65[[Date ]],$Q105,Tableau65[Catégorie demande],'Compteur R'!S$5,Tableau65[Statut],'Compteur R'!$R$4) -> 0 | U105: =I105 -> #REF! | V105: =(C105+L105)-#REF! -> #REF! | W105: =(F105+O105)-#REF! -> #REF!
B106: 45080 | C106: =COUNTIF(DateMG,B106) -> #REF! | E106: 45080 | H106: 45080 | I106: =COUNTIF(DateGV2,H106) -> #REF! | K106: 45080 | L106: =COUNTIF(DateMG2,K106) -> #REF! | N106: 45080 | O106: =COUNTIF(DateMC2,N106) -> #REF! | Q106: 45080 | R106: =COUNTIFS(Tableau65[[Date ]],$Q106,Tableau65[Catégorie demande],'Compteur R'!R$5,Tableau65[Statut],'Compteur R'!$R$4) -> 0 | S106: =COUNTIFS(Tableau65[[Date ]],$Q106,Tableau65[Catégorie demande],'Compteur R'!S$5,Tableau65[Statut],'Compteur R'!$R$4) -> 0 | U106: =I106 -> #REF! | V106: =(C106+L106)-#REF! -> #REF! | W106: =(F106+O106)-#REF! -> #REF!
B107: 45081 | C107: =COUNTIF(DateMG,B107) -> #REF! | E107: 45081 | H107: 45081 | I107: =COUNTIF(DateGV2,H107) -> #REF! | K107: 45081 | L107: =COUNTIF(DateMG2,K107) -> #REF! | N107: 45081 | O107: =COUNTIF(DateMC2,N107) -> #REF! | Q107: 45081 | R107: =COUNTIFS(Tableau65[[Date ]],$Q107,Tableau65[Catégorie demande],'Compteur R'!R$5,Tableau65[Statut],'Compteur R'!$R$4) -> 0 | S107: =COUNTIFS(Tableau65[[Date ]],$Q107,Tableau65[Catégorie demande],'Compteur R'!S$5,Tableau65[Statut],'Compteur R'!$R$4) -> 0 | U107: =I107 -> #REF! | V107: =(C107+L107)-#REF! -> #REF! | W107: =(F107+O107)-#REF! -> #REF!
B108: 45082 | C108: =COUNTIF(DateMG,B108) -> #REF! | E108: 45082 | H108: 45082 | I108: =COUNTIF(DateGV2,H108) -> #REF! | K108: 45082 | L108: =COUNTIF(DateMG2,K108) -> #REF! | N108: 45082 | O108: =COUNTIF(DateMC2,N108) -> #REF! | Q108: 45082 | R108: =COUNTIFS(Tableau65[[Date ]],$Q108,Tableau65[Catégorie demande],'Compteur R'!R$5,Tableau65[Statut],'Compteur R'!$R$4) -> 0 | S108: =COUNTIFS(Tableau65[[Date ]],$Q108,Tableau65[Catégorie demande],'Compteur R'!S$5,Tableau65[Statut],'Compteur R'!$R$4) -> 0 | U108: =I108 -> #REF! | V108: =(C108+L108)-#REF! -> #REF! | W108: =(F108+O108)-#REF! -> #REF!
B109: 45083 | C109: =COUNTIF(DateMG,B109) -> #REF! | E109: 45083 | H109: 45083 | I109: =COUNTIF(DateGV2,H109) -> #REF! | K109: 45083 | L109: =COUNTIF(DateMG2,K109) -> #REF! | N109: 45083 | O109: =COUNTIF(DateMC2,N109) -> #REF! | Q109: 45083 | R109: =COUNTIFS(Tableau65[[Date ]],$Q109,Tableau65[Catégorie demande],'Compteur R'!R$5,Tableau65[Statut],'Compteur R'!$R$4) -> 0 | S109: =COUNTIFS(Tableau65[[Date ]],$Q109,Tableau65[Catégorie demande],'Compteur R'!S$5,Tableau65[Statut],'Compteur R'!$R$4) -> 0 | U109: =I109 -> #REF! | V109: =(C109+L109)-#REF! -> #REF! | W109: =(F109+O109)-#REF! -> #REF!
B110: 45084 | C110: =COUNTIF(DateMG,B110) -> #REF! | E110: 45084 | H110: 45084 | I110: =COUNTIF(DateGV2,H110) -> #REF! | K110: 45084 | L110: =COUNTIF(DateMG2,K110) -> #REF! | N110: 45084 | O110: =COUNTIF(DateMC2,N110) -> #REF! | Q110: 45084 | R110: =COUNTIFS(Tableau65[[Date ]],$Q110,Tableau65[Catégorie demande],'Compteur R'!R$5,Tableau65[Statut],'Compteur R'!$R$4) -> 0 | S110: =COUNTIFS(Tableau65[[Date ]],$Q110,Tableau65[Catégorie demande],'Compteur R'!S$5,Tableau65[Statut],'Compteur R'!$R$4) -> 0 | U110: =I110 -> #REF! | V110: =(C110+L110)-#REF! -> #REF! | W110: =(F110+O110)-#REF! -> #REF!
B111: 45085 | C111: =COUNTIF(DateMG,B111) -> #REF! | E111: 45085 | H111: 45085 | I111: =COUNTIF(DateGV2,H111) -> #REF! | K111: 45085 | L111: =COUNTIF(DateMG2,K111) -> #REF! | N111: 45085 | O111: =COUNTIF(DateMC2,N111) -> #REF! | Q111: 45085 | R111: =COUNTIFS(Tableau65[[Date ]],$Q111,Tableau65[Catégorie demande],'Compteur R'!R$5,Tableau65[Statut],'Compteur R'!$R$4) -> 0 | S111: =COUNTIFS(Tableau65[[Date ]],$Q111,Tableau65[Catégorie demande],'Compteur R'!S$5,Tableau65[Statut],'Compteur R'!$R$4) -> 0 | U111: =I111 -> #REF! | V111: =(C111+L111)-#REF! -> #REF! | W111: =(F111+O111)-#REF! -> #REF!
B112: 45086 | C112: =COUNTIF(DateMG,B112) -> #REF! | E112: 45086 | H112: 45086 | I112: =COUNTIF(DateGV2,H112) -> #REF! | K112: 45086 | L112: =COUNTIF(DateMG2,K112) -> #REF! | N112: 45086 | O112: =COUNTIF(DateMC2,N112) -> #REF! | Q112: 45086 | R112: =COUNTIFS(Tableau65[[Date ]],$Q112,Tableau65[Catégorie demande],'Compteur R'!R$5,Tableau65[Statut],'Compteur R'!$R$4) -> 0 | S112: =COUNTIFS(Tableau65[[Date ]],$Q112,Tableau65[Catégorie demande],'Compteur R'!S$5,Tableau65[Statut],'Compteur R'!$R$4) -> 0 | U112: =I112 -> #REF! | V112: =(C112+L112)-#REF! -> #REF! | W112: =(F112+O112)-#REF! -> #REF!
B113: 45087 | C113: =COUNTIF(DateMG,B113) -> #REF! | E113: 45087 | H113: 45087 | I113: =COUNTIF(DateGV2,H113) -> #REF! | K113: 45087 | L113: =COUNTIF(DateMG2,K113) -> #REF! | N113: 45087 | O113: =COUNTIF(DateMC2,N113) -> #REF! | Q113: 45087 | R113: =COUNTIFS(Tableau65[[Date ]],$Q113,Tableau65[Catégorie demande],'Compteur R'!R$5,Tableau65[Statut],'Compteur R'!$R$4) -> 0 | S113: =COUNTIFS(Tableau65[[Date ]],$Q113,Tableau65[Catégorie demande],'Compteur R'!S$5,Tableau65[Statut],'Compteur R'!$R$4) -> 0 | U113: =I113 -> #REF! | V113: =(C113+L113)-#REF! -> #REF! | W113: =(F113+O113)-#REF! -> #REF!
B114: 45088 | C114: =COUNTIF(DateMG,B114) -> #REF! | E114: 45088 | H114: 45088 | I114: =COUNTIF(DateGV2,H114) -> #REF! | K114: 45088 | L114: =COUNTIF(DateMG2,K114) -> #REF! | N114: 45088 | O114: =COUNTIF(DateMC2,N114) -> #REF! | Q114: 45088 | R114: =COUNTIFS(Tableau65[[Date ]],$Q114,Tableau65[Catégorie demande],'Compteur R'!R$5,Tableau65[Statut],'Compteur R'!$R$4) -> 0 | S114: =COUNTIFS(Tableau65[[Date ]],$Q114,Tableau65[Catégorie demande],'Compteur R'!S$5,Tableau65[Statut],'Compteur R'!$R$4) -> 0 | U114: =I114 -> #REF! | V114: =(C114+L114)-#REF! -> #REF! | W114: =(F114+O114)-#REF! -> #REF!
B115: 45089 | C115: =COUNTIF(DateMG,B115) -> #REF! | E115: 45089 | H115: 45089 | I115: =COUNTIF(DateGV2,H115) -> #REF! | K115: 45089 | L115: =COUNTIF(DateMG2,K115) -> #REF! | N115: 45089 | O115: =COUNTIF(DateMC2,N115) -> #REF! | Q115: 45089 | R115: =COUNTIFS(Tableau65[[Date ]],$Q115,Tableau65[Catégorie demande],'Compteur R'!R$5,Tableau65[Statut],'Compteur R'!$R$4) -> 0 | S115: =COUNTIFS(Tableau65[[Date ]],$Q115,Tableau65[Catégorie demande],'Compteur R'!S$5,Tableau65[Statut],'Compteur R'!$R$4) -> 0 | U115: =I115 -> #REF! | V115: =(C115+L115)-#REF! -> #REF! | W115: =(F115+O115)-#REF! -> #REF!
... B133: 45107 | C133: =COUNTIF(DateMG,B133) -> #REF! | E133: 45107 | H133: 45107 | I133: =COUNTIF(DateGV2,H133) -> #REF! | K133: 45107 | L133: =COUNTIF(DateMG2,K133) -> #REF! | N133: 45107 | O133: =COUNTIF(DateMC2,N133) -> #REF! | Q133: 45107 | R133: =COUNTIFS(Tableau65[[Date ]],$Q133,Tableau65[Catégorie demande],'Compteur R'!R$5,Tableau65[Statut],'Compteur R'!$R$4) -> 0 | S133: =COUNTIFS(Tableau65[[Date ]],$Q133,Tableau65[Catégorie demande],'Compteur R'!S$5,Tableau65[Statut],'Compteur R'!$R$4) -> 0 | U133: =I133 -> #REF! | V133: =(C133+L133)-#REF! -> #REF! | W133: =(F133+O133)-#REF! -> #REF!
B134: TOTAL | C134: =SUM(C103:C133) -> #REF! | E134: TOTAL | F134: =SUM(C134:E134) -> #REF! | H134: TOTAL | I134: =SUM(I103:I133) -> #REF! | K134: TOTAL | L134: =SUM(L103:L133) -> #REF! | N134: TOTAL | O134: =SUM(O103:O133) -> #REF! | Q134: TOTAL | U134: =I134 -> #REF! | V134: =(C134+L134)-#REF! -> #REF! | W134: =(F134+O134)-#REF! -> #REF!
B136: 45108 | C136: =COUNTIF(DateMG,B136) -> #REF! | E136: 45108 | H136: 45108 | I136: =COUNTIF(DateGV2,H136) -> #REF! | K136: 45108 | L136: =COUNTIF(DateMG2,K136) -> #REF! | N136: 45108 | O136: =COUNTIF(DateMC2,N136) -> #REF! | Q136: 45108 | R136: =COUNTIFS(Tableau65[[Date ]],$Q136,Tableau65[Catégorie demande],'Compteur R'!R$5,Tableau65[Statut],'Compteur R'!$R$4) -> 0 | S136: =COUNTIFS(Tableau65[[Date ]],$Q136,Tableau65[Catégorie demande],'Compteur R'!S$5,Tableau65[Statut],'Compteur R'!$R$4) -> 0 | U136: =I136 -> #REF! | V136: =(C136+L136)-#REF! -> #REF! | W136: =(F136+O136)-#REF! -> #REF!
B137: 45109 | C137: =COUNTIF(DateMG,B137) -> #REF! | E137: 45109 | H137: 45109 | I137: =COUNTIF(DateGV2,H137) -> #REF! | K137: 45109 | L137: =COUNTIF(DateMG2,K137) -> #REF! | N137: 45109 | O137: =COUNTIF(DateMC2,N137) -> #REF! | Q137: 45109 | R137: =COUNTIFS(Tableau65[[Date ]],$Q137,Tableau65[Catégorie demande],'Compteur R'!R$5,Tableau65[Statut],'Compteur R'!$R$4) -> 0 | S137: =COUNTIFS(Tableau65[[Date ]],$Q137,Tableau65[Catégorie demande],'Compteur R'!S$5,Tableau65[Statut],'Compteur R'!$R$4) -> 0 | U137: =I137 -> #REF! | V137: =(C137+L137)-#REF! -> #REF! | W137: =(F137+O137)-#REF! -> #REF!
B138: 45110 | C138: =COUNTIF(DateMG,B138) -> #REF! | E138: 45110 | H138: 45110 | I138: =COUNTIF(DateGV2,H138) -> #REF! | K138: 45110 | L138: =COUNTIF(DateMG2,K138) -> #REF! | N138: 45110 | O138: =COUNTIF(DateMC2,N138) -> #REF! | Q138: 45110 | R138: =COUNTIFS(Tableau65[[Date ]],$Q138,Tableau65[Catégorie demande],'Compteur R'!R$5,Tableau65[Statut],'Compteur R'!$R$4) -> 0 | S138: =COUNTIFS(Tableau65[[Date ]],$Q138,Tableau65[Catégorie demande],'Compteur R'!S$5,Tableau65[Statut],'Compteur R'!$R$4) -> 0 | U138: =I138 -> #REF! | V138: =(C138+L138)-#REF! -> #REF! | W138: =(F138+O138)-#REF! -> #REF!
B139: 45111 | C139: =COUNTIF(DateMG,B139) -> #REF! | E139: 45111 | H139: 45111 | I139: =COUNTIF(DateGV2,H139) -> #REF! | K139: 45111 | L139: =COUNTIF(DateMG2,K139) -> #REF! | N139: 45111 | O139: =COUNTIF(DateMC2,N139) -> #REF! | Q139: 45111 | R139: =COUNTIFS(Tableau65[[Date ]],$Q139,Tableau65[Catégorie demande],'Compteur R'!R$5,Tableau65[Statut],'Compteur R'!$R$4) -> 0 | S139: =COUNTIFS(Tableau65[[Date ]],$Q139,Tableau65[Catégorie demande],'Compteur R'!S$5,Tableau65[Statut],'Compteur R'!$R$4) -> 0 | U139: =I139 -> #REF! | V139: =(C139+L139)-#REF! -> #REF! | W139: =(F139+O139)-#REF! -> #REF!
B140: 45112 | C140: =COUNTIF(DateMG,B140) -> #REF! | E140: 45112 | H140: 45112 | I140: =COUNTIF(DateGV2,H140) -> #REF! | K140: 45112 | L140: =COUNTIF(DateMG2,K140) -> #REF! | N140: 45112 | O140: =COUNTIF(DateMC2,N140) -> #REF! | Q140: 45112 | R140: =COUNTIFS(Tableau65[[Date ]],$Q140,Tableau65[Catégorie demande],'Compteur R'!R$5,Tableau65[Statut],'Compteur R'!$R$4) -> 0 | S140: =COUNTIFS(Tableau65[[Date ]],$Q140,Tableau65[Catégorie demande],'Compteur R'!S$5,Tableau65[Statut],'Compteur R'!$R$4) -> 0 | U140: =I140 -> #REF! | V140: =(C140+L140)-#REF! -> #REF! | W140: =(F140+O140)-#REF! -> #REF!
B141: 45113 | C141: =COUNTIF(DateMG,B141) -> #REF! | E141: 45113 | H141: 45113 | I141: =COUNTIF(DateGV2,H141) -> #REF! | K141: 45113 | L141: =COUNTIF(DateMG2,K141) -> #REF! | N141: 45113 | O141: =COUNTIF(DateMC2,N141) -> #REF! | Q141: 45113 | R141: =COUNTIFS(Tableau65[[Date ]],$Q141,Tableau65[Catégorie demande],'Compteur R'!R$5,Tableau65[Statut],'Compteur R'!$R$4) -> 0 | S141: =COUNTIFS(Tableau65[[Date ]],$Q141,Tableau65[Catégorie demande],'Compteur R'!S$5,Tableau65[Statut],'Compteur R'!$R$4) -> 0 | U141: =I141 -> #REF! | V141: =(C141+L141)-#REF! -> #REF! | W141: =(F141+O141)-#REF! -> #REF!
B142: 45114 | C142: =COUNTIF(DateMG,B142) -> #REF! | E142: 45114 | H142: 45114 | I142: =COUNTIF(DateGV2,H142) -> #REF! | K142: 45114 | L142: =COUNTIF(DateMG2,K142) -> #REF! | N142: 45114 | O142: =COUNTIF(DateMC2,N142) -> #REF! | Q142: 45114 | R142: =COUNTIFS(Tableau65[[Date ]],$Q142,Tableau65[Catégorie demande],'Compteur R'!R$5,Tableau65[Statut],'Compteur R'!$R$4) -> 0 | S142: =COUNTIFS(Tableau65[[Date ]],$Q142,Tableau65[Catégorie demande],'Compteur R'!S$5,Tableau65[Statut],'Compteur R'!$R$4) -> 0 | U142: =I142 -> #REF! | V142: =(C142+L142)-#REF! -> #REF! | W142: =(F142+O142)-#REF! -> #REF!
B143: 45115 | C143: =COUNTIF(DateMG,B143) -> #REF! | E143: 45115 | H143: 45115 | I143: =COUNTIF(DateGV2,H143) -> #REF! | K143: 45115 | L143: =COUNTIF(DateMG2,K143) -> #REF! | N143: 45115 | O143: =COUNTIF(DateMC2,N143) -> #REF! | Q143: 45115 | R143: =COUNTIFS(Tableau65[[Date ]],$Q143,Tableau65[Catégorie demande],'Compteur R'!R$5,Tableau65[Statut],'Compteur R'!$R$4) -> 0 | S143: =COUNTIFS(Tableau65[[Date ]],$Q143,Tableau65[Catégorie demande],'Compteur R'!S$5,Tableau65[Statut],'Compteur R'!$R$4) -> 0 | U143: =I143 -> #REF! | V143: =(C143+L143)-#REF! -> #REF! | W143: =(F143+O143)-#REF! -> #REF!
B144: 45116 | C144: =COUNTIF(DateMG,B144) -> #REF! | E144: 45116 | H144: 45116 | I144: =COUNTIF(DateGV2,H144) -> #REF! | K144: 45116 | L144: =COUNTIF(DateMG2,K144) -> #REF! | N144: 45116 | O144: =COUNTIF(DateMC2,N144) -> #REF! | Q144: 45116 | R144: =COUNTIFS(Tableau65[[Date ]],$Q144,Tableau65[Catégorie demande],'Compteur R'!R$5,Tableau65[Statut],'Compteur R'!$R$4) -> 0 | S144: =COUNTIFS(Tableau65[[Date ]],$Q144,Tableau65[Catégorie demande],'Compteur R'!S$5,Tableau65[Statut],'Compteur R'!$R$4) -> 0 | U144: =I144 -> #REF! | V144: =(C144+L144)-#REF! -> #REF! | W144: =(F144+O144)-#REF! -> #REF!
B145: 45117 | C145: =COUNTIF(DateMG,B145) -> #REF! | E145: 45117 | H145: 45117 | I145: =COUNTIF(DateGV2,H145) -> #REF! | K145: 45117 | L145: =COUNTIF(DateMG2,K145) -> #REF! | N145: 45117 | O145: =COUNTIF(DateMC2,N145) -> #REF! | Q145: 45117 | R145: =COUNTIFS(Tableau65[[Date ]],$Q145,Tableau65[Catégorie demande],'Compteur R'!R$5,Tableau65[Statut],'Compteur R'!$R$4) -> 0 | S145: =COUNTIFS(Tableau65[[Date ]],$Q145,Tableau65[Catégorie demande],'Compteur R'!S$5,Tableau65[Statut],'Compteur R'!$R$4) -> 0 | U145: =I145 -> #REF! | V145: =(C145+L145)-#REF! -> #REF! | W145: =(F145+O145)-#REF! -> #REF!
B146: 45118 | C146: =COUNTIF(DateMG,B146) -> #REF! | E146: 45118 | H146: 45118 | I146: =COUNTIF(DateGV2,H146) -> #REF! | K146: 45118 | L146: =COUNTIF(DateMG2,K146) -> #REF! | N146: 45118 | O146: =COUNTIF(DateMC2,N146) -> #REF! | Q146: 45118 | R146: =COUNTIFS(Tableau65[[Date ]],$Q146,Tableau65[Catégorie demande],'Compteur R'!R$5,Tableau65[Statut],'Compteur R'!$R$4) -> 0 | S146: =COUNTIFS(Tableau65[[Date ]],$Q146,Tableau65[Catégorie demande],'Compteur R'!S$5,Tableau65[Statut],'Compteur R'!$R$4) -> 0 | U146: =I146 -> #REF! | V146: =(C146+L146)-#REF! -> #REF! | W146: =(F146+O146)-#REF! -> #REF!
B147: 45119 | C147: =COUNTIF(DateMG,B147) -> #REF! | E147: 45119 | H147: 45119 | I147: =COUNTIF(DateGV2,H147) -> #REF! | K147: 45119 | L147: =COUNTIF(DateMG2,K147) -> #REF! | N147: 45119 | O147: =COUNTIF(DateMC2,N147) -> #REF! | Q147: 45119 | R147: =COUNTIFS(Tableau65[[Date ]],$Q147,Tableau65[Catégorie demande],'Compteur R'!R$5,Tableau65[Statut],'Compteur R'!$R$4) -> 0 | S147: =COUNTIFS(Tableau65[[Date ]],$Q147,Tableau65[Catégorie demande],'Compteur R'!S$5,Tableau65[Statut],'Compteur R'!$R$4) -> 0 | U147: =I147 -> #REF! | V147: =(C147+L147)-#REF! -> #REF! | W147: =(F147+O147)-#REF! -> #REF!
... B166: 45138 | C166: =COUNTIF(DateMG,B166) -> #REF! | E166: 45138 | H166: 45138 | I166: =COUNTIF(DateGV2,H166) -> #REF! | K166: 45138 | L166: =COUNTIF(DateMG2,K166) -> #REF! | N166: 45138 | O166: =COUNTIF(DateMC2,N166) -> #REF! | Q166: 45138 | R166: =COUNTIFS(Tableau65[[Date ]],$Q166,Tableau65[Catégorie demande],'Compteur R'!R$5,Tableau65[Statut],'Compteur R'!$R$4) -> 0 | S166: =COUNTIFS(Tableau65[[Date ]],$Q166,Tableau65[Catégorie demande],'Compteur R'!S$5,Tableau65[Statut],'Compteur R'!$R$4) -> 0 | U166: =I166 -> #REF! | V166: =(C166+L166)-#REF! -> #REF! | W166: =(F166+O166)-#REF! -> #REF!
B167: TOTAL | C167: =SUM(C136:C166) -> #REF! | E167: TOTAL | F167: =SUM(C167:E167) -> #REF! | H167: TOTAL | I167: =SUM(I136:I166) -> #REF! | K167: TOTAL | L167: =SUM(L136:L166) -> #REF! | N167: TOTAL | O167: =SUM(O136:O166) -> #REF! | Q167: TOTAL | U167: =I167 -> #REF! | V167: =(C167+L167)-#REF! -> #REF! | W167: =(F167+O167)-#REF! -> #REF!
B169: 45139 | C169: =COUNTIF(DateMG,B169) -> #REF! | E169: 45139 | H169: 45139 | I169: =COUNTIF(DateGV2,H169) -> #REF! | K169: 45139 | L169: =COUNTIF(DateMG2,K169) -> #REF! | N169: 45139 | O169: =COUNTIF(DateMC2,N169) -> #REF! | Q169: 45139 | R169: =COUNTIFS(Tableau65[[Date ]],$Q169,Tableau65[Catégorie demande],'Compteur R'!R$5,Tableau65[Statut],'Compteur R'!$R$4) -> 0 | S169: =COUNTIFS(Tableau65[[Date ]],$Q169,Tableau65[Catégorie demande],'Compteur R'!S$5,Tableau65[Statut],'Compteur R'!$R$4) -> 0 | U169: =I169 -> #REF! | V169: =(C169+L169)-#REF! -> #REF! | W169: =(F169+O169)-#REF! -> #REF!
B170: 45140 | C170: =COUNTIF(DateMG,B170) -> #REF! | E170: 45140 | H170: 45140 | I170: =COUNTIF(DateGV2,H170) -> #REF! | K170: 45140 | L170: =COUNTIF(DateMG2,K170) -> #REF! | N170: 45140 | O170: =COUNTIF(DateMC2,N170) -> #REF! | Q170: 45140 | R170: =COUNTIFS(Tableau65[[Date ]],$Q170,Tableau65[Catégorie demande],'Compteur R'!R$5,Tableau65[Statut],'Compteur R'!$R$4) -> 0 | S170: =COUNTIFS(Tableau65[[Date ]],$Q170,Tableau65[Catégorie demande],'Compteur R'!S$5,Tableau65[Statut],'Compteur R'!$R$4) -> 0 | U170: =I170 -> #REF! | V170: =(C170+L170)-#REF! -> #REF! | W170: =(F170+O170)-#REF! -> #REF!
B171: 45141 | C171: =COUNTIF(DateMG,B171) -> #REF! | E171: 45141 | H171: 45141 | I171: =COUNTIF(DateGV2,H171) -> #REF! | K171: 45141 | L171: =COUNTIF(DateMG2,K171) -> #REF! | N171: 45141 | O171: =COUNTIF(DateMC2,N171) -> #REF! | Q171: 45141 | R171: =COUNTIFS(Tableau65[[Date ]],$Q171,Tableau65[Catégorie demande],'Compteur R'!R$5,Tableau65[Statut],'Compteur R'!$R$4) -> 0 | S171: =COUNTIFS(Tableau65[[Date ]],$Q171,Tableau65[Catégorie demande],'Compteur R'!S$5,Tableau65[Statut],'Compteur R'!$R$4) -> 0 | U171: =I171 -> #REF! | V171: =(C171+L171)-#REF! -> #REF! | W171: =(F171+O171)-#REF! -> #REF!
B172: 45142 | C172: =COUNTIF(DateMG,B172) -> #REF! | E172: 45142 | H172: 45142 | I172: =COUNTIF(DateGV2,H172) -> #REF! | K172: 45142 | L172: =COUNTIF(DateMG2,K172) -> #REF! | N172: 45142 | O172: =COUNTIF(DateMC2,N172) -> #REF! | Q172: 45142 | R172: =COUNTIFS(Tableau65[[Date ]],$Q172,Tableau65[Catégorie demande],'Compteur R'!R$5,Tableau65[Statut],'Compteur R'!$R$4) -> 0 | S172: =COUNTIFS(Tableau65[[Date ]],$Q172,Tableau65[Catégorie demande],'Compteur R'!S$5,Tableau65[Statut],'Compteur R'!$R$4) -> 0 | U172: =I172 -> #REF! | V172: =(C172+L172)-#REF! -> #REF! | W172: =(F172+O172)-#REF! -> #REF!
B173: 45143 | C173: =COUNTIF(DateMG,B173) -> #REF! | E173: 45143 | H173: 45143 | I173: =COUNTIF(DateGV2,H173) -> #REF! | K173: 45143 | L173: =COUNTIF(DateMG2,K173) -> #REF! | N173: 45143 | O173: =COUNTIF(DateMC2,N173) -> #REF! | Q173: 45143 | R173: =COUNTIFS(Tableau65[[Date ]],$Q173,Tableau65[Catégorie demande],'Compteur R'!R$5,Tableau65[Statut],'Compteur R'!$R$4) -> 0 | S173: =COUNTIFS(Tableau65[[Date ]],$Q173,Tableau65[Catégorie demande],'Compteur R'!S$5,Tableau65[Statut],'Compteur R'!$R$4) -> 0 | U173: =I173 -> #REF! | V173: =(C173+L173)-#REF! -> #REF! | W173: =(F173+O173)-#REF! -> #REF!
B174: 45144 | C174: =COUNTIF(DateMG,B174) -> #REF! | E174: 45144 | H174: 45144 | I174: =COUNTIF(DateGV2,H174) -> #REF! | K174: 45144 | L174: =COUNTIF(DateMG2,K174) -> #REF! | N174: 45144 | O174: =COUNTIF(DateMC2,N174) -> #REF! | Q174: 45144 | R174: =COUNTIFS(Tableau65[[Date ]],$Q174,Tableau65[Catégorie demande],'Compteur R'!R$5,Tableau65[Statut],'Compteur R'!$R$4) -> 0 | S174: =COUNTIFS(Tableau65[[Date ]],$Q174,Tableau65[Catégorie demande],'Compteur R'!S$5,Tableau65[Statut],'Compteur R'!$R$4) -> 0 | U174: =I174 -> #REF! | V174: =(C174+L174)-#REF! -> #REF! | W174: =(F174+O174)-#REF! -> #REF!
B175: 45145 | C175: =COUNTIF(DateMG,B175) -> #REF! | E175: 45145 | H175: 45145 | I175: =COUNTIF(DateGV2,H175) -> #REF! | K175: 45145 | L175: =COUNTIF(DateMG2,K175) -> #REF! | N175: 45145 | O175: =COUNTIF(DateMC2,N175) -> #REF! | Q175: 45145 | R175: =COUNTIFS(Tableau65[[Date ]],$Q175,Tableau65[Catégorie demande],'Compteur R'!R$5,Tableau65[Statut],'Compteur R'!$R$4) -> 0 | S175: =COUNTIFS(Tableau65[[Date ]],$Q175,Tableau65[Catégorie demande],'Compteur R'!S$5,Tableau65[Statut],'Compteur R'!$R$4) -> 0 | U175: =I175 -> #REF! | V175: =(C175+L175)-#REF! -> #REF! | W175: =(F175+O175)-#REF! -> #REF!
B176: 45146 | C176: =COUNTIF(DateMG,B176) -> #REF! | E176: 45146 | H176: 45146 | I176: =COUNTIF(DateGV2,H176) -> #REF! | K176: 45146 | L176: =COUNTIF(DateMG2,K176) -> #REF! | N176: 45146 | O176: =COUNTIF(DateMC2,N176) -> #REF! | Q176: 45146 | R176: =COUNTIFS(Tableau65[[Date ]],$Q176,Tableau65[Catégorie demande],'Compteur R'!R$5,Tableau65[Statut],'Compteur R'!$R$4) -> 0 | S176: =COUNTIFS(Tableau65[[Date ]],$Q176,Tableau65[Catégorie demande],'Compteur R'!S$5,Tableau65[Statut],'Compteur R'!$R$4) -> 0 | U176: =I176 -> #REF! | V176: =(C176+L176)-#REF! -> #REF! | W176: =(F176+O176)-#REF! -> #REF!
B177: 45147 | C177: =COUNTIF(DateMG,B177) -> #REF! | E177: 45147 | H177: 45147 | I177: =COUNTIF(DateGV2,H177) -> #REF! | K177: 45147 | L177: =COUNTIF(DateMG2,K177) -> #REF! | N177: 45147 | O177: =COUNTIF(DateMC2,N177) -> #REF! | Q177: 45147 | R177: =COUNTIFS(Tableau65[[Date ]],$Q177,Tableau65[Catégorie demande],'Compteur R'!R$5,Tableau65[Statut],'Compteur R'!$R$4) -> 0 | S177: =COUNTIFS(Tableau65[[Date ]],$Q177,Tableau65[Catégorie demande],'Compteur R'!S$5,Tableau65[Statut],'Compteur R'!$R$4) -> 0 | U177: =I177 -> #REF! | V177: =(C177+L177)-#REF! -> #REF! | W177: =(F177+O177)-#REF! -> #REF!
B178: 45148 | C178: =COUNTIF(DateMG,B178) -> #REF! | E178: 45148 | H178: 45148 | I178: =COUNTIF(DateGV2,H178) -> #REF! | K178: 45148 | L178: =COUNTIF(DateMG2,K178) -> #REF! | N178: 45148 | O178: =COUNTIF(DateMC2,N178) -> #REF! | Q178: 45148 | R178: =COUNTIFS(Tableau65[[Date ]],$Q178,Tableau65[Catégorie demande],'Compteur R'!R$5,Tableau65[Statut],'Compteur R'!$R$4) -> 0 | S178: =COUNTIFS(Tableau65[[Date ]],$Q178,Tableau65[Catégorie demande],'Compteur R'!S$5,Tableau65[Statut],'Compteur R'!$R$4) -> 0 | U178: =I178 -> #REF! | V178: =(C178+L178)-#REF! -> #REF! | W178: =(F178+O178)-#REF! -> #REF!
B179: 45149 | C179: =COUNTIF(DateMG,B179) -> #REF! | E179: 45149 | H179: 45149 | I179: =COUNTIF(DateGV2,H179) -> #REF! | K179: 45149 | L179: =COUNTIF(DateMG2,K179) -> #REF! | N179: 45149 | O179: =COUNTIF(DateMC2,N179) -> #REF! | Q179: 45149 | R179: =COUNTIFS(Tableau65[[Date ]],$Q179,Tableau65[Catégorie demande],'Compteur R'!R$5,Tableau65[Statut],'Compteur R'!$R$4) -> 0 | S179: =COUNTIFS(Tableau65[[Date ]],$Q179,Tableau65[Catégorie demande],'Compteur R'!S$5,Tableau65[Statut],'Compteur R'!$R$4) -> 0 | U179: =I179 -> #REF! | V179: =(C179+L179)-#REF! -> #REF! | W179: =(F179+O179)-#REF! -> #REF!
B180: 45150 | C180: =COUNTIF(DateMG,B180) -> #REF! | E180: 45150 | H180: 45150 | I180: =COUNTIF(DateGV2,H180) -> #REF! | K180: 45150 | L180: =COUNTIF(DateMG2,K180) -> #REF! | N180: 45150 | O180: =COUNTIF(DateMC2,N180) -> #REF! | Q180: 45150 | R180: =COUNTIFS(Tableau65[[Date ]],$Q180,Tableau65[Catégorie demande],'Compteur R'!R$5,Tableau65[Statut],'Compteur R'!$R$4) -> 0 | S180: =COUNTIFS(Tableau65[[Date ]],$Q180,Tableau65[Catégorie demande],'Compteur R'!S$5,Tableau65[Statut],'Compteur R'!$R$4) -> 0 | U180: =I180 -> #REF! | V180: =(C180+L180)-#REF! -> #REF! | W180: =(F180+O180)-#REF! -> #REF!
... B199: 45169 | C199: =COUNTIF(DateMG,B199) -> #REF! | E199: 45169 | H199: 45169 | I199: =COUNTIF(DateGV2,H199) -> #REF! | K199: 45169 | L199: =COUNTIF(DateMG2,K199) -> #REF! | N199: 45169 | O199: =COUNTIF(DateMC2,N199) -> #REF! | Q199: 45169 | R199: =COUNTIFS(Tableau65[[Date ]],$Q199,Tableau65[Catégorie demande],'Compteur R'!R$5,Tableau65[Statut],'Compteur R'!$R$4) -> 0 | S199: =COUNTIFS(Tableau65[[Date ]],$Q199,Tableau65[Catégorie demande],'Compteur R'!S$5,Tableau65[Statut],'Compteur R'!$R$4) -> 0 | U199: =I199 -> #REF! | V199: =(C199+L199)-#REF! -> #REF! | W199: =(F199+O199)-#REF! -> #REF!
B200: TOTAL | C200: =SUM(C169:C199) -> #REF! | E200: TOTAL | F200: =SUM(C200:E200) -> #REF! | H200: TOTAL | I200: =SUM(I169:I199) -> #REF! | K200: TOTAL | L200: =SUM(L169:L199) -> #REF! | N200: TOTAL | O200: =SUM(O169:O199) -> #REF! | Q200: TOTAL | U200: =I200 -> #REF! | V200: =(C200+L200)-#REF! -> #REF! | W200: =(F200+O200)-#REF! -> #REF!
B202: 45170 | C202: =COUNTIF(DateMG,B202) -> #REF! | E202: 45170 | H202: 45170 | I202: =COUNTIF(DateGV2,H202) -> #REF! | K202: 45170 | L202: =COUNTIF(DateMG2,K202) -> #REF! | N202: 45170 | O202: =COUNTIF(DateMC2,N202) -> #REF! | Q202: 45170 | R202: =COUNTIFS(Tableau65[[Date ]],$Q202,Tableau65[Catégorie demande],'Compteur R'!R$5,Tableau65[Statut],'Compteur R'!$R$4) -> 0 | S202: =COUNTIFS(Tableau65[[Date ]],$Q202,Tableau65[Catégorie demande],'Compteur R'!S$5,Tableau65[Statut],'Compteur R'!$R$4) -> 0 | U202: =I202 -> #REF! | V202: =(C202+L202)-#REF! -> #REF! | W202: =(F202+O202)-#REF! -> #REF!
B203: 45171 | C203: =COUNTIF(DateMG,B203) -> #REF! | E203: 45171 | H203: 45171 | I203: =COUNTIF(DateGV2,H203) -> #REF! | K203: 45171 | L203: =COUNTIF(DateMG2,K203) -> #REF! | N203: 45171 | O203: =COUNTIF(DateMC2,N203) -> #REF! | Q203: 45171 | R203: =COUNTIFS(Tableau65[[Date ]],$Q203,Tableau65[Catégorie demande],'Compteur R'!R$5,Tableau65[Statut],'Compteur R'!$R$4) -> 0 | S203: =COUNTIFS(Tableau65[[Date ]],$Q203,Tableau65[Catégorie demande],'Compteur R'!S$5,Tableau65[Statut],'Compteur R'!$R$4) -> 0 | U203: =I203 -> #REF! | V203: =(C203+L203)-#REF! -> #REF! | W203: =(F203+O203)-#REF! -> #REF!
B204: 45172 | C204: =COUNTIF(DateMG,B204) -> #REF! | E204: 45172 | H204: 45172 | I204: =COUNTIF(DateGV2,H204) -> #REF! | K204: 45172 | L204: =COUNTIF(DateMG2,K204) -> #REF! | N204: 45172 | O204: =COUNTIF(DateMC2,N204) -> #REF! | Q204: 45172 | R204: =COUNTIFS(Tableau65[[Date ]],$Q204,Tableau65[Catégorie demande],'Compteur R'!R$5,Tableau65[Statut],'Compteur R'!$R$4) -> 0 | S204: =COUNTIFS(Tableau65[[Date ]],$Q204,Tableau65[Catégorie demande],'Compteur R'!S$5,Tableau65[Statut],'Compteur R'!$R$4) -> 0 | U204: =I204 -> #REF! | V204: =(C204+L204)-#REF! -> #REF! | W204: =(F204+O204)-#REF! -> #REF!
B205: 45173 | C205: =COUNTIF(DateMG,B205) -> #REF! | E205: 45173 | H205: 45173 | I205: =COUNTIF(DateGV2,H205) -> #REF! | K205: 45173 | L205: =COUNTIF(DateMG2,K205) -> #REF! | N205: 45173 | O205: =COUNTIF(DateMC2,N205) -> #REF! | Q205: 45173 | R205: =COUNTIFS(Tableau65[[Date ]],$Q205,Tableau65[Catégorie demande],'Compteur R'!R$5,Tableau65[Statut],'Compteur R'!$R$4) -> 0 | S205: =COUNTIFS(Tableau65[[Date ]],$Q205,Tableau65[Catégorie demande],'Compteur R'!S$5,Tableau65[Statut],'Compteur R'!$R$4) -> 0 | U205: =I205 -> #REF! | V205: =(C205+L205)-#REF! -> #REF! | W205: =(F205+O205)-#REF! -> #REF!
B206: 45174 | C206: =COUNTIF(DateMG,B206) -> #REF! | E206: 45174 | H206: 45174 | I206: =COUNTIF(DateGV2,H206) -> #REF! | K206: 45174 | L206: =COUNTIF(DateMG2,K206) -> #REF! | N206: 45174 | O206: =COUNTIF(DateMC2,N206) -> #REF! | Q206: 45174 | R206: =COUNTIFS(Tableau65[[Date ]],$Q206,Tableau65[Catégorie demande],'Compteur R'!R$5,Tableau65[Statut],'Compteur R'!$R$4) -> 0 | S206: =COUNTIFS(Tableau65[[Date ]],$Q206,Tableau65[Catégorie demande],'Compteur R'!S$5,Tableau65[Statut],'Compteur R'!$R$4) -> 0 | U206: =I206 -> #REF! | V206: =(C206+L206)-#REF! -> #REF! | W206: =(F206+O206)-#REF! -> #REF!
B207: 45175 | C207: =COUNTIF(DateMG,B207) -> #REF! | E207: 45175 | H207: 45175 | I207: =COUNTIF(DateGV2,H207) -> #REF! | K207: 45175 | L207: =COUNTIF(DateMG2,K207) -> #REF! | N207: 45175 | O207: =COUNTIF(DateMC2,N207) -> #REF! | Q207: 45175 | R207: =COUNTIFS(Tableau65[[Date ]],$Q207,Tableau65[Catégorie demande],'Compteur R'!R$5,Tableau65[Statut],'Compteur R'!$R$4) -> 0 | S207: =COUNTIFS(Tableau65[[Date ]],$Q207,Tableau65[Catégorie demande],'Compteur R'!S$5,Tableau65[Statut],'Compteur R'!$R$4) -> 0 | U207: =I207 -> #REF! | V207: =(C207+L207)-#REF! -> #REF! | W207: =(F207+O207)-#REF! -> #REF!
B208: 45176 | C208: =COUNTIF(DateMG,B208) -> #REF! | E208: 45176 | H208: 45176 | I208: =COUNTIF(DateGV2,H208) -> #REF! | K208: 45176 | L208: =COUNTIF(DateMG2,K208) -> #REF! | N208: 45176 | O208: =COUNTIF(DateMC2,N208) -> #REF! | Q208: 45176 | R208: =COUNTIFS(Tableau65[[Date ]],$Q208,Tableau65[Catégorie demande],'Compteur R'!R$5,Tableau65[Statut],'Compteur R'!$R$4) -> 0 | S208: =COUNTIFS(Tableau65[[Date ]],$Q208,Tableau65[Catégorie demande],'Compteur R'!S$5,Tableau65[Statut],'Compteur R'!$R$4) -> 0 | U208: =I208 -> #REF! | V208: =(C208+L208)-#REF! -> #REF! | W208: =(F208+O208)-#REF! -> #REF!
B209: 45177 | C209: =COUNTIF(DateMG,B209) -> #REF! | E209: 45177 | H209: 45177 | I209: =COUNTIF(DateGV2,H209) -> #REF! | K209: 45177 | L209: =COUNTIF(DateMG2,K209) -> #REF! | N209: 45177 | O209: =COUNTIF(DateMC2,N209) -> #REF! | Q209: 45177 | R209: =COUNTIFS(Tableau65[[Date ]],$Q209,Tableau65[Catégorie demande],'Compteur R'!R$5,Tableau65[Statut],'Compteur R'!$R$4) -> 0 | S209: =COUNTIFS(Tableau65[[Date ]],$Q209,Tableau65[Catégorie demande],'Compteur R'!S$5,Tableau65[Statut],'Compteur R'!$R$4) -> 0 | U209: =I209 -> #REF! | V209: =(C209+L209)-#REF! -> #REF! | W209: =(F209+O209)-#REF! -> #REF!
B210: 45178 | C210: =COUNTIF(DateMG,B210) -> #REF! | E210: 45178 | H210: 45178 | I210: =COUNTIF(DateGV2,H210) -> #REF! | K210: 45178 | L210: =COUNTIF(DateMG2,K210) -> #REF! | N210: 45178 | O210: =COUNTIF(DateMC2,N210) -> #REF! | Q210: 45178 | R210: =COUNTIFS(Tableau65[[Date ]],$Q210,Tableau65[Catégorie demande],'Compteur R'!R$5,Tableau65[Statut],'Compteur R'!$R$4) -> 0 | S210: =COUNTIFS(Tableau65[[Date ]],$Q210,Tableau65[Catégorie demande],'Compteur R'!S$5,Tableau65[Statut],'Compteur R'!$R$4) -> 0 | U210: =I210 -> #REF! | V210: =(C210+L210)-#REF! -> #REF! | W210: =(F210+O210)-#REF! -> #REF!
B211: 45179 | C211: =COUNTIF(DateMG,B211) -> #REF! | E211: 45179 | H211: 45179 | I211: =COUNTIF(DateGV2,H211) -> #REF! | K211: 45179 | L211: =COUNTIF(DateMG2,K211) -> #REF! | N211: 45179 | O211: =COUNTIF(DateMC2,N211) -> #REF! | Q211: 45179 | R211: =COUNTIFS(Tableau65[[Date ]],$Q211,Tableau65[Catégorie demande],'Compteur R'!R$5,Tableau65[Statut],'Compteur R'!$R$4) -> 0 | S211: =COUNTIFS(Tableau65[[Date ]],$Q211,Tableau65[Catégorie demande],'Compteur R'!S$5,Tableau65[Statut],'Compteur R'!$R$4) -> 0 | U211: =I211 -> #REF! | V211: =(C211+L211)-#REF! -> #REF! | W211: =(F211+O211)-#REF! -> #REF!
B212: 45180 | C212: =COUNTIF(DateMG,B212) -> #REF! | E212: 45180 | H212: 45180 | I212: =COUNTIF(DateGV2,H212) -> #REF! | K212: 45180 | L212: =COUNTIF(DateMG2,K212) -> #REF! | N212: 45180 | O212: =COUNTIF(DateMC2,N212) -> #REF! | Q212: 45180 | R212: =COUNTIFS(Tableau65[[Date ]],$Q212,Tableau65[Catégorie demande],'Compteur R'!R$5,Tableau65[Statut],'Compteur R'!$R$4) -> 0 | S212: =COUNTIFS(Tableau65[[Date ]],$Q212,Tableau65[Catégorie demande],'Compteur R'!S$5,Tableau65[Statut],'Compteur R'!$R$4) -> 0 | U212: =I212 -> #REF! | V212: =(C212+L212)-#REF! -> #REF! | W212: =(F212+O212)-#REF! -> #REF!
B213: 45181 | C213: =COUNTIF(DateMG,B213) -> #REF! | E213: 45181 | H213: 45181 | I213: =COUNTIF(DateGV2,H213) -> #REF! | K213: 45181 | L213: =COUNTIF(DateMG2,K213) -> #REF! | N213: 45181 | O213: =COUNTIF(DateMC2,N213) -> #REF! | Q213: 45181 | R213: =COUNTIFS(Tableau65[[Date ]],$Q213,Tableau65[Catégorie demande],'Compteur R'!R$5,Tableau65[Statut],'Compteur R'!$R$4) -> 0 | S213: =COUNTIFS(Tableau65[[Date ]],$Q213,Tableau65[Catégorie demande],'Compteur R'!S$5,Tableau65[Statut],'Compteur R'!$R$4) -> 0 | U213: =I213 -> #REF! | V213: =(C213+L213)-#REF! -> #REF! | W213: =(F213+O213)-#REF! -> #REF!
... B231: 45199 | C231: =COUNTIF(DateMG,B231) -> #REF! | E231: 45199 | H231: 45199 | I231: =COUNTIF(DateGV2,H231) -> #REF! | K231: 45199 | L231: =COUNTIF(DateMG2,K231) -> #REF! | N231: 45199 | O231: =COUNTIF(DateMC2,N231) -> #REF! | Q231: 45199 | R231: =COUNTIFS(Tableau65[[Date ]],$Q231,Tableau65[Catégorie demande],'Compteur R'!R$5,Tableau65[Statut],'Compteur R'!$R$4) -> 0 | S231: =COUNTIFS(Tableau65[[Date ]],$Q231,Tableau65[Catégorie demande],'Compteur R'!S$5,Tableau65[Statut],'Compteur R'!$R$4) -> 0 | U231: =I231 -> #REF! | V231: =(C231+L231)-#REF! -> #REF! | W231: =(F231+O231)-#REF! -> #REF!
...
