Workbook
Name véhicules: BD!$A$2:$A$23

Sheet Relevé Kizeo
C1: Heures de prÃ©sence chantier#Jour de prÃ©sence | D1: Colonne1 | E1: Colonne2 | F1: Colonne3 | G1: Colonne4 | H1: Colonne5 | I1: Colonne6 | J1: Colonne7 | K1: Colonne8 | L1: Colonne9 | M1: Colonne10 | N1: Colonne11 | O1: Colonne12 | P1: Colonne13 | Q1: Colonne14 | R1: Colonne15
C4: 44927 | D4: REPOS
C5: 44928 | D5: 0.33333333 | E5: 0.5 | F5: 0.53125 | G5: 0.64583333 | H5: NON | I5: HERVE … | J5: BEN 01 | K5: REM 01 | L5: TRA 01
C6: 44929 | D6: CP
C7: 44930 | D7: MAL
C8: 44931 | D8: AT
C9: 44932 | D9: ABST J
C10: 44933 | D10: ABST I
C11: 44934 | D11: REPOS
C12: 44935
C13: 44936
C14: 44937
C15: 44938
C16: 44939
C17: 44940 | D17: REPOS
C18: 44941 | D18: REPOS
C19: 44942
C20: 44943
C21: 44944
C22: 44945
C23: 44946
C24: 44947 | D24: REPOS
C25: 44948 | D25: REPOS
C26: 44949
C27: 44950
C28: 44951
C29: 44952
C30: 44953
C31: 44954 | D31: REPOS
C32: 44955 | D32: REPOS
C33: 44956
C34: 44957
C35: 44958
C36: 44959
C37: 44960
C38: 44961 | D38: REPOS
C39: 44962 | D39: REPOS
C40: 44963
C41: 44964
C42: 44965
C43: 44966
C44: 44967
C45: 44968 | D45: REPOS
C46: 44969 | D46: REPOS
C47: 44970
C48: 44971
C49: 44972
C50: 44973
C51: 44974
C52: 44975 | D52: REPOS
C53: 44976 | D53: REPOS
C54: 44977
C55: 44978
C56: 44979
C57: 44980
C58: 44981
C59: 44982 | D59: REPOS
C60: 44983 | D60: REPOS
C61: 44984
C62: 44985
C63: 44986
C64: 44987
C65: 44988
C66: 44989 | D66: REPOS
C67: 44990 | D67: REPOS
C68: 44991
C69: 44992
C70: 44993
C71: 44994
C72: 44995
C73: 44996 | D73: REPOS
C74: 44997 | D74: REPOS
C75: 44998
C76: 44999
C77: 45000
C78: 45001
C79: 45002
C80: 45003 | D80: REPOS
C81: 45004 | D81: REPOS
C82: 45005
C83: 45006
C84: 45007
C85: 45008
C86: 45009
C87: 45010 | D87: REPOS
C88: 45011 | D88: REPOS
C89: 45012
C90: 45013
C91: 45014
C92: 45015
C93: 45016
C94: 45017 | D94: REPOS
C95: 45018 | D95: REPOS
C96: 45019
C97: 45020
C98: 45021
C99: 45022
C100: 45023
C101: 45024 | D101: REPOS
C102: 45025 | D102: REPOS
...

Sheet Relevé 2023
A1: Relevé mensuel - M NOM Prénom | AK1: =MID(A1,17,50) -> M NOM Prénom
A2: Date d'entrée dans l'entreprise : | F2: 43920 | I2: Ancienneté au (en mois) : | M2: =DATE(YEAR(TODAY()),1,1) -> 44927 | O2: =DATEDIF(F2,M2,"m") -> 33 | Q2: 1 | R2: +O
A3: Nombre d'heures annuelle / hebdo.: | F3: 1600 | G3: 35 | I3: Congé(s) Payé(s) au : | M3: =(DATE(YEAR(TODAY()),1,1)) -> 44927 | R3: -P | AK3: Compte de compensation
A4: Nombre d'heures journalier moyen : | E4: 1 | F4: 0.29166667 | G4: 7 | R4: Q | AK4: Semaine | AL4: Théorique | AM4: Valeur | AN4: réalisées | AO4: Ecart | AP4: h. payées | AR4: Semaine | AS4: Théorique | AT4: Valeur | AU4: réalisées | AV4: Ecart | AW4: h. payées
AK5: S01 | AL5: =P50 -> 35 | AM5: 35 | AN5: =O50 -> 35.25 | AO5: =Q50 -> 0.25 | AP5: 0 | AR5: S27 | AS5: =P232 -> 35 | AT5: 35 | AU5: =O232 -> 0 | AV5: =Q232 -> -35 | AW5: 0
C6: 1 | E6: INDEMNITES DES PETITS DEPLACEMENTS | R6: CONDUC. | AK6: S02 | AL6: =P57 -> 32 | AM6: 32 | AN6: =O57 -> 0 | AO6: =Q57 -> -32 | AP6: 0 | AR6: S28 | AS6: =P239 -> 35 | AT6: 35 | AU6: =O239 -> 7 | AV6: =Q239 -> -28 | AW6: 0 | BC6: Relevé des absences et des retards | BM6: Courrier | BT6: 2021
R7: {=SUMPRODUCT(('Relevé 2023'!$V$43:$V$408="OUI")*(MONTH($A$43:$A$408)=$C$6))} -> 0 | AK7: S03 | AL7: =P64 -> 32 | AM7: 32 | AN7: =O64 -> 0 | AO7: =Q64 -> -32 | AP7: 0 | AR7: S29 | AS7: =P246 -> 32 | AT7: 32 | AU7: =O246 -> 0 | AV7: =Q246 -> -32 | AW7: 0 | BC7: Motif de l'absence | BE7: Période | BI7: Just. O/N | BJ7: Nbre J. | BK7: 5 samedis | BL7: Nbre H. | BM7: C Simple | BN7: LRAR | BT7: 2022
C8: 2,5MG | F8: 3MG | H8: 4,5MG | J8: 5,5MG | L8: 6,5MG | N8: 7MG | P8: GD<100 | R8: GD>100 | AK8: S04 | AL8: =P71 -> 32 | AM8: 32 | AN8: =O71 -> 0 | AO8: =Q71 -> -32 | AP8: 0 | AR8: S30 | AS8: =P253 -> 32 | AT8: 32 | AU8: =O253 -> 0 | AV8: =Q253 -> -32 | AW8: 0 | BC8: CP | BE8: 44928 | BG8: 44933 | BJ8: 6 | BK8: 1 | BT8: 2025
C9: {=SUMPRODUCT(('Relevé 2023'!$T$43:$T$408="2,5MG")*(MONTH($A$43:$A$408)=$C$6))} -> 0 | F9: {=SUMPRODUCT(('Relevé 2023'!$T$43:$T$408="3MG")*(MONTH($A$43:$A$408)=$C$6))} -> 0 | H9: {=SUMPRODUCT(('Relevé 2023'!$T$43:$T$408="4,5MG")*(MONTH($A$43:$A$408)=$C$6))} -> 0 | J9: {=SUMPRODUCT(('Relevé 2023'!$T$43:$T$408="5,5MG")*(MONTH($A$43:$A$408)=$C$6))} -> 0 | L9: {=SUMPRODUCT(('Relevé 2023'!$T$43:$T$408="6,5MG")*(MONTH($A$43:$A$408)=$C$6))} -> 0 | N9: {=SUMPRODUCT(('Relevé 2023'!$T$43:$T$408="7MG")*(MONTH($A$43:$A$408)=$C$6))} -> 0 | P9: {=SUMPRODUCT(('Relevé 2023'!$T$43:$T$408="GD<100")*(MONTH($A$43:$A$408)=$C$6))} -> 0 | R9: {=SUMPRODUCT(('Relevé 2023'!$T$43:$T$408="GD>100")*(MONTH($A$43:$A$408)=$C$6))} -> 0 | AK9: S05 | AL9: =P78 -> 32 | AM9: 32 | AN9: =O78 -> 0 | AO9: =Q78 -> -32 | AP9: 0 | AR9: S31 | AS9: =P260 -> 32 | AT9: 32 | AU9: =O260 -> 0 | AV9: =Q260 -> -32 | AW9: 0 | BT9: 2026
AK10: S06 | AL10: =P85 -> 32 | AM10: 32 | AN10: =O85 -> 0 | AO10: =Q85 -> -32 | AP10: 0 | AR10: S32 | AS10: =P267 -> 32 | AT10: 32 | AU10: =O267 -> 0 | AV10: =Q267 -> -32 | AW10: 0 | BT10: 2027
C11: RELEVES DES ABSENCES / RETARDS | AK11: S07 | AL11: =P92 -> 32 | AM11: 32 | AN11: =O92 -> 0 | AO11: =Q92 -> -32 | AP11: 0 | AR11: S33 | AS11: =P274 -> 32 | AT11: 32 | AU11: =O274 -> 6.4 | AV11: =Q274 -> -25.6 | AW11: 0 | BT11: 2028
AK12: S08 | AL12: =P99 -> 32 | AM12: 32 | AN12: =O99 -> 0 | AO12: =Q99 -> -32 | AP12: 0 | AR12: S34 | AS12: =P281 -> 32 | AT12: 32 | AU12: =O281 -> 0 | AV12: =Q281 -> -32 | AW12: 0 | BT12: 2029
C13: TYPE | F13: DEBUT | H13: FIN | J13: MOTIF | P13: JUSTIF. O/N | R13: DUREE | AK13: S09 | AL13: =P106 -> 32 | AM13: 32 | AN13: =O106 -> 0 | AO13: =Q106 -> -32 | AP13: 0 | AR13: S35 | AS13: =P288 -> 32 | AT13: 32 | AU13: =O288 -> 0 | AV13: =Q288 -> -32 | AW13: 0 | BT13: 2030
AK14: S10 | AL14: =P113 -> 32 | AM14: 32 | AN14: =O113 -> 0 | AO14: =Q113 -> -32 | AP14: 0 | AR14: S36 | AS14: =P295 -> 35 | AT14: 35 | AU14: =O295 -> 0 | AV14: =Q295 -> -35 | AW14: 0 | BT14: 2031
AK15: S11 | AL15: =P120 -> 32 | AM15: 32 | AN15: =O120 -> 0 | AO15: =Q120 -> -32 | AP15: 0 | AR15: S37 | AS15: =P302 -> 35 | AT15: 35 | AU15: =O302 -> 0 | AV15: =Q302 -> -35 | AW15: 0 | BT15: 2032
AK16: S12 | AL16: =P127 -> 32 | AM16: 32 | AN16: =O127 -> 0 | AO16: =Q127 -> -32 | AP16: 0 | AR16: S38 | AS16: =P309 -> 35 | AT16: 35 | AU16: =O309 -> 0 | AV16: =Q309 -> -35 | AW16: 0 | BT16: 2033
AK17: S13 | AL17: =P134 -> 32 | AM17: 32 | AN17: =O134 -> 0 | AO17: =Q134 -> -32 | AP17: 0 | AR17: S39 | AS17: =P316 -> 35 | AT17: 35 | AU17: =O316 -> 0 | AV17: =Q316 -> -35 | AW17: 0 | BT17: 2034
AK18: S14 | AL18: =P141 -> 32 | AM18: 32 | AN18: =O141 -> 0 | AO18: =Q141 -> -32 | AP18: 0 | AR18: S40 | AS18: =P323 -> 39 | AT18: 39 | AU18: =O323 -> 0 | AV18: =Q323 -> -39 | AW18: 0 | BT18: 2035
C19: Commentaire(s) : | AK19: S15 | AL19: =P148 -> 32 | AM19: 32 | AN19: =O148 -> 6.4 | AO19: =Q148 -> -25.6 | AP19: 0 | AR19: S41 | AS19: =P330 -> 39 | AT19: 39 | AU19: =O330 -> 0 | AV19: =Q330 -> -39 | AW19: 0
AK20: S16 | AL20: =P155 -> 32 | AM20: 32 | AN20: =O155 -> 0 | AO20: =Q155 -> -32 | AP20: 0 | AR20: S42 | AS20: =P337 -> 39 | AT20: 39 | AU20: =O337 -> 0 | AV20: =Q337 -> -39 | AW20: 0
AK21: S17 | AL21: =P162 -> 32 | AM21: 32 | AN21: =O162 -> 0 | AO21: =Q162 -> -32 | AP21: 0 | AR21: S43 | AS21: =P344 -> 39 | AT21: 39 | AU21: =O344 -> 0 | AV21: =Q344 -> -39 | AW21: 0
AK22: S18 | AL22: =P169 -> 32 | AM22: 32 | AN22: =O169 -> 6.4 | AO22: =Q169 -> -25.6 | AP22: 0 | AR22: S44 | AS22: =P351 -> 39 | AT22: 39 | AU22: =O351 -> 7.8 | AV22: =Q351 -> -31.2 | AW22: 0
C23: D'après le planning prévisionnel 2023 | AK23: S19 | AL23: =P176 -> 32 | AM23: 32 | AN23: =O176 -> 6.4 | AO23: =Q176 -> -25.6 | AP23: 0 | AR23: S45 | AS23: =P358 -> 39 | AT23: 39 | AU23: =O358 -> 0 | AV23: =Q358 -> -39 | AW23: 0
C24: Période basse (32h) x 17 semaines | H24: = 544 h | I24: - 1 J. Férié (15 aout) | L24: = | M24: 573,6 h | AK24: S20 | AL24: =P183 -> 39 | AM24: 39 | AN24: =O183 -> 7.8 | AO24: =Q183 -> -31.2 | AP24: 0 | AR24: S46 | AS24: =P365 -> 39 | AT24: 39 | AU24: =O365 -> 0 | AV24: =Q365 -> -39 | AW24: 0
C25: Période moyenne (35h) x 15 semaines | H25: = 525 h | I25: - 4J. Fériés | L25: = | M25: 497,0 h | AK25: S21 | AL25: =P190 -> 39 | AM25: 39 | AN25: =O190 -> 0 | AO25: =Q190 -> -39 | AP25: 0 | AR25: S47 | AS25: =P372 -> 39 | AT25: 39 | AU25: =O372 -> 0 | AV25: =Q372 -> -39 | AW25: 0
C26: Période haute (39h) x 18 semaines | H26: = 705 h | I26: - 3J. Fériés | L26: = | M26: 678,6 h | AK26: S22 | AL26: =P197 -> 39 | AM26: 39 | AN26: =O197 -> 7.8 | AO26: =Q197 -> -31.2 | AP26: 0 | AR26: S48 | AS26: =P379 -> 39 | AT26: 39 | AU26: =O379 -> 0 | AV26: =Q379 -> -39 | AW26: 0
I27: - 3 Semaines CP | L27: = | M27: - 105 h | AK27: S23 | AL27: =P204 -> 39 | AM27: 39 | AN27: =O204 -> 0 | AO27: =Q204 -> -39 | AP27: 0 | AR27: S49 | AS27: =P386 -> 39 | AT27: 39 | AU27: =O386 -> 0 | AV27: =Q386 -> -39 | AW27: 0
I28: - 1J. Férié (Noël) | L28: = | M28: - 7 h | AK28: S24 | AL28: =P211 -> 39 | AM28: 39 | AN28: =O211 -> 0 | AO28: =Q211 -> -39 | AP28: 0 | AR28: S50 | AS28: =P393 -> 32 | AT28: 32 | AU28: =O393 -> 0 | AV28: =Q393 -> -32 | AW28: 0
M29: 1601 h | AK29: S25 | AL29: =P218 -> 39 | AM29: 39 | AN29: =O218 -> 0 | AO29: =Q218 -> -39 | AP29: 0 | AR29: S51 | AS29: =P400 -> 35 | AT29: 35 | AU29: =O400 -> 0 | AV29: =Q400 -> -35 | AW29: 0
AK30: S26 | AL30: =P225 -> 39 | AM30: 39 | AN30: =O225 -> 0 | AO30: =Q225 -> -39 | AP30: 0 | AR30: S52 | AS30: =P407 -> 35 | AT30: 35 | AU30: =O407 -> 7 | AV30: =Q407 -> -28 | AW30: 0
C31: Rappel : Tout retard doit faire l'objet d'une justification à l'arrivée au travail Toute absence prévisible doit être préalablement autorisée par la Direction. Si l'absence est imprévisible, le salarié doit informer au plus tôt la Direction et fournir dans les 48 heures une justification de cette absence.
C35: Légende | BC35: Récapitulatif relevé
C36: CP | D36: Congé Payé | J36: Absence de relevé | N36: ABST J | O36: Absence/Retard Justifié | BC36: Total des heures d'absences (Justifié / non justifié) | BJ36: =SUM(BL8:BL33) -> 0
C37: CSS | D37: Congé Sans Solde | I37: MAL | J37: Malade avec justificatif | N37: ABST I | O37: Absence/Retard Non Justifié | BC37: Total des heures d'absences justifiées | BJ37: =SUMIF(BI8:BI33,"o",BL8:BL33) -> 0
C38: CEF | D38: CP Evénements Familiaux | I38: AT | J38: Accident du travail | N38: FERIE | O38: Journée Chômé | BC38: Total des heures d'absences non justifiées | BJ38: =SUMIF(BI8:BI33,"n",BL8:BL33) -> 0
C39: CEM | D39: Congé Enfant Malade | N39: REPOS | O39: Repos | BC39: Nombre de jours de congés restants | BJ39: =$O$3-(SUMIF($BC$8:$BD$33,"CP",$BJ$8:$BJ$33)) -> -6
A41: Date | C41: arrivée 1er Chantier | E41: Corrigé verizon | F41: trajet 1er chantier | G41: Charge | H41: Début pause déj. | I41: Fin pause déj. | J41: départ der. Chantier | K41: corrigé verizon | L41: trajet der. Chantier | M41: décharge | N41: total Heures | O41: Cumul | P41: Théorique | Q41: Ecart | R41: Solde | S41: trajet Retenu | T41: MG | V41: Conduc | Y41: Véhicule | AA41: Remorque | AC41: Tracteur | AF41: en format décimal
O42: Hebdo | P42: Hebdo | Q42: Hebdo | R42: Hrs. Sup | Z42: Véhicule | AB42: Remorque | AD42: Tracteur
A43: 44927 | C43: =IF(A43='Relevé Kizeo'!C4,VLOOKUP(A43,'Relevé Kizeo'!$C$4:$R$1001,2,TRUE),"") -> REPOS | D43: =_xlfn.IFS(C43=0,0,C43="CP",1,C43="CEF",2,C43="CSS",3,C43="CEM",4,C43="MAL",5,C43="AT",6,C43="ABST J",7,C43="ABST I",8,C43="FERIE",9,C43="REPOS",10,C43<"1:00",11) -> 10 | E43: =IF(C43="CP",0,IF(C43="CEF",0,IF(C43="CSS",0,IF(C43="CEM",0,IF(C43="MAL",0,IF(C43="AT",0,IF(C43="ABST J",0,IF(C43="ABST I",0,IF(C43="FERIE",0,IF(C43="REPOS",0,C43)))))))))) -> 0 | F43: 0 | G43: {=_xlfn.IFS(C43="",0,C43=0,0,C43="CP",0,C43="CEF",0,C43="CSS",0,C43="CEM",0,C43="CEM",0,C43="MAL",0,C43="AT",0,C43="ABST J",0,C43="ABST I",0,C43="FERIE",0,C43="REPOS",0,C43<"1:00",$F$420)} -> 0 | H43: =IF(A43='Relevé Kizeo'!C4,VLOOKUP(A43,'Relevé Kizeo'!$C$4:$R$1001,3,TRUE),"") -> 0 | I43: =IF(A43='Relevé Kizeo'!C4,VLOOKUP(A43,'Relevé Kizeo'!$C$4:$R$1001,4,TRUE),"") -> 0 | J43: =IF(A43='Relevé Kizeo'!C4,VLOOKUP(A43,'Relevé Kizeo'!$C$4:$R$1001,5,TRUE),"") -> 0 | K43: =J43 -> 0 | L43: 0 | M43: {=_xlfn.IFS(I43="",0,I43=0,0,I43="CP",0,I43="CEF",0,I43="CSS",0,I43="CEM",0,I43="MAL",0,I43="AT",0,I43="ABST J",0,I43="ABST I",0,I43="FERIE",0,I43="REPOS",0,I43<"1:00",$F$421)} -> 0 | N43: {=_xlfn.IFS(D43=0,0,AND(D43>=1,D43<=9),OFFSET($AL$5,MOD(WEEKNUM(A43,21)-1,26),IF(WEEKNUM(A43,21)>26,8,0))/5,D43=10,0,D43=11,(H43-E43+G43)*24+(K43-I43+M43)*24)} -> 0 | O43: 35 | P43: 35 | Q43: {=IF(LEFT(R$2,1)="-",-1,1)*INDIRECT(CONCATENATE(RIGHT(R$2,LEN(R$2)-1),ROW()))+IF(LEFT(R$3,1)="-",-1,1)*INDIRECT(CONCATENATE(RIGHT(R$3,LEN(R$3)-1),ROW()))} -> 0 | R43: =IF(ISNUMBER(R42),R42,0)+INDIRECT(CONCATENATE(R$4,ROW())) -> 0 | S43: =MAX(F43,L43) -> 0 | T43: =IF(S43=0,"",IF(S43<=5,"3MG",IF(S43<=20,"4,5MG",IF(S43<=30,"5,5MG",IF(S43<=50,"6,5MG",IF(S43<=70,"7MG",IF(S43<=100,"GD<100",IF(S43>100,"GD>100")))))))) | V43: =IF(A43='Relevé Kizeo'!C4,VLOOKUP(A43,'Relevé Kizeo'!$C$4:$R$1001,6,TRUE)) -> 0 | W43: =IF(D43="","",IF(D43=1,1,IF(D43=2,0,IF(D43=3,0,IF(D43=4,0,IF(D43=5,0,IF(D43=6,1,IF(D43=7,0,IF(D43=8,0,IF(D43=9,0,IF(D43=10,0,IF(D43=11,1)))))))))))) -> 0 | Y43: =MID(Z43,1,8) -> 0 | Z43: =IF(A43='Relevé Kizeo'!C4,VLOOKUP(A43,'Relevé Kizeo'!$C$4:$R$1001,8,TRUE),"") -> 0 | AA43: =MID(AB43,1,6) -> 0 | AB43: =IF(A43='Relevé Kizeo'!C4,VLOOKUP(A43,'Relevé Kizeo'!$C$4:$R$1001,9,TRUE),"") -> 0 | AC43: =MID(AD43,2,6) | AD43: =IF(A43='Relevé Kizeo'!C4,VLOOKUP(A43,'Relevé Kizeo'!$C$4:$R$1001,10,TRUE),"") -> 0 | AE43: =IF(N43=0,"",IF(N43>$F$418,N43-$F$418,$F$418-N43)) | AF43: =IF(ISERROR(IF(N43>$F$418,(HOUR(AE43)*60+MINUTE(AE43))/60,-(HOUR(AE43)*60+MINUTE(AE43))/60)),"",IF(N43>$F$418,(HOUR(AE43)*60+MINUTE(AE43))/60,-(HOUR(AE43)*60+MINUTE(AE43))/60))
A44: 44928 | B44: S01 | C44: =IF(A44='Relevé Kizeo'!C5,VLOOKUP(A44,'Relevé Kizeo'!$C$4:$R$1001,2,TRUE),"") -> 0.33333333 | D44: =_xlfn.IFS(C44=0,0,C44="CP",1,C44="CEF",2,C44="CSS",3,C44="CEM",4,C44="MAL",5,C44="AT",6,C44="ABST J",7,C44="ABST I",8,C44="FERIE",9,C44="REPOS",10,C44<"1:00",11) -> 11 | E44: =IF(C44="CP",0,IF(C44="CEF",0,IF(C44="CSS",0,IF(C44="CEM",0,IF(C44="MAL",0,IF(C44="AT",0,IF(C44="ABST J",0,IF(C44="ABST I",0,IF(C44="FERIE",0,IF(C44="REPOS",0,C44)))))))))) -> 0.33333333 | F44: 0 | G44: {=_xlfn.IFS(C44="",0,C44=0,0,C44="CP",0,C44="CEF",0,C44="CSS",0,C44="CEM",0,C44="CEM",0,C44="MAL",0,C44="AT",0,C44="ABST J",0,C44="ABST I",0,C44="FERIE",0,C44="REPOS",0,C44<"1:00",$F$420)} -> 0.010416667 | H44: =IF(A44='Relevé Kizeo'!C5,VLOOKUP(A44,'Relevé Kizeo'!$C$4:$R$1001,3,TRUE),"") -> 0.5 | I44: =IF(A44='Relevé Kizeo'!C5,VLOOKUP(A44,'Relevé Kizeo'!$C$4:$R$1001,4,TRUE),"") -> 0.53125 | J44: =IF(A44='Relevé Kizeo'!C5,VLOOKUP(A44,'Relevé Kizeo'!$C$4:$R$1001,5,TRUE),"") -> 0.64583333 | K44: =J44 -> 0.64583333 | L44: 0 | M44: {=_xlfn.IFS(I44="",0,I44=0,0,I44="CP",0,I44="CEF",0,I44="CSS",0,I44="CEM",0,I44="MAL",0,I44="AT",0,I44="ABST J",0,I44="ABST I",0,I44="FERIE",0,I44="REPOS",0,I44<"1:00",$F$421)} -> 0.010416667 | N44: {=_xlfn.IFS(D44=0,0,AND(D44>=1,D44<=9),OFFSET($AL$5,MOD(WEEKNUM(A44,21)-1,26),IF(WEEKNUM(A44,21)>26,8,0))/5,D44=10,0,D44=11,(H44-E44+G44)*24+(K44-I44+M44)*24)} -> 7.25 | R44: =IF(ISNUMBER(R43),R43,0)+INDIRECT(CONCATENATE(R$4,ROW())) -> 0 | S44: =MAX(F44,L44) -> 0 | T44: =IF(D44=0,"",IF(S44=0,"",IF(S44<=5,"3MG",IF(S44<=20,"4,5MG",IF(S44<=30,"5,5MG",IF(S44<=50,"6,5MG",IF(S44<=70,"7MG",IF(S44<=100,"GD<100",IF(S44>100,"GD>100"))))))))) | V44: =IF(A44='Relevé Kizeo'!C5,VLOOKUP(A44,'Relevé Kizeo'!$C$4:$R$1001,6,TRUE),"") -> NON | W44: =IF(D44="","",IF(D44=1,1,IF(D44=2,0,IF(D44=3,0,IF(D44=4,0,IF(D44=5,0,IF(D44=6,1,IF(D44=7,0,IF(D44=8,0,IF(D44=9,0,IF(D44=10,0,IF(D44=11,1)))))))))))) -> 1 | Y44: =MID(Z44,1,8) -> BEN 01 | Z44: =IF(A44='Relevé Kizeo'!C5,VLOOKUP(A44,'Relevé Kizeo'!$C$4:$R$1001,8,TRUE),"") -> BEN 01 | AA44: =MID(AB44,1,6) -> REM 01 | AB44: =IF(A44='Relevé Kizeo'!C5,VLOOKUP(A44,'Relevé Kizeo'!$C$4:$R$1001,9,TRUE),"") -> REM 01 | AC44: =MID(AD44,2,6) -> RA 01 | AD44: =IF(A44='Relevé Kizeo'!C5,VLOOKUP(A44,'Relevé Kizeo'!$C$4:$R$1001,10,TRUE),"") -> TRA 01 | AE44: =IF(N44=0,"",IF(N44>$F$418,N44-$F$418,$F$418-N44)) -> 6.9583333 | AF44: =IF(ISERROR(IF(N44>$F$418,(HOUR(AE44)*60+MINUTE(AE44))/60,-(HOUR(AE44)*60+MINUTE(AE44))/60)),"",IF(N44>$F$418,(HOUR(AE44)*60+MINUTE(AE44))/60,-(HOUR(AE44)*60+MINUTE(AE44))/60)) -> 23
A45: 44929 | C45: =IF(A45='Relevé Kizeo'!C6,VLOOKUP(A45,'Relevé Kizeo'!$C$4:$R$1001,2,TRUE),"") -> CP | D45: =_xlfn.IFS(C45=0,0,C45="CP",1,C45="CEF",2,C45="CSS",3,C45="CEM",4,C45="MAL",5,C45="AT",6,C45="ABST J",7,C45="ABST I",8,C45="FERIE",9,C45="REPOS",10,C45<"1:00",11) -> 1 | E45: =IF(C45="CP",0,IF(C45="CEF",0,IF(C45="CSS",0,IF(C45="CEM",0,IF(C45="MAL",0,IF(C45="AT",0,IF(C45="ABST J",0,IF(C45="ABST I",0,IF(C45="FERIE",0,IF(C45="REPOS",0,C45)))))))))) -> 0 | F45: 0 | G45: {=_xlfn.IFS(C45="",0,C45=0,0,C45="CP",0,C45="CEF",0,C45="CSS",0,C45="CEM",0,C45="CEM",0,C45="MAL",0,C45="AT",0,C45="ABST J",0,C45="ABST I",0,C45="FERIE",0,C45="REPOS",0,C45<"1:00",$F$420)} -> 0 | H45: =IF(A45='Relevé Kizeo'!C6,VLOOKUP(A45,'Relevé Kizeo'!$C$4:$R$1001,3,TRUE),"") -> 0 | I45: =IF(A45='Relevé Kizeo'!C6,VLOOKUP(A45,'Relevé Kizeo'!$C$4:$R$1001,4,TRUE),"") -> 0 | J45: =IF(A45='Relevé Kizeo'!C6,VLOOKUP(A45,'Relevé Kizeo'!$C$4:$R$1001,5,TRUE),"") -> 0 | K45: =J45 -> 0 | L45: 0 | M45: {=_xlfn.IFS(I45="",0,I45=0,0,I45="CP",0,I45="CEF",0,I45="CSS",0,I45="CEM",0,I45="MAL",0,I45="AT",0,I45="ABST J",0,I45="ABST I",0,I45="FERIE",0,I45="REPOS",0,I45<"1:00",$F$421)} -> 0 | N45: {=_xlfn.IFS(D45=0,0,AND(D45>=1,D45<=9),OFFSET($AL$5,MOD(WEEKNUM(A45,21)-1,26),IF(WEEKNUM(A45,21)>26,8,0))/5,D45=10,0,D45=11,(H45-E45+G45)*24+(K45-I45+M45)*24)} -> 7 | P45: =IF(ROW()>12,IF(WEEKDAY($A45)=$Q$2,INDIRECT(ADDRESS(ROW()-7,COLUMN())),0),IF(WEEKDAY($A45)=Q$2,G$3,0)) -> 0 | Q45: {=IF(LEFT(R$2,1)="-",-1,1)*INDIRECT(CONCATENATE(RIGHT(R$2,LEN(R$2)-1),ROW()))+IF(LEFT(R$3,1)="-",-1,1)*INDIRECT(CONCATENATE(RIGHT(R$3,LEN(R$3)-1),ROW()))} -> 0 | R45: =IF(ISNUMBER(R44),R44,0)+INDIRECT(CONCATENATE(R$4,ROW())) -> 0 | S45: =MAX(F45,L45) -> 0 | T45: =IF(D45=0,"",IF(S45=0,"",IF(S45<=5,"3MG",IF(S45<=20,"4,5MG",IF(S45<=30,"5,5MG",IF(S45<=50,"6,5MG",IF(S45<=70,"7MG",IF(S45<=100,"GD<100",IF(S45>100,"GD>100"))))))))) | V45: =IF(A45='Relevé Kizeo'!C6,VLOOKUP(A45,'Relevé Kizeo'!$C$4:$R$1001,6,TRUE),"") -> 0 | W45: =IF(D45="","",IF(D45=1,1,IF(D45=2,0,IF(D45=3,0,IF(D45=4,0,IF(D45=5,0,IF(D45=6,1,IF(D45=7,0,IF(D45=8,0,IF(D45=9,0,IF(D45=10,0,IF(D45=11,1)))))))))))) -> 1 | Y45: =MID(Z45,1,8) -> 0 | Z45: =IF(A45='Relevé Kizeo'!C6,VLOOKUP(A45,'Relevé Kizeo'!$C$4:$R$1001,8,TRUE),"") -> 0 | AA45: =MID(AB45,1,6) -> 0 | AB45: =IF(A45='Relevé Kizeo'!C6,VLOOKUP(A45,'Relevé Kizeo'!$C$4:$R$1001,9,TRUE),"") -> 0 | AC45: =MID(AD45,2,6) | AD45: =IF(A45='Relevé Kizeo'!C6,VLOOKUP(A45,'Relevé Kizeo'!$C$4:$R$1001,10,TRUE),"") -> 0 | AE45: =IF(N45=0,"",IF(N45>$F$418,N45-$F$418,$F$418-N45)) -> 6.7083333 | AF45: =IF(ISERROR(IF(N45>$F$418,(HOUR(AE45)*60+MINUTE(AE45))/60,-(HOUR(AE45)*60+MINUTE(AE45))/60)),"",IF(N45>$F$418,(HOUR(AE45)*60+MINUTE(AE45))/60,-(HOUR(AE45)*60+MINUTE(AE45))/60)) -> 17
A46: 44930 | C46: =IF(A46='Relevé Kizeo'!C7,VLOOKUP(A46,'Relevé Kizeo'!$C$4:$R$1001,2,TRUE),"") -> MAL | D46: =_xlfn.IFS(C46=0,0,C46="CP",1,C46="CEF",2,C46="CSS",3,C46="CEM",4,C46="MAL",5,C46="AT",6,C46="ABST J",7,C46="ABST I",8,C46="FERIE",9,C46="REPOS",10,C46<"1:00",11) -> 5 | E46: =IF(C46="CP",0,IF(C46="CEF",0,IF(C46="CSS",0,IF(C46="CEM",0,IF(C46="MAL",0,IF(C46="AT",0,IF(C46="ABST J",0,IF(C46="ABST I",0,IF(C46="FERIE",0,IF(C46="REPOS",0,C46)))))))))) -> 0 | F46: 0 | G46: {=_xlfn.IFS(C46="",0,C46=0,0,C46="CP",0,C46="CEF",0,C46="CSS",0,C46="CEM",0,C46="CEM",0,C46="MAL",0,C46="AT",0,C46="ABST J",0,C46="ABST I",0,C46="FERIE",0,C46="REPOS",0,C46<"1:00",$F$420)} -> 0 | H46: =IF(A46='Relevé Kizeo'!C7,VLOOKUP(A46,'Relevé Kizeo'!$C$4:$R$1001,3,TRUE),"") -> 0 | I46: =IF(A46='Relevé Kizeo'!C7,VLOOKUP(A46,'Relevé Kizeo'!$C$4:$R$1001,4,TRUE),"") -> 0 | J46: =IF(A46='Relevé Kizeo'!C7,VLOOKUP(A46,'Relevé Kizeo'!$C$4:$R$1001,5,TRUE),"") -> 0 | K46: =J46 -> 0 | L46: 0 | M46: {=_xlfn.IFS(I46="",0,I46=0,0,I46="CP",0,I46="CEF",0,I46="CSS",0,I46="CEM",0,I46="MAL",0,I46="AT",0,I46="ABST J",0,I46="ABST I",0,I46="FERIE",0,I46="REPOS",0,I46<"1:00",$F$421)} -> 0 | N46: {=_xlfn.IFS(D46=0,0,AND(D46>=1,D46<=9),OFFSET($AL$5,MOD(WEEKNUM(A46,21)-1,26),IF(WEEKNUM(A46,21)>26,8,0))/5,D46=10,0,D46=11,(H46-E46+G46)*24+(K46-I46+M46)*24)} -> 7 | P46: =IF(ROW()>12,IF(WEEKDAY($A46)=$Q$2,INDIRECT(ADDRESS(ROW()-7,COLUMN())),0),IF(WEEKDAY($A46)=Q$2,G$3,0)) -> 0 | Q46: {=IF(LEFT(R$2,1)="-",-1,1)*INDIRECT(CONCATENATE(RIGHT(R$2,LEN(R$2)-1),ROW()))+IF(LEFT(R$3,1)="-",-1,1)*INDIRECT(CONCATENATE(RIGHT(R$3,LEN(R$3)-1),ROW()))} -> 0 | R46: =IF(ISNUMBER(R45),R45,0)+INDIRECT(CONCATENATE(R$4,ROW())) -> 0 | S46: =MAX(F46,L46) -> 0 | T46: =IF(D46=0,"",IF(S46=0,"",IF(S46<=5,"3MG",IF(S46<=20,"4,5MG",IF(S46<=30,"5,5MG",IF(S46<=50,"6,5MG",IF(S46<=70,"7MG",IF(S46<=100,"GD<100",IF(S46>100,"GD>100"))))))))) | V46: =IF(A46='Relevé Kizeo'!C7,VLOOKUP(A46,'Relevé Kizeo'!$C$4:$R$1001,6,TRUE),"") -> 0 | W46: =IF(D46="","",IF(D46=1,1,IF(D46=2,0,IF(D46=3,0,IF(D46=4,0,IF(D46=5,0,IF(D46=6,1,IF(D46=7,0,IF(D46=8,0,IF(D46=9,0,IF(D46=10,0,IF(D46=11,1)))))))))))) -> 0 | Y46: =MID(Z46,1,8) -> 0 | Z46: =IF(A46='Relevé Kizeo'!C7,VLOOKUP(A46,'Relevé Kizeo'!$C$4:$R$1001,8,TRUE),"") -> 0 | AA46: =MID(AB46,1,6) -> 0 | AB46: =IF(A46='Relevé Kizeo'!C7,VLOOKUP(A46,'Relevé Kizeo'!$C$4:$R$1001,9,TRUE),"") -> 0 | AC46: =MID(AD46,1,6) -> 0 | AD46: =IF(A46='Relevé Kizeo'!C7,VLOOKUP(A46,'Relevé Kizeo'!$C$4:$R$1001,10,TRUE),"") -> 0 | AE46: =IF(N46=0,"",IF(N46>$F$418,N46-$F$418,$F$418-N46)) -> 6.7083333 | AF46: =IF(ISERROR(IF(N46>$F$418,(HOUR(AE46)*60+MINUTE(AE46))/60,-(HOUR(AE46)*60+MINUTE(AE46))/60)),"",IF(N46>$F$418,(HOUR(AE46)*60+MINUTE(AE46))/60,-(HOUR(AE46)*60+MINUTE(AE46))/60)) -> 17
A47: 44931 | C47: =IF(A47='Relevé Kizeo'!C8,VLOOKUP(A47,'Relevé Kizeo'!$C$4:$R$1001,2,TRUE),"") -> AT | D47: =_xlfn.IFS(C47=0,0,C47="CP",1,C47="CEF",2,C47="CSS",3,C47="CEM",4,C47="MAL",5,C47="AT",6,C47="ABST J",7,C47="ABST I",8,C47="FERIE",9,C47="REPOS",10,C47<"1:00",11) -> 6 | E47: =IF(C47="CP",0,IF(C47="CEF",0,IF(C47="CSS",0,IF(C47="CEM",0,IF(C47="MAL",0,IF(C47="AT",0,IF(C47="ABST J",0,IF(C47="ABST I",0,IF(C47="FERIE",0,IF(C47="REPOS",0,C47)))))))))) -> 0 | F47: 0 | G47: {=_xlfn.IFS(C47="",0,C47=0,0,C47="CP",0,C47="CEF",0,C47="CSS",0,C47="CEM",0,C47="CEM",0,C47="MAL",0,C47="AT",0,C47="ABST J",0,C47="ABST I",0,C47="FERIE",0,C47="REPOS",0,C47<"1:00",$F$420)} -> 0 | H47: =IF(A47='Relevé Kizeo'!C8,VLOOKUP(A47,'Relevé Kizeo'!$C$4:$R$1001,3,TRUE),"") -> 0 | I47: =IF(A47='Relevé Kizeo'!C8,VLOOKUP(A47,'Relevé Kizeo'!$C$4:$R$1001,4,TRUE),"") -> 0 | J47: =IF(A47='Relevé Kizeo'!C8,VLOOKUP(A47,'Relevé Kizeo'!$C$4:$R$1001,5,TRUE),"") -> 0 | K47: =J47 -> 0 | L47: 0 | M47: {=_xlfn.IFS(I47="",0,I47=0,0,I47="CP",0,I47="CEF",0,I47="CSS",0,I47="CEM",0,I47="MAL",0,I47="AT",0,I47="ABST J",0,I47="ABST I",0,I47="FERIE",0,I47="REPOS",0,I47<"1:00",$F$421)} -> 0 | N47: {=_xlfn.IFS(D47=0,0,AND(D47>=1,D47<=9),OFFSET($AL$5,MOD(WEEKNUM(A47,21)-1,26),IF(WEEKNUM(A47,21)>26,8,0))/5,D47=10,0,D47=11,(H47-E47+G47)*24+(K47-I47+M47)*24)} -> 7 | P47: =IF(ROW()>12,IF(WEEKDAY($A47)=$Q$2,INDIRECT(ADDRESS(ROW()-7,COLUMN())),0),IF(WEEKDAY($A47)=Q$2,G$3,0)) -> 0 | Q47: {=IF(LEFT(R$2,1)="-",-1,1)*INDIRECT(CONCATENATE(RIGHT(R$2,LEN(R$2)-1),ROW()))+IF(LEFT(R$3,1)="-",-1,1)*INDIRECT(CONCATENATE(RIGHT(R$3,LEN(R$3)-1),ROW()))} -> 0 | R47: =IF(ISNUMBER(R46),R46,0)+INDIRECT(CONCATENATE(R$4,ROW())) -> 0 | S47: =MAX(F47,L47) -> 0 | T47: =IF(D47=0,"",IF(S47=0,"",IF(S47<=5,"3MG",IF(S47<=20,"4,5MG",IF(S47<=30,"5,5MG",IF(S47<=50,"6,5MG",IF(S47<=70,"7MG",IF(S47<=100,"GD<100",IF(S47>100,"GD>100"))))))))) | V47: =IF(A47='Relevé Kizeo'!C8,VLOOKUP(A47,'Relevé Kizeo'!$C$4:$R$1001,6,TRUE),"") -> 0 | W47: =IF(D47="","",IF(D47=1,1,IF(D47=2,0,IF(D47=3,0,IF(D47=4,0,IF(D47=5,0,IF(D47=6,1,IF(D47=7,0,IF(D47=8,0,IF(D47=9,0,IF(D47=10,0,IF(D47=11,1)))))))))))) -> 1 | Y47: =MID(Z47,1,8) -> 0 | Z47: =IF(A47='Relevé Kizeo'!C8,VLOOKUP(A47,'Relevé Kizeo'!$C$4:$R$1001,8,TRUE),"") -> 0 | AA47: =MID(AB47,1,6) -> 0 | AB47: =IF(A47='Relevé Kizeo'!C8,VLOOKUP(A47,'Relevé Kizeo'!$C$4:$R$1001,9,TRUE),"") -> 0 | AC47: =MID(AD47,1,6) -> 0 | AD47: =IF(A47='Relevé Kizeo'!C8,VLOOKUP(A47,'Relevé Kizeo'!$C$4:$R$1001,10,TRUE),"") -> 0 | AE47: =IF(N47=0,"",IF(N47>$F$418,N47-$F$418,$F$418-N47)) -> 6.7083333 | AF47: =IF(ISERROR(IF(N47>$F$418,(HOUR(AE47)*60+MINUTE(AE47))/60,-(HOUR(AE47)*60+MINUTE(AE47))/60)),"",IF(N47>$F$418,(HOUR(AE47)*60+MINUTE(AE47))/60,-(HOUR(AE47)*60+MINUTE(AE47))/60)) -> 17
A48: 44932 | C48: =IF(A48='Relevé Kizeo'!C9,VLOOKUP(A48,'Relevé Kizeo'!$C$4:$R$1001,2,TRUE),"") -> ABST J | D48: =_xlfn.IFS(C48=0,0,C48="CP",1,C48="CEF",2,C48="CSS",3,C48="CEM",4,C48="MAL",5,C48="AT",6,C48="ABST J",7,C48="ABST I",8,C48="FERIE",9,C48="REPOS",10,C48<"1:00",11) -> 7 | E48: =IF(C48="CP",0,IF(C48="CEF",0,IF(C48="CSS",0,IF(C48="CEM",0,IF(C48="MAL",0,IF(C48="AT",0,IF(C48="ABST J",0,IF(C48="ABST I",0,IF(C48="FERIE",0,IF(C48="REPOS",0,C48)))))))))) -> 0 | F48: 0 | G48: {=_xlfn.IFS(C48="",0,C48=0,0,C48="CP",0,C48="CEF",0,C48="CSS",0,C48="CEM",0,C48="CEM",0,C48="MAL",0,C48="AT",0,C48="ABST J",0,C48="ABST I",0,C48="FERIE",0,C48="REPOS",0,C48<"1:00",$F$420)} -> 0 | H48: =IF(A48='Relevé Kizeo'!C9,VLOOKUP(A48,'Relevé Kizeo'!$C$4:$R$1001,3,TRUE),"") -> 0 | I48: =IF(A48='Relevé Kizeo'!C9,VLOOKUP(A48,'Relevé Kizeo'!$C$4:$R$1001,4,TRUE),"") -> 0 | J48: =IF(A48='Relevé Kizeo'!C9,VLOOKUP(A48,'Relevé Kizeo'!$C$4:$R$1001,5,TRUE),"") -> 0 | K48: =J48 -> 0 | L48: 0 | M48: {=_xlfn.IFS(I48="",0,I48=0,0,I48="CP",0,I48="CEF",0,I48="CSS",0,I48="CEM",0,I48="MAL",0,I48="AT",0,I48="ABST J",0,I48="ABST I",0,I48="FERIE",0,I48="REPOS",0,I48<"1:00",$F$421)} -> 0 | N48: {=_xlfn.IFS(D48=0,0,AND(D48>=1,D48<=9),OFFSET($AL$5,MOD(WEEKNUM(A48,21)-1,26),IF(WEEKNUM(A48,21)>26,8,0))/5,D48=10,0,D48=11,(H48-E48+G48)*24+(K48-I48+M48)*24)} -> 7 | P48: =IF(ROW()>12,IF(WEEKDAY($A48)=$Q$2,INDIRECT(ADDRESS(ROW()-7,COLUMN())),0),IF(WEEKDAY($A48)=Q$2,G$3,0)) -> 0 | Q48: {=IF(LEFT(R$2,1)="-",-1,1)*INDIRECT(CONCATENATE(RIGHT(R$2,LEN(R$2)-1),ROW()))+IF(LEFT(R$3,1)="-",-1,1)*INDIRECT(CONCATENATE(RIGHT(R$3,LEN(R$3)-1),ROW()))} -> 0 | R48: =IF(ISNUMBER(R47),R47,0)+INDIRECT(CONCATENATE(R$4,ROW())) -> 0 | S48: =MAX(F48,L48) -> 0 | T48: =IF(D48=0,"",IF(S48=0,"",IF(S48<=5,"3MG",IF(S48<=20,"4,5MG",IF(S48<=30,"5,5MG",IF(S48<=50,"6,5MG",IF(S48<=70,"7MG",IF(S48<=100,"GD<100",IF(S48>100,"GD>100"))))))))) | V48: =IF(A48='Relevé Kizeo'!C9,VLOOKUP(A48,'Relevé Kizeo'!$C$4:$R$1001,6,TRUE),"") -> 0 | W48: =IF(D48="","",IF(D48=1,1,IF(D48=2,0,IF(D48=3,0,IF(D48=4,0,IF(D48=5,0,IF(D48=6,1,IF(D48=7,0,IF(D48=8,0,IF(D48=9,0,IF(D48=10,0,IF(D48=11,1)))))))))))) -> 0 | Y48: =MID(Z48,1,8) -> 0 | Z48: =IF(A48='Relevé Kizeo'!C9,VLOOKUP(A48,'Relevé Kizeo'!$C$4:$R$1001,8,TRUE),"") -> 0 | AA48: =MID(AB48,1,6) -> 0 | AB48: =IF(A48='Relevé Kizeo'!C9,VLOOKUP(A48,'Relevé Kizeo'!$C$4:$R$1001,9,TRUE),"") -> 0 | AC48: =MID(AD48,1,6) -> 0 | AD48: =IF(A48='Relevé Kizeo'!C9,VLOOKUP(A48,'Relevé Kizeo'!$C$4:$R$1001,10,TRUE),"") -> 0 | AE48: =IF(N48=0,"",IF(N48>$F$418,N48-$F$418,$F$418-N48)) -> 6.7083333 | AF48: =IF(ISERROR(IF(N48>$F$418,(HOUR(AE48)*60+MINUTE(AE48))/60,-(HOUR(AE48)*60+MINUTE(AE48))/60)),"",IF(N48>$F$418,(HOUR(AE48)*60+MINUTE(AE48))/60,-(HOUR(AE48)*60+MINUTE(AE48))/60)) -> 17
A49: 44933 | C49: =IF(A49='Relevé Kizeo'!C10,VLOOKUP(A49,'Relevé Kizeo'!$C$4:$R$1001,2,TRUE),"") -> ABST I | D49: =_xlfn.IFS(C49=0,0,C49="CP",1,C49="CEF",2,C49="CSS",3,C49="CEM",4,C49="MAL",5,C49="AT",6,C49="ABST J",7,C49="ABST I",8,C49="FERIE",9,C49="REPOS",10,C49<"1:00",11) -> 8 | E49: =IF(C49="CP",0,IF(C49="CEF",0,IF(C49="CSS",0,IF(C49="CEM",0,IF(C49="MAL",0,IF(C49="AT",0,IF(C49="ABST J",0,IF(C49="ABST I",0,IF(C49="FERIE",0,IF(C49="REPOS",0,C49)))))))))) -> 0 | F49: 0 | G49: {=_xlfn.IFS(C49="",0,C49=0,0,C49="CP",0,C49="CEF",0,C49="CSS",0,C49="CEM",0,C49="CEM",0,C49="MAL",0,C49="AT",0,C49="ABST J",0,C49="ABST I",0,C49="FERIE",0,C49="REPOS",0,C49<"1:00",$F$420)} -> 0 | H49: =IF(A49='Relevé Kizeo'!C10,VLOOKUP(A49,'Relevé Kizeo'!$C$4:$R$1001,3,TRUE),"") -> 0 | I49: =IF(A49='Relevé Kizeo'!C10,VLOOKUP(A49,'Relevé Kizeo'!$C$4:$R$1001,4,TRUE),"") -> 0 | J49: =IF(A49='Relevé Kizeo'!C10,VLOOKUP(A49,'Relevé Kizeo'!$C$4:$R$1001,5,TRUE),"") -> 0 | K49: =J49 -> 0 | L49: 0 | M49: {=_xlfn.IFS(I49="",0,I49=0,0,I49="CP",0,I49="CEF",0,I49="CSS",0,I49="CEM",0,I49="MAL",0,I49="AT",0,I49="ABST J",0,I49="ABST I",0,I49="FERIE",0,I49="REPOS",0,I49<"1:00",$F$421)} -> 0 | N49: {=_xlfn.IFS(D49=0,0,AND(D49>=1,D49<=9),OFFSET($AL$5,MOD(WEEKNUM(A49,21)-1,26),IF(WEEKNUM(A49,21)>26,8,0))/5,D49=10,0,D49=11,(H49-E49+G49)*24+(K49-I49+M49)*24)} -> 7 | P49: =IF(ROW()>12,IF(WEEKDAY($A49)=$Q$2,INDIRECT(ADDRESS(ROW()-7,COLUMN())),0),IF(WEEKDAY($A49)=Q$2,G$3,0)) -> 0 | Q49: {=IF(LEFT(R$2,1)="-",-1,1)*INDIRECT(CONCATENATE(RIGHT(R$2,LEN(R$2)-1),ROW()))+IF(LEFT(R$3,1)="-",-1,1)*INDIRECT(CONCATENATE(RIGHT(R$3,LEN(R$3)-1),ROW()))} -> 0 | R49: =IF(ISNUMBER(R48),R48,0)+INDIRECT(CONCATENATE(R$4,ROW())) -> 0 | S49: =MAX(F49,L49) -> 0 | T49: =IF(D49=0,"",IF(S49=0,"",IF(S49<=5,"3MG",IF(S49<=20,"4,5MG",IF(S49<=30,"5,5MG",IF(S49<=50,"6,5MG",IF(S49<=70,"7MG",IF(S49<=100,"GD<100",IF(S49>100,"GD>100"))))))))) | V49: =IF(A49='Relevé Kizeo'!C10,VLOOKUP(A49,'Relevé Kizeo'!$C$4:$R$1001,6,TRUE),"") -> 0 | W49: =IF(D49="","",IF(D49=1,1,IF(D49=2,0,IF(D49=3,0,IF(D49=4,0,IF(D49=5,0,IF(D49=6,1,IF(D49=7,0,IF(D49=8,0,IF(D49=9,0,IF(D49=10,0,IF(D49=11,1)))))))))))) -> 0 | Y49: =MID(Z49,1,8) -> 0 | Z49: =IF(A49='Relevé Kizeo'!C10,VLOOKUP(A49,'Relevé Kizeo'!$C$4:$R$1001,8,TRUE),"") -> 0 | AA49: =MID(AB49,1,6) -> 0 | AB49: =IF(A49='Relevé Kizeo'!C10,VLOOKUP(A49,'Relevé Kizeo'!$C$4:$R$1001,9,TRUE),"") -> 0 | AC49: =MID(AD49,1,6) -> 0 | AD49: =IF(A49='Relevé Kizeo'!C10,VLOOKUP(A49,'Relevé Kizeo'!$C$4:$R$1001,10,TRUE),"") -> 0 | AE49: =IF(N49=0,"",IF(N49>$F$418,N49-$F$418,$F$418-N49)) -> 6.7083333 | AF49: =IF(ISERROR(IF(N49>$F$418,(HOUR(AE49)*60+MINUTE(AE49))/60,-(HOUR(AE49)*60+MINUTE(AE49))/60)),"",IF(N49>$F$418,(HOUR(AE49)*60+MINUTE(AE49))/60,-(HOUR(AE49)*60+MINUTE(AE49))/60)) -> 17
A50: 44934 | C50: =IF(A50='Relevé Kizeo'!C11,VLOOKUP(A50,'Relevé Kizeo'!$C$4:$R$1001,2,TRUE),"") -> REPOS | D50: =_xlfn.IFS(C50=0,0,C50="CP",1,C50="CEF",2,C50="CSS",3,C50="CEM",4,C50="MAL",5,C50="AT",6,C50="ABST J",7,C50="ABST I",8,C50="FERIE",9,C50="REPOS",10,C50<"1:00",11) -> 10 | E50: =IF(C50="CP",0,IF(C50="CEF",0,IF(C50="CSS",0,IF(C50="CEM",0,IF(C50="MAL",0,IF(C50="AT",0,IF(C50="ABST J",0,IF(C50="ABST I",0,IF(C50="FERIE",0,IF(C50="REPOS",0,C50)))))))))) -> 0 | F50: 0 | G50: {=_xlfn.IFS(C50="",0,C50=0,0,C50="CP",0,C50="CEF",0,C50="CSS",0,C50="CEM",0,C50="CEM",0,C50="MAL",0,C50="AT",0,C50="ABST J",0,C50="ABST I",0,C50="FERIE",0,C50="REPOS",0,C50<"1:00",$F$420)} -> 0 | H50: =IF(A50='Relevé Kizeo'!C11,VLOOKUP(A50,'Relevé Kizeo'!$C$4:$R$1001,3,TRUE),"") -> 0 | I50: =IF(A50='Relevé Kizeo'!C11,VLOOKUP(A50,'Relevé Kizeo'!$C$4:$R$1001,4,TRUE),"") -> 0 | J50: =IF(A50='Relevé Kizeo'!C11,VLOOKUP(A50,'Relevé Kizeo'!$C$4:$R$1001,5,TRUE),"") -> 0 | K50: =J50 -> 0 | L50: 0 | M50: {=_xlfn.IFS(I50="",0,I50=0,0,I50="CP",0,I50="CEF",0,I50="CSS",0,I50="CEM",0,I50="MAL",0,I50="AT",0,I50="ABST J",0,I50="ABST I",0,I50="FERIE",0,I50="REPOS",0,I50<"1:00",$F$421)} -> 0 | N50: {=_xlfn.IFS(D50=0,0,AND(D50>=1,D50<=9),OFFSET($AL$5,MOD(WEEKNUM(A50,21)-1,26),IF(WEEKNUM(A50,21)>26,8,0))/5,D50=10,0,D50=11,(H50-E50+G50)*24+(K50-I50+M50)*24)} -> 0 | O50: =SUM(N44:N48) -> 35.25 | P50: 35 | Q50: {=IF(LEFT(R$2,1)="-",-1,1)*INDIRECT(CONCATENATE(RIGHT(R$2,LEN(R$2)-1),ROW()))+IF(LEFT(R$3,1)="-",-1,1)*INDIRECT(CONCATENATE(RIGHT(R$3,LEN(R$3)-1),ROW()))} -> 0.25 | R50: =IF(ISNUMBER(R49),R49,0)+INDIRECT(CONCATENATE(R$4,ROW())) -> 0.25 | S50: =MAX(F50,L50) -> 0 | T50: =IF(D50=0,"",IF(S50=0,"",IF(S50<=5,"3MG",IF(S50<=20,"4,5MG",IF(S50<=30,"5,5MG",IF(S50<=50,"6,5MG",IF(S50<=70,"7MG",IF(S50<=100,"GD<100",IF(S50>100,"GD>100"))))))))) | V50: =IF(A50='Relevé Kizeo'!C11,VLOOKUP(A50,'Relevé Kizeo'!$C$4:$R$1001,6,TRUE),"") -> 0 | W50: =IF(D50="","",IF(D50=1,1,IF(D50=2,0,IF(D50=3,0,IF(D50=4,0,IF(D50=5,0,IF(D50=6,1,IF(D50=7,0,IF(D50=8,0,IF(D50=9,0,IF(D50=10,0,IF(D50=11,1)))))))))))) -> 0 | Y50: =MID(Z50,1,8) -> 0 | Z50: =IF(A50='Relevé Kizeo'!C11,VLOOKUP(A50,'Relevé Kizeo'!$C$4:$R$1001,8,TRUE),"") -> 0 | AA50: =MID(AB50,1,6) -> 0 | AB50: =IF(A50='Relevé Kizeo'!C11,VLOOKUP(A50,'Relevé Kizeo'!$C$4:$R$1001,9,TRUE),"") -> 0 | AC50: =MID(AD50,1,6) -> 0 | AD50: =IF(A50='Relevé Kizeo'!C11,VLOOKUP(A50,'Relevé Kizeo'!$C$4:$R$1001,10,TRUE),"") -> 0 | AE50: =IF(N50=0,"",IF(N50>$F$418,N50-$F$418,$F$418-N50)) | AF50: =IF(ISERROR(IF(N50>$F$418,(HOUR(AE50)*60+MINUTE(AE50))/60,-(HOUR(AE50)*60+MINUTE(AE50))/60)),"",IF(N50>$F$418,(HOUR(AE50)*60+MINUTE(AE50))/60,-(HOUR(AE50)*60+MINUTE(AE50))/60))
A51: 44935 | B51: S02 | C51: =IF(A51='Relevé Kizeo'!C12,VLOOKUP(A51,'Relevé Kizeo'!$C$4:$R$1001,2,TRUE),"") -> 0 | D51: =_xlfn.IFS(C51=0,0,C51="CP",1,C51="CEF",2,C51="CSS",3,C51="CEM",4,C51="MAL",5,C51="AT",6,C51="ABST J",7,C51="ABST I",8,C51="FERIE",9,C51="REPOS",10,C51<"1:00",11) -> 0 | E51: =IF(C51="CP",0,IF(C51="CEF",0,IF(C51="CSS",0,IF(C51="CEM",0,IF(C51="MAL",0,IF(C51="AT",0,IF(C51="ABST J",0,IF(C51="ABST I",0,IF(C51="FERIE",0,IF(C51="REPOS",0,C51)))))))))) -> 0 | F51: 0 | G51: {=_xlfn.IFS(C51="",0,C51=0,0,C51="CP",0,C51="CEF",0,C51="CSS",0,C51="CEM",0,C51="CEM",0,C51="MAL",0,C51="AT",0,C51="ABST J",0,C51="ABST I",0,C51="FERIE",0,C51="REPOS",0,C51<"1:00",$F$420)} -> 0 | H51: =IF(A51='Relevé Kizeo'!C12,VLOOKUP(A51,'Relevé Kizeo'!$C$4:$R$1001,3,TRUE),"") -> 0 | I51: =IF(A51='Relevé Kizeo'!C12,VLOOKUP(A51,'Relevé Kizeo'!$C$4:$R$1001,4,TRUE),"") -> 0 | J51: =IF(A51='Relevé Kizeo'!C12,VLOOKUP(A51,'Relevé Kizeo'!$C$4:$R$1001,5,TRUE),"") -> 0 | K51: =J51 -> 0 | L51: 0 | M51: {=_xlfn.IFS(I51="",0,I51=0,0,I51="CP",0,I51="CEF",0,I51="CSS",0,I51="CEM",0,I51="MAL",0,I51="AT",0,I51="ABST J",0,I51="ABST I",0,I51="FERIE",0,I51="REPOS",0,I51<"1:00",$F$421)} -> 0 | N51: {=_xlfn.IFS(D51=0,0,AND(D51>=1,D51<=9),OFFSET($AL$5,MOD(WEEKNUM(A51,21)-1,26),IF(WEEKNUM(A51,21)>26,8,0))/5,D51=10,0,D51=11,(H51-E51+G51)*24+(K51-I51+M51)*24)} -> 0 | P51: =IF(ROW()>12,IF(WEEKDAY($A51)=$Q$2,INDIRECT(ADDRESS(ROW()-7,COLUMN())),0),IF(WEEKDAY($A51)=Q$2,G$3,0)) -> 0 | Q51: {=IF(LEFT(R$2,1)="-",-1,1)*INDIRECT(CONCATENATE(RIGHT(R$2,LEN(R$2)-1),ROW()))+IF(LEFT(R$3,1)="-",-1,1)*INDIRECT(CONCATENATE(RIGHT(R$3,LEN(R$3)-1),ROW()))} -> 0 | R51: =IF(ISNUMBER(R50),R50,0)+INDIRECT(CONCATENATE(R$4,ROW())) -> 0.25 | S51: =MAX(F51,L51) -> 0 | T51: =IF(D51=0,"",IF(S51=0,"",IF(S51<=5,"3MG",IF(S51<=20,"4,5MG",IF(S51<=30,"5,5MG",IF(S51<=50,"6,5MG",IF(S51<=70,"7MG",IF(S51<=100,"GD<100",IF(S51>100,"GD>100"))))))))) | V51: =IF(A51='Relevé Kizeo'!C12,VLOOKUP(A51,'Relevé Kizeo'!$C$4:$R$1001,6,TRUE),"") -> 0 | W51: =IF(D51="","",IF(D51=1,1,IF(D51=2,0,IF(D51=3,0,IF(D51=4,0,IF(D51=5,0,IF(D51=6,1,IF(D51=7,0,IF(D51=8,0,IF(D51=9,0,IF(D51=10,0,IF(D51=11,1)))))))))))) -> FALSE | Y51: =MID(Z51,1,8) -> 0 | Z51: =IF(A51='Relevé Kizeo'!C12,VLOOKUP(A51,'Relevé Kizeo'!$C$4:$R$1001,8,TRUE),"") -> 0 | AA51: =MID(AB51,1,6) -> 0 | AB51: =IF(A51='Relevé Kizeo'!C12,VLOOKUP(A51,'Relevé Kizeo'!$C$4:$R$1001,9,TRUE),"") -> 0 | AC51: =MID(AD51,1,6) -> 0 | AD51: =IF(A51='Relevé Kizeo'!C12,VLOOKUP(A51,'Relevé Kizeo'!$C$4:$R$1001,10,TRUE),"") -> 0 | AE51: =IF(N51=0,"",IF(N51>$F$418,N51-$F$418,$F$418-N51)) | AF51: =IF(ISERROR(IF(N51>$F$418,(HOUR(AE51)*60+MINUTE(AE51))/60,-(HOUR(AE51)*60+MINUTE(AE51))/60)),"",IF(N51>$F$418,(HOUR(AE51)*60+MINUTE(AE51))/60,-(HOUR(AE51)*60+MINUTE(AE51))/60))
A52: 44936 | C52: =IF(A52='Relevé Kizeo'!C13,VLOOKUP(A52,'Relevé Kizeo'!$C$4:$R$1001,2,TRUE),"") -> 0 | D52: =_xlfn.IFS(C52=0,0,C52="CP",1,C52="CEF",2,C52="CSS",3,C52="CEM",4,C52="MAL",5,C52="AT",6,C52="ABST J",7,C52="ABST I",8,C52="FERIE",9,C52="REPOS",10,C52<"1:00",11) -> 0 | E52: =IF(C52="CP",0,IF(C52="CEF",0,IF(C52="CSS",0,IF(C52="CEM",0,IF(C52="MAL",0,IF(C52="AT",0,IF(C52="ABST J",0,IF(C52="ABST I",0,IF(C52="FERIE",0,IF(C52="REPOS",0,C52)))))))))) -> 0 | F52: 0 | G52: {=_xlfn.IFS(C52="",0,C52=0,0,C52="CP",0,C52="CEF",0,C52="CSS",0,C52="CEM",0,C52="CEM",0,C52="MAL",0,C52="AT",0,C52="ABST J",0,C52="ABST I",0,C52="FERIE",0,C52="REPOS",0,C52<"1:00",$F$420)} -> 0 | H52: =IF(A52='Relevé Kizeo'!C13,VLOOKUP(A52,'Relevé Kizeo'!$C$4:$R$1001,3,TRUE),"") -> 0 | I52: =IF(A52='Relevé Kizeo'!C13,VLOOKUP(A52,'Relevé Kizeo'!$C$4:$R$1001,4,TRUE),"") -> 0 | J52: =IF(A52='Relevé Kizeo'!C13,VLOOKUP(A52,'Relevé Kizeo'!$C$4:$R$1001,5,TRUE),"") -> 0 | K52: =J52 -> 0 | L52: 0 | M52: {=_xlfn.IFS(I52="",0,I52=0,0,I52="CP",0,I52="CEF",0,I52="CSS",0,I52="CEM",0,I52="MAL",0,I52="AT",0,I52="ABST J",0,I52="ABST I",0,I52="FERIE",0,I52="REPOS",0,I52<"1:00",$F$421)} -> 0 | N52: {=_xlfn.IFS(D52=0,0,AND(D52>=1,D52<=9),OFFSET($AL$5,MOD(WEEKNUM(A52,21)-1,26),IF(WEEKNUM(A52,21)>26,8,0))/5,D52=10,0,D52=11,(H52-E52+G52)*24+(K52-I52+M52)*24)} -> 0 | P52: =IF(ROW()>12,IF(WEEKDAY($A52)=$Q$2,INDIRECT(ADDRESS(ROW()-7,COLUMN())),0),IF(WEEKDAY($A52)=Q$2,G$3,0)) -> 0 | Q52: {=IF(LEFT(R$2,1)="-",-1,1)*INDIRECT(CONCATENATE(RIGHT(R$2,LEN(R$2)-1),ROW()))+IF(LEFT(R$3,1)="-",-1,1)*INDIRECT(CONCATENATE(RIGHT(R$3,LEN(R$3)-1),ROW()))} -> 0 | R52: =IF(ISNUMBER(R51),R51,0)+INDIRECT(CONCATENATE(R$4,ROW())) -> 0.25 | S52: =MAX(F52,L52) -> 0 | T52: =IF(D52=0,"",IF(S52=0,"",IF(S52<=5,"3MG",IF(S52<=20,"4,5MG",IF(S52<=30,"5,5MG",IF(S52<=50,"6,5MG",IF(S52<=70,"7MG",IF(S52<=100,"GD<100",IF(S52>100,"GD>100"))))))))) | V52: =IF(A52='Relevé Kizeo'!C13,VLOOKUP(A52,'Relevé Kizeo'!$C$4:$R$1001,6,TRUE),"") -> 0 | W52: =IF(D52="","",IF(D52=1,1,IF(D52=2,0,IF(D52=3,0,IF(D52=4,0,IF(D52=5,0,IF(D52=6,1,IF(D52=7,0,IF(D52=8,0,IF(D52=9,0,IF(D52=10,0,IF(D52=11,1)))))))))))) -> FALSE | Y52: =MID(Z52,1,8) -> 0 | Z52: =IF(A52='Relevé Kizeo'!C13,VLOOKUP(A52,'Relevé Kizeo'!$C$4:$R$1001,8,TRUE),"") -> 0 | AA52: =MID(AB52,1,6) -> 0 | AB52: =IF(A52='Relevé Kizeo'!C13,VLOOKUP(A52,'Relevé Kizeo'!$C$4:$R$1001,9,TRUE),"") -> 0 | AC52: =MID(AD52,1,6) -> 0 | AD52: =IF(A52='Relevé Kizeo'!C13,VLOOKUP(A52,'Relevé Kizeo'!$C$4:$R$1001,10,TRUE),"") -> 0 | AE52: =IF(N52=0,"",IF(N52>$F$418,N52-$F$418,$F$418-N52)) | AF52: =IF(ISERROR(IF(N52>$F$418,(HOUR(AE52)*60+MINUTE(AE52))/60,-(HOUR(AE52)*60+MINUTE(AE52))/60)),"",IF(N52>$F$418,(HOUR(AE52)*60+MINUTE(AE52))/60,-(HOUR(AE52)*60+MINUTE(AE52))/60))
A53: 44937 | C53: =IF(A53='Relevé Kizeo'!C14,VLOOKUP(A53,'Relevé Kizeo'!$C$4:$R$1001,2,TRUE),"") -> 0 | D53: =_xlfn.IFS(C53=0,0,C53="CP",1,C53="CEF",2,C53="CSS",3,C53="CEM",4,C53="MAL",5,C53="AT",6,C53="ABST J",7,C53="ABST I",8,C53="FERIE",9,C53="REPOS",10,C53<"1:00",11) -> 0 | E53: =IF(C53="CP",0,IF(C53="CEF",0,IF(C53="CSS",0,IF(C53="CEM",0,IF(C53="MAL",0,IF(C53="AT",0,IF(C53="ABST J",0,IF(C53="ABST I",0,IF(C53="FERIE",0,IF(C53="REPOS",0,C53)))))))))) -> 0 | F53: 0 | G53: {=_xlfn.IFS(C53="",0,C53=0,0,C53="CP",0,C53="CEF",0,C53="CSS",0,C53="CEM",0,C53="CEM",0,C53="MAL",0,C53="AT",0,C53="ABST J",0,C53="ABST I",0,C53="FERIE",0,C53="REPOS",0,C53<"1:00",$F$420)} -> 0 | H53: =IF(A53='Relevé Kizeo'!C14,VLOOKUP(A53,'Relevé Kizeo'!$C$4:$R$1001,3,TRUE),"") -> 0 | I53: =IF(A53='Relevé Kizeo'!C14,VLOOKUP(A53,'Relevé Kizeo'!$C$4:$R$1001,4,TRUE),"") -> 0 | J53: =IF(A53='Relevé Kizeo'!C14,VLOOKUP(A53,'Relevé Kizeo'!$C$4:$R$1001,5,TRUE),"") -> 0 | K53: =J53 -> 0 | L53: 0 | M53: {=_xlfn.IFS(I53="",0,I53=0,0,I53="CP",0,I53="CEF",0,I53="CSS",0,I53="CEM",0,I53="MAL",0,I53="AT",0,I53="ABST J",0,I53="ABST I",0,I53="FERIE",0,I53="REPOS",0,I53<"1:00",$F$421)} -> 0 | N53: {=_xlfn.IFS(D53=0,0,AND(D53>=1,D53<=9),OFFSET($AL$5,MOD(WEEKNUM(A53,21)-1,26),IF(WEEKNUM(A53,21)>26,8,0))/5,D53=10,0,D53=11,(H53-E53+G53)*24+(K53-I53+M53)*24)} -> 0 | P53: =IF(ROW()>12,IF(WEEKDAY($A53)=$Q$2,INDIRECT(ADDRESS(ROW()-7,COLUMN())),0),IF(WEEKDAY($A53)=Q$2,G$3,0)) -> 0 | Q53: {=IF(LEFT(R$2,1)="-",-1,1)*INDIRECT(CONCATENATE(RIGHT(R$2,LEN(R$2)-1),ROW()))+IF(LEFT(R$3,1)="-",-1,1)*INDIRECT(CONCATENATE(RIGHT(R$3,LEN(R$3)-1),ROW()))} -> 0 | R53: =IF(ISNUMBER(R52),R52,0)+INDIRECT(CONCATENATE(R$4,ROW())) -> 0.25 | S53: =MAX(F53,L53) -> 0 | T53: =IF(D53=0,"",IF(S53=0,"",IF(S53<=5,"3MG",IF(S53<=20,"4,5MG",IF(S53<=30,"5,5MG",IF(S53<=50,"6,5MG",IF(S53<=70,"7MG",IF(S53<=100,"GD<100",IF(S53>100,"GD>100"))))))))) | V53: =IF(A53='Relevé Kizeo'!C14,VLOOKUP(A53,'Relevé Kizeo'!$C$4:$R$1001,6,TRUE),"") -> 0 | W53: =IF(D53="","",IF(D53=1,1,IF(D53=2,0,IF(D53=3,0,IF(D53=4,0,IF(D53=5,0,IF(D53=6,1,IF(D53=7,0,IF(D53=8,0,IF(D53=9,0,IF(D53=10,0,IF(D53=11,1)))))))))))) -> FALSE | Y53: =MID(Z53,1,8) -> 0 | Z53: =IF(A53='Relevé Kizeo'!C14,VLOOKUP(A53,'Relevé Kizeo'!$C$4:$R$1001,8,TRUE),"") -> 0 | AA53: =MID(AB53,1,6) -> 0 | AB53: =IF(A53='Relevé Kizeo'!C14,VLOOKUP(A53,'Relevé Kizeo'!$C$4:$R$1001,9,TRUE),"") -> 0 | AC53: =MID(AD53,1,6) -> 0 | AD53: =IF(A53='Relevé Kizeo'!C14,VLOOKUP(A53,'Relevé Kizeo'!$C$4:$R$1001,10,TRUE),"") -> 0 | AE53: =IF(N53=0,"",IF(N53>$F$418,N53-$F$418,$F$418-N53)) | AF53: =IF(ISERROR(IF(N53>$F$418,(HOUR(AE53)*60+MINUTE(AE53))/60,-(HOUR(AE53)*60+MINUTE(AE53))/60)),"",IF(N53>$F$418,(HOUR(AE53)*60+MINUTE(AE53))/60,-(HOUR(AE53)*60+MINUTE(AE53))/60))
A54: 44938 | C54: =IF(A54='Relevé Kizeo'!C15,VLOOKUP(A54,'Relevé Kizeo'!$C$4:$R$1001,2,TRUE),"") -> 0 | D54: =_xlfn.IFS(C54=0,0,C54="CP",1,C54="CEF",2,C54="CSS",3,C54="CEM",4,C54="MAL",5,C54="AT",6,C54="ABST J",7,C54="ABST I",8,C54="FERIE",9,C54="REPOS",10,C54<"1:00",11) -> 0 | E54: =IF(C54="CP",0,IF(C54="CEF",0,IF(C54="CSS",0,IF(C54="CEM",0,IF(C54="MAL",0,IF(C54="AT",0,IF(C54="ABST J",0,IF(C54="ABST I",0,IF(C54="FERIE",0,IF(C54="REPOS",0,C54)))))))))) -> 0 | F54: 0 | G54: {=_xlfn.IFS(C54="",0,C54=0,0,C54="CP",0,C54="CEF",0,C54="CSS",0,C54="CEM",0,C54="CEM",0,C54="MAL",0,C54="AT",0,C54="ABST J",0,C54="ABST I",0,C54="FERIE",0,C54="REPOS",0,C54<"1:00",$F$420)} -> 0 | H54: =IF(A54='Relevé Kizeo'!C15,VLOOKUP(A54,'Relevé Kizeo'!$C$4:$R$1001,3,TRUE),"") -> 0 | I54: =IF(A54='Relevé Kizeo'!C15,VLOOKUP(A54,'Relevé Kizeo'!$C$4:$R$1001,4,TRUE),"") -> 0 | J54: =IF(A54='Relevé Kizeo'!C15,VLOOKUP(A54,'Relevé Kizeo'!$C$4:$R$1001,5,TRUE),"") -> 0 | K54: =J54 -> 0 | L54: 0 | M54: {=_xlfn.IFS(I54="",0,I54=0,0,I54="CP",0,I54="CEF",0,I54="CSS",0,I54="CEM",0,I54="MAL",0,I54="AT",0,I54="ABST J",0,I54="ABST I",0,I54="FERIE",0,I54="REPOS",0,I54<"1:00",$F$421)} -> 0 | N54: {=_xlfn.IFS(D54=0,0,AND(D54>=1,D54<=9),OFFSET($AL$5,MOD(WEEKNUM(A54,21)-1,26),IF(WEEKNUM(A54,21)>26,8,0))/5,D54=10,0,D54=11,(H54-E54+G54)*24+(K54-I54+M54)*24)} -> 0 | P54: =IF(ROW()>12,IF(WEEKDAY($A54)=$Q$2,INDIRECT(ADDRESS(ROW()-7,COLUMN())),0),IF(WEEKDAY($A54)=Q$2,G$3,0)) -> 0 | Q54: {=IF(LEFT(R$2,1)="-",-1,1)*INDIRECT(CONCATENATE(RIGHT(R$2,LEN(R$2)-1),ROW()))+IF(LEFT(R$3,1)="-",-1,1)*INDIRECT(CONCATENATE(RIGHT(R$3,LEN(R$3)-1),ROW()))} -> 0 | R54: =IF(ISNUMBER(R53),R53,0)+INDIRECT(CONCATENATE(R$4,ROW())) -> 0.25 | S54: =MAX(F54,L54) -> 0 | T54: =IF(D54=0,"",IF(S54=0,"",IF(S54<=5,"3MG",IF(S54<=20,"4,5MG",IF(S54<=30,"5,5MG",IF(S54<=50,"6,5MG",IF(S54<=70,"7MG",IF(S54<=100,"GD<100",IF(S54>100,"GD>100"))))))))) | V54: =IF(A54='Relevé Kizeo'!C15,VLOOKUP(A54,'Relevé Kizeo'!$C$4:$R$1001,6,TRUE),"") -> 0 | W54: =IF(D54="","",IF(D54=1,1,IF(D54=2,0,IF(D54=3,0,IF(D54=4,0,IF(D54=5,0,IF(D54=6,1,IF(D54=7,0,IF(D54=8,0,IF(D54=9,0,IF(D54=10,0,IF(D54=11,1)))))))))))) -> FALSE | Y54: =MID(Z54,1,8) -> 0 | Z54: =IF(A54='Relevé Kizeo'!C15,VLOOKUP(A54,'Relevé Kizeo'!$C$4:$R$1001,8,TRUE),"") -> 0 | AA54: =MID(AB54,1,6) -> 0 | AB54: =IF(A54='Relevé Kizeo'!C15,VLOOKUP(A54,'Relevé Kizeo'!$C$4:$R$1001,9,TRUE),"") -> 0 | AC54: =MID(AD54,1,6) -> 0 | AD54: =IF(A54='Relevé Kizeo'!C15,VLOOKUP(A54,'Relevé Kizeo'!$C$4:$R$1001,10,TRUE),"") -> 0 | AE54: =IF(N54=0,"",IF(N54>$F$418,N54-$F$418,$F$418-N54)) | AF54: =IF(ISERROR(IF(N54>$F$418,(HOUR(AE54)*60+MINUTE(AE54))/60,-(HOUR(AE54)*60+MINUTE(AE54))/60)),"",IF(N54>$F$418,(HOUR(AE54)*60+MINUTE(AE54))/60,-(HOUR(AE54)*60+MINUTE(AE54))/60))
A55: 44939 | C55: =IF(A55='Relevé Kizeo'!C16,VLOOKUP(A55,'Relevé Kizeo'!$C$4:$R$1001,2,TRUE),"") -> 0 | D55: =_xlfn.IFS(C55=0,0,C55="CP",1,C55="CEF",2,C55="CSS",3,C55="CEM",4,C55="MAL",5,C55="AT",6,C55="ABST J",7,C55="ABST I",8,C55="FERIE",9,C55="REPOS",10,C55<"1:00",11) -> 0 | E55: =IF(C55="CP",0,IF(C55="CEF",0,IF(C55="CSS",0,IF(C55="CEM",0,IF(C55="MAL",0,IF(C55="AT",0,IF(C55="ABST J",0,IF(C55="ABST I",0,IF(C55="FERIE",0,IF(C55="REPOS",0,C55)))))))))) -> 0 | F55: 0 | G55: {=_xlfn.IFS(C55="",0,C55=0,0,C55="CP",0,C55="CEF",0,C55="CSS",0,C55="CEM",0,C55="CEM",0,C55="MAL",0,C55="AT",0,C55="ABST J",0,C55="ABST I",0,C55="FERIE",0,C55="REPOS",0,C55<"1:00",$F$420)} -> 0 | H55: =IF(A55='Relevé Kizeo'!C16,VLOOKUP(A55,'Relevé Kizeo'!$C$4:$R$1001,3,TRUE),"") -> 0 | I55: =IF(A55='Relevé Kizeo'!C16,VLOOKUP(A55,'Relevé Kizeo'!$C$4:$R$1001,4,TRUE),"") -> 0 | J55: =IF(A55='Relevé Kizeo'!C16,VLOOKUP(A55,'Relevé Kizeo'!$C$4:$R$1001,5,TRUE),"") -> 0 | K55: =J55 -> 0 | L55: 0 | M55: {=_xlfn.IFS(I55="",0,I55=0,0,I55="CP",0,I55="CEF",0,I55="CSS",0,I55="CEM",0,I55="MAL",0,I55="AT",0,I55="ABST J",0,I55="ABST I",0,I55="FERIE",0,I55="REPOS",0,I55<"1:00",$F$421)} -> 0 | N55: {=_xlfn.IFS(D55=0,0,AND(D55>=1,D55<=9),OFFSET($AL$5,MOD(WEEKNUM(A55,21)-1,26),IF(WEEKNUM(A55,21)>26,8,0))/5,D55=10,0,D55=11,(H55-E55+G55)*24+(K55-I55+M55)*24)} -> 0 | P55: =IF(ROW()>12,IF(WEEKDAY($A55)=$Q$2,INDIRECT(ADDRESS(ROW()-7,COLUMN())),0),IF(WEEKDAY($A55)=Q$2,G$3,0)) -> 0 | Q55: {=IF(LEFT(R$2,1)="-",-1,1)*INDIRECT(CONCATENATE(RIGHT(R$2,LEN(R$2)-1),ROW()))+IF(LEFT(R$3,1)="-",-1,1)*INDIRECT(CONCATENATE(RIGHT(R$3,LEN(R$3)-1),ROW()))} -> 0 | R55: =IF(ISNUMBER(R54),R54,0)+INDIRECT(CONCATENATE(R$4,ROW())) -> 0.25 | S55: =MAX(F55,L55) -> 0 | T55: =IF(D55=0,"",IF(S55=0,"",IF(S55<=5,"3MG",IF(S55<=20,"4,5MG",IF(S55<=30,"5,5MG",IF(S55<=50,"6,5MG",IF(S55<=70,"7MG",IF(S55<=100,"GD<100",IF(S55>100,"GD>100"))))))))) | V55: =IF(A55='Relevé Kizeo'!C16,VLOOKUP(A55,'Relevé Kizeo'!$C$4:$R$1001,6,TRUE),"") -> 0
A56: 44940 | C56: =IF(A56='Relevé Kizeo'!C17,VLOOKUP(A56,'Relevé Kizeo'!$C$4:$R$1001,2,TRUE),"") -> REPOS | D56: =_xlfn.IFS(C56=0,0,C56="CP",1,C56="CEF",2,C56="CSS",3,C56="CEM",4,C56="MAL",5,C56="AT",6,C56="ABST J",7,C56="ABST I",8,C56="FERIE",9,C56="REPOS",10,C56<"1:00",11) -> 10 | E56: =IF(C56="CP",0,IF(C56="CEF",0,IF(C56="CSS",0,IF(C56="CEM",0,IF(C56="MAL",0,IF(C56="AT",0,IF(C56="ABST J",0,IF(C56="ABST I",0,IF(C56="FERIE",0,IF(C56="REPOS",0,C56)))))))))) -> 0 | F56: 0 | G56: {=_xlfn.IFS(C56="",0,C56=0,0,C56="CP",0,C56="CEF",0,C56="CSS",0,C56="CEM",0,C56="CEM",0,C56="MAL",0,C56="AT",0,C56="ABST J",0,C56="ABST I",0,C56="FERIE",0,C56="REPOS",0,C56<"1:00",$F$420)} -> 0 | H56: =IF(A56='Relevé Kizeo'!C17,VLOOKUP(A56,'Relevé Kizeo'!$C$4:$R$1001,3,TRUE),"") -> 0 | I56: =IF(A56='Relevé Kizeo'!C17,VLOOKUP(A56,'Relevé Kizeo'!$C$4:$R$1001,4,TRUE),"") -> 0 | J56: =IF(A56='Relevé Kizeo'!C17,VLOOKUP(A56,'Relevé Kizeo'!$C$4:$R$1001,5,TRUE),"") -> 0 | K56: =J56 -> 0 | L56: 0 | M56: {=_xlfn.IFS(I56="",0,I56=0,0,I56="CP",0,I56="CEF",0,I56="CSS",0,I56="CEM",0,I56="MAL",0,I56="AT",0,I56="ABST J",0,I56="ABST I",0,I56="FERIE",0,I56="REPOS",0,I56<"1:00",$F$421)} -> 0 | N56: {=_xlfn.IFS(D56=0,0,AND(D56>=1,D56<=9),OFFSET($AL$5,MOD(WEEKNUM(A56,21)-1,26),IF(WEEKNUM(A56,21)>26,8,0))/5,D56=10,0,D56=11,(H56-E56+G56)*24+(K56-I56+M56)*24)} -> 0 | P56: =IF(ROW()>12,IF(WEEKDAY($A56)=$Q$2,INDIRECT(ADDRESS(ROW()-7,COLUMN())),0),IF(WEEKDAY($A56)=Q$2,G$3,0)) -> 0 | Q56: {=IF(LEFT(R$2,1)="-",-1,1)*INDIRECT(CONCATENATE(RIGHT(R$2,LEN(R$2)-1),ROW()))+IF(LEFT(R$3,1)="-",-1,1)*INDIRECT(CONCATENATE(RIGHT(R$3,LEN(R$3)-1),ROW()))} -> 0 | R56: =IF(ISNUMBER(R55),R55,0)+INDIRECT(CONCATENATE(R$4,ROW())) -> 0.25 | S56: =MAX(F56,L56) -> 0 | T56: =IF(D56=0,"",IF(S56=0,"",IF(S56<=5,"3MG",IF(S56<=20,"4,5MG",IF(S56<=30,"5,5MG",IF(S56<=50,"6,5MG",IF(S56<=70,"7MG",IF(S56<=100,"GD<100",IF(S56>100,"GD>100"))))))))) | V56: =IF(A56='Relevé Kizeo'!C17,VLOOKUP(A56,'Relevé Kizeo'!$C$4:$R$1001,6,TRUE),"") -> 0 | W56: =IF(D55="","",IF(D55=1,1,IF(D55=2,0,IF(D55=3,0,IF(D55=4,0,IF(D55=5,0,IF(D55=6,1,IF(D55=7,0,IF(D55=8,0,IF(D55=9,0,IF(D55=10,0,IF(D55=11,1)))))))))))) -> FALSE | Y56: =MID(Z56,1,8) -> 0 | Z56: =IF(A55='Relevé Kizeo'!C16,VLOOKUP(A55,'Relevé Kizeo'!$C$4:$R$1001,8,TRUE),"") -> 0 | AA56: =MID(AB56,1,6) -> 0 | AB56: =IF(A55='Relevé Kizeo'!C16,VLOOKUP(A55,'Relevé Kizeo'!$C$4:$R$1001,9,TRUE),"") -> 0 | AC56: =MID(AD56,1,6) -> 0 | AD56: =IF(A55='Relevé Kizeo'!C16,VLOOKUP(A55,'Relevé Kizeo'!$C$4:$R$1001,10,TRUE),"") -> 0 | AE56: =IF(N55=0,"",IF(N55>$F$418,N55-$F$418,$F$418-N55)) | AF56: =IF(ISERROR(IF(N55>$F$418,(HOUR(AE56)*60+MINUTE(AE56))/60,-(HOUR(AE56)*60+MINUTE(AE56))/60)),"",IF(N55>$F$418,(HOUR(AE56)*60+MINUTE(AE56))/60,-(HOUR(AE56)*60+MINUTE(AE56))/60))
A57: 44941 | C57: =IF(A57='Relevé Kizeo'!C18,VLOOKUP(A57,'Relevé Kizeo'!$C$4:$R$1001,2,TRUE),"") -> REPOS | D57: =_xlfn.IFS(C57=0,0,C57="CP",1,C57="CEF",2,C57="CSS",3,C57="CEM",4,C57="MAL",5,C57="AT",6,C57="ABST J",7,C57="ABST I",8,C57="FERIE",9,C57="REPOS",10,C57<"1:00",11) -> 10 | E57: =IF(C57="CP",0,IF(C57="CEF",0,IF(C57="CSS",0,IF(C57="CEM",0,IF(C57="MAL",0,IF(C57="AT",0,IF(C57="ABST J",0,IF(C57="ABST I",0,IF(C57="FERIE",0,IF(C57="REPOS",0,C57)))))))))) -> 0 | F57: 0 | G57: {=_xlfn.IFS(C57="",0,C57=0,0,C57="CP",0,C57="CEF",0,C57="CSS",0,C57="CEM",0,C57="CEM",0,C57="MAL",0,C57="AT",0,C57="ABST J",0,C57="ABST I",0,C57="FERIE",0,C57="REPOS",0,C57<"1:00",$F$420)} -> 0 | H57: =IF(A57='Relevé Kizeo'!C18,VLOOKUP(A57,'Relevé Kizeo'!$C$4:$R$1001,3,TRUE),"") -> 0 | I57: =IF(A57='Relevé Kizeo'!C18,VLOOKUP(A57,'Relevé Kizeo'!$C$4:$R$1001,4,TRUE),"") -> 0 | J57: =IF(A57='Relevé Kizeo'!C18,VLOOKUP(A57,'Relevé Kizeo'!$C$4:$R$1001,5,TRUE),"") -> 0 | K57: =J57 -> 0 | L57: 0 | M57: {=_xlfn.IFS(I57="",0,I57=0,0,I57="CP",0,I57="CEF",0,I57="CSS",0,I57="CEM",0,I57="MAL",0,I57="AT",0,I57="ABST J",0,I57="ABST I",0,I57="FERIE",0,I57="REPOS",0,I57<"1:00",$F$421)} -> 0 | N57: {=_xlfn.IFS(D57=0,0,AND(D57>=1,D57<=9),OFFSET($AL$5,MOD(WEEKNUM(A57,21)-1,26),IF(WEEKNUM(A57,21)>26,8,0))/5,D57=10,0,D57=11,(H57-E57+G57)*24+(K57-I57+M57)*24)} -> 0 | O57: =SUM(N51:N55) -> 0 | P57: 32 | Q57: {=IF(LEFT(R$2,1)="-",-1,1)*INDIRECT(CONCATENATE(RIGHT(R$2,LEN(R$2)-1),ROW()))+IF(LEFT(R$3,1)="-",-1,1)*INDIRECT(CONCATENATE(RIGHT(R$3,LEN(R$3)-1),ROW()))} -> -32 | R57: =IF(ISNUMBER(R56),R56,0)+INDIRECT(CONCATENATE(R$4,ROW())) -> -31.75 | S57: =MAX(F57,L57) -> 0 | T57: =IF(D57=0,"",IF(S57=0,"",IF(S57<=5,"3MG",IF(S57<=20,"4,5MG",IF(S57<=30,"5,5MG",IF(S57<=50,"6,5MG",IF(S57<=70,"7MG",IF(S57<=100,"GD<100",IF(S57>100,"GD>100"))))))))) | V57: =IF(A57='Relevé Kizeo'!C18,VLOOKUP(A57,'Relevé Kizeo'!$C$4:$R$1001,6,TRUE),"") -> 0 | W57: =IF(D57="","",IF(D57=1,1,IF(D57=2,0,IF(D57=3,0,IF(D57=4,0,IF(D57=5,0,IF(D57=6,1,IF(D57=7,0,IF(D57=8,0,IF(D57=9,0,IF(D57=10,0,IF(D57=11,1)))))))))))) -> 0 | Y57: =MID(Z57,1,8) -> 0 | Z57: =IF(A57='Relevé Kizeo'!C18,VLOOKUP(A57,'Relevé Kizeo'!$C$4:$R$1001,8,TRUE),"") -> 0 | AA57: =MID(AB57,1,6) -> 0 | AB57: =IF(A57='Relevé Kizeo'!C18,VLOOKUP(A57,'Relevé Kizeo'!$C$4:$R$1001,9,TRUE),"") -> 0 | AC57: =MID(AD57,1,6) -> 0 | AD57: =IF(A57='Relevé Kizeo'!C18,VLOOKUP(A57,'Relevé Kizeo'!$C$4:$R$1001,10,TRUE),"") -> 0 | AE57: =IF(N57=0,"",IF(N57>$F$418,N57-$F$418,$F$418-N57)) | AF57: =IF(ISERROR(IF(N57>$F$418,(HOUR(AE57)*60+MINUTE(AE57))/60,-(HOUR(AE57)*60+MINUTE(AE57))/60)),"",IF(N57>$F$418,(HOUR(AE57)*60+MINUTE(AE57))/60,-(HOUR(AE57)*60+MINUTE(AE57))/60))
A58: 44942 | B58: S03 | C58: =IF(A58='Relevé Kizeo'!C19,VLOOKUP(A58,'Relevé Kizeo'!$C$4:$R$1001,2,TRUE),"") -> 0 | D58: =_xlfn.IFS(C58=0,0,C58="CP",1,C58="CEF",2,C58="CSS",3,C58="CEM",4,C58="MAL",5,C58="AT",6,C58="ABST J",7,C58="ABST I",8,C58="FERIE",9,C58="REPOS",10,C58<"1:00",11) -> 0 | E58: =IF(C58="CP",0,IF(C58="CEF",0,IF(C58="CSS",0,IF(C58="CEM",0,IF(C58="MAL",0,IF(C58="AT",0,IF(C58="ABST J",0,IF(C58="ABST I",0,IF(C58="FERIE",0,IF(C58="REPOS",0,C58)))))))))) -> 0 | F58: 0 | G58: {=_xlfn.IFS(C58="",0,C58=0,0,C58="CP",0,C58="CEF",0,C58="CSS",0,C58="CEM",0,C58="CEM",0,C58="MAL",0,C58="AT",0,C58="ABST J",0,C58="ABST I",0,C58="FERIE",0,C58="REPOS",0,C58<"1:00",$F$420)} -> 0 | H58: =IF(A58='Relevé Kizeo'!C19,VLOOKUP(A58,'Relevé Kizeo'!$C$4:$R$1001,3,TRUE),"") -> 0 | I58: =IF(A58='Relevé Kizeo'!C19,VLOOKUP(A58,'Relevé Kizeo'!$C$4:$R$1001,4,TRUE),"") -> 0 | J58: =IF(A58='Relevé Kizeo'!C19,VLOOKUP(A58,'Relevé Kizeo'!$C$4:$R$1001,5,TRUE),"") -> 0 | K58: =J58 -> 0 | L58: 0 | M58: {=_xlfn.IFS(I58="",0,I58=0,0,I58="CP",0,I58="CEF",0,I58="CSS",0,I58="CEM",0,I58="MAL",0,I58="AT",0,I58="ABST J",0,I58="ABST I",0,I58="FERIE",0,I58="REPOS",0,I58<"1:00",$F$421)} -> 0 | N58: {=_xlfn.IFS(D58=0,0,AND(D58>=1,D58<=9),OFFSET($AL$5,MOD(WEEKNUM(A58,21)-1,26),IF(WEEKNUM(A58,21)>26,8,0))/5,D58=10,0,D58=11,(H58-E58+G58)*24+(K58-I58+M58)*24)} -> 0 | P58: =IF(ROW()>12,IF(WEEKDAY($A58)=$Q$2,INDIRECT(ADDRESS(ROW()-7,COLUMN())),0),IF(WEEKDAY($A58)=Q$2,G$3,0)) -> 0 | Q58: {=IF(LEFT(R$2,1)="-",-1,1)*INDIRECT(CONCATENATE(RIGHT(R$2,LEN(R$2)-1),ROW()))+IF(LEFT(R$3,1)="-",-1,1)*INDIRECT(CONCATENATE(RIGHT(R$3,LEN(R$3)-1),ROW()))} -> 0 | R58: =IF(ISNUMBER(R57),R57,0)+INDIRECT(CONCATENATE(R$4,ROW())) -> -31.75 | S58: =MAX(F58,L58) -> 0 | T58: =IF(D58=0,"",IF(S58=0,"",IF(S58<=5,"3MG",IF(S58<=20,"4,5MG",IF(S58<=30,"5,5MG",IF(S58<=50,"6,5MG",IF(S58<=70,"7MG",IF(S58<=100,"GD<100",IF(S58>100,"GD>100"))))))))) | V58: =IF(A58='Relevé Kizeo'!C19,VLOOKUP(A58,'Relevé Kizeo'!$C$4:$R$1001,6,TRUE),"") -> 0 | W58: =IF(D58="","",IF(D58=1,1,IF(D58=2,0,IF(D58=3,0,IF(D58=4,0,IF(D58=5,0,IF(D58=6,1,IF(D58=7,0,IF(D58=8,0,IF(D58=9,0,IF(D58=10,0,IF(D58=11,1)))))))))))) -> FALSE | Y58: =MID(Z58,1,8) -> 0 | Z58: =IF(A58='Relevé Kizeo'!C19,VLOOKUP(A58,'Relevé Kizeo'!$C$4:$R$1001,8,TRUE),"") -> 0 | AA58: =MID(AB58,1,6) -> 0 | AB58: =IF(A58='Relevé Kizeo'!C19,VLOOKUP(A58,'Relevé Kizeo'!$C$4:$R$1001,9,TRUE),"") -> 0 | AC58: =MID(AD58,1,6) -> 0 | AD58: =IF(A58='Relevé Kizeo'!C19,VLOOKUP(A58,'Relevé Kizeo'!$C$4:$R$1001,10,TRUE),"") -> 0 | AE58: =IF(N58=0,"",IF(N58>$F$418,N58-$F$418,$F$418-N58)) | AF58: =IF(ISERROR(IF(N58>$F$418,(HOUR(AE58)*60+MINUTE(AE58))/60,-(HOUR(AE58)*60+MINUTE(AE58))/60)),"",IF(N58>$F$418,(HOUR(AE58)*60+MINUTE(AE58))/60,-(HOUR(AE58)*60+MINUTE(AE58))/60))
A59: 44943 | C59: =IF(A59='Relevé Kizeo'!C20,VLOOKUP(A59,'Relevé Kizeo'!$C$4:$R$1001,2,TRUE),"") -> 0 | D59: =_xlfn.IFS(C59=0,0,C59="CP",1,C59="CEF",2,C59="CSS",3,C59="CEM",4,C59="MAL",5,C59="AT",6,C59="ABST J",7,C59="ABST I",8,C59="FERIE",9,C59="REPOS",10,C59<"1:00",11) -> 0 | E59: =IF(C59="CP",0,IF(C59="CEF",0,IF(C59="CSS",0,IF(C59="CEM",0,IF(C59="MAL",0,IF(C59="AT",0,IF(C59="ABST J",0,IF(C59="ABST I",0,IF(C59="FERIE",0,IF(C59="REPOS",0,C59)))))))))) -> 0 | F59: 0 | G59: {=_xlfn.IFS(C59="",0,C59=0,0,C59="CP",0,C59="CEF",0,C59="CSS",0,C59="CEM",0,C59="CEM",0,C59="MAL",0,C59="AT",0,C59="ABST J",0,C59="ABST I",0,C59="FERIE",0,C59="REPOS",0,C59<"1:00",$F$420)} -> 0 | H59: =IF(A59='Relevé Kizeo'!C20,VLOOKUP(A59,'Relevé Kizeo'!$C$4:$R$1001,3,TRUE),"") -> 0 | I59: =IF(A59='Relevé Kizeo'!C20,VLOOKUP(A59,'Relevé Kizeo'!$C$4:$R$1001,4,TRUE),"") -> 0 | J59: =IF(A59='Relevé Kizeo'!C20,VLOOKUP(A59,'Relevé Kizeo'!$C$4:$R$1001,5,TRUE),"") -> 0 | K59: =J59 -> 0 | L59: 0 | M59: {=_xlfn.IFS(I59="",0,I59=0,0,I59="CP",0,I59="CEF",0,I59="CSS",0,I59="CEM",0,I59="MAL",0,I59="AT",0,I59="ABST J",0,I59="ABST I",0,I59="FERIE",0,I59="REPOS",0,I59<"1:00",$F$421)} -> 0 | N59: {=_xlfn.IFS(D59=0,0,AND(D59>=1,D59<=9),OFFSET($AL$5,MOD(WEEKNUM(A59,21)-1,26),IF(WEEKNUM(A59,21)>26,8,0))/5,D59=10,0,D59=11,(H59-E59+G59)*24+(K59-I59+M59)*24)} -> 0 | P59: =IF(ROW()>12,IF(WEEKDAY($A59)=$Q$2,INDIRECT(ADDRESS(ROW()-7,COLUMN())),0),IF(WEEKDAY($A59)=Q$2,G$3,0)) -> 0 | Q59: {=IF(LEFT(R$2,1)="-",-1,1)*INDIRECT(CONCATENATE(RIGHT(R$2,LEN(R$2)-1),ROW()))+IF(LEFT(R$3,1)="-",-1,1)*INDIRECT(CONCATENATE(RIGHT(R$3,LEN(R$3)-1),ROW()))} -> 0 | R59: =IF(ISNUMBER(R58),R58,0)+INDIRECT(CONCATENATE(R$4,ROW())) -> -31.75 | S59: =MAX(F59,L59) -> 0 | T59: =IF(D59=0,"",IF(S59=0,"",IF(S59<=5,"3MG",IF(S59<=20,"4,5MG",IF(S59<=30,"5,5MG",IF(S59<=50,"6,5MG",IF(S59<=70,"7MG",IF(S59<=100,"GD<100",IF(S59>100,"GD>100"))))))))) | V59: =IF(A59='Relevé Kizeo'!C20,VLOOKUP(A59,'Relevé Kizeo'!$C$4:$R$1001,6,TRUE),"") -> 0 | W59: =IF(D59="","",IF(D59=1,1,IF(D59=2,0,IF(D59=3,0,IF(D59=4,0,IF(D59=5,0,IF(D59=6,1,IF(D59=7,0,IF(D59=8,0,IF(D59=9,0,IF(D59=10,0,IF(D59=11,1)))))))))))) -> FALSE | Y59: =MID(Z59,1,8) -> 0 | Z59: =IF(A59='Relevé Kizeo'!C20,VLOOKUP(A59,'Relevé Kizeo'!$C$4:$R$1001,8,TRUE),"") -> 0 | AA59: =MID(AB59,1,6) -> 0 | AB59: =IF(A59='Relevé Kizeo'!C20,VLOOKUP(A59,'Relevé Kizeo'!$C$4:$R$1001,9,TRUE),"") -> 0 | AC59: =MID(AD59,1,6) -> 0 | AD59: =IF(A59='Relevé Kizeo'!C20,VLOOKUP(A59,'Relevé Kizeo'!$C$4:$R$1001,10,TRUE),"") -> 0 | AE59: =IF(N59=0,"",IF(N59>$F$418,N59-$F$418,$F$418-N59)) | AF59: =IF(ISERROR(IF(N59>$F$418,(HOUR(AE59)*60+MINUTE(AE59))/60,-(HOUR(AE59)*60+MINUTE(AE59))/60)),"",IF(N59>$F$418,(HOUR(AE59)*60+MINUTE(AE59))/60,-(HOUR(AE59)*60+MINUTE(AE59))/60))
A60: 44944 | C60: =IF(A60='Relevé Kizeo'!C21,VLOOKUP(A60,'Relevé Kizeo'!$C$4:$R$1001,2,TRUE),"") -> 0 | D60: =_xlfn.IFS(C60=0,0,C60="CP",1,C60="CEF",2,C60="CSS",3,C60="CEM",4,C60="MAL",5,C60="AT",6,C60="ABST J",7,C60="ABST I",8,C60="FERIE",9,C60="REPOS",10,C60<"1:00",11) -> 0 | E60: =IF(C60="CP",0,IF(C60="CEF",0,IF(C60="CSS",0,IF(C60="CEM",0,IF(C60="MAL",0,IF(C60="AT",0,IF(C60="ABST J",0,IF(C60="ABST I",0,IF(C60="FERIE",0,IF(C60="REPOS",0,C60)))))))))) -> 0 | F60: 0 | G60: {=_xlfn.IFS(C60="",0,C60=0,0,C60="CP",0,C60="CEF",0,C60="CSS",0,C60="CEM",0,C60="CEM",0,C60="MAL",0,C60="AT",0,C60="ABST J",0,C60="ABST I",0,C60="FERIE",0,C60="REPOS",0,C60<"1:00",$F$420)} -> 0 | H60: =IF(A60='Relevé Kizeo'!C21,VLOOKUP(A60,'Relevé Kizeo'!$C$4:$R$1001,3,TRUE),"") -> 0 | I60: =IF(A60='Relevé Kizeo'!C21,VLOOKUP(A60,'Relevé Kizeo'!$C$4:$R$1001,4,TRUE),"") -> 0 | J60: =IF(A60='Relevé Kizeo'!C21,VLOOKUP(A60,'Relevé Kizeo'!$C$4:$R$1001,5,TRUE),"") -> 0 | K60: =J60 -> 0 | L60: 0 | M60: {=_xlfn.IFS(I60="",0,I60=0,0,I60="CP",0,I60="CEF",0,I60="CSS",0,I60="CEM",0,I60="MAL",0,I60="AT",0,I60="ABST J",0,I60="ABST I",0,I60="FERIE",0,I60="REPOS",0,I60<"1:00",$F$421)} -> 0 | N60: {=_xlfn.IFS(D60=0,0,AND(D60>=1,D60<=9),OFFSET($AL$5,MOD(WEEKNUM(A60,21)-1,26),IF(WEEKNUM(A60,21)>26,8,0))/5,D60=10,0,D60=11,(H60-E60+G60)*24+(K60-I60+M60)*24)} -> 0 | P60: =IF(ROW()>12,IF(WEEKDAY($A60)=$Q$2,INDIRECT(ADDRESS(ROW()-7,COLUMN())),0),IF(WEEKDAY($A60)=Q$2,G$3,0)) -> 0 | Q60: {=IF(LEFT(R$2,1)="-",-1,1)*INDIRECT(CONCATENATE(RIGHT(R$2,LEN(R$2)-1),ROW()))+IF(LEFT(R$3,1)="-",-1,1)*INDIRECT(CONCATENATE(RIGHT(R$3,LEN(R$3)-1),ROW()))} -> 0 | R60: =IF(ISNUMBER(R59),R59,0)+INDIRECT(CONCATENATE(R$4,ROW())) -> -31.75 | S60: =MAX(F60,L60) -> 0 | T60: =IF(D60=0,"",IF(S60=0,"",IF(S60<=5,"3MG",IF(S60<=20,"4,5MG",IF(S60<=30,"5,5MG",IF(S60<=50,"6,5MG",IF(S60<=70,"7MG",IF(S60<=100,"GD<100",IF(S60>100,"GD>100"))))))))) | V60: =IF(A60='Relevé Kizeo'!C21,VLOOKUP(A60,'Relevé Kizeo'!$C$4:$R$1001,6,TRUE),"") -> 0 | W60: =IF(D60="","",IF(D60=1,1,IF(D60=2,0,IF(D60=3,0,IF(D60=4,0,IF(D60=5,0,IF(D60=6,1,IF(D60=7,0,IF(D60=8,0,IF(D60=9,0,IF(D60=10,0,IF(D60=11,1)))))))))))) -> FALSE | Y60: =MID(Z60,1,8) -> 0 | Z60: =IF(A60='Relevé Kizeo'!C21,VLOOKUP(A60,'Relevé Kizeo'!$C$4:$R$1001,8,TRUE),"") -> 0 | AA60: =MID(AB60,1,6) -> 0 | AB60: =IF(A60='Relevé Kizeo'!C21,VLOOKUP(A60,'Relevé Kizeo'!$C$4:$R$1001,9,TRUE),"") -> 0 | AC60: =MID(AD60,1,6) -> 0 | AD60: =IF(A60='Relevé Kizeo'!C21,VLOOKUP(A60,'Relevé Kizeo'!$C$4:$R$1001,10,TRUE),"") -> 0 | AE60: =IF(N60=0,"",IF(N60>$F$418,N60-$F$418,$F$418-N60)) | AF60: =IF(ISERROR(IF(N60>$F$418,(HOUR(AE60)*60+MINUTE(AE60))/60,-(HOUR(AE60)*60+MINUTE(AE60))/60)),"",IF(N60>$F$418,(HOUR(AE60)*60+MINUTE(AE60))/60,-(HOUR(AE60)*60+MINUTE(AE60))/60))
A61: 44945 | C61: =IF(A61='Relevé Kizeo'!C22,VLOOKUP(A61,'Relevé Kizeo'!$C$4:$R$1001,2,TRUE),"") -> 0 | D61: =_xlfn.IFS(C61=0,0,C61="CP",1,C61="CEF",2,C61="CSS",3,C61="CEM",4,C61="MAL",5,C61="AT",6,C61="ABST J",7,C61="ABST I",8,C61="FERIE",9,C61="REPOS",10,C61<"1:00",11) -> 0 | E61: =IF(C61="CP",0,IF(C61="CEF",0,IF(C61="CSS",0,IF(C61="CEM",0,IF(C61="MAL",0,IF(C61="AT",0,IF(C61="ABST J",0,IF(C61="ABST I",0,IF(C61="FERIE",0,IF(C61="REPOS",0,C61)))))))))) -> 0 | F61: 0 | G61: {=_xlfn.IFS(C61="",0,C61=0,0,C61="CP",0,C61="CEF",0,C61="CSS",0,C61="CEM",0,C61="CEM",0,C61="MAL",0,C61="AT",0,C61="ABST J",0,C61="ABST I",0,C61="FERIE",0,C61="REPOS",0,C61<"1:00",$F$420)} -> 0 | H61: =IF(A61='Relevé Kizeo'!C22,VLOOKUP(A61,'Relevé Kizeo'!$C$4:$R$1001,3,TRUE),"") -> 0 | I61: =IF(A61='Relevé Kizeo'!C22,VLOOKUP(A61,'Relevé Kizeo'!$C$4:$R$1001,4,TRUE),"") -> 0 | J61: =IF(A61='Relevé Kizeo'!C22,VLOOKUP(A61,'Relevé Kizeo'!$C$4:$R$1001,5,TRUE),"") -> 0 | K61: =J61 -> 0 | L61: 0 | M61: {=_xlfn.IFS(I61="",0,I61=0,0,I61="CP",0,I61="CEF",0,I61="CSS",0,I61="CEM",0,I61="MAL",0,I61="AT",0,I61="ABST J",0,I61="ABST I",0,I61="FERIE",0,I61="REPOS",0,I61<"1:00",$F$421)} -> 0 | N61: {=_xlfn.IFS(D61=0,0,AND(D61>=1,D61<=9),OFFSET($AL$5,MOD(WEEKNUM(A61,21)-1,26),IF(WEEKNUM(A61,21)>26,8,0))/5,D61=10,0,D61=11,(H61-E61+G61)*24+(K61-I61+M61)*24)} -> 0 | P61: =IF(ROW()>12,IF(WEEKDAY($A61)=$Q$2,INDIRECT(ADDRESS(ROW()-7,COLUMN())),0),IF(WEEKDAY($A61)=Q$2,G$3,0)) -> 0 | Q61: {=IF(LEFT(R$2,1)="-",-1,1)*INDIRECT(CONCATENATE(RIGHT(R$2,LEN(R$2)-1),ROW()))+IF(LEFT(R$3,1)="-",-1,1)*INDIRECT(CONCATENATE(RIGHT(R$3,LEN(R$3)-1),ROW()))} -> 0 | R61: =IF(ISNUMBER(R60),R60,0)+INDIRECT(CONCATENATE(R$4,ROW())) -> -31.75 | S61: =MAX(F61,L61) -> 0 | T61: =IF(D61=0,"",IF(S61=0,"",IF(S61<=5,"3MG",IF(S61<=20,"4,5MG",IF(S61<=30,"5,5MG",IF(S61<=50,"6,5MG",IF(S61<=70,"7MG",IF(S61<=100,"GD<100",IF(S61>100,"GD>100"))))))))) | V61: =IF(A61='Relevé Kizeo'!C22,VLOOKUP(A61,'Relevé Kizeo'!$C$4:$R$1001,6,TRUE),"") -> 0 | W61: =IF(D61="","",IF(D61=1,1,IF(D61=2,0,IF(D61=3,0,IF(D61=4,0,IF(D61=5,0,IF(D61=6,1,IF(D61=7,0,IF(D61=8,0,IF(D61=9,0,IF(D61=10,0,IF(D61=11,1)))))))))))) -> FALSE | Y61: =MID(Z61,1,8) -> 0 | Z61: =IF(A61='Relevé Kizeo'!C22,VLOOKUP(A61,'Relevé Kizeo'!$C$4:$R$1001,8,TRUE),"") -> 0 | AA61: =MID(AB61,1,6) -> 0 | AB61: =IF(A61='Relevé Kizeo'!C22,VLOOKUP(A61,'Relevé Kizeo'!$C$4:$R$1001,9,TRUE),"") -> 0 | AC61: =MID(AD61,1,6) -> 0 | AD61: =IF(A61='Relevé Kizeo'!C22,VLOOKUP(A61,'Relevé Kizeo'!$C$4:$R$1001,10,TRUE),"") -> 0 | AE61: =IF(N61=0,"",IF(N61>$F$418,N61-$F$418,$F$418-N61)) | AF61: =IF(ISERROR(IF(N61>$F$418,(HOUR(AE61)*60+MINUTE(AE61))/60,-(HOUR(AE61)*60+MINUTE(AE61))/60)),"",IF(N61>$F$418,(HOUR(AE61)*60+MINUTE(AE61))/60,-(HOUR(AE61)*60+MINUTE(AE61))/60))
A62: 44946 | C62: =IF(A62='Relevé Kizeo'!C23,VLOOKUP(A62,'Relevé Kizeo'!$C$4:$R$1001,2,TRUE),"") -> 0 | D62: =_xlfn.IFS(C62=0,0,C62="CP",1,C62="CEF",2,C62="CSS",3,C62="CEM",4,C62="MAL",5,C62="AT",6,C62="ABST J",7,C62="ABST I",8,C62="FERIE",9,C62="REPOS",10,C62<"1:00",11) -> 0 | E62: =IF(C62="CP",0,IF(C62="CEF",0,IF(C62="CSS",0,IF(C62="CEM",0,IF(C62="MAL",0,IF(C62="AT",0,IF(C62="ABST J",0,IF(C62="ABST I",0,IF(C62="FERIE",0,IF(C62="REPOS",0,C62)))))))))) -> 0 | F62: 0 | G62: {=_xlfn.IFS(C62="",0,C62=0,0,C62="CP",0,C62="CEF",0,C62="CSS",0,C62="CEM",0,C62="CEM",0,C62="MAL",0,C62="AT",0,C62="ABST J",0,C62="ABST I",0,C62="FERIE",0,C62="REPOS",0,C62<"1:00",$F$420)} -> 0 | H62: =IF(A62='Relevé Kizeo'!C23,VLOOKUP(A62,'Relevé Kizeo'!$C$4:$R$1001,3,TRUE),"") -> 0 | I62: =IF(A62='Relevé Kizeo'!C23,VLOOKUP(A62,'Relevé Kizeo'!$C$4:$R$1001,4,TRUE),"") -> 0 | J62: =IF(A62='Relevé Kizeo'!C23,VLOOKUP(A62,'Relevé Kizeo'!$C$4:$R$1001,5,TRUE),"") -> 0 | K62: =J62 -> 0 | L62: 0 | M62: {=_xlfn.IFS(I62="",0,I62=0,0,I62="CP",0,I62="CEF",0,I62="CSS",0,I62="CEM",0,I62="MAL",0,I62="AT",0,I62="ABST J",0,I62="ABST I",0,I62="FERIE",0,I62="REPOS",0,I62<"1:00",$F$421)} -> 0 | N62: {=_xlfn.IFS(D62=0,0,AND(D62>=1,D62<=9),OFFSET($AL$5,MOD(WEEKNUM(A62,21)-1,26),IF(WEEKNUM(A62,21)>26,8,0))/5,D62=10,0,D62=11,(H62-E62+G62)*24+(K62-I62+M62)*24)} -> 0 | P62: =IF(ROW()>12,IF(WEEKDAY($A62)=$Q$2,INDIRECT(ADDRESS(ROW()-7,COLUMN())),0),IF(WEEKDAY($A62)=Q$2,G$3,0)) -> 0 | Q62: {=IF(LEFT(R$2,1)="-",-1,1)*INDIRECT(CONCATENATE(RIGHT(R$2,LEN(R$2)-1),ROW()))+IF(LEFT(R$3,1)="-",-1,1)*INDIRECT(CONCATENATE(RIGHT(R$3,LEN(R$3)-1),ROW()))} -> 0 | R62: =IF(ISNUMBER(R61),R61,0)+INDIRECT(CONCATENATE(R$4,ROW())) -> -31.75 | S62: =MAX(F62,L62) -> 0 | T62: =IF(D62=0,"",IF(S62=0,"",IF(S62<=5,"3MG",IF(S62<=20,"4,5MG",IF(S62<=30,"5,5MG",IF(S62<=50,"6,5MG",IF(S62<=70,"7MG",IF(S62<=100,"GD<100",IF(S62>100,"GD>100"))))))))) | V62: =IF(A62='Relevé Kizeo'!C23,VLOOKUP(A62,'Relevé Kizeo'!$C$4:$R$1001,6,TRUE),"") -> 0 | W62: =IF(D62="","",IF(D62=1,1,IF(D62=2,0,IF(D62=3,0,IF(D62=4,0,IF(D62=5,0,IF(D62=6,1,IF(D62=7,0,IF(D62=8,0,IF(D62=9,0,IF(D62=10,0,IF(D62=11,1)))))))))))) -> FALSE | Y62: =MID(Z62,1,8) -> 0 | Z62: =IF(A62='Relevé Kizeo'!C23,VLOOKUP(A62,'Relevé Kizeo'!$C$4:$R$1001,8,TRUE),"") -> 0 | AA62: =MID(AB62,1,6) -> 0 | AB62: =IF(A62='Relevé Kizeo'!C23,VLOOKUP(A62,'Relevé Kizeo'!$C$4:$R$1001,9,TRUE),"") -> 0 | AC62: =MID(AD62,1,6) -> 0 | AD62: =IF(A62='Relevé Kizeo'!C23,VLOOKUP(A62,'Relevé Kizeo'!$C$4:$R$1001,10,TRUE),"") -> 0 | AE62: =IF(N62=0,"",IF(N62>$F$418,N62-$F$418,$F$418-N62)) | AF62: =IF(ISERROR(IF(N62>$F$418,(HOUR(AE62)*60+MINUTE(AE62))/60,-(HOUR(AE62)*60+MINUTE(AE62))/60)),"",IF(N62>$F$418,(HOUR(AE62)*60+MINUTE(AE62))/60,-(HOUR(AE62)*60+MINUTE(AE62))/60))
A63: 44947 | C63: =IF(A63='Relevé Kizeo'!C24,VLOOKUP(A63,'Relevé Kizeo'!$C$4:$R$1001,2,TRUE),"") -> REPOS | D63: =_xlfn.IFS(C63=0,0,C63="CP",1,C63="CEF",2,C63="CSS",3,C63="CEM",4,C63="MAL",5,C63="AT",6,C63="ABST J",7,C63="ABST I",8,C63="FERIE",9,C63="REPOS",10,C63<"1:00",11) -> 10 | E63: =IF(C63="CP",0,IF(C63="CEF",0,IF(C63="CSS",0,IF(C63="CEM",0,IF(C63="MAL",0,IF(C63="AT",0,IF(C63="ABST J",0,IF(C63="ABST I",0,IF(C63="FERIE",0,IF(C63="REPOS",0,C63)))))))))) -> 0 | F63: 0 | G63: {=_xlfn.IFS(C63="",0,C63=0,0,C63="CP",0,C63="CEF",0,C63="CSS",0,C63="CEM",0,C63="CEM",0,C63="MAL",0,C63="AT",0,C63="ABST J",0,C63="ABST I",0,C63="FERIE",0,C63="REPOS",0,C63<"1:00",$F$420)} -> 0 | H63: =IF(A63='Relevé Kizeo'!C24,VLOOKUP(A63,'Relevé Kizeo'!$C$4:$R$1001,3,TRUE),"") -> 0 | I63: =IF(A63='Relevé Kizeo'!C24,VLOOKUP(A63,'Relevé Kizeo'!$C$4:$R$1001,4,TRUE),"") -> 0 | J63: =IF(A63='Relevé Kizeo'!C24,VLOOKUP(A63,'Relevé Kizeo'!$C$4:$R$1001,5,TRUE),"") -> 0 | K63: =J63 -> 0 | L63: 0 | M63: {=_xlfn.IFS(I63="",0,I63=0,0,I63="CP",0,I63="CEF",0,I63="CSS",0,I63="CEM",0,I63="MAL",0,I63="AT",0,I63="ABST J",0,I63="ABST I",0,I63="FERIE",0,I63="REPOS",0,I63<"1:00",$F$421)} -> 0 | N63: {=_xlfn.IFS(D63=0,0,AND(D63>=1,D63<=9),OFFSET($AL$5,MOD(WEEKNUM(A63,21)-1,26),IF(WEEKNUM(A63,21)>26,8,0))/5,D63=10,0,D63=11,(H63-E63+G63)*24+(K63-I63+M63)*24)} -> 0 | P63: =IF(ROW()>12,IF(WEEKDAY($A63)=$Q$2,INDIRECT(ADDRESS(ROW()-7,COLUMN())),0),IF(WEEKDAY($A63)=Q$2,G$3,0)) -> 0 | Q63: {=IF(LEFT(R$2,1)="-",-1,1)*INDIRECT(CONCATENATE(RIGHT(R$2,LEN(R$2)-1),ROW()))+IF(LEFT(R$3,1)="-",-1,1)*INDIRECT(CONCATENATE(RIGHT(R$3,LEN(R$3)-1),ROW()))} -> 0 | R63: =IF(ISNUMBER(R62),R62,0)+INDIRECT(CONCATENATE(R$4,ROW())) -> -31.75 | S63: =MAX(F63,L63) -> 0 | T63: =IF(D63=0,"",IF(S63=0,"",IF(S63<=5,"3MG",IF(S63<=20,"4,5MG",IF(S63<=30,"5,5MG",IF(S63<=50,"6,5MG",IF(S63<=70,"7MG",IF(S63<=100,"GD<100",IF(S63>100,"GD>100"))))))))) | V63: =IF(A63='Relevé Kizeo'!C24,VLOOKUP(A63,'Relevé Kizeo'!$C$4:$R$1001,6,TRUE),"") -> 0 | W63: =IF(D63="","",IF(D63=1,1,IF(D63=2,0,IF(D63=3,0,IF(D63=4,0,IF(D63=5,0,IF(D63=6,1,IF(D63=7,0,IF(D63=8,0,IF(D63=9,0,IF(D63=10,0,IF(D63=11,1)))))))))))) -> 0 | Y63: =MID(Z63,1,8) -> 0 | Z63: =IF(A63='Relevé Kizeo'!C24,VLOOKUP(A63,'Relevé Kizeo'!$C$4:$R$1001,8,TRUE),"") -> 0 | AA63: =MID(AB63,1,6) -> 0 | AB63: =IF(A63='Relevé Kizeo'!C24,VLOOKUP(A63,'Relevé Kizeo'!$C$4:$R$1001,9,TRUE),"") -> 0 | AC63: =MID(AD63,1,6) -> 0 | AD63: =IF(A63='Relevé Kizeo'!C24,VLOOKUP(A63,'Relevé Kizeo'!$C$4:$R$1001,10,TRUE),"") -> 0 | AE63: =IF(N63=0,"",IF(N63>$F$418,N63-$F$418,$F$418-N63)) | AF63: =IF(ISERROR(IF(N63>$F$418,(HOUR(AE63)*60+MINUTE(AE63))/60,-(HOUR(AE63)*60+MINUTE(AE63))/60)),"",IF(N63>$F$418,(HOUR(AE63)*60+MINUTE(AE63))/60,-(HOUR(AE63)*60+MINUTE(AE63))/60))
A64: 44948 | C64: =IF(A64='Relevé Kizeo'!C25,VLOOKUP(A64,'Relevé Kizeo'!$C$4:$R$1001,2,TRUE),"") -> REPOS | D64: =_xlfn.IFS(C64=0,0,C64="CP",1,C64="CEF",2,C64="CSS",3,C64="CEM",4,C64="MAL",5,C64="AT",6,C64="ABST J",7,C64="ABST I",8,C64="FERIE",9,C64="REPOS",10,C64<"1:00",11) -> 10 | E64: =IF(C64="CP",0,IF(C64="CEF",0,IF(C64="CSS",0,IF(C64="CEM",0,IF(C64="MAL",0,IF(C64="AT",0,IF(C64="ABST J",0,IF(C64="ABST I",0,IF(C64="FERIE",0,IF(C64="REPOS",0,C64)))))))))) -> 0 | F64: 0 | G64: {=_xlfn.IFS(C64="",0,C64=0,0,C64="CP",0,C64="CEF",0,C64="CSS",0,C64="CEM",0,C64="CEM",0,C64="MAL",0,C64="AT",0,C64="ABST J",0,C64="ABST I",0,C64="FERIE",0,C64="REPOS",0,C64<"1:00",$F$420)} -> 0 | H64: =IF(A64='Relevé Kizeo'!C25,VLOOKUP(A64,'Relevé Kizeo'!$C$4:$R$1001,3,TRUE),"") -> 0 | I64: =IF(A64='Relevé Kizeo'!C25,VLOOKUP(A64,'Relevé Kizeo'!$C$4:$R$1001,4,TRUE),"") -> 0 | J64: =IF(A64='Relevé Kizeo'!C25,VLOOKUP(A64,'Relevé Kizeo'!$C$4:$R$1001,5,TRUE),"") -> 0 | K64: =J64 -> 0 | L64: 0 | M64: {=_xlfn.IFS(I64="",0,I64=0,0,I64="CP",0,I64="CEF",0,I64="CSS",0,I64="CEM",0,I64="MAL",0,I64="AT",0,I64="ABST J",0,I64="ABST I",0,I64="FERIE",0,I64="REPOS",0,I64<"1:00",$F$421)} -> 0 | N64: {=_xlfn.IFS(D64=0,0,AND(D64>=1,D64<=9),OFFSET($AL$5,MOD(WEEKNUM(A64,21)-1,26),IF(WEEKNUM(A64,21)>26,8,0))/5,D64=10,0,D64=11,(H64-E64+G64)*24+(K64-I64+M64)*24)} -> 0 | O64: =SUM(N58:N62) -> 0 | P64: 32 | Q64: {=IF(LEFT(R$2,1)="-",-1,1)*INDIRECT(CONCATENATE(RIGHT(R$2,LEN(R$2)-1),ROW()))+IF(LEFT(R$3,1)="-",-1,1)*INDIRECT(CONCATENATE(RIGHT(R$3,LEN(R$3)-1),ROW()))} -> -32 | R64: =IF(ISNUMBER(R63),R63,0)+INDIRECT(CONCATENATE(R$4,ROW())) -> -63.75 | S64: =MAX(F64,L64) -> 0 | T64: =IF(D64=0,"",IF(S64=0,"",IF(S64<=5,"3MG",IF(S64<=20,"4,5MG",IF(S64<=30,"5,5MG",IF(S64<=50,"6,5MG",IF(S64<=70,"7MG",IF(S64<=100,"GD<100",IF(S64>100,"GD>100"))))))))) | V64: =IF(A64='Relevé Kizeo'!C25,VLOOKUP(A64,'Relevé Kizeo'!$C$4:$R$1001,6,TRUE),"") -> 0 | W64: =IF(D64="","",IF(D64=1,1,IF(D64=2,0,IF(D64=3,0,IF(D64=4,0,IF(D64=5,0,IF(D64=6,1,IF(D64=7,0,IF(D64=8,0,IF(D64=9,0,IF(D64=10,0,IF(D64=11,1)))))))))))) -> 0 | Y64: =MID(Z64,1,8) -> 0 | Z64: =IF(A64='Relevé Kizeo'!C25,VLOOKUP(A64,'Relevé Kizeo'!$C$4:$R$1001,8,TRUE),"") -> 0 | AA64: =MID(AB64,1,6) -> 0 | AB64: =IF(A64='Relevé Kizeo'!C25,VLOOKUP(A64,'Relevé Kizeo'!$C$4:$R$1001,9,TRUE),"") -> 0 | AC64: =MID(AD64,1,6) -> 0 | AD64: =IF(A64='Relevé Kizeo'!C25,VLOOKUP(A64,'Relevé Kizeo'!$C$4:$R$1001,10,TRUE),"") -> 0 | AE64: =IF(N64=0,"",IF(N64>$F$418,N64-$F$418,$F$418-N64)) | AF64: =IF(ISERROR(IF(N64>$F$418,(HOUR(AE64)*60+MINUTE(AE64))/60,-(HOUR(AE64)*60+MINUTE(AE64))/60)),"",IF(N64>$F$418,(HOUR(AE64)*60+MINUTE(AE64))/60,-(HOUR(AE64)*60+MINUTE(AE64))/60))
A65: 44949 | B65: S04 | C65: =IF(A65='Relevé Kizeo'!C26,VLOOKUP(A65,'Relevé Kizeo'!$C$4:$R$1001,2,TRUE),"") -> 0 | D65: =_xlfn.IFS(C65=0,0,C65="CP",1,C65="CEF",2,C65="CSS",3,C65="CEM",4,C65="MAL",5,C65="AT",6,C65="ABST J",7,C65="ABST I",8,C65="FERIE",9,C65="REPOS",10,C65<"1:00",11) -> 0 | E65: =IF(C65="CP",0,IF(C65="CEF",0,IF(C65="CSS",0,IF(C65="CEM",0,IF(C65="MAL",0,IF(C65="AT",0,IF(C65="ABST J",0,IF(C65="ABST I",0,IF(C65="FERIE",0,IF(C65="REPOS",0,C65)))))))))) -> 0 | F65: 0 | G65: {=_xlfn.IFS(C65="",0,C65=0,0,C65="CP",0,C65="CEF",0,C65="CSS",0,C65="CEM",0,C65="CEM",0,C65="MAL",0,C65="AT",0,C65="ABST J",0,C65="ABST I",0,C65="FERIE",0,C65="REPOS",0,C65<"1:00",$F$420)} -> 0 | H65: =IF(A65='Relevé Kizeo'!C26,VLOOKUP(A65,'Relevé Kizeo'!$C$4:$R$1001,3,TRUE),"") -> 0 | I65: =IF(A65='Relevé Kizeo'!C26,VLOOKUP(A65,'Relevé Kizeo'!$C$4:$R$1001,4,TRUE),"") -> 0 | J65: =IF(A65='Relevé Kizeo'!C26,VLOOKUP(A65,'Relevé Kizeo'!$C$4:$R$1001,5,TRUE),"") -> 0 | K65: =J65 -> 0 | L65: 0 | M65: {=_xlfn.IFS(I65="",0,I65=0,0,I65="CP",0,I65="CEF",0,I65="CSS",0,I65="CEM",0,I65="MAL",0,I65="AT",0,I65="ABST J",0,I65="ABST I",0,I65="FERIE",0,I65="REPOS",0,I65<"1:00",$F$421)} -> 0 | N65: {=_xlfn.IFS(D65=0,0,AND(D65>=1,D65<=9),OFFSET($AL$5,MOD(WEEKNUM(A65,21)-1,26),IF(WEEKNUM(A65,21)>26,8,0))/5,D65=10,0,D65=11,(H65-E65+G65)*24+(K65-I65+M65)*24)} -> 0 | P65: =IF(ROW()>12,IF(WEEKDAY($A65)=$Q$2,INDIRECT(ADDRESS(ROW()-7,COLUMN())),0),IF(WEEKDAY($A65)=Q$2,G$3,0)) -> 0 | Q65: {=IF(LEFT(R$2,1)="-",-1,1)*INDIRECT(CONCATENATE(RIGHT(R$2,LEN(R$2)-1),ROW()))+IF(LEFT(R$3,1)="-",-1,1)*INDIRECT(CONCATENATE(RIGHT(R$3,LEN(R$3)-1),ROW()))} -> 0 | R65: =IF(ISNUMBER(R64),R64,0)+INDIRECT(CONCATENATE(R$4,ROW())) -> -63.75 | S65: =MAX(F65,L65) -> 0 | T65: =IF(D65=0,"",IF(S65=0,"",IF(S65<=5,"3MG",IF(S65<=20,"4,5MG",IF(S65<=30,"5,5MG",IF(S65<=50,"6,5MG",IF(S65<=70,"7MG",IF(S65<=100,"GD<100",IF(S65>100,"GD>100"))))))))) | V65: =IF(A65='Relevé Kizeo'!C26,VLOOKUP(A65,'Relevé Kizeo'!$C$4:$R$1001,6,TRUE),"") -> 0 | W65: =IF(D65="","",IF(D65=1,1,IF(D65=2,0,IF(D65=3,0,IF(D65=4,0,IF(D65=5,0,IF(D65=6,1,IF(D65=7,0,IF(D65=8,0,IF(D65=9,0,IF(D65=10,0,IF(D65=11,1)))))))))))) -> FALSE | Y65: =MID(Z65,1,8) -> 0 | Z65: =IF(A65='Relevé Kizeo'!C26,VLOOKUP(A65,'Relevé Kizeo'!$C$4:$R$1001,8,TRUE),"") -> 0 | AA65: =MID(AB65,1,6) -> 0 | AB65: =IF(A65='Relevé Kizeo'!C26,VLOOKUP(A65,'Relevé Kizeo'!$C$4:$R$1001,9,TRUE),"") -> 0 | AC65: =MID(AD65,1,6) -> 0 | AD65: =IF(A65='Relevé Kizeo'!C26,VLOOKUP(A65,'Relevé Kizeo'!$C$4:$R$1001,10,TRUE),"") -> 0 | AE65: =IF(N65=0,"",IF(N65>$F$418,N65-$F$418,$F$418-N65)) | AF65: =IF(ISERROR(IF(N65>$F$418,(HOUR(AE65)*60+MINUTE(AE65))/60,-(HOUR(AE65)*60+MINUTE(AE65))/60)),"",IF(N65>$F$418,(HOUR(AE65)*60+MINUTE(AE65))/60,-(HOUR(AE65)*60+MINUTE(AE65))/60))
A66: 44950 | C66: =IF(A66='Relevé Kizeo'!C27,VLOOKUP(A66,'Relevé Kizeo'!$C$4:$R$1001,2,TRUE),"") -> 0 | D66: =_xlfn.IFS(C66=0,0,C66="CP",1,C66="CEF",2,C66="CSS",3,C66="CEM",4,C66="MAL",5,C66="AT",6,C66="ABST J",7,C66="ABST I",8,C66="FERIE",9,C66="REPOS",10,C66<"1:00",11) -> 0 | E66: =IF(C66="CP",0,IF(C66="CEF",0,IF(C66="CSS",0,IF(C66="CEM",0,IF(C66="MAL",0,IF(C66="AT",0,IF(C66="ABST J",0,IF(C66="ABST I",0,IF(C66="FERIE",0,IF(C66="REPOS",0,C66)))))))))) -> 0 | F66: 0 | G66: {=_xlfn.IFS(C66="",0,C66=0,0,C66="CP",0,C66="CEF",0,C66="CSS",0,C66="CEM",0,C66="CEM",0,C66="MAL",0,C66="AT",0,C66="ABST J",0,C66="ABST I",0,C66="FERIE",0,C66="REPOS",0,C66<"1:00",$F$420)} -> 0 | H66: =IF(A66='Relevé Kizeo'!C27,VLOOKUP(A66,'Relevé Kizeo'!$C$4:$R$1001,3,TRUE),"") -> 0 | I66: =IF(A66='Relevé Kizeo'!C27,VLOOKUP(A66,'Relevé Kizeo'!$C$4:$R$1001,4,TRUE),"") -> 0 | J66: =IF(A66='Relevé Kizeo'!C27,VLOOKUP(A66,'Relevé Kizeo'!$C$4:$R$1001,5,TRUE),"") -> 0 | K66: =J66 -> 0 | L66: 0 | M66: {=_xlfn.IFS(I66="",0,I66=0,0,I66="CP",0,I66="CEF",0,I66="CSS",0,I66="CEM",0,I66="MAL",0,I66="AT",0,I66="ABST J",0,I66="ABST I",0,I66="FERIE",0,I66="REPOS",0,I66<"1:00",$F$421)} -> 0 | N66: {=_xlfn.IFS(D66=0,0,AND(D66>=1,D66<=9),OFFSET($AL$5,MOD(WEEKNUM(A66,21)-1,26),IF(WEEKNUM(A66,21)>26,8,0))/5,D66=10,0,D66=11,(H66-E66+G66)*24+(K66-I66+M66)*24)} -> 0 | P66: =IF(ROW()>12,IF(WEEKDAY($A66)=$Q$2,INDIRECT(ADDRESS(ROW()-7,COLUMN())),0),IF(WEEKDAY($A66)=Q$2,G$3,0)) -> 0 | Q66: {=IF(LEFT(R$2,1)="-",-1,1)*INDIRECT(CONCATENATE(RIGHT(R$2,LEN(R$2)-1),ROW()))+IF(LEFT(R$3,1)="-",-1,1)*INDIRECT(CONCATENATE(RIGHT(R$3,LEN(R$3)-1),ROW()))} -> 0 | R66: =IF(ISNUMBER(R65),R65,0)+INDIRECT(CONCATENATE(R$4,ROW())) -> -63.75 | S66: =MAX(F66,L66) -> 0 | T66: =IF(D66=0,"",IF(S66=0,"",IF(S66<=5,"3MG",IF(S66<=20,"4,5MG",IF(S66<=30,"5,5MG",IF(S66<=50,"6,5MG",IF(S66<=70,"7MG",IF(S66<=100,"GD<100",IF(S66>100,"GD>100"))))))))) | V66: =IF(A66='Relevé Kizeo'!C27,VLOOKUP(A66,'Relevé Kizeo'!$C$4:$R$1001,6,TRUE),"") -> 0 | W66: =IF(D66="","",IF(D66=1,1,IF(D66=2,0,IF(D66=3,0,IF(D66=4,0,IF(D66=5,0,IF(D66=6,1,IF(D66=7,0,IF(D66=8,0,IF(D66=9,0,IF(D66=10,0,IF(D66=11,1)))))))))))) -> FALSE | Y66: =MID(Z66,1,8) -> 0 | Z66: =IF(A66='Relevé Kizeo'!C27,VLOOKUP(A66,'Relevé Kizeo'!$C$4:$R$1001,8,TRUE),"") -> 0 | AA66: =MID(AB66,1,6) -> 0 | AB66: =IF(A66='Relevé Kizeo'!C27,VLOOKUP(A66,'Relevé Kizeo'!$C$4:$R$1001,9,TRUE),"") -> 0 | AC66: =MID(AD66,1,6) -> 0 | AD66: =IF(A66='Relevé Kizeo'!C27,VLOOKUP(A66,'Relevé Kizeo'!$C$4:$R$1001,10,TRUE),"") -> 0 | AE66: =IF(N66=0,"",IF(N66>$F$418,N66-$F$418,$F$418-N66)) | AF66: =IF(ISERROR(IF(N66>$F$418,(HOUR(AE66)*60+MINUTE(AE66))/60,-(HOUR(AE66)*60+MINUTE(AE66))/60)),"",IF(N66>$F$418,(HOUR(AE66)*60+MINUTE(AE66))/60,-(HOUR(AE66)*60+MINUTE(AE66))/60))
A67: 44951 | C67: =IF(A67='Relevé Kizeo'!C28,VLOOKUP(A67,'Relevé Kizeo'!$C$4:$R$1001,2,TRUE),"") -> 0 | D67: =_xlfn.IFS(C67=0,0,C67="CP",1,C67="CEF",2,C67="CSS",3,C67="CEM",4,C67="MAL",5,C67="AT",6,C67="ABST J",7,C67="ABST I",8,C67="FERIE",9,C67="REPOS",10,C67<"1:00",11) -> 0 | E67: =IF(C67="CP",0,IF(C67="CEF",0,IF(C67="CSS",0,IF(C67="CEM",0,IF(C67="MAL",0,IF(C67="AT",0,IF(C67="ABST J",0,IF(C67="ABST I",0,IF(C67="FERIE",0,IF(C67="REPOS",0,C67)))))))))) -> 0 | F67: 0 | G67: {=_xlfn.IFS(C67="",0,C67=0,0,C67="CP",0,C67="CEF",0,C67="CSS",0,C67="CEM",0,C67="CEM",0,C67="MAL",0,C67="AT",0,C67="ABST J",0,C67="ABST I",0,C67="FERIE",0,C67="REPOS",0,C67<"1:00",$F$420)} -> 0 | H67: =IF(A67='Relevé Kizeo'!C28,VLOOKUP(A67,'Relevé Kizeo'!$C$4:$R$1001,3,TRUE),"") -> 0 | I67: =IF(A67='Relevé Kizeo'!C28,VLOOKUP(A67,'Relevé Kizeo'!$C$4:$R$1001,4,TRUE),"") -> 0 | J67: =IF(A67='Relevé Kizeo'!C28,VLOOKUP(A67,'Relevé Kizeo'!$C$4:$R$1001,5,TRUE),"") -> 0 | K67: =J67 -> 0 | L67: 0 | M67: {=_xlfn.IFS(I67="",0,I67=0,0,I67="CP",0,I67="CEF",0,I67="CSS",0,I67="CEM",0,I67="MAL",0,I67="AT",0,I67="ABST J",0,I67="ABST I",0,I67="FERIE",0,I67="REPOS",0,I67<"1:00",$F$421)} -> 0 | N67: {=_xlfn.IFS(D67=0,0,AND(D67>=1,D67<=9),OFFSET($AL$5,MOD(WEEKNUM(A67,21)-1,26),IF(WEEKNUM(A67,21)>26,8,0))/5,D67=10,0,D67=11,(H67-E67+G67)*24+(K67-I67+M67)*24)} -> 0 | P67: =IF(ROW()>12,IF(WEEKDAY($A67)=$Q$2,INDIRECT(ADDRESS(ROW()-7,COLUMN())),0),IF(WEEKDAY($A67)=Q$2,G$3,0)) -> 0 | Q67: {=IF(LEFT(R$2,1)="-",-1,1)*INDIRECT(CONCATENATE(RIGHT(R$2,LEN(R$2)-1),ROW()))+IF(LEFT(R$3,1)="-",-1,1)*INDIRECT(CONCATENATE(RIGHT(R$3,LEN(R$3)-1),ROW()))} -> 0 | R67: =IF(ISNUMBER(R66),R66,0)+INDIRECT(CONCATENATE(R$4,ROW())) -> -63.75 | S67: =MAX(F67,L67) -> 0 | T67: =IF(D67=0,"",IF(S67=0,"",IF(S67<=5,"3MG",IF(S67<=20,"4,5MG",IF(S67<=30,"5,5MG",IF(S67<=50,"6,5MG",IF(S67<=70,"7MG",IF(S67<=100,"GD<100",IF(S67>100,"GD>100"))))))))) | V67: =IF(A67='Relevé Kizeo'!C28,VLOOKUP(A67,'Relevé Kizeo'!$C$4:$R$1001,6,TRUE),"") -> 0 | W67: =IF(D67="","",IF(D67=1,1,IF(D67=2,0,IF(D67=3,0,IF(D67=4,0,IF(D67=5,0,IF(D67=6,1,IF(D67=7,0,IF(D67=8,0,IF(D67=9,0,IF(D67=10,0,IF(D67=11,1)))))))))))) -> FALSE | Y67: =MID(Z67,1,8) -> 0 | Z67: =IF(A67='Relevé Kizeo'!C28,VLOOKUP(A67,'Relevé Kizeo'!$C$4:$R$1001,8,TRUE),"") -> 0 | AA67: =MID(AB67,1,6) -> 0 | AB67: =IF(A67='Relevé Kizeo'!C28,VLOOKUP(A67,'Relevé Kizeo'!$C$4:$R$1001,9,TRUE),"") -> 0 | AC67: =MID(AD67,1,6) -> 0 | AD67: =IF(A67='Relevé Kizeo'!C28,VLOOKUP(A67,'Relevé Kizeo'!$C$4:$R$1001,10,TRUE),"") -> 0 | AE67: =IF(N67=0,"",IF(N67>$F$418,N67-$F$418,$F$418-N67)) | AF67: =IF(ISERROR(IF(N67>$F$418,(HOUR(AE67)*60+MINUTE(AE67))/60,-(HOUR(AE67)*60+MINUTE(AE67))/60)),"",IF(N67>$F$418,(HOUR(AE67)*60+MINUTE(AE67))/60,-(HOUR(AE67)*60+MINUTE(AE67))/60))
A68: 44952 | C68: =IF(A68='Relevé Kizeo'!C29,VLOOKUP(A68,'Relevé Kizeo'!$C$4:$R$1001,2,TRUE),"") -> 0 | D68: =_xlfn.IFS(C68=0,0,C68="CP",1,C68="CEF",2,C68="CSS",3,C68="CEM",4,C68="MAL",5,C68="AT",6,C68="ABST J",7,C68="ABST I",8,C68="FERIE",9,C68="REPOS",10,C68<"1:00",11) -> 0 | E68: =IF(C68="CP",0,IF(C68="CEF",0,IF(C68="CSS",0,IF(C68="CEM",0,IF(C68="MAL",0,IF(C68="AT",0,IF(C68="ABST J",0,IF(C68="ABST I",0,IF(C68="FERIE",0,IF(C68="REPOS",0,C68)))))))))) -> 0 | F68: 0 | G68: {=_xlfn.IFS(C68="",0,C68=0,0,C68="CP",0,C68="CEF",0,C68="CSS",0,C68="CEM",0,C68="CEM",0,C68="MAL",0,C68="AT",0,C68="ABST J",0,C68="ABST I",0,C68="FERIE",0,C68="REPOS",0,C68<"1:00",$F$420)} -> 0 | H68: =IF(A68='Relevé Kizeo'!C29,VLOOKUP(A68,'Relevé Kizeo'!$C$4:$R$1001,3,TRUE),"") -> 0 | I68: =IF(A68='Relevé Kizeo'!C29,VLOOKUP(A68,'Relevé Kizeo'!$C$4:$R$1001,4,TRUE),"") -> 0 | J68: =IF(A68='Relevé Kizeo'!C29,VLOOKUP(A68,'Relevé Kizeo'!$C$4:$R$1001,5,TRUE),"") -> 0 | K68: =J68 -> 0 | L68: 0 | M68: {=_xlfn.IFS(I68="",0,I68=0,0,I68="CP",0,I68="CEF",0,I68="CSS",0,I68="CEM",0,I68="MAL",0,I68="AT",0,I68="ABST J",0,I68="ABST I",0,I68="FERIE",0,I68="REPOS",0,I68<"1:00",$F$421)} -> 0 | N68: {=_xlfn.IFS(D68=0,0,AND(D68>=1,D68<=9),OFFSET($AL$5,MOD(WEEKNUM(A68,21)-1,26),IF(WEEKNUM(A68,21)>26,8,0))/5,D68=10,0,D68=11,(H68-E68+G68)*24+(K68-I68+M68)*24)} -> 0 | P68: =IF(ROW()>12,IF(WEEKDAY($A68)=$Q$2,INDIRECT(ADDRESS(ROW()-7,COLUMN())),0),IF(WEEKDAY($A68)=Q$2,G$3,0)) -> 0 | Q68: {=IF(LEFT(R$2,1)="-",-1,1)*INDIRECT(CONCATENATE(RIGHT(R$2,LEN(R$2)-1),ROW()))+IF(LEFT(R$3,1)="-",-1,1)*INDIRECT(CONCATENATE(RIGHT(R$3,LEN(R$3)-1),ROW()))} -> 0 | R68: =IF(ISNUMBER(R67),R67,0)+INDIRECT(CONCATENATE(R$4,ROW())) -> -63.75 | S68: =MAX(F68,L68) -> 0 | T68: =IF(D68=0,"",IF(S68=0,"",IF(S68<=5,"3MG",IF(S68<=20,"4,5MG",IF(S68<=30,"5,5MG",IF(S68<=50,"6,5MG",IF(S68<=70,"7MG",IF(S68<=100,"GD<100",IF(S68>100,"GD>100"))))))))) | V68: =IF(A68='Relevé Kizeo'!C29,VLOOKUP(A68,'Relevé Kizeo'!$C$4:$R$1001,6,TRUE),"") -> 0 | W68: =IF(D68="","",IF(D68=1,1,IF(D68=2,0,IF(D68=3,0,IF(D68=4,0,IF(D68=5,0,IF(D68=6,1,IF(D68=7,0,IF(D68=8,0,IF(D68=9,0,IF(D68=10,0,IF(D68=11,1)))))))))))) -> FALSE | Y68: =MID(Z68,1,8) -> 0 | Z68: =IF(A68='Relevé Kizeo'!C29,VLOOKUP(A68,'Relevé Kizeo'!$C$4:$R$1001,8,TRUE),"") -> 0 | AA68: =MID(AB68,1,6) -> 0 | AB68: =IF(A68='Relevé Kizeo'!C29,VLOOKUP(A68,'Relevé Kizeo'!$C$4:$R$1001,9,TRUE),"") -> 0 | AC68: =MID(AD68,1,6) -> 0 | AD68: =IF(A68='Relevé Kizeo'!C29,VLOOKUP(A68,'Relevé Kizeo'!$C$4:$R$1001,10,TRUE),"") -> 0 | AE68: =IF(N68=0,"",IF(N68>$F$418,N68-$F$418,$F$418-N68)) | AF68: =IF(ISERROR(IF(N68>$F$418,(HOUR(AE68)*60+MINUTE(AE68))/60,-(HOUR(AE68)*60+MINUTE(AE68))/60)),"",IF(N68>$F$418,(HOUR(AE68)*60+MINUTE(AE68))/60,-(HOUR(AE68)*60+MINUTE(AE68))/60))
A69: 44953 | C69: =IF(A69='Relevé Kizeo'!C30,VLOOKUP(A69,'Relevé Kizeo'!$C$4:$R$1001,2,TRUE),"") -> 0 | D69: =_xlfn.IFS(C69=0,0,C69="CP",1,C69="CEF",2,C69="CSS",3,C69="CEM",4,C69="MAL",5,C69="AT",6,C69="ABST J",7,C69="ABST I",8,C69="FERIE",9,C69="REPOS",10,C69<"1:00",11) -> 0 | E69: =IF(C69="CP",0,IF(C69="CEF",0,IF(C69="CSS",0,IF(C69="CEM",0,IF(C69="MAL",0,IF(C69="AT",0,IF(C69="ABST J",0,IF(C69="ABST I",0,IF(C69="FERIE",0,IF(C69="REPOS",0,C69)))))))))) -> 0 | F69: 0 | G69: {=_xlfn.IFS(C69="",0,C69=0,0,C69="CP",0,C69="CEF",0,C69="CSS",0,C69="CEM",0,C69="CEM",0,C69="MAL",0,C69="AT",0,C69="ABST J",0,C69="ABST I",0,C69="FERIE",0,C69="REPOS",0,C69<"1:00",$F$420)} -> 0 | H69: =IF(A69='Relevé Kizeo'!C30,VLOOKUP(A69,'Relevé Kizeo'!$C$4:$R$1001,3,TRUE),"") -> 0 | I69: =IF(A69='Relevé Kizeo'!C30,VLOOKUP(A69,'Relevé Kizeo'!$C$4:$R$1001,4,TRUE),"") -> 0 | J69: =IF(A69='Relevé Kizeo'!C30,VLOOKUP(A69,'Relevé Kizeo'!$C$4:$R$1001,5,TRUE),"") -> 0 | K69: =J69 -> 0 | L69: 0 | M69: {=_xlfn.IFS(I69="",0,I69=0,0,I69="CP",0,I69="CEF",0,I69="CSS",0,I69="CEM",0,I69="MAL",0,I69="AT",0,I69="ABST J",0,I69="ABST I",0,I69="FERIE",0,I69="REPOS",0,I69<"1:00",$F$421)} -> 0 | N69: {=_xlfn.IFS(D69=0,0,AND(D69>=1,D69<=9),OFFSET($AL$5,MOD(WEEKNUM(A69,21)-1,26),IF(WEEKNUM(A69,21)>26,8,0))/5,D69=10,0,D69=11,(H69-E69+G69)*24+(K69-I69+M69)*24)} -> 0 | P69: =IF(ROW()>12,IF(WEEKDAY($A69)=$Q$2,INDIRECT(ADDRESS(ROW()-7,COLUMN())),0),IF(WEEKDAY($A69)=Q$2,G$3,0)) -> 0 | Q69: {=IF(LEFT(R$2,1)="-",-1,1)*INDIRECT(CONCATENATE(RIGHT(R$2,LEN(R$2)-1),ROW()))+IF(LEFT(R$3,1)="-",-1,1)*INDIRECT(CONCATENATE(RIGHT(R$3,LEN(R$3)-1),ROW()))} -> 0 | R69: =IF(ISNUMBER(R68),R68,0)+INDIRECT(CONCATENATE(R$4,ROW())) -> -63.75 | S69: =MAX(F69,L69) -> 0 | T69: =IF(D69=0,"",IF(S69=0,"",IF(S69<=5,"3MG",IF(S69<=20,"4,5MG",IF(S69<=30,"5,5MG",IF(S69<=50,"6,5MG",IF(S69<=70,"7MG",IF(S69<=100,"GD<100",IF(S69>100,"GD>100"))))))))) | V69: =IF(A69='Relevé Kizeo'!C30,VLOOKUP(A69,'Relevé Kizeo'!$C$4:$R$1001,6,TRUE),"") -> 0 | W69: =IF(D69="","",IF(D69=1,1,IF(D69=2,0,IF(D69=3,0,IF(D69=4,0,IF(D69=5,0,IF(D69=6,1,IF(D69=7,0,IF(D69=8,0,IF(D69=9,0,IF(D69=10,0,IF(D69=11,1)))))))))))) -> FALSE | Y69: =MID(Z69,1,8) -> 0 | Z69: =IF(A69='Relevé Kizeo'!C30,VLOOKUP(A69,'Relevé Kizeo'!$C$4:$R$1001,8,TRUE),"") -> 0 | AA69: =MID(AB69,1,6) -> 0 | AB69: =IF(A69='Relevé Kizeo'!C30,VLOOKUP(A69,'Relevé Kizeo'!$C$4:$R$1001,9,TRUE),"") -> 0 | AC69: =MID(AD69,1,6) -> 0 | AD69: =IF(A69='Relevé Kizeo'!C30,VLOOKUP(A69,'Relevé Kizeo'!$C$4:$R$1001,10,TRUE),"") -> 0 | AE69: =IF(N69=0,"",IF(N69>$F$418,N69-$F$418,$F$418-N69)) | AF69: =IF(ISERROR(IF(N69>$F$418,(HOUR(AE69)*60+MINUTE(AE69))/60,-(HOUR(AE69)*60+MINUTE(AE69))/60)),"",IF(N69>$F$418,(HOUR(AE69)*60+MINUTE(AE69))/60,-(HOUR(AE69)*60+MINUTE(AE69))/60))
A70: 44954 | C70: =IF(A70='Relevé Kizeo'!C31,VLOOKUP(A70,'Relevé Kizeo'!$C$4:$R$1001,2,TRUE),"") -> REPOS | D70: =_xlfn.IFS(C70=0,0,C70="CP",1,C70="CEF",2,C70="CSS",3,C70="CEM",4,C70="MAL",5,C70="AT",6,C70="ABST J",7,C70="ABST I",8,C70="FERIE",9,C70="REPOS",10,C70<"1:00",11) -> 10 | E70: =IF(C70="CP",0,IF(C70="CEF",0,IF(C70="CSS",0,IF(C70="CEM",0,IF(C70="MAL",0,IF(C70="AT",0,IF(C70="ABST J",0,IF(C70="ABST I",0,IF(C70="FERIE",0,IF(C70="REPOS",0,C70)))))))))) -> 0 | F70: 0 | G70: {=_xlfn.IFS(C70="",0,C70=0,0,C70="CP",0,C70="CEF",0,C70="CSS",0,C70="CEM",0,C70="CEM",0,C70="MAL",0,C70="AT",0,C70="ABST J",0,C70="ABST I",0,C70="FERIE",0,C70="REPOS",0,C70<"1:00",$F$420)} -> 0 | H70: =IF(A70='Relevé Kizeo'!C31,VLOOKUP(A70,'Relevé Kizeo'!$C$4:$R$1001,3,TRUE),"") -> 0 | I70: =IF(A70='Relevé Kizeo'!C31,VLOOKUP(A70,'Relevé Kizeo'!$C$4:$R$1001,4,TRUE),"") -> 0 | J70: =IF(A70='Relevé Kizeo'!C31,VLOOKUP(A70,'Relevé Kizeo'!$C$4:$R$1001,5,TRUE),"") -> 0 | K70: =J70 -> 0 | L70: 0 | M70: {=_xlfn.IFS(I70="",0,I70=0,0,I70="CP",0,I70="CEF",0,I70="CSS",0,I70="CEM",0,I70="MAL",0,I70="AT",0,I70="ABST J",0,I70="ABST I",0,I70="FERIE",0,I70="REPOS",0,I70<"1:00",$F$421)} -> 0 | N70: {=_xlfn.IFS(D70=0,0,AND(D70>=1,D70<=9),OFFSET($AL$5,MOD(WEEKNUM(A70,21)-1,26),IF(WEEKNUM(A70,21)>26,8,0))/5,D70=10,0,D70=11,(H70-E70+G70)*24+(K70-I70+M70)*24)} -> 0 | P70: =IF(ROW()>12,IF(WEEKDAY($A70)=$Q$2,INDIRECT(ADDRESS(ROW()-7,COLUMN())),0),IF(WEEKDAY($A70)=Q$2,G$3,0)) -> 0 | Q70: {=IF(LEFT(R$2,1)="-",-1,1)*INDIRECT(CONCATENATE(RIGHT(R$2,LEN(R$2)-1),ROW()))+IF(LEFT(R$3,1)="-",-1,1)*INDIRECT(CONCATENATE(RIGHT(R$3,LEN(R$3)-1),ROW()))} -> 0 | R70: =IF(ISNUMBER(R69),R69,0)+INDIRECT(CONCATENATE(R$4,ROW())) -> -63.75 | S70: =MAX(F70,L70) -> 0 | T70: =IF(D70=0,"",IF(S70=0,"",IF(S70<=5,"3MG",IF(S70<=20,"4,5MG",IF(S70<=30,"5,5MG",IF(S70<=50,"6,5MG",IF(S70<=70,"7MG",IF(S70<=100,"GD<100",IF(S70>100,"GD>100"))))))))) | V70: =IF(A70='Relevé Kizeo'!C31,VLOOKUP(A70,'Relevé Kizeo'!$C$4:$R$1001,6,TRUE),"") -> 0 | W70: =IF(D70="","",IF(D70=1,1,IF(D70=2,0,IF(D70=3,0,IF(D70=4,0,IF(D70=5,0,IF(D70=6,1,IF(D70=7,0,IF(D70=8,0,IF(D70=9,0,IF(D70=10,0,IF(D70=11,1)))))))))))) -> 0 | Y70: =MID(Z70,1,8) -> 0 | Z70: =IF(A70='Relevé Kizeo'!C31,VLOOKUP(A70,'Relevé Kizeo'!$C$4:$R$1001,8,TRUE),"") -> 0 | AA70: =MID(AB70,1,6) -> 0 | AB70: =IF(A70='Relevé Kizeo'!C31,VLOOKUP(A70,'Relevé Kizeo'!$C$4:$R$1001,9,TRUE),"") -> 0 | AC70: =MID(AD70,1,6) -> 0 | AD70: =IF(A70='Relevé Kizeo'!C31,VLOOKUP(A70,'Relevé Kizeo'!$C$4:$R$1001,10,TRUE),"") -> 0 | AE70: =IF(N70=0,"",IF(N70>$F$418,N70-$F$418,$F$418-N70)) | AF70: =IF(ISERROR(IF(N70>$F$418,(HOUR(AE70)*60+MINUTE(AE70))/60,-(HOUR(AE70)*60+MINUTE(AE70))/60)),"",IF(N70>$F$418,(HOUR(AE70)*60+MINUTE(AE70))/60,-(HOUR(AE70)*60+MINUTE(AE70))/60))
A71: 44955 | C71: =IF(A71='Relevé Kizeo'!C32,VLOOKUP(A71,'Relevé Kizeo'!$C$4:$R$1001,2,TRUE),"") -> REPOS | D71: =_xlfn.IFS(C71=0,0,C71="CP",1,C71="CEF",2,C71="CSS",3,C71="CEM",4,C71="MAL",5,C71="AT",6,C71="ABST J",7,C71="ABST I",8,C71="FERIE",9,C71="REPOS",10,C71<"1:00",11) -> 10 | E71: =IF(C71="CP",0,IF(C71="CEF",0,IF(C71="CSS",0,IF(C71="CEM",0,IF(C71="MAL",0,IF(C71="AT",0,IF(C71="ABST J",0,IF(C71="ABST I",0,IF(C71="FERIE",0,IF(C71="REPOS",0,C71)))))))))) -> 0 | F71: 0 | G71: {=_xlfn.IFS(C71="",0,C71=0,0,C71="CP",0,C71="CEF",0,C71="CSS",0,C71="CEM",0,C71="CEM",0,C71="MAL",0,C71="AT",0,C71="ABST J",0,C71="ABST I",0,C71="FERIE",0,C71="REPOS",0,C71<"1:00",$F$420)} -> 0 | H71: =IF(A71='Relevé Kizeo'!C32,VLOOKUP(A71,'Relevé Kizeo'!$C$4:$R$1001,3,TRUE),"") -> 0 | I71: =IF(A71='Relevé Kizeo'!C32,VLOOKUP(A71,'Relevé Kizeo'!$C$4:$R$1001,4,TRUE),"") -> 0 | J71: =IF(A71='Relevé Kizeo'!C32,VLOOKUP(A71,'Relevé Kizeo'!$C$4:$R$1001,5,TRUE),"") -> 0 | K71: =J71 -> 0 | L71: 0 | M71: {=_xlfn.IFS(I71="",0,I71=0,0,I71="CP",0,I71="CEF",0,I71="CSS",0,I71="CEM",0,I71="MAL",0,I71="AT",0,I71="ABST J",0,I71="ABST I",0,I71="FERIE",0,I71="REPOS",0,I71<"1:00",$F$421)} -> 0 | N71: {=_xlfn.IFS(D71=0,0,AND(D71>=1,D71<=9),OFFSET($AL$5,MOD(WEEKNUM(A71,21)-1,26),IF(WEEKNUM(A71,21)>26,8,0))/5,D71=10,0,D71=11,(H71-E71+G71)*24+(K71-I71+M71)*24)} -> 0 | O71: =SUM(N65:N69) -> 0 | P71: 32 | Q71: {=IF(LEFT(R$2,1)="-",-1,1)*INDIRECT(CONCATENATE(RIGHT(R$2,LEN(R$2)-1),ROW()))+IF(LEFT(R$3,1)="-",-1,1)*INDIRECT(CONCATENATE(RIGHT(R$3,LEN(R$3)-1),ROW()))} -> -32 | R71: =IF(ISNUMBER(R70),R70,0)+INDIRECT(CONCATENATE(R$4,ROW())) -> -95.75 | S71: =MAX(F71,L71) -> 0 | T71: =IF(D71=0,"",IF(S71=0,"",IF(S71<=5,"3MG",IF(S71<=20,"4,5MG",IF(S71<=30,"5,5MG",IF(S71<=50,"6,5MG",IF(S71<=70,"7MG",IF(S71<=100,"GD<100",IF(S71>100,"GD>100"))))))))) | V71: =IF(A71='Relevé Kizeo'!C32,VLOOKUP(A71,'Relevé Kizeo'!$C$4:$R$1001,6,TRUE),"") -> 0 | W71: =IF(D71="","",IF(D71=1,1,IF(D71=2,0,IF(D71=3,0,IF(D71=4,0,IF(D71=5,0,IF(D71=6,1,IF(D71=7,0,IF(D71=8,0,IF(D71=9,0,IF(D71=10,0,IF(D71=11,1)))))))))))) -> 0 | Y71: =MID(Z71,1,8) -> 0 | Z71: =IF(A71='Relevé Kizeo'!C32,VLOOKUP(A71,'Relevé Kizeo'!$C$4:$R$1001,8,TRUE),"") -> 0 | AA71: =MID(AB71,1,6) -> 0 | AB71: =IF(A71='Relevé Kizeo'!C32,VLOOKUP(A71,'Relevé Kizeo'!$C$4:$R$1001,9,TRUE),"") -> 0 | AC71: =MID(AD71,1,6) -> 0 | AD71: =IF(A71='Relevé Kizeo'!C32,VLOOKUP(A71,'Relevé Kizeo'!$C$4:$R$1001,10,TRUE),"") -> 0 | AE71: =IF(N71=0,"",IF(N71>$F$418,N71-$F$418,$F$418-N71)) | AF71: =IF(ISERROR(IF(N71>$F$418,(HOUR(AE71)*60+MINUTE(AE71))/60,-(HOUR(AE71)*60+MINUTE(AE71))/60)),"",IF(N71>$F$418,(HOUR(AE71)*60+MINUTE(AE71))/60,-(HOUR(AE71)*60+MINUTE(AE71))/60))
A72: 44956 | B72: S05 | C72: =IF(A72='Relevé Kizeo'!C33,VLOOKUP(A72,'Relevé Kizeo'!$C$4:$R$1001,2,TRUE),"") -> 0 | D72: =_xlfn.IFS(C72=0,0,C72="CP",1,C72="CEF",2,C72="CSS",3,C72="CEM",4,C72="MAL",5,C72="AT",6,C72="ABST J",7,C72="ABST I",8,C72="FERIE",9,C72="REPOS",10,C72<"1:00",11) -> 0 | E72: =IF(C72="CP",0,IF(C72="CEF",0,IF(C72="CSS",0,IF(C72="CEM",0,IF(C72="MAL",0,IF(C72="AT",0,IF(C72="ABST J",0,IF(C72="ABST I",0,IF(C72="FERIE",0,IF(C72="REPOS",0,C72)))))))))) -> 0 | F72: 0 | G72: {=_xlfn.IFS(C72="",0,C72=0,0,C72="CP",0,C72="CEF",0,C72="CSS",0,C72="CEM",0,C72="CEM",0,C72="MAL",0,C72="AT",0,C72="ABST J",0,C72="ABST I",0,C72="FERIE",0,C72="REPOS",0,C72<"1:00",$F$420)} -> 0 | H72: =IF(A72='Relevé Kizeo'!C33,VLOOKUP(A72,'Relevé Kizeo'!$C$4:$R$1001,3,TRUE),"") -> 0 | I72: =IF(A72='Relevé Kizeo'!C33,VLOOKUP(A72,'Relevé Kizeo'!$C$4:$R$1001,4,TRUE),"") -> 0 | J72: =IF(A72='Relevé Kizeo'!C33,VLOOKUP(A72,'Relevé Kizeo'!$C$4:$R$1001,5,TRUE),"") -> 0 | K72: =J72 -> 0 | L72: 0 | M72: {=_xlfn.IFS(I72="",0,I72=0,0,I72="CP",0,I72="CEF",0,I72="CSS",0,I72="CEM",0,I72="MAL",0,I72="AT",0,I72="ABST J",0,I72="ABST I",0,I72="FERIE",0,I72="REPOS",0,I72<"1:00",$F$421)} -> 0 | N72: {=_xlfn.IFS(D72=0,0,AND(D72>=1,D72<=9),OFFSET($AL$5,MOD(WEEKNUM(A72,21)-1,26),IF(WEEKNUM(A72,21)>26,8,0))/5,D72=10,0,D72=11,(H72-E72+G72)*24+(K72-I72+M72)*24)} -> 0 | P72: =IF(ROW()>12,IF(WEEKDAY($A72)=$Q$2,INDIRECT(ADDRESS(ROW()-7,COLUMN())),0),IF(WEEKDAY($A72)=Q$2,G$3,0)) -> 0 | Q72: {=IF(LEFT(R$2,1)="-",-1,1)*INDIRECT(CONCATENATE(RIGHT(R$2,LEN(R$2)-1),ROW()))+IF(LEFT(R$3,1)="-",-1,1)*INDIRECT(CONCATENATE(RIGHT(R$3,LEN(R$3)-1),ROW()))} -> 0 | R72: =IF(ISNUMBER(R71),R71,0)+INDIRECT(CONCATENATE(R$4,ROW())) -> -95.75 | S72: =MAX(F72,L72) -> 0 | T72: =IF(D72=0,"",IF(S72=0,"",IF(S72<=5,"3MG",IF(S72<=20,"4,5MG",IF(S72<=30,"5,5MG",IF(S72<=50,"6,5MG",IF(S72<=70,"7MG",IF(S72<=100,"GD<100",IF(S72>100,"GD>100"))))))))) | V72: =IF(A72='Relevé Kizeo'!C33,VLOOKUP(A72,'Relevé Kizeo'!$C$4:$R$1001,6,TRUE),"") -> 0 | W72: =IF(D72="","",IF(D72=1,1,IF(D72=2,0,IF(D72=3,0,IF(D72=4,0,IF(D72=5,0,IF(D72=6,1,IF(D72=7,0,IF(D72=8,0,IF(D72=9,0,IF(D72=10,0,IF(D72=11,1)))))))))))) -> FALSE | Y72: =MID(Z72,1,8) -> 0 | Z72: =IF(A72='Relevé Kizeo'!C33,VLOOKUP(A72,'Relevé Kizeo'!$C$4:$R$1001,8,TRUE),"") -> 0 | AA72: =MID(AB72,1,6) -> 0 | AB72: =IF(A72='Relevé Kizeo'!C33,VLOOKUP(A72,'Relevé Kizeo'!$C$4:$R$1001,9,TRUE),"") -> 0 | AC72: =MID(AD72,1,6) -> 0 | AD72: =IF(A72='Relevé Kizeo'!C33,VLOOKUP(A72,'Relevé Kizeo'!$C$4:$R$1001,10,TRUE),"") -> 0 | AE72: =IF(N72=0,"",IF(N72>$F$418,N72-$F$418,$F$418-N72)) | AF72: =IF(ISERROR(IF(N72>$F$418,(HOUR(AE72)*60+MINUTE(AE72))/60,-(HOUR(AE72)*60+MINUTE(AE72))/60)),"",IF(N72>$F$418,(HOUR(AE72)*60+MINUTE(AE72))/60,-(HOUR(AE72)*60+MINUTE(AE72))/60))
A73: 44957 | C73: =IF(A73='Relevé Kizeo'!C34,VLOOKUP(A73,'Relevé Kizeo'!$C$4:$R$1001,2,TRUE),"") -> 0 | D73: =_xlfn.IFS(C73=0,0,C73="CP",1,C73="CEF",2,C73="CSS",3,C73="CEM",4,C73="MAL",5,C73="AT",6,C73="ABST J",7,C73="ABST I",8,C73="FERIE",9,C73="REPOS",10,C73<"1:00",11) -> 0 | E73: =IF(C73="CP",0,IF(C73="CEF",0,IF(C73="CSS",0,IF(C73="CEM",0,IF(C73="MAL",0,IF(C73="AT",0,IF(C73="ABST J",0,IF(C73="ABST I",0,IF(C73="FERIE",0,IF(C73="REPOS",0,C73)))))))))) -> 0 | F73: 0 | G73: {=_xlfn.IFS(C73="",0,C73=0,0,C73="CP",0,C73="CEF",0,C73="CSS",0,C73="CEM",0,C73="CEM",0,C73="MAL",0,C73="AT",0,C73="ABST J",0,C73="ABST I",0,C73="FERIE",0,C73="REPOS",0,C73<"1:00",$F$420)} -> 0 | H73: =IF(A73='Relevé Kizeo'!C34,VLOOKUP(A73,'Relevé Kizeo'!$C$4:$R$1001,3,TRUE),"") -> 0 | I73: =IF(A73='Relevé Kizeo'!C34,VLOOKUP(A73,'Relevé Kizeo'!$C$4:$R$1001,4,TRUE),"") -> 0 | J73: =IF(A73='Relevé Kizeo'!C34,VLOOKUP(A73,'Relevé Kizeo'!$C$4:$R$1001,5,TRUE),"") -> 0 | K73: =J73 -> 0 | L73: 0 | M73: {=_xlfn.IFS(I73="",0,I73=0,0,I73="CP",0,I73="CEF",0,I73="CSS",0,I73="CEM",0,I73="MAL",0,I73="AT",0,I73="ABST J",0,I73="ABST I",0,I73="FERIE",0,I73="REPOS",0,I73<"1:00",$F$421)} -> 0 | N73: {=_xlfn.IFS(D73=0,0,AND(D73>=1,D73<=9),OFFSET($AL$5,MOD(WEEKNUM(A73,21)-1,26),IF(WEEKNUM(A73,21)>26,8,0))/5,D73=10,0,D73=11,(H73-E73+G73)*24+(K73-I73+M73)*24)} -> 0 | P73: =IF(ROW()>12,IF(WEEKDAY($A73)=$Q$2,INDIRECT(ADDRESS(ROW()-7,COLUMN())),0),IF(WEEKDAY($A73)=Q$2,G$3,0)) -> 0 | Q73: {=IF(LEFT(R$2,1)="-",-1,1)*INDIRECT(CONCATENATE(RIGHT(R$2,LEN(R$2)-1),ROW()))+IF(LEFT(R$3,1)="-",-1,1)*INDIRECT(CONCATENATE(RIGHT(R$3,LEN(R$3)-1),ROW()))} -> 0 | R73: =IF(ISNUMBER(R72),R72,0)+INDIRECT(CONCATENATE(R$4,ROW())) -> -95.75 | S73: =MAX(F73,L73) -> 0 | T73: =IF(D73=0,"",IF(S73=0,"",IF(S73<=5,"3MG",IF(S73<=20,"4,5MG",IF(S73<=30,"5,5MG",IF(S73<=50,"6,5MG",IF(S73<=70,"7MG",IF(S73<=100,"GD<100",IF(S73>100,"GD>100"))))))))) | V73: =IF(A73='Relevé Kizeo'!C34,VLOOKUP(A73,'Relevé Kizeo'!$C$4:$R$1001,6,TRUE),"") -> 0 | W73: =IF(D73="","",IF(D73=1,1,IF(D73=2,0,IF(D73=3,0,IF(D73=4,0,IF(D73=5,0,IF(D73=6,1,IF(D73=7,0,IF(D73=8,0,IF(D73=9,0,IF(D73=10,0,IF(D73=11,1)))))))))))) -> FALSE | Y73: =MID(Z73,1,8) -> 0 | Z73: =IF(A73='Relevé Kizeo'!C34,VLOOKUP(A73,'Relevé Kizeo'!$C$4:$R$1001,8,TRUE),"") -> 0 | AA73: =MID(AB73,1,6) -> 0 | AB73: =IF(A73='Relevé Kizeo'!C34,VLOOKUP(A73,'Relevé Kizeo'!$C$4:$R$1001,9,TRUE),"") -> 0 | AC73: =MID(AD73,1,6) -> 0 | AD73: =IF(A73='Relevé Kizeo'!C34,VLOOKUP(A73,'Relevé Kizeo'!$C$4:$R$1001,10,TRUE),"") -> 0 | AE73: =IF(N73=0,"",IF(N73>$F$418,N73-$F$418,$F$418-N73)) | AF73: =IF(ISERROR(IF(N73>$F$418,(HOUR(AE73)*60+MINUTE(AE73))/60,-(HOUR(AE73)*60+MINUTE(AE73))/60)),"",IF(N73>$F$418,(HOUR(AE73)*60+MINUTE(AE73))/60,-(HOUR(AE73)*60+MINUTE(AE73))/60))
A74: 44958 | C74: =IF(A74='Relevé Kizeo'!C35,VLOOKUP(A74,'Relevé Kizeo'!$C$4:$R$1001,2,TRUE),"") -> 0 | D74: =_xlfn.IFS(C74=0,0,C74="CP",1,C74="CEF",2,C74="CSS",3,C74="CEM",4,C74="MAL",5,C74="AT",6,C74="ABST J",7,C74="ABST I",8,C74="FERIE",9,C74="REPOS",10,C74<"1:00",11) -> 0 | E74: =IF(C74="CP",0,IF(C74="CEF",0,IF(C74="CSS",0,IF(C74="CEM",0,IF(C74="MAL",0,IF(C74="AT",0,IF(C74="ABST J",0,IF(C74="ABST I",0,IF(C74="FERIE",0,IF(C74="REPOS",0,C74)))))))))) -> 0 | F74: 0 | G74: {=_xlfn.IFS(C74="",0,C74=0,0,C74="CP",0,C74="CEF",0,C74="CSS",0,C74="CEM",0,C74="CEM",0,C74="MAL",0,C74="AT",0,C74="ABST J",0,C74="ABST I",0,C74="FERIE",0,C74="REPOS",0,C74<"1:00",$F$420)} -> 0 | H74: =IF(A74='Relevé Kizeo'!C35,VLOOKUP(A74,'Relevé Kizeo'!$C$4:$R$1001,3,TRUE),"") -> 0 | I74: =IF(A74='Relevé Kizeo'!C35,VLOOKUP(A74,'Relevé Kizeo'!$C$4:$R$1001,4,TRUE),"") -> 0 | J74: =IF(A74='Relevé Kizeo'!C35,VLOOKUP(A74,'Relevé Kizeo'!$C$4:$R$1001,5,TRUE),"") -> 0 | K74: =J74 -> 0 | L74: 0 | M74: {=_xlfn.IFS(I74="",0,I74=0,0,I74="CP",0,I74="CEF",0,I74="CSS",0,I74="CEM",0,I74="MAL",0,I74="AT",0,I74="ABST J",0,I74="ABST I",0,I74="FERIE",0,I74="REPOS",0,I74<"1:00",$F$421)} -> 0 | N74: {=_xlfn.IFS(D74=0,0,AND(D74>=1,D74<=9),OFFSET($AL$5,MOD(WEEKNUM(A74,21)-1,26),IF(WEEKNUM(A74,21)>26,8,0))/5,D74=10,0,D74=11,(H74-E74+G74)*24+(K74-I74+M74)*24)} -> 0 | P74: =IF(ROW()>12,IF(WEEKDAY($A74)=$Q$2,INDIRECT(ADDRESS(ROW()-7,COLUMN())),0),IF(WEEKDAY($A74)=Q$2,G$3,0)) -> 0 | Q74: {=IF(LEFT(R$2,1)="-",-1,1)*INDIRECT(CONCATENATE(RIGHT(R$2,LEN(R$2)-1),ROW()))+IF(LEFT(R$3,1)="-",-1,1)*INDIRECT(CONCATENATE(RIGHT(R$3,LEN(R$3)-1),ROW()))} -> 0 | R74: =IF(ISNUMBER(R73),R73,0)+INDIRECT(CONCATENATE(R$4,ROW())) -> -95.75 | S74: =MAX(F74,L74) -> 0 | T74: =IF(D74=0,"",IF(S74=0,"",IF(S74<=5,"3MG",IF(S74<=20,"4,5MG",IF(S74<=30,"5,5MG",IF(S74<=50,"6,5MG",IF(S74<=70,"7MG",IF(S74<=100,"GD<100",IF(S74>100,"GD>100"))))))))) | V74: =IF(A74='Relevé Kizeo'!C35,VLOOKUP(A74,'Relevé Kizeo'!$C$4:$R$1001,6,TRUE),"") -> 0 | W74: =IF(D74="","",IF(D74=1,1,IF(D74=2,0,IF(D74=3,0,IF(D74=4,0,IF(D74=5,0,IF(D74=6,1,IF(D74=7,0,IF(D74=8,0,IF(D74=9,0,IF(D74=10,0,IF(D74=11,1)))))))))))) -> FALSE | Y74: =MID(Z74,1,8) -> 0 | Z74: =IF(A74='Relevé Kizeo'!C35,VLOOKUP(A74,'Relevé Kizeo'!$C$4:$R$1001,8,TRUE),"") -> 0 | AA74: =MID(AB74,1,6) -> 0 | AB74: =IF(A74='Relevé Kizeo'!C35,VLOOKUP(A74,'Relevé Kizeo'!$C$4:$R$1001,9,TRUE),"") -> 0 | AC74: =MID(AD74,1,6) -> 0 | AD74: =IF(A74='Relevé Kizeo'!C35,VLOOKUP(A74,'Relevé Kizeo'!$C$4:$R$1001,10,TRUE),"") -> 0 | AE74: =IF(N74=0,"",IF(N74>$F$418,N74-$F$418,$F$418-N74)) | AF74: =IF(ISERROR(IF(N74>$F$418,(HOUR(AE74)*60+MINUTE(AE74))/60,-(HOUR(AE74)*60+MINUTE(AE74))/60)),"",IF(N74>$F$418,(HOUR(AE74)*60+MINUTE(AE74))/60,-(HOUR(AE74)*60+MINUTE(AE74))/60))
A75: 44959 | C75: =IF(A75='Relevé Kizeo'!C36,VLOOKUP(A75,'Relevé Kizeo'!$C$4:$R$1001,2,TRUE),"") -> 0 | D75: =_xlfn.IFS(C75=0,0,C75="CP",1,C75="CEF",2,C75="CSS",3,C75="CEM",4,C75="MAL",5,C75="AT",6,C75="ABST J",7,C75="ABST I",8,C75="FERIE",9,C75="REPOS",10,C75<"1:00",11) -> 0 | E75: =IF(C75="CP",0,IF(C75="CEF",0,IF(C75="CSS",0,IF(C75="CEM",0,IF(C75="MAL",0,IF(C75="AT",0,IF(C75="ABST J",0,IF(C75="ABST I",0,IF(C75="FERIE",0,IF(C75="REPOS",0,C75)))))))))) -> 0 | F75: 0 | G75: {=_xlfn.IFS(C75="",0,C75=0,0,C75="CP",0,C75="CEF",0,C75="CSS",0,C75="CEM",0,C75="CEM",0,C75="MAL",0,C75="AT",0,C75="ABST J",0,C75="ABST I",0,C75="FERIE",0,C75="REPOS",0,C75<"1:00",$F$420)} -> 0 | H75: =IF(A75='Relevé Kizeo'!C36,VLOOKUP(A75,'Relevé Kizeo'!$C$4:$R$1001,3,TRUE),"") -> 0 | I75: =IF(A75='Relevé Kizeo'!C36,VLOOKUP(A75,'Relevé Kizeo'!$C$4:$R$1001,4,TRUE),"") -> 0 | J75: =IF(A75='Relevé Kizeo'!C36,VLOOKUP(A75,'Relevé Kizeo'!$C$4:$R$1001,5,TRUE),"") -> 0 | K75: =J75 -> 0 | L75: 0 | M75: {=_xlfn.IFS(I75="",0,I75=0,0,I75="CP",0,I75="CEF",0,I75="CSS",0,I75="CEM",0,I75="MAL",0,I75="AT",0,I75="ABST J",0,I75="ABST I",0,I75="FERIE",0,I75="REPOS",0,I75<"1:00",$F$421)} -> 0 | N75: {=_xlfn.IFS(D75=0,0,AND(D75>=1,D75<=9),OFFSET($AL$5,MOD(WEEKNUM(A75,21)-1,26),IF(WEEKNUM(A75,21)>26,8,0))/5,D75=10,0,D75=11,(H75-E75+G75)*24+(K75-I75+M75)*24)} -> 0 | P75: =IF(ROW()>12,IF(WEEKDAY($A75)=$Q$2,INDIRECT(ADDRESS(ROW()-7,COLUMN())),0),IF(WEEKDAY($A75)=Q$2,G$3,0)) -> 0 | Q75: {=IF(LEFT(R$2,1)="-",-1,1)*INDIRECT(CONCATENATE(RIGHT(R$2,LEN(R$2)-1),ROW()))+IF(LEFT(R$3,1)="-",-1,1)*INDIRECT(CONCATENATE(RIGHT(R$3,LEN(R$3)-1),ROW()))} -> 0 | R75: =IF(ISNUMBER(R74),R74,0)+INDIRECT(CONCATENATE(R$4,ROW())) -> -95.75 | S75: =MAX(F75,L75) -> 0 | T75: =IF(D75=0,"",IF(S75=0,"",IF(S75<=5,"3MG",IF(S75<=20,"4,5MG",IF(S75<=30,"5,5MG",IF(S75<=50,"6,5MG",IF(S75<=70,"7MG",IF(S75<=100,"GD<100",IF(S75>100,"GD>100"))))))))) | V75: =IF(A75='Relevé Kizeo'!C36,VLOOKUP(A75,'Relevé Kizeo'!$C$4:$R$1001,6,TRUE),"") -> 0 | W75: =IF(D76="","",IF(D76=1,1,IF(D76=2,0,IF(D76=3,0,IF(D76=4,0,IF(D76=5,0,IF(D76=6,1,IF(D76=7,0,IF(D76=8,0,IF(D76=9,0,IF(D76=10,0,IF(D76=11,1)))))))))))) -> FALSE | Y75: =MID(Z75,1,8) -> 0 | Z75: =IF(A76='Relevé Kizeo'!C37,VLOOKUP(A76,'Relevé Kizeo'!$C$4:$R$1001,8,TRUE),"") -> 0 | AA75: =MID(AB75,1,6) -> 0 | AB75: =IF(A76='Relevé Kizeo'!C37,VLOOKUP(A76,'Relevé Kizeo'!$C$4:$R$1001,9,TRUE),"") -> 0 | AC75: =MID(AD75,1,6) -> 0 | AD75: =IF(A76='Relevé Kizeo'!C37,VLOOKUP(A76,'Relevé Kizeo'!$C$4:$R$1001,10,TRUE),"") -> 0 | AE75: =IF(N76=0,"",IF(N76>$F$418,N76-$F$418,$F$418-N76)) | AF75: =IF(ISERROR(IF(N76>$F$418,(HOUR(AE75)*60+MINUTE(AE75))/60,-(HOUR(AE75)*60+MINUTE(AE75))/60)),"",IF(N76>$F$418,(HOUR(AE75)*60+MINUTE(AE75))/60,-(HOUR(AE75)*60+MINUTE(AE75))/60))
A76: 44960 | C76: =IF(A76='Relevé Kizeo'!C37,VLOOKUP(A76,'Relevé Kizeo'!$C$4:$R$1001,2,TRUE),"") -> 0 | D76: =_xlfn.IFS(C76=0,0,C76="CP",1,C76="CEF",2,C76="CSS",3,C76="CEM",4,C76="MAL",5,C76="AT",6,C76="ABST J",7,C76="ABST I",8,C76="FERIE",9,C76="REPOS",10,C76<"1:00",11) -> 0 | E76: =IF(C76="CP",0,IF(C76="CEF",0,IF(C76="CSS",0,IF(C76="CEM",0,IF(C76="MAL",0,IF(C76="AT",0,IF(C76="ABST J",0,IF(C76="ABST I",0,IF(C76="FERIE",0,IF(C76="REPOS",0,C76)))))))))) -> 0 | F76: 0 | G76: {=_xlfn.IFS(C76="",0,C76=0,0,C76="CP",0,C76="CEF",0,C76="CSS",0,C76="CEM",0,C76="CEM",0,C76="MAL",0,C76="AT",0,C76="ABST J",0,C76="ABST I",0,C76="FERIE",0,C76="REPOS",0,C76<"1:00",$F$420)} -> 0 | H76: =IF(A76='Relevé Kizeo'!C37,VLOOKUP(A76,'Relevé Kizeo'!$C$4:$R$1001,3,TRUE),"") -> 0 | I76: =IF(A76='Relevé Kizeo'!C37,VLOOKUP(A76,'Relevé Kizeo'!$C$4:$R$1001,4,TRUE),"") -> 0 | J76: =IF(A76='Relevé Kizeo'!C37,VLOOKUP(A76,'Relevé Kizeo'!$C$4:$R$1001,5,TRUE),"") -> 0 | K76: =J76 -> 0 | L76: 0 | M76: {=_xlfn.IFS(I76="",0,I76=0,0,I76="CP",0,I76="CEF",0,I76="CSS",0,I76="CEM",0,I76="MAL",0,I76="AT",0,I76="ABST J",0,I76="ABST I",0,I76="FERIE",0,I76="REPOS",0,I76<"1:00",$F$421)} -> 0 | N76: {=_xlfn.IFS(D76=0,0,AND(D76>=1,D76<=9),OFFSET($AL$5,MOD(WEEKNUM(A76,21)-1,26),IF(WEEKNUM(A76,21)>26,8,0))/5,D76=10,0,D76=11,(H76-E76+G76)*24+(K76-I76+M76)*24)} -> 0 | P76: =IF(ROW()>12,IF(WEEKDAY($A76)=$Q$2,INDIRECT(ADDRESS(ROW()-7,COLUMN())),0),IF(WEEKDAY($A76)=Q$2,G$3,0)) -> 0 | Q76: {=IF(LEFT(R$2,1)="-",-1,1)*INDIRECT(CONCATENATE(RIGHT(R$2,LEN(R$2)-1),ROW()))+IF(LEFT(R$3,1)="-",-1,1)*INDIRECT(CONCATENATE(RIGHT(R$3,LEN(R$3)-1),ROW()))} -> 0 | R76: =IF(ISNUMBER(R75),R75,0)+INDIRECT(CONCATENATE(R$4,ROW())) -> -95.75 | S76: =MAX(F76,L76) -> 0 | T76: =IF(D76=0,"",IF(S76=0,"",IF(S76<=5,"3MG",IF(S76<=20,"4,5MG",IF(S76<=30,"5,5MG",IF(S76<=50,"6,5MG",IF(S76<=70,"7MG",IF(S76<=100,"GD<100",IF(S76>100,"GD>100"))))))))) | V76: =IF(A76='Relevé Kizeo'!C37,VLOOKUP(A76,'Relevé Kizeo'!$C$4:$R$1001,6,TRUE),"") -> 0 | W76: =IF(D77="","",IF(D77=1,1,IF(D77=2,0,IF(D77=3,0,IF(D77=4,0,IF(D77=5,0,IF(D77=6,1,IF(D77=7,0,IF(D77=8,0,IF(D77=9,0,IF(D77=10,0,IF(D77=11,1)))))))))))) -> 0 | Y76: =MID(Z76,1,8) -> 0 | Z76: =IF(A77='Relevé Kizeo'!C38,VLOOKUP(A77,'Relevé Kizeo'!$C$4:$R$1001,8,TRUE),"") -> 0 | AA76: =MID(AB76,1,6) -> 0 | AB76: =IF(A77='Relevé Kizeo'!C38,VLOOKUP(A77,'Relevé Kizeo'!$C$4:$R$1001,9,TRUE),"") -> 0 | AC76: =MID(AD76,1,6) -> 0 | AD76: =IF(A77='Relevé Kizeo'!C38,VLOOKUP(A77,'Relevé Kizeo'!$C$4:$R$1001,10,TRUE),"") -> 0 | AE76: =IF(N77=0,"",IF(N77>$F$418,N77-$F$418,$F$418-N77)) | AF76: =IF(ISERROR(IF(N77>$F$418,(HOUR(AE76)*60+MINUTE(AE76))/60,-(HOUR(AE76)*60+MINUTE(AE76))/60)),"",IF(N77>$F$418,(HOUR(AE76)*60+MINUTE(AE76))/60,-(HOUR(AE76)*60+MINUTE(AE76))/60))
A77: 44961 | C77: =IF(A77='Relevé Kizeo'!C38,VLOOKUP(A77,'Relevé Kizeo'!$C$4:$R$1001,2,TRUE),"") -> REPOS | D77: =_xlfn.IFS(C77=0,0,C77="CP",1,C77="CEF",2,C77="CSS",3,C77="CEM",4,C77="MAL",5,C77="AT",6,C77="ABST J",7,C77="ABST I",8,C77="FERIE",9,C77="REPOS",10,C77<"1:00",11) -> 10 | E77: =IF(C77="CP",0,IF(C77="CEF",0,IF(C77="CSS",0,IF(C77="CEM",0,IF(C77="MAL",0,IF(C77="AT",0,IF(C77="ABST J",0,IF(C77="ABST I",0,IF(C77="FERIE",0,IF(C77="REPOS",0,C77)))))))))) -> 0 | F77: 0 | G77: {=_xlfn.IFS(C77="",0,C77=0,0,C77="CP",0,C77="CEF",0,C77="CSS",0,C77="CEM",0,C77="CEM",0,C77="MAL",0,C77="AT",0,C77="ABST J",0,C77="ABST I",0,C77="FERIE",0,C77="REPOS",0,C77<"1:00",$F$420)} -> 0 | H77: =IF(A77='Relevé Kizeo'!C38,VLOOKUP(A77,'Relevé Kizeo'!$C$4:$R$1001,3,TRUE),"") -> 0 | I77: =IF(A77='Relevé Kizeo'!C38,VLOOKUP(A77,'Relevé Kizeo'!$C$4:$R$1001,4,TRUE),"") -> 0 | J77: =IF(A77='Relevé Kizeo'!C38,VLOOKUP(A77,'Relevé Kizeo'!$C$4:$R$1001,5,TRUE),"") -> 0 | K77: =J77 -> 0 | L77: 0 | M77: {=_xlfn.IFS(I77="",0,I77=0,0,I77="CP",0,I77="CEF",0,I77="CSS",0,I77="CEM",0,I77="MAL",0,I77="AT",0,I77="ABST J",0,I77="ABST I",0,I77="FERIE",0,I77="REPOS",0,I77<"1:00",$F$421)} -> 0 | N77: {=_xlfn.IFS(D77=0,0,AND(D77>=1,D77<=9),OFFSET($AL$5,MOD(WEEKNUM(A77,21)-1,26),IF(WEEKNUM(A77,21)>26,8,0))/5,D77=10,0,D77=11,(H77-E77+G77)*24+(K77-I77+M77)*24)} -> 0 | P77: =IF(ROW()>12,IF(WEEKDAY($A77)=$Q$2,INDIRECT(ADDRESS(ROW()-7,COLUMN())),0),IF(WEEKDAY($A77)=Q$2,G$3,0)) -> 0 | Q77: {=IF(LEFT(R$2,1)="-",-1,1)*INDIRECT(CONCATENATE(RIGHT(R$2,LEN(R$2)-1),ROW()))+IF(LEFT(R$3,1)="-",-1,1)*INDIRECT(CONCATENATE(RIGHT(R$3,LEN(R$3)-1),ROW()))} -> 0 | R77: =IF(ISNUMBER(R76),R76,0)+INDIRECT(CONCATENATE(R$4,ROW())) -> -95.75 | S77: =MAX(F77,L77) -> 0 | T77: =IF(D77=0,"",IF(S77=0,"",IF(S77<=5,"3MG",IF(S77<=20,"4,5MG",IF(S77<=30,"5,5MG",IF(S77<=50,"6,5MG",IF(S77<=70,"7MG",IF(S77<=100,"GD<100",IF(S77>100,"GD>100"))))))))) | V77: =IF(A77='Relevé Kizeo'!C38,VLOOKUP(A77,'Relevé Kizeo'!$C$4:$R$1001,6,TRUE),"") -> 0 | W77: =IF(D78="","",IF(D78=1,1,IF(D78=2,0,IF(D78=3,0,IF(D78=4,0,IF(D78=5,0,IF(D78=6,1,IF(D78=7,0,IF(D78=8,0,IF(D78=9,0,IF(D78=10,0,IF(D78=11,1)))))))))))) -> 0 | Y77: =MID(Z77,1,8) -> 0 | Z77: =IF(A78='Relevé Kizeo'!C39,VLOOKUP(A78,'Relevé Kizeo'!$C$4:$R$1001,8,TRUE),"") -> 0 | AA77: =MID(AB77,1,6) -> 0 | AB77: =IF(A78='Relevé Kizeo'!C39,VLOOKUP(A78,'Relevé Kizeo'!$C$4:$R$1001,9,TRUE),"") -> 0 | AC77: =MID(AD77,1,6) -> 0 | AD77: =IF(A78='Relevé Kizeo'!C39,VLOOKUP(A78,'Relevé Kizeo'!$C$4:$R$1001,10,TRUE),"") -> 0 | AE77: =IF(N78=0,"",IF(N78>$F$418,N78-$F$418,$F$418-N78)) | AF77: =IF(ISERROR(IF(N78>$F$418,(HOUR(AE77)*60+MINUTE(AE77))/60,-(HOUR(AE77)*60+MINUTE(AE77))/60)),"",IF(N78>$F$418,(HOUR(AE77)*60+MINUTE(AE77))/60,-(HOUR(AE77)*60+MINUTE(AE77))/60))
A78: 44962 | C78: =IF(A78='Relevé Kizeo'!C39,VLOOKUP(A78,'Relevé Kizeo'!$C$4:$R$1001,2,TRUE),"") -> REPOS | D78: =_xlfn.IFS(C78=0,0,C78="CP",1,C78="CEF",2,C78="CSS",3,C78="CEM",4,C78="MAL",5,C78="AT",6,C78="ABST J",7,C78="ABST I",8,C78="FERIE",9,C78="REPOS",10,C78<"1:00",11) -> 10 | E78: =IF(C78="CP",0,IF(C78="CEF",0,IF(C78="CSS",0,IF(C78="CEM",0,IF(C78="MAL",0,IF(C78="AT",0,IF(C78="ABST J",0,IF(C78="ABST I",0,IF(C78="FERIE",0,IF(C78="REPOS",0,C78)))))))))) -> 0 | F78: 0 | G78: {=_xlfn.IFS(C78="",0,C78=0,0,C78="CP",0,C78="CEF",0,C78="CSS",0,C78="CEM",0,C78="CEM",0,C78="MAL",0,C78="AT",0,C78="ABST J",0,C78="ABST I",0,C78="FERIE",0,C78="REPOS",0,C78<"1:00",$F$420)} -> 0 | H78: =IF(A78='Relevé Kizeo'!C39,VLOOKUP(A78,'Relevé Kizeo'!$C$4:$R$1001,3,TRUE),"") -> 0 | I78: =IF(A78='Relevé Kizeo'!C39,VLOOKUP(A78,'Relevé Kizeo'!$C$4:$R$1001,4,TRUE),"") -> 0 | J78: =IF(A78='Relevé Kizeo'!C39,VLOOKUP(A78,'Relevé Kizeo'!$C$4:$R$1001,5,TRUE),"") -> 0 | K78: =J78 -> 0 | L78: 0 | M78: {=_xlfn.IFS(I78="",0,I78=0,0,I78="CP",0,I78="CEF",0,I78="CSS",0,I78="CEM",0,I78="MAL",0,I78="AT",0,I78="ABST J",0,I78="ABST I",0,I78="FERIE",0,I78="REPOS",0,I78<"1:00",$F$421)} -> 0 | N78: {=_xlfn.IFS(D78=0,0,AND(D78>=1,D78<=9),OFFSET($AL$5,MOD(WEEKNUM(A78,21)-1,26),IF(WEEKNUM(A78,21)>26,8,0))/5,D78=10,0,D78=11,(H78-E78+G78)*24+(K78-I78+M78)*24)} -> 0 | O78: =SUM(N72:N76) -> 0 | P78: 32 | Q78: {=IF(LEFT(R$2,1)="-",-1,1)*INDIRECT(CONCATENATE(RIGHT(R$2,LEN(R$2)-1),ROW()))+IF(LEFT(R$3,1)="-",-1,1)*INDIRECT(CONCATENATE(RIGHT(R$3,LEN(R$3)-1),ROW()))} -> -32 | R78: =IF(ISNUMBER(R77),R77,0)+INDIRECT(CONCATENATE(R$4,ROW())) -> -127.75 | S78: =MAX(F78,L78) -> 0 | T78: =IF(D78=0,"",IF(S78=0,"",IF(S78<=5,"3MG",IF(S78<=20,"4,5MG",IF(S78<=30,"5,5MG",IF(S78<=50,"6,5MG",IF(S78<=70,"7MG",IF(S78<=100,"GD<100",IF(S78>100,"GD>100"))))))))) | V78: =IF(A78='Relevé Kizeo'!C39,VLOOKUP(A78,'Relevé Kizeo'!$C$4:$R$1001,6,TRUE),"") -> 0 | W78: =IF(D79="","",IF(D79=1,1,IF(D79=2,0,IF(D79=3,0,IF(D79=4,0,IF(D79=5,0,IF(D79=6,1,IF(D79=7,0,IF(D79=8,0,IF(D79=9,0,IF(D79=10,0,IF(D79=11,1)))))))))))) -> FALSE | Y78: =MID(Z78,1,8) -> 0 | Z78: =IF(A79='Relevé Kizeo'!C40,VLOOKUP(A79,'Relevé Kizeo'!$C$4:$R$1001,8,TRUE),"") -> 0 | AA78: =MID(AB78,1,6) -> 0 | AB78: =IF(A79='Relevé Kizeo'!C40,VLOOKUP(A79,'Relevé Kizeo'!$C$4:$R$1001,9,TRUE),"") -> 0 | AC78: =MID(AD78,1,6) -> 0 | AD78: =IF(A79='Relevé Kizeo'!C40,VLOOKUP(A79,'Relevé Kizeo'!$C$4:$R$1001,10,TRUE),"") -> 0 | AE78: =IF(N79=0,"",IF(N79>$F$418,N79-$F$418,$F$418-N79)) | AF78: =IF(ISERROR(IF(N79>$F$418,(HOUR(AE78)*60+MINUTE(AE78))/60,-(HOUR(AE78)*60+MINUTE(AE78))/60)),"",IF(N79>$F$418,(HOUR(AE78)*60+MINUTE(AE78))/60,-(HOUR(AE78)*60+MINUTE(AE78))/60))
A79: 44963 | B79: S06 | C79: =IF(A79='Relevé Kizeo'!C40,VLOOKUP(A79,'Relevé Kizeo'!$C$4:$R$1001,2,TRUE),"") -> 0 | D79: =_xlfn.IFS(C79=0,0,C79="CP",1,C79="CEF",2,C79="CSS",3,C79="CEM",4,C79="MAL",5,C79="AT",6,C79="ABST J",7,C79="ABST I",8,C79="FERIE",9,C79="REPOS",10,C79<"1:00",11) -> 0 | E79: =IF(C79="CP",0,IF(C79="CEF",0,IF(C79="CSS",0,IF(C79="CEM",0,IF(C79="MAL",0,IF(C79="AT",0,IF(C79="ABST J",0,IF(C79="ABST I",0,IF(C79="FERIE",0,IF(C79="REPOS",0,C79)))))))))) -> 0 | F79: 0 | G79: {=_xlfn.IFS(C79="",0,C79=0,0,C79="CP",0,C79="CEF",0,C79="CSS",0,C79="CEM",0,C79="CEM",0,C79="MAL",0,C79="AT",0,C79="ABST J",0,C79="ABST I",0,C79="FERIE",0,C79="REPOS",0,C79<"1:00",$F$420)} -> 0 | H79: =IF(A79='Relevé Kizeo'!C40,VLOOKUP(A79,'Relevé Kizeo'!$C$4:$R$1001,3,TRUE),"") -> 0 | I79: =IF(A79='Relevé Kizeo'!C40,VLOOKUP(A79,'Relevé Kizeo'!$C$4:$R$1001,4,TRUE),"") -> 0 | J79: =IF(A79='Relevé Kizeo'!C40,VLOOKUP(A79,'Relevé Kizeo'!$C$4:$R$1001,5,TRUE),"") -> 0 | K79: =J79 -> 0 | L79: 0 | M79: {=_xlfn.IFS(I79="",0,I79=0,0,I79="CP",0,I79="CEF",0,I79="CSS",0,I79="CEM",0,I79="MAL",0,I79="AT",0,I79="ABST J",0,I79="ABST I",0,I79="FERIE",0,I79="REPOS",0,I79<"1:00",$F$421)} -> 0 | N79: {=_xlfn.IFS(D79=0,0,AND(D79>=1,D79<=9),OFFSET($AL$5,MOD(WEEKNUM(A79,21)-1,26),IF(WEEKNUM(A79,21)>26,8,0))/5,D79=10,0,D79=11,(H79-E79+G79)*24+(K79-I79+M79)*24)} -> 0 | P79: =IF(ROW()>12,IF(WEEKDAY($A79)=$Q$2,INDIRECT(ADDRESS(ROW()-7,COLUMN())),0),IF(WEEKDAY($A79)=Q$2,G$3,0)) -> 0 | Q79: {=IF(LEFT(R$2,1)="-",-1,1)*INDIRECT(CONCATENATE(RIGHT(R$2,LEN(R$2)-1),ROW()))+IF(LEFT(R$3,1)="-",-1,1)*INDIRECT(CONCATENATE(RIGHT(R$3,LEN(R$3)-1),ROW()))} -> 0 | R79: =IF(ISNUMBER(R78),R78,0)+INDIRECT(CONCATENATE(R$4,ROW())) -> -127.75 | S79: =MAX(F79,L79) -> 0 | T79: =IF(D79=0,"",IF(S79=0,"",IF(S79<=5,"3MG",IF(S79<=20,"4,5MG",IF(S79<=30,"5,5MG",IF(S79<=50,"6,5MG",IF(S79<=70,"7MG",IF(S79<=100,"GD<100",IF(S79>100,"GD>100"))))))))) | V79: =IF(A79='Relevé Kizeo'!C40,VLOOKUP(A79,'Relevé Kizeo'!$C$4:$R$1001,6,TRUE),"") -> 0 | W79: =IF(D80="","",IF(D80=1,1,IF(D80=2,0,IF(D80=3,0,IF(D80=4,0,IF(D80=5,0,IF(D80=6,1,IF(D80=7,0,IF(D80=8,0,IF(D80=9,0,IF(D80=10,0,IF(D80=11,1)))))))))))) -> FALSE | Y79: =MID(Z79,1,8) -> 0 | Z79: =IF(A80='Relevé Kizeo'!C41,VLOOKUP(A80,'Relevé Kizeo'!$C$4:$R$1001,8,TRUE),"") -> 0 | AA79: =MID(AB79,1,6) -> 0 | AB79: =IF(A80='Relevé Kizeo'!C41,VLOOKUP(A80,'Relevé Kizeo'!$C$4:$R$1001,9,TRUE),"") -> 0 | AC79: =MID(AD79,1,6) -> 0 | AD79: =IF(A80='Relevé Kizeo'!C41,VLOOKUP(A80,'Relevé Kizeo'!$C$4:$R$1001,10,TRUE),"") -> 0 | AE79: =IF(N80=0,"",IF(N80>$F$418,N80-$F$418,$F$418-N80)) | AF79: =IF(ISERROR(IF(N80>$F$418,(HOUR(AE79)*60+MINUTE(AE79))/60,-(HOUR(AE79)*60+MINUTE(AE79))/60)),"",IF(N80>$F$418,(HOUR(AE79)*60+MINUTE(AE79))/60,-(HOUR(AE79)*60+MINUTE(AE79))/60))
A80: 44964 | C80: =IF(A80='Relevé Kizeo'!C41,VLOOKUP(A80,'Relevé Kizeo'!$C$4:$R$1001,2,TRUE),"") -> 0 | D80: =_xlfn.IFS(C80=0,0,C80="CP",1,C80="CEF",2,C80="CSS",3,C80="CEM",4,C80="MAL",5,C80="AT",6,C80="ABST J",7,C80="ABST I",8,C80="FERIE",9,C80="REPOS",10,C80<"1:00",11) -> 0 | E80: =IF(C80="CP",0,IF(C80="CEF",0,IF(C80="CSS",0,IF(C80="CEM",0,IF(C80="MAL",0,IF(C80="AT",0,IF(C80="ABST J",0,IF(C80="ABST I",0,IF(C80="FERIE",0,IF(C80="REPOS",0,C80)))))))))) -> 0 | F80: 0 | G80: {=_xlfn.IFS(C80="",0,C80=0,0,C80="CP",0,C80="CEF",0,C80="CSS",0,C80="CEM",0,C80="CEM",0,C80="MAL",0,C80="AT",0,C80="ABST J",0,C80="ABST I",0,C80="FERIE",0,C80="REPOS",0,C80<"1:00",$F$420)} -> 0 | H80: =IF(A80='Relevé Kizeo'!C41,VLOOKUP(A80,'Relevé Kizeo'!$C$4:$R$1001,3,TRUE),"") -> 0 | I80: =IF(A80='Relevé Kizeo'!C41,VLOOKUP(A80,'Relevé Kizeo'!$C$4:$R$1001,4,TRUE),"") -> 0 | J80: =IF(A80='Relevé Kizeo'!C41,VLOOKUP(A80,'Relevé Kizeo'!$C$4:$R$1001,5,TRUE),"") -> 0 | K80: =J80 -> 0 | L80: 0 | M80: {=_xlfn.IFS(I80="",0,I80=0,0,I80="CP",0,I80="CEF",0,I80="CSS",0,I80="CEM",0,I80="MAL",0,I80="AT",0,I80="ABST J",0,I80="ABST I",0,I80="FERIE",0,I80="REPOS",0,I80<"1:00",$F$421)} -> 0 | N80: {=_xlfn.IFS(D80=0,0,AND(D80>=1,D80<=9),OFFSET($AL$5,MOD(WEEKNUM(A80,21)-1,26),IF(WEEKNUM(A80,21)>26,8,0))/5,D80=10,0,D80=11,(H80-E80+G80)*24+(K80-I80+M80)*24)} -> 0 | P80: =IF(ROW()>12,IF(WEEKDAY($A80)=$Q$2,INDIRECT(ADDRESS(ROW()-7,COLUMN())),0),IF(WEEKDAY($A80)=Q$2,G$3,0)) -> 0 | Q80: {=IF(LEFT(R$2,1)="-",-1,1)*INDIRECT(CONCATENATE(RIGHT(R$2,LEN(R$2)-1),ROW()))+IF(LEFT(R$3,1)="-",-1,1)*INDIRECT(CONCATENATE(RIGHT(R$3,LEN(R$3)-1),ROW()))} -> 0 | R80: =IF(ISNUMBER(R79),R79,0)+INDIRECT(CONCATENATE(R$4,ROW())) -> -127.75 | S80: =MAX(F80,L80) -> 0 | T80: =IF(D80=0,"",IF(S80=0,"",IF(S80<=5,"3MG",IF(S80<=20,"4,5MG",IF(S80<=30,"5,5MG",IF(S80<=50,"6,5MG",IF(S80<=70,"7MG",IF(S80<=100,"GD<100",IF(S80>100,"GD>100"))))))))) | V80: =IF(A80='Relevé Kizeo'!C41,VLOOKUP(A80,'Relevé Kizeo'!$C$4:$R$1001,6,TRUE),"") -> 0 | W80: =IF(D81="","",IF(D81=1,1,IF(D81=2,0,IF(D81=3,0,IF(D81=4,0,IF(D81=5,0,IF(D81=6,1,IF(D81=7,0,IF(D81=8,0,IF(D81=9,0,IF(D81=10,0,IF(D81=11,1)))))))))))) -> FALSE | Y80: =MID(Z80,1,8) -> 0 | Z80: =IF(A81='Relevé Kizeo'!C42,VLOOKUP(A81,'Relevé Kizeo'!$C$4:$R$1001,8,TRUE),"") -> 0 | AA80: =MID(AB80,1,6) -> 0 | AB80: =IF(A81='Relevé Kizeo'!C42,VLOOKUP(A81,'Relevé Kizeo'!$C$4:$R$1001,9,TRUE),"") -> 0 | AC80: =MID(AD80,1,6) -> 0 | AD80: =IF(A81='Relevé Kizeo'!C42,VLOOKUP(A81,'Relevé Kizeo'!$C$4:$R$1001,10,TRUE),"") -> 0 | AE80: =IF(N81=0,"",IF(N81>$F$418,N81-$F$418,$F$418-N81)) | AF80: =IF(ISERROR(IF(N81>$F$418,(HOUR(AE80)*60+MINUTE(AE80))/60,-(HOUR(AE80)*60+MINUTE(AE80))/60)),"",IF(N81>$F$418,(HOUR(AE80)*60+MINUTE(AE80))/60,-(HOUR(AE80)*60+MINUTE(AE80))/60))
A81: 44965 | C81: =IF(A81='Relevé Kizeo'!C42,VLOOKUP(A81,'Relevé Kizeo'!$C$4:$R$1001,2,TRUE),"") -> 0 | D81: =_xlfn.IFS(C81=0,0,C81="CP",1,C81="CEF",2,C81="CSS",3,C81="CEM",4,C81="MAL",5,C81="AT",6,C81="ABST J",7,C81="ABST I",8,C81="FERIE",9,C81="REPOS",10,C81<"1:00",11) -> 0 | E81: =IF(C81="CP",0,IF(C81="CEF",0,IF(C81="CSS",0,IF(C81="CEM",0,IF(C81="MAL",0,IF(C81="AT",0,IF(C81="ABST J",0,IF(C81="ABST I",0,IF(C81="FERIE",0,IF(C81="REPOS",0,C81)))))))))) -> 0 | F81: 0 | G81: {=_xlfn.IFS(C81="",0,C81=0,0,C81="CP",0,C81="CEF",0,C81="CSS",0,C81="CEM",0,C81="CEM",0,C81="MAL",0,C81="AT",0,C81="ABST J",0,C81="ABST I",0,C81="FERIE",0,C81="REPOS",0,C81<"1:00",$F$420)} -> 0 | H81: =IF(A81='Relevé Kizeo'!C42,VLOOKUP(A81,'Relevé Kizeo'!$C$4:$R$1001,3,TRUE),"") -> 0 | I81: =IF(A81='Relevé Kizeo'!C42,VLOOKUP(A81,'Relevé Kizeo'!$C$4:$R$1001,4,TRUE),"") -> 0 | J81: =IF(A81='Relevé Kizeo'!C42,VLOOKUP(A81,'Relevé Kizeo'!$C$4:$R$1001,5,TRUE),"") -> 0 | K81: =J81 -> 0 | L81: 0 | M81: {=_xlfn.IFS(I81="",0,I81=0,0,I81="CP",0,I81="CEF",0,I81="CSS",0,I81="CEM",0,I81="MAL",0,I81="AT",0,I81="ABST J",0,I81="ABST I",0,I81="FERIE",0,I81="REPOS",0,I81<"1:00",$F$421)} -> 0 | N81: {=_xlfn.IFS(D81=0,0,AND(D81>=1,D81<=9),OFFSET($AL$5,MOD(WEEKNUM(A81,21)-1,26),IF(WEEKNUM(A81,21)>26,8,0))/5,D81=10,0,D81=11,(H81-E81+G81)*24+(K81-I81+M81)*24)} -> 0 | P81: =IF(ROW()>12,IF(WEEKDAY($A81)=$Q$2,INDIRECT(ADDRESS(ROW()-7,COLUMN())),0),IF(WEEKDAY($A81)=Q$2,G$3,0)) -> 0 | Q81: {=IF(LEFT(R$2,1)="-",-1,1)*INDIRECT(CONCATENATE(RIGHT(R$2,LEN(R$2)-1),ROW()))+IF(LEFT(R$3,1)="-",-1,1)*INDIRECT(CONCATENATE(RIGHT(R$3,LEN(R$3)-1),ROW()))} -> 0 | R81: =IF(ISNUMBER(R80),R80,0)+INDIRECT(CONCATENATE(R$4,ROW())) -> -127.75 | S81: =MAX(F81,L81) -> 0 | T81: =IF(D81=0,"",IF(S81=0,"",IF(S81<=5,"3MG",IF(S81<=20,"4,5MG",IF(S81<=30,"5,5MG",IF(S81<=50,"6,5MG",IF(S81<=70,"7MG",IF(S81<=100,"GD<100",IF(S81>100,"GD>100"))))))))) | V81: =IF(A81='Relevé Kizeo'!C42,VLOOKUP(A81,'Relevé Kizeo'!$C$4:$R$1001,6,TRUE),"") -> 0 | W81: =IF(D82="","",IF(D82=1,1,IF(D82=2,0,IF(D82=3,0,IF(D82=4,0,IF(D82=5,0,IF(D82=6,1,IF(D82=7,0,IF(D82=8,0,IF(D82=9,0,IF(D82=10,0,IF(D82=11,1)))))))))))) -> FALSE | Y81: =MID(Z81,1,8) -> 0 | Z81: =IF(A82='Relevé Kizeo'!C43,VLOOKUP(A82,'Relevé Kizeo'!$C$4:$R$1001,8,TRUE),"") -> 0 | AA81: =MID(AB81,1,6) -> 0 | AB81: =IF(A82='Relevé Kizeo'!C43,VLOOKUP(A82,'Relevé Kizeo'!$C$4:$R$1001,9,TRUE),"") -> 0 | AC81: =MID(AD81,1,6) -> 0 | AD81: =IF(A82='Relevé Kizeo'!C43,VLOOKUP(A82,'Relevé Kizeo'!$C$4:$R$1001,10,TRUE),"") -> 0 | AE81: =IF(N82=0,"",IF(N82>$F$418,N82-$F$418,$F$418-N82)) | AF81: =IF(ISERROR(IF(N82>$F$418,(HOUR(AE81)*60+MINUTE(AE81))/60,-(HOUR(AE81)*60+MINUTE(AE81))/60)),"",IF(N82>$F$418,(HOUR(AE81)*60+MINUTE(AE81))/60,-(HOUR(AE81)*60+MINUTE(AE81))/60))
A82: 44966 | C82: =IF(A82='Relevé Kizeo'!C43,VLOOKUP(A82,'Relevé Kizeo'!$C$4:$R$1001,2,TRUE),"") -> 0 | D82: =_xlfn.IFS(C82=0,0,C82="CP",1,C82="CEF",2,C82="CSS",3,C82="CEM",4,C82="MAL",5,C82="AT",6,C82="ABST J",7,C82="ABST I",8,C82="FERIE",9,C82="REPOS",10,C82<"1:00",11) -> 0 | E82: =IF(C82="CP",0,IF(C82="CEF",0,IF(C82="CSS",0,IF(C82="CEM",0,IF(C82="MAL",0,IF(C82="AT",0,IF(C82="ABST J",0,IF(C82="ABST I",0,IF(C82="FERIE",0,IF(C82="REPOS",0,C82)))))))))) -> 0 | F82: 0 | G82: {=_xlfn.IFS(C82="",0,C82=0,0,C82="CP",0,C82="CEF",0,C82="CSS",0,C82="CEM",0,C82="CEM",0,C82="MAL",0,C82="AT",0,C82="ABST J",0,C82="ABST I",0,C82="FERIE",0,C82="REPOS",0,C82<"1:00",$F$420)} -> 0 | H82: =IF(A82='Relevé Kizeo'!C43,VLOOKUP(A82,'Relevé Kizeo'!$C$4:$R$1001,3,TRUE),"") -> 0 | I82: =IF(A82='Relevé Kizeo'!C43,VLOOKUP(A82,'Relevé Kizeo'!$C$4:$R$1001,4,TRUE),"") -> 0 | J82: =IF(A82='Relevé Kizeo'!C43,VLOOKUP(A82,'Relevé Kizeo'!$C$4:$R$1001,5,TRUE),"") -> 0 | K82: =J82 -> 0 | L82: 0 | M82: {=_xlfn.IFS(I82="",0,I82=0,0,I82="CP",0,I82="CEF",0,I82="CSS",0,I82="CEM",0,I82="MAL",0,I82="AT",0,I82="ABST J",0,I82="ABST I",0,I82="FERIE",0,I82="REPOS",0,I82<"1:00",$F$421)} -> 0 | N82: {=_xlfn.IFS(D82=0,0,AND(D82>=1,D82<=9),OFFSET($AL$5,MOD(WEEKNUM(A82,21)-1,26),IF(WEEKNUM(A82,21)>26,8,0))/5,D82=10,0,D82=11,(H82-E82+G82)*24+(K82-I82+M82)*24)} -> 0 | P82: =IF(ROW()>12,IF(WEEKDAY($A82)=$Q$2,INDIRECT(ADDRESS(ROW()-7,COLUMN())),0),IF(WEEKDAY($A82)=Q$2,G$3,0)) -> 0 | Q82: {=IF(LEFT(R$2,1)="-",-1,1)*INDIRECT(CONCATENATE(RIGHT(R$2,LEN(R$2)-1),ROW()))+IF(LEFT(R$3,1)="-",-1,1)*INDIRECT(CONCATENATE(RIGHT(R$3,LEN(R$3)-1),ROW()))} -> 0 | R82: =IF(ISNUMBER(R81),R81,0)+INDIRECT(CONCATENATE(R$4,ROW())) -> -127.75 | S82: =MAX(F82,L82) -> 0 | T82: =IF(D82=0,"",IF(S82=0,"",IF(S82<=5,"3MG",IF(S82<=20,"4,5MG",IF(S82<=30,"5,5MG",IF(S82<=50,"6,5MG",IF(S82<=70,"7MG",IF(S82<=100,"GD<100",IF(S82>100,"GD>100"))))))))) | V82: =IF(A82='Relevé Kizeo'!C43,VLOOKUP(A82,'Relevé Kizeo'!$C$4:$R$1001,6,TRUE),"") -> 0 | W82: =IF(D83="","",IF(D83=1,1,IF(D83=2,0,IF(D83=3,0,IF(D83=4,0,IF(D83=5,0,IF(D83=6,1,IF(D83=7,0,IF(D83=8,0,IF(D83=9,0,IF(D83=10,0,IF(D83=11,1)))))))))))) -> FALSE | Y82: =MID(Z82,1,8) -> 0 | Z82: =IF(A83='Relevé Kizeo'!C44,VLOOKUP(A83,'Relevé Kizeo'!$C$4:$R$1001,8,TRUE),"") -> 0 | AA82: =MID(AB82,1,6) -> 0 | AB82: =IF(A83='Relevé Kizeo'!C44,VLOOKUP(A83,'Relevé Kizeo'!$C$4:$R$1001,9,TRUE),"") -> 0 | AC82: =MID(AD82,1,6) -> 0 | AD82: =IF(A83='Relevé Kizeo'!C44,VLOOKUP(A83,'Relevé Kizeo'!$C$4:$R$1001,10,TRUE),"") -> 0 | AE82: =IF(N83=0,"",IF(N83>$F$418,N83-$F$418,$F$418-N83)) | AF82: =IF(ISERROR(IF(N83>$F$418,(HOUR(AE82)*60+MINUTE(AE82))/60,-(HOUR(AE82)*60+MINUTE(AE82))/60)),"",IF(N83>$F$418,(HOUR(AE82)*60+MINUTE(AE82))/60,-(HOUR(AE82)*60+MINUTE(AE82))/60))
A83: 44967 | C83: =IF(A83='Relevé Kizeo'!C44,VLOOKUP(A83,'Relevé Kizeo'!$C$4:$R$1001,2,TRUE),"") -> 0 | D83: =_xlfn.IFS(C83=0,0,C83="CP",1,C83="CEF",2,C83="CSS",3,C83="CEM",4,C83="MAL",5,C83="AT",6,C83="ABST J",7,C83="ABST I",8,C83="FERIE",9,C83="REPOS",10,C83<"1:00",11) -> 0 | E83: =IF(C83="CP",0,IF(C83="CEF",0,IF(C83="CSS",0,IF(C83="CEM",0,IF(C83="MAL",0,IF(C83="AT",0,IF(C83="ABST J",0,IF(C83="ABST I",0,IF(C83="FERIE",0,IF(C83="REPOS",0,C83)))))))))) -> 0 | F83: 0 | G83: {=_xlfn.IFS(C83="",0,C83=0,0,C83="CP",0,C83="CEF",0,C83="CSS",0,C83="CEM",0,C83="CEM",0,C83="MAL",0,C83="AT",0,C83="ABST J",0,C83="ABST I",0,C83="FERIE",0,C83="REPOS",0,C83<"1:00",$F$420)} -> 0 | H83: =IF(A83='Relevé Kizeo'!C44,VLOOKUP(A83,'Relevé Kizeo'!$C$4:$R$1001,3,TRUE),"") -> 0 | I83: =IF(A83='Relevé Kizeo'!C44,VLOOKUP(A83,'Relevé Kizeo'!$C$4:$R$1001,4,TRUE),"") -> 0 | J83: =IF(A83='Relevé Kizeo'!C44,VLOOKUP(A83,'Relevé Kizeo'!$C$4:$R$1001,5,TRUE),"") -> 0 | K83: =J83 -> 0 | L83: 0 | M83: {=_xlfn.IFS(I83="",0,I83=0,0,I83="CP",0,I83="CEF",0,I83="CSS",0,I83="CEM",0,I83="MAL",0,I83="AT",0,I83="ABST J",0,I83="ABST I",0,I83="FERIE",0,I83="REPOS",0,I83<"1:00",$F$421)} -> 0 | N83: {=_xlfn.IFS(D83=0,0,AND(D83>=1,D83<=9),OFFSET($AL$5,MOD(WEEKNUM(A83,21)-1,26),IF(WEEKNUM(A83,21)>26,8,0))/5,D83=10,0,D83=11,(H83-E83+G83)*24+(K83-I83+M83)*24)} -> 0 | P83: =IF(ROW()>12,IF(WEEKDAY($A83)=$Q$2,INDIRECT(ADDRESS(ROW()-7,COLUMN())),0),IF(WEEKDAY($A83)=Q$2,G$3,0)) -> 0 | Q83: {=IF(LEFT(R$2,1)="-",-1,1)*INDIRECT(CONCATENATE(RIGHT(R$2,LEN(R$2)-1),ROW()))+IF(LEFT(R$3,1)="-",-1,1)*INDIRECT(CONCATENATE(RIGHT(R$3,LEN(R$3)-1),ROW()))} -> 0 | R83: =IF(ISNUMBER(R82),R82,0)+INDIRECT(CONCATENATE(R$4,ROW())) -> -127.75 | S83: =MAX(F83,L83) -> 0 | T83: =IF(D83=0,"",IF(S83=0,"",IF(S83<=5,"3MG",IF(S83<=20,"4,5MG",IF(S83<=30,"5,5MG",IF(S83<=50,"6,5MG",IF(S83<=70,"7MG",IF(S83<=100,"GD<100",IF(S83>100,"GD>100"))))))))) | V83: =IF(A83='Relevé Kizeo'!C44,VLOOKUP(A83,'Relevé Kizeo'!$C$4:$R$1001,6,TRUE),"") -> 0 | W83: =IF(D84="","",IF(D84=1,1,IF(D84=2,0,IF(D84=3,0,IF(D84=4,0,IF(D84=5,0,IF(D84=6,1,IF(D84=7,0,IF(D84=8,0,IF(D84=9,0,IF(D84=10,0,IF(D84=11,1)))))))))))) -> 0 | Y83: =MID(Z83,1,8) -> 0 | Z83: =IF(A84='Relevé Kizeo'!C45,VLOOKUP(A84,'Relevé Kizeo'!$C$4:$R$1001,8,TRUE),"") -> 0 | AA83: =MID(AB83,1,6) -> 0 | AB83: =IF(A84='Relevé Kizeo'!C45,VLOOKUP(A84,'Relevé Kizeo'!$C$4:$R$1001,9,TRUE),"") -> 0 | AC83: =MID(AD83,1,6) -> 0 | AD83: =IF(A84='Relevé Kizeo'!C45,VLOOKUP(A84,'Relevé Kizeo'!$C$4:$R$1001,10,TRUE),"") -> 0 | AE83: =IF(N84=0,"",IF(N84>$F$418,N84-$F$418,$F$418-N84)) | AF83: =IF(ISERROR(IF(N84>$F$418,(HOUR(AE83)*60+MINUTE(AE83))/60,-(HOUR(AE83)*60+MINUTE(AE83))/60)),"",IF(N84>$F$418,(HOUR(AE83)*60+MINUTE(AE83))/60,-(HOUR(AE83)*60+MINUTE(AE83))/60))
A84: 44968 | C84: =IF(A84='Relevé Kizeo'!C45,VLOOKUP(A84,'Relevé Kizeo'!$C$4:$R$1001,2,TRUE),"") -> REPOS | D84: =_xlfn.IFS(C84=0,0,C84="CP",1,C84="CEF",2,C84="CSS",3,C84="CEM",4,C84="MAL",5,C84="AT",6,C84="ABST J",7,C84="ABST I",8,C84="FERIE",9,C84="REPOS",10,C84<"1:00",11) -> 10 | E84: =IF(C84="CP",0,IF(C84="CEF",0,IF(C84="CSS",0,IF(C84="CEM",0,IF(C84="MAL",0,IF(C84="AT",0,IF(C84="ABST J",0,IF(C84="ABST I",0,IF(C84="FERIE",0,IF(C84="REPOS",0,C84)))))))))) -> 0 | F84: 0 | G84: {=_xlfn.IFS(C84="",0,C84=0,0,C84="CP",0,C84="CEF",0,C84="CSS",0,C84="CEM",0,C84="CEM",0,C84="MAL",0,C84="AT",0,C84="ABST J",0,C84="ABST I",0,C84="FERIE",0,C84="REPOS",0,C84<"1:00",$F$420)} -> 0 | H84: =IF(A84='Relevé Kizeo'!C45,VLOOKUP(A84,'Relevé Kizeo'!$C$4:$R$1001,3,TRUE),"") -> 0 | I84: =IF(A84='Relevé Kizeo'!C45,VLOOKUP(A84,'Relevé Kizeo'!$C$4:$R$1001,4,TRUE),"") -> 0 | J84: =IF(A84='Relevé Kizeo'!C45,VLOOKUP(A84,'Relevé Kizeo'!$C$4:$R$1001,5,TRUE),"") -> 0 | K84: =J84 -> 0 | L84: 0 | M84: {=_xlfn.IFS(I84="",0,I84=0,0,I84="CP",0,I84="CEF",0,I84="CSS",0,I84="CEM",0,I84="MAL",0,I84="AT",0,I84="ABST J",0,I84="ABST I",0,I84="FERIE",0,I84="REPOS",0,I84<"1:00",$F$421)} -> 0 | N84: {=_xlfn.IFS(D84=0,0,AND(D84>=1,D84<=9),OFFSET($AL$5,MOD(WEEKNUM(A84,21)-1,26),IF(WEEKNUM(A84,21)>26,8,0))/5,D84=10,0,D84=11,(H84-E84+G84)*24+(K84-I84+M84)*24)} -> 0 | P84: =IF(ROW()>12,IF(WEEKDAY($A84)=$Q$2,INDIRECT(ADDRESS(ROW()-7,COLUMN())),0),IF(WEEKDAY($A84)=Q$2,G$3,0)) -> 0 | Q84: {=IF(LEFT(R$2,1)="-",-1,1)*INDIRECT(CONCATENATE(RIGHT(R$2,LEN(R$2)-1),ROW()))+IF(LEFT(R$3,1)="-",-1,1)*INDIRECT(CONCATENATE(RIGHT(R$3,LEN(R$3)-1),ROW()))} -> 0 | R84: =IF(ISNUMBER(R83),R83,0)+INDIRECT(CONCATENATE(R$4,ROW())) -> -127.75 | S84: =MAX(F84,L84) -> 0 | T84: =IF(D84=0,"",IF(S84=0,"",IF(S84<=5,"3MG",IF(S84<=20,"4,5MG",IF(S84<=30,"5,5MG",IF(S84<=50,"6,5MG",IF(S84<=70,"7MG",IF(S84<=100,"GD<100",IF(S84>100,"GD>100"))))))))) | V84: =IF(A84='Relevé Kizeo'!C45,VLOOKUP(A84,'Relevé Kizeo'!$C$4:$R$1001,6,TRUE),"") -> 0 | W84: =IF(D85="","",IF(D85=1,1,IF(D85=2,0,IF(D85=3,0,IF(D85=4,0,IF(D85=5,0,IF(D85=6,1,IF(D85=7,0,IF(D85=8,0,IF(D85=9,0,IF(D85=10,0,IF(D85=11,1)))))))))))) -> 0 | Y84: =MID(Z84,1,8) -> 0 | Z84: =IF(A85='Relevé Kizeo'!C46,VLOOKUP(A85,'Relevé Kizeo'!$C$4:$R$1001,8,TRUE),"") -> 0 | AA84: =MID(AB84,1,6) -> 0 | AB84: =IF(A85='Relevé Kizeo'!C46,VLOOKUP(A85,'Relevé Kizeo'!$C$4:$R$1001,9,TRUE),"") -> 0 | AC84: =MID(AD84,1,6) -> 0 | AD84: =IF(A85='Relevé Kizeo'!C46,VLOOKUP(A85,'Relevé Kizeo'!$C$4:$R$1001,10,TRUE),"") -> 0 | AE84: =IF(N85=0,"",IF(N85>$F$418,N85-$F$418,$F$418-N85)) | AF84: =IF(ISERROR(IF(N85>$F$418,(HOUR(AE84)*60+MINUTE(AE84))/60,-(HOUR(AE84)*60+MINUTE(AE84))/60)),"",IF(N85>$F$418,(HOUR(AE84)*60+MINUTE(AE84))/60,-(HOUR(AE84)*60+MINUTE(AE84))/60))
A85: 44969 | C85: =IF(A85='Relevé Kizeo'!C46,VLOOKUP(A85,'Relevé Kizeo'!$C$4:$R$1001,2,TRUE),"") -> REPOS | D85: =_xlfn.IFS(C85=0,0,C85="CP",1,C85="CEF",2,C85="CSS",3,C85="CEM",4,C85="MAL",5,C85="AT",6,C85="ABST J",7,C85="ABST I",8,C85="FERIE",9,C85="REPOS",10,C85<"1:00",11) -> 10 | E85: =IF(C85="CP",0,IF(C85="CEF",0,IF(C85="CSS",0,IF(C85="CEM",0,IF(C85="MAL",0,IF(C85="AT",0,IF(C85="ABST J",0,IF(C85="ABST I",0,IF(C85="FERIE",0,IF(C85="REPOS",0,C85)))))))))) -> 0 | F85: 0 | G85: {=_xlfn.IFS(C85="",0,C85=0,0,C85="CP",0,C85="CEF",0,C85="CSS",0,C85="CEM",0,C85="CEM",0,C85="MAL",0,C85="AT",0,C85="ABST J",0,C85="ABST I",0,C85="FERIE",0,C85="REPOS",0,C85<"1:00",$F$420)} -> 0 | H85: =IF(A85='Relevé Kizeo'!C46,VLOOKUP(A85,'Relevé Kizeo'!$C$4:$R$1001,3,TRUE),"") -> 0 | I85: =IF(A85='Relevé Kizeo'!C46,VLOOKUP(A85,'Relevé Kizeo'!$C$4:$R$1001,4,TRUE),"") -> 0 | J85: =IF(A85='Relevé Kizeo'!C46,VLOOKUP(A85,'Relevé Kizeo'!$C$4:$R$1001,5,TRUE),"") -> 0 | K85: =J85 -> 0 | L85: 0 | M85: {=_xlfn.IFS(I85="",0,I85=0,0,I85="CP",0,I85="CEF",0,I85="CSS",0,I85="CEM",0,I85="MAL",0,I85="AT",0,I85="ABST J",0,I85="ABST I",0,I85="FERIE",0,I85="REPOS",0,I85<"1:00",$F$421)} -> 0 | N85: {=_xlfn.IFS(D85=0,0,AND(D85>=1,D85<=9),OFFSET($AL$5,MOD(WEEKNUM(A85,21)-1,26),IF(WEEKNUM(A85,21)>26,8,0))/5,D85=10,0,D85=11,(H85-E85+G85)*24+(K85-I85+M85)*24)} -> 0 | O85: =SUM(N79:N83) -> 0 | P85: 32 | Q85: {=IF(LEFT(R$2,1)="-",-1,1)*INDIRECT(CONCATENATE(RIGHT(R$2,LEN(R$2)-1),ROW()))+IF(LEFT(R$3,1)="-",-1,1)*INDIRECT(CONCATENATE(RIGHT(R$3,LEN(R$3)-1),ROW()))} -> -32 | R85: =IF(ISNUMBER(R84),R84,0)+INDIRECT(CONCATENATE(R$4,ROW())) -> -159.75 | S85: =MAX(F85,L85) -> 0 | T85: =IF(D85=0,"",IF(S85=0,"",IF(S85<=5,"3MG",IF(S85<=20,"4,5MG",IF(S85<=30,"5,5MG",IF(S85<=50,"6,5MG",IF(S85<=70,"7MG",IF(S85<=100,"GD<100",IF(S85>100,"GD>100"))))))))) | V85: =IF(A85='Relevé Kizeo'!C46,VLOOKUP(A85,'Relevé Kizeo'!$C$4:$R$1001,6,TRUE),"") -> 0 | W85: =IF(D86="","",IF(D86=1,1,IF(D86=2,0,IF(D86=3,0,IF(D86=4,0,IF(D86=5,0,IF(D86=6,1,IF(D86=7,0,IF(D86=8,0,IF(D86=9,0,IF(D86=10,0,IF(D86=11,1)))))))))))) -> FALSE | Y85: =MID(Z85,1,8) -> 0 | Z85: =IF(A86='Relevé Kizeo'!C47,VLOOKUP(A86,'Relevé Kizeo'!$C$4:$R$1001,8,TRUE),"") -> 0 | AA85: =MID(AB85,1,6) -> 0 | AB85: =IF(A86='Relevé Kizeo'!C47,VLOOKUP(A86,'Relevé Kizeo'!$C$4:$R$1001,9,TRUE),"") -> 0 | AC85: =MID(AD85,1,6) -> 0 | AD85: =IF(A86='Relevé Kizeo'!C47,VLOOKUP(A86,'Relevé Kizeo'!$C$4:$R$1001,10,TRUE),"") -> 0 | AE85: =IF(N86=0,"",IF(N86>$F$418,N86-$F$418,$F$418-N86)) | AF85: =IF(ISERROR(IF(N86>$F$418,(HOUR(AE85)*60+MINUTE(AE85))/60,-(HOUR(AE85)*60+MINUTE(AE85))/60)),"",IF(N86>$F$418,(HOUR(AE85)*60+MINUTE(AE85))/60,-(HOUR(AE85)*60+MINUTE(AE85))/60))
A86: 44970 | B86: S07 | C86: =IF(A86='Relevé Kizeo'!C47,VLOOKUP(A86,'Relevé Kizeo'!$C$4:$R$1001,2,TRUE),"") -> 0 | D86: =_xlfn.IFS(C86=0,0,C86="CP",1,C86="CEF",2,C86="CSS",3,C86="CEM",4,C86="MAL",5,C86="AT",6,C86="ABST J",7,C86="ABST I",8,C86="FERIE",9,C86="REPOS",10,C86<"1:00",11) -> 0 | E86: =IF(C86="CP",0,IF(C86="CEF",0,IF(C86="CSS",0,IF(C86="CEM",0,IF(C86="MAL",0,IF(C86="AT",0,IF(C86="ABST J",0,IF(C86="ABST I",0,IF(C86="FERIE",0,IF(C86="REPOS",0,C86)))))))))) -> 0 | F86: 0 | G86: {=_xlfn.IFS(C86="",0,C86=0,0,C86="CP",0,C86="CEF",0,C86="CSS",0,C86="CEM",0,C86="CEM",0,C86="MAL",0,C86="AT",0,C86="ABST J",0,C86="ABST I",0,C86="FERIE",0,C86="REPOS",0,C86<"1:00",$F$420)} -> 0 | H86: =IF(A86='Relevé Kizeo'!C47,VLOOKUP(A86,'Relevé Kizeo'!$C$4:$R$1001,3,TRUE),"") -> 0 | I86: =IF(A86='Relevé Kizeo'!C47,VLOOKUP(A86,'Relevé Kizeo'!$C$4:$R$1001,4,TRUE),"") -> 0 | J86: =IF(A86='Relevé Kizeo'!C47,VLOOKUP(A86,'Relevé Kizeo'!$C$4:$R$1001,5,TRUE),"") -> 0 | K86: =J86 -> 0 | L86: 0 | M86: {=_xlfn.IFS(I86="",0,I86=0,0,I86="CP",0,I86="CEF",0,I86="CSS",0,I86="CEM",0,I86="MAL",0,I86="AT",0,I86="ABST J",0,I86="ABST I",0,I86="FERIE",0,I86="REPOS",0,I86<"1:00",$F$421)} -> 0 | N86: {=_xlfn.IFS(D86=0,0,AND(D86>=1,D86<=9),OFFSET($AL$5,MOD(WEEKNUM(A86,21)-1,26),IF(WEEKNUM(A86,21)>26,8,0))/5,D86=10,0,D86=11,(H86-E86+G86)*24+(K86-I86+M86)*24)} -> 0 | P86: =IF(ROW()>12,IF(WEEKDAY($A86)=$Q$2,INDIRECT(ADDRESS(ROW()-7,COLUMN())),0),IF(WEEKDAY($A86)=Q$2,G$3,0)) -> 0 | Q86: {=IF(LEFT(R$2,1)="-",-1,1)*INDIRECT(CONCATENATE(RIGHT(R$2,LEN(R$2)-1),ROW()))+IF(LEFT(R$3,1)="-",-1,1)*INDIRECT(CONCATENATE(RIGHT(R$3,LEN(R$3)-1),ROW()))} -> 0 | R86: =IF(ISNUMBER(R85),R85,0)+INDIRECT(CONCATENATE(R$4,ROW())) -> -159.75 | S86: =MAX(F86,L86) -> 0 | T86: =IF(D86=0,"",IF(S86=0,"",IF(S86<=5,"3MG",IF(S86<=20,"4,5MG",IF(S86<=30,"5,5MG",IF(S86<=50,"6,5MG",IF(S86<=70,"7MG",IF(S86<=100,"GD<100",IF(S86>100,"GD>100"))))))))) | V86: =IF(A86='Relevé Kizeo'!C47,VLOOKUP(A86,'Relevé Kizeo'!$C$4:$R$1001,6,TRUE),"") -> 0 | W86: =IF(D87="","",IF(D87=1,1,IF(D87=2,0,IF(D87=3,0,IF(D87=4,0,IF(D87=5,0,IF(D87=6,1,IF(D87=7,0,IF(D87=8,0,IF(D87=9,0,IF(D87=10,0,IF(D87=11,1)))))))))))) -> FALSE | Y86: =MID(Z86,1,8) -> 0 | Z86: =IF(A87='Relevé Kizeo'!C48,VLOOKUP(A87,'Relevé Kizeo'!$C$4:$R$1001,8,TRUE),"") -> 0 | AA86: =MID(AB86,1,6) -> 0 | AB86: =IF(A87='Relevé Kizeo'!C48,VLOOKUP(A87,'Relevé Kizeo'!$C$4:$R$1001,9,TRUE),"") -> 0 | AC86: =MID(AD86,1,6) -> 0 | AD86: =IF(A87='Relevé Kizeo'!C48,VLOOKUP(A87,'Relevé Kizeo'!$C$4:$R$1001,10,TRUE),"") -> 0 | AE86: =IF(N87=0,"",IF(N87>$F$418,N87-$F$418,$F$418-N87)) | AF86: =IF(ISERROR(IF(N87>$F$418,(HOUR(AE86)*60+MINUTE(AE86))/60,-(HOUR(AE86)*60+MINUTE(AE86))/60)),"",IF(N87>$F$418,(HOUR(AE86)*60+MINUTE(AE86))/60,-(HOUR(AE86)*60+MINUTE(AE86))/60))
A87: 44971 | C87: =IF(A87='Relevé Kizeo'!C48,VLOOKUP(A87,'Relevé Kizeo'!$C$4:$R$1001,2,TRUE),"") -> 0 | D87: =_xlfn.IFS(C87=0,0,C87="CP",1,C87="CEF",2,C87="CSS",3,C87="CEM",4,C87="MAL",5,C87="AT",6,C87="ABST J",7,C87="ABST I",8,C87="FERIE",9,C87="REPOS",10,C87<"1:00",11) -> 0 | E87: =IF(C87="CP",0,IF(C87="CEF",0,IF(C87="CSS",0,IF(C87="CEM",0,IF(C87="MAL",0,IF(C87="AT",0,IF(C87="ABST J",0,IF(C87="ABST I",0,IF(C87="FERIE",0,IF(C87="REPOS",0,C87)))))))))) -> 0 | F87: 0 | G87: {=_xlfn.IFS(C87="",0,C87=0,0,C87="CP",0,C87="CEF",0,C87="CSS",0,C87="CEM",0,C87="CEM",0,C87="MAL",0,C87="AT",0,C87="ABST J",0,C87="ABST I",0,C87="FERIE",0,C87="REPOS",0,C87<"1:00",$F$420)} -> 0 | H87: =IF(A87='Relevé Kizeo'!C48,VLOOKUP(A87,'Relevé Kizeo'!$C$4:$R$1001,3,TRUE),"") -> 0 | I87: =IF(A87='Relevé Kizeo'!C48,VLOOKUP(A87,'Relevé Kizeo'!$C$4:$R$1001,4,TRUE),"") -> 0 | J87: =IF(A87='Relevé Kizeo'!C48,VLOOKUP(A87,'Relevé Kizeo'!$C$4:$R$1001,5,TRUE),"") -> 0 | K87: =J87 -> 0 | L87: 0 | M87: {=_xlfn.IFS(I87="",0,I87=0,0,I87="CP",0,I87="CEF",0,I87="CSS",0,I87="CEM",0,I87="MAL",0,I87="AT",0,I87="ABST J",0,I87="ABST I",0,I87="FERIE",0,I87="REPOS",0,I87<"1:00",$F$421)} -> 0 | N87: {=_xlfn.IFS(D87=0,0,AND(D87>=1,D87<=9),OFFSET($AL$5,MOD(WEEKNUM(A87,21)-1,26),IF(WEEKNUM(A87,21)>26,8,0))/5,D87=10,0,D87=11,(H87-E87+G87)*24+(K87-I87+M87)*24)} -> 0 | P87: =IF(ROW()>12,IF(WEEKDAY($A87)=$Q$2,INDIRECT(ADDRESS(ROW()-7,COLUMN())),0),IF(WEEKDAY($A87)=Q$2,G$3,0)) -> 0 | Q87: {=IF(LEFT(R$2,1)="-",-1,1)*INDIRECT(CONCATENATE(RIGHT(R$2,LEN(R$2)-1),ROW()))+IF(LEFT(R$3,1)="-",-1,1)*INDIRECT(CONCATENATE(RIGHT(R$3,LEN(R$3)-1),ROW()))} -> 0 | R87: =IF(ISNUMBER(R86),R86,0)+INDIRECT(CONCATENATE(R$4,ROW())) -> -159.75 | S87: =MAX(F87,L87) -> 0 | T87: =IF(D87=0,"",IF(S87=0,"",IF(S87<=5,"3MG",IF(S87<=20,"4,5MG",IF(S87<=30,"5,5MG",IF(S87<=50,"6,5MG",IF(S87<=70,"7MG",IF(S87<=100,"GD<100",IF(S87>100,"GD>100"))))))))) | V87: =IF(A87='Relevé Kizeo'!C48,VLOOKUP(A87,'Relevé Kizeo'!$C$4:$R$1001,6,TRUE),"") -> 0 | W87: =IF(D88="","",IF(D88=1,1,IF(D88=2,0,IF(D88=3,0,IF(D88=4,0,IF(D88=5,0,IF(D88=6,1,IF(D88=7,0,IF(D88=8,0,IF(D88=9,0,IF(D88=10,0,IF(D88=11,1)))))))))))) -> FALSE | Y87: =MID(Z87,1,8) -> 0 | Z87: =IF(A88='Relevé Kizeo'!C49,VLOOKUP(A88,'Relevé Kizeo'!$C$4:$R$1001,8,TRUE),"") -> 0 | AA87: =MID(AB87,1,6) -> 0 | AB87: =IF(A88='Relevé Kizeo'!C49,VLOOKUP(A88,'Relevé Kizeo'!$C$4:$R$1001,9,TRUE),"") -> 0 | AC87: =MID(AD87,1,6) -> 0 | AD87: =IF(A88='Relevé Kizeo'!C49,VLOOKUP(A88,'Relevé Kizeo'!$C$4:$R$1001,10,TRUE),"") -> 0 | AE87: =IF(N88=0,"",IF(N88>$F$418,N88-$F$418,$F$418-N88)) | AF87: =IF(ISERROR(IF(N88>$F$418,(HOUR(AE87)*60+MINUTE(AE87))/60,-(HOUR(AE87)*60+MINUTE(AE87))/60)),"",IF(N88>$F$418,(HOUR(AE87)*60+MINUTE(AE87))/60,-(HOUR(AE87)*60+MINUTE(AE87))/60))
A88: 44972 | C88: =IF(A88='Relevé Kizeo'!C49,VLOOKUP(A88,'Relevé Kizeo'!$C$4:$R$1001,2,TRUE),"") -> 0 | D88: =_xlfn.IFS(C88=0,0,C88="CP",1,C88="CEF",2,C88="CSS",3,C88="CEM",4,C88="MAL",5,C88="AT",6,C88="ABST J",7,C88="ABST I",8,C88="FERIE",9,C88="REPOS",10,C88<"1:00",11) -> 0 | E88: =IF(C88="CP",0,IF(C88="CEF",0,IF(C88="CSS",0,IF(C88="CEM",0,IF(C88="MAL",0,IF(C88="AT",0,IF(C88="ABST J",0,IF(C88="ABST I",0,IF(C88="FERIE",0,IF(C88="REPOS",0,C88)))))))))) -> 0 | F88: 0 | G88: {=_xlfn.IFS(C88="",0,C88=0,0,C88="CP",0,C88="CEF",0,C88="CSS",0,C88="CEM",0,C88="CEM",0,C88="MAL",0,C88="AT",0,C88="ABST J",0,C88="ABST I",0,C88="FERIE",0,C88="REPOS",0,C88<"1:00",$F$420)} -> 0 | H88: =IF(A88='Relevé Kizeo'!C49,VLOOKUP(A88,'Relevé Kizeo'!$C$4:$R$1001,3,TRUE),"") -> 0 | I88: =IF(A88='Relevé Kizeo'!C49,VLOOKUP(A88,'Relevé Kizeo'!$C$4:$R$1001,4,TRUE),"") -> 0 | J88: =IF(A88='Relevé Kizeo'!C49,VLOOKUP(A88,'Relevé Kizeo'!$C$4:$R$1001,5,TRUE),"") -> 0 | K88: =J88 -> 0 | L88: 0 | M88: {=_xlfn.IFS(I88="",0,I88=0,0,I88="CP",0,I88="CEF",0,I88="CSS",0,I88="CEM",0,I88="MAL",0,I88="AT",0,I88="ABST J",0,I88="ABST I",0,I88="FERIE",0,I88="REPOS",0,I88<"1:00",$F$421)} -> 0 | N88: {=_xlfn.IFS(D88=0,0,AND(D88>=1,D88<=9),OFFSET($AL$5,MOD(WEEKNUM(A88,21)-1,26),IF(WEEKNUM(A88,21)>26,8,0))/5,D88=10,0,D88=11,(H88-E88+G88)*24+(K88-I88+M88)*24)} -> 0 | P88: =IF(ROW()>12,IF(WEEKDAY($A88)=$Q$2,INDIRECT(ADDRESS(ROW()-7,COLUMN())),0),IF(WEEKDAY($A88)=Q$2,G$3,0)) -> 0 | Q88: {=IF(LEFT(R$2,1)="-",-1,1)*INDIRECT(CONCATENATE(RIGHT(R$2,LEN(R$2)-1),ROW()))+IF(LEFT(R$3,1)="-",-1,1)*INDIRECT(CONCATENATE(RIGHT(R$3,LEN(R$3)-1),ROW()))} -> 0 | R88: =IF(ISNUMBER(R87),R87,0)+INDIRECT(CONCATENATE(R$4,ROW())) -> -159.75 | S88: =MAX(F88,L88) -> 0 | T88: =IF(D88=0,"",IF(S88=0,"",IF(S88<=5,"3MG",IF(S88<=20,"4,5MG",IF(S88<=30,"5,5MG",IF(S88<=50,"6,5MG",IF(S88<=70,"7MG",IF(S88<=100,"GD<100",IF(S88>100,"GD>100"))))))))) | V88: =IF(A88='Relevé Kizeo'!C49,VLOOKUP(A88,'Relevé Kizeo'!$C$4:$R$1001,6,TRUE),"") -> 0 | W88: =IF(D89="","",IF(D89=1,1,IF(D89=2,0,IF(D89=3,0,IF(D89=4,0,IF(D89=5,0,IF(D89=6,1,IF(D89=7,0,IF(D89=8,0,IF(D89=9,0,IF(D89=10,0,IF(D89=11,1)))))))))))) -> FALSE | Y88: =MID(Z88,1,8) -> 0 | Z88: =IF(A89='Relevé Kizeo'!C50,VLOOKUP(A89,'Relevé Kizeo'!$C$4:$R$1001,8,TRUE),"") -> 0 | AA88: =MID(AB88,1,6) -> 0 | AB88: =IF(A89='Relevé Kizeo'!C50,VLOOKUP(A89,'Relevé Kizeo'!$C$4:$R$1001,9,TRUE),"") -> 0 | AC88: =MID(AD88,1,6) -> 0 | AD88: =IF(A89='Relevé Kizeo'!C50,VLOOKUP(A89,'Relevé Kizeo'!$C$4:$R$1001,10,TRUE),"") -> 0 | AE88: =IF(N89=0,"",IF(N89>$F$418,N89-$F$418,$F$418-N89)) | AF88: =IF(ISERROR(IF(N89>$F$418,(HOUR(AE88)*60+MINUTE(AE88))/60,-(HOUR(AE88)*60+MINUTE(AE88))/60)),"",IF(N89>$F$418,(HOUR(AE88)*60+MINUTE(AE88))/60,-(HOUR(AE88)*60+MINUTE(AE88))/60))
A89: 44973 | C89: =IF(A89='Relevé Kizeo'!C50,VLOOKUP(A89,'Relevé Kizeo'!$C$4:$R$1001,2,TRUE),"") -> 0 | D89: =_xlfn.IFS(C89=0,0,C89="CP",1,C89="CEF",2,C89="CSS",3,C89="CEM",4,C89="MAL",5,C89="AT",6,C89="ABST J",7,C89="ABST I",8,C89="FERIE",9,C89="REPOS",10,C89<"1:00",11) -> 0 | E89: =IF(C89="CP",0,IF(C89="CEF",0,IF(C89="CSS",0,IF(C89="CEM",0,IF(C89="MAL",0,IF(C89="AT",0,IF(C89="ABST J",0,IF(C89="ABST I",0,IF(C89="FERIE",0,IF(C89="REPOS",0,C89)))))))))) -> 0 | F89: 0 | G89: {=_xlfn.IFS(C89="",0,C89=0,0,C89="CP",0,C89="CEF",0,C89="CSS",0,C89="CEM",0,C89="CEM",0,C89="MAL",0,C89="AT",0,C89="ABST J",0,C89="ABST I",0,C89="FERIE",0,C89="REPOS",0,C89<"1:00",$F$420)} -> 0 | H89: =IF(A89='Relevé Kizeo'!C50,VLOOKUP(A89,'Relevé Kizeo'!$C$4:$R$1001,3,TRUE),"") -> 0 | I89: =IF(A89='Relevé Kizeo'!C50,VLOOKUP(A89,'Relevé Kizeo'!$C$4:$R$1001,4,TRUE),"") -> 0 | J89: =IF(A89='Relevé Kizeo'!C50,VLOOKUP(A89,'Relevé Kizeo'!$C$4:$R$1001,5,TRUE),"") -> 0 | K89: =J89 -> 0 | L89: 0 | M89: {=_xlfn.IFS(I89="",0,I89=0,0,I89="CP",0,I89="CEF",0,I89="CSS",0,I89="CEM",0,I89="MAL",0,I89="AT",0,I89="ABST J",0,I89="ABST I",0,I89="FERIE",0,I89="REPOS",0,I89<"1:00",$F$421)} -> 0 | N89: {=_xlfn.IFS(D89=0,0,AND(D89>=1,D89<=9),OFFSET($AL$5,MOD(WEEKNUM(A89,21)-1,26),IF(WEEKNUM(A89,21)>26,8,0))/5,D89=10,0,D89=11,(H89-E89+G89)*24+(K89-I89+M89)*24)} -> 0 | P89: =IF(ROW()>12,IF(WEEKDAY($A89)=$Q$2,INDIRECT(ADDRESS(ROW()-7,COLUMN())),0),IF(WEEKDAY($A89)=Q$2,G$3,0)) -> 0 | Q89: {=IF(LEFT(R$2,1)="-",-1,1)*INDIRECT(CONCATENATE(RIGHT(R$2,LEN(R$2)-1),ROW()))+IF(LEFT(R$3,1)="-",-1,1)*INDIRECT(CONCATENATE(RIGHT(R$3,LEN(R$3)-1),ROW()))} -> 0 | R89: =IF(ISNUMBER(R88),R88,0)+INDIRECT(CONCATENATE(R$4,ROW())) -> -159.75 | S89: =MAX(F89,L89) -> 0 | T89: =IF(D89=0,"",IF(S89=0,"",IF(S89<=5,"3MG",IF(S89<=20,"4,5MG",IF(S89<=30,"5,5MG",IF(S89<=50,"6,5MG",IF(S89<=70,"7MG",IF(S89<=100,"GD<100",IF(S89>100,"GD>100"))))))))) | V89: =IF(A89='Relevé Kizeo'!C50,VLOOKUP(A89,'Relevé Kizeo'!$C$4:$R$1001,6,TRUE),"") -> 0 | W89: =IF(D90="","",IF(D90=1,1,IF(D90=2,0,IF(D90=3,0,IF(D90=4,0,IF(D90=5,0,IF(D90=6,1,IF(D90=7,0,IF(D90=8,0,IF(D90=9,0,IF(D90=10,0,IF(D90=11,1)))))))))))) -> FALSE | Y89: =MID(Z89,1,8) -> 0 | Z89: =IF(A90='Relevé Kizeo'!C51,VLOOKUP(A90,'Relevé Kizeo'!$C$4:$R$1001,8,TRUE),"") -> 0 | AA89: =MID(AB89,1,6) -> 0 | AB89: =IF(A90='Relevé Kizeo'!C51,VLOOKUP(A90,'Relevé Kizeo'!$C$4:$R$1001,9,TRUE),"") -> 0 | AC89: =MID(AD89,1,6) -> 0 | AD89: =IF(A90='Relevé Kizeo'!C51,VLOOKUP(A90,'Relevé Kizeo'!$C$4:$R$1001,10,TRUE),"") -> 0 | AE89: =IF(N90=0,"",IF(N90>$F$418,N90-$F$418,$F$418-N90)) | AF89: =IF(ISERROR(IF(N90>$F$418,(HOUR(AE89)*60+MINUTE(AE89))/60,-(HOUR(AE89)*60+MINUTE(AE89))/60)),"",IF(N90>$F$418,(HOUR(AE89)*60+MINUTE(AE89))/60,-(HOUR(AE89)*60+MINUTE(AE89))/60))
A90: 44974 | C90: =IF(A90='Relevé Kizeo'!C51,VLOOKUP(A90,'Relevé Kizeo'!$C$4:$R$1001,2,TRUE),"") -> 0 | D90: =_xlfn.IFS(C90=0,0,C90="CP",1,C90="CEF",2,C90="CSS",3,C90="CEM",4,C90="MAL",5,C90="AT",6,C90="ABST J",7,C90="ABST I",8,C90="FERIE",9,C90="REPOS",10,C90<"1:00",11) -> 0 | E90: =IF(C90="CP",0,IF(C90="CEF",0,IF(C90="CSS",0,IF(C90="CEM",0,IF(C90="MAL",0,IF(C90="AT",0,IF(C90="ABST J",0,IF(C90="ABST I",0,IF(C90="FERIE",0,IF(C90="REPOS",0,C90)))))))))) -> 0 | F90: 0 | G90: {=_xlfn.IFS(C90="",0,C90=0,0,C90="CP",0,C90="CEF",0,C90="CSS",0,C90="CEM",0,C90="CEM",0,C90="MAL",0,C90="AT",0,C90="ABST J",0,C90="ABST I",0,C90="FERIE",0,C90="REPOS",0,C90<"1:00",$F$420)} -> 0 | H90: =IF(A90='Relevé Kizeo'!C51,VLOOKUP(A90,'Relevé Kizeo'!$C$4:$R$1001,3,TRUE),"") -> 0 | I90: =IF(A90='Relevé Kizeo'!C51,VLOOKUP(A90,'Relevé Kizeo'!$C$4:$R$1001,4,TRUE),"") -> 0 | J90: =IF(A90='Relevé Kizeo'!C51,VLOOKUP(A90,'Relevé Kizeo'!$C$4:$R$1001,5,TRUE),"") -> 0 | K90: =J90 -> 0 | L90: 0 | M90: {=_xlfn.IFS(I90="",0,I90=0,0,I90="CP",0,I90="CEF",0,I90="CSS",0,I90="CEM",0,I90="MAL",0,I90="AT",0,I90="ABST J",0,I90="ABST I",0,I90="FERIE",0,I90="REPOS",0,I90<"1:00",$F$421)} -> 0 | N90: {=_xlfn.IFS(D90=0,0,AND(D90>=1,D90<=9),OFFSET($AL$5,MOD(WEEKNUM(A90,21)-1,26),IF(WEEKNUM(A90,21)>26,8,0))/5,D90=10,0,D90=11,(H90-E90+G90)*24+(K90-I90+M90)*24)} -> 0 | P90: =IF(ROW()>12,IF(WEEKDAY($A90)=$Q$2,INDIRECT(ADDRESS(ROW()-7,COLUMN())),0),IF(WEEKDAY($A90)=Q$2,G$3,0)) -> 0 | Q90: {=IF(LEFT(R$2,1)="-",-1,1)*INDIRECT(CONCATENATE(RIGHT(R$2,LEN(R$2)-1),ROW()))+IF(LEFT(R$3,1)="-",-1,1)*INDIRECT(CONCATENATE(RIGHT(R$3,LEN(R$3)-1),ROW()))} -> 0 | R90: =IF(ISNUMBER(R89),R89,0)+INDIRECT(CONCATENATE(R$4,ROW())) -> -159.75 | S90: =MAX(F90,L90) -> 0 | T90: =IF(D90=0,"",IF(S90=0,"",IF(S90<=5,"3MG",IF(S90<=20,"4,5MG",IF(S90<=30,"5,5MG",IF(S90<=50,"6,5MG",IF(S90<=70,"7MG",IF(S90<=100,"GD<100",IF(S90>100,"GD>100"))))))))) | V90: =IF(A90='Relevé Kizeo'!C51,VLOOKUP(A90,'Relevé Kizeo'!$C$4:$R$1001,6,TRUE),"") -> 0 | W90: =IF(D91="","",IF(D91=1,1,IF(D91=2,0,IF(D91=3,0,IF(D91=4,0,IF(D91=5,0,IF(D91=6,1,IF(D91=7,0,IF(D91=8,0,IF(D91=9,0,IF(D91=10,0,IF(D91=11,1)))))))))))) -> 0 | Y90: =MID(Z90,1,8) -> 0 | Z90: =IF(A91='Relevé Kizeo'!C52,VLOOKUP(A91,'Relevé Kizeo'!$C$4:$R$1001,8,TRUE),"") -> 0 | AA90: =MID(AB90,1,6) -> 0 | AB90: =IF(A91='Relevé Kizeo'!C52,VLOOKUP(A91,'Relevé Kizeo'!$C$4:$R$1001,9,TRUE),"") -> 0 | AC90: =MID(AD90,1,6) -> 0 | AD90: =IF(A91='Relevé Kizeo'!C52,VLOOKUP(A91,'Relevé Kizeo'!$C$4:$R$1001,10,TRUE),"") -> 0 | AE90: =IF(N91=0,"",IF(N91>$F$418,N91-$F$418,$F$418-N91)) | AF90: =IF(ISERROR(IF(N91>$F$418,(HOUR(AE90)*60+MINUTE(AE90))/60,-(HOUR(AE90)*60+MINUTE(AE90))/60)),"",IF(N91>$F$418,(HOUR(AE90)*60+MINUTE(AE90))/60,-(HOUR(AE90)*60+MINUTE(AE90))/60))
A91: 44975 | C91: =IF(A91='Relevé Kizeo'!C52,VLOOKUP(A91,'Relevé Kizeo'!$C$4:$R$1001,2,TRUE),"") -> REPOS | D91: =_xlfn.IFS(C91=0,0,C91="CP",1,C91="CEF",2,C91="CSS",3,C91="CEM",4,C91="MAL",5,C91="AT",6,C91="ABST J",7,C91="ABST I",8,C91="FERIE",9,C91="REPOS",10,C91<"1:00",11) -> 10 | E91: =IF(C91="CP",0,IF(C91="CEF",0,IF(C91="CSS",0,IF(C91="CEM",0,IF(C91="MAL",0,IF(C91="AT",0,IF(C91="ABST J",0,IF(C91="ABST I",0,IF(C91="FERIE",0,IF(C91="REPOS",0,C91)))))))))) -> 0 | F91: 0 | G91: {=_xlfn.IFS(C91="",0,C91=0,0,C91="CP",0,C91="CEF",0,C91="CSS",0,C91="CEM",0,C91="CEM",0,C91="MAL",0,C91="AT",0,C91="ABST J",0,C91="ABST I",0,C91="FERIE",0,C91="REPOS",0,C91<"1:00",$F$420)} -> 0 | H91: =IF(A91='Relevé Kizeo'!C52,VLOOKUP(A91,'Relevé Kizeo'!$C$4:$R$1001,3,TRUE),"") -> 0 | I91: =IF(A91='Relevé Kizeo'!C52,VLOOKUP(A91,'Relevé Kizeo'!$C$4:$R$1001,4,TRUE),"") -> 0 | J91: =IF(A91='Relevé Kizeo'!C52,VLOOKUP(A91,'Relevé Kizeo'!$C$4:$R$1001,5,TRUE),"") -> 0 | K91: =J91 -> 0 | L91: 0 | M91: {=_xlfn.IFS(I91="",0,I91=0,0,I91="CP",0,I91="CEF",0,I91="CSS",0,I91="CEM",0,I91="MAL",0,I91="AT",0,I91="ABST J",0,I91="ABST I",0,I91="FERIE",0,I91="REPOS",0,I91<"1:00",$F$421)} -> 0 | N91: {=_xlfn.IFS(D91=0,0,AND(D91>=1,D91<=9),OFFSET($AL$5,MOD(WEEKNUM(A91,21)-1,26),IF(WEEKNUM(A91,21)>26,8,0))/5,D91=10,0,D91=11,(H91-E91+G91)*24+(K91-I91+M91)*24)} -> 0 | P91: =IF(ROW()>12,IF(WEEKDAY($A91)=$Q$2,INDIRECT(ADDRESS(ROW()-7,COLUMN())),0),IF(WEEKDAY($A91)=Q$2,G$3,0)) -> 0 | Q91: {=IF(LEFT(R$2,1)="-",-1,1)*INDIRECT(CONCATENATE(RIGHT(R$2,LEN(R$2)-1),ROW()))+IF(LEFT(R$3,1)="-",-1,1)*INDIRECT(CONCATENATE(RIGHT(R$3,LEN(R$3)-1),ROW()))} -> 0 | R91: =IF(ISNUMBER(R90),R90,0)+INDIRECT(CONCATENATE(R$4,ROW())) -> -159.75 | S91: =MAX(F91,L91) -> 0 | T91: =IF(D91=0,"",IF(S91=0,"",IF(S91<=5,"3MG",IF(S91<=20,"4,5MG",IF(S91<=30,"5,5MG",IF(S91<=50,"6,5MG",IF(S91<=70,"7MG",IF(S91<=100,"GD<100",IF(S91>100,"GD>100"))))))))) | V91: =IF(A91='Relevé Kizeo'!C52,VLOOKUP(A91,'Relevé Kizeo'!$C$4:$R$1001,6,TRUE),"") -> 0 | W91: =IF(D92="","",IF(D92=1,1,IF(D92=2,0,IF(D92=3,0,IF(D92=4,0,IF(D92=5,0,IF(D92=6,1,IF(D92=7,0,IF(D92=8,0,IF(D92=9,0,IF(D92=10,0,IF(D92=11,1)))))))))))) -> 0 | Y91: =MID(Z91,1,8) -> 0 | Z91: =IF(A92='Relevé Kizeo'!C53,VLOOKUP(A92,'Relevé Kizeo'!$C$4:$R$1001,8,TRUE),"") -> 0 | AA91: =MID(AB91,1,6) -> 0 | AB91: =IF(A92='Relevé Kizeo'!C53,VLOOKUP(A92,'Relevé Kizeo'!$C$4:$R$1001,9,TRUE),"") -> 0 | AC91: =MID(AD91,1,6) -> 0 | AD91: =IF(A92='Relevé Kizeo'!C53,VLOOKUP(A92,'Relevé Kizeo'!$C$4:$R$1001,10,TRUE),"") -> 0 | AE91: =IF(N92=0,"",IF(N92>$F$418,N92-$F$418,$F$418-N92)) | AF91: =IF(ISERROR(IF(N92>$F$418,(HOUR(AE91)*60+MINUTE(AE91))/60,-(HOUR(AE91)*60+MINUTE(AE91))/60)),"",IF(N92>$F$418,(HOUR(AE91)*60+MINUTE(AE91))/60,-(HOUR(AE91)*60+MINUTE(AE91))/60))
A92: 44976 | C92: =IF(A92='Relevé Kizeo'!C53,VLOOKUP(A92,'Relevé Kizeo'!$C$4:$R$1001,2,TRUE),"") -> REPOS | D92: =_xlfn.IFS(C92=0,0,C92="CP",1,C92="CEF",2,C92="CSS",3,C92="CEM",4,C92="MAL",5,C92="AT",6,C92="ABST J",7,C92="ABST I",8,C92="FERIE",9,C92="REPOS",10,C92<"1:00",11) -> 10 | E92: =IF(C92="CP",0,IF(C92="CEF",0,IF(C92="CSS",0,IF(C92="CEM",0,IF(C92="MAL",0,IF(C92="AT",0,IF(C92="ABST J",0,IF(C92="ABST I",0,IF(C92="FERIE",0,IF(C92="REPOS",0,C92)))))))))) -> 0 | F92: 0 | G92: {=_xlfn.IFS(C92="",0,C92=0,0,C92="CP",0,C92="CEF",0,C92="CSS",0,C92="CEM",0,C92="CEM",0,C92="MAL",0,C92="AT",0,C92="ABST J",0,C92="ABST I",0,C92="FERIE",0,C92="REPOS",0,C92<"1:00",$F$420)} -> 0 | H92: =IF(A92='Relevé Kizeo'!C53,VLOOKUP(A92,'Relevé Kizeo'!$C$4:$R$1001,3,TRUE),"") -> 0 | I92: =IF(A92='Relevé Kizeo'!C53,VLOOKUP(A92,'Relevé Kizeo'!$C$4:$R$1001,4,TRUE),"") -> 0 | J92: =IF(A92='Relevé Kizeo'!C53,VLOOKUP(A92,'Relevé Kizeo'!$C$4:$R$1001,5,TRUE),"") -> 0 | K92: =J92 -> 0 | L92: 0 | M92: {=_xlfn.IFS(I92="",0,I92=0,0,I92="CP",0,I92="CEF",0,I92="CSS",0,I92="CEM",0,I92="MAL",0,I92="AT",0,I92="ABST J",0,I92="ABST I",0,I92="FERIE",0,I92="REPOS",0,I92<"1:00",$F$421)} -> 0 | N92: {=_xlfn.IFS(D92=0,0,AND(D92>=1,D92<=9),OFFSET($AL$5,MOD(WEEKNUM(A92,21)-1,26),IF(WEEKNUM(A92,21)>26,8,0))/5,D92=10,0,D92=11,(H92-E92+G92)*24+(K92-I92+M92)*24)} -> 0 | O92: =SUM(N86:N90) -> 0 | P92: 32 | Q92: {=IF(LEFT(R$2,1)="-",-1,1)*INDIRECT(CONCATENATE(RIGHT(R$2,LEN(R$2)-1),ROW()))+IF(LEFT(R$3,1)="-",-1,1)*INDIRECT(CONCATENATE(RIGHT(R$3,LEN(R$3)-1),ROW()))} -> -32 | R92: =IF(ISNUMBER(R91),R91,0)+INDIRECT(CONCATENATE(R$4,ROW())) -> -191.75 | S92: =MAX(F92,L92) -> 0 | T92: =IF(D92=0,"",IF(S92=0,"",IF(S92<=5,"3MG",IF(S92<=20,"4,5MG",IF(S92<=30,"5,5MG",IF(S92<=50,"6,5MG",IF(S92<=70,"7MG",IF(S92<=100,"GD<100",IF(S92>100,"GD>100"))))))))) | V92: =IF(A92='Relevé Kizeo'!C53,VLOOKUP(A92,'Relevé Kizeo'!$C$4:$R$1001,6,TRUE),"") -> 0 | W92: =IF(D93="","",IF(D93=1,1,IF(D93=2,0,IF(D93=3,0,IF(D93=4,0,IF(D93=5,0,IF(D93=6,1,IF(D93=7,0,IF(D93=8,0,IF(D93=9,0,IF(D93=10,0,IF(D93=11,1)))))))))))) -> FALSE | Y92: =MID(Z92,1,8) -> 0 | Z92: =IF(A93='Relevé Kizeo'!C54,VLOOKUP(A93,'Relevé Kizeo'!$C$4:$R$1001,8,TRUE),"") -> 0 | AA92: =MID(AB92,1,6) -> 0 | AB92: =IF(A93='Relevé Kizeo'!C54,VLOOKUP(A93,'Relevé Kizeo'!$C$4:$R$1001,9,TRUE),"") -> 0 | AC92: =MID(AD92,1,6) -> 0 | AD92: =IF(A93='Relevé Kizeo'!C54,VLOOKUP(A93,'Relevé Kizeo'!$C$4:$R$1001,10,TRUE),"") -> 0 | AE92: =IF(N93=0,"",IF(N93>$F$418,N93-$F$418,$F$418-N93)) | AF92: =IF(ISERROR(IF(N93>$F$418,(HOUR(AE92)*60+MINUTE(AE92))/60,-(HOUR(AE92)*60+MINUTE(AE92))/60)),"",IF(N93>$F$418,(HOUR(AE92)*60+MINUTE(AE92))/60,-(HOUR(AE92)*60+MINUTE(AE92))/60))
A93: 44977 | B93: S08 | C93: =IF(A93='Relevé Kizeo'!C54,VLOOKUP(A93,'Relevé Kizeo'!$C$4:$R$1001,2,TRUE),"") -> 0 | D93: =_xlfn.IFS(C93=0,0,C93="CP",1,C93="CEF",2,C93="CSS",3,C93="CEM",4,C93="MAL",5,C93="AT",6,C93="ABST J",7,C93="ABST I",8,C93="FERIE",9,C93="REPOS",10,C93<"1:00",11) -> 0 | E93: =IF(C93="CP",0,IF(C93="CEF",0,IF(C93="CSS",0,IF(C93="CEM",0,IF(C93="MAL",0,IF(C93="AT",0,IF(C93="ABST J",0,IF(C93="ABST I",0,IF(C93="FERIE",0,IF(C93="REPOS",0,C93)))))))))) -> 0 | F93: 0 | G93: {=_xlfn.IFS(C93="",0,C93=0,0,C93="CP",0,C93="CEF",0,C93="CSS",0,C93="CEM",0,C93="CEM",0,C93="MAL",0,C93="AT",0,C93="ABST J",0,C93="ABST I",0,C93="FERIE",0,C93="REPOS",0,C93<"1:00",$F$420)} -> 0 | H93: =IF(A93='Relevé Kizeo'!C54,VLOOKUP(A93,'Relevé Kizeo'!$C$4:$R$1001,3,TRUE),"") -> 0 | I93: =IF(A93='Relevé Kizeo'!C54,VLOOKUP(A93,'Relevé Kizeo'!$C$4:$R$1001,4,TRUE),"") -> 0 | J93: =IF(A93='Relevé Kizeo'!C54,VLOOKUP(A93,'Relevé Kizeo'!$C$4:$R$1001,5,TRUE),"") -> 0 | K93: =J93 -> 0 | L93: 0 | M93: {=_xlfn.IFS(I93="",0,I93=0,0,I93="CP",0,I93="CEF",0,I93="CSS",0,I93="CEM",0,I93="MAL",0,I93="AT",0,I93="ABST J",0,I93="ABST I",0,I93="FERIE",0,I93="REPOS",0,I93<"1:00",$F$421)} -> 0 | N93: {=_xlfn.IFS(D93=0,0,AND(D93>=1,D93<=9),OFFSET($AL$5,MOD(WEEKNUM(A93,21)-1,26),IF(WEEKNUM(A93,21)>26,8,0))/5,D93=10,0,D93=11,(H93-E93+G93)*24+(K93-I93+M93)*24)} -> 0 | P93: =IF(ROW()>12,IF(WEEKDAY($A93)=$Q$2,INDIRECT(ADDRESS(ROW()-7,COLUMN())),0),IF(WEEKDAY($A93)=Q$2,G$3,0)) -> 0 | Q93: {=IF(LEFT(R$2,1)="-",-1,1)*INDIRECT(CONCATENATE(RIGHT(R$2,LEN(R$2)-1),ROW()))+IF(LEFT(R$3,1)="-",-1,1)*INDIRECT(CONCATENATE(RIGHT(R$3,LEN(R$3)-1),ROW()))} -> 0 | R93: =IF(ISNUMBER(R92),R92,0)+INDIRECT(CONCATENATE(R$4,ROW())) -> -191.75 | S93: =MAX(F93,L93) -> 0 | T93: =IF(D93=0,"",IF(S93=0,"",IF(S93<=5,"3MG",IF(S93<=20,"4,5MG",IF(S93<=30,"5,5MG",IF(S93<=50,"6,5MG",IF(S93<=70,"7MG",IF(S93<=100,"GD<100",IF(S93>100,"GD>100"))))))))) | V93: =IF(A93='Relevé Kizeo'!C54,VLOOKUP(A93,'Relevé Kizeo'!$C$4:$R$1001,6,TRUE),"") -> 0 | W93: =IF(D94="","",IF(D94=1,1,IF(D94=2,0,IF(D94=3,0,IF(D94=4,0,IF(D94=5,0,IF(D94=6,1,IF(D94=7,0,IF(D94=8,0,IF(D94=9,0,IF(D94=10,0,IF(D94=11,1)))))))))))) -> FALSE | Y93: =MID(Z93,1,8) -> 0 | Z93: =IF(A94='Relevé Kizeo'!C55,VLOOKUP(A94,'Relevé Kizeo'!$C$4:$R$1001,8,TRUE),"") -> 0 | AA93: =MID(AB93,1,6) -> 0 | AB93: =IF(A94='Relevé Kizeo'!C55,VLOOKUP(A94,'Relevé Kizeo'!$C$4:$R$1001,9,TRUE),"") -> 0 | AC93: =MID(AD93,1,6) -> 0 | AD93: =IF(A94='Relevé Kizeo'!C55,VLOOKUP(A94,'Relevé Kizeo'!$C$4:$R$1001,10,TRUE),"") -> 0 | AE93: =IF(N94=0,"",IF(N94>$F$418,N94-$F$418,$F$418-N94)) | AF93: =IF(ISERROR(IF(N94>$F$418,(HOUR(AE93)*60+MINUTE(AE93))/60,-(HOUR(AE93)*60+MINUTE(AE93))/60)),"",IF(N94>$F$418,(HOUR(AE93)*60+MINUTE(AE93))/60,-(HOUR(AE93)*60+MINUTE(AE93))/60))
A94: 44978 | C94: =IF(A94='Relevé Kizeo'!C55,VLOOKUP(A94,'Relevé Kizeo'!$C$4:$R$1001,2,TRUE),"") -> 0 | D94: =_xlfn.IFS(C94=0,0,C94="CP",1,C94="CEF",2,C94="CSS",3,C94="CEM",4,C94="MAL",5,C94="AT",6,C94="ABST J",7,C94="ABST I",8,C94="FERIE",9,C94="REPOS",10,C94<"1:00",11) -> 0 | E94: =IF(C94="CP",0,IF(C94="CEF",0,IF(C94="CSS",0,IF(C94="CEM",0,IF(C94="MAL",0,IF(C94="AT",0,IF(C94="ABST J",0,IF(C94="ABST I",0,IF(C94="FERIE",0,IF(C94="REPOS",0,C94)))))))))) -> 0 | F94: 0 | G94: {=_xlfn.IFS(C94="",0,C94=0,0,C94="CP",0,C94="CEF",0,C94="CSS",0,C94="CEM",0,C94="CEM",0,C94="MAL",0,C94="AT",0,C94="ABST J",0,C94="ABST I",0,C94="FERIE",0,C94="REPOS",0,C94<"1:00",$F$420)} -> 0 | H94: =IF(A94='Relevé Kizeo'!C55,VLOOKUP(A94,'Relevé Kizeo'!$C$4:$R$1001,3,TRUE),"") -> 0 | I94: =IF(A94='Relevé Kizeo'!C55,VLOOKUP(A94,'Relevé Kizeo'!$C$4:$R$1001,4,TRUE),"") -> 0 | J94: =IF(A94='Relevé Kizeo'!C55,VLOOKUP(A94,'Relevé Kizeo'!$C$4:$R$1001,5,TRUE),"") -> 0 | K94: =J94 -> 0 | L94: 0 | M94: {=_xlfn.IFS(I94="",0,I94=0,0,I94="CP",0,I94="CEF",0,I94="CSS",0,I94="CEM",0,I94="MAL",0,I94="AT",0,I94="ABST J",0,I94="ABST I",0,I94="FERIE",0,I94="REPOS",0,I94<"1:00",$F$421)} -> 0 | N94: {=_xlfn.IFS(D94=0,0,AND(D94>=1,D94<=9),OFFSET($AL$5,MOD(WEEKNUM(A94,21)-1,26),IF(WEEKNUM(A94,21)>26,8,0))/5,D94=10,0,D94=11,(H94-E94+G94)*24+(K94-I94+M94)*24)} -> 0 | P94: =IF(ROW()>12,IF(WEEKDAY($A94)=$Q$2,INDIRECT(ADDRESS(ROW()-7,COLUMN())),0),IF(WEEKDAY($A94)=Q$2,G$3,0)) -> 0 | Q94: {=IF(LEFT(R$2,1)="-",-1,1)*INDIRECT(CONCATENATE(RIGHT(R$2,LEN(R$2)-1),ROW()))+IF(LEFT(R$3,1)="-",-1,1)*INDIRECT(CONCATENATE(RIGHT(R$3,LEN(R$3)-1),ROW()))} -> 0 | R94: =IF(ISNUMBER(R93),R93,0)+INDIRECT(CONCATENATE(R$4,ROW())) -> -191.75 | S94: =MAX(F94,L94) -> 0 | T94: =IF(D94=0,"",IF(S94=0,"",IF(S94<=5,"3MG",IF(S94<=20,"4,5MG",IF(S94<=30,"5,5MG",IF(S94<=50,"6,5MG",IF(S94<=70,"7MG",IF(S94<=100,"GD<100",IF(S94>100,"GD>100"))))))))) | V94: =IF(A94='Relevé Kizeo'!C55,VLOOKUP(A94,'Relevé Kizeo'!$C$4:$R$1001,6,TRUE),"") -> 0 | W94: =IF(D95="","",IF(D95=1,1,IF(D95=2,0,IF(D95=3,0,IF(D95=4,0,IF(D95=5,0,IF(D95=6,1,IF(D95=7,0,IF(D95=8,0,IF(D95=9,0,IF(D95=10,0,IF(D95=11,1)))))))))))) -> FALSE | Y94: =MID(Z94,1,8) -> 0 | Z94: =IF(A95='Relevé Kizeo'!C56,VLOOKUP(A95,'Relevé Kizeo'!$C$4:$R$1001,8,TRUE),"") -> 0 | AA94: =MID(AB94,1,6) -> 0 | AB94: =IF(A95='Relevé Kizeo'!C56,VLOOKUP(A95,'Relevé Kizeo'!$C$4:$R$1001,9,TRUE),"") -> 0 | AC94: =MID(AD94,1,6) -> 0 | AD94: =IF(A95='Relevé Kizeo'!C56,VLOOKUP(A95,'Relevé Kizeo'!$C$4:$R$1001,10,TRUE),"") -> 0 | AE94: =IF(N95=0,"",IF(N95>$F$418,N95-$F$418,$F$418-N95)) | AF94: =IF(ISERROR(IF(N95>$F$418,(HOUR(AE94)*60+MINUTE(AE94))/60,-(HOUR(AE94)*60+MINUTE(AE94))/60)),"",IF(N95>$F$418,(HOUR(AE94)*60+MINUTE(AE94))/60,-(HOUR(AE94)*60+MINUTE(AE94))/60))
A95: 44979 | C95: =IF(A95='Relevé Kizeo'!C56,VLOOKUP(A95,'Relevé Kizeo'!$C$4:$R$1001,2,TRUE),"") -> 0 | D95: =_xlfn.IFS(C95=0,0,C95="CP",1,C95="CEF",2,C95="CSS",3,C95="CEM",4,C95="MAL",5,C95="AT",6,C95="ABST J",7,C95="ABST I",8,C95="FERIE",9,C95="REPOS",10,C95<"1:00",11) -> 0 | E95: =IF(C95="CP",0,IF(C95="CEF",0,IF(C95="CSS",0,IF(C95="CEM",0,IF(C95="MAL",0,IF(C95="AT",0,IF(C95="ABST J",0,IF(C95="ABST I",0,IF(C95="FERIE",0,IF(C95="REPOS",0,C95)))))))))) -> 0 | F95: 0 | G95: {=_xlfn.IFS(C95="",0,C95=0,0,C95="CP",0,C95="CEF",0,C95="CSS",0,C95="CEM",0,C95="CEM",0,C95="MAL",0,C95="AT",0,C95="ABST J",0,C95="ABST I",0,C95="FERIE",0,C95="REPOS",0,C95<"1:00",$F$420)} -> 0 | H95: =IF(A95='Relevé Kizeo'!C56,VLOOKUP(A95,'Relevé Kizeo'!$C$4:$R$1001,3,TRUE),"") -> 0 | I95: =IF(A95='Relevé Kizeo'!C56,VLOOKUP(A95,'Relevé Kizeo'!$C$4:$R$1001,4,TRUE),"") -> 0 | J95: =IF(A95='Relevé Kizeo'!C56,VLOOKUP(A95,'Relevé Kizeo'!$C$4:$R$1001,5,TRUE),"") -> 0 | K95: =J95 -> 0 | L95: 0 | M95: {=_xlfn.IFS(I95="",0,I95=0,0,I95="CP",0,I95="CEF",0,I95="CSS",0,I95="CEM",0,I95="MAL",0,I95="AT",0,I95="ABST J",0,I95="ABST I",0,I95="FERIE",0,I95="REPOS",0,I95<"1:00",$F$421)} -> 0 | N95: {=_xlfn.IFS(D95=0,0,AND(D95>=1,D95<=9),OFFSET($AL$5,MOD(WEEKNUM(A95,21)-1,26),IF(WEEKNUM(A95,21)>26,8,0))/5,D95=10,0,D95=11,(H95-E95+G95)*24+(K95-I95+M95)*24)} -> 0 | P95: =IF(ROW()>12,IF(WEEKDAY($A95)=$Q$2,INDIRECT(ADDRESS(ROW()-7,COLUMN())),0),IF(WEEKDAY($A95)=Q$2,G$3,0)) -> 0 | Q95: {=IF(LEFT(R$2,1)="-",-1,1)*INDIRECT(CONCATENATE(RIGHT(R$2,LEN(R$2)-1),ROW()))+IF(LEFT(R$3,1)="-",-1,1)*INDIRECT(CONCATENATE(RIGHT(R$3,LEN(R$3)-1),ROW()))} -> 0 | R95: =IF(ISNUMBER(R94),R94,0)+INDIRECT(CONCATENATE(R$4,ROW())) -> -191.75 | S95: =MAX(F95,L95) -> 0 | T95: =IF(D95=0,"",IF(S95=0,"",IF(S95<=5,"3MG",IF(S95<=20,"4,5MG",IF(S95<=30,"5,5MG",IF(S95<=50,"6,5MG",IF(S95<=70,"7MG",IF(S95<=100,"GD<100",IF(S95>100,"GD>100"))))))))) | V95: =IF(A95='Relevé Kizeo'!C56,VLOOKUP(A95,'Relevé Kizeo'!$C$4:$R$1001,6,TRUE),"") -> 0 | W95: =IF(D96="","",IF(D96=1,1,IF(D96=2,0,IF(D96=3,0,IF(D96=4,0,IF(D96=5,0,IF(D96=6,1,IF(D96=7,0,IF(D96=8,0,IF(D96=9,0,IF(D96=10,0,IF(D96=11,1)))))))))))) -> FALSE | Y95: =MID(Z95,1,8) -> 0 | Z95: =IF(A96='Relevé Kizeo'!C57,VLOOKUP(A96,'Relevé Kizeo'!$C$4:$R$1001,8,TRUE),"") -> 0 | AA95: =MID(AB95,1,6) -> 0 | AB95: =IF(A96='Relevé Kizeo'!C57,VLOOKUP(A96,'Relevé Kizeo'!$C$4:$R$1001,9,TRUE),"") -> 0 | AC95: =MID(AD95,1,6) -> 0 | AD95: =IF(A96='Relevé Kizeo'!C57,VLOOKUP(A96,'Relevé Kizeo'!$C$4:$R$1001,10,TRUE),"") -> 0 | AE95: =IF(N96=0,"",IF(N96>$F$418,N96-$F$418,$F$418-N96)) | AF95: =IF(ISERROR(IF(N96>$F$418,(HOUR(AE95)*60+MINUTE(AE95))/60,-(HOUR(AE95)*60+MINUTE(AE95))/60)),"",IF(N96>$F$418,(HOUR(AE95)*60+MINUTE(AE95))/60,-(HOUR(AE95)*60+MINUTE(AE95))/60))
A96: 44980 | C96: =IF(A96='Relevé Kizeo'!C57,VLOOKUP(A96,'Relevé Kizeo'!$C$4:$R$1001,2,TRUE),"") -> 0 | D96: =_xlfn.IFS(C96=0,0,C96="CP",1,C96="CEF",2,C96="CSS",3,C96="CEM",4,C96="MAL",5,C96="AT",6,C96="ABST J",7,C96="ABST I",8,C96="FERIE",9,C96="REPOS",10,C96<"1:00",11) -> 0 | E96: =IF(C96="CP",0,IF(C96="CEF",0,IF(C96="CSS",0,IF(C96="CEM",0,IF(C96="MAL",0,IF(C96="AT",0,IF(C96="ABST J",0,IF(C96="ABST I",0,IF(C96="FERIE",0,IF(C96="REPOS",0,C96)))))))))) -> 0 | F96: 0 | G96: {=_xlfn.IFS(C96="",0,C96=0,0,C96="CP",0,C96="CEF",0,C96="CSS",0,C96="CEM",0,C96="CEM",0,C96="MAL",0,C96="AT",0,C96="ABST J",0,C96="ABST I",0,C96="FERIE",0,C96="REPOS",0,C96<"1:00",$F$420)} -> 0 | H96: =IF(A96='Relevé Kizeo'!C57,VLOOKUP(A96,'Relevé Kizeo'!$C$4:$R$1001,3,TRUE),"") -> 0 | I96: =IF(A96='Relevé Kizeo'!C57,VLOOKUP(A96,'Relevé Kizeo'!$C$4:$R$1001,4,TRUE),"") -> 0 | J96: =IF(A96='Relevé Kizeo'!C57,VLOOKUP(A96,'Relevé Kizeo'!$C$4:$R$1001,5,TRUE),"") -> 0 | K96: =J96 -> 0 | L96: 0 | M96: {=_xlfn.IFS(I96="",0,I96=0,0,I96="CP",0,I96="CEF",0,I96="CSS",0,I96="CEM",0,I96="MAL",0,I96="AT",0,I96="ABST J",0,I96="ABST I",0,I96="FERIE",0,I96="REPOS",0,I96<"1:00",$F$421)} -> 0 | N96: {=_xlfn.IFS(D96=0,0,AND(D96>=1,D96<=9),OFFSET($AL$5,MOD(WEEKNUM(A96,21)-1,26),IF(WEEKNUM(A96,21)>26,8,0))/5,D96=10,0,D96=11,(H96-E96+G96)*24+(K96-I96+M96)*24)} -> 0 | P96: =IF(ROW()>12,IF(WEEKDAY($A96)=$Q$2,INDIRECT(ADDRESS(ROW()-7,COLUMN())),0),IF(WEEKDAY($A96)=Q$2,G$3,0)) -> 0 | Q96: {=IF(LEFT(R$2,1)="-",-1,1)*INDIRECT(CONCATENATE(RIGHT(R$2,LEN(R$2)-1),ROW()))+IF(LEFT(R$3,1)="-",-1,1)*INDIRECT(CONCATENATE(RIGHT(R$3,LEN(R$3)-1),ROW()))} -> 0 | R96: =IF(ISNUMBER(R95),R95,0)+INDIRECT(CONCATENATE(R$4,ROW())) -> -191.75 | S96: =MAX(F96,L96) -> 0 | T96: =IF(D96=0,"",IF(S96=0,"",IF(S96<=5,"3MG",IF(S96<=20,"4,5MG",IF(S96<=30,"5,5MG",IF(S96<=50,"6,5MG",IF(S96<=70,"7MG",IF(S96<=100,"GD<100",IF(S96>100,"GD>100"))))))))) | V96: =IF(A96='Relevé Kizeo'!C57,VLOOKUP(A96,'Relevé Kizeo'!$C$4:$R$1001,6,TRUE),"") -> 0 | W96: =IF(D97="","",IF(D97=1,1,IF(D97=2,0,IF(D97=3,0,IF(D97=4,0,IF(D97=5,0,IF(D97=6,1,IF(D97=7,0,IF(D97=8,0,IF(D97=9,0,IF(D97=10,0,IF(D97=11,1)))))))))))) -> FALSE | Y96: =MID(Z96,1,8) -> 0 | Z96: =IF(A97='Relevé Kizeo'!C58,VLOOKUP(A97,'Relevé Kizeo'!$C$4:$R$1001,8,TRUE),"") -> 0 | AA96: =MID(AB96,1,6) -> 0 | AB96: =IF(A97='Relevé Kizeo'!C58,VLOOKUP(A97,'Relevé Kizeo'!$C$4:$R$1001,9,TRUE),"") -> 0 | AC96: =MID(AD96,1,6) -> 0 | AD96: =IF(A97='Relevé Kizeo'!C58,VLOOKUP(A97,'Relevé Kizeo'!$C$4:$R$1001,10,TRUE),"") -> 0 | AE96: =IF(N97=0,"",IF(N97>$F$418,N97-$F$418,$F$418-N97)) | AF96: =IF(ISERROR(IF(N97>$F$418,(HOUR(AE96)*60+MINUTE(AE96))/60,-(HOUR(AE96)*60+MINUTE(AE96))/60)),"",IF(N97>$F$418,(HOUR(AE96)*60+MINUTE(AE96))/60,-(HOUR(AE96)*60+MINUTE(AE96))/60))
A97: 44981 | C97: =IF(A97='Relevé Kizeo'!C58,VLOOKUP(A97,'Relevé Kizeo'!$C$4:$R$1001,2,TRUE),"") -> 0 | D97: =_xlfn.IFS(C97=0,0,C97="CP",1,C97="CEF",2,C97="CSS",3,C97="CEM",4,C97="MAL",5,C97="AT",6,C97="ABST J",7,C97="ABST I",8,C97="FERIE",9,C97="REPOS",10,C97<"1:00",11) -> 0 | E97: =IF(C97="CP",0,IF(C97="CEF",0,IF(C97="CSS",0,IF(C97="CEM",0,IF(C97="MAL",0,IF(C97="AT",0,IF(C97="ABST J",0,IF(C97="ABST I",0,IF(C97="FERIE",0,IF(C97="REPOS",0,C97)))))))))) -> 0 | F97: 0 | G97: {=_xlfn.IFS(C97="",0,C97=0,0,C97="CP",0,C97="CEF",0,C97="CSS",0,C97="CEM",0,C97="CEM",0,C97="MAL",0,C97="AT",0,C97="ABST J",0,C97="ABST I",0,C97="FERIE",0,C97="REPOS",0,C97<"1:00",$F$420)} -> 0 | H97: =IF(A97='Relevé Kizeo'!C58,VLOOKUP(A97,'Relevé Kizeo'!$C$4:$R$1001,3,TRUE),"") -> 0 | I97: =IF(A97='Relevé Kizeo'!C58,VLOOKUP(A97,'Relevé Kizeo'!$C$4:$R$1001,4,TRUE),"") -> 0 | J97: =IF(A97='Relevé Kizeo'!C58,VLOOKUP(A97,'Relevé Kizeo'!$C$4:$R$1001,5,TRUE),"") -> 0 | K97: =J97 -> 0 | L97: 0 | M97: {=_xlfn.IFS(I97="",0,I97=0,0,I97="CP",0,I97="CEF",0,I97="CSS",0,I97="CEM",0,I97="MAL",0,I97="AT",0,I97="ABST J",0,I97="ABST I",0,I97="FERIE",0,I97="REPOS",0,I97<"1:00",$F$421)} -> 0 | N97: {=_xlfn.IFS(D97=0,0,AND(D97>=1,D97<=9),OFFSET($AL$5,MOD(WEEKNUM(A97,21)-1,26),IF(WEEKNUM(A97,21)>26,8,0))/5,D97=10,0,D97=11,(H97-E97+G97)*24+(K97-I97+M97)*24)} -> 0 | P97: =IF(ROW()>12,IF(WEEKDAY($A97)=$Q$2,INDIRECT(ADDRESS(ROW()-7,COLUMN())),0),IF(WEEKDAY($A97)=Q$2,G$3,0)) -> 0 | Q97: {=IF(LEFT(R$2,1)="-",-1,1)*INDIRECT(CONCATENATE(RIGHT(R$2,LEN(R$2)-1),ROW()))+IF(LEFT(R$3,1)="-",-1,1)*INDIRECT(CONCATENATE(RIGHT(R$3,LEN(R$3)-1),ROW()))} -> 0 | R97: =IF(ISNUMBER(R96),R96,0)+INDIRECT(CONCATENATE(R$4,ROW())) -> -191.75 | S97: =MAX(F97,L97) -> 0 | T97: =IF(D97=0,"",IF(S97=0,"",IF(S97<=5,"3MG",IF(S97<=20,"4,5MG",IF(S97<=30,"5,5MG",IF(S97<=50,"6,5MG",IF(S97<=70,"7MG",IF(S97<=100,"GD<100",IF(S97>100,"GD>100"))))))))) | V97: =IF(A97='Relevé Kizeo'!C58,VLOOKUP(A97,'Relevé Kizeo'!$C$4:$R$1001,6,TRUE),"") -> 0 | W97: =IF(D98="","",IF(D98=1,1,IF(D98=2,0,IF(D98=3,0,IF(D98=4,0,IF(D98=5,0,IF(D98=6,1,IF(D98=7,0,IF(D98=8,0,IF(D98=9,0,IF(D98=10,0,IF(D98=11,1)))))))))))) -> 0 | Y97: =MID(Z97,1,8) -> 0 | Z97: =IF(A98='Relevé Kizeo'!C59,VLOOKUP(A98,'Relevé Kizeo'!$C$4:$R$1001,8,TRUE),"") -> 0 | AA97: =MID(AB97,1,6) -> 0 | AB97: =IF(A98='Relevé Kizeo'!C59,VLOOKUP(A98,'Relevé Kizeo'!$C$4:$R$1001,9,TRUE),"") -> 0 | AC97: =MID(AD97,1,6) -> 0 | AD97: =IF(A98='Relevé Kizeo'!C59,VLOOKUP(A98,'Relevé Kizeo'!$C$4:$R$1001,10,TRUE),"") -> 0 | AE97: =IF(N98=0,"",IF(N98>$F$418,N98-$F$418,$F$418-N98)) | AF97: =IF(ISERROR(IF(N98>$F$418,(HOUR(AE97)*60+MINUTE(AE97))/60,-(HOUR(AE97)*60+MINUTE(AE97))/60)),"",IF(N98>$F$418,(HOUR(AE97)*60+MINUTE(AE97))/60,-(HOUR(AE97)*60+MINUTE(AE97))/60))
A98: 44982 | C98: =IF(A98='Relevé Kizeo'!C59,VLOOKUP(A98,'Relevé Kizeo'!$C$4:$R$1001,2,TRUE),"") -> REPOS | D98: =_xlfn.IFS(C98=0,0,C98="CP",1,C98="CEF",2,C98="CSS",3,C98="CEM",4,C98="MAL",5,C98="AT",6,C98="ABST J",7,C98="ABST I",8,C98="FERIE",9,C98="REPOS",10,C98<"1:00",11) -> 10 | E98: =IF(C98="CP",0,IF(C98="CEF",0,IF(C98="CSS",0,IF(C98="CEM",0,IF(C98="MAL",0,IF(C98="AT",0,IF(C98="ABST J",0,IF(C98="ABST I",0,IF(C98="FERIE",0,IF(C98="REPOS",0,C98)))))))))) -> 0 | F98: 0 | G98: {=_xlfn.IFS(C98="",0,C98=0,0,C98="CP",0,C98="CEF",0,C98="CSS",0,C98="CEM",0,C98="CEM",0,C98="MAL",0,C98="AT",0,C98="ABST J",0,C98="ABST I",0,C98="FERIE",0,C98="REPOS",0,C98<"1:00",$F$420)} -> 0 | H98: =IF(A98='Relevé Kizeo'!C59,VLOOKUP(A98,'Relevé Kizeo'!$C$4:$R$1001,3,TRUE),"") -> 0 | I98: =IF(A98='Relevé Kizeo'!C59,VLOOKUP(A98,'Relevé Kizeo'!$C$4:$R$1001,4,TRUE),"") -> 0 | J98: =IF(A98='Relevé Kizeo'!C59,VLOOKUP(A98,'Relevé Kizeo'!$C$4:$R$1001,5,TRUE),"") -> 0 | K98: =J98 -> 0 | L98: 0 | M98: {=_xlfn.IFS(I98="",0,I98=0,0,I98="CP",0,I98="CEF",0,I98="CSS",0,I98="CEM",0,I98="MAL",0,I98="AT",0,I98="ABST J",0,I98="ABST I",0,I98="FERIE",0,I98="REPOS",0,I98<"1:00",$F$421)} -> 0 | N98: {=_xlfn.IFS(D98=0,0,AND(D98>=1,D98<=9),OFFSET($AL$5,MOD(WEEKNUM(A98,21)-1,26),IF(WEEKNUM(A98,21)>26,8,0))/5,D98=10,0,D98=11,(H98-E98+G98)*24+(K98-I98+M98)*24)} -> 0 | P98: =IF(ROW()>12,IF(WEEKDAY($A98)=$Q$2,INDIRECT(ADDRESS(ROW()-7,COLUMN())),0),IF(WEEKDAY($A98)=Q$2,G$3,0)) -> 0 | Q98: {=IF(LEFT(R$2,1)="-",-1,1)*INDIRECT(CONCATENATE(RIGHT(R$2,LEN(R$2)-1),ROW()))+IF(LEFT(R$3,1)="-",-1,1)*INDIRECT(CONCATENATE(RIGHT(R$3,LEN(R$3)-1),ROW()))} -> 0 | R98: =IF(ISNUMBER(R97),R97,0)+INDIRECT(CONCATENATE(R$4,ROW())) -> -191.75 | S98: =MAX(F98,L98) -> 0 | T98: =IF(D98=0,"",IF(S98=0,"",IF(S98<=5,"3MG",IF(S98<=20,"4,5MG",IF(S98<=30,"5,5MG",IF(S98<=50,"6,5MG",IF(S98<=70,"7MG",IF(S98<=100,"GD<100",IF(S98>100,"GD>100"))))))))) | V98: =IF(A98='Relevé Kizeo'!C59,VLOOKUP(A98,'Relevé Kizeo'!$C$4:$R$1001,6,TRUE),"") -> 0 | W98: =IF(D99="","",IF(D99=1,1,IF(D99=2,0,IF(D99=3,0,IF(D99=4,0,IF(D99=5,0,IF(D99=6,1,IF(D99=7,0,IF(D99=8,0,IF(D99=9,0,IF(D99=10,0,IF(D99=11,1)))))))))))) -> 0 | Y98: =MID(Z98,1,8) -> 0 | Z98: =IF(A99='Relevé Kizeo'!C60,VLOOKUP(A99,'Relevé Kizeo'!$C$4:$R$1001,8,TRUE),"") -> 0 | AA98: =MID(AB98,1,6) -> 0 | AB98: =IF(A99='Relevé Kizeo'!C60,VLOOKUP(A99,'Relevé Kizeo'!$C$4:$R$1001,9,TRUE),"") -> 0 | AC98: =MID(AD98,1,6) -> 0 | AD98: =IF(A99='Relevé Kizeo'!C60,VLOOKUP(A99,'Relevé Kizeo'!$C$4:$R$1001,10,TRUE),"") -> 0 | AE98: =IF(N99=0,"",IF(N99>$F$418,N99-$F$418,$F$418-N99)) | AF98: =IF(ISERROR(IF(N99>$F$418,(HOUR(AE98)*60+MINUTE(AE98))/60,-(HOUR(AE98)*60+MINUTE(AE98))/60)),"",IF(N99>$F$418,(HOUR(AE98)*60+MINUTE(AE98))/60,-(HOUR(AE98)*60+MINUTE(AE98))/60))
A99: 44983 | C99: =IF(A99='Relevé Kizeo'!C60,VLOOKUP(A99,'Relevé Kizeo'!$C$4:$R$1001,2,TRUE),"") -> REPOS | D99: =_xlfn.IFS(C99=0,0,C99="CP",1,C99="CEF",2,C99="CSS",3,C99="CEM",4,C99="MAL",5,C99="AT",6,C99="ABST J",7,C99="ABST I",8,C99="FERIE",9,C99="REPOS",10,C99<"1:00",11) -> 10 | E99: =IF(C99="CP",0,IF(C99="CEF",0,IF(C99="CSS",0,IF(C99="CEM",0,IF(C99="MAL",0,IF(C99="AT",0,IF(C99="ABST J",0,IF(C99="ABST I",0,IF(C99="FERIE",0,IF(C99="REPOS",0,C99)))))))))) -> 0 | F99: 0 | G99: {=_xlfn.IFS(C99="",0,C99=0,0,C99="CP",0,C99="CEF",0,C99="CSS",0,C99="CEM",0,C99="CEM",0,C99="MAL",0,C99="AT",0,C99="ABST J",0,C99="ABST I",0,C99="FERIE",0,C99="REPOS",0,C99<"1:00",$F$420)} -> 0 | H99: =IF(A99='Relevé Kizeo'!C60,VLOOKUP(A99,'Relevé Kizeo'!$C$4:$R$1001,3,TRUE),"") -> 0 | I99: =IF(A99='Relevé Kizeo'!C60,VLOOKUP(A99,'Relevé Kizeo'!$C$4:$R$1001,4,TRUE),"") -> 0 | J99: =IF(A99='Relevé Kizeo'!C60,VLOOKUP(A99,'Relevé Kizeo'!$C$4:$R$1001,5,TRUE),"") -> 0 | K99: =J99 -> 0 | L99: 0 | M99: {=_xlfn.IFS(I99="",0,I99=0,0,I99="CP",0,I99="CEF",0,I99="CSS",0,I99="CEM",0,I99="MAL",0,I99="AT",0,I99="ABST J",0,I99="ABST I",0,I99="FERIE",0,I99="REPOS",0,I99<"1:00",$F$421)} -> 0 | N99: {=_xlfn.IFS(D99=0,0,AND(D99>=1,D99<=9),OFFSET($AL$5,MOD(WEEKNUM(A99,21)-1,26),IF(WEEKNUM(A99,21)>26,8,0))/5,D99=10,0,D99=11,(H99-E99+G99)*24+(K99-I99+M99)*24)} -> 0 | O99: =SUM(N93:N97) -> 0 | P99: 32 | Q99: {=IF(LEFT(R$2,1)="-",-1,1)*INDIRECT(CONCATENATE(RIGHT(R$2,LEN(R$2)-1),ROW()))+IF(LEFT(R$3,1)="-",-1,1)*INDIRECT(CONCATENATE(RIGHT(R$3,LEN(R$3)-1),ROW()))} -> -32 | R99: =IF(ISNUMBER(R98),R98,0)+INDIRECT(CONCATENATE(R$4,ROW())) -> -223.75 | S99: =MAX(F99,L99) -> 0 | T99: =IF(D99=0,"",IF(S99=0,"",IF(S99<=5,"3MG",IF(S99<=20,"4,5MG",IF(S99<=30,"5,5MG",IF(S99<=50,"6,5MG",IF(S99<=70,"7MG",IF(S99<=100,"GD<100",IF(S99>100,"GD>100"))))))))) | V99: =IF(A99='Relevé Kizeo'!C60,VLOOKUP(A99,'Relevé Kizeo'!$C$4:$R$1001,6,TRUE),"") -> 0 | W99: =IF(D100="","",IF(D100=1,1,IF(D100=2,0,IF(D100=3,0,IF(D100=4,0,IF(D100=5,0,IF(D100=6,1,IF(D100=7,0,IF(D100=8,0,IF(D100=9,0,IF(D100=10,0,IF(D100=11,1)))))))))))) -> FALSE | Y99: =MID(Z99,1,8) -> 0 | Z99: =IF(A100='Relevé Kizeo'!C61,VLOOKUP(A100,'Relevé Kizeo'!$C$4:$R$1001,8,TRUE),"") -> 0 | AA99: =MID(AB99,1,6) -> 0 | AB99: =IF(A100='Relevé Kizeo'!C61,VLOOKUP(A100,'Relevé Kizeo'!$C$4:$R$1001,9,TRUE),"") -> 0 | AC99: =MID(AD99,1,6) -> 0 | AD99: =IF(A100='Relevé Kizeo'!C61,VLOOKUP(A100,'Relevé Kizeo'!$C$4:$R$1001,10,TRUE),"") -> 0 | AE99: =IF(N100=0,"",IF(N100>$F$418,N100-$F$418,$F$418-N100)) | AF99: =IF(ISERROR(IF(N100>$F$418,(HOUR(AE99)*60+MINUTE(AE99))/60,-(HOUR(AE99)*60+MINUTE(AE99))/60)),"",IF(N100>$F$418,(HOUR(AE99)*60+MINUTE(AE99))/60,-(HOUR(AE99)*60+MINUTE(AE99))/60))
A100: 44984 | B100: S09 | C100: =IF(A100='Relevé Kizeo'!C61,VLOOKUP(A100,'Relevé Kizeo'!$C$4:$R$1001,2,TRUE),"") -> 0 | D100: =_xlfn.IFS(C100=0,0,C100="CP",1,C100="CEF",2,C100="CSS",3,C100="CEM",4,C100="MAL",5,C100="AT",6,C100="ABST J",7,C100="ABST I",8,C100="FERIE",9,C100="REPOS",10,C100<"1:00",11) -> 0 | E100: =IF(C100="CP",0,IF(C100="CEF",0,IF(C100="CSS",0,IF(C100="CEM",0,IF(C100="MAL",0,IF(C100="AT",0,IF(C100="ABST J",0,IF(C100="ABST I",0,IF(C100="FERIE",0,IF(C100="REPOS",0,C100)))))))))) -> 0 | F100: 0 | G100: {=_xlfn.IFS(C100="",0,C100=0,0,C100="CP",0,C100="CEF",0,C100="CSS",0,C100="CEM",0,C100="CEM",0,C100="MAL",0,C100="AT",0,C100="ABST J",0,C100="ABST I",0,C100="FERIE",0,C100="REPOS",0,C100<"1:00",$F$420)} -> 0 | H100: =IF(A100='Relevé Kizeo'!C61,VLOOKUP(A100,'Relevé Kizeo'!$C$4:$R$1001,3,TRUE),"") -> 0 | I100: =IF(A100='Relevé Kizeo'!C61,VLOOKUP(A100,'Relevé Kizeo'!$C$4:$R$1001,4,TRUE),"") -> 0 | J100: =IF(A100='Relevé Kizeo'!C61,VLOOKUP(A100,'Relevé Kizeo'!$C$4:$R$1001,5,TRUE),"") -> 0 | K100: =J100 -> 0 | L100: 0 | M100: {=_xlfn.IFS(I100="",0,I100=0,0,I100="CP",0,I100="CEF",0,I100="CSS",0,I100="CEM",0,I100="MAL",0,I100="AT",0,I100="ABST J",0,I100="ABST I",0,I100="FERIE",0,I100="REPOS",0,I100<"1:00",$F$421)} -> 0 | N100: {=_xlfn.IFS(D100=0,0,AND(D100>=1,D100<=9),OFFSET($AL$5,MOD(WEEKNUM(A100,21)-1,26),IF(WEEKNUM(A100,21)>26,8,0))/5,D100=10,0,D100=11,(H100-E100+G100)*24+(K100-I100+M100)*24)} -> 0 | P100: =IF(ROW()>12,IF(WEEKDAY($A100)=$Q$2,INDIRECT(ADDRESS(ROW()-7,COLUMN())),0),IF(WEEKDAY($A100)=Q$2,G$3,0)) -> 0 | Q100: {=IF(LEFT(R$2,1)="-",-1,1)*INDIRECT(CONCATENATE(RIGHT(R$2,LEN(R$2)-1),ROW()))+IF(LEFT(R$3,1)="-",-1,1)*INDIRECT(CONCATENATE(RIGHT(R$3,LEN(R$3)-1),ROW()))} -> 0 | R100: =IF(ISNUMBER(R99),R99,0)+INDIRECT(CONCATENATE(R$4,ROW())) -> -223.75 | S100: =MAX(F100,L100) -> 0 | T100: =IF(D100=0,"",IF(S100=0,"",IF(S100<=5,"3MG",IF(S100<=20,"4,5MG",IF(S100<=30,"5,5MG",IF(S100<=50,"6,5MG",IF(S100<=70,"7MG",IF(S100<=100,"GD<100",IF(S100>100,"GD>100"))))))))) | V100: =IF(A100='Relevé Kizeo'!C61,VLOOKUP(A100,'Relevé Kizeo'!$C$4:$R$1001,6,TRUE),"") -> 0 | W100: =IF(D101="","",IF(D101=1,1,IF(D101=2,0,IF(D101=3,0,IF(D101=4,0,IF(D101=5,0,IF(D101=6,1,IF(D101=7,0,IF(D101=8,0,IF(D101=9,0,IF(D101=10,0,IF(D101=11,1)))))))))))) -> FALSE | Y100: =MID(Z100,1,8) -> 0 | Z100: =IF(A101='Relevé Kizeo'!C62,VLOOKUP(A101,'Relevé Kizeo'!$C$4:$R$1001,8,TRUE),"") -> 0 | AA100: =MID(AB100,1,6) -> 0 | AB100: =IF(A101='Relevé Kizeo'!C62,VLOOKUP(A101,'Relevé Kizeo'!$C$4:$R$1001,9,TRUE),"") -> 0 | AC100: =MID(AD100,1,6) -> 0 | AD100: =IF(A101='Relevé Kizeo'!C62,VLOOKUP(A101,'Relevé Kizeo'!$C$4:$R$1001,10,TRUE),"") -> 0 | AE100: =IF(N101=0,"",IF(N101>$F$418,N101-$F$418,$F$418-N101)) | AF100: =IF(ISERROR(IF(N101>$F$418,(HOUR(AE100)*60+MINUTE(AE100))/60,-(HOUR(AE100)*60+MINUTE(AE100))/60)),"",IF(N101>$F$418,(HOUR(AE100)*60+MINUTE(AE100))/60,-(HOUR(AE100)*60+MINUTE(AE100))/60))
A101: 44985 | C101: =IF(A101='Relevé Kizeo'!C62,VLOOKUP(A101,'Relevé Kizeo'!$C$4:$R$1001,2,TRUE),"") -> 0 | D101: =_xlfn.IFS(C101=0,0,C101="CP",1,C101="CEF",2,C101="CSS",3,C101="CEM",4,C101="MAL",5,C101="AT",6,C101="ABST J",7,C101="ABST I",8,C101="FERIE",9,C101="REPOS",10,C101<"1:00",11) -> 0 | E101: =IF(C101="CP",0,IF(C101="CEF",0,IF(C101="CSS",0,IF(C101="CEM",0,IF(C101="MAL",0,IF(C101="AT",0,IF(C101="ABST J",0,IF(C101="ABST I",0,IF(C101="FERIE",0,IF(C101="REPOS",0,C101)))))))))) -> 0 | F101: 0 | G101: {=_xlfn.IFS(C101="",0,C101=0,0,C101="CP",0,C101="CEF",0,C101="CSS",0,C101="CEM",0,C101="CEM",0,C101="MAL",0,C101="AT",0,C101="ABST J",0,C101="ABST I",0,C101="FERIE",0,C101="REPOS",0,C101<"1:00",$F$420)} -> 0 | H101: =IF(A101='Relevé Kizeo'!C62,VLOOKUP(A101,'Relevé Kizeo'!$C$4:$R$1001,3,TRUE),"") -> 0 | I101: =IF(A101='Relevé Kizeo'!C62,VLOOKUP(A101,'Relevé Kizeo'!$C$4:$R$1001,4,TRUE),"") -> 0 | J101: =IF(A101='Relevé Kizeo'!C62,VLOOKUP(A101,'Relevé Kizeo'!$C$4:$R$1001,5,TRUE),"") -> 0 | K101: =J101 -> 0 | L101: 0 | M101: {=_xlfn.IFS(I101="",0,I101=0,0,I101="CP",0,I101="CEF",0,I101="CSS",0,I101="CEM",0,I101="MAL",0,I101="AT",0,I101="ABST J",0,I101="ABST I",0,I101="FERIE",0,I101="REPOS",0,I101<"1:00",$F$421)} -> 0 | N101: {=_xlfn.IFS(D101=0,0,AND(D101>=1,D101<=9),OFFSET($AL$5,MOD(WEEKNUM(A101,21)-1,26),IF(WEEKNUM(A101,21)>26,8,0))/5,D101=10,0,D101=11,(H101-E101+G101)*24+(K101-I101+M101)*24)} -> 0 | P101: =IF(ROW()>12,IF(WEEKDAY($A101)=$Q$2,INDIRECT(ADDRESS(ROW()-7,COLUMN())),0),IF(WEEKDAY($A101)=Q$2,G$3,0)) -> 0 | Q101: {=IF(LEFT(R$2,1)="-",-1,1)*INDIRECT(CONCATENATE(RIGHT(R$2,LEN(R$2)-1),ROW()))+IF(LEFT(R$3,1)="-",-1,1)*INDIRECT(CONCATENATE(RIGHT(R$3,LEN(R$3)-1),ROW()))} -> 0 | R101: =IF(ISNUMBER(R100),R100,0)+INDIRECT(CONCATENATE(R$4,ROW())) -> -223.75 | S101: =MAX(F101,L101) -> 0 | T101: =IF(D101=0,"",IF(S101=0,"",IF(S101<=5,"3MG",IF(S101<=20,"4,5MG",IF(S101<=30,"5,5MG",IF(S101<=50,"6,5MG",IF(S101<=70,"7MG",IF(S101<=100,"GD<100",IF(S101>100,"GD>100"))))))))) | V101: =IF(A101='Relevé Kizeo'!C62,VLOOKUP(A101,'Relevé Kizeo'!$C$4:$R$1001,6,TRUE),"") -> 0 | W101: =IF(D102="","",IF(D102=1,1,IF(D102=2,0,IF(D102=3,0,IF(D102=4,0,IF(D102=5,0,IF(D102=6,1,IF(D102=7,0,IF(D102=8,0,IF(D102=9,0,IF(D102=10,0,IF(D102=11,1)))))))))))) -> FALSE | Y101: =MID(Z101,1,8) -> 0 | Z101: =IF(A102='Relevé Kizeo'!C63,VLOOKUP(A102,'Relevé Kizeo'!$C$4:$R$1001,8,TRUE),"") -> 0 | AA101: =MID(AB101,1,6) -> 0 | AB101: =IF(A102='Relevé Kizeo'!C63,VLOOKUP(A102,'Relevé Kizeo'!$C$4:$R$1001,9,TRUE),"") -> 0 | AC101: =MID(AD101,1,6) -> 0 | AD101: =IF(A102='Relevé Kizeo'!C63,VLOOKUP(A102,'Relevé Kizeo'!$C$4:$R$1001,10,TRUE),"") -> 0 | AE101: =IF(N102=0,"",IF(N102>$F$418,N102-$F$418,$F$418-N102)) | AF101: =IF(ISERROR(IF(N102>$F$418,(HOUR(AE101)*60+MINUTE(AE101))/60,-(HOUR(AE101)*60+MINUTE(AE101))/60)),"",IF(N102>$F$418,(HOUR(AE101)*60+MINUTE(AE101))/60,-(HOUR(AE101)*60+MINUTE(AE101))/60))
A102: 44986 | C102: =IF(A102='Relevé Kizeo'!C63,VLOOKUP(A102,'Relevé Kizeo'!$C$4:$R$1001,2,TRUE),"") -> 0 | D102: =_xlfn.IFS(C102=0,0,C102="CP",1,C102="CEF",2,C102="CSS",3,C102="CEM",4,C102="MAL",5,C102="AT",6,C102="ABST J",7,C102="ABST I",8,C102="FERIE",9,C102="REPOS",10,C102<"1:00",11) -> 0 | E102: =IF(C102="CP",0,IF(C102="CEF",0,IF(C102="CSS",0,IF(C102="CEM",0,IF(C102="MAL",0,IF(C102="AT",0,IF(C102="ABST J",0,IF(C102="ABST I",0,IF(C102="FERIE",0,IF(C102="REPOS",0,C102)))))))))) -> 0 | F102: 0 | G102: {=_xlfn.IFS(C102="",0,C102=0,0,C102="CP",0,C102="CEF",0,C102="CSS",0,C102="CEM",0,C102="CEM",0,C102="MAL",0,C102="AT",0,C102="ABST J",0,C102="ABST I",0,C102="FERIE",0,C102="REPOS",0,C102<"1:00",$F$420)} -> 0 | H102: =IF(A102='Relevé Kizeo'!C63,VLOOKUP(A102,'Relevé Kizeo'!$C$4:$R$1001,3,TRUE),"") -> 0 | I102: =IF(A102='Relevé Kizeo'!C63,VLOOKUP(A102,'Relevé Kizeo'!$C$4:$R$1001,4,TRUE),"") -> 0 | J102: =IF(A102='Relevé Kizeo'!C63,VLOOKUP(A102,'Relevé Kizeo'!$C$4:$R$1001,5,TRUE),"") -> 0 | K102: =J102 -> 0 | L102: 0 | M102: {=_xlfn.IFS(I102="",0,I102=0,0,I102="CP",0,I102="CEF",0,I102="CSS",0,I102="CEM",0,I102="MAL",0,I102="AT",0,I102="ABST J",0,I102="ABST I",0,I102="FERIE",0,I102="REPOS",0,I102<"1:00",$F$421)} -> 0 | N102: {=_xlfn.IFS(D102=0,0,AND(D102>=1,D102<=9),OFFSET($AL$5,MOD(WEEKNUM(A102,21)-1,26),IF(WEEKNUM(A102,21)>26,8,0))/5,D102=10,0,D102=11,(H102-E102+G102)*24+(K102-I102+M102)*24)} -> 0 | P102: =IF(ROW()>12,IF(WEEKDAY($A102)=$Q$2,INDIRECT(ADDRESS(ROW()-7,COLUMN())),0),IF(WEEKDAY($A102)=Q$2,G$3,0)) -> 0 | Q102: {=IF(LEFT(R$2,1)="-",-1,1)*INDIRECT(CONCATENATE(RIGHT(R$2,LEN(R$2)-1),ROW()))+IF(LEFT(R$3,1)="-",-1,1)*INDIRECT(CONCATENATE(RIGHT(R$3,LEN(R$3)-1),ROW()))} -> 0 | R102: =IF(ISNUMBER(R101),R101,0)+INDIRECT(CONCATENATE(R$4,ROW())) -> -223.75 | S102: =MAX(F102,L102) -> 0 | T102: =IF(D102=0,"",IF(S102=0,"",IF(S102<=5,"3MG",IF(S102<=20,"4,5MG",IF(S102<=30,"5,5MG",IF(S102<=50,"6,5MG",IF(S102<=70,"7MG",IF(S102<=100,"GD<100",IF(S102>100,"GD>100"))))))))) | V102: =IF(A102='Relevé Kizeo'!C63,VLOOKUP(A102,'Relevé Kizeo'!$C$4:$R$1001,6,TRUE),"") -> 0 | W102: =IF(D103="","",IF(D103=1,1,IF(D103=2,0,IF(D103=3,0,IF(D103=4,0,IF(D103=5,0,IF(D103=6,1,IF(D103=7,0,IF(D103=8,0,IF(D103=9,0,IF(D103=10,0,IF(D103=11,1)))))))))))) -> FALSE | Y102: =MID(Z102,1,8) -> 0 | Z102: =IF(A103='Relevé Kizeo'!C64,VLOOKUP(A103,'Relevé Kizeo'!$C$4:$R$1001,8,TRUE),"") -> 0 | AA102: =MID(AB102,1,6) -> 0 | AB102: =IF(A103='Relevé Kizeo'!C64,VLOOKUP(A103,'Relevé Kizeo'!$C$4:$R$1001,9,TRUE),"") -> 0 | AC102: =MID(AD102,1,6) -> 0 | AD102: =IF(A103='Relevé Kizeo'!C64,VLOOKUP(A103,'Relevé Kizeo'!$C$4:$R$1001,10,TRUE),"") -> 0 | AE102: =IF(N103=0,"",IF(N103>$F$418,N103-$F$418,$F$418-N103)) | AF102: =IF(ISERROR(IF(N103>$F$418,(HOUR(AE102)*60+MINUTE(AE102))/60,-(HOUR(AE102)*60+MINUTE(AE102))/60)),"",IF(N103>$F$418,(HOUR(AE102)*60+MINUTE(AE102))/60,-(HOUR(AE102)*60+MINUTE(AE102))/60))
A103: 44987 | C103: =IF(A103='Relevé Kizeo'!C64,VLOOKUP(A103,'Relevé Kizeo'!$C$4:$R$1001,2,TRUE),"") -> 0 | D103: =_xlfn.IFS(C103=0,0,C103="CP",1,C103="CEF",2,C103="CSS",3,C103="CEM",4,C103="MAL",5,C103="AT",6,C103="ABST J",7,C103="ABST I",8,C103="FERIE",9,C103="REPOS",10,C103<"1:00",11) -> 0 | E103: =IF(C103="CP",0,IF(C103="CEF",0,IF(C103="CSS",0,IF(C103="CEM",0,IF(C103="MAL",0,IF(C103="AT",0,IF(C103="ABST J",0,IF(C103="ABST I",0,IF(C103="FERIE",0,IF(C103="REPOS",0,C103)))))))))) -> 0 | F103: 0 | G103: {=_xlfn.IFS(C103="",0,C103=0,0,C103="CP",0,C103="CEF",0,C103="CSS",0,C103="CEM",0,C103="CEM",0,C103="MAL",0,C103="AT",0,C103="ABST J",0,C103="ABST I",0,C103="FERIE",0,C103="REPOS",0,C103<"1:00",$F$420)} -> 0 | H103: =IF(A103='Relevé Kizeo'!C64,VLOOKUP(A103,'Relevé Kizeo'!$C$4:$R$1001,3,TRUE),"") -> 0 | I103: =IF(A103='Relevé Kizeo'!C64,VLOOKUP(A103,'Relevé Kizeo'!$C$4:$R$1001,4,TRUE),"") -> 0 | J103: =IF(A103='Relevé Kizeo'!C64,VLOOKUP(A103,'Relevé Kizeo'!$C$4:$R$1001,5,TRUE),"") -> 0 | K103: =J103 -> 0 | L103: 0 | M103: {=_xlfn.IFS(I103="",0,I103=0,0,I103="CP",0,I103="CEF",0,I103="CSS",0,I103="CEM",0,I103="MAL",0,I103="AT",0,I103="ABST J",0,I103="ABST I",0,I103="FERIE",0,I103="REPOS",0,I103<"1:00",$F$421)} -> 0 | N103: {=_xlfn.IFS(D103=0,0,AND(D103>=1,D103<=9),OFFSET($AL$5,MOD(WEEKNUM(A103,21)-1,26),IF(WEEKNUM(A103,21)>26,8,0))/5,D103=10,0,D103=11,(H103-E103+G103)*24+(K103-I103+M103)*24)} -> 0 | P103: =IF(ROW()>12,IF(WEEKDAY($A103)=$Q$2,INDIRECT(ADDRESS(ROW()-7,COLUMN())),0),IF(WEEKDAY($A103)=Q$2,G$3,0)) -> 0 | Q103: {=IF(LEFT(R$2,1)="-",-1,1)*INDIRECT(CONCATENATE(RIGHT(R$2,LEN(R$2)-1),ROW()))+IF(LEFT(R$3,1)="-",-1,1)*INDIRECT(CONCATENATE(RIGHT(R$3,LEN(R$3)-1),ROW()))} -> 0 | R103: =IF(ISNUMBER(R102),R102,0)+INDIRECT(CONCATENATE(R$4,ROW())) -> -223.75 | S103: =MAX(F103,L103) -> 0 | T103: =IF(D103=0,"",IF(S103=0,"",IF(S103<=5,"3MG",IF(S103<=20,"4,5MG",IF(S103<=30,"5,5MG",IF(S103<=50,"6,5MG",IF(S103<=70,"7MG",IF(S103<=100,"GD<100",IF(S103>100,"GD>100"))))))))) | V103: =IF(A103='Relevé Kizeo'!C64,VLOOKUP(A103,'Relevé Kizeo'!$C$4:$R$1001,6,TRUE),"") -> 0 | W103: =IF(D104="","",IF(D104=1,1,IF(D104=2,0,IF(D104=3,0,IF(D104=4,0,IF(D104=5,0,IF(D104=6,1,IF(D104=7,0,IF(D104=8,0,IF(D104=9,0,IF(D104=10,0,IF(D104=11,1)))))))))))) -> FALSE | Y103: =MID(Z103,1,8) -> 0 | Z103: =IF(A104='Relevé Kizeo'!C65,VLOOKUP(A104,'Relevé Kizeo'!$C$4:$R$1001,8,TRUE),"") -> 0 | AA103: =MID(AB103,1,6) -> 0 | AB103: =IF(A104='Relevé Kizeo'!C65,VLOOKUP(A104,'Relevé Kizeo'!$C$4:$R$1001,9,TRUE),"") -> 0 | AC103: =MID(AD103,1,6) -> 0 | AD103: =IF(A104='Relevé Kizeo'!C65,VLOOKUP(A104,'Relevé Kizeo'!$C$4:$R$1001,10,TRUE),"") -> 0 | AE103: =IF(N104=0,"",IF(N104>$F$418,N104-$F$418,$F$418-N104)) | AF103: =IF(ISERROR(IF(N104>$F$418,(HOUR(AE103)*60+MINUTE(AE103))/60,-(HOUR(AE103)*60+MINUTE(AE103))/60)),"",IF(N104>$F$418,(HOUR(AE103)*60+MINUTE(AE103))/60,-(HOUR(AE103)*60+MINUTE(AE103))/60))
A104: 44988 | C104: =IF(A104='Relevé Kizeo'!C65,VLOOKUP(A104,'Relevé Kizeo'!$C$4:$R$1001,2,TRUE),"") -> 0 | D104: =_xlfn.IFS(C104=0,0,C104="CP",1,C104="CEF",2,C104="CSS",3,C104="CEM",4,C104="MAL",5,C104="AT",6,C104="ABST J",7,C104="ABST I",8,C104="FERIE",9,C104="REPOS",10,C104<"1:00",11) -> 0 | E104: =IF(C104="CP",0,IF(C104="CEF",0,IF(C104="CSS",0,IF(C104="CEM",0,IF(C104="MAL",0,IF(C104="AT",0,IF(C104="ABST J",0,IF(C104="ABST I",0,IF(C104="FERIE",0,IF(C104="REPOS",0,C104)))))))))) -> 0 | F104: 0 | G104: {=_xlfn.IFS(C104="",0,C104=0,0,C104="CP",0,C104="CEF",0,C104="CSS",0,C104="CEM",0,C104="CEM",0,C104="MAL",0,C104="AT",0,C104="ABST J",0,C104="ABST I",0,C104="FERIE",0,C104="REPOS",0,C104<"1:00",$F$420)} -> 0 | H104: =IF(A104='Relevé Kizeo'!C65,VLOOKUP(A104,'Relevé Kizeo'!$C$4:$R$1001,3,TRUE),"") -> 0 | I104: =IF(A104='Relevé Kizeo'!C65,VLOOKUP(A104,'Relevé Kizeo'!$C$4:$R$1001,4,TRUE),"") -> 0 | J104: =IF(A104='Relevé Kizeo'!C65,VLOOKUP(A104,'Relevé Kizeo'!$C$4:$R$1001,5,TRUE),"") -> 0 | K104: =J104 -> 0 | L104: 0 | M104: {=_xlfn.IFS(I104="",0,I104=0,0,I104="CP",0,I104="CEF",0,I104="CSS",0,I104="CEM",0,I104="MAL",0,I104="AT",0,I104="ABST J",0,I104="ABST I",0,I104="FERIE",0,I104="REPOS",0,I104<"1:00",$F$421)} -> 0 | N104: {=_xlfn.IFS(D104=0,0,AND(D104>=1,D104<=9),OFFSET($AL$5,MOD(WEEKNUM(A104,21)-1,26),IF(WEEKNUM(A104,21)>26,8,0))/5,D104=10,0,D104=11,(H104-E104+G104)*24+(K104-I104+M104)*24)} -> 0 | P104: =IF(ROW()>12,IF(WEEKDAY($A104)=$Q$2,INDIRECT(ADDRESS(ROW()-7,COLUMN())),0),IF(WEEKDAY($A104)=Q$2,G$3,0)) -> 0 | Q104: {=IF(LEFT(R$2,1)="-",-1,1)*INDIRECT(CONCATENATE(RIGHT(R$2,LEN(R$2)-1),ROW()))+IF(LEFT(R$3,1)="-",-1,1)*INDIRECT(CONCATENATE(RIGHT(R$3,LEN(R$3)-1),ROW()))} -> 0 | R104: =IF(ISNUMBER(R103),R103,0)+INDIRECT(CONCATENATE(R$4,ROW())) -> -223.75 | S104: =MAX(F104,L104) -> 0 | T104: =IF(D104=0,"",IF(S104=0,"",IF(S104<=5,"3MG",IF(S104<=20,"4,5MG",IF(S104<=30,"5,5MG",IF(S104<=50,"6,5MG",IF(S104<=70,"7MG",IF(S104<=100,"GD<100",IF(S104>100,"GD>100"))))))))) | V104: =IF(A104='Relevé Kizeo'!C65,VLOOKUP(A104,'Relevé Kizeo'!$C$4:$R$1001,6,TRUE),"") -> 0 | W104: =IF(D105="","",IF(D105=1,1,IF(D105=2,0,IF(D105=3,0,IF(D105=4,0,IF(D105=5,0,IF(D105=6,1,IF(D105=7,0,IF(D105=8,0,IF(D105=9,0,IF(D105=10,0,IF(D105=11,1)))))))))))) -> 0 | Y104: =MID(Z104,1,8) -> 0 | Z104: =IF(A105='Relevé Kizeo'!C66,VLOOKUP(A105,'Relevé Kizeo'!$C$4:$R$1001,8,TRUE),"") -> 0 | AA104: =MID(AB104,1,6) -> 0 | AB104: =IF(A105='Relevé Kizeo'!C66,VLOOKUP(A105,'Relevé Kizeo'!$C$4:$R$1001,9,TRUE),"") -> 0 | AC104: =MID(AD104,1,6) -> 0 | AD104: =IF(A105='Relevé Kizeo'!C66,VLOOKUP(A105,'Relevé Kizeo'!$C$4:$R$1001,10,TRUE),"") -> 0 | AE104: =IF(N105=0,"",IF(N105>$F$418,N105-$F$418,$F$418-N105)) | AF104: =IF(ISERROR(IF(N105>$F$418,(HOUR(AE104)*60+MINUTE(AE104))/60,-(HOUR(AE104)*60+MINUTE(AE104))/60)),"",IF(N105>$F$418,(HOUR(AE104)*60+MINUTE(AE104))/60,-(HOUR(AE104)*60+MINUTE(AE104))/60))
...

Sheet Feuil1

Sheet Feuil3

Sheet BD
A1: VEHICULES | H1: Férié
A2: BEN 01 | C2: Janvier | D2: 2023 | E2: CP | F2: Congé Payé | H2: jour de l'an | I2: 44927 | K2: NBRE D'HEURE MOYEN
A3: BEN 02 | C3: Février | D3: 2023 | E3: CEF | F3: Congé Evènements Familiaux | H3: lundi de paques | I3: 45026 | K3: SEMAINE | L3: HEURE (cent) | M3: HEURE (H)
A4: BEN 03 | C4: Mars | D4: 2023 | E4: CSS | F4: Congé Sans Solde | H4: Fête du travail | I4: 45047 | K4: 32 | L4: 6.4 | M4: 0.26666667
A5: BEN 04 | C5: Avril | D5: 2023 | E5: CEM | F5: Congé Enfant Malade | H5: Fête de la victoire de 1945 | I5: 45054 | K5: 35 | L5: 7 | M5: 0.29166667
A6: BEN 05 | C6: Mai | D6: 2023 | E6: MAL | F6: Malade | H6: Jeudi de l'Ascension | I6: 45064 | K6: 39 | L6: 7.8 | M6: 0.325
A7: BEN 06 | C7: Juin | D7: 2023 | E7: AT | F7: Accident | H7: Lundi de Pentecôte | I7: 45075
A8: BEN 07 | C8: Juillet | D8: 2023 | E8: ABST J | F8: Retard / Absence Justifiée | H8: Fête Nationale | I8: 45121
A9: BEN 08 | C9: Août | D9: 2023 | E9: ABST I | F9: Retard / Absence injustifiée | H9: Assomption | I9: 45153
A10: BEN 09 | C10: Septembre | D10: 2023 | E10: FERIE | F10: Journée Chomée | H10: Toussaint | I10: 45231
A11: BEN 10 | C11: Octobre | D11: 2023 | E11: REPOS | F11: Jounée non travaillée | H11: Armistice de 1918 | I11: 45241
A12: BEN 11 | C12: Novembre | D12: 2023 | H12: Noël | I12: 45285
A13: PL 001 | C13: Décembre | D13: 2023
A14: VL 001
A15: VL 002 | C15: =TODAY() -> 44958
A16: VL 003
A17: VL 004
A18: VL 005
A19: VL 006
A20: VL 007
A21: VL 008
A22: VD 001
A23: P.UP 1
