Workbook
Name véhicules: BD!$A$2:$A$23

Sheet Relevé Kizeo
C1: Heures de prÃ©sence chantier#Jour de prÃ©sence | D1: Colonne1 | E1: Colonne2 | F1: Colonne3 | G1: Colonne4 | H1: Colonne5 | I1: Colonne6 | J1: Colonne7 | K1: Colonne8 | L1: Colonne9 | M1: Colonne10 | N1: Colonne11 | O1: Colonne12 | P1: Colonne13 | Q1: Colonne14 | R1: Colonne15
C4: 44927 | D4: REPOS
C5: 44928 | D5: 0.33333333 | E5: 0.5 | F5: 0.53125 | G5: 0.64583333 | H5: NON | I5: HERVE … | J5: BEN 01 | K5: REM 01 | L5: TRA 01
C6: 44929 | D6: CP
C7: 44930 | D7: MAL
C8: 44931 | D8: AT
C9: 44932 | D9: ABST J
C10: 44933 | D10: ABST I
C11: 44934 | D11: REPOS
C12: 44935
C13: 44936
C14: 44937
C15: 44938
C16: 44939
C17: 44940 | D17: REPOS
C18: 44941 | D18: REPOS
C19: 44942
C20: 44943
C21: 44944
C22: 44945
C23: 44946
C24: 44947 | D24: REPOS
C25: 44948 | D25: REPOS
C26: 44949
C27: 44950
C28: 44951
C29: 44952
C30: 44953
C31: 44954 | D31: REPOS
C32: 44955 | D32: REPOS
C33: 44956
C34: 44957
C35: 44958
C36: 44959
C37: 44960
C38: 44961 | D38: REPOS
C39: 44962 | D39: REPOS
C40: 44963
C41: 44964
C42: 44965
...

Sheet Relevé 2023
A1: Relevé mensuel - M NOM Prénom | AK1: =MID(A1,17,50) -> M NOM Prénom
A2: Date d'entrée dans l'entreprise : | F2: 43920 | I2: Ancienneté au (en mois) : | M2: =DATE(YEAR(TODAY()),1,1) -> 44927 | O2: =DATEDIF(F2,M2,"m") -> 33 | Q2: 1 | R2: +O
A3: Nombre d'heures annuelle / hebdo.: | F3: 1600 | G3: 35 | I3: Congé(s) Payé(s) au : | M3: =(DATE(YEAR(TODAY()),1,1)) -> 44927 | R3: -P | AK3: Compte de compensation
A4: Nombre d'heures journalier moyen : | E4: 1 | F4: 0.29166667 | G4: 7 | R4: Q | AK4: Semaine | AL4: Théorique | AM4: Valeur | AN4: réalisées | AO4: Ecart | AP4: h. payées | AR4: Semaine | AS4: Théorique | AT4: Valeur | AU4: réalisées | AV4: Ecart | AW4: h. payées
AK5: S01 | AL5: =P50 -> 35 | AM5: 35 | AN5: =O50 -> 35.25 | AO5: =Q50 -> 0.25 | AP5: 0 | AR5: S27 | AS5: =P232 -> 35 | AT5: 35 | AU5: =O232 -> 0 | AV5: =Q232 -> -35 | AW5: 0
C6: 1 | E6: INDEMNITES DES PETITS DEPLACEMENTS | R6: CONDUC. | AK6: S02 | AL6: =P57 -> 32 | AM6: 32 | AN6: =O57 -> 0 | AO6: =Q57 -> -32 | AP6: 0 | AR6: S28 | AS6: =P239 -> 35 | AT6: 35 | AU6: =O239 -> 7 | AV6: =Q239 -> -28 | AW6: 0 | BC6: Relevé des absences et des retards | BM6: Courrier | BT6: 2021
R7: {=SUMPRODUCT(('Relevé 2023'!$V$43:$V$408="OUI")*(MONTH($A$43:$A$408)=$C$6))} -> 0 | AK7: S03 | AL7: =P64 -> 32 | AM7: 32 | AN7: =O64 -> 0 | AO7: =Q64 -> -32 | AP7: 0 | AR7: S29 | AS7: =P246 -> 32 | AT7: 32 | AU7: =O246 -> 0 | AV7: =Q246 -> -32 | AW7: 0 | BC7: Motif de l'absence | BE7: Période | BI7: Just. O/N | BJ7: Nbre J. | BK7: 5 samedis | BL7: Nbre H. | BM7: C Simple | BN7: LRAR | BT7: 2022
C8: 2,5MG | F8: 3MG | H8: 4,5MG | J8: 5,5MG | L8: 6,5MG | N8: 7MG | P8: GD<100 | R8: GD>100 | AK8: S04 | AL8: =P71 -> 32 | AM8: 32 | AN8: =O71 -> 0 | AO8: =Q71 -> -32 | AP8: 0 | AR8: S30 | AS8: =P253 -> 32 | AT8: 32 | AU8: =O253 -> 0 | AV8: =Q253 -> -32 | AW8: 0 | BC8: CP | BE8: 44928 | BG8: 44933 | BJ8: 6 | BK8: 1 | BT8: 2025
C9: {=SUMPRODUCT(('Relevé 2023'!$T$43:$T$408="2,5MG")*(MONTH($A$43:$A$408)=$C$6))} -> 0 | F9: {=SUMPRODUCT(('Relevé 2023'!$T$43:$T$408="3MG")*(MONTH($A$43:$A$408)=$C$6))} -> 0 | H9: {=SUMPRODUCT(('Relevé 2023'!$T$43:$T$408="4,5MG")*(MONTH($A$43:$A$408)=$C$6))} -> 0 | J9: {=SUMPRODUCT(('Relevé 2023'!$T$43:$T$408="5,5MG")*(MONTH($A$43:$A$408)=$C$6))} -> 0 | L9: {=SUMPRODUCT(('Relevé 2023'!$T$43:$T$408="6,5MG")*(MONTH($A$43:$A$408)=$C$6))} -> 0 | N9: {=SUMPRODUCT(('Relevé 2023'!$T$43:$T$408="7MG")*(MONTH($A$43:$A$408)=$C$6))} -> 0 | P9: {=SUMPRODUCT(('Relevé 2023'!$T$43:$T$408="GD<100")*(MONTH($A$43:$A$408)=$C$6))} -> 0 | R9: {=SUMPRODUCT(('Relevé 2023'!$T$43:$T$408="GD>100")*(MONTH($A$43:$A$408)=$C$6))} -> 0 | AK9: S05 | AL9: =P78 -> 32 | AM9: 32 | AN9: =O78 -> 0 | AO9: =Q78 -> -32 | AP9: 0 | AR9: S31 | AS9: =P260 -> 32 | AT9: 32 | AU9: =O260 -> 0 | AV9: =Q260 -> -32 | AW9: 0 | BT9: 2026
AK10: S06 | AL10: =P85 -> 32 | AM10: 32 | AN10: =O85 -> 0 | AO10: =Q85 -> -32 | AP10: 0 | AR10: S32 | AS10: =P267 -> 32 | AT10: 32 | AU10: =O267 -> 0 | AV10: =Q267 -> -32 | AW10: 0 | BT10: 2027
C11: RELEVES DES ABSENCES / RETARDS | AK11: S07 | AL11: =P92 -> 32 | AM11: 32 | AN11: =O92 -> 0 | AO11: =Q92 -> -32 | AP11: 0 | AR11: S33 | AS11: =P274 -> 32 | AT11: 32 | AU11: =O274 -> 6.4 | AV11: =Q274 -> -25.6 | AW11: 0 | BT11: 2028
AK12: S08 | AL12: =P99 -> 32 | AM12: 32 | AN12: =O99 -> 0 | AO12: =Q99 -> -32 | AP12: 0 | AR12: S34 | AS12: =P281 -> 32 | AT12: 32 | AU12: =O281 -> 0 | AV12: =Q281 -> -32 | AW12: 0 | BT12: 2029
C13: TYPE | F13: DEBUT | H13: FIN | J13: MOTIF | P13: JUSTIF. O/N | R13: DUREE | AK13: S09 | AL13: =P106 -> 32 | AM13: 32 | AN13: =O106 -> 0 | AO13: =Q106 -> -32 | AP13: 0 | AR13: S35 | AS13: =P288 -> 32 | AT13: 32 | AU13: =O288 -> 0 | AV13: =Q288 -> -32 | AW13: 0 | BT13: 2030
AK14: S10 | AL14: =P113 -> 32 | AM14: 32 | AN14: =O113 -> 0 | AO14: =Q113 -> -32 | AP14: 0 | AR14: S36 | AS14: =P295 -> 35 | AT14: 35 | AU14: =O295 -> 0 | AV14: =Q295 -> -35 | AW14: 0 | BT14: 2031
AK15: S11 | AL15: =P120 -> 32 | AM15: 32 | AN15: =O120 -> 0 | AO15: =Q120 -> -32 | AP15: 0 | AR15: S37 | AS15: =P302 -> 35 | AT15: 35 | AU15: =O302 -> 0 | AV15: =Q302 -> -35 | AW15: 0 | BT15: 2032
AK16: S12 | AL16: =P127 -> 32 | AM16: 32 | AN16: =O127 -> 0 | AO16: =Q127 -> -32 | AP16: 0 | AR16: S38 | AS16: =P309 -> 35 | AT16: 35 | AU16: =O309 -> 0 | AV16: =Q309 -> -35 | AW16: 0 | BT16: 2033
AK17: S13 | AL17: =P134 -> 32 | AM17: 32 | AN17: =O134 -> 0 | AO17: =Q134 -> -32 | AP17: 0 | AR17: S39 | AS17: =P316 -> 35 | AT17: 35 | AU17: =O316 -> 0 | AV17: =Q316 -> -35 | AW17: 0 | BT17: 2034
AK18: S14 | AL18: =P141 -> 32 | AM18: 32 | AN18: =O141 -> 0 | AO18: =Q141 -> -32 | AP18: 0 | AR18: S40 | AS18: =P323 -> 39 | AT18: 39 | AU18: =O323 -> 0 | AV18: =Q323 -> -39 | AW18: 0 | BT18: 2035
C19: Commentaire(s) : | AK19: S15 | AL19: =P148 -> 32 | AM19: 32 | AN19: =O148 -> 6.4 | AO19: =Q148 -> -25.6 | AP19: 0 | AR19: S41 | AS19: =P330 -> 39 | AT19: 39 | AU19: =O330 -> 0 | AV19: =Q330 -> -39 | AW19: 0
AK20: S16 | AL20: =P155 -> 32 | AM20: 32 | AN20: =O155 -> 0 | AO20: =Q155 -> -32 | AP20: 0 | AR20: S42 | AS20: =P337 -> 39 | AT20: 39 | AU20: =O337 -> 0 | AV20: =Q337 -> -39 | AW20: 0
AK21: S17 | AL21: =P162 -> 32 | AM21: 32 | AN21: =O162 -> 0 | AO21: =Q162 -> -32 | AP21: 0 | AR21: S43 | AS21: =P344 -> 39 | AT21: 39 | AU21: =O344 -> 0 | AV21: =Q344 -> -39 | AW21: 0
AK22: S18 | AL22: =P169 -> 32 | AM22: 32 | AN22: =O169 -> 6.4 | AO22: =Q169 -> -25.6 | AP22: 0 | AR22: S44 | AS22: =P351 -> 39 | AT22: 39 | AU22: =O351 -> 7.8 | AV22: =Q351 -> -31.2 | AW22: 0
C23: D'après le planning prévisionnel 2023 | AK23: S19 | AL23: =P176 -> 32 | AM23: 32 | AN23: =O176 -> 6.4 | AO23: =Q176 -> -25.6 | AP23: 0 | AR23: S45 | AS23: =P358 -> 39 | AT23: 39 | AU23: =O358 -> 0 | AV23: =Q358 -> -39 | AW23: 0
C24: Période basse (32h) x 17 semaines | H24: = 544 h | I24: - 1 J. Férié (15 aout) | L24: = | M24: 573,6 h | AK24: S20 | AL24: =P183 -> 39 | AM24: 39 | AN24: =O183 -> 7.8 | AO24: =Q183 -> -31.2 | AP24: 0 | AR24: S46 | AS24: =P365 -> 39 | AT24: 39 | AU24: =O365 -> 0 | AV24: =Q365 -> -39 | AW24: 0
C25: Période moyenne (35h) x 15 semaines | H25: = 525 h | I25: - 4J. Fériés | L25: = | M25: 497,0 h | AK25: S21 | AL25: =P190 -> 39 | AM25: 39 | AN25: =O190 -> 0 | AO25: =Q190 -> -39 | AP25: 0 | AR25: S47 | AS25: =P372 -> 39 | AT25: 39 | AU25: =O372 -> 0 | AV25: =Q372 -> -39 | AW25: 0
C26: Période haute (39h) x 18 semaines | H26: = 705 h | I26: - 3J. Fériés | L26: = | M26: 678,6 h | AK26: S22 | AL26: =P197 -> 39 | AM26: 39 | AN26: =O197 -> 7.8 | AO26: =Q197 -> -31.2 | AP26: 0 | AR26: S48 | AS26: =P379 -> 39 | AT26: 39 | AU26: =O379 -> 0 | AV26: =Q379 -> -39 | AW26: 0
I27: - 3 Semaines CP | L27: = | M27: - 105 h | AK27: S23 | AL27: =P204 -> 39 | AM27: 39 | AN27: =O204 -> 0 | AO27: =Q204 -> -39 | AP27: 0 | AR27: S49 | AS27: =P386 -> 39 | AT27: 39 | AU27: =O386 -> 0 | AV27: =Q386 -> -39 | AW27: 0
I28: - 1J. Férié (Noël) | L28: = | M28: - 7 h | AK28: S24 | AL28: =P211 -> 39 | AM28: 39 | AN28: =O211 -> 0 | AO28: =Q211 -> -39 | AP28: 0 | AR28: S50 | AS28: =P393 -> 32 | AT28: 32 | AU28: =O393 -> 0 | AV28: =Q393 -> -32 | AW28: 0
M29: 1601 h | AK29: S25 | AL29: =P218 -> 39 | AM29: 39 | AN29: =O218 -> 0 | AO29: =Q218 -> -39 | AP29: 0 | AR29: S51 | AS29: =P400 -> 35 | AT29: 35 | AU29: =O400 -> 0 | AV29: =Q400 -> -35 | AW29: 0
AK30: S26 | AL30: =P225 -> 39 | AM30: 39 | AN30: =O225 -> 0 | AO30: =Q225 -> -39 | AP30: 0 | AR30: S52 | AS30: =P407 -> 35 | AT30: 35 | AU30: =O407 -> 7 | AV30: =Q407 -> -28 | AW30: 0
C31: Rappel : Tout retard doit faire l'objet d'une justification à l'arrivée au travail Toute absence prévisible doit être préalablement autorisée par la Direction. Si l'absence est imprévisible, le salarié doit informer au plus tôt la Direction et fournir dans les 48 heures une justification de cette absence.
C35: Légende | BC35: Récapitulatif relevé
C36: CP | D36: Congé Payé | J36: Absence de relevé | N36: ABST J | O36: Absence/Retard Justifié | BC36: Total des heures d'absences (Justifié / non justifié) | BJ36: =SUM(BL8:BL33) -> 0
C37: CSS | D37: Congé Sans Solde | I37: MAL | J37: Malade avec justificatif | N37: ABST I | O37: Absence/Retard Non Justifié | BC37: Total des heures d'absences justifiées | BJ37: =SUMIF(BI8:BI33,"o",BL8:BL33) -> 0
C38: CEF | D38: CP Evénements Familiaux | I38: AT | J38: Accident du travail | N38: FERIE | O38: Journée Chômé | BC38: Total des heures d'absences non justifiées | BJ38: =SUMIF(BI8:BI33,"n",BL8:BL33) -> 0
C39: CEM | D39: Congé Enfant Malade | N39: REPOS | O39: Repos | BC39: Nombre de jours de congés restants | BJ39: =$O$3-(SUMIF($BC$8:$BD$33,"CP",$BJ$8:$BJ$33)) -> -6
A41: Date | C41: arrivée 1er Chantier | E41: Corrigé verizon | F41: trajet 1er chantier | G41: Charge | H41: Début pause déj. | I41: Fin pause déj. | J41: départ der. Chantier | K41: corrigé verizon | L41: trajet der. Chantier | M41: décharge | N41: total Heures | O41: Cumul | P41: Théorique | Q41: Ecart | R41: Solde | S41: trajet Retenu | T41: MG | V41: Conduc | Y41: Véhicule | AA41: Remorque | AC41: Tracteur | AF41: en format décimal
O42: Hebdo | P42: Hebdo | Q42: Hebdo | R42: Hrs. Sup | Z42: Véhicule | AB42: Remorque | AD42: Tracteur
A43: 44927 | C43: =IF(A43='Relevé Kizeo'!C4,VLOOKUP(A43,'Relevé Kizeo'!$C$4:$R$1001,2,TRUE),"") -> REPOS | D43: =_xlfn.IFS(C43=0,0,C43="CP",1,C43="CEF",2,C43="CSS",3,C43="CEM",4,C43="MAL",5,C43="AT",6,C43="ABST J",7,C43="ABST I",8,C43="FERIE",9,C43="REPOS",10,C43<"1:00",11) -> 10 | E43: =IF(C43="CP",0,IF(C43="CEF",0,IF(C43="CSS",0,IF(C43="CEM",0,IF(C43="MAL",0,IF(C43="AT",0,IF(C43="ABST J",0,IF(C43="ABST I",0,IF(C43="FERIE",0,IF(C43="REPOS",0,C43)))))))))) -> 0 | F43: 0 | G43: {=_xlfn.IFS(C43="",0,C43=0,0,C43="CP",0,C43="CEF",0,C43="CSS",0,C43="CEM",0,C43="CEM",0,C43="MAL",0,C43="AT",0,C43="ABST J",0,C43="ABST I",0,C43="FERIE",0,C43="REPOS",0,C43<"1:00",$F$420)} -> 0 | H43: =IF(A43='Relevé Kizeo'!C4,VLOOKUP(A43,'Relevé Kizeo'!$C$4:$R$1001,3,TRUE),"") -> 0 | I43: =IF(A43='Relevé Kizeo'!C4,VLOOKUP(A43,'Relevé Kizeo'!$C$4:$R$1001,4,TRUE),"") -> 0 | J43: =IF(A43='Relevé Kizeo'!C4,VLOOKUP(A43,'Relevé Kizeo'!$C$4:$R$1001,5,TRUE),"") -> 0 | K43: =J43 -> 0 | L43: 0 | M43: {=_xlfn.IFS(I43="",0,I43=0,0,I43="CP",0,I43="CEF",0,I43="CSS",0,I43="CEM",0,I43="MAL",0,I43="AT",0,I43="ABST J",0,I43="ABST I",0,I43="FERIE",0,I43="REPOS",0,I43<"1:00",$F$421)} -> 0 | N43: {=_xlfn.IFS(D43=0,0,AND(D43>=1,D43<=9),OFFSET($AL$5,MOD(WEEKNUM(A43,21)-1,26),IF(WEEKNUM(A43,21)>26,8,0))/5,D43=10,0,D43=11,(H43-E43+G43)*24+(K43-I43+M43)*24)} -> 0 | O43: 35 | P43: 35 | Q43: {=IF(LEFT(R$2,1)="-",-1,1)*INDIRECT(CONCATENATE(RIGHT(R$2,LEN(R$2)-1),ROW()))+IF(LEFT(R$3,1)="-",-1,1)*INDIRECT(CONCATENATE(RIGHT(R$3,LEN(R$3)-1),ROW()))} -> 0 | R43: =IF(ISNUMBER(R42),R42,0)+INDIRECT(CONCATENATE(R$4,ROW())) -> 0 | S43: =MAX(F43,L43) -> 0 | T43: =IF(S43=0,"",IF(S43<=5,"3MG",IF(S43<=20,"4,5MG",IF(S43<=30,"5,5MG",IF(S43<=50,"6,5MG",IF(S43<=70,"7MG",IF(S43<=100,"GD<100",IF(S43>100,"GD>100")))))))) | V43: =IF(A43='Relevé Kizeo'!C4,VLOOKUP(A43,'Relevé Kizeo'!$C$4:$R$1001,6,TRUE)) -> 0 | W43: =IF(D43="","",IF(D43=1,1,IF(D43=2,0,IF(D43=3,0,IF(D43=4,0,IF(D43=5,0,IF(D43=6,1,IF(D43=7,0,IF(D43=8,0,IF(D43=9,0,IF(D43=10,0,IF(D43=11,1)))))))))))) -> 0 | Y43: =MID(Z43,1,8) -> 0 | Z43: =IF(A43='Relevé Kizeo'!C4,VLOOKUP(A43,'Relevé Kizeo'!$C$4:$R$1001,8,TRUE),"") -> 0 | AA43: =MID(AB43,1,6) -> 0 | AB43: =IF(A43='Relevé Kizeo'!C4,VLOOKUP(A43,'Relevé Kizeo'!$C$4:$R$1001,9,TRUE),"") -> 0 | AC43: =MID(AD43,2,6) | AD43: =IF(A43='Relevé Kizeo'!C4,VLOOKUP(A43,'Relevé Kizeo'!$C$4:$R$1001,10,TRUE),"") -> 0 | AE43: =IF(N43=0,"",IF(N43>$F$418,N43-$F$418,$F$418-N43)) | AF43: =IF(ISERROR(IF(N43>$F$418,(HOUR(AE43)*60+MINUTE(AE43))/60,-(HOUR(AE43)*60+MINUTE(AE43))/60)),"",IF(N43>$F$418,(HOUR(AE43)*60+MINUTE(AE43))/60,-(HOUR(AE43)*60+MINUTE(AE43))/60))
A44: 44928 | B44: S01 | C44: =IF(A44='Relevé Kizeo'!C5,VLOOKUP(A44,'Relevé Kizeo'!$C$4:$R$1001,2,TRUE),"") -> 0.33333333 | D44: =_xlfn.IFS(C44=0,0,C44="CP",1,C44="CEF",2,C44="CSS",3,C44="CEM",4,C44="MAL",5,C44="AT",6,C44="ABST J",7,C44="ABST I",8,C44="FERIE",9,C44="REPOS",10,C44<"1:00",11) -> 11 | E44: =IF(C44="CP",0,IF(C44="CEF",0,IF(C44="CSS",0,IF(C44="CEM",0,IF(C44="MAL",0,IF(C44="AT",0,IF(C44="ABST J",0,IF(C44="ABST I",0,IF(C44="FERIE",0,IF(C44="REPOS",0,C44)))))))))) -> 0.33333333 | F44: 0 | G44: {=_xlfn.IFS(C44="",0,C44=0,0,C44="CP",0,C44="CEF",0,C44="CSS",0,C44="CEM",0,C44="CEM",0,C44="MAL",0,C44="AT",0,C44="ABST J",0,C44="ABST I",0,C44="FERIE",0,C44="REPOS",0,C44<"1:00",$F$420)} -> 0.010416667 | H44: =IF(A44='Relevé Kizeo'!C5,VLOOKUP(A44,'Relevé Kizeo'!$C$4:$R$1001,3,TRUE),"") -> 0.5 | I44: =IF(A44='Relevé Kizeo'!C5,VLOOKUP(A44,'Relevé Kizeo'!$C$4:$R$1001,4,TRUE),"") -> 0.53125 | J44: =IF(A44='Relevé Kizeo'!C5,VLOOKUP(A44,'Relevé Kizeo'!$C$4:$R$1001,5,TRUE),"") -> 0.64583333 | K44: =J44 -> 0.64583333 | L44: 0 | M44: {=_xlfn.IFS(I44="",0,I44=0,0,I44="CP",0,I44="CEF",0,I44="CSS",0,I44="CEM",0,I44="MAL",0,I44="AT",0,I44="ABST J",0,I44="ABST I",0,I44="FERIE",0,I44="REPOS",0,I44<"1:00",$F$421)} -> 0.010416667 | N44: {=_xlfn.IFS(D44=0,0,AND(D44>=1,D44<=9),OFFSET($AL$5,MOD(WEEKNUM(A44,21)-1,26),IF(WEEKNUM(A44,21)>26,8,0))/5,D44=10,0,D44=11,(H44-E44+G44)*24+(K44-I44+M44)*24)} -> 7.25 | R44: =IF(ISNUMBER(R43),R43,0)+INDIRECT(CONCATENATE(R$4,ROW())) -> 0 | S44: =MAX(F44,L44) -> 0 | T44: =IF(D44=0,"",IF(S44=0,"",IF(S44<=5,"3MG",IF(S44<=20,"4,5MG",IF(S44<=30,"5,5MG",IF(S44<=50,"6,5MG",IF(S44<=70,"7MG",IF(S44<=100,"GD<100",IF(S44>100,"GD>100"))))))))) | V44: =IF(A44='Relevé Kizeo'!C5,VLOOKUP(A44,'Relevé Kizeo'!$C$4:$R$1001,6,TRUE),"") -> NON | W44: =IF(D44="","",IF(D44=1,1,IF(D44=2,0,IF(D44=3,0,IF(D44=4,0,IF(D44=5,0,IF(D44=6,1,IF(D44=7,0,IF(D44=8,0,IF(D44=9,0,IF(D44=10,0,IF(D44=11,1)))))))))))) -> 1 | Y44: =MID(Z44,1,8) -> BEN 01 | Z44: =IF(A44='Relevé Kizeo'!C5,VLOOKUP(A44,'Relevé Kizeo'!$C$4:$R$1001,8,TRUE),"") -> BEN 01 | AA44: =MID(AB44,1,6) -> REM 01 | AB44: =IF(A44='Relevé Kizeo'!C5,VLOOKUP(A44,'Relevé Kizeo'!$C$4:$R$1001,9,TRUE),"") -> REM 01 | AC44: =MID(AD44,2,6) -> RA 01 | AD44: =IF(A44='Relevé Kizeo'!C5,VLOOKUP(A44,'Relevé Kizeo'!$C$4:$R$1001,10,TRUE),"") -> TRA 01 | AE44: =IF(N44=0,"",IF(N44>$F$418,N44-$F$418,$F$418-N44)) -> 6.9583333 | AF44: =IF(ISERROR(IF(N44>$F$418,(HOUR(AE44)*60+MINUTE(AE44))/60,-(HOUR(AE44)*60+MINUTE(AE44))/60)),"",IF(N44>$F$418,(HOUR(AE44)*60+MINUTE(AE44))/60,-(HOUR(AE44)*60+MINUTE(AE44))/60)) -> 23
...

Sheet Feuil1

Sheet Feuil3

Sheet BD
A1: VEHICULES | H1: Férié
A2: BEN 01 | C2: Janvier | D2: 2023 | E2: CP | F2: Congé Payé | H2: jour de l'an | I2: 44927 | K2: NBRE D'HEURE MOYEN
A3: BEN 02 | C3: Février | D3: 2023 | E3: CEF | F3: Congé Evènements Familiaux | H3: lundi de paques | I3: 45026 | K3: SEMAINE | L3: HEURE (cent) | M3: HEURE (H)
A4: BEN 03 | C4: Mars | D4: 2023 | E4: CSS | F4: Congé Sans Solde | H4: Fête du travail | I4: 45047 | K4: 32 | L4: 6.4 | M4: 0.26666667
A5: BEN 04 | C5: Avril | D5: 2023 | E5: CEM | F5: Congé Enfant Malade | H5: Fête de la victoire de 1945 | I5: 45054 | K5: 35 | L5: 7 | M5: 0.29166667
A6: BEN 05 | C6: Mai | D6: 2023 | E6: MAL | F6: Malade | H6: Jeudi de l'Ascension | I6: 45064 | K6: 39 | L6: 7.8 | M6: 0.325
A7: BEN 06 | C7: Juin | D7: 2023 | E7: AT | F7: Accident | H7: Lundi de Pentecôte | I7: 45075
A8: BEN 07 | C8: Juillet | D8: 2023 | E8: ABST J | F8: Retard / Absence Justifiée | H8: Fête Nationale | I8: 45121
A9: BEN 08 | C9: Août | D9: 2023 | E9: ABST I | F9: Retard / Absence injustifiée | H9: Assomption | I9: 45153
A10: BEN 09 | C10: Septembre | D10: 2023 | E10: FERIE | F10: Journée Chomée | H10: Toussaint | I10: 45231
A11: BEN 10 | C11: Octobre | D11: 2023 | E11: REPOS | F11: Jounée non travaillée | H11: Armistice de 1918 | I11: 45241
A12: BEN 11 | C12: Novembre | D12: 2023 | H12: Noël | I12: 45285
A13: PL 001 | C13: Décembre | D13: 2023
A14: VL 001
A15: VL 002 | C15: =TODAY() -> 44958
A16: VL 003
A17: VL 004
A18: VL 005
A19: VL 006
A20: VL 007
A21: VL 008
A22: VD 001
A23: P.UP 1
