Workbook

Sheet TEST
A1: TEST CHALVIN ET MULLER | C1: =IF(F1<>93,VLOOKUP(0,$F$2:$G$215,2,FALSE),"") | F1: =SUM(F2:F184) -> 93
A2: Nom : | B2: DUMAS | F2: =IF(B2<>"",1,0) -> 1 | G2: Veuillez renseigner votre nom
A3: Prénom : | B3: FRANK | F3: =IF(B3<>"",1,0) -> 1 | G3: Veuillez renseigner votre prénom
A4: Date : | B4: 44957 | F4: =IF(B4<>"",1,0) -> 1 | G4: Veuillez renseigner la date à laquelle vous réalisez ce test
A5: Conseils pratiques à lire avant de répondre au questionnaire Chaque paire d’attitudes va vous paraître illogique. Ceci est voulu afin que vous puissiez vous dégager des modèles habituels des jugements : bien / mal, beau / laid, moral / immoral, etc. La méthodologie de questionnement utilisée est celle du choix forcé, c’est à dire que vous êtes obligés de choisir l’un des deux termes de chaque alternative. Vous ne pouvez pas « sauter » une réponse. En cas de doute ou d’hésitation, posez-vous des questions du genre de celles-ci : « Combien de fois en 6 mois ai-je agi ainsi ? » ou « si je faisais un auto-pointage de mon temps, quel serait le pourcentage de temps trouvé dans chacune des alternatives ». Certaines paires proposent des attitudes toutes les deux inefficaces. Dans la vie professionnelle, et en particulier dans l’exercice des responsabilités d’encadrement, nous sommes parfois acculés à de tels choix. | C5: Réponses seulement a ou b
A6: 1 | B6: 1.a. Pourquoi consacrer de l'énergie et du temps à des entretiens annuels qui ne servent à rien ? La note décidée par le responsable est bien suffisante. | C6: a | F6: =IF(C6<>"",1,0) -> 1 | G6: ="Question n° "&A6&" sans réponse …" -> Question n° 1 sans réponse …
B7: 1.b. C'est en fonction des responsabilités confiées à chacun des collaborateurs que je définis les actions de formation à entreprendre pour optimiser leur efficacité professionnelle.
A8: 2 | B8: 2.a. Je m'intéresse aux évolutions des méthodes de management, je participe à des séminaires sur le sujet et je vois avec mon équipe comment nous pourrions les transposer dans notre entreprise. | C8: b | F8: =IF(C8<>"",1,0) -> 1 | G8: ="Question n° "&A8&" sans réponse …" -> Question n° 2 sans réponse …
B9: 2.b. En cas de conflit, je préfère un face-à-face vigoureux plutôt qu'une entente de façade qui étouffe les désaccords sous jacents.
A10: 3 | B10: 3.a. Je suis un adepte de l'adaptation permanente et du changement. Je suis déçu de m'apercevoir que de nombreux collaborateurs que je supervise semblent s'installer dans une douce routine. | C10: a | F10: =IF(C10<>"",1,0) -> 1 | G10: ="Question n° "&A10&" sans réponse …" -> Question n° 3 sans réponse …
B11: 3.b. Je supervise en permanence mes collaborateurs pour qu'ils assument les responsabilités et les missions qui leur sont confiées.
A12: 4 | B12: 4.a. En cas de problème récurrent, je préfère m'interroger sur les causes liées à notre organisation et à nos règles de fonctionnement plutôt que sur les personnes. | C12: a | F12: =IF(C12<>"",1,0) -> 1 | G12: ="Question n° "&A12&" sans réponse …" -> Question n° 4 sans réponse …
B13: 4.b. Ce n'est qu'après avoir personnellement examiné un projet de changement et en avoir bien délimité les contours avec la direction ou mon manager que j'en avise le personnel.
A14: 5 | B14: 5.a. En cas d'erreur, je n'ose pas me confronter à son auteur, afin qu'il conserve intacte sa motivation. | C14: b | F14: =IF(C14<>"",1,0) -> 1 | G14: ="Question n° "&A14&" sans réponse …" -> Question n° 5 sans réponse …
B15: 5.b. J'entends Intervenir personnellement dans l'accueil et l'intégration des nouveaux entrants. Je désire être seul pour les recevoir afin qu'ils comprennent clairement ce que j'attends d'eux pour le bien de l'entreprise et des clients.
A16: 6 | B16: 6.a. Je concentre l'attention de mes collaborateurs sur les missions prioritaires de l'entreprise et de notre service. Chacun assume ainsi ses responsabilités. | C16: a | F16: =IF(C16<>"",1,0) -> 1 | G16: ="Question n° "&A16&" sans réponse …" -> Question n° 6 sans réponse …
B17: 6.b. J'estime que la rigueur et la fermeté sont nécessaires pour assurer la qualité des services rendus aux clients et aux usagers.
A18: 7 | B18: 7.a. Je ne traite un problème qu'à partir du moment où il est formulé par écrit sur papier ou en courrier électronique. | C18: a | F18: =IF(C18<>"",1,0) -> 1 | G18: ="Question n° "&A18&" sans réponse …" -> Question n° 7 sans réponse …
B19: 7.b. Il faut qu'un collaborateur ait bien fait la preuve de ses capacités pour que je lui confie des responsabilités plus larges.
A20: 8 | B20: 8.a. Je suis confiant dans la capacité de chacun à traiter les situations difficiles avec son entourage professionnel. | C20: b | F20: =IF(C20<>"",1,0) -> 1 | G20: ="Question n° "&A20&" sans réponse …" -> Question n° 8 sans réponse …
B21: 8.b. C'est en fonction de la manière dont les collaborateurs font face aux circonstances défavorables et aux difficultés, que j'évalue leurs capacités professionnelles. C'est dans les occasions exceptionnelles que se révèlent les personnalités fortes, aptes à assumer des missions complexes.
A22: 9 | B22: 9.a. Je fais des compliments à mes collaborateurs pour les motiver, même si je pense qu'ils ne les méritent pas, | C22: b | F22: =IF(C22<>"",1,0) -> 1 | G22: ="Question n° "&A22&" sans réponse …" -> Question n° 9 sans réponse …
B23: 9.b. Je pense qu'en dernière instance, c'est au responsable de décider seul.
A24: 10 | B24: 10.a. J'estime que la fermeté, la rigueur et le respect mutuel sont nécessaires dans les rapports avec les représentants du personnel. À cet égard, j'applique la loi, rien que la loi, toute la loi. | C24: a | F24: =IF(C24<>"",1,0) -> 1 | G24: ="Question n° "&A24&" sans réponse …" -> Question n° 10 sans réponse …
B25: 10.b. Je ne songe pas à déléguer mes responsabilités. ll n'est pas question pour moi d'endosser les erreurs des autres et de risquer ainsi de perdre mon autorité
A26: 11 | B26: 11.a. Je pense qu'une organisation doit être adaptée à son époque. C'est pourquoi je concentre une partie de mon énergie à moderniser son fonctionnement, en particulier grâce aux réseaux électroniques : intranet, groupware, forums, mails, etc. | C26: a | F26: =IF(C26<>"",1,0) -> 1 | G26: ="Question n° "&A26&" sans réponse …" -> Question n° 11 sans réponse …
B27: 11.b. Je reste discret lorsque je vais suivre un stage de formation, pour ne pas afficher ouvertement mes faiblesses. Un responsable doit être prudent à cet égard, sous peine de se voir très vite contesté.
A28: 12 | B28: 12.a. J'ai appris des méthodes de résolution de problèmes en groupe qui m’apparaissent très efficaces. J'ai moi-même formé plusieurs collaborateurs à l'application de ces méthodes en les convainquant de leur pertinence. Mais les problèmes s'accumulent et nous les résolvons au mieux au dernier moment, poussés par l'urgence. | C28: b | F28: =IF(C28<>"",1,0) -> 1 | G28: ="Question n° "&A28&" sans réponse …" -> Question n° 12 sans réponse …
B29: 12.b. Discuter des changements avec mon équipe me paraît stérile. On perd du temps en tergiversations et états d'âme. La note de service ou le mail informant des modifications est pour moi le seul moyen qui permette d'éviter que des opinions différentes ne s'expriment.
A30: 13 | B30: 13.a. Je suscite et j'écoute les remarques et suggestions de mes collaborateurs à propos du fonctionnement du service et de l'entreprise. Je m'organise pour que ces idées soient suivies d'effets. | C30: a | F30: =IF(C30<>"",1,0) -> 1 | G30: ="Question n° "&A30&" sans réponse …" -> Question n° 13 sans réponse …
B31: 13.b. Si j'écoutais toutes les plaintes et récriminations du personnel, je n'aurais plus de temps à consacrer aux priorités, II ne saurait être question de transformer mon espace de travail en « bureau des pleurs ».
A32: 14 | B32: 14.a. Mon équipe est une grande famille. Je ne veux pas tout gâcher en exerçant une quelconque autorité hiérarchique. | C32: b | F32: =IF(C32<>"",1,0) -> 1 | G32: ="Question n° "&A32&" sans réponse …" -> Question n° 14 sans réponse …
B33: 14.b. En cas de désaccord entre des personnes de mon équipe, je tranche assez vite pour celui qui argumente le mieux et dont les positions sont proches des miennes. Le travail sérieux ne peut s'accommoder de discussions à n'en plus finir.
A34: 15 | B34: 15.a. Je considère que les procédures permettent à chacun de travailler efficacement. | C34: a | F34: =IF(C34<>"",1,0) -> 1 | G34: ="Question n° "&A34&" sans réponse …" -> Question n° 15 sans réponse …
B35: 15.b. « Faire confiance » ne me paraît pas sérieux. Seul un contrôle très strict peut garantir un travail de qualité.
A36: 16 | B36: 16.a. À quoi bon faire des entretiens d'appréciation puisqu'en fin de compte, je ne dispose que d'une très étroite marge de manœuvre en matière de rémunération et de carrière. | C36: a | F36: =IF(C36<>"",1,0) -> 1 | G36: ="Question n° "&A36&" sans réponse …" -> Question n° 16 sans réponse …
B37: 16.b. Je pense que les représentants du personnel, même s'ils affichent de beaux principes de façade, freinent les évolutions nécessaires de l'entreprise. Je les reçois sans vraiment les écouter. C'est pour moi une contrainte qui me fait perdre mon temps.
A38: 17 | B38: 17.a. J'accepte de revenir sur une décision quand elle s'avère erronée. | C38: a | F38: =IF(C38<>"",1,0) -> 1 | G38: ="Question n° "&A38&" sans réponse …" -> Question n° 17 sans réponse …
B39: 17.b. Le personnel me craint. Rares sont ceux qui osent me contredire. Et c'est bien comme cela.
A40: 18 | B40: 18.a. Dans les situations tendues, je préfère rester dans un premier temps en retrait pour écouter et utiliser les points faibles de mes interlocuteurs. | C40: b | F40: =IF(C40<>"",1,0) -> 1 | G40: ="Question n° "&A40&" sans réponse …" -> Question n° 18 sans réponse …
...

Sheet Correction 1
B1: Styles de Management : Ce que je fais ou qui se rapproche le plus de ce que je fais
B2: Nom et Prénom : | F2: =IF(AND(TEST!B2<>"",TEST!B3<>""),TEST!B2& " "&TEST!B3,"") -> DUMAS FRANK | L2: Date : | N2: =IF(TEST!B4=0,"",TEST!B4) -> 44957
B3: T | D3: T' | F3: M | H3: M' | J3: P | L3: P' | N3: G | P3: G' | R3: R | T3: R' | V3: Résultats ligne (b) | W3: Ligne+ colonne +1 | Y3: STYLE
D4: 1 | E4: =IF(VLOOKUP(D4,TEST!$A$6:$D$185,3,FALSE)=0,"",VLOOKUP(D4,TEST!$A$6:$D$185,3,FALSE)) -> a | F4: 2 | G4: =IF(VLOOKUP(F4,TEST!$A$6:$D$185,3,FALSE)=0,"",VLOOKUP(F4,TEST!$A$6:$D$185,3,FALSE)) -> b | H4: 3 | I4: =IF(VLOOKUP(H4,TEST!$A$6:$D$185,3,FALSE)=0,"",VLOOKUP(H4,TEST!$A$6:$D$185,3,FALSE)) -> a | J4: 4 | K4: =IF(VLOOKUP(J4,TEST!$A$6:$D$185,3,FALSE)=0,"",VLOOKUP(J4,TEST!$A$6:$D$185,3,FALSE)) -> a | L4: 5 | M4: =IF(VLOOKUP(L4,TEST!$A$6:$D$185,3,FALSE)=0,"",VLOOKUP(L4,TEST!$A$6:$D$185,3,FALSE)) -> b | N4: 6 | O4: =IF(VLOOKUP(N4,TEST!$A$6:$D$185,3,FALSE)=0,"",VLOOKUP(N4,TEST!$A$6:$D$185,3,FALSE)) -> a | P4: 7 | Q4: =IF(VLOOKUP(P4,TEST!$A$6:$D$185,3,FALSE)=0,"",VLOOKUP(P4,TEST!$A$6:$D$185,3,FALSE)) -> a | R4: 8 | S4: =IF(VLOOKUP(R4,TEST!$A$6:$D$185,3,FALSE)=0,"",VLOOKUP(R4,TEST!$A$6:$D$185,3,FALSE)) -> b | T4: 9 | U4: =IF(VLOOKUP(T4,TEST!$A$6:$D$185,3,FALSE)=0,"",VLOOKUP(T4,TEST!$A$6:$D$185,3,FALSE)) -> b | V4: =COUNTIF(B4:U4,"b") -> 4 | W4: =V4+C14+1 -> 12 | X4: T | Y4: Entreprenant (Engagé, directif)
B5: 10 | C5: =IF(VLOOKUP(B5,TEST!$A$6:$D$185,3,FALSE)=0,"",VLOOKUP(B5,TEST!$A$6:$D$185,3,FALSE)) -> a | F5: 11 | G5: =IF(VLOOKUP(F5,TEST!$A$6:$D$185,3,FALSE)=0,"",VLOOKUP(F5,TEST!$A$6:$D$185,3,FALSE)) -> a | H5: 12 | I5: =IF(VLOOKUP(H5,TEST!$A$6:$D$185,3,FALSE)=0,"",VLOOKUP(H5,TEST!$A$6:$D$185,3,FALSE)) -> b | J5: 13 | K5: =IF(VLOOKUP(J5,TEST!$A$6:$D$185,3,FALSE)=0,"",VLOOKUP(J5,TEST!$A$6:$D$185,3,FALSE)) -> a | L5: 14 | M5: =IF(VLOOKUP(L5,TEST!$A$6:$D$185,3,FALSE)=0,"",VLOOKUP(L5,TEST!$A$6:$D$185,3,FALSE)) -> b | N5: 15 | O5: =IF(VLOOKUP(N5,TEST!$A$6:$D$185,3,FALSE)=0,"",VLOOKUP(N5,TEST!$A$6:$D$185,3,FALSE)) -> a | P5: 16 | Q5: =IF(VLOOKUP(P5,TEST!$A$6:$D$185,3,FALSE)=0,"",VLOOKUP(P5,TEST!$A$6:$D$185,3,FALSE)) -> a | R5: 17 | S5: =IF(VLOOKUP(R5,TEST!$A$6:$D$185,3,FALSE)=0,"",VLOOKUP(R5,TEST!$A$6:$D$185,3,FALSE)) -> a | T5: 18 | U5: =IF(VLOOKUP(T5,TEST!$A$6:$D$185,3,FALSE)=0,"",VLOOKUP(T5,TEST!$A$6:$D$185,3,FALSE)) -> b | V5: =COUNTIF(B5:U5,"b") -> 3 | W5: =V5+E14+1 -> 6 | X5: T' | Y5: Autocrate (Dictateur)
B6: 19 | C6: =IF(VLOOKUP(B6,TEST!$A$6:$D$185,3,FALSE)=0,"",VLOOKUP(B6,TEST!$A$6:$D$185,3,FALSE)) -> a | D6: 20 | E6: =IF(VLOOKUP(D6,TEST!$A$6:$D$185,3,FALSE)=0,"",VLOOKUP(D6,TEST!$A$6:$D$185,3,FALSE)) -> b | H6: 21 | I6: =IF(VLOOKUP(H6,TEST!$A$6:$D$185,3,FALSE)=0,"",VLOOKUP(H6,TEST!$A$6:$D$185,3,FALSE)) -> b | J6: 22 | K6: =IF(VLOOKUP(J6,TEST!$A$6:$D$185,3,FALSE)=0,"",VLOOKUP(J6,TEST!$A$6:$D$185,3,FALSE)) -> b | L6: 23 | M6: =IF(VLOOKUP(L6,TEST!$A$6:$D$185,3,FALSE)=0,"",VLOOKUP(L6,TEST!$A$6:$D$185,3,FALSE)) -> b | N6: 24 | O6: =IF(VLOOKUP(N6,TEST!$A$6:$D$185,3,FALSE)=0,"",VLOOKUP(N6,TEST!$A$6:$D$185,3,FALSE)) -> a | P6: 25 | Q6: =IF(VLOOKUP(P6,TEST!$A$6:$D$185,3,FALSE)=0,"",VLOOKUP(P6,TEST!$A$6:$D$185,3,FALSE)) -> b | R6: 26 | S6: =IF(VLOOKUP(R6,TEST!$A$6:$D$185,3,FALSE)=0,"",VLOOKUP(R6,TEST!$A$6:$D$185,3,FALSE)) -> a | T6: 27 | U6: =IF(VLOOKUP(T6,TEST!$A$6:$D$185,3,FALSE)=0,"",VLOOKUP(T6,TEST!$A$6:$D$185,3,FALSE)) -> b | V6: =COUNTIF(B6:U6,"b") -> 6 | W6: =V6+G14+1 -> 13 | X6: M | Y6: Maximaliste (Persuasif, leader)
B7: 28 | C7: =IF(VLOOKUP(B7,TEST!$A$6:$D$185,3,FALSE)=0,"",VLOOKUP(B7,TEST!$A$6:$D$185,3,FALSE)) -> a | D7: 29 | E7: =IF(VLOOKUP(D7,TEST!$A$6:$D$185,3,FALSE)=0,"",VLOOKUP(D7,TEST!$A$6:$D$185,3,FALSE)) -> b | F7: 30 | G7: =IF(VLOOKUP(F7,TEST!$A$6:$D$185,3,FALSE)=0,"",VLOOKUP(F7,TEST!$A$6:$D$185,3,FALSE)) -> a | J7: 31 | K7: =IF(VLOOKUP(J7,TEST!$A$6:$D$185,3,FALSE)=0,"",VLOOKUP(J7,TEST!$A$6:$D$185,3,FALSE)) -> b | L7: 32 | M7: =IF(VLOOKUP(L7,TEST!$A$6:$D$185,3,FALSE)=0,"",VLOOKUP(L7,TEST!$A$6:$D$185,3,FALSE)) -> a | N7: 33 | O7: =IF(VLOOKUP(N7,TEST!$A$6:$D$185,3,FALSE)=0,"",VLOOKUP(N7,TEST!$A$6:$D$185,3,FALSE)) -> a | P7: 34 | Q7: =IF(VLOOKUP(P7,TEST!$A$6:$D$185,3,FALSE)=0,"",VLOOKUP(P7,TEST!$A$6:$D$185,3,FALSE)) -> a | R7: 35 | S7: =IF(VLOOKUP(R7,TEST!$A$6:$D$185,3,FALSE)=0,"",VLOOKUP(R7,TEST!$A$6:$D$185,3,FALSE)) -> a | T7: 36 | U7: =IF(VLOOKUP(T7,TEST!$A$6:$D$185,3,FALSE)=0,"",VLOOKUP(T7,TEST!$A$6:$D$185,3,FALSE)) -> b | V7: =COUNTIF(B7:U7,"b") -> 3 | W7: =V7+I14+1 -> 7 | X7: M' | Y7: Utopiste
B8: 37 | C8: =IF(VLOOKUP(B8,TEST!$A$6:$D$185,3,FALSE)=0,"",VLOOKUP(B8,TEST!$A$6:$D$185,3,FALSE)) -> b | D8: 38 | E8: =IF(VLOOKUP(D8,TEST!$A$6:$D$185,3,FALSE)=0,"",VLOOKUP(D8,TEST!$A$6:$D$185,3,FALSE)) -> b | F8: 39 | G8: =IF(VLOOKUP(F8,TEST!$A$6:$D$185,3,FALSE)=0,"",VLOOKUP(F8,TEST!$A$6:$D$185,3,FALSE)) -> b | H8: 40 | I8: =IF(VLOOKUP(H8,TEST!$A$6:$D$185,3,FALSE)=0,"",VLOOKUP(H8,TEST!$A$6:$D$185,3,FALSE)) -> b | L8: 41 | M8: =IF(VLOOKUP(L8,TEST!$A$6:$D$185,3,FALSE)=0,"",VLOOKUP(L8,TEST!$A$6:$D$185,3,FALSE)) -> b | N8: 42 | O8: =IF(VLOOKUP(N8,TEST!$A$6:$D$185,3,FALSE)=0,"",VLOOKUP(N8,TEST!$A$6:$D$185,3,FALSE)) -> b | P8: 43 | Q8: =IF(VLOOKUP(P8,TEST!$A$6:$D$185,3,FALSE)=0,"",VLOOKUP(P8,TEST!$A$6:$D$185,3,FALSE)) -> b | R8: 44 | S8: =IF(VLOOKUP(R8,TEST!$A$6:$D$185,3,FALSE)=0,"",VLOOKUP(R8,TEST!$A$6:$D$185,3,FALSE)) -> a | T8: 45 | U8: =IF(VLOOKUP(T8,TEST!$A$6:$D$185,3,FALSE)=0,"",VLOOKUP(T8,TEST!$A$6:$D$185,3,FALSE)) -> b | V8: =COUNTIF(B8:U8,"b") -> 8 | W8: =V8+K14+1 -> 16 | X8: P | Y8: Participatif
B9: 46 | C9: =IF(VLOOKUP(B9,TEST!$A$6:$D$185,3,FALSE)=0,"",VLOOKUP(B9,TEST!$A$6:$D$185,3,FALSE)) -> a | D9: 47 | E9: =IF(VLOOKUP(D9,TEST!$A$6:$D$185,3,FALSE)=0,"",VLOOKUP(D9,TEST!$A$6:$D$185,3,FALSE)) -> a | F9: 48 | G9: =IF(VLOOKUP(F9,TEST!$A$6:$D$185,3,FALSE)=0,"",VLOOKUP(F9,TEST!$A$6:$D$185,3,FALSE)) -> a | H9: 49 | I9: =IF(VLOOKUP(H9,TEST!$A$6:$D$185,3,FALSE)=0,"",VLOOKUP(H9,TEST!$A$6:$D$185,3,FALSE)) -> b | J9: 50 | K9: =IF(VLOOKUP(J9,TEST!$A$6:$D$185,3,FALSE)=0,"",VLOOKUP(J9,TEST!$A$6:$D$185,3,FALSE)) -> a | N9: 51 | O9: =IF(VLOOKUP(N9,TEST!$A$6:$D$185,3,FALSE)=0,"",VLOOKUP(N9,TEST!$A$6:$D$185,3,FALSE)) -> b | P9: 52 | Q9: =IF(VLOOKUP(P9,TEST!$A$6:$D$185,3,FALSE)=0,"",VLOOKUP(P9,TEST!$A$6:$D$185,3,FALSE)) -> a | R9: 53 | S9: =IF(VLOOKUP(R9,TEST!$A$6:$D$185,3,FALSE)=0,"",VLOOKUP(R9,TEST!$A$6:$D$185,3,FALSE)) -> a | T9: 54 | U9: =IF(VLOOKUP(T9,TEST!$A$6:$D$185,3,FALSE)=0,"",VLOOKUP(T9,TEST!$A$6:$D$185,3,FALSE)) -> b | V9: =COUNTIF(B9:U9,"b") -> 3 | W9: =V9+M14+1 -> 7 | X9: P' | Y9: Démagogue
B10: 55 | C10: =IF(VLOOKUP(B10,TEST!$A$6:$D$185,3,FALSE)=0,"",VLOOKUP(B10,TEST!$A$6:$D$185,3,FALSE)) -> a | D10: 56 | E10: =IF(VLOOKUP(D10,TEST!$A$6:$D$185,3,FALSE)=0,"",VLOOKUP(D10,TEST!$A$6:$D$185,3,FALSE)) -> b | F10: 57 | G10: =IF(VLOOKUP(F10,TEST!$A$6:$D$185,3,FALSE)=0,"",VLOOKUP(F10,TEST!$A$6:$D$185,3,FALSE)) -> a | H10: 58 | I10: =IF(VLOOKUP(H10,TEST!$A$6:$D$185,3,FALSE)=0,"",VLOOKUP(H10,TEST!$A$6:$D$185,3,FALSE)) -> b | J10: 59 | K10: =IF(VLOOKUP(J10,TEST!$A$6:$D$185,3,FALSE)=0,"",VLOOKUP(J10,TEST!$A$6:$D$185,3,FALSE)) -> a | L10: 60 | M10: =IF(VLOOKUP(L10,TEST!$A$6:$D$185,3,FALSE)=0,"",VLOOKUP(L10,TEST!$A$6:$D$185,3,FALSE)) -> b | P10: 61 | Q10: =IF(VLOOKUP(P10,TEST!$A$6:$D$185,3,FALSE)=0,"",VLOOKUP(P10,TEST!$A$6:$D$185,3,FALSE)) -> b | R10: 62 | S10: =IF(VLOOKUP(R10,TEST!$A$6:$D$185,3,FALSE)=0,"",VLOOKUP(R10,TEST!$A$6:$D$185,3,FALSE)) -> a | T10: 63 | U10: =IF(VLOOKUP(T10,TEST!$A$6:$D$185,3,FALSE)=0,"",VLOOKUP(T10,TEST!$A$6:$D$185,3,FALSE)) -> b | V10: =COUNTIF(B10:U10,"b") -> 5 | W10: =V10+O14+1 -> 12 | X10: G | Y10: Organisateur (Gestionnaire)
B11: 64 | C11: =IF(VLOOKUP(B11,TEST!$A$6:$D$185,3,FALSE)=0,"",VLOOKUP(B11,TEST!$A$6:$D$185,3,FALSE)) -> a | D11: 65 | E11: =IF(VLOOKUP(D11,TEST!$A$6:$D$185,3,FALSE)=0,"",VLOOKUP(D11,TEST!$A$6:$D$185,3,FALSE)) -> b | F11: 66 | G11: =IF(VLOOKUP(F11,TEST!$A$6:$D$185,3,FALSE)=0,"",VLOOKUP(F11,TEST!$A$6:$D$185,3,FALSE)) -> a | H11: 67 | I11: =IF(VLOOKUP(H11,TEST!$A$6:$D$185,3,FALSE)=0,"",VLOOKUP(H11,TEST!$A$6:$D$185,3,FALSE)) -> a | J11: 68 | K11: =IF(VLOOKUP(J11,TEST!$A$6:$D$185,3,FALSE)=0,"",VLOOKUP(J11,TEST!$A$6:$D$185,3,FALSE)) -> a | L11: 69 | M11: =IF(VLOOKUP(L11,TEST!$A$6:$D$185,3,FALSE)=0,"",VLOOKUP(L11,TEST!$A$6:$D$185,3,FALSE)) -> a | N11: 70 | O11: =IF(VLOOKUP(N11,TEST!$A$6:$D$185,3,FALSE)=0,"",VLOOKUP(N11,TEST!$A$6:$D$185,3,FALSE)) -> a | R11: 71 | S11: =IF(VLOOKUP(R11,TEST!$A$6:$D$185,3,FALSE)=0,"",VLOOKUP(R11,TEST!$A$6:$D$185,3,FALSE)) -> a | T11: 72 | U11: =IF(VLOOKUP(T11,TEST!$A$6:$D$185,3,FALSE)=0,"",VLOOKUP(T11,TEST!$A$6:$D$185,3,FALSE)) -> a | V11: =COUNTIF(B11:U11,"b") -> 1 | W11: =V11+Q14+1 -> 7 | X11: G' | Y11: Bureaucrate
B12: 73 | C12: =IF(VLOOKUP(B12,TEST!$A$6:$D$185,3,FALSE)=0,"",VLOOKUP(B12,TEST!$A$6:$D$185,3,FALSE)) -> b | D12: 74 | E12: =IF(VLOOKUP(D12,TEST!$A$6:$D$185,3,FALSE)=0,"",VLOOKUP(D12,TEST!$A$6:$D$185,3,FALSE)) -> b | F12: 75 | G12: =IF(VLOOKUP(F12,TEST!$A$6:$D$185,3,FALSE)=0,"",VLOOKUP(F12,TEST!$A$6:$D$185,3,FALSE)) -> b | H12: 76 | I12: =IF(VLOOKUP(H12,TEST!$A$6:$D$185,3,FALSE)=0,"",VLOOKUP(H12,TEST!$A$6:$D$185,3,FALSE)) -> b | J12: 77 | K12: =IF(VLOOKUP(J12,TEST!$A$6:$D$185,3,FALSE)=0,"",VLOOKUP(J12,TEST!$A$6:$D$185,3,FALSE)) -> a | L12: 78 | M12: =IF(VLOOKUP(L12,TEST!$A$6:$D$185,3,FALSE)=0,"",VLOOKUP(L12,TEST!$A$6:$D$185,3,FALSE)) -> b | N12: 79 | O12: =IF(VLOOKUP(N12,TEST!$A$6:$D$185,3,FALSE)=0,"",VLOOKUP(N12,TEST!$A$6:$D$185,3,FALSE)) -> b | P12: 80 | Q12: =IF(VLOOKUP(P12,TEST!$A$6:$D$185,3,FALSE)=0,"",VLOOKUP(P12,TEST!$A$6:$D$185,3,FALSE)) -> b | T12: 81 | U12: =IF(VLOOKUP(T12,TEST!$A$6:$D$185,3,FALSE)=0,"",VLOOKUP(T12,TEST!$A$6:$D$185,3,FALSE)) -> b | V12: =COUNTIF(B12:U12,"b") -> 8 | W12: =V12+S14+1 -> 17 | X12: R | Y12: Réaliste (Négociateur, pragmatique)
B13: 82 | C13: =IF(VLOOKUP(B13,TEST!$A$6:$D$185,3,FALSE)=0,"",VLOOKUP(B13,TEST!$A$6:$D$185,3,FALSE)) -> a | D13: 83 | E13: =IF(VLOOKUP(D13,TEST!$A$6:$D$185,3,FALSE)=0,"",VLOOKUP(D13,TEST!$A$6:$D$185,3,FALSE)) -> b | F13: 84 | G13: =IF(VLOOKUP(F13,TEST!$A$6:$D$185,3,FALSE)=0,"",VLOOKUP(F13,TEST!$A$6:$D$185,3,FALSE)) -> a | H13: 85 | I13: =IF(VLOOKUP(H13,TEST!$A$6:$D$185,3,FALSE)=0,"",VLOOKUP(H13,TEST!$A$6:$D$185,3,FALSE)) -> a | J13: 86 | K13: =IF(VLOOKUP(J13,TEST!$A$6:$D$185,3,FALSE)=0,"",VLOOKUP(J13,TEST!$A$6:$D$185,3,FALSE)) -> a | L13: 87 | M13: =IF(VLOOKUP(L13,TEST!$A$6:$D$185,3,FALSE)=0,"",VLOOKUP(L13,TEST!$A$6:$D$185,3,FALSE)) -> a | N13: 88 | O13: =IF(VLOOKUP(N13,TEST!$A$6:$D$185,3,FALSE)=0,"",VLOOKUP(N13,TEST!$A$6:$D$185,3,FALSE)) -> a | P13: 89 | Q13: =IF(VLOOKUP(P13,TEST!$A$6:$D$185,3,FALSE)=0,"",VLOOKUP(P13,TEST!$A$6:$D$185,3,FALSE)) -> a | R13: 90 | S13: =IF(VLOOKUP(R13,TEST!$A$6:$D$185,3,FALSE)=0,"",VLOOKUP(R13,TEST!$A$6:$D$185,3,FALSE)) -> a | V13: =COUNTIF(B13:U13,"b") -> 1 | W13: =V13+U14+1 -> 3 | X13: R' | Y13: Opportuniste
A14: Résultats colonne (a) | C14: =COUNTIF(C4:C13,"a") -> 7 | E14: =COUNTIF(E4:E13,"a") -> 2 | G14: =COUNTIF(G4:G13,"a") -> 6 | I14: =COUNTIF(I4:I13,"a") -> 3 | K14: =COUNTIF(K4:K13,"a") -> 7 | M14: =COUNTIF(M4:M13,"a") -> 3 | O14: =COUNTIF(O4:O13,"a") -> 6 | Q14: =COUNTIF(Q4:Q13,"a") -> 5 | S14: =COUNTIF(S4:S13,"a") -> 8 | U14: =COUNTIF(U4:U13,"a") -> 1 | W14: =SUM(W4:W13) -> 100 | X14: /100

Sheet Correction 2
A4: =+'Correction 1'!F2 -> DUMAS FRANK
A5: =+'Correction 1'!N2 -> 44957
A8: STYLES ADAPTES | C8: STYLES INADAPTES | E8: ADAPTES ET INADAPTES
A9: Entreprenant | B9: =+'Correction 1'!W4 -> 12 | C9: Autocrate | D9: =+'Correction 1'!W5 -> 6 | E9: =+B9+D9 -> 18
A10: Maximaliste | B10: =+'Correction 1'!W6 -> 13 | C10: Utopiste | D10: =+'Correction 1'!W7 -> 7 | E10: =+B10+D10 -> 20
A11: Participatif | B11: =+'Correction 1'!W8 -> 16 | C11: Démagogue | D11: =+'Correction 1'!W9 -> 7 | E11: =+B11+D11 -> 23
A12: Organisateur | B12: =+'Correction 1'!W10 -> 12 | C12: Bureaucrate | D12: =+'Correction 1'!W11 -> 7 | E12: =+B12+D12 -> 19
A13: Réaliste | B13: =+'Correction 1'!W12 -> 17 | C13: Opportuniste | D13: =+'Correction 1'!W13 -> 3 | E13: =+B13+D13 -> 20
A15: =+CONCATENATE(A9, "",C9) -> Entreprenant Autocrate | B15: =+B9 -> 12 | C15: =+D9 -> 6 | D15: =+B15+C15 -> 18
A16: =+CONCATENATE(A10, "",C10) -> Maximaliste Utopiste | B16: =+B10 -> 13 | C16: =+D10 -> 7 | D16: =+B16+C16 -> 20
A17: =+CONCATENATE(A11, " ",C11) -> Participatif Démagogue | B17: =+B11 -> 16 | C17: =+D11 -> 7 | D17: =+B17+C17 -> 23
A18: =+CONCATENATE(A12, "",C12) -> Organisateur Bureaucrate | B18: =+B12 -> 12 | C18: =+D12 -> 7 | D18: =+B18+C18 -> 19
A19: =+CONCATENATE(A13, " ",C13) -> Réaliste Opportuniste | B19: =+B13 -> 17 | C19: =+D13 -> 3 | D19: =+B19+C19 -> 20

Sheet GRAPHIQUE
